{"text_format":"1","workbook":"xlsx","n_sheets":35,"sheets":["Proxy Group","FEA___(MPG-2)","Sheet1","FEA___(MPG-3)","FEA___(MPG-4)","FEA___(MPG-5)","FEA___(MPG-6ab)","FEA___(MPG-7)","FEA___(MPG-8)","FEA___(MPG-9)","FEA___(MPG-10)","FEA___(MPG-11)","FEA___(MPG-12)","FEA___(MPG-13)","FEA___(MPG-14a)","FEA___(MPG-14b)","FEA___(MPG-14c)","FEA___(MPG-15)","FEA___(MPG-16)","FEA___(MPG-21)","VL Data (WP)"," S&P Ratings Direct (WP)","Growth Rate LU","Stock Prices (WP)","Graph (WP)","MBR (WP)","Credit Ratings (WP)","SNL Data (WP)","Yields (WP)","Yields Table (WP)","Monthly Yields (WP)","Annual Yields (WP)","Bond Yields (WP)","GDP (WP)","Company List"],"not_rendered":{"charts":6,"images":2,"macros":1,"external_links":4,"defined_names":54,"comments":0,"pivot_tables":0},"unopened":[{"sheet":"FEA___(MPG-14b)","index":15,"reason":"not_a_worksheet"},{"sheet":"FEA___(MPG-14c)","index":16,"reason":"not_a_worksheet"}],"bounds":{"document_bytes":16777216,"sheet_cells":100000,"rows_first":2000,"rows_last":500,"rows_between":2000,"halvings":0,"cell_chars":16384,"cell_head_chars":4096},"cells_cut":0,"cells_raw":0,"read":"whole","date_system":"1900"}

{"sheet":"Proxy Group","index":0,"n_rows":56,"n_cols":14,"rows_kept":56,"cut":false,"hidden":false,"merged":[]}
[]
[]
[null,{"$f":"COUNTA(B7:B50)","v":13},"Utilities in original Proxy Group"]
[null,{"$f":"COUNT(A7:A50)","v":13},"Utilities in ROE Study proxy Group"]
[null,null,null,null,"Enter qualification condition in row 6, indicate utilities disqualified with a 1"]
[null,"Ticker","Company","Number of disqualifying conditions","condition 1","condition 2","condition 3","condition 4","condition 5","condition 6","condition 7","condition 8","condition 9","condition 10"]
[{"$f":"IF(AND(ISTEXT(B7),D7=0),MAX(A$6:A6)+1,\"\")","v":1},"ALE",{"$f":"IF(LEN(B7>0),VLOOKUP(B7,CompanyList,2,FALSE),\"\")","v":"ALLETE, Inc."},{"$f":"SUM(E7:N7)","v":0}]
[{"$f":"IF(AND(ISTEXT(B8),D8=0),MAX(A$6:A7)+1,\"\")","v":2},"LNT","Alliant Energy Corporation",{"$f":"SUM(E8:N8)","v":0}]
[{"$f":"IF(AND(ISTEXT(B9),D9=0),MAX(A$6:A8)+1,\"\")","v":3},"AVA","Avista Corporation",0]
[{"$f":"IF(AND(ISTEXT(B10),D10=0),MAX(A$6:A9)+1,\"\")","v":4},"DTE","DTE Energy Company",0]
[{"$f":"IF(AND(ISTEXT(B11),D11=0),MAX(A$6:A10)+1,\"\")","v":5},"IDA","IDACORP, Inc.",0]
[{"$f":"IF(AND(ISTEXT(B12),D12=0),MAX(A$6:A11)+1,\"\")","v":6},"TEG","Integrys Energy Group, Inc.",0]
[{"$f":"IF(AND(ISTEXT(B13),D13=0),MAX(A$6:A12)+1,\"\")","v":7},"NEE","NextEra Energy, Inc.",0]
[{"$f":"IF(AND(ISTEXT(B14),D14=0),MAX(A$6:A13)+1,\"\")","v":8},"POR","Portland General Electric Company",0]
[{"$f":"IF(AND(ISTEXT(B15),D15=0),MAX(A$6:A14)+1,\"\")","v":9},"SRE","Sempra Energy",0]
[{"$f":"IF(AND(ISTEXT(B16),D16=0),MAX(A$6:A15)+1,\"\")","v":10},"SO","Southern Company",0]
[{"$f":"IF(AND(ISTEXT(B17),D17=0),MAX(A$6:A16)+1,\"\")","v":11},"WR","Westar Energy, Inc.",0]
[{"$f":"IF(AND(ISTEXT(B18),D18=0),MAX(A$6:A17)+1,\"\")","v":12},"WEC","Wisconsin Energy Corporation",0]
[{"$f":"IF(AND(ISTEXT(B19),D19=0),MAX(A$6:A18)+1,\"\")","v":13},"XEL","Xcel Energy Inc.",0]
[{"$f":"IF(AND(ISTEXT(B20),D20=0),MAX(A$6:A19)+1,\"\")","v":""},null,{"$error":"#N/A"},0]
[{"$f":"IF(AND(ISTEXT(B21),D21=0),MAX(A$6:A20)+1,\"\")","v":""},null,{"$error":"#N/A"},0]
[{"$f":"IF(AND(ISTEXT(B22),D22=0),MAX(A$6:A21)+1,\"\")","v":""},null,{"$error":"#N/A"},0]
[{"$f":"IF(AND(ISTEXT(B23),D23=0),MAX(A$6:A22)+1,\"\")","v":""},null,{"$error":"#N/A"},0]
[{"$f":"IF(AND(ISTEXT(B24),D24=0),MAX(A$6:A23)+1,\"\")","v":""},null,{"$error":"#N/A"},0]
[{"$f":"IF(AND(ISTEXT(B25),D25=0),MAX(A$6:A24)+1,\"\")","v":""},null,{"$error":"#N/A"},0]
[{"$f":"IF(AND(ISTEXT(B26),D26=0),MAX(A$6:A25)+1,\"\")","v":""},null,{"$error":"#N/A"},0]
[{"$f":"IF(AND(ISTEXT(B27),D27=0),MAX(A$6:A26)+1,\"\")","v":""},null,{"$error":"#N/A"},0]
[{"$f":"IF(AND(ISTEXT(B28),D28=0),MAX(A$6:A27)+1,\"\")","v":""},null,{"$error":"#N/A"},0]
[{"$f":"IF(AND(ISTEXT(B29),D29=0),MAX(A$6:A28)+1,\"\")","v":""},null,{"$error":"#N/A"},0]
[{"$f":"IF(AND(ISTEXT(B30),D30=0),MAX(A$6:A29)+1,\"\")","v":""},null,{"$error":"#N/A"},0]
[{"$f":"IF(AND(ISTEXT(B31),D31=0),MAX(A$6:A30)+1,\"\")","v":""},null,{"$f":"IF(LEN(B31>0),VLOOKUP(B31,CompanyList,2,FALSE),\"\")","v":{"$error":"#N/A"}},0]
[{"$f":"IF(AND(ISTEXT(B32),D32=0),MAX(A$6:A31)+1,\"\")","v":""},null,{"$error":"#N/A"},{"$f":"SUM(E32:N32)","v":0}]
[{"$f":"IF(AND(ISTEXT(B33),D33=0),MAX(A$6:A32)+1,\"\")","v":""},null,{"$error":"#N/A"},0]
[{"$f":"IF(AND(ISTEXT(B34),D34=0),MAX(A$6:A33)+1,\"\")","v":""},null,{"$error":"#N/A"},0]
[{"$f":"IF(AND(ISTEXT(B35),D35=0),MAX(A$6:A34)+1,\"\")","v":""},null,{"$error":"#N/A"},0]
[{"$f":"IF(AND(ISTEXT(B36),D36=0),MAX(A$6:A35)+1,\"\")","v":""},null,{"$error":"#N/A"},0]
[{"$f":"IF(AND(ISTEXT(B37),D37=0),MAX(A$6:A36)+1,\"\")","v":""},null,{"$error":"#N/A"},0]
[{"$f":"IF(AND(ISTEXT(B38),D38=0),MAX(A$6:A37)+1,\"\")","v":""},null,{"$error":"#N/A"},0]
[{"$f":"IF(AND(ISTEXT(B39),D39=0),MAX(A$6:A38)+1,\"\")","v":""},null,{"$error":"#N/A"},0]
[{"$f":"IF(AND(ISTEXT(B40),D40=0),MAX(A$6:A39)+1,\"\")","v":""},null,{"$error":"#N/A"},0]
[{"$f":"IF(AND(ISTEXT(B41),D41=0),MAX(A$6:A40)+1,\"\")","v":""},null,{"$error":"#N/A"},0]
[{"$f":"IF(AND(ISTEXT(B42),D42=0),MAX(A$6:A41)+1,\"\")","v":""},null,{"$error":"#N/A"},0]
[{"$f":"IF(AND(ISTEXT(B43),D43=0),MAX(A$6:A42)+1,\"\")","v":""},null,{"$error":"#N/A"},0]
[{"$f":"IF(AND(ISTEXT(B44),D44=0),MAX(A$6:A43)+1,\"\")","v":""},null,{"$error":"#N/A"},0]
[{"$f":"IF(AND(ISTEXT(B45),D45=0),MAX(A$6:A44)+1,\"\")","v":""},null,{"$error":"#N/A"},0]
[{"$f":"IF(AND(ISTEXT(B46),D46=0),MAX(A$6:A45)+1,\"\")","v":""},null,{"$error":"#N/A"},0]
[{"$f":"IF(AND(ISTEXT(B47),D47=0),MAX(A$6:A46)+1,\"\")","v":""},null,{"$error":"#N/A"},0]
[{"$f":"IF(AND(ISTEXT(B48),D48=0),MAX(A$6:A47)+1,\"\")","v":""},null,{"$error":"#N/A"},0]
[{"$f":"IF(AND(ISTEXT(B49),D49=0),MAX(A$6:A48)+1,\"\")","v":""},null,{"$error":"#N/A"},0]
[{"$f":"IF(AND(ISTEXT(B50),D50=0),MAX(A$6:A49)+1,\"\")","v":""},null,{"$error":"#N/A"},0]
[{"$f":"IF(AND(ISTEXT(B51),D51=0),MAX(A$6:A50)+1,\"\")","v":""},null,{"$error":"#N/A"},0]
[{"$f":"IF(AND(ISTEXT(B52),D52=0),MAX(A$6:A51)+1,\"\")","v":""},null,{"$error":"#N/A"},0]
[{"$f":"IF(AND(ISTEXT(B53),D53=0),MAX(A$6:A52)+1,\"\")","v":""},null,{"$error":"#N/A"},0]
[{"$f":"IF(AND(ISTEXT(B54),D54=0),MAX(A$6:A53)+1,\"\")","v":""},null,{"$error":"#N/A"},0]
[{"$f":"IF(AND(ISTEXT(B55),D55=0),MAX(A$6:A54)+1,\"\")","v":""},null,{"$error":"#N/A"},0]
[{"$f":"IF(AND(ISTEXT(B56),D56=0),MAX(A$6:A55)+1,\"\")","v":""},null,{"$error":"#N/A"},0]

{"sheet":"FEA___(MPG-2)","index":1,"n_rows":73,"n_cols":18,"rows_kept":73,"cut":false,"hidden":false,"merged":[[68,2,68,3],[0,0,0,12],[3,0,3,12],[6,9,6,10],[7,6,7,7],[7,9,7,10]]}
["Rocky Mountain Power"]
[]
[]
["Proxy Group "]
[]
[]
[]
[null,null,null,null,null,null,"Credit Ratings1",null,null,"Common Equity Ratios",null,null,"S&P Business"]
["Line",{"$f":"MAX('Proxy Group'!A6:A85)","v":13},null,"Company",null,"Ticker","S&P","Moody's",null,"SNL1","Value Line2",null,"Risk Score3",null,null,null,null,"2014-03-27"]
[null,null,null,null,null,null,"(1)","(2)",null,"(3)","(4)",null,"(5)"]
[null,null,null,null,null,null,null,null,null,null,null,null,{"$f":"IF(ISNUMBER(A11),VLOOKUP(F11,RDLU,4,FALSE),\"\")","v":""},null,null,"S&P","Moody's"]
[{"$f":"IF(A11<$B$9,A11+1,\"\")","v":1},{"$f":"ISNUMBER(A12)","v":true},null,{"$f":"IF(B12,VLOOKUP(A12,TickerLU,3,FALSE),\"\")","v":"ALLETE, Inc."},null,{"$f":"IF(B12,VLOOKUP(A12,TickerLU,2,FALSE),\"\")","v":"ALE"},{"$f":"IF(B12,VLOOKUP(F12,SNLLU,8,FALSE),\"\")","v":"BBB+"},{"$f":"IF(B12,VLOOKUP(F12,SNLLU,9,FALSE),\"\")","v":"A3"},null,{"$f":"IF(B12,VLOOKUP(F12,SNLLU,7,FALSE)/100,\"\")","v":0.54742978272389997},{"$f":"IF(B12,VLOOKUP(F12,VLLU,6,FALSE),\"\")","v":0.55400000000000005},null,{"$f":"IF(B12,VLOOKUP(F12,RDLU,4,FALSE),\"\")","v":"Strong"},null,null,{"$f":"IF(G12=\"N/A\",G12,VLOOKUP(G12,'Credit Ratings (WP)'!$C$4:$D$24,2,))","v":14},{"$f":"IF(H12=\"N/A\",H12,VLOOKUP(H12,'Credit Ratings (WP)'!$E$4:$F$24,2,))","v":15}]
[{"$f":"IF(A12<$B$9,A12+1,\"\")","v":2},{"$f":"ISNUMBER(A13)","v":true},null,"Alliant Energy Corporation",null,"LNT","A-","A3",null,0.45569303837020397,0.47,null,"Excellent",null,null,{"$f":"IF(G13=0,\"N/A\",VLOOKUP(G13,'Credit Ratings (WP)'!$C$4:$D$24,2,))","v":15},{"$f":"IF(H13=0,\"N/A\",VLOOKUP(H13,'Credit Ratings (WP)'!$E$4:$F$24,2,))","v":15}]
[3,true,null,"Avista Corporation",null,"AVA","BBB","Baa1",null,0.448710894459107,0.48499999999999999,null,"Excellent",null,null,{"$f":"IF(G14=0,\"N/A\",VLOOKUP(G14,'Credit Ratings (WP)'!$C$4:$D$24,2,))","v":13},{"$f":"IF(H14=0,\"N/A\",VLOOKUP(H14,'Credit Ratings (WP)'!$E$4:$F$24,2,))","v":14}]
[4,true,null,"DTE Energy Company",null,"DTE","BBB+","A3",null,0.48904118046551803,0.52500000000000002,null,"Strong",null,null,{"$f":"IF(G15=0,\"N/A\",VLOOKUP(G15,'Credit Ratings (WP)'!$C$4:$D$24,2,))","v":14},{"$f":"IF(H15=0,\"N/A\",VLOOKUP(H15,'Credit Ratings (WP)'!$E$4:$F$24,2,))","v":15}]
[5,true,null,"IDACORP, Inc.",null,"IDA","BBB","Baa1",null,0.52488618224681294,0.53500000000000003,null,"Excellent",null,null,{"$f":"IF(G16=0,\"N/A\",VLOOKUP(G16,'Credit Ratings (WP)'!$C$4:$D$24,2,))","v":13},{"$f":"IF(H16=0,\"N/A\",VLOOKUP(H16,'Credit Ratings (WP)'!$E$4:$F$24,2,))","v":14}]
[6,true,null,"Integrys Energy Group, Inc.",null,"TEG","A-","Baa1",null,0.48708106816416802,0.52,null,"Excellent",null,null,{"$f":"IF(G17=0,\"N/A\",VLOOKUP(G17,'Credit Ratings (WP)'!$C$4:$D$24,2,))","v":15},{"$f":"IF(H17=0,\"N/A\",VLOOKUP(H17,'Credit Ratings (WP)'!$E$4:$F$24,2,))","v":14}]
[7,true,null,"NextEra Energy, Inc.",null,"NEE","A-","Baa1",null,0.38824086428786603,0.43,null,"Strong",null,null,{"$f":"IF(G18=0,\"N/A\",VLOOKUP(G18,'Credit Ratings (WP)'!$C$4:$D$24,2,))","v":15},{"$f":"IF(H18=0,\"N/A\",VLOOKUP(H18,'Credit Ratings (WP)'!$E$4:$F$24,2,))","v":14}]
[8,true,null,"Portland General Electric Company",null,"POR","BBB","A3",null,0.48688436830835102,0.48499999999999999,null,"Excellent",null,null,{"$f":"IF(G19=0,\"N/A\",VLOOKUP(G19,'Credit Ratings (WP)'!$C$4:$D$24,2,))","v":13},{"$f":"IF(H19=0,\"N/A\",VLOOKUP(H19,'Credit Ratings (WP)'!$E$4:$F$24,2,))","v":15}]
[9,true,null,"Sempra Energy",null,"SRE","BBB+","Baa1",null,0.44396047590240001,0.45500000000000002,null,"Strong",null,null,{"$f":"IF(G20=0,\"N/A\",VLOOKUP(G20,'Credit Ratings (WP)'!$C$4:$D$24,2,))","v":14},{"$f":"IF(H20=0,\"N/A\",VLOOKUP(H20,'Credit Ratings (WP)'!$E$4:$F$24,2,))","v":14}]
[10,true,null,"Southern Company",null,"SO","A","Baa1",null,0.43762950683796098,0.46500000000000002,null,"Excellent",null,null,{"$f":"IF(G21=0,\"N/A\",VLOOKUP(G21,'Credit Ratings (WP)'!$C$4:$D$24,2,))","v":16},{"$f":"IF(H21=0,\"N/A\",VLOOKUP(H21,'Credit Ratings (WP)'!$E$4:$F$24,2,))","v":14}]
[11,true,null,"Westar Energy, Inc.",null,"WR","BBB","Baa1",null,0.45723813757926896,0.49,null,"Excellent",null,null,{"$f":"IF(G22=0,\"N/A\",VLOOKUP(G22,'Credit Ratings (WP)'!$C$4:$D$24,2,))","v":13},{"$f":"IF(H22=0,\"N/A\",VLOOKUP(H22,'Credit Ratings (WP)'!$E$4:$F$24,2,))","v":14}]
[12,true,null,"Wisconsin Energy Corporation",null,"WEC","A-","A2",null,0.44528833813721597,0.49,null,"Excellent",null,null,{"$f":"IF(G23=0,\"N/A\",VLOOKUP(G23,'Credit Ratings (WP)'!$C$4:$D$24,2,))","v":15},{"$f":"IF(H23=0,\"N/A\",VLOOKUP(H23,'Credit Ratings (WP)'!$E$4:$F$24,2,))","v":16}]
[13,true,null,"Xcel Energy Inc.",null,"XEL","A-","A3",null,0.44458739438960898,0.47,null,"Excellent",null,null,{"$f":"IF(G24=0,\"N/A\",VLOOKUP(G24,'Credit Ratings (WP)'!$C$4:$D$24,2,))","v":15},{"$f":"IF(H24=0,\"N/A\",VLOOKUP(H24,'Credit Ratings (WP)'!$E$4:$F$24,2,))","v":15}]
["",false,null,"",null,"","","",null,"","",null,"",null,null,{"$f":"IF(G25=0,\"N/A\",VLOOKUP(G25,'Credit Ratings (WP)'!$C$4:$D$24,2,))","v":{"$error":"#N/A"}},{"$f":"IF(H25=0,\"N/A\",VLOOKUP(H25,'Credit Ratings (WP)'!$E$4:$F$24,2,))","v":{"$error":"#N/A"}}]
["",false,null,"",null,"","","",null,"","",null,"",null,null,{"$f":"IF(G26=0,\"N/A\",VLOOKUP(G26,'Credit Ratings (WP)'!$C$4:$D$24,2,))","v":{"$error":"#N/A"}},{"$f":"IF(H26=0,\"N/A\",VLOOKUP(H26,'Credit Ratings (WP)'!$E$4:$F$24,2,))","v":{"$error":"#N/A"}}]
["",false,null,"",null,"","","",null,"","",null,"",null,null,{"$f":"IF(G27=0,\"N/A\",VLOOKUP(G27,'Credit Ratings (WP)'!$C$4:$D$24,2,))","v":{"$error":"#N/A"}},{"$f":"IF(H27=0,\"N/A\",VLOOKUP(H27,'Credit Ratings (WP)'!$E$4:$F$24,2,))","v":{"$error":"#N/A"}}]
["",false,null,"",null,"","","",null,"","",null,"",null,null,{"$f":"IF(G28=0,\"N/A\",VLOOKUP(G28,'Credit Ratings (WP)'!$C$4:$D$24,2,))","v":{"$error":"#N/A"}},{"$f":"IF(H28=0,\"N/A\",VLOOKUP(H28,'Credit Ratings (WP)'!$E$4:$F$24,2,))","v":{"$error":"#N/A"}}]
["",false,null,"",null,"","","",null,"","",null,"",null,null,{"$f":"IF(G29=0,\"N/A\",VLOOKUP(G29,'Credit Ratings (WP)'!$C$4:$D$24,2,))","v":{"$error":"#N/A"}},{"$f":"IF(H29=0,\"N/A\",VLOOKUP(H29,'Credit Ratings (WP)'!$E$4:$F$24,2,))","v":{"$error":"#N/A"}}]
["",false,null,"",null,"","","",null,"","",null,"",null,null,{"$f":"IF(G30=0,\"N/A\",VLOOKUP(G30,'Credit Ratings (WP)'!$C$4:$D$24,2,))","v":{"$error":"#N/A"}},{"$f":"IF(H30=0,\"N/A\",VLOOKUP(H30,'Credit Ratings (WP)'!$E$4:$F$24,2,))","v":{"$error":"#N/A"}}]
["",false,null,"",null,"","","",null,"","",null,"",null,null,{"$f":"IF(G31=0,\"N/A\",VLOOKUP(G31,'Credit Ratings (WP)'!$C$4:$D$24,2,))","v":{"$error":"#N/A"}},{"$f":"IF(H31=0,\"N/A\",VLOOKUP(H31,'Credit Ratings (WP)'!$E$4:$F$24,2,))","v":{"$error":"#N/A"}}]
["",false,null,"",null,"","","",null,"","",null,"",null,null,{"$f":"IF(G32=0,\"N/A\",VLOOKUP(G32,'Credit Ratings (WP)'!$C$4:$D$24,2,))","v":{"$error":"#N/A"}},{"$f":"IF(H32=0,\"N/A\",VLOOKUP(H32,'Credit Ratings (WP)'!$E$4:$F$24,2,))","v":{"$error":"#N/A"}}]
["",false,null,"",null,"","","",null,"","",null,"",null,null,{"$f":"IF(G33=0,\"N/A\",VLOOKUP(G33,'Credit Ratings (WP)'!$C$4:$D$24,2,))","v":{"$error":"#N/A"}},{"$f":"IF(H33=0,\"N/A\",VLOOKUP(H33,'Credit Ratings (WP)'!$E$4:$F$24,2,))","v":{"$error":"#N/A"}}]
["",false,null,"",null,"","","",null,"","",null,"",null,null,{"$f":"IF(G34=0,\"N/A\",VLOOKUP(G34,'Credit Ratings (WP)'!$C$4:$D$24,2,))","v":{"$error":"#N/A"}},{"$f":"IF(H34=0,\"N/A\",VLOOKUP(H34,'Credit Ratings (WP)'!$E$4:$F$24,2,))","v":{"$error":"#N/A"}}]
["",false,null,"",null,"","","",null,"","",null,"",null,null,{"$f":"IF(G35=0,\"N/A\",VLOOKUP(G35,'Credit Ratings (WP)'!$C$4:$D$24,2,))","v":{"$error":"#N/A"}},{"$f":"IF(H35=0,\"N/A\",VLOOKUP(H35,'Credit Ratings (WP)'!$E$4:$F$24,2,))","v":{"$error":"#N/A"}}]
["",false,null,"",null,"","","",null,"","",null,"",null,null,{"$f":"IF(G36=0,\"N/A\",VLOOKUP(G36,'Credit Ratings (WP)'!$C$4:$D$24,2,))","v":{"$error":"#N/A"}},{"$f":"IF(H36=0,\"N/A\",VLOOKUP(H36,'Credit Ratings (WP)'!$E$4:$F$24,2,))","v":{"$error":"#N/A"}}]
["",false,null,"",null,"","","",null,"","",null,"",null,null,{"$f":"IF(G37=0,\"N/A\",VLOOKUP(G37,'Credit Ratings (WP)'!$C$4:$D$24,2,))","v":{"$error":"#N/A"}},{"$f":"IF(H37=0,\"N/A\",VLOOKUP(H37,'Credit Ratings (WP)'!$E$4:$F$24,2,))","v":{"$error":"#N/A"}}]
["",false,null,"",null,"","","",null,"","",null,"",null,null,{"$f":"IF(G38=0,\"N/A\",VLOOKUP(G38,'Credit Ratings (WP)'!$C$4:$D$24,2,))","v":{"$error":"#N/A"}},{"$f":"IF(H38=0,\"N/A\",VLOOKUP(H38,'Credit Ratings (WP)'!$E$4:$F$24,2,))","v":{"$error":"#N/A"}}]
["",false,null,"",null,"","","",null,"","",null,"",null,null,{"$f":"IF(G39=0,\"N/A\",VLOOKUP(G39,'Credit Ratings (WP)'!$C$4:$D$24,2,))","v":{"$error":"#N/A"}},{"$f":"IF(H39=0,\"N/A\",VLOOKUP(H39,'Credit Ratings (WP)'!$E$4:$F$24,2,))","v":{"$error":"#N/A"}}]
["",false,null,"",null,"","","",null,"","",null,"",null,null,{"$f":"IF(G40=0,\"N/A\",VLOOKUP(G40,'Credit Ratings (WP)'!$C$4:$D$24,2,))","v":{"$error":"#N/A"}},{"$f":"IF(H40=0,\"N/A\",VLOOKUP(H40,'Credit Ratings (WP)'!$E$4:$F$24,2,))","v":{"$error":"#N/A"}}]
["",false,null,"",null,"","","",null,"","",null,"",null,null,{"$f":"IF(G41=0,\"N/A\",VLOOKUP(G41,'Credit Ratings (WP)'!$C$4:$D$24,2,))","v":{"$error":"#N/A"}},{"$f":"IF(H41=0,\"N/A\",VLOOKUP(H41,'Credit Ratings (WP)'!$E$4:$F$24,2,))","v":{"$error":"#N/A"}}]
["",false,null,"",null,"","","",null,"","",null,"",null,null,{"$f":"IF(G42=0,\"N/A\",VLOOKUP(G42,'Credit Ratings (WP)'!$C$4:$D$24,2,))","v":{"$error":"#N/A"}},{"$f":"IF(H42=0,\"N/A\",VLOOKUP(H42,'Credit Ratings (WP)'!$E$4:$F$24,2,))","v":{"$error":"#N/A"}}]
["",false,null,"",null,"","","",null,"","",null,"",null,null,{"$f":"IF(G43=0,\"N/A\",VLOOKUP(G43,'Credit Ratings (WP)'!$C$4:$D$24,2,))","v":{"$error":"#N/A"}},{"$f":"IF(H43=0,\"N/A\",VLOOKUP(H43,'Credit Ratings (WP)'!$E$4:$F$24,2,))","v":{"$error":"#N/A"}}]
["",false,null,{"$f":"IF(B44,VLOOKUP(A44,TickerLU,3,FALSE),\"\")","v":""},null,{"$f":"IF(B44,VLOOKUP(A44,TickerLU,2,FALSE),\"\")","v":""},{"$f":"IF(B44,VLOOKUP(F44,SNLLU,8,FALSE),\"\")","v":""},{"$f":"IF(B44,VLOOKUP(F44,SNLLU,9,FALSE),\"\")","v":""},null,{"$f":"IF(B44,VLOOKUP(F44,SNLLU,7,FALSE)/100,\"\")","v":""},{"$f":"IF(B44,VLOOKUP(F44,VLLU,6,FALSE),\"\")","v":""},null,{"$f":"IF(B44,VLOOKUP(F44,RDLU,4,FALSE),\"\")","v":""},null,null,{"$f":"IF(G44=0,\"N/A\",VLOOKUP(G44,'Credit Ratings (WP)'!$C$4:$D$24,2,))","v":{"$error":"#N/A"}},{"$f":"IF(H44=0,\"N/A\",VLOOKUP(H44,'Credit Ratings (WP)'!$E$4:$F$24,2,))","v":{"$error":"#N/A"}}]
["",false,null,"",null,"","","",null,"","",null,"",null,null,{"$f":"IF(G45=0,\"N/A\",VLOOKUP(G45,'Credit Ratings (WP)'!$C$4:$D$24,2,))","v":{"$error":"#N/A"}},{"$f":"IF(H45=0,\"N/A\",VLOOKUP(H45,'Credit Ratings (WP)'!$E$4:$F$24,2,))","v":{"$error":"#N/A"}}]
["",false,null,"",null,"","","",null,"","",null,"",null,null,{"$f":"IF(G46=0,\"N/A\",VLOOKUP(G46,'Credit Ratings (WP)'!$C$4:$D$24,2,))","v":{"$error":"#N/A"}},{"$f":"IF(H46=0,\"N/A\",VLOOKUP(H46,'Credit Ratings (WP)'!$E$4:$F$24,2,))","v":{"$error":"#N/A"}}]
["",false,null,"",null,"","","",null,"","",null,"",null,null,{"$f":"IF(G47=0,\"N/A\",VLOOKUP(G47,'Credit Ratings (WP)'!$C$4:$D$24,2,))","v":{"$error":"#N/A"}},{"$f":"IF(H47=0,\"N/A\",VLOOKUP(H47,'Credit Ratings (WP)'!$E$4:$F$24,2,))","v":{"$error":"#N/A"}}]
["",false,null,"",null,"","","",null,"","",null,"",null,null,{"$f":"IF(G48=0,\"N/A\",VLOOKUP(G48,'Credit Ratings (WP)'!$C$4:$D$24,2,))","v":{"$error":"#N/A"}},{"$f":"IF(H48=0,\"N/A\",VLOOKUP(H48,'Credit Ratings (WP)'!$E$4:$F$24,2,))","v":{"$error":"#N/A"}}]
["",false,null,"",null,"","","",null,"","",null,"",null,null,{"$f":"IF(G49=0,\"N/A\",VLOOKUP(G49,'Credit Ratings (WP)'!$C$4:$D$24,2,))","v":{"$error":"#N/A"}},{"$f":"IF(H49=0,\"N/A\",VLOOKUP(H49,'Credit Ratings (WP)'!$E$4:$F$24,2,))","v":{"$error":"#N/A"}}]
["",false,null,"",null,"","","",null,"","",null,"",null,null,{"$f":"IF(G50=0,\"N/A\",VLOOKUP(G50,'Credit Ratings (WP)'!$C$4:$D$24,2,))","v":{"$error":"#N/A"}},{"$f":"IF(H50=0,\"N/A\",VLOOKUP(H50,'Credit Ratings (WP)'!$E$4:$F$24,2,))","v":{"$error":"#N/A"}}]
["",false,null,"",null,"","","",null,"","",null,"",null,null,{"$f":"IF(G51=0,\"N/A\",VLOOKUP(G51,'Credit Ratings (WP)'!$C$4:$D$24,2,))","v":{"$error":"#N/A"}},{"$f":"IF(H51=0,\"N/A\",VLOOKUP(H51,'Credit Ratings (WP)'!$E$4:$F$24,2,))","v":{"$error":"#N/A"}}]
["",false,null,"",null,"","","",null,"","",null,"",null,null,{"$f":"IF(G52=0,\"N/A\",VLOOKUP(G52,'Credit Ratings (WP)'!$C$4:$D$24,2,))","v":{"$error":"#N/A"}},{"$f":"IF(H52=0,\"N/A\",VLOOKUP(H52,'Credit Ratings (WP)'!$E$4:$F$24,2,))","v":{"$error":"#N/A"}}]
["",false,null,"",null,"","","",null,"","",null,"",null,null,{"$f":"IF(G53=0,\"N/A\",VLOOKUP(G53,'Credit Ratings (WP)'!$C$4:$D$24,2,))","v":{"$error":"#N/A"}},{"$f":"IF(H53=0,\"N/A\",VLOOKUP(H53,'Credit Ratings (WP)'!$E$4:$F$24,2,))","v":{"$error":"#N/A"}}]
["",false,null,"",null,"","","",null,"","",null,"",null,null,{"$f":"IF(G54=0,\"N/A\",VLOOKUP(G54,'Credit Ratings (WP)'!$C$4:$D$24,2,))","v":{"$error":"#N/A"}},{"$f":"IF(H54=0,\"N/A\",VLOOKUP(H54,'Credit Ratings (WP)'!$E$4:$F$24,2,))","v":{"$error":"#N/A"}}]
["",false,null,"",null,"","","",null,"","",null,"",null,null,{"$f":"IF(G55=0,\"N/A\",VLOOKUP(G55,'Credit Ratings (WP)'!$C$4:$D$24,2,))","v":{"$error":"#N/A"}},{"$f":"IF(H55=0,\"N/A\",VLOOKUP(H55,'Credit Ratings (WP)'!$E$4:$F$24,2,))","v":{"$error":"#N/A"}}]
["",false,null,"",null,"","","",null,"","",null,"",null,null,{"$f":"IF(G56=0,\"N/A\",VLOOKUP(G56,'Credit Ratings (WP)'!$C$4:$D$24,2,))","v":{"$error":"#N/A"}},{"$f":"IF(H56=0,\"N/A\",VLOOKUP(H56,'Credit Ratings (WP)'!$E$4:$F$24,2,))","v":{"$error":"#N/A"}}]
["",false,null,"",null,"","","",null,"","",null,"",null,null,{"$f":"IF(G57=0,\"N/A\",VLOOKUP(G57,'Credit Ratings (WP)'!$C$4:$D$24,2,))","v":{"$error":"#N/A"}},{"$f":"IF(H57=0,\"N/A\",VLOOKUP(H57,'Credit Ratings (WP)'!$E$4:$F$24,2,))","v":{"$error":"#N/A"}}]
["",false,null,"",null,"","","",null,"","",null,"",null,null,{"$f":"IF(G58=0,\"N/A\",VLOOKUP(G58,'Credit Ratings (WP)'!$C$4:$D$24,2,))","v":{"$error":"#N/A"}},{"$f":"IF(H58=0,\"N/A\",VLOOKUP(H58,'Credit Ratings (WP)'!$E$4:$F$24,2,))","v":{"$error":"#N/A"}}]
["",false,null,"",null,"","","",null,"","",null,"",null,null,{"$f":"IF(G59=0,\"N/A\",VLOOKUP(G59,'Credit Ratings (WP)'!$C$4:$D$24,2,))","v":{"$error":"#N/A"}},{"$f":"IF(H59=0,\"N/A\",VLOOKUP(H59,'Credit Ratings (WP)'!$E$4:$F$24,2,))","v":{"$error":"#N/A"}}]
["",false,null,"",null,"","","",null,"","",null,"",null,null,{"$f":"IF(G60=0,\"N/A\",VLOOKUP(G60,'Credit Ratings (WP)'!$C$4:$D$24,2,))","v":{"$error":"#N/A"}},{"$f":"IF(H60=0,\"N/A\",VLOOKUP(H60,'Credit Ratings (WP)'!$E$4:$F$24,2,))","v":{"$error":"#N/A"}}]
["",false,null,"",null,"","","",null,"","",null,"",null,null,{"$f":"IF(G61=0,\"N/A\",VLOOKUP(G61,'Credit Ratings (WP)'!$C$4:$D$24,2,))","v":{"$error":"#N/A"}},{"$f":"IF(H61=0,\"N/A\",VLOOKUP(H61,'Credit Ratings (WP)'!$E$4:$F$24,2,))","v":{"$error":"#N/A"}}]
[]
[{"$f":"IF(D63=0,\"N/A\",MAX(A13:A62)+1)","v":14},null,null,"Average",null,null,{"$f":"VLOOKUP(P63,'Credit Ratings (WP)'!$B$4:$C$24,2,)","v":"BBB+"},{"$f":"VLOOKUP(Q63,'Credit Ratings (WP)'!$D$4:$E$24,2,)","v":"A3"},null,{"$f":"AVERAGE(J12:J61)","v":0.46589778706710633},{"$f":"AVERAGE(K12:K61)","v":0.49030769230769233},null,{"$f":"CHOOSE(ROUND((COUNTIF(M12:M61,\"Excellent\")*2+COUNTIF(M12:M61,\"Strong\"))/('Proxy Group'!$B$4-COUNTIF(M12:M61,\"N/A\")),0),\"Strong\",\"Excellent\")","v":"Excellent"},null,null,{"$f":"ROUND(AVERAGEIF(P12:P62,\">0\"),0)","v":14},{"$f":"ROUND(AVERAGEIF(Q12:Q62,\">0\"),0)","v":15}]
[]
[{"$f":"IF(D65=0,\"N/A\",MAX(A62:A64)+1)","v":15},null,null,{"$f":"A1&\" (PacifiCorp)\"","v":"Rocky Mountain Power (PacifiCorp)"},null,null,"A-1","A31",null,null,"51.6%4",null,{"$f":"CHOOSE(ROUND((COUNTIF(M14:M63,\"Excellent\")*2+COUNTIF(M14:M63,\"Strong\"))/('Proxy Group'!$B$4-COUNTIF(M14:M63,\"N/A\")),0),\"Strong\",\"Excellent\")","v":"Excellent"}]
[]
[]
[]
[null,null," Sources:"]
[null,null,{"$f":"+A70+1","v":1},{"$f":"\"SNL Financial, Downloaded on \"& TEXT($R$9,\"mmmm d, yyyy\")&\".\"","v":"SNL Financial, Downloaded on March 27, 2014."}]
[null,null,{"$f":"+C70+1","v":2},"The Value Line Investment Survey, January 31, February 21, and March 21, 2014."]
[null,null,{"$f":"+C71+1","v":3},"S&P RatingsDirect: \"U.S. Regulated Utilities, Strongest To Weakest,\" July 30, 2013."]
[null,null,4,"Williams Direct at 2."]

{"sheet":"Sheet1","index":2,"n_rows":0,"n_cols":0,"rows_kept":0,"cut":false,"hidden":false,"merged":[]}

{"sheet":"FEA___(MPG-3)","index":3,"n_rows":70,"n_cols":21,"rows_kept":70,"cut":false,"hidden":false,"merged":[[66,1,66,2],[8,2,8,3],[0,0,0,14],[3,0,3,14],[6,5,6,6],[6,8,6,9],[6,11,6,12]]}
[{"$f":"'FEA___(MPG-2)'!A1","v":"Rocky Mountain Power"}]
[]
[]
["Consensus Analysts' Growth Rates"]
[]
[]
[null,null,null,null,null,"Zacks",null,null,"SNL",null,null,"Reuters",null,null,"Average of"]
[null,null,null,null,null,"Estimated","Number of",null,"Estimated","Number of",null,"Estimated","Number of",null,"Growth"]
["Line",null,"Company",null,null,"Growth %1","Estimates",null,"Growth %2","Estimates",null,"Growth %3","Estimates",null,"Rates",null,null,null,null,"2014-03-27"]
[null,null,null,null,null,"(1)","(2)",null,"(3)","(4)",null,"(5)","(6)",null,"(7)"]
[null,null,null,null,null,null,null,null,null,null,null,null,null,null,null,null,null,null,"Zacks","SNL","Reuters"]
[{"$f":"'FEA___(MPG-2)'!A12","v":1},null,{"$f":"'FEA___(MPG-2)'!D12","v":"ALLETE, Inc."},null,{"$f":"'FEA___(MPG-2)'!F12","v":"ALE"},{"$f":"IF('FEA___(MPG-2)'!$B12,VLOOKUP($E12,GRLU,5,FALSE),\"\")","v":0.06},{"$f":"IF('FEA___(MPG-2)'!$B12,VLOOKUP($E12,GRLU,6,FALSE),\"\")","v":"N/A"},null,{"$f":"IF('FEA___(MPG-2)'!$B12,VLOOKUP($E12,GRLU,8,FALSE),\"\")","v":"N/A"},{"$f":"IF('FEA___(MPG-2)'!$B12,VLOOKUP($E12,GRLU,9,FALSE),\"\")","v":"N/A"},null,{"$f":"IF('FEA___(MPG-2)'!$B12,VLOOKUP($E12,GRLU,11,FALSE),\"\")","v":"NA"},{"$f":"IF('FEA___(MPG-2)'!$B12,VLOOKUP($E12,GRLU,12,FALSE),\"\")","v":"NA"},null,{"$f":"IF('FEA___(MPG-2)'!$B12,AVERAGEIF(S12:U12,\">0\"),\"\")","v":0.06},null,null,null,{"$f":"+F12","v":0.06},{"$f":"+I12","v":"N/A"},{"$f":"+L12","v":"NA"}]
[{"$f":"'FEA___(MPG-2)'!A13","v":2},null,{"$f":"'FEA___(MPG-2)'!D13","v":"Alliant Energy Corporation"},null,{"$f":"'FEA___(MPG-2)'!F13","v":"LNT"},{"$f":"IF('FEA___(MPG-2)'!$B13,VLOOKUP($E13,GRLU,5,FALSE),\"\")","v":5.5E-2},{"$f":"IF('FEA___(MPG-2)'!$B13,VLOOKUP($E13,GRLU,6,FALSE),\"\")","v":"N/A"},null,{"$f":"IF('FEA___(MPG-2)'!$B13,VLOOKUP($E13,GRLU,8,FALSE),\"\")","v":5.4000000000000006E-2},{"$f":"IF('FEA___(MPG-2)'!$B13,VLOOKUP($E13,GRLU,9,FALSE),\"\")","v":2},null,{"$f":"IF('FEA___(MPG-2)'!$B13,VLOOKUP($E13,GRLU,11,FALSE),\"\")","v":5.6000000000000001E-2},{"$f":"IF('FEA___(MPG-2)'!$B13,VLOOKUP($E13,GRLU,12,FALSE),\"\")","v":3},null,{"$f":"IF('FEA___(MPG-2)'!$B13,AVERAGEIF(S13:U13,\">0\"),\"\")","v":5.5E-2},null,null,null,{"$f":"+F13","v":5.5E-2},{"$f":"+I13","v":5.4000000000000006E-2},{"$f":"+L13","v":5.6000000000000001E-2}]
[{"$f":"'FEA___(MPG-2)'!A14","v":3},null,{"$f":"'FEA___(MPG-2)'!D14","v":"Avista Corporation"},null,{"$f":"'FEA___(MPG-2)'!F14","v":"AVA"},{"$f":"IF('FEA___(MPG-2)'!$B14,VLOOKUP($E14,GRLU,5,FALSE),\"\")","v":0.05},{"$f":"IF('FEA___(MPG-2)'!$B14,VLOOKUP($E14,GRLU,6,FALSE),\"\")","v":"N/A"},null,{"$f":"IF('FEA___(MPG-2)'!$B14,VLOOKUP($E14,GRLU,8,FALSE),\"\")","v":"N/A"},{"$f":"IF('FEA___(MPG-2)'!$B14,VLOOKUP($E14,GRLU,9,FALSE),\"\")","v":"N/A"},null,{"$f":"IF('FEA___(MPG-2)'!$B14,VLOOKUP($E14,GRLU,11,FALSE),\"\")","v":"NA"},{"$f":"IF('FEA___(MPG-2)'!$B14,VLOOKUP($E14,GRLU,12,FALSE),\"\")","v":"NA"},null,{"$f":"IF('FEA___(MPG-2)'!$B14,AVERAGEIF(S14:U14,\">0\"),\"\")","v":0.05},null,null,null,0.05,"N/A","NA"]
[{"$f":"'FEA___(MPG-2)'!A15","v":4},null,{"$f":"'FEA___(MPG-2)'!D15","v":"DTE Energy Company"},null,{"$f":"'FEA___(MPG-2)'!F15","v":"DTE"},{"$f":"IF('FEA___(MPG-2)'!$B15,VLOOKUP($E15,GRLU,5,FALSE),\"\")","v":6.2E-2},{"$f":"IF('FEA___(MPG-2)'!$B15,VLOOKUP($E15,GRLU,6,FALSE),\"\")","v":"N/A"},null,{"$f":"IF('FEA___(MPG-2)'!$B15,VLOOKUP($E15,GRLU,8,FALSE),\"\")","v":5.7999999999999996E-2},{"$f":"IF('FEA___(MPG-2)'!$B15,VLOOKUP($E15,GRLU,9,FALSE),\"\")","v":3},null,{"$f":"IF('FEA___(MPG-2)'!$B15,VLOOKUP($E15,GRLU,11,FALSE),\"\")","v":5.21E-2},{"$f":"IF('FEA___(MPG-2)'!$B15,VLOOKUP($E15,GRLU,12,FALSE),\"\")","v":4},null,{"$f":"IF('FEA___(MPG-2)'!$B15,AVERAGEIF(S15:U15,\">0\"),\"\")","v":5.736666666666667E-2},null,null,null,6.2E-2,5.7999999999999996E-2,5.21E-2]
[{"$f":"'FEA___(MPG-2)'!A16","v":5},null,{"$f":"'FEA___(MPG-2)'!D16","v":"IDACORP, Inc."},null,{"$f":"'FEA___(MPG-2)'!F16","v":"IDA"},{"$f":"IF('FEA___(MPG-2)'!$B16,VLOOKUP($E16,GRLU,5,FALSE),\"\")","v":0.04},{"$f":"IF('FEA___(MPG-2)'!$B16,VLOOKUP($E16,GRLU,6,FALSE),\"\")","v":"N/A"},null,{"$f":"IF('FEA___(MPG-2)'!$B16,VLOOKUP($E16,GRLU,8,FALSE),\"\")","v":0.04},{"$f":"IF('FEA___(MPG-2)'!$B16,VLOOKUP($E16,GRLU,9,FALSE),\"\")","v":1},null,{"$f":"IF('FEA___(MPG-2)'!$B16,VLOOKUP($E16,GRLU,11,FALSE),\"\")","v":0.04},{"$f":"IF('FEA___(MPG-2)'!$B16,VLOOKUP($E16,GRLU,12,FALSE),\"\")","v":1},null,{"$f":"IF('FEA___(MPG-2)'!$B16,AVERAGEIF(S16:U16,\">0\"),\"\")","v":0.04},null,null,null,0.04,0.04,0.04]
[{"$f":"'FEA___(MPG-2)'!A17","v":6},null,{"$f":"'FEA___(MPG-2)'!D17","v":"Integrys Energy Group, Inc."},null,{"$f":"'FEA___(MPG-2)'!F17","v":"TEG"},{"$f":"IF('FEA___(MPG-2)'!$B17,VLOOKUP($E17,GRLU,5,FALSE),\"\")","v":4.4999999999999998E-2},{"$f":"IF('FEA___(MPG-2)'!$B17,VLOOKUP($E17,GRLU,6,FALSE),\"\")","v":"N/A"},null,{"$f":"IF('FEA___(MPG-2)'!$B17,VLOOKUP($E17,GRLU,8,FALSE),\"\")","v":5.4000000000000006E-2},{"$f":"IF('FEA___(MPG-2)'!$B17,VLOOKUP($E17,GRLU,9,FALSE),\"\")","v":2},null,{"$f":"IF('FEA___(MPG-2)'!$B17,VLOOKUP($E17,GRLU,11,FALSE),\"\")","v":"NA"},{"$f":"IF('FEA___(MPG-2)'!$B17,VLOOKUP($E17,GRLU,12,FALSE),\"\")","v":"NA"},null,{"$f":"IF('FEA___(MPG-2)'!$B17,AVERAGEIF(S17:U17,\">0\"),\"\")","v":4.9500000000000002E-2},null,null,null,4.4999999999999998E-2,5.4000000000000006E-2,"NA"]
[{"$f":"'FEA___(MPG-2)'!A18","v":7},null,{"$f":"'FEA___(MPG-2)'!D18","v":"NextEra Energy, Inc."},null,{"$f":"'FEA___(MPG-2)'!F18","v":"NEE"},{"$f":"IF('FEA___(MPG-2)'!$B18,VLOOKUP($E18,GRLU,5,FALSE),\"\")","v":6.0999999999999999E-2},{"$f":"IF('FEA___(MPG-2)'!$B18,VLOOKUP($E18,GRLU,6,FALSE),\"\")","v":"N/A"},null,{"$f":"IF('FEA___(MPG-2)'!$B18,VLOOKUP($E18,GRLU,8,FALSE),\"\")","v":6.4000000000000001E-2},{"$f":"IF('FEA___(MPG-2)'!$B18,VLOOKUP($E18,GRLU,9,FALSE),\"\")","v":5},null,{"$f":"IF('FEA___(MPG-2)'!$B18,VLOOKUP($E18,GRLU,11,FALSE),\"\")","v":6.1800000000000001E-2},{"$f":"IF('FEA___(MPG-2)'!$B18,VLOOKUP($E18,GRLU,12,FALSE),\"\")","v":5},null,{"$f":"IF('FEA___(MPG-2)'!$B18,AVERAGEIF(S18:U18,\">0\"),\"\")","v":6.2266666666666665E-2},null,null,null,6.0999999999999999E-2,6.4000000000000001E-2,6.1800000000000001E-2]
[{"$f":"'FEA___(MPG-2)'!A19","v":8},null,{"$f":"'FEA___(MPG-2)'!D19","v":"Portland General Electric Company"},null,{"$f":"'FEA___(MPG-2)'!F19","v":"POR"},{"$f":"IF('FEA___(MPG-2)'!$B19,VLOOKUP($E19,GRLU,5,FALSE),\"\")","v":6.6000000000000003E-2},{"$f":"IF('FEA___(MPG-2)'!$B19,VLOOKUP($E19,GRLU,6,FALSE),\"\")","v":"N/A"},null,{"$f":"IF('FEA___(MPG-2)'!$B19,VLOOKUP($E19,GRLU,8,FALSE),\"\")","v":6.8000000000000005E-2},{"$f":"IF('FEA___(MPG-2)'!$B19,VLOOKUP($E19,GRLU,9,FALSE),\"\")","v":3},null,{"$f":"IF('FEA___(MPG-2)'!$B19,VLOOKUP($E19,GRLU,11,FALSE),\"\")","v":9.6699999999999994E-2},{"$f":"IF('FEA___(MPG-2)'!$B19,VLOOKUP($E19,GRLU,12,FALSE),\"\")","v":4},null,{"$f":"IF('FEA___(MPG-2)'!$B19,AVERAGEIF(S19:U19,\">0\"),\"\")","v":7.690000000000001E-2},null,null,null,6.6000000000000003E-2,6.8000000000000005E-2,9.6699999999999994E-2]
[{"$f":"'FEA___(MPG-2)'!A20","v":9},null,{"$f":"'FEA___(MPG-2)'!D20","v":"Sempra Energy"},null,{"$f":"'FEA___(MPG-2)'!F20","v":"SRE"},{"$f":"IF('FEA___(MPG-2)'!$B20,VLOOKUP($E20,GRLU,5,FALSE),\"\")","v":7.4999999999999997E-2},{"$f":"IF('FEA___(MPG-2)'!$B20,VLOOKUP($E20,GRLU,6,FALSE),\"\")","v":"N/A"},null,{"$f":"IF('FEA___(MPG-2)'!$B20,VLOOKUP($E20,GRLU,8,FALSE),\"\")","v":5.0999999999999997E-2},{"$f":"IF('FEA___(MPG-2)'!$B20,VLOOKUP($E20,GRLU,9,FALSE),\"\")","v":2},null,{"$f":"IF('FEA___(MPG-2)'!$B20,VLOOKUP($E20,GRLU,11,FALSE),\"\")","v":6.2799999999999995E-2},{"$f":"IF('FEA___(MPG-2)'!$B20,VLOOKUP($E20,GRLU,12,FALSE),\"\")","v":4},null,{"$f":"IF('FEA___(MPG-2)'!$B20,AVERAGEIF(S20:U20,\">0\"),\"\")","v":6.2933333333333327E-2},null,null,null,7.4999999999999997E-2,5.0999999999999997E-2,6.2799999999999995E-2]
[{"$f":"'FEA___(MPG-2)'!A21","v":10},null,{"$f":"'FEA___(MPG-2)'!D21","v":"Southern Company"},null,{"$f":"'FEA___(MPG-2)'!F21","v":"SO"},{"$f":"IF('FEA___(MPG-2)'!$B21,VLOOKUP($E21,GRLU,5,FALSE),\"\")","v":4.1000000000000002E-2},{"$f":"IF('FEA___(MPG-2)'!$B21,VLOOKUP($E21,GRLU,6,FALSE),\"\")","v":"N/A"},null,{"$f":"IF('FEA___(MPG-2)'!$B21,VLOOKUP($E21,GRLU,8,FALSE),\"\")","v":3.3000000000000002E-2},{"$f":"IF('FEA___(MPG-2)'!$B21,VLOOKUP($E21,GRLU,9,FALSE),\"\")","v":5},null,{"$f":"IF('FEA___(MPG-2)'!$B21,VLOOKUP($E21,GRLU,11,FALSE),\"\")","v":3.8699999999999998E-2},{"$f":"IF('FEA___(MPG-2)'!$B21,VLOOKUP($E21,GRLU,12,FALSE),\"\")","v":7},null,{"$f":"IF('FEA___(MPG-2)'!$B21,AVERAGEIF(S21:U21,\">0\"),\"\")","v":3.7566666666666672E-2},null,null,null,4.1000000000000002E-2,3.3000000000000002E-2,3.8699999999999998E-2]
[{"$f":"'FEA___(MPG-2)'!A22","v":11},null,{"$f":"'FEA___(MPG-2)'!D22","v":"Westar Energy, Inc."},null,{"$f":"'FEA___(MPG-2)'!F22","v":"WR"},{"$f":"IF('FEA___(MPG-2)'!$B22,VLOOKUP($E22,GRLU,5,FALSE),\"\")","v":4.2999999999999997E-2},{"$f":"IF('FEA___(MPG-2)'!$B22,VLOOKUP($E22,GRLU,6,FALSE),\"\")","v":"N/A"},null,{"$f":"IF('FEA___(MPG-2)'!$B22,VLOOKUP($E22,GRLU,8,FALSE),\"\")","v":3.2000000000000001E-2},{"$f":"IF('FEA___(MPG-2)'!$B22,VLOOKUP($E22,GRLU,9,FALSE),\"\")","v":3},null,{"$f":"IF('FEA___(MPG-2)'!$B22,VLOOKUP($E22,GRLU,11,FALSE),\"\")","v":2.8000000000000001E-2},{"$f":"IF('FEA___(MPG-2)'!$B22,VLOOKUP($E22,GRLU,12,FALSE),\"\")","v":2},null,{"$f":"IF('FEA___(MPG-2)'!$B22,AVERAGEIF(S22:U22,\">0\"),\"\")","v":3.4333333333333334E-2},null,null,null,4.2999999999999997E-2,3.2000000000000001E-2,2.8000000000000001E-2]
[{"$f":"'FEA___(MPG-2)'!A23","v":12},null,{"$f":"'FEA___(MPG-2)'!D23","v":"Wisconsin Energy Corporation"},null,{"$f":"'FEA___(MPG-2)'!F23","v":"WEC"},{"$f":"IF('FEA___(MPG-2)'!$B23,VLOOKUP($E23,GRLU,5,FALSE),\"\")","v":5.1999999999999998E-2},{"$f":"IF('FEA___(MPG-2)'!$B23,VLOOKUP($E23,GRLU,6,FALSE),\"\")","v":"N/A"},null,{"$f":"IF('FEA___(MPG-2)'!$B23,VLOOKUP($E23,GRLU,8,FALSE),\"\")","v":5.2000000000000005E-2},{"$f":"IF('FEA___(MPG-2)'!$B23,VLOOKUP($E23,GRLU,9,FALSE),\"\")","v":2},null,{"$f":"IF('FEA___(MPG-2)'!$B23,VLOOKUP($E23,GRLU,11,FALSE),\"\")","v":4.8599999999999997E-2},{"$f":"IF('FEA___(MPG-2)'!$B23,VLOOKUP($E23,GRLU,12,FALSE),\"\")","v":3},null,{"$f":"IF('FEA___(MPG-2)'!$B23,AVERAGEIF(S23:U23,\">0\"),\"\")","v":5.0866666666666671E-2},null,null,null,5.1999999999999998E-2,5.2000000000000005E-2,4.8599999999999997E-2]
[{"$f":"'FEA___(MPG-2)'!A24","v":13},null,{"$f":"'FEA___(MPG-2)'!D24","v":"Xcel Energy Inc."},null,{"$f":"'FEA___(MPG-2)'!F24","v":"XEL"},{"$f":"IF('FEA___(MPG-2)'!$B24,VLOOKUP($E24,GRLU,5,FALSE),\"\")","v":4.2000000000000003E-2},{"$f":"IF('FEA___(MPG-2)'!$B24,VLOOKUP($E24,GRLU,6,FALSE),\"\")","v":"N/A"},null,{"$f":"IF('FEA___(MPG-2)'!$B24,VLOOKUP($E24,GRLU,8,FALSE),\"\")","v":4.9000000000000002E-2},{"$f":"IF('FEA___(MPG-2)'!$B24,VLOOKUP($E24,GRLU,9,FALSE),\"\")","v":3},null,{"$f":"IF('FEA___(MPG-2)'!$B24,VLOOKUP($E24,GRLU,11,FALSE),\"\")","v":5.2900000000000003E-2},{"$f":"IF('FEA___(MPG-2)'!$B24,VLOOKUP($E24,GRLU,12,FALSE),\"\")","v":5},null,{"$f":"IF('FEA___(MPG-2)'!$B24,AVERAGEIF(S24:U24,\">0\"),\"\")","v":4.7966666666666664E-2},null,null,null,4.2000000000000003E-2,4.9000000000000002E-2,5.2900000000000003E-2]
[{"$f":"'FEA___(MPG-2)'!A25","v":""},null,{"$f":"'FEA___(MPG-2)'!D25","v":""},null,{"$f":"'FEA___(MPG-2)'!F25","v":""},{"$f":"IF('FEA___(MPG-2)'!$B25,VLOOKUP($E25,GRLU,5,FALSE),\"\")","v":""},{"$f":"IF('FEA___(MPG-2)'!$B25,VLOOKUP($E25,GRLU,6,FALSE),\"\")","v":""},null,{"$f":"IF('FEA___(MPG-2)'!$B25,VLOOKUP($E25,GRLU,8,FALSE),\"\")","v":""},{"$f":"IF('FEA___(MPG-2)'!$B25,VLOOKUP($E25,GRLU,9,FALSE),\"\")","v":""},null,{"$f":"IF('FEA___(MPG-2)'!$B25,VLOOKUP($E25,GRLU,11,FALSE),\"\")","v":""},{"$f":"IF('FEA___(MPG-2)'!$B25,VLOOKUP($E25,GRLU,12,FALSE),\"\")","v":""},null,{"$f":"IF('FEA___(MPG-2)'!$B25,AVERAGEIF(S25:U25,\">0\"),\"\")","v":""},null,null,null,"","",""]
[{"$f":"'FEA___(MPG-2)'!A26","v":""},null,{"$f":"'FEA___(MPG-2)'!D26","v":""},null,{"$f":"'FEA___(MPG-2)'!F26","v":""},{"$f":"IF('FEA___(MPG-2)'!$B26,VLOOKUP($E26,GRLU,5,FALSE),\"\")","v":""},{"$f":"IF('FEA___(MPG-2)'!$B26,VLOOKUP($E26,GRLU,6,FALSE),\"\")","v":""},null,{"$f":"IF('FEA___(MPG-2)'!$B26,VLOOKUP($E26,GRLU,8,FALSE),\"\")","v":""},{"$f":"IF('FEA___(MPG-2)'!$B26,VLOOKUP($E26,GRLU,9,FALSE),\"\")","v":""},null,{"$f":"IF('FEA___(MPG-2)'!$B26,VLOOKUP($E26,GRLU,11,FALSE),\"\")","v":""},{"$f":"IF('FEA___(MPG-2)'!$B26,VLOOKUP($E26,GRLU,12,FALSE),\"\")","v":""},null,{"$f":"IF('FEA___(MPG-2)'!$B26,AVERAGEIF(S26:U26,\">0\"),\"\")","v":""},null,null,null,"","",""]
[{"$f":"'FEA___(MPG-2)'!A27","v":""},null,{"$f":"'FEA___(MPG-2)'!D27","v":""},null,{"$f":"'FEA___(MPG-2)'!F27","v":""},{"$f":"IF('FEA___(MPG-2)'!$B27,VLOOKUP($E27,GRLU,5,FALSE),\"\")","v":""},{"$f":"IF('FEA___(MPG-2)'!$B27,VLOOKUP($E27,GRLU,6,FALSE),\"\")","v":""},null,{"$f":"IF('FEA___(MPG-2)'!$B27,VLOOKUP($E27,GRLU,8,FALSE),\"\")","v":""},{"$f":"IF('FEA___(MPG-2)'!$B27,VLOOKUP($E27,GRLU,9,FALSE),\"\")","v":""},null,{"$f":"IF('FEA___(MPG-2)'!$B27,VLOOKUP($E27,GRLU,11,FALSE),\"\")","v":""},{"$f":"IF('FEA___(MPG-2)'!$B27,VLOOKUP($E27,GRLU,12,FALSE),\"\")","v":""},null,{"$f":"IF('FEA___(MPG-2)'!$B27,AVERAGEIF(S27:U27,\">0\"),\"\")","v":""},null,null,null,"","",""]
[{"$f":"'FEA___(MPG-2)'!A28","v":""},null,{"$f":"'FEA___(MPG-2)'!D28","v":""},null,{"$f":"'FEA___(MPG-2)'!F28","v":""},{"$f":"IF('FEA___(MPG-2)'!$B28,VLOOKUP($E28,GRLU,5,FALSE),\"\")","v":""},{"$f":"IF('FEA___(MPG-2)'!$B28,VLOOKUP($E28,GRLU,6,FALSE),\"\")","v":""},null,{"$f":"IF('FEA___(MPG-2)'!$B28,VLOOKUP($E28,GRLU,8,FALSE),\"\")","v":""},{"$f":"IF('FEA___(MPG-2)'!$B28,VLOOKUP($E28,GRLU,9,FALSE),\"\")","v":""},null,{"$f":"IF('FEA___(MPG-2)'!$B28,VLOOKUP($E28,GRLU,11,FALSE),\"\")","v":""},{"$f":"IF('FEA___(MPG-2)'!$B28,VLOOKUP($E28,GRLU,12,FALSE),\"\")","v":""},null,{"$f":"IF('FEA___(MPG-2)'!$B28,AVERAGEIF(S28:U28,\">0\"),\"\")","v":""},null,null,null,"","",""]
[{"$f":"'FEA___(MPG-2)'!A29","v":""},null,{"$f":"'FEA___(MPG-2)'!D29","v":""},null,{"$f":"'FEA___(MPG-2)'!F29","v":""},{"$f":"IF('FEA___(MPG-2)'!$B29,VLOOKUP($E29,GRLU,5,FALSE),\"\")","v":""},{"$f":"IF('FEA___(MPG-2)'!$B29,VLOOKUP($E29,GRLU,6,FALSE),\"\")","v":""},null,{"$f":"IF('FEA___(MPG-2)'!$B29,VLOOKUP($E29,GRLU,8,FALSE),\"\")","v":""},{"$f":"IF('FEA___(MPG-2)'!$B29,VLOOKUP($E29,GRLU,9,FALSE),\"\")","v":""},null,{"$f":"IF('FEA___(MPG-2)'!$B29,VLOOKUP($E29,GRLU,11,FALSE),\"\")","v":""},{"$f":"IF('FEA___(MPG-2)'!$B29,VLOOKUP($E29,GRLU,12,FALSE),\"\")","v":""},null,{"$f":"IF('FEA___(MPG-2)'!$B29,AVERAGEIF(S29:U29,\">0\"),\"\")","v":""},null,null,null,"","",""]
[{"$f":"'FEA___(MPG-2)'!A30","v":""},null,{"$f":"'FEA___(MPG-2)'!D30","v":""},null,{"$f":"'FEA___(MPG-2)'!F30","v":""},{"$f":"IF('FEA___(MPG-2)'!$B30,VLOOKUP($E30,GRLU,5,FALSE),\"\")","v":""},{"$f":"IF('FEA___(MPG-2)'!$B30,VLOOKUP($E30,GRLU,6,FALSE),\"\")","v":""},null,{"$f":"IF('FEA___(MPG-2)'!$B30,VLOOKUP($E30,GRLU,8,FALSE),\"\")","v":""},{"$f":"IF('FEA___(MPG-2)'!$B30,VLOOKUP($E30,GRLU,9,FALSE),\"\")","v":""},null,{"$f":"IF('FEA___(MPG-2)'!$B30,VLOOKUP($E30,GRLU,11,FALSE),\"\")","v":""},{"$f":"IF('FEA___(MPG-2)'!$B30,VLOOKUP($E30,GRLU,12,FALSE),\"\")","v":""},null,{"$f":"IF('FEA___(MPG-2)'!$B30,AVERAGEIF(S30:U30,\">0\"),\"\")","v":""},null,null,null,"","",""]
[{"$f":"'FEA___(MPG-2)'!A31","v":""},null,{"$f":"'FEA___(MPG-2)'!D31","v":""},null,{"$f":"'FEA___(MPG-2)'!F31","v":""},{"$f":"IF('FEA___(MPG-2)'!$B31,VLOOKUP($E31,GRLU,5,FALSE),\"\")","v":""},{"$f":"IF('FEA___(MPG-2)'!$B31,VLOOKUP($E31,GRLU,6,FALSE),\"\")","v":""},null,{"$f":"IF('FEA___(MPG-2)'!$B31,VLOOKUP($E31,GRLU,8,FALSE),\"\")","v":""},{"$f":"IF('FEA___(MPG-2)'!$B31,VLOOKUP($E31,GRLU,9,FALSE),\"\")","v":""},null,{"$f":"IF('FEA___(MPG-2)'!$B31,VLOOKUP($E31,GRLU,11,FALSE),\"\")","v":""},{"$f":"IF('FEA___(MPG-2)'!$B31,VLOOKUP($E31,GRLU,12,FALSE),\"\")","v":""},null,{"$f":"IF('FEA___(MPG-2)'!$B31,AVERAGEIF(S31:U31,\">0\"),\"\")","v":""},null,null,null,"","",""]
[{"$f":"'FEA___(MPG-2)'!A32","v":""},null,{"$f":"'FEA___(MPG-2)'!D32","v":""},null,{"$f":"'FEA___(MPG-2)'!F32","v":""},{"$f":"IF('FEA___(MPG-2)'!$B32,VLOOKUP($E32,GRLU,5,FALSE),\"\")","v":""},{"$f":"IF('FEA___(MPG-2)'!$B32,VLOOKUP($E32,GRLU,6,FALSE),\"\")","v":""},null,{"$f":"IF('FEA___(MPG-2)'!$B32,VLOOKUP($E32,GRLU,8,FALSE),\"\")","v":""},{"$f":"IF('FEA___(MPG-2)'!$B32,VLOOKUP($E32,GRLU,9,FALSE),\"\")","v":""},null,{"$f":"IF('FEA___(MPG-2)'!$B32,VLOOKUP($E32,GRLU,11,FALSE),\"\")","v":""},{"$f":"IF('FEA___(MPG-2)'!$B32,VLOOKUP($E32,GRLU,12,FALSE),\"\")","v":""},null,{"$f":"IF('FEA___(MPG-2)'!$B32,AVERAGEIF(S32:U32,\">0\"),\"\")","v":""},null,null,null,"","",""]
[{"$f":"'FEA___(MPG-2)'!A33","v":""},null,{"$f":"'FEA___(MPG-2)'!D33","v":""},null,{"$f":"'FEA___(MPG-2)'!F33","v":""},{"$f":"IF('FEA___(MPG-2)'!$B33,VLOOKUP($E33,GRLU,5,FALSE),\"\")","v":""},{"$f":"IF('FEA___(MPG-2)'!$B33,VLOOKUP($E33,GRLU,6,FALSE),\"\")","v":""},null,{"$f":"IF('FEA___(MPG-2)'!$B33,VLOOKUP($E33,GRLU,8,FALSE),\"\")","v":""},{"$f":"IF('FEA___(MPG-2)'!$B33,VLOOKUP($E33,GRLU,9,FALSE),\"\")","v":""},null,{"$f":"IF('FEA___(MPG-2)'!$B33,VLOOKUP($E33,GRLU,11,FALSE),\"\")","v":""},{"$f":"IF('FEA___(MPG-2)'!$B33,VLOOKUP($E33,GRLU,12,FALSE),\"\")","v":""},null,{"$f":"IF('FEA___(MPG-2)'!$B33,AVERAGEIF(S33:U33,\">0\"),\"\")","v":""},null,null,null,"","",""]
[{"$f":"'FEA___(MPG-2)'!A34","v":""},null,{"$f":"'FEA___(MPG-2)'!D34","v":""},null,{"$f":"'FEA___(MPG-2)'!F34","v":""},{"$f":"IF('FEA___(MPG-2)'!$B34,VLOOKUP($E34,GRLU,5,FALSE),\"\")","v":""},{"$f":"IF('FEA___(MPG-2)'!$B34,VLOOKUP($E34,GRLU,6,FALSE),\"\")","v":""},null,{"$f":"IF('FEA___(MPG-2)'!$B34,VLOOKUP($E34,GRLU,8,FALSE),\"\")","v":""},{"$f":"IF('FEA___(MPG-2)'!$B34,VLOOKUP($E34,GRLU,9,FALSE),\"\")","v":""},null,{"$f":"IF('FEA___(MPG-2)'!$B34,VLOOKUP($E34,GRLU,11,FALSE),\"\")","v":""},{"$f":"IF('FEA___(MPG-2)'!$B34,VLOOKUP($E34,GRLU,12,FALSE),\"\")","v":""},null,{"$f":"IF('FEA___(MPG-2)'!$B34,AVERAGEIF(S34:U34,\">0\"),\"\")","v":""},null,null,null,"","",""]
[{"$f":"'FEA___(MPG-2)'!A35","v":""},null,{"$f":"'FEA___(MPG-2)'!D35","v":""},null,{"$f":"'FEA___(MPG-2)'!F35","v":""},{"$f":"IF('FEA___(MPG-2)'!$B35,VLOOKUP($E35,GRLU,5,FALSE),\"\")","v":""},{"$f":"IF('FEA___(MPG-2)'!$B35,VLOOKUP($E35,GRLU,6,FALSE),\"\")","v":""},null,{"$f":"IF('FEA___(MPG-2)'!$B35,VLOOKUP($E35,GRLU,8,FALSE),\"\")","v":""},{"$f":"IF('FEA___(MPG-2)'!$B35,VLOOKUP($E35,GRLU,9,FALSE),\"\")","v":""},null,{"$f":"IF('FEA___(MPG-2)'!$B35,VLOOKUP($E35,GRLU,11,FALSE),\"\")","v":""},{"$f":"IF('FEA___(MPG-2)'!$B35,VLOOKUP($E35,GRLU,12,FALSE),\"\")","v":""},null,{"$f":"IF('FEA___(MPG-2)'!$B35,AVERAGEIF(S35:U35,\">0\"),\"\")","v":""},null,null,null,"","",""]
[{"$f":"'FEA___(MPG-2)'!A36","v":""},null,{"$f":"'FEA___(MPG-2)'!D36","v":""},null,{"$f":"'FEA___(MPG-2)'!F36","v":""},{"$f":"IF('FEA___(MPG-2)'!$B36,VLOOKUP($E36,GRLU,5,FALSE),\"\")","v":""},{"$f":"IF('FEA___(MPG-2)'!$B36,VLOOKUP($E36,GRLU,6,FALSE),\"\")","v":""},null,{"$f":"IF('FEA___(MPG-2)'!$B36,VLOOKUP($E36,GRLU,8,FALSE),\"\")","v":""},{"$f":"IF('FEA___(MPG-2)'!$B36,VLOOKUP($E36,GRLU,9,FALSE),\"\")","v":""},null,{"$f":"IF('FEA___(MPG-2)'!$B36,VLOOKUP($E36,GRLU,11,FALSE),\"\")","v":""},{"$f":"IF('FEA___(MPG-2)'!$B36,VLOOKUP($E36,GRLU,12,FALSE),\"\")","v":""},null,{"$f":"IF('FEA___(MPG-2)'!$B36,AVERAGEIF(S36:U36,\">0\"),\"\")","v":""},null,null,null,"","",""]
[{"$f":"'FEA___(MPG-2)'!A37","v":""},null,{"$f":"'FEA___(MPG-2)'!D37","v":""},null,{"$f":"'FEA___(MPG-2)'!F37","v":""},{"$f":"IF('FEA___(MPG-2)'!$B37,VLOOKUP($E37,GRLU,5,FALSE),\"\")","v":""},{"$f":"IF('FEA___(MPG-2)'!$B37,VLOOKUP($E37,GRLU,6,FALSE),\"\")","v":""},null,{"$f":"IF('FEA___(MPG-2)'!$B37,VLOOKUP($E37,GRLU,8,FALSE),\"\")","v":""},{"$f":"IF('FEA___(MPG-2)'!$B37,VLOOKUP($E37,GRLU,9,FALSE),\"\")","v":""},null,{"$f":"IF('FEA___(MPG-2)'!$B37,VLOOKUP($E37,GRLU,11,FALSE),\"\")","v":""},{"$f":"IF('FEA___(MPG-2)'!$B37,VLOOKUP($E37,GRLU,12,FALSE),\"\")","v":""},null,{"$f":"IF('FEA___(MPG-2)'!$B37,AVERAGEIF(S37:U37,\">0\"),\"\")","v":""},null,null,null,"","",""]
[{"$f":"'FEA___(MPG-2)'!A38","v":""},null,{"$f":"'FEA___(MPG-2)'!D38","v":""},null,{"$f":"'FEA___(MPG-2)'!F38","v":""},{"$f":"IF('FEA___(MPG-2)'!$B38,VLOOKUP($E38,GRLU,5,FALSE),\"\")","v":""},{"$f":"IF('FEA___(MPG-2)'!$B38,VLOOKUP($E38,GRLU,6,FALSE),\"\")","v":""},null,{"$f":"IF('FEA___(MPG-2)'!$B38,VLOOKUP($E38,GRLU,8,FALSE),\"\")","v":""},{"$f":"IF('FEA___(MPG-2)'!$B38,VLOOKUP($E38,GRLU,9,FALSE),\"\")","v":""},null,{"$f":"IF('FEA___(MPG-2)'!$B38,VLOOKUP($E38,GRLU,11,FALSE),\"\")","v":""},{"$f":"IF('FEA___(MPG-2)'!$B38,VLOOKUP($E38,GRLU,12,FALSE),\"\")","v":""},null,{"$f":"IF('FEA___(MPG-2)'!$B38,AVERAGEIF(S38:U38,\">0\"),\"\")","v":""},null,null,null,"","",""]
[{"$f":"'FEA___(MPG-2)'!A39","v":""},null,{"$f":"'FEA___(MPG-2)'!D39","v":""},null,{"$f":"'FEA___(MPG-2)'!F39","v":""},{"$f":"IF('FEA___(MPG-2)'!$B39,VLOOKUP($E39,GRLU,5,FALSE),\"\")","v":""},{"$f":"IF('FEA___(MPG-2)'!$B39,VLOOKUP($E39,GRLU,6,FALSE),\"\")","v":""},null,{"$f":"IF('FEA___(MPG-2)'!$B39,VLOOKUP($E39,GRLU,8,FALSE),\"\")","v":""},{"$f":"IF('FEA___(MPG-2)'!$B39,VLOOKUP($E39,GRLU,9,FALSE),\"\")","v":""},null,{"$f":"IF('FEA___(MPG-2)'!$B39,VLOOKUP($E39,GRLU,11,FALSE),\"\")","v":""},{"$f":"IF('FEA___(MPG-2)'!$B39,VLOOKUP($E39,GRLU,12,FALSE),\"\")","v":""},null,{"$f":"IF('FEA___(MPG-2)'!$B39,AVERAGEIF(S39:U39,\">0\"),\"\")","v":""},null,null,null,"","",""]
[{"$f":"'FEA___(MPG-2)'!A40","v":""},null,{"$f":"'FEA___(MPG-2)'!D40","v":""},null,{"$f":"'FEA___(MPG-2)'!F40","v":""},{"$f":"IF('FEA___(MPG-2)'!$B40,VLOOKUP($E40,GRLU,5,FALSE),\"\")","v":""},{"$f":"IF('FEA___(MPG-2)'!$B40,VLOOKUP($E40,GRLU,6,FALSE),\"\")","v":""},null,{"$f":"IF('FEA___(MPG-2)'!$B40,VLOOKUP($E40,GRLU,8,FALSE),\"\")","v":""},{"$f":"IF('FEA___(MPG-2)'!$B40,VLOOKUP($E40,GRLU,9,FALSE),\"\")","v":""},null,{"$f":"IF('FEA___(MPG-2)'!$B40,VLOOKUP($E40,GRLU,11,FALSE),\"\")","v":""},{"$f":"IF('FEA___(MPG-2)'!$B40,VLOOKUP($E40,GRLU,12,FALSE),\"\")","v":""},null,{"$f":"IF('FEA___(MPG-2)'!$B40,AVERAGEIF(S40:U40,\">0\"),\"\")","v":""},null,null,null,"","",""]
[{"$f":"'FEA___(MPG-2)'!A41","v":""},null,{"$f":"'FEA___(MPG-2)'!D41","v":""},null,{"$f":"'FEA___(MPG-2)'!F41","v":""},{"$f":"IF('FEA___(MPG-2)'!$B41,VLOOKUP($E41,GRLU,5,FALSE),\"\")","v":""},{"$f":"IF('FEA___(MPG-2)'!$B41,VLOOKUP($E41,GRLU,6,FALSE),\"\")","v":""},null,{"$f":"IF('FEA___(MPG-2)'!$B41,VLOOKUP($E41,GRLU,8,FALSE),\"\")","v":""},{"$f":"IF('FEA___(MPG-2)'!$B41,VLOOKUP($E41,GRLU,9,FALSE),\"\")","v":""},null,{"$f":"IF('FEA___(MPG-2)'!$B41,VLOOKUP($E41,GRLU,11,FALSE),\"\")","v":""},{"$f":"IF('FEA___(MPG-2)'!$B41,VLOOKUP($E41,GRLU,12,FALSE),\"\")","v":""},null,{"$f":"IF('FEA___(MPG-2)'!$B41,AVERAGEIF(S41:U41,\">0\"),\"\")","v":""},null,null,null,"","",""]
[{"$f":"'FEA___(MPG-2)'!A42","v":""},null,{"$f":"'FEA___(MPG-2)'!D42","v":""},null,{"$f":"'FEA___(MPG-2)'!F42","v":""},{"$f":"IF('FEA___(MPG-2)'!$B42,VLOOKUP($E42,GRLU,5,FALSE),\"\")","v":""},{"$f":"IF('FEA___(MPG-2)'!$B42,VLOOKUP($E42,GRLU,6,FALSE),\"\")","v":""},null,{"$f":"IF('FEA___(MPG-2)'!$B42,VLOOKUP($E42,GRLU,8,FALSE),\"\")","v":""},{"$f":"IF('FEA___(MPG-2)'!$B42,VLOOKUP($E42,GRLU,9,FALSE),\"\")","v":""},null,{"$f":"IF('FEA___(MPG-2)'!$B42,VLOOKUP($E42,GRLU,11,FALSE),\"\")","v":""},{"$f":"IF('FEA___(MPG-2)'!$B42,VLOOKUP($E42,GRLU,12,FALSE),\"\")","v":""},null,{"$f":"IF('FEA___(MPG-2)'!$B42,AVERAGEIF(S42:U42,\">0\"),\"\")","v":""},null,null,null,"","",""]
[{"$f":"'FEA___(MPG-2)'!A43","v":""},null,{"$f":"'FEA___(MPG-2)'!D43","v":""},null,{"$f":"'FEA___(MPG-2)'!F43","v":""},{"$f":"IF('FEA___(MPG-2)'!$B43,VLOOKUP($E43,GRLU,5,FALSE),\"\")","v":""},{"$f":"IF('FEA___(MPG-2)'!$B43,VLOOKUP($E43,GRLU,6,FALSE),\"\")","v":""},null,{"$f":"IF('FEA___(MPG-2)'!$B43,VLOOKUP($E43,GRLU,8,FALSE),\"\")","v":""},{"$f":"IF('FEA___(MPG-2)'!$B43,VLOOKUP($E43,GRLU,9,FALSE),\"\")","v":""},null,{"$f":"IF('FEA___(MPG-2)'!$B43,VLOOKUP($E43,GRLU,11,FALSE),\"\")","v":""},{"$f":"IF('FEA___(MPG-2)'!$B43,VLOOKUP($E43,GRLU,12,FALSE),\"\")","v":""},null,{"$f":"IF('FEA___(MPG-2)'!$B43,AVERAGEIF(S43:U43,\">0\"),\"\")","v":""},null,null,null,"","",""]
[{"$f":"'FEA___(MPG-2)'!A44","v":""},null,{"$f":"'FEA___(MPG-2)'!D44","v":""},null,{"$f":"'FEA___(MPG-2)'!F44","v":""},{"$f":"IF('FEA___(MPG-2)'!$B44,VLOOKUP($E44,GRLU,5,FALSE),\"\")","v":""},{"$f":"IF('FEA___(MPG-2)'!$B44,VLOOKUP($E44,GRLU,6,FALSE),\"\")","v":""},null,{"$f":"IF('FEA___(MPG-2)'!$B44,VLOOKUP($E44,GRLU,8,FALSE),\"\")","v":""},{"$f":"IF('FEA___(MPG-2)'!$B44,VLOOKUP($E44,GRLU,9,FALSE),\"\")","v":""},null,{"$f":"IF('FEA___(MPG-2)'!$B44,VLOOKUP($E44,GRLU,11,FALSE),\"\")","v":""},{"$f":"IF('FEA___(MPG-2)'!$B44,VLOOKUP($E44,GRLU,12,FALSE),\"\")","v":""},null,{"$f":"IF('FEA___(MPG-2)'!$B44,AVERAGEIF(S44:U44,\">0\"),\"\")","v":""},null,null,null,"","",""]
[{"$f":"'FEA___(MPG-2)'!A45","v":""},null,{"$f":"'FEA___(MPG-2)'!D45","v":""},null,{"$f":"'FEA___(MPG-2)'!F45","v":""},{"$f":"IF('FEA___(MPG-2)'!$B45,VLOOKUP($E45,GRLU,5,FALSE),\"\")","v":""},{"$f":"IF('FEA___(MPG-2)'!$B45,VLOOKUP($E45,GRLU,6,FALSE),\"\")","v":""},null,{"$f":"IF('FEA___(MPG-2)'!$B45,VLOOKUP($E45,GRLU,8,FALSE),\"\")","v":""},{"$f":"IF('FEA___(MPG-2)'!$B45,VLOOKUP($E45,GRLU,9,FALSE),\"\")","v":""},null,{"$f":"IF('FEA___(MPG-2)'!$B45,VLOOKUP($E45,GRLU,11,FALSE),\"\")","v":""},{"$f":"IF('FEA___(MPG-2)'!$B45,VLOOKUP($E45,GRLU,12,FALSE),\"\")","v":""},null,{"$f":"IF('FEA___(MPG-2)'!$B45,AVERAGEIF(S45:U45,\">0\"),\"\")","v":""},null,null,null,"","",""]
[{"$f":"'FEA___(MPG-2)'!A46","v":""},null,{"$f":"'FEA___(MPG-2)'!D46","v":""},null,{"$f":"'FEA___(MPG-2)'!F46","v":""},{"$f":"IF('FEA___(MPG-2)'!$B46,VLOOKUP($E46,GRLU,5,FALSE),\"\")","v":""},{"$f":"IF('FEA___(MPG-2)'!$B46,VLOOKUP($E46,GRLU,6,FALSE),\"\")","v":""},null,{"$f":"IF('FEA___(MPG-2)'!$B46,VLOOKUP($E46,GRLU,8,FALSE),\"\")","v":""},{"$f":"IF('FEA___(MPG-2)'!$B46,VLOOKUP($E46,GRLU,9,FALSE),\"\")","v":""},null,{"$f":"IF('FEA___(MPG-2)'!$B46,VLOOKUP($E46,GRLU,11,FALSE),\"\")","v":""},{"$f":"IF('FEA___(MPG-2)'!$B46,VLOOKUP($E46,GRLU,12,FALSE),\"\")","v":""},null,{"$f":"IF('FEA___(MPG-2)'!$B46,AVERAGEIF(S46:U46,\">0\"),\"\")","v":""},null,null,null,"","",""]
[{"$f":"'FEA___(MPG-2)'!A47","v":""},null,{"$f":"'FEA___(MPG-2)'!D47","v":""},null,{"$f":"'FEA___(MPG-2)'!F47","v":""},{"$f":"IF('FEA___(MPG-2)'!$B47,VLOOKUP($E47,GRLU,5,FALSE),\"\")","v":""},{"$f":"IF('FEA___(MPG-2)'!$B47,VLOOKUP($E47,GRLU,6,FALSE),\"\")","v":""},null,{"$f":"IF('FEA___(MPG-2)'!$B47,VLOOKUP($E47,GRLU,8,FALSE),\"\")","v":""},{"$f":"IF('FEA___(MPG-2)'!$B47,VLOOKUP($E47,GRLU,9,FALSE),\"\")","v":""},null,{"$f":"IF('FEA___(MPG-2)'!$B47,VLOOKUP($E47,GRLU,11,FALSE),\"\")","v":""},{"$f":"IF('FEA___(MPG-2)'!$B47,VLOOKUP($E47,GRLU,12,FALSE),\"\")","v":""},null,{"$f":"IF('FEA___(MPG-2)'!$B47,AVERAGEIF(S47:U47,\">0\"),\"\")","v":""},null,null,null,"","",""]
[{"$f":"'FEA___(MPG-2)'!A48","v":""},null,{"$f":"'FEA___(MPG-2)'!D48","v":""},null,{"$f":"'FEA___(MPG-2)'!F48","v":""},{"$f":"IF('FEA___(MPG-2)'!$B48,VLOOKUP($E48,GRLU,5,FALSE),\"\")","v":""},{"$f":"IF('FEA___(MPG-2)'!$B48,VLOOKUP($E48,GRLU,6,FALSE),\"\")","v":""},null,{"$f":"IF('FEA___(MPG-2)'!$B48,VLOOKUP($E48,GRLU,8,FALSE),\"\")","v":""},{"$f":"IF('FEA___(MPG-2)'!$B48,VLOOKUP($E48,GRLU,9,FALSE),\"\")","v":""},null,{"$f":"IF('FEA___(MPG-2)'!$B48,VLOOKUP($E48,GRLU,11,FALSE),\"\")","v":""},{"$f":"IF('FEA___(MPG-2)'!$B48,VLOOKUP($E48,GRLU,12,FALSE),\"\")","v":""},null,{"$f":"IF('FEA___(MPG-2)'!$B48,AVERAGEIF(S48:U48,\">0\"),\"\")","v":""},null,null,null,"","",""]
[{"$f":"'FEA___(MPG-2)'!A49","v":""},null,{"$f":"'FEA___(MPG-2)'!D49","v":""},null,{"$f":"'FEA___(MPG-2)'!F49","v":""},{"$f":"IF('FEA___(MPG-2)'!$B49,VLOOKUP($E49,GRLU,5,FALSE),\"\")","v":""},{"$f":"IF('FEA___(MPG-2)'!$B49,VLOOKUP($E49,GRLU,6,FALSE),\"\")","v":""},null,{"$f":"IF('FEA___(MPG-2)'!$B49,VLOOKUP($E49,GRLU,8,FALSE),\"\")","v":""},{"$f":"IF('FEA___(MPG-2)'!$B49,VLOOKUP($E49,GRLU,9,FALSE),\"\")","v":""},null,{"$f":"IF('FEA___(MPG-2)'!$B49,VLOOKUP($E49,GRLU,11,FALSE),\"\")","v":""},{"$f":"IF('FEA___(MPG-2)'!$B49,VLOOKUP($E49,GRLU,12,FALSE),\"\")","v":""},null,{"$f":"IF('FEA___(MPG-2)'!$B49,AVERAGEIF(S49:U49,\">0\"),\"\")","v":""},null,null,null,"","",""]
[{"$f":"'FEA___(MPG-2)'!A50","v":""},null,{"$f":"'FEA___(MPG-2)'!D50","v":""},null,{"$f":"'FEA___(MPG-2)'!F50","v":""},{"$f":"IF('FEA___(MPG-2)'!$B50,VLOOKUP($E50,GRLU,5,FALSE),\"\")","v":""},{"$f":"IF('FEA___(MPG-2)'!$B50,VLOOKUP($E50,GRLU,6,FALSE),\"\")","v":""},null,{"$f":"IF('FEA___(MPG-2)'!$B50,VLOOKUP($E50,GRLU,8,FALSE),\"\")","v":""},{"$f":"IF('FEA___(MPG-2)'!$B50,VLOOKUP($E50,GRLU,9,FALSE),\"\")","v":""},null,{"$f":"IF('FEA___(MPG-2)'!$B50,VLOOKUP($E50,GRLU,11,FALSE),\"\")","v":""},{"$f":"IF('FEA___(MPG-2)'!$B50,VLOOKUP($E50,GRLU,12,FALSE),\"\")","v":""},null,{"$f":"IF('FEA___(MPG-2)'!$B50,AVERAGEIF(S50:U50,\">0\"),\"\")","v":""},null,null,null,"","",""]
[{"$f":"'FEA___(MPG-2)'!A51","v":""},null,{"$f":"'FEA___(MPG-2)'!D51","v":""},null,{"$f":"'FEA___(MPG-2)'!F51","v":""},{"$f":"IF('FEA___(MPG-2)'!$B51,VLOOKUP($E51,GRLU,5,FALSE),\"\")","v":""},{"$f":"IF('FEA___(MPG-2)'!$B51,VLOOKUP($E51,GRLU,6,FALSE),\"\")","v":""},null,{"$f":"IF('FEA___(MPG-2)'!$B51,VLOOKUP($E51,GRLU,8,FALSE),\"\")","v":""},{"$f":"IF('FEA___(MPG-2)'!$B51,VLOOKUP($E51,GRLU,9,FALSE),\"\")","v":""},null,{"$f":"IF('FEA___(MPG-2)'!$B51,VLOOKUP($E51,GRLU,11,FALSE),\"\")","v":""},{"$f":"IF('FEA___(MPG-2)'!$B51,VLOOKUP($E51,GRLU,12,FALSE),\"\")","v":""},null,{"$f":"IF('FEA___(MPG-2)'!$B51,AVERAGEIF(S51:U51,\">0\"),\"\")","v":""},null,null,null,"","",""]
[{"$f":"'FEA___(MPG-2)'!A52","v":""},null,{"$f":"'FEA___(MPG-2)'!D52","v":""},null,{"$f":"'FEA___(MPG-2)'!F52","v":""},{"$f":"IF('FEA___(MPG-2)'!$B52,VLOOKUP($E52,GRLU,5,FALSE),\"\")","v":""},{"$f":"IF('FEA___(MPG-2)'!$B52,VLOOKUP($E52,GRLU,6,FALSE),\"\")","v":""},null,{"$f":"IF('FEA___(MPG-2)'!$B52,VLOOKUP($E52,GRLU,8,FALSE),\"\")","v":""},{"$f":"IF('FEA___(MPG-2)'!$B52,VLOOKUP($E52,GRLU,9,FALSE),\"\")","v":""},null,{"$f":"IF('FEA___(MPG-2)'!$B52,VLOOKUP($E52,GRLU,11,FALSE),\"\")","v":""},{"$f":"IF('FEA___(MPG-2)'!$B52,VLOOKUP($E52,GRLU,12,FALSE),\"\")","v":""},null,{"$f":"IF('FEA___(MPG-2)'!$B52,AVERAGEIF(S52:U52,\">0\"),\"\")","v":""},null,null,null,"","",""]
[{"$f":"'FEA___(MPG-2)'!A53","v":""},null,{"$f":"'FEA___(MPG-2)'!D53","v":""},null,{"$f":"'FEA___(MPG-2)'!F53","v":""},{"$f":"IF('FEA___(MPG-2)'!$B53,VLOOKUP($E53,GRLU,5,FALSE),\"\")","v":""},{"$f":"IF('FEA___(MPG-2)'!$B53,VLOOKUP($E53,GRLU,6,FALSE),\"\")","v":""},null,{"$f":"IF('FEA___(MPG-2)'!$B53,VLOOKUP($E53,GRLU,8,FALSE),\"\")","v":""},{"$f":"IF('FEA___(MPG-2)'!$B53,VLOOKUP($E53,GRLU,9,FALSE),\"\")","v":""},null,{"$f":"IF('FEA___(MPG-2)'!$B53,VLOOKUP($E53,GRLU,11,FALSE),\"\")","v":""},{"$f":"IF('FEA___(MPG-2)'!$B53,VLOOKUP($E53,GRLU,12,FALSE),\"\")","v":""},null,{"$f":"IF('FEA___(MPG-2)'!$B53,AVERAGEIF(S53:U53,\">0\"),\"\")","v":""},null,null,null,"","",""]
[{"$f":"'FEA___(MPG-2)'!A54","v":""},null,{"$f":"'FEA___(MPG-2)'!D54","v":""},null,{"$f":"'FEA___(MPG-2)'!F54","v":""},{"$f":"IF('FEA___(MPG-2)'!$B54,VLOOKUP($E54,GRLU,5,FALSE),\"\")","v":""},{"$f":"IF('FEA___(MPG-2)'!$B54,VLOOKUP($E54,GRLU,6,FALSE),\"\")","v":""},null,{"$f":"IF('FEA___(MPG-2)'!$B54,VLOOKUP($E54,GRLU,8,FALSE),\"\")","v":""},{"$f":"IF('FEA___(MPG-2)'!$B54,VLOOKUP($E54,GRLU,9,FALSE),\"\")","v":""},null,{"$f":"IF('FEA___(MPG-2)'!$B54,VLOOKUP($E54,GRLU,11,FALSE),\"\")","v":""},{"$f":"IF('FEA___(MPG-2)'!$B54,VLOOKUP($E54,GRLU,12,FALSE),\"\")","v":""},null,{"$f":"IF('FEA___(MPG-2)'!$B54,AVERAGEIF(S54:U54,\">0\"),\"\")","v":""},null,null,null,"","",""]
[{"$f":"'FEA___(MPG-2)'!A55","v":""},null,{"$f":"'FEA___(MPG-2)'!D55","v":""},null,{"$f":"'FEA___(MPG-2)'!F55","v":""},{"$f":"IF('FEA___(MPG-2)'!$B55,VLOOKUP($E55,GRLU,5,FALSE),\"\")","v":""},{"$f":"IF('FEA___(MPG-2)'!$B55,VLOOKUP($E55,GRLU,6,FALSE),\"\")","v":""},null,{"$f":"IF('FEA___(MPG-2)'!$B55,VLOOKUP($E55,GRLU,8,FALSE),\"\")","v":""},{"$f":"IF('FEA___(MPG-2)'!$B55,VLOOKUP($E55,GRLU,9,FALSE),\"\")","v":""},null,{"$f":"IF('FEA___(MPG-2)'!$B55,VLOOKUP($E55,GRLU,11,FALSE),\"\")","v":""},{"$f":"IF('FEA___(MPG-2)'!$B55,VLOOKUP($E55,GRLU,12,FALSE),\"\")","v":""},null,{"$f":"IF('FEA___(MPG-2)'!$B55,AVERAGEIF(S55:U55,\">0\"),\"\")","v":""},null,null,null,"","",""]
[{"$f":"'FEA___(MPG-2)'!A56","v":""},null,{"$f":"'FEA___(MPG-2)'!D56","v":""},null,{"$f":"'FEA___(MPG-2)'!F56","v":""},{"$f":"IF('FEA___(MPG-2)'!$B56,VLOOKUP($E56,GRLU,5,FALSE),\"\")","v":""},{"$f":"IF('FEA___(MPG-2)'!$B56,VLOOKUP($E56,GRLU,6,FALSE),\"\")","v":""},null,{"$f":"IF('FEA___(MPG-2)'!$B56,VLOOKUP($E56,GRLU,8,FALSE),\"\")","v":""},{"$f":"IF('FEA___(MPG-2)'!$B56,VLOOKUP($E56,GRLU,9,FALSE),\"\")","v":""},null,{"$f":"IF('FEA___(MPG-2)'!$B56,VLOOKUP($E56,GRLU,11,FALSE),\"\")","v":""},{"$f":"IF('FEA___(MPG-2)'!$B56,VLOOKUP($E56,GRLU,12,FALSE),\"\")","v":""},null,{"$f":"IF('FEA___(MPG-2)'!$B56,AVERAGEIF(S56:U56,\">0\"),\"\")","v":""},null,null,null,"","",""]
[{"$f":"'FEA___(MPG-2)'!A57","v":""},null,{"$f":"'FEA___(MPG-2)'!D57","v":""},null,{"$f":"'FEA___(MPG-2)'!F57","v":""},{"$f":"IF('FEA___(MPG-2)'!$B57,VLOOKUP($E57,GRLU,5,FALSE),\"\")","v":""},{"$f":"IF('FEA___(MPG-2)'!$B57,VLOOKUP($E57,GRLU,6,FALSE),\"\")","v":""},null,{"$f":"IF('FEA___(MPG-2)'!$B57,VLOOKUP($E57,GRLU,8,FALSE),\"\")","v":""},{"$f":"IF('FEA___(MPG-2)'!$B57,VLOOKUP($E57,GRLU,9,FALSE),\"\")","v":""},null,{"$f":"IF('FEA___(MPG-2)'!$B57,VLOOKUP($E57,GRLU,11,FALSE),\"\")","v":""},{"$f":"IF('FEA___(MPG-2)'!$B57,VLOOKUP($E57,GRLU,12,FALSE),\"\")","v":""},null,{"$f":"IF('FEA___(MPG-2)'!$B57,AVERAGEIF(S57:U57,\">0\"),\"\")","v":""},null,null,null,"","",""]
[{"$f":"'FEA___(MPG-2)'!A58","v":""},null,{"$f":"'FEA___(MPG-2)'!D58","v":""},null,{"$f":"'FEA___(MPG-2)'!F58","v":""},{"$f":"IF('FEA___(MPG-2)'!$B58,VLOOKUP($E58,GRLU,5,FALSE),\"\")","v":""},{"$f":"IF('FEA___(MPG-2)'!$B58,VLOOKUP($E58,GRLU,6,FALSE),\"\")","v":""},null,{"$f":"IF('FEA___(MPG-2)'!$B58,VLOOKUP($E58,GRLU,8,FALSE),\"\")","v":""},{"$f":"IF('FEA___(MPG-2)'!$B58,VLOOKUP($E58,GRLU,9,FALSE),\"\")","v":""},null,{"$f":"IF('FEA___(MPG-2)'!$B58,VLOOKUP($E58,GRLU,11,FALSE),\"\")","v":""},{"$f":"IF('FEA___(MPG-2)'!$B58,VLOOKUP($E58,GRLU,12,FALSE),\"\")","v":""},null,{"$f":"IF('FEA___(MPG-2)'!$B58,AVERAGEIF(S58:U58,\">0\"),\"\")","v":""},null,null,null,"","",""]
[{"$f":"'FEA___(MPG-2)'!A59","v":""},null,{"$f":"'FEA___(MPG-2)'!D59","v":""},null,{"$f":"'FEA___(MPG-2)'!F59","v":""},{"$f":"IF('FEA___(MPG-2)'!$B59,VLOOKUP($E59,GRLU,5,FALSE),\"\")","v":""},{"$f":"IF('FEA___(MPG-2)'!$B59,VLOOKUP($E59,GRLU,6,FALSE),\"\")","v":""},null,{"$f":"IF('FEA___(MPG-2)'!$B59,VLOOKUP($E59,GRLU,8,FALSE),\"\")","v":""},{"$f":"IF('FEA___(MPG-2)'!$B59,VLOOKUP($E59,GRLU,9,FALSE),\"\")","v":""},null,{"$f":"IF('FEA___(MPG-2)'!$B59,VLOOKUP($E59,GRLU,11,FALSE),\"\")","v":""},{"$f":"IF('FEA___(MPG-2)'!$B59,VLOOKUP($E59,GRLU,12,FALSE),\"\")","v":""},null,{"$f":"IF('FEA___(MPG-2)'!$B59,AVERAGEIF(S59:U59,\">0\"),\"\")","v":""},null,null,null,"","",""]
[{"$f":"'FEA___(MPG-2)'!A60","v":""},null,{"$f":"'FEA___(MPG-2)'!D60","v":""},null,{"$f":"'FEA___(MPG-2)'!F60","v":""},{"$f":"IF('FEA___(MPG-2)'!$B60,VLOOKUP($E60,GRLU,5,FALSE),\"\")","v":""},{"$f":"IF('FEA___(MPG-2)'!$B60,VLOOKUP($E60,GRLU,6,FALSE),\"\")","v":""},null,{"$f":"IF('FEA___(MPG-2)'!$B60,VLOOKUP($E60,GRLU,8,FALSE),\"\")","v":""},{"$f":"IF('FEA___(MPG-2)'!$B60,VLOOKUP($E60,GRLU,9,FALSE),\"\")","v":""},null,{"$f":"IF('FEA___(MPG-2)'!$B60,VLOOKUP($E60,GRLU,11,FALSE),\"\")","v":""},{"$f":"IF('FEA___(MPG-2)'!$B60,VLOOKUP($E60,GRLU,12,FALSE),\"\")","v":""},null,{"$f":"IF('FEA___(MPG-2)'!$B60,AVERAGEIF(S60:U60,\">0\"),\"\")","v":""},null,null,null,"","",""]
[{"$f":"'FEA___(MPG-2)'!A61","v":""},null,{"$f":"'FEA___(MPG-2)'!D61","v":""},null,{"$f":"'FEA___(MPG-2)'!F61","v":""},{"$f":"IF('FEA___(MPG-2)'!$B61,VLOOKUP($E61,GRLU,5,FALSE),\"\")","v":""},{"$f":"IF('FEA___(MPG-2)'!$B61,VLOOKUP($E61,GRLU,6,FALSE),\"\")","v":""},null,{"$f":"IF('FEA___(MPG-2)'!$B61,VLOOKUP($E61,GRLU,8,FALSE),\"\")","v":""},{"$f":"IF('FEA___(MPG-2)'!$B61,VLOOKUP($E61,GRLU,9,FALSE),\"\")","v":""},null,{"$f":"IF('FEA___(MPG-2)'!$B61,VLOOKUP($E61,GRLU,11,FALSE),\"\")","v":""},{"$f":"IF('FEA___(MPG-2)'!$B61,VLOOKUP($E61,GRLU,12,FALSE),\"\")","v":""},null,{"$f":"IF('FEA___(MPG-2)'!$B61,AVERAGEIF(S61:U61,\">0\"),\"\")","v":""},null,null,null,"","",""]
[]
[{"$f":"IF(C63=0,\"N/A\",MAX(A13:A62)+1)","v":14},null,"Average",null,null,{"$f":"AVERAGEIF(F12:F61,\">0\")","v":5.3230769230769234E-2},"N/A",null,{"$f":"AVERAGEIF(I12:I61,\">0\")","v":5.0454545454545467E-2},{"$f":"AVERAGE(J12:J61)","v":2.8181818181818183},null,{"$f":"AVERAGEIF(L12:L61,\">0\")","v":5.3759999999999995E-2},{"$f":"AVERAGE(M12:M61)","v":3.8},null,{"$f":"AVERAGEIF(O12:O62,\">0\")","v":5.2669230769230774E-2}]
[]
[]
[]
[null," Sources:"]
[null,{"$f":"A68+1","v":1},{"$f":"\"Zacks Elite, http://www.zackselite.com/, downloaded on \" & TEXT($T$9,\"mmmm d, yyyy\") &\".\"","v":"Zacks Elite, http://www.zackselite.com/, downloaded on March 27, 2014."}]
[null,{"$f":"+B68+1","v":2},{"$f":"\"SNL Interactive, http://www.snl.com/, downloaded on \" &  TEXT($T$9,\"mmmm d, yyyy\") & \".\"","v":"SNL Interactive, http://www.snl.com/, downloaded on March 27, 2014."}]
[null,3,{"$f":"\"Reuters, http://www.reuters.com/, downloaded on \" &  TEXT($T$9,\"mmmm d, yyyy\") & \".\"","v":"Reuters, http://www.reuters.com/, downloaded on March 27, 2014."}]

{"sheet":"FEA___(MPG-4)","index":4,"n_rows":70,"n_cols":13,"rows_kept":70,"cut":false,"hidden":false,"merged":[[0,0,0,9],[3,0,3,9],[4,0,4,9],[8,2,8,4],[66,1,66,2]]}
[{"$f":"'FEA___(MPG-2)'!A1","v":"Rocky Mountain Power"}]
[]
[]
["Constant Growth DCF Model"]
["(Consensus Analysts' Growth Rates)"]
[]
[]
[null,null,null,null,null,"13-Week AVG","Analysts'","Annualized","Adjusted","Constant"]
["Line",null,"Company",null,null,"Stock Price1","Growth2","Dividend3","Yield","Growth DCF",null,null,"2014-03-31"]
[null,null,null,null,null,"(1)","(2)","(3)","(4)","(5)"]
[]
[{"$f":"'FEA___(MPG-2)'!A12","v":1},null,{"$f":"'FEA___(MPG-2)'!D12","v":"ALLETE, Inc."},null,{"$f":"'FEA___(MPG-2)'!F12","v":"ALE"},{"$f":"+'Stock Prices (WP)'!D5","v":50.052692307692311},{"$f":"+'FEA___(MPG-3)'!O12","v":0.06},{"$f":"IF(ISNUMBER(A12),IFERROR(VLOOKUP(E12,VLLU,4,FALSE)*4,\"N/A\"),\"\")","v":1.96},{"$f":"IF(ISNUMBER(A12),IFERROR(H12*(1+G12)/F12,\"N/A\"),\"\")","v":4.1508256683341398E-2},{"$f":"IF(ISNUMBER(A12),IFERROR(G12+I12,\"N/A\"),\"\")","v":0.1015082566833414}]
[{"$f":"'FEA___(MPG-2)'!A13","v":2},null,{"$f":"'FEA___(MPG-2)'!D13","v":"Alliant Energy Corporation"},null,{"$f":"'FEA___(MPG-2)'!F13","v":"LNT"},{"$f":"+'Stock Prices (WP)'!D6","v":52.68884615384615},{"$f":"+'FEA___(MPG-3)'!O13","v":5.5E-2},{"$f":"IF(ISNUMBER(A13),IFERROR(VLOOKUP(E13,VLLU,4,FALSE)*4,\"N/A\"),\"\")","v":2.04},{"$f":"IF(ISNUMBER(A13),IFERROR(H13*(1+G13)/F13,\"N/A\"),\"\")","v":4.0847354935725708E-2},{"$f":"IF(ISNUMBER(A13),IFERROR(G13+I13,\"N/A\"),\"\")","v":9.5847354935725715E-2}]
[{"$f":"'FEA___(MPG-2)'!A14","v":3},null,{"$f":"'FEA___(MPG-2)'!D14","v":"Avista Corporation"},null,{"$f":"'FEA___(MPG-2)'!F14","v":"AVA"},{"$f":"+'Stock Prices (WP)'!D7","v":29.042692307692302},{"$f":"+'FEA___(MPG-3)'!O14","v":0.05},1.22,4.410748102925402E-2,9.4107481029254023E-2]
[{"$f":"'FEA___(MPG-2)'!A15","v":4},null,{"$f":"'FEA___(MPG-2)'!D15","v":"DTE Energy Company"},null,{"$f":"'FEA___(MPG-2)'!F15","v":"DTE"},{"$f":"+'Stock Prices (WP)'!D8","v":69.032307692307697},{"$f":"+'FEA___(MPG-3)'!O15","v":5.736666666666667E-2},2.62,4.0130494825908337E-2,9.7497161492575007E-2]
[{"$f":"'FEA___(MPG-2)'!A16","v":5},null,{"$f":"'FEA___(MPG-2)'!D16","v":"IDACORP, Inc."},null,{"$f":"'FEA___(MPG-2)'!F16","v":"IDA"},{"$f":"+'Stock Prices (WP)'!D9","v":53.559615384615377},{"$f":"+'FEA___(MPG-3)'!O16","v":0.04},1.72,3.3398298086244664E-2,7.3398298086244665E-2]
[{"$f":"'FEA___(MPG-2)'!A17","v":6},null,{"$f":"'FEA___(MPG-2)'!D17","v":"Integrys Energy Group, Inc."},null,{"$f":"'FEA___(MPG-2)'!F17","v":"TEG"},{"$f":"+'Stock Prices (WP)'!D10","v":55.359615384615381},{"$f":"+'FEA___(MPG-3)'!O17","v":4.9500000000000002E-2},2.72,5.1565387153923656E-2,0.10106538715392366]
[{"$f":"'FEA___(MPG-2)'!A18","v":7},null,{"$f":"'FEA___(MPG-2)'!D18","v":"NextEra Energy, Inc."},null,{"$f":"'FEA___(MPG-2)'!F18","v":"NEE"},{"$f":"+'Stock Prices (WP)'!D11","v":90.296153846153842},{"$f":"+'FEA___(MPG-3)'!O18","v":6.2266666666666665E-2},2.64,3.105762405758828E-2,9.3324290724254938E-2]
[{"$f":"'FEA___(MPG-2)'!A19","v":8},null,{"$f":"'FEA___(MPG-2)'!D19","v":"Portland General Electric Company"},null,{"$f":"'FEA___(MPG-2)'!F19","v":"POR"},{"$f":"+'Stock Prices (WP)'!D12","v":30.797692307692312},{"$f":"+'FEA___(MPG-3)'!O19","v":7.690000000000001E-2},1.1000000000000001,3.846359617353947E-2,0.11536359617353947]
[{"$f":"'FEA___(MPG-2)'!A20","v":9},null,{"$f":"'FEA___(MPG-2)'!D20","v":"Sempra Energy"},null,{"$f":"'FEA___(MPG-2)'!F20","v":"SRE"},{"$f":"+'Stock Prices (WP)'!D13","v":92.834230769230757},{"$f":"+'FEA___(MPG-3)'!O20","v":6.2933333333333327E-2},2.52,2.8853494856423158E-2,9.1786828189756489E-2]
[{"$f":"'FEA___(MPG-2)'!A21","v":10},null,{"$f":"'FEA___(MPG-2)'!D21","v":"Southern Company"},null,{"$f":"'FEA___(MPG-2)'!F21","v":"SO"},{"$f":"+'Stock Prices (WP)'!D14","v":41.858461538461533},{"$f":"+'FEA___(MPG-3)'!O21","v":3.7566666666666672E-2},2.0299999999999998,5.0318627487013629E-2,8.7885294153680293E-2]
[{"$f":"'FEA___(MPG-2)'!A22","v":11},null,{"$f":"'FEA___(MPG-2)'!D22","v":"Westar Energy, Inc."},null,{"$f":"'FEA___(MPG-2)'!F22","v":"WR"},{"$f":"+'Stock Prices (WP)'!D15","v":33.552692307692311},{"$f":"+'FEA___(MPG-3)'!O22","v":3.4333333333333334E-2},1.4,4.3157987245473053E-2,7.7491320578806394E-2]
[{"$f":"'FEA___(MPG-2)'!A23","v":12},null,{"$f":"'FEA___(MPG-2)'!D23","v":"Wisconsin Energy Corporation"},null,{"$f":"'FEA___(MPG-2)'!F23","v":"WEC"},{"$f":"+'Stock Prices (WP)'!D16","v":42.946923076923071},{"$f":"+'FEA___(MPG-3)'!O23","v":5.0866666666666671E-2},1.56,3.8171582095968194E-2,8.9038248762634858E-2]
[{"$f":"'FEA___(MPG-2)'!A24","v":13},null,{"$f":"'FEA___(MPG-2)'!D24","v":"Xcel Energy Inc."},null,{"$f":"'FEA___(MPG-2)'!F24","v":"XEL"},{"$f":"+'Stock Prices (WP)'!D17","v":29.09},{"$f":"+'FEA___(MPG-3)'!O24","v":4.7966666666666664E-2},1.1200000000000001,4.0347977540964829E-2,8.8314644207631493E-2]
[{"$f":"'FEA___(MPG-2)'!A25","v":""},null,{"$f":"'FEA___(MPG-2)'!D25","v":""},null,{"$f":"'FEA___(MPG-2)'!F25","v":""},{"$f":"+'Stock Prices (WP)'!D18","v":""},{"$f":"+'FEA___(MPG-3)'!O25","v":""},"","",""]
[{"$f":"'FEA___(MPG-2)'!A26","v":""},null,{"$f":"'FEA___(MPG-2)'!D26","v":""},null,{"$f":"'FEA___(MPG-2)'!F26","v":""},{"$f":"+'Stock Prices (WP)'!D19","v":""},{"$f":"+'FEA___(MPG-3)'!O26","v":""},"","",""]
[{"$f":"'FEA___(MPG-2)'!A27","v":""},null,{"$f":"'FEA___(MPG-2)'!D27","v":""},null,{"$f":"'FEA___(MPG-2)'!F27","v":""},{"$f":"+'Stock Prices (WP)'!D20","v":""},{"$f":"+'FEA___(MPG-3)'!O27","v":""},"","",""]
[{"$f":"'FEA___(MPG-2)'!A28","v":""},null,{"$f":"'FEA___(MPG-2)'!D28","v":""},null,{"$f":"'FEA___(MPG-2)'!F28","v":""},{"$f":"+'Stock Prices (WP)'!D21","v":""},{"$f":"+'FEA___(MPG-3)'!O28","v":""},"","",""]
[{"$f":"'FEA___(MPG-2)'!A29","v":""},null,{"$f":"'FEA___(MPG-2)'!D29","v":""},null,{"$f":"'FEA___(MPG-2)'!F29","v":""},{"$f":"+'Stock Prices (WP)'!D22","v":""},{"$f":"+'FEA___(MPG-3)'!O29","v":""},"","",""]
[{"$f":"'FEA___(MPG-2)'!A30","v":""},null,{"$f":"'FEA___(MPG-2)'!D30","v":""},null,{"$f":"'FEA___(MPG-2)'!F30","v":""},{"$f":"+'Stock Prices (WP)'!D23","v":""},{"$f":"+'FEA___(MPG-3)'!O30","v":""},"","",""]
[{"$f":"'FEA___(MPG-2)'!A31","v":""},null,{"$f":"'FEA___(MPG-2)'!D31","v":""},null,{"$f":"'FEA___(MPG-2)'!F31","v":""},{"$f":"+'Stock Prices (WP)'!D24","v":""},{"$f":"+'FEA___(MPG-3)'!O31","v":""},"","",""]
[{"$f":"'FEA___(MPG-2)'!A32","v":""},null,{"$f":"'FEA___(MPG-2)'!D32","v":""},null,{"$f":"'FEA___(MPG-2)'!F32","v":""},{"$f":"+'Stock Prices (WP)'!D25","v":""},{"$f":"+'FEA___(MPG-3)'!O32","v":""},"","",""]
[{"$f":"'FEA___(MPG-2)'!A33","v":""},null,{"$f":"'FEA___(MPG-2)'!D33","v":""},null,{"$f":"'FEA___(MPG-2)'!F33","v":""},{"$f":"+'Stock Prices (WP)'!D26","v":""},{"$f":"+'FEA___(MPG-3)'!O33","v":""},"","",""]
[{"$f":"'FEA___(MPG-2)'!A34","v":""},null,{"$f":"'FEA___(MPG-2)'!D34","v":""},null,{"$f":"'FEA___(MPG-2)'!F34","v":""},{"$f":"+'Stock Prices (WP)'!D27","v":""},{"$f":"+'FEA___(MPG-3)'!O34","v":""},"","",""]
[{"$f":"'FEA___(MPG-2)'!A35","v":""},null,{"$f":"'FEA___(MPG-2)'!D35","v":""},null,{"$f":"'FEA___(MPG-2)'!F35","v":""},{"$f":"+'Stock Prices (WP)'!D28","v":""},{"$f":"+'FEA___(MPG-3)'!O35","v":""},"","",""]
[{"$f":"'FEA___(MPG-2)'!A36","v":""},null,{"$f":"'FEA___(MPG-2)'!D36","v":""},null,{"$f":"'FEA___(MPG-2)'!F36","v":""},{"$f":"+'Stock Prices (WP)'!D29","v":""},{"$f":"+'FEA___(MPG-3)'!O36","v":""},"","",""]
[{"$f":"'FEA___(MPG-2)'!A37","v":""},null,{"$f":"'FEA___(MPG-2)'!D37","v":""},null,{"$f":"'FEA___(MPG-2)'!F37","v":""},{"$f":"+'Stock Prices (WP)'!D30","v":""},{"$f":"+'FEA___(MPG-3)'!O37","v":""},"","",""]
[{"$f":"'FEA___(MPG-2)'!A38","v":""},null,{"$f":"'FEA___(MPG-2)'!D38","v":""},null,{"$f":"'FEA___(MPG-2)'!F38","v":""},{"$f":"+'Stock Prices (WP)'!D31","v":""},{"$f":"+'FEA___(MPG-3)'!O38","v":""},"","",""]
[{"$f":"'FEA___(MPG-2)'!A39","v":""},null,{"$f":"'FEA___(MPG-2)'!D39","v":""},null,{"$f":"'FEA___(MPG-2)'!F39","v":""},{"$f":"+'Stock Prices (WP)'!D32","v":""},{"$f":"+'FEA___(MPG-3)'!O39","v":""},"","",""]
[{"$f":"'FEA___(MPG-2)'!A40","v":""},null,{"$f":"'FEA___(MPG-2)'!D40","v":""},null,{"$f":"'FEA___(MPG-2)'!F40","v":""},{"$f":"+'Stock Prices (WP)'!D33","v":""},{"$f":"+'FEA___(MPG-3)'!O40","v":""},"","",""]
[{"$f":"'FEA___(MPG-2)'!A41","v":""},null,{"$f":"'FEA___(MPG-2)'!D41","v":""},null,{"$f":"'FEA___(MPG-2)'!F41","v":""},{"$f":"+'Stock Prices (WP)'!D34","v":""},{"$f":"+'FEA___(MPG-3)'!O41","v":""},"","",""]
[{"$f":"'FEA___(MPG-2)'!A42","v":""},null,{"$f":"'FEA___(MPG-2)'!D42","v":""},null,{"$f":"'FEA___(MPG-2)'!F42","v":""},{"$f":"+'Stock Prices (WP)'!D35","v":""},{"$f":"+'FEA___(MPG-3)'!O42","v":""},"","",""]
[{"$f":"'FEA___(MPG-2)'!A43","v":""},null,{"$f":"'FEA___(MPG-2)'!D43","v":""},null,{"$f":"'FEA___(MPG-2)'!F43","v":""},{"$f":"+'Stock Prices (WP)'!D36","v":""},{"$f":"+'FEA___(MPG-3)'!O43","v":""},"","",""]
[{"$f":"'FEA___(MPG-2)'!A44","v":""},null,{"$f":"'FEA___(MPG-2)'!D44","v":""},null,{"$f":"'FEA___(MPG-2)'!F44","v":""},{"$f":"+'Stock Prices (WP)'!D37","v":""},{"$f":"+'FEA___(MPG-3)'!O44","v":""},"","",""]
[{"$f":"'FEA___(MPG-2)'!A45","v":""},null,{"$f":"'FEA___(MPG-2)'!D45","v":""},null,{"$f":"'FEA___(MPG-2)'!F45","v":""},{"$f":"+'Stock Prices (WP)'!D38","v":""},{"$f":"+'FEA___(MPG-3)'!O45","v":""},"","",""]
[{"$f":"'FEA___(MPG-2)'!A46","v":""},null,{"$f":"'FEA___(MPG-2)'!D46","v":""},null,{"$f":"'FEA___(MPG-2)'!F46","v":""},{"$f":"+'Stock Prices (WP)'!D39","v":""},{"$f":"+'FEA___(MPG-3)'!O46","v":""},"","",""]
[{"$f":"'FEA___(MPG-2)'!A47","v":""},null,{"$f":"'FEA___(MPG-2)'!D47","v":""},null,{"$f":"'FEA___(MPG-2)'!F47","v":""},{"$f":"+'Stock Prices (WP)'!D40","v":""},{"$f":"+'FEA___(MPG-3)'!O47","v":""},"","",""]
[{"$f":"'FEA___(MPG-2)'!A48","v":""},null,{"$f":"'FEA___(MPG-2)'!D48","v":""},null,{"$f":"'FEA___(MPG-2)'!F48","v":""},{"$f":"+'Stock Prices (WP)'!D41","v":""},{"$f":"+'FEA___(MPG-3)'!O48","v":""},"","",""]
[{"$f":"'FEA___(MPG-2)'!A49","v":""},null,{"$f":"'FEA___(MPG-2)'!D49","v":""},null,{"$f":"'FEA___(MPG-2)'!F49","v":""},{"$f":"+'Stock Prices (WP)'!D42","v":""},{"$f":"+'FEA___(MPG-3)'!O49","v":""},"","",""]
[{"$f":"'FEA___(MPG-2)'!A50","v":""},null,{"$f":"'FEA___(MPG-2)'!D50","v":""},null,{"$f":"'FEA___(MPG-2)'!F50","v":""},{"$f":"+'Stock Prices (WP)'!D43","v":""},{"$f":"+'FEA___(MPG-3)'!O50","v":""},"","",""]
[{"$f":"'FEA___(MPG-2)'!A51","v":""},null,{"$f":"'FEA___(MPG-2)'!D51","v":""},null,{"$f":"'FEA___(MPG-2)'!F51","v":""},{"$f":"+'Stock Prices (WP)'!D44","v":""},{"$f":"+'FEA___(MPG-3)'!O51","v":""},"","",""]
[{"$f":"'FEA___(MPG-2)'!A52","v":""},null,{"$f":"'FEA___(MPG-2)'!D52","v":""},null,{"$f":"'FEA___(MPG-2)'!F52","v":""},{"$f":"+'Stock Prices (WP)'!D45","v":""},{"$f":"+'FEA___(MPG-3)'!O52","v":""},"","",""]
[{"$f":"'FEA___(MPG-2)'!A53","v":""},null,{"$f":"'FEA___(MPG-2)'!D53","v":""},null,{"$f":"'FEA___(MPG-2)'!F53","v":""},{"$f":"+'Stock Prices (WP)'!D46","v":""},{"$f":"+'FEA___(MPG-3)'!O53","v":""},"","",""]
[{"$f":"'FEA___(MPG-2)'!A54","v":""},null,{"$f":"'FEA___(MPG-2)'!D54","v":""},null,{"$f":"'FEA___(MPG-2)'!F54","v":""},{"$f":"+'Stock Prices (WP)'!D47","v":""},{"$f":"+'FEA___(MPG-3)'!O54","v":""},"","",""]
[{"$f":"'FEA___(MPG-2)'!A55","v":""},null,{"$f":"'FEA___(MPG-2)'!D55","v":""},null,{"$f":"'FEA___(MPG-2)'!F55","v":""},{"$f":"+'Stock Prices (WP)'!D48","v":""},{"$f":"+'FEA___(MPG-3)'!O55","v":""},"","",""]
[{"$f":"'FEA___(MPG-2)'!A56","v":""},null,{"$f":"'FEA___(MPG-2)'!D56","v":""},null,{"$f":"'FEA___(MPG-2)'!F56","v":""},{"$f":"+'Stock Prices (WP)'!D49","v":""},{"$f":"+'FEA___(MPG-3)'!O56","v":""},"","",""]
[{"$f":"'FEA___(MPG-2)'!A57","v":""},null,{"$f":"'FEA___(MPG-2)'!D57","v":""},null,{"$f":"'FEA___(MPG-2)'!F57","v":""},{"$f":"+'Stock Prices (WP)'!D50","v":""},{"$f":"+'FEA___(MPG-3)'!O57","v":""},"","",""]
[{"$f":"'FEA___(MPG-2)'!A58","v":""},null,{"$f":"'FEA___(MPG-2)'!D58","v":""},null,{"$f":"'FEA___(MPG-2)'!F58","v":""},{"$f":"+'Stock Prices (WP)'!D51","v":""},{"$f":"+'FEA___(MPG-3)'!O58","v":""},"","",""]
[{"$f":"'FEA___(MPG-2)'!A59","v":""},null,{"$f":"'FEA___(MPG-2)'!D59","v":""},null,{"$f":"'FEA___(MPG-2)'!F59","v":""},{"$f":"+'Stock Prices (WP)'!D52","v":""},{"$f":"+'FEA___(MPG-3)'!O59","v":""},"","",""]
[{"$f":"'FEA___(MPG-2)'!A60","v":""},null,{"$f":"'FEA___(MPG-2)'!D60","v":""},null,{"$f":"'FEA___(MPG-2)'!F60","v":""},{"$f":"+'Stock Prices (WP)'!D53","v":""},{"$f":"+'FEA___(MPG-3)'!O60","v":""},"","",""]
[{"$f":"'FEA___(MPG-2)'!A61","v":""},null,{"$f":"'FEA___(MPG-2)'!D61","v":""},null,{"$f":"'FEA___(MPG-2)'!F61","v":""},{"$f":"+'Stock Prices (WP)'!D54","v":""},{"$f":"+'FEA___(MPG-3)'!O61","v":""},"","",""]
[{"$f":"IF(C62=0,\"\",MAX(#REF!)+1)","v":""}]
[{"$f":"IF(C63=0,\"\",MAX(A21:A62)+1)","v":14},null,"Average",null,null,{"$f":"AVERAGE(F12:F61)","v":51.623994082840234},{"$f":"AVERAGE(G12:G61)","v":5.2669230769230774E-2},{"$f":"AVERAGE(H12:H61)","v":1.8961538461538463},{"$f":"AVERAGE(I12:I61)","v":4.014832016702833E-2},{"$f":"AVERAGE(J12:J61)","v":9.2817550936259111E-2}]
[{"$f":"IF(C64=0,\"\",MAX(A62:A63)+1)","v":15},null,"Median",null,null,null,null,null,null,{"$f":"MEDIAN(J12:J61)","v":9.3324290724254938E-2}]
[]
[]
[null," Sources:"]
[null,{"$f":"+A68+1","v":1},{"$f":"\"SNL Financial, Downloaded on \"& TEXT($M$9,\"mmmm d, yyyy.\")","v":"SNL Financial, Downloaded on March 31, 2014."}]
[null,{"$f":"+B68+1","v":2},"Exhibit MPG-3."]
[null,{"$f":"+B69+1","v":3},"The Value Line Investment Survey, January 31, February 21, and March 21, 2014."]

{"sheet":"FEA___(MPG-5)","index":5,"n_rows":68,"n_cols":12,"rows_kept":68,"cut":false,"hidden":false,"merged":[[8,1,8,3],[0,0,0,11],[3,0,3,11],[7,4,7,5],[7,7,7,8],[7,10,7,11]]}
[{"$f":"'FEA___(MPG-2)'!A1","v":"Rocky Mountain Power"}]
[]
[]
["Payout Ratios"]
[]
[]
[]
[null,null,null,null,"Dividends Per Share",null,null,"Earnings Per Share",null,null,"Payout Ratio"]
["Line","Company",null,null,2012,"Projected",null,2012,"Projected",null,2012,"Projected"]
[null,null,null,null,"(1)","(2)",null,"(3)","(4)",null,"(5)","(6)"]
[]
[{"$f":"'FEA___(MPG-2)'!A12","v":1},{"$f":"'FEA___(MPG-2)'!D12","v":"ALLETE, Inc."},null,{"$f":"'FEA___(MPG-2)'!F12","v":"ALE"},{"$f":"IF('FEA___(MPG-2)'!$B12,VLOOKUP(D12,VLLU,14,FALSE),\"\")","v":1.9},{"$f":"IF('FEA___(MPG-2)'!$B12,VLOOKUP(D12,VLLU,15,FALSE),\"\")","v":2.2999999999999998},null,{"$f":"IF('FEA___(MPG-2)'!$B12,VLOOKUP(D12,VLLU,17,FALSE),\"\")","v":2.63},{"$f":"IF('FEA___(MPG-2)'!$B12,VLOOKUP(D12,VLLU,18,FALSE),\"\")","v":3.75},null,{"$f":"IF('FEA___(MPG-2)'!$B12,IFERROR(E12/H12,\"N/A\"),\"\")","v":0.72243346007604559},{"$f":"IF('FEA___(MPG-2)'!$B12,IFERROR(F12/I12,\"N/A\"),\"\")","v":0.61333333333333329}]
[{"$f":"'FEA___(MPG-2)'!A13","v":2},{"$f":"'FEA___(MPG-2)'!D13","v":"Alliant Energy Corporation"},null,{"$f":"'FEA___(MPG-2)'!F13","v":"LNT"},{"$f":"IF('FEA___(MPG-2)'!$B13,VLOOKUP(D13,VLLU,14,FALSE),\"\")","v":1.88},{"$f":"IF('FEA___(MPG-2)'!$B13,VLOOKUP(D13,VLLU,15,FALSE),\"\")","v":2.4},null,{"$f":"IF('FEA___(MPG-2)'!$B13,VLOOKUP(D13,VLLU,17,FALSE),\"\")","v":3.29},{"$f":"IF('FEA___(MPG-2)'!$B13,VLOOKUP(D13,VLLU,18,FALSE),\"\")","v":4},null,{"$f":"IF('FEA___(MPG-2)'!$B13,IFERROR(E13/H13,\"N/A\"),\"\")","v":0.5714285714285714},{"$f":"IF('FEA___(MPG-2)'!$B13,IFERROR(F13/I13,\"N/A\"),\"\")","v":0.6}]
[{"$f":"'FEA___(MPG-2)'!A14","v":3},{"$f":"'FEA___(MPG-2)'!D14","v":"Avista Corporation"},null,{"$f":"'FEA___(MPG-2)'!F14","v":"AVA"},{"$f":"IF('FEA___(MPG-2)'!$B14,VLOOKUP(D14,VLLU,14,FALSE),\"\")","v":1.22},{"$f":"IF('FEA___(MPG-2)'!$B14,VLOOKUP(D14,VLLU,15,FALSE),\"\")","v":1.4},null,{"$f":"IF('FEA___(MPG-2)'!$B14,VLOOKUP(D14,VLLU,17,FALSE),\"\")","v":1.8},{"$f":"IF('FEA___(MPG-2)'!$B14,VLOOKUP(D14,VLLU,18,FALSE),\"\")","v":2.25},null,{"$f":"IF('FEA___(MPG-2)'!$B14,IFERROR(E14/H14,\"N/A\"),\"\")","v":0.6777777777777777},{"$f":"IF('FEA___(MPG-2)'!$B14,IFERROR(F14/I14,\"N/A\"),\"\")","v":0.62222222222222223}]
[{"$f":"'FEA___(MPG-2)'!A15","v":4},{"$f":"'FEA___(MPG-2)'!D15","v":"DTE Energy Company"},null,{"$f":"'FEA___(MPG-2)'!F15","v":"DTE"},{"$f":"IF('FEA___(MPG-2)'!$B15,VLOOKUP(D15,VLLU,14,FALSE),\"\")","v":2.59},{"$f":"IF('FEA___(MPG-2)'!$B15,VLOOKUP(D15,VLLU,15,FALSE),\"\")","v":3.35},null,{"$f":"IF('FEA___(MPG-2)'!$B15,VLOOKUP(D15,VLLU,17,FALSE),\"\")","v":3.76},{"$f":"IF('FEA___(MPG-2)'!$B15,VLOOKUP(D15,VLLU,18,FALSE),\"\")","v":5.25},null,{"$f":"IF('FEA___(MPG-2)'!$B15,IFERROR(E15/H15,\"N/A\"),\"\")","v":0.68882978723404253},{"$f":"IF('FEA___(MPG-2)'!$B15,IFERROR(F15/I15,\"N/A\"),\"\")","v":0.63809523809523816}]
[{"$f":"'FEA___(MPG-2)'!A16","v":5},{"$f":"'FEA___(MPG-2)'!D16","v":"IDACORP, Inc."},null,{"$f":"'FEA___(MPG-2)'!F16","v":"IDA"},{"$f":"IF('FEA___(MPG-2)'!$B16,VLOOKUP(D16,VLLU,14,FALSE),\"\")","v":1.57},{"$f":"IF('FEA___(MPG-2)'!$B16,VLOOKUP(D16,VLLU,15,FALSE),\"\")","v":2.2000000000000002},null,{"$f":"IF('FEA___(MPG-2)'!$B16,VLOOKUP(D16,VLLU,17,FALSE),\"\")","v":3.5},{"$f":"IF('FEA___(MPG-2)'!$B16,VLOOKUP(D16,VLLU,18,FALSE),\"\")","v":3.6},null,{"$f":"IF('FEA___(MPG-2)'!$B16,IFERROR(E16/H16,\"N/A\"),\"\")","v":0.44857142857142857},{"$f":"IF('FEA___(MPG-2)'!$B16,IFERROR(F16/I16,\"N/A\"),\"\")","v":0.61111111111111116}]
[{"$f":"'FEA___(MPG-2)'!A17","v":6},{"$f":"'FEA___(MPG-2)'!D17","v":"Integrys Energy Group, Inc."},null,{"$f":"'FEA___(MPG-2)'!F17","v":"TEG"},{"$f":"IF('FEA___(MPG-2)'!$B17,VLOOKUP(D17,VLLU,14,FALSE),\"\")","v":2.72},{"$f":"IF('FEA___(MPG-2)'!$B17,VLOOKUP(D17,VLLU,15,FALSE),\"\")","v":3},null,{"$f":"IF('FEA___(MPG-2)'!$B17,VLOOKUP(D17,VLLU,17,FALSE),\"\")","v":4.33},{"$f":"IF('FEA___(MPG-2)'!$B17,VLOOKUP(D17,VLLU,18,FALSE),\"\")","v":4.5},null,{"$f":"IF('FEA___(MPG-2)'!$B17,IFERROR(E17/H17,\"N/A\"),\"\")","v":0.62817551963048501},{"$f":"IF('FEA___(MPG-2)'!$B17,IFERROR(F17/I17,\"N/A\"),\"\")","v":0.66666666666666663}]
[{"$f":"'FEA___(MPG-2)'!A18","v":7},{"$f":"'FEA___(MPG-2)'!D18","v":"NextEra Energy, Inc."},null,{"$f":"'FEA___(MPG-2)'!F18","v":"NEE"},{"$f":"IF('FEA___(MPG-2)'!$B18,VLOOKUP(D18,VLLU,14,FALSE),\"\")","v":2.64},{"$f":"IF('FEA___(MPG-2)'!$B18,VLOOKUP(D18,VLLU,15,FALSE),\"\")","v":3.9},null,{"$f":"IF('FEA___(MPG-2)'!$B18,VLOOKUP(D18,VLLU,17,FALSE),\"\")","v":4.83},{"$f":"IF('FEA___(MPG-2)'!$B18,VLOOKUP(D18,VLLU,18,FALSE),\"\")","v":6.5},null,{"$f":"IF('FEA___(MPG-2)'!$B18,IFERROR(E18/H18,\"N/A\"),\"\")","v":0.54658385093167705},{"$f":"IF('FEA___(MPG-2)'!$B18,IFERROR(F18/I18,\"N/A\"),\"\")","v":0.6}]
[{"$f":"'FEA___(MPG-2)'!A19","v":8},{"$f":"'FEA___(MPG-2)'!D19","v":"Portland General Electric Company"},null,{"$f":"'FEA___(MPG-2)'!F19","v":"POR"},{"$f":"IF('FEA___(MPG-2)'!$B19,VLOOKUP(D19,VLLU,14,FALSE),\"\")","v":1.1000000000000001},{"$f":"IF('FEA___(MPG-2)'!$B19,VLOOKUP(D19,VLLU,15,FALSE),\"\")","v":1.25},null,{"$f":"IF('FEA___(MPG-2)'!$B19,VLOOKUP(D19,VLLU,17,FALSE),\"\")","v":1.65},{"$f":"IF('FEA___(MPG-2)'!$B19,VLOOKUP(D19,VLLU,18,FALSE),\"\")","v":2.25},null,{"$f":"IF('FEA___(MPG-2)'!$B19,IFERROR(E19/H19,\"N/A\"),\"\")","v":0.66666666666666674},{"$f":"IF('FEA___(MPG-2)'!$B19,IFERROR(F19/I19,\"N/A\"),\"\")","v":0.55555555555555558}]
[{"$f":"'FEA___(MPG-2)'!A20","v":9},{"$f":"'FEA___(MPG-2)'!D20","v":"Sempra Energy"},null,{"$f":"'FEA___(MPG-2)'!F20","v":"SRE"},{"$f":"IF('FEA___(MPG-2)'!$B20,VLOOKUP(D20,VLLU,14,FALSE),\"\")","v":2.52},{"$f":"IF('FEA___(MPG-2)'!$B20,VLOOKUP(D20,VLLU,15,FALSE),\"\")","v":3},null,{"$f":"IF('FEA___(MPG-2)'!$B20,VLOOKUP(D20,VLLU,17,FALSE),\"\")","v":4.1500000000000004},{"$f":"IF('FEA___(MPG-2)'!$B20,VLOOKUP(D20,VLLU,18,FALSE),\"\")","v":5.5},null,{"$f":"IF('FEA___(MPG-2)'!$B20,IFERROR(E20/H20,\"N/A\"),\"\")","v":0.60722891566265058},{"$f":"IF('FEA___(MPG-2)'!$B20,IFERROR(F20/I20,\"N/A\"),\"\")","v":0.54545454545454541}]
[{"$f":"'FEA___(MPG-2)'!A21","v":10},{"$f":"'FEA___(MPG-2)'!D21","v":"Southern Company"},null,{"$f":"'FEA___(MPG-2)'!F21","v":"SO"},{"$f":"IF('FEA___(MPG-2)'!$B21,VLOOKUP(D21,VLLU,14,FALSE),\"\")","v":2.0099999999999998},{"$f":"IF('FEA___(MPG-2)'!$B21,VLOOKUP(D21,VLLU,15,FALSE),\"\")","v":2.36},null,{"$f":"IF('FEA___(MPG-2)'!$B21,VLOOKUP(D21,VLLU,17,FALSE),\"\")","v":2.7},{"$f":"IF('FEA___(MPG-2)'!$B21,VLOOKUP(D21,VLLU,18,FALSE),\"\")","v":3.25},null,{"$f":"IF('FEA___(MPG-2)'!$B21,IFERROR(E21/H21,\"N/A\"),\"\")","v":0.74444444444444435},{"$f":"IF('FEA___(MPG-2)'!$B21,IFERROR(F21/I21,\"N/A\"),\"\")","v":0.72615384615384615}]
[{"$f":"'FEA___(MPG-2)'!A22","v":11},{"$f":"'FEA___(MPG-2)'!D22","v":"Westar Energy, Inc."},null,{"$f":"'FEA___(MPG-2)'!F22","v":"WR"},{"$f":"IF('FEA___(MPG-2)'!$B22,VLOOKUP(D22,VLLU,14,FALSE),\"\")","v":1.36},{"$f":"IF('FEA___(MPG-2)'!$B22,VLOOKUP(D22,VLLU,15,FALSE),\"\")","v":1.56},null,{"$f":"IF('FEA___(MPG-2)'!$B22,VLOOKUP(D22,VLLU,17,FALSE),\"\")","v":2.27},{"$f":"IF('FEA___(MPG-2)'!$B22,VLOOKUP(D22,VLLU,18,FALSE),\"\")","v":2.75},null,{"$f":"IF('FEA___(MPG-2)'!$B22,IFERROR(E22/H22,\"N/A\"),\"\")","v":0.59911894273127753},{"$f":"IF('FEA___(MPG-2)'!$B22,IFERROR(F22/I22,\"N/A\"),\"\")","v":0.56727272727272726}]
[{"$f":"'FEA___(MPG-2)'!A23","v":12},{"$f":"'FEA___(MPG-2)'!D23","v":"Wisconsin Energy Corporation"},null,{"$f":"'FEA___(MPG-2)'!F23","v":"WEC"},{"$f":"IF('FEA___(MPG-2)'!$B23,VLOOKUP(D23,VLLU,14,FALSE),\"\")","v":1.45},{"$f":"IF('FEA___(MPG-2)'!$B23,VLOOKUP(D23,VLLU,15,FALSE),\"\")","v":2.1},null,{"$f":"IF('FEA___(MPG-2)'!$B23,VLOOKUP(D23,VLLU,17,FALSE),\"\")","v":2.5099999999999998},{"$f":"IF('FEA___(MPG-2)'!$B23,VLOOKUP(D23,VLLU,18,FALSE),\"\")","v":3.25},null,{"$f":"IF('FEA___(MPG-2)'!$B23,IFERROR(E23/H23,\"N/A\"),\"\")","v":0.57768924302788849},{"$f":"IF('FEA___(MPG-2)'!$B23,IFERROR(F23/I23,\"N/A\"),\"\")","v":0.64615384615384619}]
[{"$f":"'FEA___(MPG-2)'!A24","v":13},{"$f":"'FEA___(MPG-2)'!D24","v":"Xcel Energy Inc."},null,{"$f":"'FEA___(MPG-2)'!F24","v":"XEL"},{"$f":"IF('FEA___(MPG-2)'!$B24,VLOOKUP(D24,VLLU,14,FALSE),\"\")","v":1.1100000000000001},{"$f":"IF('FEA___(MPG-2)'!$B24,VLOOKUP(D24,VLLU,15,FALSE),\"\")","v":1.35},null,{"$f":"IF('FEA___(MPG-2)'!$B24,VLOOKUP(D24,VLLU,17,FALSE),\"\")","v":1.9},{"$f":"IF('FEA___(MPG-2)'!$B24,VLOOKUP(D24,VLLU,18,FALSE),\"\")","v":2.25},null,{"$f":"IF('FEA___(MPG-2)'!$B24,IFERROR(E24/H24,\"N/A\"),\"\")","v":0.58421052631578951},{"$f":"IF('FEA___(MPG-2)'!$B24,IFERROR(F24/I24,\"N/A\"),\"\")","v":0.60000000000000009}]
[{"$f":"'FEA___(MPG-2)'!A25","v":""},{"$f":"'FEA___(MPG-2)'!D25","v":""},null,{"$f":"'FEA___(MPG-2)'!F25","v":""},{"$f":"IF('FEA___(MPG-2)'!$B25,VLOOKUP(D25,VLLU,14,FALSE),\"\")","v":""},{"$f":"IF('FEA___(MPG-2)'!$B25,VLOOKUP(D25,VLLU,15,FALSE),\"\")","v":""},null,{"$f":"IF('FEA___(MPG-2)'!$B25,VLOOKUP(D25,VLLU,17,FALSE),\"\")","v":""},{"$f":"IF('FEA___(MPG-2)'!$B25,VLOOKUP(D25,VLLU,18,FALSE),\"\")","v":""},null,{"$f":"IF('FEA___(MPG-2)'!$B25,IFERROR(E25/H25,\"N/A\"),\"\")","v":""},{"$f":"IF('FEA___(MPG-2)'!$B25,IFERROR(F25/I25,\"N/A\"),\"\")","v":""}]
[{"$f":"'FEA___(MPG-2)'!A26","v":""},{"$f":"'FEA___(MPG-2)'!D26","v":""},null,{"$f":"'FEA___(MPG-2)'!F26","v":""},{"$f":"IF('FEA___(MPG-2)'!$B26,VLOOKUP(D26,VLLU,14,FALSE),\"\")","v":""},{"$f":"IF('FEA___(MPG-2)'!$B26,VLOOKUP(D26,VLLU,15,FALSE),\"\")","v":""},null,{"$f":"IF('FEA___(MPG-2)'!$B26,VLOOKUP(D26,VLLU,17,FALSE),\"\")","v":""},{"$f":"IF('FEA___(MPG-2)'!$B26,VLOOKUP(D26,VLLU,18,FALSE),\"\")","v":""},null,{"$f":"IF('FEA___(MPG-2)'!$B26,IFERROR(E26/H26,\"N/A\"),\"\")","v":""},{"$f":"IF('FEA___(MPG-2)'!$B26,IFERROR(F26/I26,\"N/A\"),\"\")","v":""}]
[{"$f":"'FEA___(MPG-2)'!A27","v":""},{"$f":"'FEA___(MPG-2)'!D27","v":""},null,{"$f":"'FEA___(MPG-2)'!F27","v":""},{"$f":"IF('FEA___(MPG-2)'!$B27,VLOOKUP(D27,VLLU,14,FALSE),\"\")","v":""},{"$f":"IF('FEA___(MPG-2)'!$B27,VLOOKUP(D27,VLLU,15,FALSE),\"\")","v":""},null,{"$f":"IF('FEA___(MPG-2)'!$B27,VLOOKUP(D27,VLLU,17,FALSE),\"\")","v":""},{"$f":"IF('FEA___(MPG-2)'!$B27,VLOOKUP(D27,VLLU,18,FALSE),\"\")","v":""},null,{"$f":"IF('FEA___(MPG-2)'!$B27,IFERROR(E27/H27,\"N/A\"),\"\")","v":""},{"$f":"IF('FEA___(MPG-2)'!$B27,IFERROR(F27/I27,\"N/A\"),\"\")","v":""}]
[{"$f":"'FEA___(MPG-2)'!A28","v":""},{"$f":"'FEA___(MPG-2)'!D28","v":""},null,{"$f":"'FEA___(MPG-2)'!F28","v":""},{"$f":"IF('FEA___(MPG-2)'!$B28,VLOOKUP(D28,VLLU,14,FALSE),\"\")","v":""},{"$f":"IF('FEA___(MPG-2)'!$B28,VLOOKUP(D28,VLLU,15,FALSE),\"\")","v":""},null,{"$f":"IF('FEA___(MPG-2)'!$B28,VLOOKUP(D28,VLLU,17,FALSE),\"\")","v":""},{"$f":"IF('FEA___(MPG-2)'!$B28,VLOOKUP(D28,VLLU,18,FALSE),\"\")","v":""},null,{"$f":"IF('FEA___(MPG-2)'!$B28,IFERROR(E28/H28,\"N/A\"),\"\")","v":""},{"$f":"IF('FEA___(MPG-2)'!$B28,IFERROR(F28/I28,\"N/A\"),\"\")","v":""}]
[{"$f":"'FEA___(MPG-2)'!A29","v":""},{"$f":"'FEA___(MPG-2)'!D29","v":""},null,{"$f":"'FEA___(MPG-2)'!F29","v":""},{"$f":"IF('FEA___(MPG-2)'!$B29,VLOOKUP(D29,VLLU,14,FALSE),\"\")","v":""},{"$f":"IF('FEA___(MPG-2)'!$B29,VLOOKUP(D29,VLLU,15,FALSE),\"\")","v":""},null,{"$f":"IF('FEA___(MPG-2)'!$B29,VLOOKUP(D29,VLLU,17,FALSE),\"\")","v":""},{"$f":"IF('FEA___(MPG-2)'!$B29,VLOOKUP(D29,VLLU,18,FALSE),\"\")","v":""},null,{"$f":"IF('FEA___(MPG-2)'!$B29,IFERROR(E29/H29,\"N/A\"),\"\")","v":""},{"$f":"IF('FEA___(MPG-2)'!$B29,IFERROR(F29/I29,\"N/A\"),\"\")","v":""}]
[{"$f":"'FEA___(MPG-2)'!A30","v":""},{"$f":"'FEA___(MPG-2)'!D30","v":""},null,{"$f":"'FEA___(MPG-2)'!F30","v":""},{"$f":"IF('FEA___(MPG-2)'!$B30,VLOOKUP(D30,VLLU,14,FALSE),\"\")","v":""},{"$f":"IF('FEA___(MPG-2)'!$B30,VLOOKUP(D30,VLLU,15,FALSE),\"\")","v":""},null,{"$f":"IF('FEA___(MPG-2)'!$B30,VLOOKUP(D30,VLLU,17,FALSE),\"\")","v":""},{"$f":"IF('FEA___(MPG-2)'!$B30,VLOOKUP(D30,VLLU,18,FALSE),\"\")","v":""},null,{"$f":"IF('FEA___(MPG-2)'!$B30,IFERROR(E30/H30,\"N/A\"),\"\")","v":""},{"$f":"IF('FEA___(MPG-2)'!$B30,IFERROR(F30/I30,\"N/A\"),\"\")","v":""}]
[{"$f":"'FEA___(MPG-2)'!A31","v":""},{"$f":"'FEA___(MPG-2)'!D31","v":""},null,{"$f":"'FEA___(MPG-2)'!F31","v":""},{"$f":"IF('FEA___(MPG-2)'!$B31,VLOOKUP(D31,VLLU,14,FALSE),\"\")","v":""},{"$f":"IF('FEA___(MPG-2)'!$B31,VLOOKUP(D31,VLLU,15,FALSE),\"\")","v":""},null,{"$f":"IF('FEA___(MPG-2)'!$B31,VLOOKUP(D31,VLLU,17,FALSE),\"\")","v":""},{"$f":"IF('FEA___(MPG-2)'!$B31,VLOOKUP(D31,VLLU,18,FALSE),\"\")","v":""},null,{"$f":"IF('FEA___(MPG-2)'!$B31,IFERROR(E31/H31,\"N/A\"),\"\")","v":""},{"$f":"IF('FEA___(MPG-2)'!$B31,IFERROR(F31/I31,\"N/A\"),\"\")","v":""}]
[{"$f":"'FEA___(MPG-2)'!A32","v":""},{"$f":"'FEA___(MPG-2)'!D32","v":""},null,{"$f":"'FEA___(MPG-2)'!F32","v":""},{"$f":"IF('FEA___(MPG-2)'!$B32,VLOOKUP(D32,VLLU,14,FALSE),\"\")","v":""},{"$f":"IF('FEA___(MPG-2)'!$B32,VLOOKUP(D32,VLLU,15,FALSE),\"\")","v":""},null,{"$f":"IF('FEA___(MPG-2)'!$B32,VLOOKUP(D32,VLLU,17,FALSE),\"\")","v":""},{"$f":"IF('FEA___(MPG-2)'!$B32,VLOOKUP(D32,VLLU,18,FALSE),\"\")","v":""},null,{"$f":"IF('FEA___(MPG-2)'!$B32,IFERROR(E32/H32,\"N/A\"),\"\")","v":""},{"$f":"IF('FEA___(MPG-2)'!$B32,IFERROR(F32/I32,\"N/A\"),\"\")","v":""}]
[{"$f":"'FEA___(MPG-2)'!A33","v":""},{"$f":"'FEA___(MPG-2)'!D33","v":""},null,{"$f":"'FEA___(MPG-2)'!F33","v":""},{"$f":"IF('FEA___(MPG-2)'!$B33,VLOOKUP(D33,VLLU,14,FALSE),\"\")","v":""},{"$f":"IF('FEA___(MPG-2)'!$B33,VLOOKUP(D33,VLLU,15,FALSE),\"\")","v":""},null,{"$f":"IF('FEA___(MPG-2)'!$B33,VLOOKUP(D33,VLLU,17,FALSE),\"\")","v":""},{"$f":"IF('FEA___(MPG-2)'!$B33,VLOOKUP(D33,VLLU,18,FALSE),\"\")","v":""},null,{"$f":"IF('FEA___(MPG-2)'!$B33,IFERROR(E33/H33,\"N/A\"),\"\")","v":""},{"$f":"IF('FEA___(MPG-2)'!$B33,IFERROR(F33/I33,\"N/A\"),\"\")","v":""}]
[{"$f":"'FEA___(MPG-2)'!A34","v":""},{"$f":"'FEA___(MPG-2)'!D34","v":""},null,{"$f":"'FEA___(MPG-2)'!F34","v":""},{"$f":"IF('FEA___(MPG-2)'!$B34,VLOOKUP(D34,VLLU,14,FALSE),\"\")","v":""},{"$f":"IF('FEA___(MPG-2)'!$B34,VLOOKUP(D34,VLLU,15,FALSE),\"\")","v":""},null,{"$f":"IF('FEA___(MPG-2)'!$B34,VLOOKUP(D34,VLLU,17,FALSE),\"\")","v":""},{"$f":"IF('FEA___(MPG-2)'!$B34,VLOOKUP(D34,VLLU,18,FALSE),\"\")","v":""},null,{"$f":"IF('FEA___(MPG-2)'!$B34,IFERROR(E34/H34,\"N/A\"),\"\")","v":""},{"$f":"IF('FEA___(MPG-2)'!$B34,IFERROR(F34/I34,\"N/A\"),\"\")","v":""}]
[{"$f":"'FEA___(MPG-2)'!A35","v":""},{"$f":"'FEA___(MPG-2)'!D35","v":""},null,{"$f":"'FEA___(MPG-2)'!F35","v":""},{"$f":"IF('FEA___(MPG-2)'!$B35,VLOOKUP(D35,VLLU,14,FALSE),\"\")","v":""},{"$f":"IF('FEA___(MPG-2)'!$B35,VLOOKUP(D35,VLLU,15,FALSE),\"\")","v":""},null,{"$f":"IF('FEA___(MPG-2)'!$B35,VLOOKUP(D35,VLLU,17,FALSE),\"\")","v":""},{"$f":"IF('FEA___(MPG-2)'!$B35,VLOOKUP(D35,VLLU,18,FALSE),\"\")","v":""},null,{"$f":"IF('FEA___(MPG-2)'!$B35,IFERROR(E35/H35,\"N/A\"),\"\")","v":""},{"$f":"IF('FEA___(MPG-2)'!$B35,IFERROR(F35/I35,\"N/A\"),\"\")","v":""}]
[{"$f":"'FEA___(MPG-2)'!A36","v":""},{"$f":"'FEA___(MPG-2)'!D36","v":""},null,{"$f":"'FEA___(MPG-2)'!F36","v":""},{"$f":"IF('FEA___(MPG-2)'!$B36,VLOOKUP(D36,VLLU,14,FALSE),\"\")","v":""},{"$f":"IF('FEA___(MPG-2)'!$B36,VLOOKUP(D36,VLLU,15,FALSE),\"\")","v":""},null,{"$f":"IF('FEA___(MPG-2)'!$B36,VLOOKUP(D36,VLLU,17,FALSE),\"\")","v":""},{"$f":"IF('FEA___(MPG-2)'!$B36,VLOOKUP(D36,VLLU,18,FALSE),\"\")","v":""},null,{"$f":"IF('FEA___(MPG-2)'!$B36,IFERROR(E36/H36,\"N/A\"),\"\")","v":""},{"$f":"IF('FEA___(MPG-2)'!$B36,IFERROR(F36/I36,\"N/A\"),\"\")","v":""}]
[{"$f":"'FEA___(MPG-2)'!A37","v":""},{"$f":"'FEA___(MPG-2)'!D37","v":""},null,{"$f":"'FEA___(MPG-2)'!F37","v":""},{"$f":"IF('FEA___(MPG-2)'!$B37,VLOOKUP(D37,VLLU,14,FALSE),\"\")","v":""},{"$f":"IF('FEA___(MPG-2)'!$B37,VLOOKUP(D37,VLLU,15,FALSE),\"\")","v":""},null,{"$f":"IF('FEA___(MPG-2)'!$B37,VLOOKUP(D37,VLLU,17,FALSE),\"\")","v":""},{"$f":"IF('FEA___(MPG-2)'!$B37,VLOOKUP(D37,VLLU,18,FALSE),\"\")","v":""},null,{"$f":"IF('FEA___(MPG-2)'!$B37,IFERROR(E37/H37,\"N/A\"),\"\")","v":""},{"$f":"IF('FEA___(MPG-2)'!$B37,IFERROR(F37/I37,\"N/A\"),\"\")","v":""}]
[{"$f":"'FEA___(MPG-2)'!A38","v":""},{"$f":"'FEA___(MPG-2)'!D38","v":""},null,{"$f":"'FEA___(MPG-2)'!F38","v":""},{"$f":"IF('FEA___(MPG-2)'!$B38,VLOOKUP(D38,VLLU,14,FALSE),\"\")","v":""},{"$f":"IF('FEA___(MPG-2)'!$B38,VLOOKUP(D38,VLLU,15,FALSE),\"\")","v":""},null,{"$f":"IF('FEA___(MPG-2)'!$B38,VLOOKUP(D38,VLLU,17,FALSE),\"\")","v":""},{"$f":"IF('FEA___(MPG-2)'!$B38,VLOOKUP(D38,VLLU,18,FALSE),\"\")","v":""},null,{"$f":"IF('FEA___(MPG-2)'!$B38,IFERROR(E38/H38,\"N/A\"),\"\")","v":""},{"$f":"IF('FEA___(MPG-2)'!$B38,IFERROR(F38/I38,\"N/A\"),\"\")","v":""}]
[{"$f":"'FEA___(MPG-2)'!A39","v":""},{"$f":"'FEA___(MPG-2)'!D39","v":""},null,{"$f":"'FEA___(MPG-2)'!F39","v":""},{"$f":"IF('FEA___(MPG-2)'!$B39,VLOOKUP(D39,VLLU,14,FALSE),\"\")","v":""},{"$f":"IF('FEA___(MPG-2)'!$B39,VLOOKUP(D39,VLLU,15,FALSE),\"\")","v":""},null,{"$f":"IF('FEA___(MPG-2)'!$B39,VLOOKUP(D39,VLLU,17,FALSE),\"\")","v":""},{"$f":"IF('FEA___(MPG-2)'!$B39,VLOOKUP(D39,VLLU,18,FALSE),\"\")","v":""},null,{"$f":"IF('FEA___(MPG-2)'!$B39,IFERROR(E39/H39,\"N/A\"),\"\")","v":""},{"$f":"IF('FEA___(MPG-2)'!$B39,IFERROR(F39/I39,\"N/A\"),\"\")","v":""}]
[{"$f":"'FEA___(MPG-2)'!A40","v":""},{"$f":"'FEA___(MPG-2)'!D40","v":""},null,{"$f":"'FEA___(MPG-2)'!F40","v":""},{"$f":"IF('FEA___(MPG-2)'!$B40,VLOOKUP(D40,VLLU,14,FALSE),\"\")","v":""},{"$f":"IF('FEA___(MPG-2)'!$B40,VLOOKUP(D40,VLLU,15,FALSE),\"\")","v":""},null,{"$f":"IF('FEA___(MPG-2)'!$B40,VLOOKUP(D40,VLLU,17,FALSE),\"\")","v":""},{"$f":"IF('FEA___(MPG-2)'!$B40,VLOOKUP(D40,VLLU,18,FALSE),\"\")","v":""},null,{"$f":"IF('FEA___(MPG-2)'!$B40,IFERROR(E40/H40,\"N/A\"),\"\")","v":""},{"$f":"IF('FEA___(MPG-2)'!$B40,IFERROR(F40/I40,\"N/A\"),\"\")","v":""}]
[{"$f":"'FEA___(MPG-2)'!A41","v":""},{"$f":"'FEA___(MPG-2)'!D41","v":""},null,{"$f":"'FEA___(MPG-2)'!F41","v":""},{"$f":"IF('FEA___(MPG-2)'!$B41,VLOOKUP(D41,VLLU,14,FALSE),\"\")","v":""},{"$f":"IF('FEA___(MPG-2)'!$B41,VLOOKUP(D41,VLLU,15,FALSE),\"\")","v":""},null,{"$f":"IF('FEA___(MPG-2)'!$B41,VLOOKUP(D41,VLLU,17,FALSE),\"\")","v":""},{"$f":"IF('FEA___(MPG-2)'!$B41,VLOOKUP(D41,VLLU,18,FALSE),\"\")","v":""},null,{"$f":"IF('FEA___(MPG-2)'!$B41,IFERROR(E41/H41,\"N/A\"),\"\")","v":""},{"$f":"IF('FEA___(MPG-2)'!$B41,IFERROR(F41/I41,\"N/A\"),\"\")","v":""}]
[{"$f":"'FEA___(MPG-2)'!A42","v":""},{"$f":"'FEA___(MPG-2)'!D42","v":""},null,{"$f":"'FEA___(MPG-2)'!F42","v":""},{"$f":"IF('FEA___(MPG-2)'!$B42,VLOOKUP(D42,VLLU,14,FALSE),\"\")","v":""},{"$f":"IF('FEA___(MPG-2)'!$B42,VLOOKUP(D42,VLLU,15,FALSE),\"\")","v":""},null,{"$f":"IF('FEA___(MPG-2)'!$B42,VLOOKUP(D42,VLLU,17,FALSE),\"\")","v":""},{"$f":"IF('FEA___(MPG-2)'!$B42,VLOOKUP(D42,VLLU,18,FALSE),\"\")","v":""},null,{"$f":"IF('FEA___(MPG-2)'!$B42,IFERROR(E42/H42,\"N/A\"),\"\")","v":""},{"$f":"IF('FEA___(MPG-2)'!$B42,IFERROR(F42/I42,\"N/A\"),\"\")","v":""}]
[{"$f":"'FEA___(MPG-2)'!A43","v":""},{"$f":"'FEA___(MPG-2)'!D43","v":""},null,{"$f":"'FEA___(MPG-2)'!F43","v":""},{"$f":"IF('FEA___(MPG-2)'!$B43,VLOOKUP(D43,VLLU,14,FALSE),\"\")","v":""},{"$f":"IF('FEA___(MPG-2)'!$B43,VLOOKUP(D43,VLLU,15,FALSE),\"\")","v":""},null,{"$f":"IF('FEA___(MPG-2)'!$B43,VLOOKUP(D43,VLLU,17,FALSE),\"\")","v":""},{"$f":"IF('FEA___(MPG-2)'!$B43,VLOOKUP(D43,VLLU,18,FALSE),\"\")","v":""},null,{"$f":"IF('FEA___(MPG-2)'!$B43,IFERROR(E43/H43,\"N/A\"),\"\")","v":""},{"$f":"IF('FEA___(MPG-2)'!$B43,IFERROR(F43/I43,\"N/A\"),\"\")","v":""}]
[{"$f":"'FEA___(MPG-2)'!A44","v":""},{"$f":"'FEA___(MPG-2)'!D44","v":""},null,{"$f":"'FEA___(MPG-2)'!F44","v":""},{"$f":"IF('FEA___(MPG-2)'!$B44,VLOOKUP(D44,VLLU,14,FALSE),\"\")","v":""},{"$f":"IF('FEA___(MPG-2)'!$B44,VLOOKUP(D44,VLLU,15,FALSE),\"\")","v":""},null,{"$f":"IF('FEA___(MPG-2)'!$B44,VLOOKUP(D44,VLLU,17,FALSE),\"\")","v":""},{"$f":"IF('FEA___(MPG-2)'!$B44,VLOOKUP(D44,VLLU,18,FALSE),\"\")","v":""},null,{"$f":"IF('FEA___(MPG-2)'!$B44,IFERROR(E44/H44,\"N/A\"),\"\")","v":""},{"$f":"IF('FEA___(MPG-2)'!$B44,IFERROR(F44/I44,\"N/A\"),\"\")","v":""}]
[{"$f":"'FEA___(MPG-2)'!A45","v":""},{"$f":"'FEA___(MPG-2)'!D45","v":""},null,{"$f":"'FEA___(MPG-2)'!F45","v":""},{"$f":"IF('FEA___(MPG-2)'!$B45,VLOOKUP(D45,VLLU,14,FALSE),\"\")","v":""},{"$f":"IF('FEA___(MPG-2)'!$B45,VLOOKUP(D45,VLLU,15,FALSE),\"\")","v":""},null,{"$f":"IF('FEA___(MPG-2)'!$B45,VLOOKUP(D45,VLLU,17,FALSE),\"\")","v":""},{"$f":"IF('FEA___(MPG-2)'!$B45,VLOOKUP(D45,VLLU,18,FALSE),\"\")","v":""},null,{"$f":"IF('FEA___(MPG-2)'!$B45,IFERROR(E45/H45,\"N/A\"),\"\")","v":""},{"$f":"IF('FEA___(MPG-2)'!$B45,IFERROR(F45/I45,\"N/A\"),\"\")","v":""}]
[{"$f":"'FEA___(MPG-2)'!A46","v":""},{"$f":"'FEA___(MPG-2)'!D46","v":""},null,{"$f":"'FEA___(MPG-2)'!F46","v":""},{"$f":"IF('FEA___(MPG-2)'!$B46,VLOOKUP(D46,VLLU,14,FALSE),\"\")","v":""},{"$f":"IF('FEA___(MPG-2)'!$B46,VLOOKUP(D46,VLLU,15,FALSE),\"\")","v":""},null,{"$f":"IF('FEA___(MPG-2)'!$B46,VLOOKUP(D46,VLLU,17,FALSE),\"\")","v":""},{"$f":"IF('FEA___(MPG-2)'!$B46,VLOOKUP(D46,VLLU,18,FALSE),\"\")","v":""},null,{"$f":"IF('FEA___(MPG-2)'!$B46,IFERROR(E46/H46,\"N/A\"),\"\")","v":""},{"$f":"IF('FEA___(MPG-2)'!$B46,IFERROR(F46/I46,\"N/A\"),\"\")","v":""}]
[{"$f":"'FEA___(MPG-2)'!A47","v":""},{"$f":"'FEA___(MPG-2)'!D47","v":""},null,{"$f":"'FEA___(MPG-2)'!F47","v":""},{"$f":"IF('FEA___(MPG-2)'!$B47,VLOOKUP(D47,VLLU,14,FALSE),\"\")","v":""},{"$f":"IF('FEA___(MPG-2)'!$B47,VLOOKUP(D47,VLLU,15,FALSE),\"\")","v":""},null,{"$f":"IF('FEA___(MPG-2)'!$B47,VLOOKUP(D47,VLLU,17,FALSE),\"\")","v":""},{"$f":"IF('FEA___(MPG-2)'!$B47,VLOOKUP(D47,VLLU,18,FALSE),\"\")","v":""},null,{"$f":"IF('FEA___(MPG-2)'!$B47,IFERROR(E47/H47,\"N/A\"),\"\")","v":""},{"$f":"IF('FEA___(MPG-2)'!$B47,IFERROR(F47/I47,\"N/A\"),\"\")","v":""}]
[{"$f":"'FEA___(MPG-2)'!A48","v":""},{"$f":"'FEA___(MPG-2)'!D48","v":""},null,{"$f":"'FEA___(MPG-2)'!F48","v":""},{"$f":"IF('FEA___(MPG-2)'!$B48,VLOOKUP(D48,VLLU,14,FALSE),\"\")","v":""},{"$f":"IF('FEA___(MPG-2)'!$B48,VLOOKUP(D48,VLLU,15,FALSE),\"\")","v":""},null,{"$f":"IF('FEA___(MPG-2)'!$B48,VLOOKUP(D48,VLLU,17,FALSE),\"\")","v":""},{"$f":"IF('FEA___(MPG-2)'!$B48,VLOOKUP(D48,VLLU,18,FALSE),\"\")","v":""},null,{"$f":"IF('FEA___(MPG-2)'!$B48,IFERROR(E48/H48,\"N/A\"),\"\")","v":""},{"$f":"IF('FEA___(MPG-2)'!$B48,IFERROR(F48/I48,\"N/A\"),\"\")","v":""}]
[{"$f":"'FEA___(MPG-2)'!A49","v":""},{"$f":"'FEA___(MPG-2)'!D49","v":""},null,{"$f":"'FEA___(MPG-2)'!F49","v":""},{"$f":"IF('FEA___(MPG-2)'!$B49,VLOOKUP(D49,VLLU,14,FALSE),\"\")","v":""},{"$f":"IF('FEA___(MPG-2)'!$B49,VLOOKUP(D49,VLLU,15,FALSE),\"\")","v":""},null,{"$f":"IF('FEA___(MPG-2)'!$B49,VLOOKUP(D49,VLLU,17,FALSE),\"\")","v":""},{"$f":"IF('FEA___(MPG-2)'!$B49,VLOOKUP(D49,VLLU,18,FALSE),\"\")","v":""},null,{"$f":"IF('FEA___(MPG-2)'!$B49,IFERROR(E49/H49,\"N/A\"),\"\")","v":""},{"$f":"IF('FEA___(MPG-2)'!$B49,IFERROR(F49/I49,\"N/A\"),\"\")","v":""}]
[{"$f":"'FEA___(MPG-2)'!A50","v":""},{"$f":"'FEA___(MPG-2)'!D50","v":""},null,{"$f":"'FEA___(MPG-2)'!F50","v":""},{"$f":"IF('FEA___(MPG-2)'!$B50,VLOOKUP(D50,VLLU,14,FALSE),\"\")","v":""},{"$f":"IF('FEA___(MPG-2)'!$B50,VLOOKUP(D50,VLLU,15,FALSE),\"\")","v":""},null,{"$f":"IF('FEA___(MPG-2)'!$B50,VLOOKUP(D50,VLLU,17,FALSE),\"\")","v":""},{"$f":"IF('FEA___(MPG-2)'!$B50,VLOOKUP(D50,VLLU,18,FALSE),\"\")","v":""},null,{"$f":"IF('FEA___(MPG-2)'!$B50,IFERROR(E50/H50,\"N/A\"),\"\")","v":""},{"$f":"IF('FEA___(MPG-2)'!$B50,IFERROR(F50/I50,\"N/A\"),\"\")","v":""}]
[{"$f":"'FEA___(MPG-2)'!A51","v":""},{"$f":"'FEA___(MPG-2)'!D51","v":""},null,{"$f":"'FEA___(MPG-2)'!F51","v":""},{"$f":"IF('FEA___(MPG-2)'!$B51,VLOOKUP(D51,VLLU,14,FALSE),\"\")","v":""},{"$f":"IF('FEA___(MPG-2)'!$B51,VLOOKUP(D51,VLLU,15,FALSE),\"\")","v":""},null,{"$f":"IF('FEA___(MPG-2)'!$B51,VLOOKUP(D51,VLLU,17,FALSE),\"\")","v":""},{"$f":"IF('FEA___(MPG-2)'!$B51,VLOOKUP(D51,VLLU,18,FALSE),\"\")","v":""},null,{"$f":"IF('FEA___(MPG-2)'!$B51,IFERROR(E51/H51,\"N/A\"),\"\")","v":""},{"$f":"IF('FEA___(MPG-2)'!$B51,IFERROR(F51/I51,\"N/A\"),\"\")","v":""}]
[{"$f":"'FEA___(MPG-2)'!A52","v":""},{"$f":"'FEA___(MPG-2)'!D52","v":""},null,{"$f":"'FEA___(MPG-2)'!F52","v":""},{"$f":"IF('FEA___(MPG-2)'!$B52,VLOOKUP(D52,VLLU,14,FALSE),\"\")","v":""},{"$f":"IF('FEA___(MPG-2)'!$B52,VLOOKUP(D52,VLLU,15,FALSE),\"\")","v":""},null,{"$f":"IF('FEA___(MPG-2)'!$B52,VLOOKUP(D52,VLLU,17,FALSE),\"\")","v":""},{"$f":"IF('FEA___(MPG-2)'!$B52,VLOOKUP(D52,VLLU,18,FALSE),\"\")","v":""},null,{"$f":"IF('FEA___(MPG-2)'!$B52,IFERROR(E52/H52,\"N/A\"),\"\")","v":""},{"$f":"IF('FEA___(MPG-2)'!$B52,IFERROR(F52/I52,\"N/A\"),\"\")","v":""}]
[{"$f":"'FEA___(MPG-2)'!A53","v":""},{"$f":"'FEA___(MPG-2)'!D53","v":""},null,{"$f":"'FEA___(MPG-2)'!F53","v":""},{"$f":"IF('FEA___(MPG-2)'!$B53,VLOOKUP(D53,VLLU,14,FALSE),\"\")","v":""},{"$f":"IF('FEA___(MPG-2)'!$B53,VLOOKUP(D53,VLLU,15,FALSE),\"\")","v":""},null,{"$f":"IF('FEA___(MPG-2)'!$B53,VLOOKUP(D53,VLLU,17,FALSE),\"\")","v":""},{"$f":"IF('FEA___(MPG-2)'!$B53,VLOOKUP(D53,VLLU,18,FALSE),\"\")","v":""},null,{"$f":"IF('FEA___(MPG-2)'!$B53,IFERROR(E53/H53,\"N/A\"),\"\")","v":""},{"$f":"IF('FEA___(MPG-2)'!$B53,IFERROR(F53/I53,\"N/A\"),\"\")","v":""}]
[{"$f":"'FEA___(MPG-2)'!A54","v":""},{"$f":"'FEA___(MPG-2)'!D54","v":""},null,{"$f":"'FEA___(MPG-2)'!F54","v":""},{"$f":"IF('FEA___(MPG-2)'!$B54,VLOOKUP(D54,VLLU,14,FALSE),\"\")","v":""},{"$f":"IF('FEA___(MPG-2)'!$B54,VLOOKUP(D54,VLLU,15,FALSE),\"\")","v":""},null,{"$f":"IF('FEA___(MPG-2)'!$B54,VLOOKUP(D54,VLLU,17,FALSE),\"\")","v":""},{"$f":"IF('FEA___(MPG-2)'!$B54,VLOOKUP(D54,VLLU,18,FALSE),\"\")","v":""},null,{"$f":"IF('FEA___(MPG-2)'!$B54,IFERROR(E54/H54,\"N/A\"),\"\")","v":""},{"$f":"IF('FEA___(MPG-2)'!$B54,IFERROR(F54/I54,\"N/A\"),\"\")","v":""}]
[{"$f":"'FEA___(MPG-2)'!A55","v":""},{"$f":"'FEA___(MPG-2)'!D55","v":""},null,{"$f":"'FEA___(MPG-2)'!F55","v":""},{"$f":"IF('FEA___(MPG-2)'!$B55,VLOOKUP(D55,VLLU,14,FALSE),\"\")","v":""},{"$f":"IF('FEA___(MPG-2)'!$B55,VLOOKUP(D55,VLLU,15,FALSE),\"\")","v":""},null,{"$f":"IF('FEA___(MPG-2)'!$B55,VLOOKUP(D55,VLLU,17,FALSE),\"\")","v":""},{"$f":"IF('FEA___(MPG-2)'!$B55,VLOOKUP(D55,VLLU,18,FALSE),\"\")","v":""},null,{"$f":"IF('FEA___(MPG-2)'!$B55,IFERROR(E55/H55,\"N/A\"),\"\")","v":""},{"$f":"IF('FEA___(MPG-2)'!$B55,IFERROR(F55/I55,\"N/A\"),\"\")","v":""}]
[{"$f":"'FEA___(MPG-2)'!A56","v":""},{"$f":"'FEA___(MPG-2)'!D56","v":""},null,{"$f":"'FEA___(MPG-2)'!F56","v":""},{"$f":"IF('FEA___(MPG-2)'!$B56,VLOOKUP(D56,VLLU,14,FALSE),\"\")","v":""},{"$f":"IF('FEA___(MPG-2)'!$B56,VLOOKUP(D56,VLLU,15,FALSE),\"\")","v":""},null,{"$f":"IF('FEA___(MPG-2)'!$B56,VLOOKUP(D56,VLLU,17,FALSE),\"\")","v":""},{"$f":"IF('FEA___(MPG-2)'!$B56,VLOOKUP(D56,VLLU,18,FALSE),\"\")","v":""},null,{"$f":"IF('FEA___(MPG-2)'!$B56,IFERROR(E56/H56,\"N/A\"),\"\")","v":""},{"$f":"IF('FEA___(MPG-2)'!$B56,IFERROR(F56/I56,\"N/A\"),\"\")","v":""}]
[{"$f":"'FEA___(MPG-2)'!A57","v":""},{"$f":"'FEA___(MPG-2)'!D57","v":""},null,{"$f":"'FEA___(MPG-2)'!F57","v":""},{"$f":"IF('FEA___(MPG-2)'!$B57,VLOOKUP(D57,VLLU,14,FALSE),\"\")","v":""},{"$f":"IF('FEA___(MPG-2)'!$B57,VLOOKUP(D57,VLLU,15,FALSE),\"\")","v":""},null,{"$f":"IF('FEA___(MPG-2)'!$B57,VLOOKUP(D57,VLLU,17,FALSE),\"\")","v":""},{"$f":"IF('FEA___(MPG-2)'!$B57,VLOOKUP(D57,VLLU,18,FALSE),\"\")","v":""},null,{"$f":"IF('FEA___(MPG-2)'!$B57,IFERROR(E57/H57,\"N/A\"),\"\")","v":""},{"$f":"IF('FEA___(MPG-2)'!$B57,IFERROR(F57/I57,\"N/A\"),\"\")","v":""}]
[{"$f":"'FEA___(MPG-2)'!A58","v":""},{"$f":"'FEA___(MPG-2)'!D58","v":""},null,{"$f":"'FEA___(MPG-2)'!F58","v":""},{"$f":"IF('FEA___(MPG-2)'!$B58,VLOOKUP(D58,VLLU,14,FALSE),\"\")","v":""},{"$f":"IF('FEA___(MPG-2)'!$B58,VLOOKUP(D58,VLLU,15,FALSE),\"\")","v":""},null,{"$f":"IF('FEA___(MPG-2)'!$B58,VLOOKUP(D58,VLLU,17,FALSE),\"\")","v":""},{"$f":"IF('FEA___(MPG-2)'!$B58,VLOOKUP(D58,VLLU,18,FALSE),\"\")","v":""},null,{"$f":"IF('FEA___(MPG-2)'!$B58,IFERROR(E58/H58,\"N/A\"),\"\")","v":""},{"$f":"IF('FEA___(MPG-2)'!$B58,IFERROR(F58/I58,\"N/A\"),\"\")","v":""}]
[{"$f":"'FEA___(MPG-2)'!A59","v":""},{"$f":"'FEA___(MPG-2)'!D59","v":""},null,{"$f":"'FEA___(MPG-2)'!F59","v":""},{"$f":"IF('FEA___(MPG-2)'!$B59,VLOOKUP(D59,VLLU,14,FALSE),\"\")","v":""},{"$f":"IF('FEA___(MPG-2)'!$B59,VLOOKUP(D59,VLLU,15,FALSE),\"\")","v":""},null,{"$f":"IF('FEA___(MPG-2)'!$B59,VLOOKUP(D59,VLLU,17,FALSE),\"\")","v":""},{"$f":"IF('FEA___(MPG-2)'!$B59,VLOOKUP(D59,VLLU,18,FALSE),\"\")","v":""},null,{"$f":"IF('FEA___(MPG-2)'!$B59,IFERROR(E59/H59,\"N/A\"),\"\")","v":""},{"$f":"IF('FEA___(MPG-2)'!$B59,IFERROR(F59/I59,\"N/A\"),\"\")","v":""}]
[{"$f":"'FEA___(MPG-2)'!A60","v":""},{"$f":"'FEA___(MPG-2)'!D60","v":""},null,{"$f":"'FEA___(MPG-2)'!F60","v":""},{"$f":"IF('FEA___(MPG-2)'!$B60,VLOOKUP(D60,VLLU,14,FALSE),\"\")","v":""},{"$f":"IF('FEA___(MPG-2)'!$B60,VLOOKUP(D60,VLLU,15,FALSE),\"\")","v":""},null,{"$f":"IF('FEA___(MPG-2)'!$B60,VLOOKUP(D60,VLLU,17,FALSE),\"\")","v":""},{"$f":"IF('FEA___(MPG-2)'!$B60,VLOOKUP(D60,VLLU,18,FALSE),\"\")","v":""},null,{"$f":"IF('FEA___(MPG-2)'!$B60,IFERROR(E60/H60,\"N/A\"),\"\")","v":""},{"$f":"IF('FEA___(MPG-2)'!$B60,IFERROR(F60/I60,\"N/A\"),\"\")","v":""}]
[{"$f":"'FEA___(MPG-2)'!A61","v":""},{"$f":"'FEA___(MPG-2)'!D61","v":""},null,{"$f":"'FEA___(MPG-2)'!F61","v":""},{"$f":"IF('FEA___(MPG-2)'!$B61,VLOOKUP(D61,VLLU,14,FALSE),\"\")","v":""},{"$f":"IF('FEA___(MPG-2)'!$B61,VLOOKUP(D61,VLLU,15,FALSE),\"\")","v":""},null,{"$f":"IF('FEA___(MPG-2)'!$B61,VLOOKUP(D61,VLLU,17,FALSE),\"\")","v":""},{"$f":"IF('FEA___(MPG-2)'!$B61,VLOOKUP(D61,VLLU,18,FALSE),\"\")","v":""},null,{"$f":"IF('FEA___(MPG-2)'!$B61,IFERROR(E61/H61,\"N/A\"),\"\")","v":""},{"$f":"IF('FEA___(MPG-2)'!$B61,IFERROR(F61/I61,\"N/A\"),\"\")","v":""}]
[]
[{"$f":"IF(B63=0,\"N/A\",MAX(A19:A62)+1)","v":14},{"$f":"'FEA___(MPG-2)'!D63","v":"Average"},null,null,{"$f":"AVERAGE(E12:E61)","v":1.8515384615384614},{"$f":"AVERAGE(F12:F61)","v":2.3207692307692307},null,{"$f":"AVERAGE(H12:H61)","v":3.0246153846153847},{"$f":"AVERAGE(I12:I61)","v":3.7769230769230768},null,{"$f":"AVERAGE(K12:K61)","v":0.62024301034605733},{"$f":"AVERAGE(L12:L61)","v":0.61477069938608397}]
[]
[]
[]
[null,"Source:"]
[null,"The Value Line Investment Survey, January 31, February 21, and March 21, 2014."]

{"sheet":"FEA___(MPG-6ab)","index":6,"n_rows":75,"n_cols":29,"rows_kept":75,"cut":false,"hidden":false,"merged":[[7,22,7,23],[8,1,8,3],[8,17,8,18],[0,0,0,14],[0,15,0,27],[3,0,3,14],[3,15,3,27],[6,4,6,13],[6,22,6,23]]}
[{"$f":"'FEA___(MPG-2)'!A1","v":"Rocky Mountain Power"},null,null,null,null,null,null,null,null,null,null,null,null,null,null,{"$f":"A1","v":"Rocky Mountain Power"}]
[]
[]
["Sustainable Growth Rate",null,null,null,null,null,null,null,null,null,null,null,null,null,null,{"$f":"A4","v":"Sustainable Growth Rate"}]
[null,null,null,null,null,null,null,null,null,null,null,null,null,null,null,null,null,null,null,null,null,null,null,null,null,null,null,null,"Value Line Projection Years"]
[null,null,null,null,null,null,null,null,null,null,null,null,null,null,null,null,null,null,null,null,null,null,null,null,null,null,null,null,2016]
[null,null,null,null,"3 to 5 Year Projections",null,null,null,null,null,null,null,null,null,"Sustainable",null,null,null,null,"13-Week","2012","Market","Common Shares ",null,null,null,null,null,2018]
[null,null,null,null,"Dividends","Earnings","Book Value","Book Value",null,"Adjustment","Adjusted","Payout","Retention","Internal","Growth",null,null,null,null,"Average","Book Value","to Book","   Outstanding (in Millions)2   ",null,null,null,null,null,{"$f":"AVERAGE(AC6:AC7)","v":2017}]
["Line","Company",null,null,"Per Share","Per Share","Per Share","Growth","ROE","Factor","ROE","Ratio","Rate","Growth Rate","Rate","Line",null,"Company",null,"Stock Price1","Per Share2","Ratio",2012,"3-5 Years","Growth","S Factor3","V Factor4","S * V"]
[null,null,null,null,"(1)","(2)","(3)","(4)","(5)","(6)","(7)","(8)","(9)","(10)","(11)",null,null,null,null,"(1)","(2)","(3)","(4)","(5)","(6)","(7)","(8)","(9)"]
[]
[{"$f":"'FEA___(MPG-2)'!A12","v":1},{"$f":"'FEA___(MPG-2)'!D12","v":"ALLETE, Inc."},null,{"$f":"'FEA___(MPG-2)'!F12","v":"ALE"},{"$f":"'FEA___(MPG-5)'!F12","v":2.2999999999999998},{"$f":"'FEA___(MPG-5)'!I12","v":3.75},{"$f":"IF('FEA___(MPG-2)'!$B12,VLOOKUP(D12,VLLU,12,FALSE),\"\")","v":39.75},{"$f":"IF('FEA___(MPG-2)'!$B12,IFERROR((G12/U12)^(1/5)-1,\"N/A\"),\"\")","v":4.1480774766226469E-2},{"$f":"IF('FEA___(MPG-2)'!$B12,IFERROR(F12/G12,\"N/A\"),\"\")","v":9.4339622641509441E-2},{"$f":"IF('FEA___(MPG-2)'!$B12,IFERROR((2*(1+H12))/(2+H12),\"N/A\"),\"\")","v":1.0203189641944959},{"$f":"IF('FEA___(MPG-2)'!$B12,IFERROR(I12*J12,\"N/A\"),\"\")","v":9.6256506056084518E-2},{"$f":"'FEA___(MPG-5)'!L12","v":0.61333333333333329},{"$f":"IF('FEA___(MPG-2)'!$B12,IFERROR(1-L12,\"N/A\"),\"\")","v":0.38666666666666671},{"$f":"IF('FEA___(MPG-2)'!$B12,IFERROR(M12*K12,\"N/A\"),\"\")","v":3.7219182341686016E-2},{"$f":"IF('FEA___(MPG-2)'!$B12,IFERROR(IF(AB12<0,N12,N12+AB12),N12),\"\")","v":5.2351273455277146E-2},{"$f":"A12","v":1},null,{"$f":"B12","v":"ALLETE, Inc."},null,{"$f":"'FEA___(MPG-4)'!F12","v":50.052692307692311},{"$f":"IF('FEA___(MPG-2)'!$B12,VLOOKUP(D12,VLLU,11,FALSE),\"\")","v":32.44},{"$f":"IF('FEA___(MPG-2)'!$B12,IFERROR(T12/U12,\"N/A\"),\"\")","v":1.5429313288437829},{"$f":"IF('FEA___(MPG-2)'!$B12,VLOOKUP(D12,VLLU,8,FALSE),\"\")","v":41.4},{"$f":"IF('FEA___(MPG-2)'!$B12,VLOOKUP(D12,VLLU,9,FALSE),\"\")","v":47.5},{"$f":"IF('FEA___(MPG-2)'!$B12,IFERROR((X12/W12)^(1/($AC$8-$W$9))-1,\"N/A\"),\"\")","v":2.7871095863663209E-2},{"$f":"IF('FEA___(MPG-2)'!$B12,IFERROR(Y12*V12,\"N/A\"),\"\")","v":4.3003186977254339E-2},{"$f":"IF('FEA___(MPG-2)'!$B12,IFERROR(1-1/V12,\"N/A\"),\"\")","v":0.35188301559126167},{"$f":"IF('FEA___(MPG-2)'!$B12,Z12*AA12,\"\")","v":1.513209111359113E-2}]
[{"$f":"'FEA___(MPG-2)'!A13","v":2},{"$f":"'FEA___(MPG-2)'!D13","v":"Alliant Energy Corporation"},null,{"$f":"'FEA___(MPG-2)'!F13","v":"LNT"},{"$f":"'FEA___(MPG-5)'!F13","v":2.4},{"$f":"'FEA___(MPG-5)'!I13","v":4},{"$f":"IF('FEA___(MPG-2)'!$B13,VLOOKUP(D13,VLLU,12,FALSE),\"\")","v":34.799999999999997},{"$f":"IF('FEA___(MPG-2)'!$B13,IFERROR((G13/U13)^(1/5)-1,\"N/A\"),\"\")","v":3.3948217801496927E-2},{"$f":"IF('FEA___(MPG-2)'!$B13,IFERROR(F13/G13,\"N/A\"),\"\")","v":0.1149425287356322},{"$f":"IF('FEA___(MPG-2)'!$B13,IFERROR((2*(1+H13))/(2+H13),\"N/A\"),\"\")","v":1.0166907974865711},{"$f":"IF('FEA___(MPG-2)'!$B13,IFERROR(I13*J13,\"N/A\"),\"\")","v":0.11686101120535301},{"$f":"'FEA___(MPG-5)'!L13","v":0.6},{"$f":"IF('FEA___(MPG-2)'!$B13,IFERROR(1-L13,\"N/A\"),\"\")","v":0.4},{"$f":"IF('FEA___(MPG-2)'!$B13,IFERROR(M13*K13,\"N/A\"),\"\")","v":4.6744404482141205E-2},{"$f":"IF('FEA___(MPG-2)'!$B13,IFERROR(IF(AB13<0,N13,N13+AB13),N13),\"\")","v":5.237996798758375E-2},{"$f":"A13","v":2},null,{"$f":"B13","v":"Alliant Energy Corporation"},null,{"$f":"'FEA___(MPG-4)'!F13","v":52.68884615384615},{"$f":"IF('FEA___(MPG-2)'!$B13,VLOOKUP(D13,VLLU,11,FALSE),\"\")","v":29.45},{"$f":"IF('FEA___(MPG-2)'!$B13,IFERROR(T13/U13,\"N/A\"),\"\")","v":1.7890949458012275},{"$f":"IF('FEA___(MPG-2)'!$B13,VLOOKUP(D13,VLLU,8,FALSE),\"\")","v":110.98},{"$f":"IF('FEA___(MPG-2)'!$B13,VLOOKUP(D13,VLLU,9,FALSE),\"\")","v":115},{"$f":"IF('FEA___(MPG-2)'!$B13,IFERROR((X13/W13)^(1/($AC$8-$W$9))-1,\"N/A\"),\"\")","v":7.1418066170989558E-3},{"$f":"IF('FEA___(MPG-2)'!$B13,IFERROR(Y13*V13,\"N/A\"),\"\")","v":1.2777370122541504E-2},{"$f":"IF('FEA___(MPG-2)'!$B13,IFERROR(1-1/V13,\"N/A\"),\"\")","v":0.44105817170471051},{"$f":"IF('FEA___(MPG-2)'!$B13,Z13*AA13,\"\")","v":5.6355635054425486E-3}]
[{"$f":"'FEA___(MPG-2)'!A14","v":3},{"$f":"'FEA___(MPG-2)'!D14","v":"Avista Corporation"},null,{"$f":"'FEA___(MPG-2)'!F14","v":"AVA"},{"$f":"'FEA___(MPG-5)'!F14","v":1.4},{"$f":"'FEA___(MPG-5)'!I14","v":2.25},{"$f":"IF('FEA___(MPG-2)'!$B14,VLOOKUP(D14,VLLU,12,FALSE),\"\")","v":24.5},{"$f":"IF('FEA___(MPG-2)'!$B14,IFERROR((G14/U14)^(1/5)-1,\"N/A\"),\"\")","v":2.5041943888983287E-2},{"$f":"IF('FEA___(MPG-2)'!$B14,IFERROR(F14/G14,\"N/A\"),\"\")","v":9.1836734693877556E-2},{"$f":"IF('FEA___(MPG-2)'!$B14,IFERROR((2*(1+H14))/(2+H14),\"N/A\"),\"\")","v":1.0123661359037786},{"$f":"IF('FEA___(MPG-2)'!$B14,IFERROR(I14*J14,\"N/A\"),\"\")","v":9.2972400236061306E-2},{"$f":"'FEA___(MPG-5)'!L14","v":0.62222222222222223},{"$f":"IF('FEA___(MPG-2)'!$B14,IFERROR(1-L14,\"N/A\"),\"\")","v":0.37777777777777777},{"$f":"IF('FEA___(MPG-2)'!$B14,IFERROR(M14*K14,\"N/A\"),\"\")","v":3.5122906755845382E-2},{"$f":"IF('FEA___(MPG-2)'!$B14,IFERROR(IF(AB14<0,N14,N14+AB14),N14),\"\")","v":3.998241265640809E-2},3,null,"Avista Corporation",null,{"$f":"'FEA___(MPG-4)'!F14","v":29.042692307692302},{"$f":"IF('FEA___(MPG-2)'!$B14,VLOOKUP(D14,VLLU,11,FALSE),\"\")","v":21.65},{"$f":"IF('FEA___(MPG-2)'!$B14,IFERROR(T14/U14,\"N/A\"),\"\")","v":1.3414638479303604},{"$f":"IF('FEA___(MPG-2)'!$B14,VLOOKUP(D14,VLLU,8,FALSE),\"\")","v":60.1},{"$f":"IF('FEA___(MPG-2)'!$B14,VLOOKUP(D14,VLLU,9,FALSE),\"\")","v":64.5},{"$f":"IF('FEA___(MPG-2)'!$B14,IFERROR((X14/W14)^(1/($AC$8-$W$9))-1,\"N/A\"),\"\")","v":1.4231392078595029E-2},{"$f":"IF('FEA___(MPG-2)'!$B14,IFERROR(Y14*V14,\"N/A\"),\"\")","v":1.9090897979157737E-2},{"$f":"IF('FEA___(MPG-2)'!$B14,IFERROR(1-1/V14,\"N/A\"),\"\")","v":0.25454569532915727},{"$f":"IF('FEA___(MPG-2)'!$B14,Z14*AA14,\"\")","v":4.8595059005627095E-3}]
[{"$f":"'FEA___(MPG-2)'!A15","v":4},{"$f":"'FEA___(MPG-2)'!D15","v":"DTE Energy Company"},null,{"$f":"'FEA___(MPG-2)'!F15","v":"DTE"},{"$f":"'FEA___(MPG-5)'!F15","v":3.35},{"$f":"'FEA___(MPG-5)'!I15","v":5.25},{"$f":"IF('FEA___(MPG-2)'!$B15,VLOOKUP(D15,VLLU,12,FALSE),\"\")","v":54.5},{"$f":"IF('FEA___(MPG-2)'!$B15,IFERROR((G15/U15)^(1/5)-1,\"N/A\"),\"\")","v":4.0209204804678267E-2},{"$f":"IF('FEA___(MPG-2)'!$B15,IFERROR(F15/G15,\"N/A\"),\"\")","v":9.6330275229357804E-2},{"$f":"IF('FEA___(MPG-2)'!$B15,IFERROR((2*(1+H15))/(2+H15),\"N/A\"),\"\")","v":1.0197083733913102},{"$f":"IF('FEA___(MPG-2)'!$B15,IFERROR(I15*J15,\"N/A\"),\"\")","v":9.8228788262465658E-2},{"$f":"'FEA___(MPG-5)'!L15","v":0.63809523809523816},{"$f":"IF('FEA___(MPG-2)'!$B15,IFERROR(1-L15,\"N/A\"),\"\")","v":0.36190476190476184},{"$f":"IF('FEA___(MPG-2)'!$B15,IFERROR(M15*K15,\"N/A\"),\"\")","v":3.5549466228320899E-2},{"$f":"IF('FEA___(MPG-2)'!$B15,IFERROR(IF(AB15<0,N15,N15+AB15),N15),\"\")","v":4.3239872484731698E-2},4,null,"DTE Energy Company",null,{"$f":"'FEA___(MPG-4)'!F15","v":69.032307692307697},{"$f":"IF('FEA___(MPG-2)'!$B15,VLOOKUP(D15,VLLU,11,FALSE),\"\")","v":44.75},{"$f":"IF('FEA___(MPG-2)'!$B15,IFERROR(T15/U15,\"N/A\"),\"\")","v":1.5426214009454233},{"$f":"IF('FEA___(MPG-2)'!$B15,VLOOKUP(D15,VLLU,8,FALSE),\"\")","v":177.09},{"$f":"IF('FEA___(MPG-2)'!$B15,VLOOKUP(D15,VLLU,9,FALSE),\"\")","v":190},{"$f":"IF('FEA___(MPG-2)'!$B15,IFERROR((X15/W15)^(1/($AC$8-$W$9))-1,\"N/A\"),\"\")","v":1.4172692494272443E-2},{"$f":"IF('FEA___(MPG-2)'!$B15,IFERROR(Y15*V15,\"N/A\"),\"\")","v":2.1863098750683242E-2},{"$f":"IF('FEA___(MPG-2)'!$B15,IFERROR(1-1/V15,\"N/A\"),\"\")","v":0.35175280247821539},{"$f":"IF('FEA___(MPG-2)'!$B15,Z15*AA15,\"\")","v":7.6904062564108E-3}]
[{"$f":"'FEA___(MPG-2)'!A16","v":5},{"$f":"'FEA___(MPG-2)'!D16","v":"IDACORP, Inc."},null,{"$f":"'FEA___(MPG-2)'!F16","v":"IDA"},{"$f":"'FEA___(MPG-5)'!F16","v":2.2000000000000002},{"$f":"'FEA___(MPG-5)'!I16","v":3.6},{"$f":"IF('FEA___(MPG-2)'!$B16,VLOOKUP(D16,VLLU,12,FALSE),\"\")","v":41.75},{"$f":"IF('FEA___(MPG-2)'!$B16,IFERROR((G16/U16)^(1/5)-1,\"N/A\"),\"\")","v":2.4727538113760605E-2},{"$f":"IF('FEA___(MPG-2)'!$B16,IFERROR(F16/G16,\"N/A\"),\"\")","v":8.6227544910179643E-2},{"$f":"IF('FEA___(MPG-2)'!$B16,IFERROR((2*(1+H16))/(2+H16),\"N/A\"),\"\")","v":1.0122127731501083},{"$f":"IF('FEA___(MPG-2)'!$B16,IFERROR(I16*J16,\"N/A\"),\"\")","v":8.7280622355458443E-2},{"$f":"'FEA___(MPG-5)'!L16","v":0.61111111111111116},{"$f":"IF('FEA___(MPG-2)'!$B16,IFERROR(1-L16,\"N/A\"),\"\")","v":0.38888888888888884},{"$f":"IF('FEA___(MPG-2)'!$B16,IFERROR(M16*K16,\"N/A\"),\"\")","v":3.3942464249344946E-2},{"$f":"IF('FEA___(MPG-2)'!$B16,IFERROR(IF(AB16<0,N16,N16+AB16),N16),\"\")","v":3.5539679319814055E-2},5,null,"IDACORP, Inc.",null,{"$f":"'FEA___(MPG-4)'!F16","v":53.559615384615377},{"$f":"IF('FEA___(MPG-2)'!$B16,VLOOKUP(D16,VLLU,11,FALSE),\"\")","v":36.950000000000003},{"$f":"IF('FEA___(MPG-2)'!$B16,IFERROR(T16/U16,\"N/A\"),\"\")","v":1.4495159779327571},{"$f":"IF('FEA___(MPG-2)'!$B16,VLOOKUP(D16,VLLU,8,FALSE),\"\")","v":50.3},{"$f":"IF('FEA___(MPG-2)'!$B16,VLOOKUP(D16,VLLU,9,FALSE),\"\")","v":51.2},{"$f":"IF('FEA___(MPG-2)'!$B16,IFERROR((X16/W16)^(1/($AC$8-$W$9))-1,\"N/A\"),\"\")","v":3.5531886492987663E-3},{"$f":"IF('FEA___(MPG-2)'!$B16,IFERROR(Y16*V16,\"N/A\"),\"\")","v":5.1504037197678734E-3},{"$f":"IF('FEA___(MPG-2)'!$B16,IFERROR(1-1/V16,\"N/A\"),\"\")","v":0.31011453807762723},{"$f":"IF('FEA___(MPG-2)'!$B16,Z16*AA16,\"\")","v":1.597215070469107E-3}]
[{"$f":"'FEA___(MPG-2)'!A17","v":6},{"$f":"'FEA___(MPG-2)'!D17","v":"Integrys Energy Group, Inc."},null,{"$f":"'FEA___(MPG-2)'!F17","v":"TEG"},{"$f":"'FEA___(MPG-5)'!F17","v":3},{"$f":"'FEA___(MPG-5)'!I17","v":4.5},{"$f":"IF('FEA___(MPG-2)'!$B17,VLOOKUP(D17,VLLU,12,FALSE),\"\")","v":48},{"$f":"IF('FEA___(MPG-2)'!$B17,IFERROR((G17/U17)^(1/5)-1,\"N/A\"),\"\")","v":3.1776459930527245E-2},{"$f":"IF('FEA___(MPG-2)'!$B17,IFERROR(F17/G17,\"N/A\"),\"\")","v":9.375E-2},{"$f":"IF('FEA___(MPG-2)'!$B17,IFERROR((2*(1+H17))/(2+H17),\"N/A\"),\"\")","v":1.015639742145459},{"$f":"IF('FEA___(MPG-2)'!$B17,IFERROR(I17*J17,\"N/A\"),\"\")","v":9.5216225826136786E-2},{"$f":"'FEA___(MPG-5)'!L17","v":0.66666666666666663},{"$f":"IF('FEA___(MPG-2)'!$B17,IFERROR(1-L17,\"N/A\"),\"\")","v":0.33333333333333337},{"$f":"IF('FEA___(MPG-2)'!$B17,IFERROR(M17*K17,\"N/A\"),\"\")","v":3.1738741942045602E-2},{"$f":"IF('FEA___(MPG-2)'!$B17,IFERROR(IF(AB17<0,N17,N17+AB17),N17),\"\")","v":3.5222323204576148E-2},6,null,"Integrys Energy Group, Inc.",null,{"$f":"'FEA___(MPG-4)'!F17","v":55.359615384615381},{"$f":"IF('FEA___(MPG-2)'!$B17,VLOOKUP(D17,VLLU,11,FALSE),\"\")","v":41.05},{"$f":"IF('FEA___(MPG-2)'!$B17,IFERROR(T17/U17,\"N/A\"),\"\")","v":1.3485898997470251},{"$f":"IF('FEA___(MPG-2)'!$B17,VLOOKUP(D17,VLLU,8,FALSE),\"\")","v":79.45},{"$f":"IF('FEA___(MPG-2)'!$B17,VLOOKUP(D17,VLLU,9,FALSE),\"\")","v":83.5},{"$f":"IF('FEA___(MPG-2)'!$B17,IFERROR((X17/W17)^(1/($AC$8-$W$9))-1,\"N/A\"),\"\")","v":9.9933511127505703E-3},{"$f":"IF('FEA___(MPG-2)'!$B17,IFERROR(Y17*V17,\"N/A\"),\"\")","v":1.3476932375281114E-2},{"$f":"IF('FEA___(MPG-2)'!$B17,IFERROR(1-1/V17,\"N/A\"),\"\")","v":0.25848473269184002},{"$f":"IF('FEA___(MPG-2)'!$B17,Z17*AA17,\"\")","v":3.4835812625305432E-3}]
[{"$f":"'FEA___(MPG-2)'!A18","v":7},{"$f":"'FEA___(MPG-2)'!D18","v":"NextEra Energy, Inc."},null,{"$f":"'FEA___(MPG-2)'!F18","v":"NEE"},{"$f":"'FEA___(MPG-5)'!F18","v":3.9},{"$f":"'FEA___(MPG-5)'!I18","v":6.5},{"$f":"IF('FEA___(MPG-2)'!$B18,VLOOKUP(D18,VLLU,12,FALSE),\"\")","v":57.25},{"$f":"IF('FEA___(MPG-2)'!$B18,IFERROR((G18/U18)^(1/5)-1,\"N/A\"),\"\")","v":6.4672424373018123E-2},{"$f":"IF('FEA___(MPG-2)'!$B18,IFERROR(F18/G18,\"N/A\"),\"\")","v":0.11353711790393013},{"$f":"IF('FEA___(MPG-2)'!$B18,IFERROR((2*(1+H18))/(2+H18),\"N/A\"),\"\")","v":1.0313233342052588},{"$f":"IF('FEA___(MPG-2)'!$B18,IFERROR(I18*J18,\"N/A\"),\"\")","v":0.11709347899273681},{"$f":"'FEA___(MPG-5)'!L18","v":0.6},{"$f":"IF('FEA___(MPG-2)'!$B18,IFERROR(1-L18,\"N/A\"),\"\")","v":0.4},{"$f":"IF('FEA___(MPG-2)'!$B18,IFERROR(M18*K18,\"N/A\"),\"\")","v":4.6837391597094727E-2},{"$f":"IF('FEA___(MPG-2)'!$B18,IFERROR(IF(AB18<0,N18,N18+AB18),N18),\"\")","v":6.7067704162248457E-2},7,null,"NextEra Energy, Inc.",null,{"$f":"'FEA___(MPG-4)'!F18","v":90.296153846153842},{"$f":"IF('FEA___(MPG-2)'!$B18,VLOOKUP(D18,VLLU,11,FALSE),\"\")","v":41.85},{"$f":"IF('FEA___(MPG-2)'!$B18,IFERROR(T18/U18,\"N/A\"),\"\")","v":2.1576141898722541},{"$f":"IF('FEA___(MPG-2)'!$B18,VLOOKUP(D18,VLLU,8,FALSE),\"\")","v":431},{"$f":"IF('FEA___(MPG-2)'!$B18,VLOOKUP(D18,VLLU,9,FALSE),\"\")","v":470},{"$f":"IF('FEA___(MPG-2)'!$B18,IFERROR((X18/W18)^(1/($AC$8-$W$9))-1,\"N/A\"),\"\")","v":1.7475867816881374E-2},{"$f":"IF('FEA___(MPG-2)'!$B18,IFERROR(Y18*V18,\"N/A\"),\"\")","v":3.7706180382035104E-2},{"$f":"IF('FEA___(MPG-2)'!$B18,IFERROR(1-1/V18,\"N/A\"),\"\")","v":0.53652510968181621},{"$f":"IF('FEA___(MPG-2)'!$B18,Z18*AA18,\"\")","v":2.023031256515373E-2}]
[{"$f":"'FEA___(MPG-2)'!A19","v":8},{"$f":"'FEA___(MPG-2)'!D19","v":"Portland General Electric Company"},null,{"$f":"'FEA___(MPG-2)'!F19","v":"POR"},{"$f":"'FEA___(MPG-5)'!F19","v":1.25},{"$f":"'FEA___(MPG-5)'!I19","v":2.25},{"$f":"IF('FEA___(MPG-2)'!$B19,VLOOKUP(D19,VLLU,12,FALSE),\"\")","v":27},{"$f":"IF('FEA___(MPG-2)'!$B19,IFERROR((G19/U19)^(1/5)-1,\"N/A\"),\"\")","v":3.1246657133946032E-2},{"$f":"IF('FEA___(MPG-2)'!$B19,IFERROR(F19/G19,\"N/A\"),\"\")","v":8.3333333333333329E-2},{"$f":"IF('FEA___(MPG-2)'!$B19,IFERROR((2*(1+H19))/(2+H19),\"N/A\"),\"\")","v":1.0153829949820248},{"$f":"IF('FEA___(MPG-2)'!$B19,IFERROR(I19*J19,\"N/A\"),\"\")","v":8.4615249581835389E-2},{"$f":"'FEA___(MPG-5)'!L19","v":0.55555555555555558},{"$f":"IF('FEA___(MPG-2)'!$B19,IFERROR(1-L19,\"N/A\"),\"\")","v":0.44444444444444442},{"$f":"IF('FEA___(MPG-2)'!$B19,IFERROR(M19*K19,\"N/A\"),\"\")","v":3.7606777591926835E-2},{"$f":"IF('FEA___(MPG-2)'!$B19,IFERROR(IF(AB19<0,N19,N19+AB19),N19),\"\")","v":4.6732599549326168E-2},8,null,"Portland General Electric Company",null,{"$f":"'FEA___(MPG-4)'!F19","v":30.797692307692312},{"$f":"IF('FEA___(MPG-2)'!$B19,VLOOKUP(D19,VLLU,11,FALSE),\"\")","v":23.15},{"$f":"IF('FEA___(MPG-2)'!$B19,IFERROR(T19/U19,\"N/A\"),\"\")","v":1.3303538793819574},{"$f":"IF('FEA___(MPG-2)'!$B19,VLOOKUP(D19,VLLU,8,FALSE),\"\")","v":78.099999999999994},{"$f":"IF('FEA___(MPG-2)'!$B19,VLOOKUP(D19,VLLU,9,FALSE),\"\")","v":89.5},{"$f":"IF('FEA___(MPG-2)'!$B19,IFERROR((X19/W19)^(1/($AC$8-$W$9))-1,\"N/A\"),\"\")","v":2.7624382599872543E-2},{"$f":"IF('FEA___(MPG-2)'!$B19,IFERROR(Y19*V19,\"N/A\"),\"\")","v":3.6750204557271883E-2},{"$f":"IF('FEA___(MPG-2)'!$B19,IFERROR(1-1/V19,\"N/A\"),\"\")","v":0.24832030371906},{"$f":"IF('FEA___(MPG-2)'!$B19,Z19*AA19,\"\")","v":9.1258219573993361E-3}]
[{"$f":"'FEA___(MPG-2)'!A20","v":9},{"$f":"'FEA___(MPG-2)'!D20","v":"Sempra Energy"},null,{"$f":"'FEA___(MPG-2)'!F20","v":"SRE"},{"$f":"'FEA___(MPG-5)'!F20","v":3},{"$f":"'FEA___(MPG-5)'!I20","v":5.5},{"$f":"IF('FEA___(MPG-2)'!$B20,VLOOKUP(D20,VLLU,12,FALSE),\"\")","v":52.25},{"$f":"IF('FEA___(MPG-2)'!$B20,IFERROR((G20/U20)^(1/5)-1,\"N/A\"),\"\")","v":3.685961925073622E-2},{"$f":"IF('FEA___(MPG-2)'!$B20,IFERROR(F20/G20,\"N/A\"),\"\")","v":0.10526315789473684},{"$f":"IF('FEA___(MPG-2)'!$B20,IFERROR((2*(1+H20))/(2+H20),\"N/A\"),\"\")","v":1.018096298292906},{"$f":"IF('FEA___(MPG-2)'!$B20,IFERROR(I20*J20,\"N/A\"),\"\")","v":0.10716803139925327},{"$f":"'FEA___(MPG-5)'!L20","v":0.54545454545454541},{"$f":"IF('FEA___(MPG-2)'!$B20,IFERROR(1-L20,\"N/A\"),\"\")","v":0.45454545454545459},{"$f":"IF('FEA___(MPG-2)'!$B20,IFERROR(M20*K20,\"N/A\"),\"\")","v":4.8712741545115124E-2},{"$f":"IF('FEA___(MPG-2)'!$B20,IFERROR(IF(AB20<0,N20,N20+AB20),N20),\"\")","v":5.3747996141733187E-2},9,null,"Sempra Energy",null,{"$f":"'FEA___(MPG-4)'!F20","v":92.834230769230757},{"$f":"IF('FEA___(MPG-2)'!$B20,VLOOKUP(D20,VLLU,11,FALSE),\"\")","v":43.6},{"$f":"IF('FEA___(MPG-2)'!$B20,IFERROR(T20/U20,\"N/A\"),\"\")","v":2.1292254763585037},{"$f":"IF('FEA___(MPG-2)'!$B20,VLOOKUP(D20,VLLU,8,FALSE),\"\")","v":244.5},{"$f":"IF('FEA___(MPG-2)'!$B20,VLOOKUP(D20,VLLU,9,FALSE),\"\")","v":250},{"$f":"IF('FEA___(MPG-2)'!$B20,IFERROR((X20/W20)^(1/($AC$8-$W$9))-1,\"N/A\"),\"\")","v":4.4590338263139628E-3},{"$f":"IF('FEA___(MPG-2)'!$B20,IFERROR(Y20*V20,\"N/A\"),\"\")","v":9.4942884229320297E-3},{"$f":"IF('FEA___(MPG-2)'!$B20,IFERROR(1-1/V20,\"N/A\"),\"\")","v":0.53034565333576389},{"$f":"IF('FEA___(MPG-2)'!$B20,Z20*AA20,\"\")","v":5.0352545966180669E-3}]
[{"$f":"'FEA___(MPG-2)'!A21","v":10},{"$f":"'FEA___(MPG-2)'!D21","v":"Southern Company"},null,{"$f":"'FEA___(MPG-2)'!F21","v":"SO"},{"$f":"'FEA___(MPG-5)'!F21","v":2.36},{"$f":"'FEA___(MPG-5)'!I21","v":3.25},{"$f":"IF('FEA___(MPG-2)'!$B21,VLOOKUP(D21,VLLU,12,FALSE),\"\")","v":26.5},{"$f":"IF('FEA___(MPG-2)'!$B21,IFERROR((G21/U21)^(1/5)-1,\"N/A\"),\"\")","v":4.3190721125046849E-2},{"$f":"IF('FEA___(MPG-2)'!$B21,IFERROR(F21/G21,\"N/A\"),\"\")","v":0.12264150943396226},{"$f":"IF('FEA___(MPG-2)'!$B21,IFERROR((2*(1+H21))/(2+H21),\"N/A\"),\"\")","v":1.0211388592746078},{"$f":"IF('FEA___(MPG-2)'!$B21,IFERROR(I21*J21,\"N/A\"),\"\")","v":0.12523401104311227},{"$f":"'FEA___(MPG-5)'!L21","v":0.72615384615384615},{"$f":"IF('FEA___(MPG-2)'!$B21,IFERROR(1-L21,\"N/A\"),\"\")","v":0.27384615384615385},{"$f":"IF('FEA___(MPG-2)'!$B21,IFERROR(M21*K21,\"N/A\"),\"\")","v":3.4294852254883053E-2},{"$f":"IF('FEA___(MPG-2)'!$B21,IFERROR(IF(AB21<0,N21,N21+AB21),N21),\"\")","v":4.518568608263672E-2},10,null,"Southern Company",null,{"$f":"'FEA___(MPG-4)'!F21","v":41.858461538461533},{"$f":"IF('FEA___(MPG-2)'!$B21,VLOOKUP(D21,VLLU,11,FALSE),\"\")","v":21.45},{"$f":"IF('FEA___(MPG-2)'!$B21,IFERROR(T21/U21,\"N/A\"),\"\")","v":1.9514434283665052},{"$f":"IF('FEA___(MPG-2)'!$B21,VLOOKUP(D21,VLLU,8,FALSE),\"\")","v":888},{"$f":"IF('FEA___(MPG-2)'!$B21,VLOOKUP(D21,VLLU,9,FALSE),\"\")","v":940},{"$f":"IF('FEA___(MPG-2)'!$B21,IFERROR((X21/W21)^(1/($AC$8-$W$9))-1,\"N/A\"),\"\")","v":1.1446643597561756E-2},{"$f":"IF('FEA___(MPG-2)'!$B21,IFERROR(Y21*V21,\"N/A\"),\"\")","v":2.233747742531542E-2},{"$f":"IF('FEA___(MPG-2)'!$B21,IFERROR(1-1/V21,\"N/A\"),\"\")","v":0.48755880623346071},{"$f":"IF('FEA___(MPG-2)'!$B21,Z21*AA21,\"\")","v":1.0890833827753663E-2}]
[{"$f":"'FEA___(MPG-2)'!A22","v":11},{"$f":"'FEA___(MPG-2)'!D22","v":"Westar Energy, Inc."},null,{"$f":"'FEA___(MPG-2)'!F22","v":"WR"},{"$f":"'FEA___(MPG-5)'!F22","v":1.56},{"$f":"'FEA___(MPG-5)'!I22","v":2.75},{"$f":"IF('FEA___(MPG-2)'!$B22,VLOOKUP(D22,VLLU,12,FALSE),\"\")","v":29.65},{"$f":"IF('FEA___(MPG-2)'!$B22,IFERROR((G22/U22)^(1/5)-1,\"N/A\"),\"\")","v":4.9202291226268846E-2},{"$f":"IF('FEA___(MPG-2)'!$B22,IFERROR(F22/G22,\"N/A\"),\"\")","v":9.2748735244519404E-2},{"$f":"IF('FEA___(MPG-2)'!$B22,IFERROR((2*(1+H22))/(2+H22),\"N/A\"),\"\")","v":1.0240104607714573},{"$f":"IF('FEA___(MPG-2)'!$B22,IFERROR(I22*J22,\"N/A\"),\"\")","v":9.4975675113710217E-2},{"$f":"'FEA___(MPG-5)'!L22","v":0.56727272727272726},{"$f":"IF('FEA___(MPG-2)'!$B22,IFERROR(1-L22,\"N/A\"),\"\")","v":0.43272727272727274},{"$f":"IF('FEA___(MPG-2)'!$B22,IFERROR(M22*K22,\"N/A\"),\"\")","v":4.1098564867387333E-2},{"$f":"IF('FEA___(MPG-2)'!$B22,IFERROR(IF(AB22<0,N22,N22+AB22),N22),\"\")","v":4.6171361788601761E-2},11,null,"Westar Energy, Inc.",null,{"$f":"'FEA___(MPG-4)'!F22","v":33.552692307692311},{"$f":"IF('FEA___(MPG-2)'!$B22,VLOOKUP(D22,VLLU,11,FALSE),\"\")","v":23.32},{"$f":"IF('FEA___(MPG-2)'!$B22,IFERROR(T22/U22,\"N/A\"),\"\")","v":1.4387946958701676},{"$f":"IF('FEA___(MPG-2)'!$B22,VLOOKUP(D22,VLLU,8,FALSE),\"\")","v":127.46},{"$f":"IF('FEA___(MPG-2)'!$B22,VLOOKUP(D22,VLLU,9,FALSE),\"\")","v":135},{"$f":"IF('FEA___(MPG-2)'!$B22,IFERROR((X22/W22)^(1/($AC$8-$W$9))-1,\"N/A\"),\"\")","v":1.1560752600153101E-2},{"$f":"IF('FEA___(MPG-2)'!$B22,IFERROR(Y22*V22,\"N/A\"),\"\")","v":1.663354952136753E-2},{"$f":"IF('FEA___(MPG-2)'!$B22,IFERROR(1-1/V22,\"N/A\"),\"\")","v":0.30497380698556809},{"$f":"IF('FEA___(MPG-2)'!$B22,Z22*AA22,\"\")","v":5.0727969212144295E-3}]
[{"$f":"'FEA___(MPG-2)'!A23","v":12},{"$f":"'FEA___(MPG-2)'!D23","v":"Wisconsin Energy Corporation"},null,{"$f":"'FEA___(MPG-2)'!F23","v":"WEC"},{"$f":"'FEA___(MPG-5)'!F23","v":2.1},{"$f":"'FEA___(MPG-5)'!I23","v":3.25},{"$f":"IF('FEA___(MPG-2)'!$B23,VLOOKUP(D23,VLLU,12,FALSE),\"\")","v":20.75},{"$f":"IF('FEA___(MPG-2)'!$B23,IFERROR((G23/U23)^(1/5)-1,\"N/A\"),\"\")","v":2.0477340645342901E-2},{"$f":"IF('FEA___(MPG-2)'!$B23,IFERROR(F23/G23,\"N/A\"),\"\")","v":0.15662650602409639},{"$f":"IF('FEA___(MPG-2)'!$B23,IFERROR((2*(1+H23))/(2+H23),\"N/A\"),\"\")","v":1.0101349023982633},{"$f":"IF('FEA___(MPG-2)'!$B23,IFERROR(I23*J23,\"N/A\"),\"\")","v":0.1582139003756316},{"$f":"'FEA___(MPG-5)'!L23","v":0.64615384615384619},{"$f":"IF('FEA___(MPG-2)'!$B23,IFERROR(1-L23,\"N/A\"),\"\")","v":0.35384615384615381},{"$f":"IF('FEA___(MPG-2)'!$B23,IFERROR(M23*K23,\"N/A\"),\"\")","v":5.5983380132915789E-2},{"$f":"IF('FEA___(MPG-2)'!$B23,IFERROR(IF(AB23<0,N23,N23+AB23),N23),\"\")","v":5.5983380132915789E-2},12,null,"Wisconsin Energy Corporation",null,{"$f":"'FEA___(MPG-4)'!F23","v":42.946923076923071},{"$f":"IF('FEA___(MPG-2)'!$B23,VLOOKUP(D23,VLLU,11,FALSE),\"\")","v":18.75},{"$f":"IF('FEA___(MPG-2)'!$B23,IFERROR(T23/U23,\"N/A\"),\"\")","v":2.2905025641025638},{"$f":"IF('FEA___(MPG-2)'!$B23,VLOOKUP(D23,VLLU,8,FALSE),\"\")","v":225.5},{"$f":"IF('FEA___(MPG-2)'!$B23,VLOOKUP(D23,VLLU,9,FALSE),\"\")","v":217},{"$f":"IF('FEA___(MPG-2)'!$B23,IFERROR((X23/W23)^(1/($AC$8-$W$9))-1,\"N/A\"),\"\")","v":-7.6551103279419719E-3},{"$f":"IF('FEA___(MPG-2)'!$B23,IFERROR(Y23*V23,\"N/A\"),\"\")","v":-1.7534049834639104E-2},{"$f":"IF('FEA___(MPG-2)'!$B23,IFERROR(1-1/V23,\"N/A\"),\"\")","v":0.5634145904604968},{"$f":"IF('FEA___(MPG-2)'!$B23,Z23*AA23,\"\")","v":-9.8789395066971319E-3}]
[{"$f":"'FEA___(MPG-2)'!A24","v":13},{"$f":"'FEA___(MPG-2)'!D24","v":"Xcel Energy Inc."},null,{"$f":"'FEA___(MPG-2)'!F24","v":"XEL"},{"$f":"'FEA___(MPG-5)'!F24","v":1.35},{"$f":"'FEA___(MPG-5)'!I24","v":2.25},{"$f":"IF('FEA___(MPG-2)'!$B24,VLOOKUP(D24,VLLU,12,FALSE),\"\")","v":23},{"$f":"IF('FEA___(MPG-2)'!$B24,IFERROR((G24/U24)^(1/5)-1,\"N/A\"),\"\")","v":3.5700308007869053E-2},{"$f":"IF('FEA___(MPG-2)'!$B24,IFERROR(F24/G24,\"N/A\"),\"\")","v":9.7826086956521743E-2},{"$f":"IF('FEA___(MPG-2)'!$B24,IFERROR((2*(1+H24))/(2+H24),\"N/A\"),\"\")","v":1.0175371138214373},{"$f":"IF('FEA___(MPG-2)'!$B24,IFERROR(I24*J24,\"N/A\"),\"\")","v":9.9541674178184089E-2},{"$f":"'FEA___(MPG-5)'!L24","v":0.60000000000000009},{"$f":"IF('FEA___(MPG-2)'!$B24,IFERROR(1-L24,\"N/A\"),\"\")","v":0.39999999999999991},{"$f":"IF('FEA___(MPG-2)'!$B24,IFERROR(M24*K24,\"N/A\"),\"\")","v":3.9816669671273626E-2},{"$f":"IF('FEA___(MPG-2)'!$B24,IFERROR(IF(AB24<0,N24,N24+AB24),N24),\"\")","v":4.2417082223302108E-2},13,null,"Xcel Energy Inc.",null,{"$f":"'FEA___(MPG-4)'!F24","v":29.09},{"$f":"IF('FEA___(MPG-2)'!$B24,VLOOKUP(D24,VLLU,11,FALSE),\"\")","v":19.3},{"$f":"IF('FEA___(MPG-2)'!$B24,IFERROR(T24/U24,\"N/A\"),\"\")","v":1.5072538860103626},{"$f":"IF('FEA___(MPG-2)'!$B24,VLOOKUP(D24,VLLU,8,FALSE),\"\")","v":502},{"$f":"IF('FEA___(MPG-2)'!$B24,VLOOKUP(D24,VLLU,9,FALSE),\"\")","v":515},{"$f":"IF('FEA___(MPG-2)'!$B24,IFERROR((X24/W24)^(1/($AC$8-$W$9))-1,\"N/A\"),\"\")","v":5.1264517113533969E-3},{"$f":"IF('FEA___(MPG-2)'!$B24,IFERROR(Y24*V24,\"N/A\"),\"\")","v":7.7268642633818814E-3},{"$f":"IF('FEA___(MPG-2)'!$B24,IFERROR(1-1/V24,\"N/A\"),\"\")","v":0.33654176693021653},{"$f":"IF('FEA___(MPG-2)'!$B24,Z24*AA24,\"\")","v":2.6004125520284844E-3}]
[{"$f":"'FEA___(MPG-2)'!A25","v":""},{"$f":"'FEA___(MPG-2)'!D25","v":""},null,{"$f":"'FEA___(MPG-2)'!F25","v":""},{"$f":"'FEA___(MPG-5)'!F25","v":""},{"$f":"'FEA___(MPG-5)'!I25","v":""},{"$f":"IF('FEA___(MPG-2)'!$B25,VLOOKUP(D25,VLLU,12,FALSE),\"\")","v":""},{"$f":"IF('FEA___(MPG-2)'!$B25,IFERROR((G25/U25)^(1/5)-1,\"N/A\"),\"\")","v":""},{"$f":"IF('FEA___(MPG-2)'!$B25,IFERROR(F25/G25,\"N/A\"),\"\")","v":""},{"$f":"IF('FEA___(MPG-2)'!$B25,IFERROR((2*(1+H25))/(2+H25),\"N/A\"),\"\")","v":""},{"$f":"IF('FEA___(MPG-2)'!$B25,IFERROR(I25*J25,\"N/A\"),\"\")","v":""},{"$f":"'FEA___(MPG-5)'!L25","v":""},{"$f":"IF('FEA___(MPG-2)'!$B25,IFERROR(1-L25,\"N/A\"),\"\")","v":""},{"$f":"IF('FEA___(MPG-2)'!$B25,IFERROR(M25*K25,\"N/A\"),\"\")","v":""},{"$f":"IF('FEA___(MPG-2)'!$B25,IFERROR(IF(AB25<0,N25,N25+AB25),N25),\"\")","v":""},"",null,"",null,{"$f":"'FEA___(MPG-4)'!F25","v":""},{"$f":"IF('FEA___(MPG-2)'!$B25,VLOOKUP(D25,VLLU,11,FALSE),\"\")","v":""},{"$f":"IF('FEA___(MPG-2)'!$B25,IFERROR(T25/U25,\"N/A\"),\"\")","v":""},{"$f":"IF('FEA___(MPG-2)'!$B25,VLOOKUP(D25,VLLU,8,FALSE),\"\")","v":""},{"$f":"IF('FEA___(MPG-2)'!$B25,VLOOKUP(D25,VLLU,9,FALSE),\"\")","v":""},{"$f":"IF('FEA___(MPG-2)'!$B25,IFERROR((X25/W25)^(1/($AC$8-$W$9))-1,\"N/A\"),\"\")","v":""},{"$f":"IF('FEA___(MPG-2)'!$B25,IFERROR(Y25*V25,\"N/A\"),\"\")","v":""},{"$f":"IF('FEA___(MPG-2)'!$B25,IFERROR(1-1/V25,\"N/A\"),\"\")","v":""},{"$f":"IF('FEA___(MPG-2)'!$B25,Z25*AA25,\"\")","v":""}]
[{"$f":"'FEA___(MPG-2)'!A26","v":""},{"$f":"'FEA___(MPG-2)'!D26","v":""},null,{"$f":"'FEA___(MPG-2)'!F26","v":""},{"$f":"'FEA___(MPG-5)'!F26","v":""},{"$f":"'FEA___(MPG-5)'!I26","v":""},{"$f":"IF('FEA___(MPG-2)'!$B26,VLOOKUP(D26,VLLU,12,FALSE),\"\")","v":""},{"$f":"IF('FEA___(MPG-2)'!$B26,IFERROR((G26/U26)^(1/5)-1,\"N/A\"),\"\")","v":""},{"$f":"IF('FEA___(MPG-2)'!$B26,IFERROR(F26/G26,\"N/A\"),\"\")","v":""},{"$f":"IF('FEA___(MPG-2)'!$B26,IFERROR((2*(1+H26))/(2+H26),\"N/A\"),\"\")","v":""},{"$f":"IF('FEA___(MPG-2)'!$B26,IFERROR(I26*J26,\"N/A\"),\"\")","v":""},{"$f":"'FEA___(MPG-5)'!L26","v":""},{"$f":"IF('FEA___(MPG-2)'!$B26,IFERROR(1-L26,\"N/A\"),\"\")","v":""},{"$f":"IF('FEA___(MPG-2)'!$B26,IFERROR(M26*K26,\"N/A\"),\"\")","v":""},{"$f":"IF('FEA___(MPG-2)'!$B26,IFERROR(IF(AB26<0,N26,N26+AB26),N26),\"\")","v":""},"",null,"",null,{"$f":"'FEA___(MPG-4)'!F26","v":""},{"$f":"IF('FEA___(MPG-2)'!$B26,VLOOKUP(D26,VLLU,11,FALSE),\"\")","v":""},{"$f":"IF('FEA___(MPG-2)'!$B26,IFERROR(T26/U26,\"N/A\"),\"\")","v":""},{"$f":"IF('FEA___(MPG-2)'!$B26,VLOOKUP(D26,VLLU,8,FALSE),\"\")","v":""},{"$f":"IF('FEA___(MPG-2)'!$B26,VLOOKUP(D26,VLLU,9,FALSE),\"\")","v":""},{"$f":"IF('FEA___(MPG-2)'!$B26,IFERROR((X26/W26)^(1/($AC$8-$W$9))-1,\"N/A\"),\"\")","v":""},{"$f":"IF('FEA___(MPG-2)'!$B26,IFERROR(Y26*V26,\"N/A\"),\"\")","v":""},{"$f":"IF('FEA___(MPG-2)'!$B26,IFERROR(1-1/V26,\"N/A\"),\"\")","v":""},{"$f":"IF('FEA___(MPG-2)'!$B26,Z26*AA26,\"\")","v":""}]
[{"$f":"'FEA___(MPG-2)'!A27","v":""},{"$f":"'FEA___(MPG-2)'!D27","v":""},null,{"$f":"'FEA___(MPG-2)'!F27","v":""},{"$f":"'FEA___(MPG-5)'!F27","v":""},{"$f":"'FEA___(MPG-5)'!I27","v":""},{"$f":"IF('FEA___(MPG-2)'!$B27,VLOOKUP(D27,VLLU,12,FALSE),\"\")","v":""},{"$f":"IF('FEA___(MPG-2)'!$B27,IFERROR((G27/U27)^(1/5)-1,\"N/A\"),\"\")","v":""},{"$f":"IF('FEA___(MPG-2)'!$B27,IFERROR(F27/G27,\"N/A\"),\"\")","v":""},{"$f":"IF('FEA___(MPG-2)'!$B27,IFERROR((2*(1+H27))/(2+H27),\"N/A\"),\"\")","v":""},{"$f":"IF('FEA___(MPG-2)'!$B27,IFERROR(I27*J27,\"N/A\"),\"\")","v":""},{"$f":"'FEA___(MPG-5)'!L27","v":""},{"$f":"IF('FEA___(MPG-2)'!$B27,IFERROR(1-L27,\"N/A\"),\"\")","v":""},{"$f":"IF('FEA___(MPG-2)'!$B27,IFERROR(M27*K27,\"N/A\"),\"\")","v":""},{"$f":"IF('FEA___(MPG-2)'!$B27,IFERROR(IF(AB27<0,N27,N27+AB27),N27),\"\")","v":""},"",null,"",null,{"$f":"'FEA___(MPG-4)'!F27","v":""},{"$f":"IF('FEA___(MPG-2)'!$B27,VLOOKUP(D27,VLLU,11,FALSE),\"\")","v":""},{"$f":"IF('FEA___(MPG-2)'!$B27,IFERROR(T27/U27,\"N/A\"),\"\")","v":""},{"$f":"IF('FEA___(MPG-2)'!$B27,VLOOKUP(D27,VLLU,8,FALSE),\"\")","v":""},{"$f":"IF('FEA___(MPG-2)'!$B27,VLOOKUP(D27,VLLU,9,FALSE),\"\")","v":""},{"$f":"IF('FEA___(MPG-2)'!$B27,IFERROR((X27/W27)^(1/($AC$8-$W$9))-1,\"N/A\"),\"\")","v":""},{"$f":"IF('FEA___(MPG-2)'!$B27,IFERROR(Y27*V27,\"N/A\"),\"\")","v":""},{"$f":"IF('FEA___(MPG-2)'!$B27,IFERROR(1-1/V27,\"N/A\"),\"\")","v":""},{"$f":"IF('FEA___(MPG-2)'!$B27,Z27*AA27,\"\")","v":""}]
[{"$f":"'FEA___(MPG-2)'!A28","v":""},{"$f":"'FEA___(MPG-2)'!D28","v":""},null,{"$f":"'FEA___(MPG-2)'!F28","v":""},{"$f":"'FEA___(MPG-5)'!F28","v":""},{"$f":"'FEA___(MPG-5)'!I28","v":""},{"$f":"IF('FEA___(MPG-2)'!$B28,VLOOKUP(D28,VLLU,12,FALSE),\"\")","v":""},{"$f":"IF('FEA___(MPG-2)'!$B28,IFERROR((G28/U28)^(1/5)-1,\"N/A\"),\"\")","v":""},{"$f":"IF('FEA___(MPG-2)'!$B28,IFERROR(F28/G28,\"N/A\"),\"\")","v":""},{"$f":"IF('FEA___(MPG-2)'!$B28,IFERROR((2*(1+H28))/(2+H28),\"N/A\"),\"\")","v":""},{"$f":"IF('FEA___(MPG-2)'!$B28,IFERROR(I28*J28,\"N/A\"),\"\")","v":""},{"$f":"'FEA___(MPG-5)'!L28","v":""},{"$f":"IF('FEA___(MPG-2)'!$B28,IFERROR(1-L28,\"N/A\"),\"\")","v":""},{"$f":"IF('FEA___(MPG-2)'!$B28,IFERROR(M28*K28,\"N/A\"),\"\")","v":""},{"$f":"IF('FEA___(MPG-2)'!$B28,IFERROR(IF(AB28<0,N28,N28+AB28),N28),\"\")","v":""},"",null,"",null,{"$f":"'FEA___(MPG-4)'!F28","v":""},{"$f":"IF('FEA___(MPG-2)'!$B28,VLOOKUP(D28,VLLU,11,FALSE),\"\")","v":""},{"$f":"IF('FEA___(MPG-2)'!$B28,IFERROR(T28/U28,\"N/A\"),\"\")","v":""},{"$f":"IF('FEA___(MPG-2)'!$B28,VLOOKUP(D28,VLLU,8,FALSE),\"\")","v":""},{"$f":"IF('FEA___(MPG-2)'!$B28,VLOOKUP(D28,VLLU,9,FALSE),\"\")","v":""},{"$f":"IF('FEA___(MPG-2)'!$B28,IFERROR((X28/W28)^(1/($AC$8-$W$9))-1,\"N/A\"),\"\")","v":""},{"$f":"IF('FEA___(MPG-2)'!$B28,IFERROR(Y28*V28,\"N/A\"),\"\")","v":""},{"$f":"IF('FEA___(MPG-2)'!$B28,IFERROR(1-1/V28,\"N/A\"),\"\")","v":""},{"$f":"IF('FEA___(MPG-2)'!$B28,Z28*AA28,\"\")","v":""}]
[{"$f":"'FEA___(MPG-2)'!A29","v":""},{"$f":"'FEA___(MPG-2)'!D29","v":""},null,{"$f":"'FEA___(MPG-2)'!F29","v":""},{"$f":"'FEA___(MPG-5)'!F29","v":""},{"$f":"'FEA___(MPG-5)'!I29","v":""},{"$f":"IF('FEA___(MPG-2)'!$B29,VLOOKUP(D29,VLLU,12,FALSE),\"\")","v":""},{"$f":"IF('FEA___(MPG-2)'!$B29,IFERROR((G29/U29)^(1/5)-1,\"N/A\"),\"\")","v":""},{"$f":"IF('FEA___(MPG-2)'!$B29,IFERROR(F29/G29,\"N/A\"),\"\")","v":""},{"$f":"IF('FEA___(MPG-2)'!$B29,IFERROR((2*(1+H29))/(2+H29),\"N/A\"),\"\")","v":""},{"$f":"IF('FEA___(MPG-2)'!$B29,IFERROR(I29*J29,\"N/A\"),\"\")","v":""},{"$f":"'FEA___(MPG-5)'!L29","v":""},{"$f":"IF('FEA___(MPG-2)'!$B29,IFERROR(1-L29,\"N/A\"),\"\")","v":""},{"$f":"IF('FEA___(MPG-2)'!$B29,IFERROR(M29*K29,\"N/A\"),\"\")","v":""},{"$f":"IF('FEA___(MPG-2)'!$B29,IFERROR(IF(AB29<0,N29,N29+AB29),N29),\"\")","v":""},"",null,"",null,{"$f":"'FEA___(MPG-4)'!F29","v":""},{"$f":"IF('FEA___(MPG-2)'!$B29,VLOOKUP(D29,VLLU,11,FALSE),\"\")","v":""},{"$f":"IF('FEA___(MPG-2)'!$B29,IFERROR(T29/U29,\"N/A\"),\"\")","v":""},{"$f":"IF('FEA___(MPG-2)'!$B29,VLOOKUP(D29,VLLU,8,FALSE),\"\")","v":""},{"$f":"IF('FEA___(MPG-2)'!$B29,VLOOKUP(D29,VLLU,9,FALSE),\"\")","v":""},{"$f":"IF('FEA___(MPG-2)'!$B29,IFERROR((X29/W29)^(1/($AC$8-$W$9))-1,\"N/A\"),\"\")","v":""},{"$f":"IF('FEA___(MPG-2)'!$B29,IFERROR(Y29*V29,\"N/A\"),\"\")","v":""},{"$f":"IF('FEA___(MPG-2)'!$B29,IFERROR(1-1/V29,\"N/A\"),\"\")","v":""},{"$f":"IF('FEA___(MPG-2)'!$B29,Z29*AA29,\"\")","v":""}]
[{"$f":"'FEA___(MPG-2)'!A30","v":""},{"$f":"'FEA___(MPG-2)'!D30","v":""},null,{"$f":"'FEA___(MPG-2)'!F30","v":""},{"$f":"'FEA___(MPG-5)'!F30","v":""},{"$f":"'FEA___(MPG-5)'!I30","v":""},{"$f":"IF('FEA___(MPG-2)'!$B30,VLOOKUP(D30,VLLU,12,FALSE),\"\")","v":""},{"$f":"IF('FEA___(MPG-2)'!$B30,IFERROR((G30/U30)^(1/5)-1,\"N/A\"),\"\")","v":""},{"$f":"IF('FEA___(MPG-2)'!$B30,IFERROR(F30/G30,\"N/A\"),\"\")","v":""},{"$f":"IF('FEA___(MPG-2)'!$B30,IFERROR((2*(1+H30))/(2+H30),\"N/A\"),\"\")","v":""},{"$f":"IF('FEA___(MPG-2)'!$B30,IFERROR(I30*J30,\"N/A\"),\"\")","v":""},{"$f":"'FEA___(MPG-5)'!L30","v":""},{"$f":"IF('FEA___(MPG-2)'!$B30,IFERROR(1-L30,\"N/A\"),\"\")","v":""},{"$f":"IF('FEA___(MPG-2)'!$B30,IFERROR(M30*K30,\"N/A\"),\"\")","v":""},{"$f":"IF('FEA___(MPG-2)'!$B30,IFERROR(IF(AB30<0,N30,N30+AB30),N30),\"\")","v":""},"",null,"",null,{"$f":"'FEA___(MPG-4)'!F30","v":""},{"$f":"IF('FEA___(MPG-2)'!$B30,VLOOKUP(D30,VLLU,11,FALSE),\"\")","v":""},{"$f":"IF('FEA___(MPG-2)'!$B30,IFERROR(T30/U30,\"N/A\"),\"\")","v":""},{"$f":"IF('FEA___(MPG-2)'!$B30,VLOOKUP(D30,VLLU,8,FALSE),\"\")","v":""},{"$f":"IF('FEA___(MPG-2)'!$B30,VLOOKUP(D30,VLLU,9,FALSE),\"\")","v":""},{"$f":"IF('FEA___(MPG-2)'!$B30,IFERROR((X30/W30)^(1/($AC$8-$W$9))-1,\"N/A\"),\"\")","v":""},{"$f":"IF('FEA___(MPG-2)'!$B30,IFERROR(Y30*V30,\"N/A\"),\"\")","v":""},{"$f":"IF('FEA___(MPG-2)'!$B30,IFERROR(1-1/V30,\"N/A\"),\"\")","v":""},{"$f":"IF('FEA___(MPG-2)'!$B30,Z30*AA30,\"\")","v":""}]
[{"$f":"'FEA___(MPG-2)'!A31","v":""},{"$f":"'FEA___(MPG-2)'!D31","v":""},null,{"$f":"'FEA___(MPG-2)'!F31","v":""},{"$f":"'FEA___(MPG-5)'!F31","v":""},{"$f":"'FEA___(MPG-5)'!I31","v":""},{"$f":"IF('FEA___(MPG-2)'!$B31,VLOOKUP(D31,VLLU,12,FALSE),\"\")","v":""},{"$f":"IF('FEA___(MPG-2)'!$B31,IFERROR((G31/U31)^(1/5)-1,\"N/A\"),\"\")","v":""},{"$f":"IF('FEA___(MPG-2)'!$B31,IFERROR(F31/G31,\"N/A\"),\"\")","v":""},{"$f":"IF('FEA___(MPG-2)'!$B31,IFERROR((2*(1+H31))/(2+H31),\"N/A\"),\"\")","v":""},{"$f":"IF('FEA___(MPG-2)'!$B31,IFERROR(I31*J31,\"N/A\"),\"\")","v":""},{"$f":"'FEA___(MPG-5)'!L31","v":""},{"$f":"IF('FEA___(MPG-2)'!$B31,IFERROR(1-L31,\"N/A\"),\"\")","v":""},{"$f":"IF('FEA___(MPG-2)'!$B31,IFERROR(M31*K31,\"N/A\"),\"\")","v":""},{"$f":"IF('FEA___(MPG-2)'!$B31,IFERROR(IF(AB31<0,N31,N31+AB31),N31),\"\")","v":""},"",null,"",null,{"$f":"'FEA___(MPG-4)'!F31","v":""},{"$f":"IF('FEA___(MPG-2)'!$B31,VLOOKUP(D31,VLLU,11,FALSE),\"\")","v":""},{"$f":"IF('FEA___(MPG-2)'!$B31,IFERROR(T31/U31,\"N/A\"),\"\")","v":""},{"$f":"IF('FEA___(MPG-2)'!$B31,VLOOKUP(D31,VLLU,8,FALSE),\"\")","v":""},{"$f":"IF('FEA___(MPG-2)'!$B31,VLOOKUP(D31,VLLU,9,FALSE),\"\")","v":""},{"$f":"IF('FEA___(MPG-2)'!$B31,IFERROR((X31/W31)^(1/($AC$8-$W$9))-1,\"N/A\"),\"\")","v":""},{"$f":"IF('FEA___(MPG-2)'!$B31,IFERROR(Y31*V31,\"N/A\"),\"\")","v":""},{"$f":"IF('FEA___(MPG-2)'!$B31,IFERROR(1-1/V31,\"N/A\"),\"\")","v":""},{"$f":"IF('FEA___(MPG-2)'!$B31,Z31*AA31,\"\")","v":""}]
[{"$f":"'FEA___(MPG-2)'!A32","v":""},{"$f":"'FEA___(MPG-2)'!D32","v":""},null,{"$f":"'FEA___(MPG-2)'!F32","v":""},{"$f":"'FEA___(MPG-5)'!F32","v":""},{"$f":"'FEA___(MPG-5)'!I32","v":""},{"$f":"IF('FEA___(MPG-2)'!$B32,VLOOKUP(D32,VLLU,12,FALSE),\"\")","v":""},{"$f":"IF('FEA___(MPG-2)'!$B32,IFERROR((G32/U32)^(1/5)-1,\"N/A\"),\"\")","v":""},{"$f":"IF('FEA___(MPG-2)'!$B32,IFERROR(F32/G32,\"N/A\"),\"\")","v":""},{"$f":"IF('FEA___(MPG-2)'!$B32,IFERROR((2*(1+H32))/(2+H32),\"N/A\"),\"\")","v":""},{"$f":"IF('FEA___(MPG-2)'!$B32,IFERROR(I32*J32,\"N/A\"),\"\")","v":""},{"$f":"'FEA___(MPG-5)'!L32","v":""},{"$f":"IF('FEA___(MPG-2)'!$B32,IFERROR(1-L32,\"N/A\"),\"\")","v":""},{"$f":"IF('FEA___(MPG-2)'!$B32,IFERROR(M32*K32,\"N/A\"),\"\")","v":""},{"$f":"IF('FEA___(MPG-2)'!$B32,IFERROR(IF(AB32<0,N32,N32+AB32),N32),\"\")","v":""},"",null,"",null,{"$f":"'FEA___(MPG-4)'!F32","v":""},{"$f":"IF('FEA___(MPG-2)'!$B32,VLOOKUP(D32,VLLU,11,FALSE),\"\")","v":""},{"$f":"IF('FEA___(MPG-2)'!$B32,IFERROR(T32/U32,\"N/A\"),\"\")","v":""},{"$f":"IF('FEA___(MPG-2)'!$B32,VLOOKUP(D32,VLLU,8,FALSE),\"\")","v":""},{"$f":"IF('FEA___(MPG-2)'!$B32,VLOOKUP(D32,VLLU,9,FALSE),\"\")","v":""},{"$f":"IF('FEA___(MPG-2)'!$B32,IFERROR((X32/W32)^(1/($AC$8-$W$9))-1,\"N/A\"),\"\")","v":""},{"$f":"IF('FEA___(MPG-2)'!$B32,IFERROR(Y32*V32,\"N/A\"),\"\")","v":""},{"$f":"IF('FEA___(MPG-2)'!$B32,IFERROR(1-1/V32,\"N/A\"),\"\")","v":""},{"$f":"IF('FEA___(MPG-2)'!$B32,Z32*AA32,\"\")","v":""}]
[{"$f":"'FEA___(MPG-2)'!A33","v":""},{"$f":"'FEA___(MPG-2)'!D33","v":""},null,{"$f":"'FEA___(MPG-2)'!F33","v":""},{"$f":"'FEA___(MPG-5)'!F33","v":""},{"$f":"'FEA___(MPG-5)'!I33","v":""},{"$f":"IF('FEA___(MPG-2)'!$B33,VLOOKUP(D33,VLLU,12,FALSE),\"\")","v":""},{"$f":"IF('FEA___(MPG-2)'!$B33,IFERROR((G33/U33)^(1/5)-1,\"N/A\"),\"\")","v":""},{"$f":"IF('FEA___(MPG-2)'!$B33,IFERROR(F33/G33,\"N/A\"),\"\")","v":""},{"$f":"IF('FEA___(MPG-2)'!$B33,IFERROR((2*(1+H33))/(2+H33),\"N/A\"),\"\")","v":""},{"$f":"IF('FEA___(MPG-2)'!$B33,IFERROR(I33*J33,\"N/A\"),\"\")","v":""},{"$f":"'FEA___(MPG-5)'!L33","v":""},{"$f":"IF('FEA___(MPG-2)'!$B33,IFERROR(1-L33,\"N/A\"),\"\")","v":""},{"$f":"IF('FEA___(MPG-2)'!$B33,IFERROR(M33*K33,\"N/A\"),\"\")","v":""},{"$f":"IF('FEA___(MPG-2)'!$B33,IFERROR(IF(AB33<0,N33,N33+AB33),N33),\"\")","v":""},"",null,"",null,{"$f":"'FEA___(MPG-4)'!F33","v":""},{"$f":"IF('FEA___(MPG-2)'!$B33,VLOOKUP(D33,VLLU,11,FALSE),\"\")","v":""},{"$f":"IF('FEA___(MPG-2)'!$B33,IFERROR(T33/U33,\"N/A\"),\"\")","v":""},{"$f":"IF('FEA___(MPG-2)'!$B33,VLOOKUP(D33,VLLU,8,FALSE),\"\")","v":""},{"$f":"IF('FEA___(MPG-2)'!$B33,VLOOKUP(D33,VLLU,9,FALSE),\"\")","v":""},{"$f":"IF('FEA___(MPG-2)'!$B33,IFERROR((X33/W33)^(1/($AC$8-$W$9))-1,\"N/A\"),\"\")","v":""},{"$f":"IF('FEA___(MPG-2)'!$B33,IFERROR(Y33*V33,\"N/A\"),\"\")","v":""},{"$f":"IF('FEA___(MPG-2)'!$B33,IFERROR(1-1/V33,\"N/A\"),\"\")","v":""},{"$f":"IF('FEA___(MPG-2)'!$B33,Z33*AA33,\"\")","v":""}]
[{"$f":"'FEA___(MPG-2)'!A34","v":""},{"$f":"'FEA___(MPG-2)'!D34","v":""},null,{"$f":"'FEA___(MPG-2)'!F34","v":""},{"$f":"'FEA___(MPG-5)'!F34","v":""},{"$f":"'FEA___(MPG-5)'!I34","v":""},{"$f":"IF('FEA___(MPG-2)'!$B34,VLOOKUP(D34,VLLU,12,FALSE),\"\")","v":""},{"$f":"IF('FEA___(MPG-2)'!$B34,IFERROR((G34/U34)^(1/5)-1,\"N/A\"),\"\")","v":""},{"$f":"IF('FEA___(MPG-2)'!$B34,IFERROR(F34/G34,\"N/A\"),\"\")","v":""},{"$f":"IF('FEA___(MPG-2)'!$B34,IFERROR((2*(1+H34))/(2+H34),\"N/A\"),\"\")","v":""},{"$f":"IF('FEA___(MPG-2)'!$B34,IFERROR(I34*J34,\"N/A\"),\"\")","v":""},{"$f":"'FEA___(MPG-5)'!L34","v":""},{"$f":"IF('FEA___(MPG-2)'!$B34,IFERROR(1-L34,\"N/A\"),\"\")","v":""},{"$f":"IF('FEA___(MPG-2)'!$B34,IFERROR(M34*K34,\"N/A\"),\"\")","v":""},{"$f":"IF('FEA___(MPG-2)'!$B34,IFERROR(IF(AB34<0,N34,N34+AB34),N34),\"\")","v":""},"",null,"",null,{"$f":"'FEA___(MPG-4)'!F34","v":""},{"$f":"IF('FEA___(MPG-2)'!$B34,VLOOKUP(D34,VLLU,11,FALSE),\"\")","v":""},{"$f":"IF('FEA___(MPG-2)'!$B34,IFERROR(T34/U34,\"N/A\"),\"\")","v":""},{"$f":"IF('FEA___(MPG-2)'!$B34,VLOOKUP(D34,VLLU,8,FALSE),\"\")","v":""},{"$f":"IF('FEA___(MPG-2)'!$B34,VLOOKUP(D34,VLLU,9,FALSE),\"\")","v":""},{"$f":"IF('FEA___(MPG-2)'!$B34,IFERROR((X34/W34)^(1/($AC$8-$W$9))-1,\"N/A\"),\"\")","v":""},{"$f":"IF('FEA___(MPG-2)'!$B34,IFERROR(Y34*V34,\"N/A\"),\"\")","v":""},{"$f":"IF('FEA___(MPG-2)'!$B34,IFERROR(1-1/V34,\"N/A\"),\"\")","v":""},{"$f":"IF('FEA___(MPG-2)'!$B34,Z34*AA34,\"\")","v":""}]
[{"$f":"'FEA___(MPG-2)'!A35","v":""},{"$f":"'FEA___(MPG-2)'!D35","v":""},null,{"$f":"'FEA___(MPG-2)'!F35","v":""},{"$f":"'FEA___(MPG-5)'!F35","v":""},{"$f":"'FEA___(MPG-5)'!I35","v":""},{"$f":"IF('FEA___(MPG-2)'!$B35,VLOOKUP(D35,VLLU,12,FALSE),\"\")","v":""},{"$f":"IF('FEA___(MPG-2)'!$B35,IFERROR((G35/U35)^(1/5)-1,\"N/A\"),\"\")","v":""},{"$f":"IF('FEA___(MPG-2)'!$B35,IFERROR(F35/G35,\"N/A\"),\"\")","v":""},{"$f":"IF('FEA___(MPG-2)'!$B35,IFERROR((2*(1+H35))/(2+H35),\"N/A\"),\"\")","v":""},{"$f":"IF('FEA___(MPG-2)'!$B35,IFERROR(I35*J35,\"N/A\"),\"\")","v":""},{"$f":"'FEA___(MPG-5)'!L35","v":""},{"$f":"IF('FEA___(MPG-2)'!$B35,IFERROR(1-L35,\"N/A\"),\"\")","v":""},{"$f":"IF('FEA___(MPG-2)'!$B35,IFERROR(M35*K35,\"N/A\"),\"\")","v":""},{"$f":"IF('FEA___(MPG-2)'!$B35,IFERROR(IF(AB35<0,N35,N35+AB35),N35),\"\")","v":""},"",null,"",null,{"$f":"'FEA___(MPG-4)'!F35","v":""},{"$f":"IF('FEA___(MPG-2)'!$B35,VLOOKUP(D35,VLLU,11,FALSE),\"\")","v":""},{"$f":"IF('FEA___(MPG-2)'!$B35,IFERROR(T35/U35,\"N/A\"),\"\")","v":""},{"$f":"IF('FEA___(MPG-2)'!$B35,VLOOKUP(D35,VLLU,8,FALSE),\"\")","v":""},{"$f":"IF('FEA___(MPG-2)'!$B35,VLOOKUP(D35,VLLU,9,FALSE),\"\")","v":""},{"$f":"IF('FEA___(MPG-2)'!$B35,IFERROR((X35/W35)^(1/($AC$8-$W$9))-1,\"N/A\"),\"\")","v":""},{"$f":"IF('FEA___(MPG-2)'!$B35,IFERROR(Y35*V35,\"N/A\"),\"\")","v":""},{"$f":"IF('FEA___(MPG-2)'!$B35,IFERROR(1-1/V35,\"N/A\"),\"\")","v":""},{"$f":"IF('FEA___(MPG-2)'!$B35,Z35*AA35,\"\")","v":""}]
[{"$f":"'FEA___(MPG-2)'!A36","v":""},{"$f":"'FEA___(MPG-2)'!D36","v":""},null,{"$f":"'FEA___(MPG-2)'!F36","v":""},{"$f":"'FEA___(MPG-5)'!F36","v":""},{"$f":"'FEA___(MPG-5)'!I36","v":""},{"$f":"IF('FEA___(MPG-2)'!$B36,VLOOKUP(D36,VLLU,12,FALSE),\"\")","v":""},{"$f":"IF('FEA___(MPG-2)'!$B36,IFERROR((G36/U36)^(1/5)-1,\"N/A\"),\"\")","v":""},{"$f":"IF('FEA___(MPG-2)'!$B36,IFERROR(F36/G36,\"N/A\"),\"\")","v":""},{"$f":"IF('FEA___(MPG-2)'!$B36,IFERROR((2*(1+H36))/(2+H36),\"N/A\"),\"\")","v":""},{"$f":"IF('FEA___(MPG-2)'!$B36,IFERROR(I36*J36,\"N/A\"),\"\")","v":""},{"$f":"'FEA___(MPG-5)'!L36","v":""},{"$f":"IF('FEA___(MPG-2)'!$B36,IFERROR(1-L36,\"N/A\"),\"\")","v":""},{"$f":"IF('FEA___(MPG-2)'!$B36,IFERROR(M36*K36,\"N/A\"),\"\")","v":""},{"$f":"IF('FEA___(MPG-2)'!$B36,IFERROR(IF(AB36<0,N36,N36+AB36),N36),\"\")","v":""},"",null,"",null,{"$f":"'FEA___(MPG-4)'!F36","v":""},{"$f":"IF('FEA___(MPG-2)'!$B36,VLOOKUP(D36,VLLU,11,FALSE),\"\")","v":""},{"$f":"IF('FEA___(MPG-2)'!$B36,IFERROR(T36/U36,\"N/A\"),\"\")","v":""},{"$f":"IF('FEA___(MPG-2)'!$B36,VLOOKUP(D36,VLLU,8,FALSE),\"\")","v":""},{"$f":"IF('FEA___(MPG-2)'!$B36,VLOOKUP(D36,VLLU,9,FALSE),\"\")","v":""},{"$f":"IF('FEA___(MPG-2)'!$B36,IFERROR((X36/W36)^(1/($AC$8-$W$9))-1,\"N/A\"),\"\")","v":""},{"$f":"IF('FEA___(MPG-2)'!$B36,IFERROR(Y36*V36,\"N/A\"),\"\")","v":""},{"$f":"IF('FEA___(MPG-2)'!$B36,IFERROR(1-1/V36,\"N/A\"),\"\")","v":""},{"$f":"IF('FEA___(MPG-2)'!$B36,Z36*AA36,\"\")","v":""}]
[{"$f":"'FEA___(MPG-2)'!A37","v":""},{"$f":"'FEA___(MPG-2)'!D37","v":""},null,{"$f":"'FEA___(MPG-2)'!F37","v":""},{"$f":"'FEA___(MPG-5)'!F37","v":""},{"$f":"'FEA___(MPG-5)'!I37","v":""},{"$f":"IF('FEA___(MPG-2)'!$B37,VLOOKUP(D37,VLLU,12,FALSE),\"\")","v":""},{"$f":"IF('FEA___(MPG-2)'!$B37,IFERROR((G37/U37)^(1/5)-1,\"N/A\"),\"\")","v":""},{"$f":"IF('FEA___(MPG-2)'!$B37,IFERROR(F37/G37,\"N/A\"),\"\")","v":""},{"$f":"IF('FEA___(MPG-2)'!$B37,IFERROR((2*(1+H37))/(2+H37),\"N/A\"),\"\")","v":""},{"$f":"IF('FEA___(MPG-2)'!$B37,IFERROR(I37*J37,\"N/A\"),\"\")","v":""},{"$f":"'FEA___(MPG-5)'!L37","v":""},{"$f":"IF('FEA___(MPG-2)'!$B37,IFERROR(1-L37,\"N/A\"),\"\")","v":""},{"$f":"IF('FEA___(MPG-2)'!$B37,IFERROR(M37*K37,\"N/A\"),\"\")","v":""},{"$f":"IF('FEA___(MPG-2)'!$B37,IFERROR(IF(AB37<0,N37,N37+AB37),N37),\"\")","v":""},"",null,"",null,{"$f":"'FEA___(MPG-4)'!F37","v":""},{"$f":"IF('FEA___(MPG-2)'!$B37,VLOOKUP(D37,VLLU,11,FALSE),\"\")","v":""},{"$f":"IF('FEA___(MPG-2)'!$B37,IFERROR(T37/U37,\"N/A\"),\"\")","v":""},{"$f":"IF('FEA___(MPG-2)'!$B37,VLOOKUP(D37,VLLU,8,FALSE),\"\")","v":""},{"$f":"IF('FEA___(MPG-2)'!$B37,VLOOKUP(D37,VLLU,9,FALSE),\"\")","v":""},{"$f":"IF('FEA___(MPG-2)'!$B37,IFERROR((X37/W37)^(1/($AC$8-$W$9))-1,\"N/A\"),\"\")","v":""},{"$f":"IF('FEA___(MPG-2)'!$B37,IFERROR(Y37*V37,\"N/A\"),\"\")","v":""},{"$f":"IF('FEA___(MPG-2)'!$B37,IFERROR(1-1/V37,\"N/A\"),\"\")","v":""},{"$f":"IF('FEA___(MPG-2)'!$B37,Z37*AA37,\"\")","v":""}]
[{"$f":"'FEA___(MPG-2)'!A38","v":""},{"$f":"'FEA___(MPG-2)'!D38","v":""},null,{"$f":"'FEA___(MPG-2)'!F38","v":""},{"$f":"'FEA___(MPG-5)'!F38","v":""},{"$f":"'FEA___(MPG-5)'!I38","v":""},{"$f":"IF('FEA___(MPG-2)'!$B38,VLOOKUP(D38,VLLU,12,FALSE),\"\")","v":""},{"$f":"IF('FEA___(MPG-2)'!$B38,IFERROR((G38/U38)^(1/5)-1,\"N/A\"),\"\")","v":""},{"$f":"IF('FEA___(MPG-2)'!$B38,IFERROR(F38/G38,\"N/A\"),\"\")","v":""},{"$f":"IF('FEA___(MPG-2)'!$B38,IFERROR((2*(1+H38))/(2+H38),\"N/A\"),\"\")","v":""},{"$f":"IF('FEA___(MPG-2)'!$B38,IFERROR(I38*J38,\"N/A\"),\"\")","v":""},{"$f":"'FEA___(MPG-5)'!L38","v":""},{"$f":"IF('FEA___(MPG-2)'!$B38,IFERROR(1-L38,\"N/A\"),\"\")","v":""},{"$f":"IF('FEA___(MPG-2)'!$B38,IFERROR(M38*K38,\"N/A\"),\"\")","v":""},{"$f":"IF('FEA___(MPG-2)'!$B38,IFERROR(IF(AB38<0,N38,N38+AB38),N38),\"\")","v":""},"",null,"",null,{"$f":"'FEA___(MPG-4)'!F38","v":""},{"$f":"IF('FEA___(MPG-2)'!$B38,VLOOKUP(D38,VLLU,11,FALSE),\"\")","v":""},{"$f":"IF('FEA___(MPG-2)'!$B38,IFERROR(T38/U38,\"N/A\"),\"\")","v":""},{"$f":"IF('FEA___(MPG-2)'!$B38,VLOOKUP(D38,VLLU,8,FALSE),\"\")","v":""},{"$f":"IF('FEA___(MPG-2)'!$B38,VLOOKUP(D38,VLLU,9,FALSE),\"\")","v":""},{"$f":"IF('FEA___(MPG-2)'!$B38,IFERROR((X38/W38)^(1/($AC$8-$W$9))-1,\"N/A\"),\"\")","v":""},{"$f":"IF('FEA___(MPG-2)'!$B38,IFERROR(Y38*V38,\"N/A\"),\"\")","v":""},{"$f":"IF('FEA___(MPG-2)'!$B38,IFERROR(1-1/V38,\"N/A\"),\"\")","v":""},{"$f":"IF('FEA___(MPG-2)'!$B38,Z38*AA38,\"\")","v":""}]
[{"$f":"'FEA___(MPG-2)'!A39","v":""},{"$f":"'FEA___(MPG-2)'!D39","v":""},null,{"$f":"'FEA___(MPG-2)'!F39","v":""},{"$f":"'FEA___(MPG-5)'!F39","v":""},{"$f":"'FEA___(MPG-5)'!I39","v":""},{"$f":"IF('FEA___(MPG-2)'!$B39,VLOOKUP(D39,VLLU,12,FALSE),\"\")","v":""},{"$f":"IF('FEA___(MPG-2)'!$B39,IFERROR((G39/U39)^(1/5)-1,\"N/A\"),\"\")","v":""},{"$f":"IF('FEA___(MPG-2)'!$B39,IFERROR(F39/G39,\"N/A\"),\"\")","v":""},{"$f":"IF('FEA___(MPG-2)'!$B39,IFERROR((2*(1+H39))/(2+H39),\"N/A\"),\"\")","v":""},{"$f":"IF('FEA___(MPG-2)'!$B39,IFERROR(I39*J39,\"N/A\"),\"\")","v":""},{"$f":"'FEA___(MPG-5)'!L39","v":""},{"$f":"IF('FEA___(MPG-2)'!$B39,IFERROR(1-L39,\"N/A\"),\"\")","v":""},{"$f":"IF('FEA___(MPG-2)'!$B39,IFERROR(M39*K39,\"N/A\"),\"\")","v":""},{"$f":"IF('FEA___(MPG-2)'!$B39,IFERROR(IF(AB39<0,N39,N39+AB39),N39),\"\")","v":""},"",null,"",null,{"$f":"'FEA___(MPG-4)'!F39","v":""},{"$f":"IF('FEA___(MPG-2)'!$B39,VLOOKUP(D39,VLLU,11,FALSE),\"\")","v":""},{"$f":"IF('FEA___(MPG-2)'!$B39,IFERROR(T39/U39,\"N/A\"),\"\")","v":""},{"$f":"IF('FEA___(MPG-2)'!$B39,VLOOKUP(D39,VLLU,8,FALSE),\"\")","v":""},{"$f":"IF('FEA___(MPG-2)'!$B39,VLOOKUP(D39,VLLU,9,FALSE),\"\")","v":""},{"$f":"IF('FEA___(MPG-2)'!$B39,IFERROR((X39/W39)^(1/($AC$8-$W$9))-1,\"N/A\"),\"\")","v":""},{"$f":"IF('FEA___(MPG-2)'!$B39,IFERROR(Y39*V39,\"N/A\"),\"\")","v":""},{"$f":"IF('FEA___(MPG-2)'!$B39,IFERROR(1-1/V39,\"N/A\"),\"\")","v":""},{"$f":"IF('FEA___(MPG-2)'!$B39,Z39*AA39,\"\")","v":""}]
[{"$f":"'FEA___(MPG-2)'!A40","v":""},{"$f":"'FEA___(MPG-2)'!D40","v":""},null,{"$f":"'FEA___(MPG-2)'!F40","v":""},{"$f":"'FEA___(MPG-5)'!F40","v":""},{"$f":"'FEA___(MPG-5)'!I40","v":""},{"$f":"IF('FEA___(MPG-2)'!$B40,VLOOKUP(D40,VLLU,12,FALSE),\"\")","v":""},{"$f":"IF('FEA___(MPG-2)'!$B40,IFERROR((G40/U40)^(1/5)-1,\"N/A\"),\"\")","v":""},{"$f":"IF('FEA___(MPG-2)'!$B40,IFERROR(F40/G40,\"N/A\"),\"\")","v":""},{"$f":"IF('FEA___(MPG-2)'!$B40,IFERROR((2*(1+H40))/(2+H40),\"N/A\"),\"\")","v":""},{"$f":"IF('FEA___(MPG-2)'!$B40,IFERROR(I40*J40,\"N/A\"),\"\")","v":""},{"$f":"'FEA___(MPG-5)'!L40","v":""},{"$f":"IF('FEA___(MPG-2)'!$B40,IFERROR(1-L40,\"N/A\"),\"\")","v":""},{"$f":"IF('FEA___(MPG-2)'!$B40,IFERROR(M40*K40,\"N/A\"),\"\")","v":""},{"$f":"IF('FEA___(MPG-2)'!$B40,IFERROR(IF(AB40<0,N40,N40+AB40),N40),\"\")","v":""},"",null,"",null,{"$f":"'FEA___(MPG-4)'!F40","v":""},{"$f":"IF('FEA___(MPG-2)'!$B40,VLOOKUP(D40,VLLU,11,FALSE),\"\")","v":""},{"$f":"IF('FEA___(MPG-2)'!$B40,IFERROR(T40/U40,\"N/A\"),\"\")","v":""},{"$f":"IF('FEA___(MPG-2)'!$B40,VLOOKUP(D40,VLLU,8,FALSE),\"\")","v":""},{"$f":"IF('FEA___(MPG-2)'!$B40,VLOOKUP(D40,VLLU,9,FALSE),\"\")","v":""},{"$f":"IF('FEA___(MPG-2)'!$B40,IFERROR((X40/W40)^(1/($AC$8-$W$9))-1,\"N/A\"),\"\")","v":""},{"$f":"IF('FEA___(MPG-2)'!$B40,IFERROR(Y40*V40,\"N/A\"),\"\")","v":""},{"$f":"IF('FEA___(MPG-2)'!$B40,IFERROR(1-1/V40,\"N/A\"),\"\")","v":""},{"$f":"IF('FEA___(MPG-2)'!$B40,Z40*AA40,\"\")","v":""}]
[{"$f":"'FEA___(MPG-2)'!A41","v":""},{"$f":"'FEA___(MPG-2)'!D41","v":""},null,{"$f":"'FEA___(MPG-2)'!F41","v":""},{"$f":"'FEA___(MPG-5)'!F41","v":""},{"$f":"'FEA___(MPG-5)'!I41","v":""},{"$f":"IF('FEA___(MPG-2)'!$B41,VLOOKUP(D41,VLLU,12,FALSE),\"\")","v":""},{"$f":"IF('FEA___(MPG-2)'!$B41,IFERROR((G41/U41)^(1/5)-1,\"N/A\"),\"\")","v":""},{"$f":"IF('FEA___(MPG-2)'!$B41,IFERROR(F41/G41,\"N/A\"),\"\")","v":""},{"$f":"IF('FEA___(MPG-2)'!$B41,IFERROR((2*(1+H41))/(2+H41),\"N/A\"),\"\")","v":""},{"$f":"IF('FEA___(MPG-2)'!$B41,IFERROR(I41*J41,\"N/A\"),\"\")","v":""},{"$f":"'FEA___(MPG-5)'!L41","v":""},{"$f":"IF('FEA___(MPG-2)'!$B41,IFERROR(1-L41,\"N/A\"),\"\")","v":""},{"$f":"IF('FEA___(MPG-2)'!$B41,IFERROR(M41*K41,\"N/A\"),\"\")","v":""},{"$f":"IF('FEA___(MPG-2)'!$B41,IFERROR(IF(AB41<0,N41,N41+AB41),N41),\"\")","v":""},"",null,"",null,{"$f":"'FEA___(MPG-4)'!F41","v":""},{"$f":"IF('FEA___(MPG-2)'!$B41,VLOOKUP(D41,VLLU,11,FALSE),\"\")","v":""},{"$f":"IF('FEA___(MPG-2)'!$B41,IFERROR(T41/U41,\"N/A\"),\"\")","v":""},{"$f":"IF('FEA___(MPG-2)'!$B41,VLOOKUP(D41,VLLU,8,FALSE),\"\")","v":""},{"$f":"IF('FEA___(MPG-2)'!$B41,VLOOKUP(D41,VLLU,9,FALSE),\"\")","v":""},{"$f":"IF('FEA___(MPG-2)'!$B41,IFERROR((X41/W41)^(1/($AC$8-$W$9))-1,\"N/A\"),\"\")","v":""},{"$f":"IF('FEA___(MPG-2)'!$B41,IFERROR(Y41*V41,\"N/A\"),\"\")","v":""},{"$f":"IF('FEA___(MPG-2)'!$B41,IFERROR(1-1/V41,\"N/A\"),\"\")","v":""},{"$f":"IF('FEA___(MPG-2)'!$B41,Z41*AA41,\"\")","v":""}]
[{"$f":"'FEA___(MPG-2)'!A42","v":""},{"$f":"'FEA___(MPG-2)'!D42","v":""},null,{"$f":"'FEA___(MPG-2)'!F42","v":""},{"$f":"'FEA___(MPG-5)'!F42","v":""},{"$f":"'FEA___(MPG-5)'!I42","v":""},{"$f":"IF('FEA___(MPG-2)'!$B42,VLOOKUP(D42,VLLU,12,FALSE),\"\")","v":""},{"$f":"IF('FEA___(MPG-2)'!$B42,IFERROR((G42/U42)^(1/5)-1,\"N/A\"),\"\")","v":""},{"$f":"IF('FEA___(MPG-2)'!$B42,IFERROR(F42/G42,\"N/A\"),\"\")","v":""},{"$f":"IF('FEA___(MPG-2)'!$B42,IFERROR((2*(1+H42))/(2+H42),\"N/A\"),\"\")","v":""},{"$f":"IF('FEA___(MPG-2)'!$B42,IFERROR(I42*J42,\"N/A\"),\"\")","v":""},{"$f":"'FEA___(MPG-5)'!L42","v":""},{"$f":"IF('FEA___(MPG-2)'!$B42,IFERROR(1-L42,\"N/A\"),\"\")","v":""},{"$f":"IF('FEA___(MPG-2)'!$B42,IFERROR(M42*K42,\"N/A\"),\"\")","v":""},{"$f":"IF('FEA___(MPG-2)'!$B42,IFERROR(IF(AB42<0,N42,N42+AB42),N42),\"\")","v":""},"",null,"",null,{"$f":"'FEA___(MPG-4)'!F42","v":""},{"$f":"IF('FEA___(MPG-2)'!$B42,VLOOKUP(D42,VLLU,11,FALSE),\"\")","v":""},{"$f":"IF('FEA___(MPG-2)'!$B42,IFERROR(T42/U42,\"N/A\"),\"\")","v":""},{"$f":"IF('FEA___(MPG-2)'!$B42,VLOOKUP(D42,VLLU,8,FALSE),\"\")","v":""},{"$f":"IF('FEA___(MPG-2)'!$B42,VLOOKUP(D42,VLLU,9,FALSE),\"\")","v":""},{"$f":"IF('FEA___(MPG-2)'!$B42,IFERROR((X42/W42)^(1/($AC$8-$W$9))-1,\"N/A\"),\"\")","v":""},{"$f":"IF('FEA___(MPG-2)'!$B42,IFERROR(Y42*V42,\"N/A\"),\"\")","v":""},{"$f":"IF('FEA___(MPG-2)'!$B42,IFERROR(1-1/V42,\"N/A\"),\"\")","v":""},{"$f":"IF('FEA___(MPG-2)'!$B42,Z42*AA42,\"\")","v":""}]
[{"$f":"'FEA___(MPG-2)'!A43","v":""},{"$f":"'FEA___(MPG-2)'!D43","v":""},null,{"$f":"'FEA___(MPG-2)'!F43","v":""},{"$f":"'FEA___(MPG-5)'!F43","v":""},{"$f":"'FEA___(MPG-5)'!I43","v":""},{"$f":"IF('FEA___(MPG-2)'!$B43,VLOOKUP(D43,VLLU,12,FALSE),\"\")","v":""},{"$f":"IF('FEA___(MPG-2)'!$B43,IFERROR((G43/U43)^(1/5)-1,\"N/A\"),\"\")","v":""},{"$f":"IF('FEA___(MPG-2)'!$B43,IFERROR(F43/G43,\"N/A\"),\"\")","v":""},{"$f":"IF('FEA___(MPG-2)'!$B43,IFERROR((2*(1+H43))/(2+H43),\"N/A\"),\"\")","v":""},{"$f":"IF('FEA___(MPG-2)'!$B43,IFERROR(I43*J43,\"N/A\"),\"\")","v":""},{"$f":"'FEA___(MPG-5)'!L43","v":""},{"$f":"IF('FEA___(MPG-2)'!$B43,IFERROR(1-L43,\"N/A\"),\"\")","v":""},{"$f":"IF('FEA___(MPG-2)'!$B43,IFERROR(M43*K43,\"N/A\"),\"\")","v":""},{"$f":"IF('FEA___(MPG-2)'!$B43,IFERROR(IF(AB43<0,N43,N43+AB43),N43),\"\")","v":""},"",null,"",null,{"$f":"'FEA___(MPG-4)'!F43","v":""},{"$f":"IF('FEA___(MPG-2)'!$B43,VLOOKUP(D43,VLLU,11,FALSE),\"\")","v":""},{"$f":"IF('FEA___(MPG-2)'!$B43,IFERROR(T43/U43,\"N/A\"),\"\")","v":""},{"$f":"IF('FEA___(MPG-2)'!$B43,VLOOKUP(D43,VLLU,8,FALSE),\"\")","v":""},{"$f":"IF('FEA___(MPG-2)'!$B43,VLOOKUP(D43,VLLU,9,FALSE),\"\")","v":""},{"$f":"IF('FEA___(MPG-2)'!$B43,IFERROR((X43/W43)^(1/($AC$8-$W$9))-1,\"N/A\"),\"\")","v":""},{"$f":"IF('FEA___(MPG-2)'!$B43,IFERROR(Y43*V43,\"N/A\"),\"\")","v":""},{"$f":"IF('FEA___(MPG-2)'!$B43,IFERROR(1-1/V43,\"N/A\"),\"\")","v":""},{"$f":"IF('FEA___(MPG-2)'!$B43,Z43*AA43,\"\")","v":""}]
[{"$f":"'FEA___(MPG-2)'!A44","v":""},{"$f":"'FEA___(MPG-2)'!D44","v":""},null,{"$f":"'FEA___(MPG-2)'!F44","v":""},{"$f":"'FEA___(MPG-5)'!F44","v":""},{"$f":"'FEA___(MPG-5)'!I44","v":""},{"$f":"IF('FEA___(MPG-2)'!$B44,VLOOKUP(D44,VLLU,12,FALSE),\"\")","v":""},{"$f":"IF('FEA___(MPG-2)'!$B44,IFERROR((G44/U44)^(1/5)-1,\"N/A\"),\"\")","v":""},{"$f":"IF('FEA___(MPG-2)'!$B44,IFERROR(F44/G44,\"N/A\"),\"\")","v":""},{"$f":"IF('FEA___(MPG-2)'!$B44,IFERROR((2*(1+H44))/(2+H44),\"N/A\"),\"\")","v":""},{"$f":"IF('FEA___(MPG-2)'!$B44,IFERROR(I44*J44,\"N/A\"),\"\")","v":""},{"$f":"'FEA___(MPG-5)'!L44","v":""},{"$f":"IF('FEA___(MPG-2)'!$B44,IFERROR(1-L44,\"N/A\"),\"\")","v":""},{"$f":"IF('FEA___(MPG-2)'!$B44,IFERROR(M44*K44,\"N/A\"),\"\")","v":""},{"$f":"IF('FEA___(MPG-2)'!$B44,IFERROR(IF(AB44<0,N44,N44+AB44),N44),\"\")","v":""},"",null,"",null,{"$f":"'FEA___(MPG-4)'!F44","v":""},{"$f":"IF('FEA___(MPG-2)'!$B44,VLOOKUP(D44,VLLU,11,FALSE),\"\")","v":""},{"$f":"IF('FEA___(MPG-2)'!$B44,IFERROR(T44/U44,\"N/A\"),\"\")","v":""},{"$f":"IF('FEA___(MPG-2)'!$B44,VLOOKUP(D44,VLLU,8,FALSE),\"\")","v":""},{"$f":"IF('FEA___(MPG-2)'!$B44,VLOOKUP(D44,VLLU,9,FALSE),\"\")","v":""},{"$f":"IF('FEA___(MPG-2)'!$B44,IFERROR((X44/W44)^(1/($AC$8-$W$9))-1,\"N/A\"),\"\")","v":""},{"$f":"IF('FEA___(MPG-2)'!$B44,IFERROR(Y44*V44,\"N/A\"),\"\")","v":""},{"$f":"IF('FEA___(MPG-2)'!$B44,IFERROR(1-1/V44,\"N/A\"),\"\")","v":""},{"$f":"IF('FEA___(MPG-2)'!$B44,Z44*AA44,\"\")","v":""}]
[{"$f":"'FEA___(MPG-2)'!A45","v":""},{"$f":"'FEA___(MPG-2)'!D45","v":""},null,{"$f":"'FEA___(MPG-2)'!F45","v":""},{"$f":"'FEA___(MPG-5)'!F45","v":""},{"$f":"'FEA___(MPG-5)'!I45","v":""},{"$f":"IF('FEA___(MPG-2)'!$B45,VLOOKUP(D45,VLLU,12,FALSE),\"\")","v":""},{"$f":"IF('FEA___(MPG-2)'!$B45,IFERROR((G45/U45)^(1/5)-1,\"N/A\"),\"\")","v":""},{"$f":"IF('FEA___(MPG-2)'!$B45,IFERROR(F45/G45,\"N/A\"),\"\")","v":""},{"$f":"IF('FEA___(MPG-2)'!$B45,IFERROR((2*(1+H45))/(2+H45),\"N/A\"),\"\")","v":""},{"$f":"IF('FEA___(MPG-2)'!$B45,IFERROR(I45*J45,\"N/A\"),\"\")","v":""},{"$f":"'FEA___(MPG-5)'!L45","v":""},{"$f":"IF('FEA___(MPG-2)'!$B45,IFERROR(1-L45,\"N/A\"),\"\")","v":""},{"$f":"IF('FEA___(MPG-2)'!$B45,IFERROR(M45*K45,\"N/A\"),\"\")","v":""},{"$f":"IF('FEA___(MPG-2)'!$B45,IFERROR(IF(AB45<0,N45,N45+AB45),N45),\"\")","v":""},"",null,"",null,{"$f":"'FEA___(MPG-4)'!F45","v":""},{"$f":"IF('FEA___(MPG-2)'!$B45,VLOOKUP(D45,VLLU,11,FALSE),\"\")","v":""},{"$f":"IF('FEA___(MPG-2)'!$B45,IFERROR(T45/U45,\"N/A\"),\"\")","v":""},{"$f":"IF('FEA___(MPG-2)'!$B45,VLOOKUP(D45,VLLU,8,FALSE),\"\")","v":""},{"$f":"IF('FEA___(MPG-2)'!$B45,VLOOKUP(D45,VLLU,9,FALSE),\"\")","v":""},{"$f":"IF('FEA___(MPG-2)'!$B45,IFERROR((X45/W45)^(1/($AC$8-$W$9))-1,\"N/A\"),\"\")","v":""},{"$f":"IF('FEA___(MPG-2)'!$B45,IFERROR(Y45*V45,\"N/A\"),\"\")","v":""},{"$f":"IF('FEA___(MPG-2)'!$B45,IFERROR(1-1/V45,\"N/A\"),\"\")","v":""},{"$f":"IF('FEA___(MPG-2)'!$B45,Z45*AA45,\"\")","v":""}]
[{"$f":"'FEA___(MPG-2)'!A46","v":""},{"$f":"'FEA___(MPG-2)'!D46","v":""},null,{"$f":"'FEA___(MPG-2)'!F46","v":""},{"$f":"'FEA___(MPG-5)'!F46","v":""},{"$f":"'FEA___(MPG-5)'!I46","v":""},{"$f":"IF('FEA___(MPG-2)'!$B46,VLOOKUP(D46,VLLU,12,FALSE),\"\")","v":""},{"$f":"IF('FEA___(MPG-2)'!$B46,IFERROR((G46/U46)^(1/5)-1,\"N/A\"),\"\")","v":""},{"$f":"IF('FEA___(MPG-2)'!$B46,IFERROR(F46/G46,\"N/A\"),\"\")","v":""},{"$f":"IF('FEA___(MPG-2)'!$B46,IFERROR((2*(1+H46))/(2+H46),\"N/A\"),\"\")","v":""},{"$f":"IF('FEA___(MPG-2)'!$B46,IFERROR(I46*J46,\"N/A\"),\"\")","v":""},{"$f":"'FEA___(MPG-5)'!L46","v":""},{"$f":"IF('FEA___(MPG-2)'!$B46,IFERROR(1-L46,\"N/A\"),\"\")","v":""},{"$f":"IF('FEA___(MPG-2)'!$B46,IFERROR(M46*K46,\"N/A\"),\"\")","v":""},{"$f":"IF('FEA___(MPG-2)'!$B46,IFERROR(IF(AB46<0,N46,N46+AB46),N46),\"\")","v":""},"",null,"",null,{"$f":"'FEA___(MPG-4)'!F46","v":""},{"$f":"IF('FEA___(MPG-2)'!$B46,VLOOKUP(D46,VLLU,11,FALSE),\"\")","v":""},{"$f":"IF('FEA___(MPG-2)'!$B46,IFERROR(T46/U46,\"N/A\"),\"\")","v":""},{"$f":"IF('FEA___(MPG-2)'!$B46,VLOOKUP(D46,VLLU,8,FALSE),\"\")","v":""},{"$f":"IF('FEA___(MPG-2)'!$B46,VLOOKUP(D46,VLLU,9,FALSE),\"\")","v":""},{"$f":"IF('FEA___(MPG-2)'!$B46,IFERROR((X46/W46)^(1/($AC$8-$W$9))-1,\"N/A\"),\"\")","v":""},{"$f":"IF('FEA___(MPG-2)'!$B46,IFERROR(Y46*V46,\"N/A\"),\"\")","v":""},{"$f":"IF('FEA___(MPG-2)'!$B46,IFERROR(1-1/V46,\"N/A\"),\"\")","v":""},{"$f":"IF('FEA___(MPG-2)'!$B46,Z46*AA46,\"\")","v":""}]
[{"$f":"'FEA___(MPG-2)'!A47","v":""},{"$f":"'FEA___(MPG-2)'!D47","v":""},null,{"$f":"'FEA___(MPG-2)'!F47","v":""},{"$f":"'FEA___(MPG-5)'!F47","v":""},{"$f":"'FEA___(MPG-5)'!I47","v":""},{"$f":"IF('FEA___(MPG-2)'!$B47,VLOOKUP(D47,VLLU,12,FALSE),\"\")","v":""},{"$f":"IF('FEA___(MPG-2)'!$B47,IFERROR((G47/U47)^(1/5)-1,\"N/A\"),\"\")","v":""},{"$f":"IF('FEA___(MPG-2)'!$B47,IFERROR(F47/G47,\"N/A\"),\"\")","v":""},{"$f":"IF('FEA___(MPG-2)'!$B47,IFERROR((2*(1+H47))/(2+H47),\"N/A\"),\"\")","v":""},{"$f":"IF('FEA___(MPG-2)'!$B47,IFERROR(I47*J47,\"N/A\"),\"\")","v":""},{"$f":"'FEA___(MPG-5)'!L47","v":""},{"$f":"IF('FEA___(MPG-2)'!$B47,IFERROR(1-L47,\"N/A\"),\"\")","v":""},{"$f":"IF('FEA___(MPG-2)'!$B47,IFERROR(M47*K47,\"N/A\"),\"\")","v":""},{"$f":"IF('FEA___(MPG-2)'!$B47,IFERROR(IF(AB47<0,N47,N47+AB47),N47),\"\")","v":""},"",null,"",null,{"$f":"'FEA___(MPG-4)'!F47","v":""},{"$f":"IF('FEA___(MPG-2)'!$B47,VLOOKUP(D47,VLLU,11,FALSE),\"\")","v":""},{"$f":"IF('FEA___(MPG-2)'!$B47,IFERROR(T47/U47,\"N/A\"),\"\")","v":""},{"$f":"IF('FEA___(MPG-2)'!$B47,VLOOKUP(D47,VLLU,8,FALSE),\"\")","v":""},{"$f":"IF('FEA___(MPG-2)'!$B47,VLOOKUP(D47,VLLU,9,FALSE),\"\")","v":""},{"$f":"IF('FEA___(MPG-2)'!$B47,IFERROR((X47/W47)^(1/($AC$8-$W$9))-1,\"N/A\"),\"\")","v":""},{"$f":"IF('FEA___(MPG-2)'!$B47,IFERROR(Y47*V47,\"N/A\"),\"\")","v":""},{"$f":"IF('FEA___(MPG-2)'!$B47,IFERROR(1-1/V47,\"N/A\"),\"\")","v":""},{"$f":"IF('FEA___(MPG-2)'!$B47,Z47*AA47,\"\")","v":""}]
[{"$f":"'FEA___(MPG-2)'!A48","v":""},{"$f":"'FEA___(MPG-2)'!D48","v":""},null,{"$f":"'FEA___(MPG-2)'!F48","v":""},{"$f":"'FEA___(MPG-5)'!F48","v":""},{"$f":"'FEA___(MPG-5)'!I48","v":""},{"$f":"IF('FEA___(MPG-2)'!$B48,VLOOKUP(D48,VLLU,12,FALSE),\"\")","v":""},{"$f":"IF('FEA___(MPG-2)'!$B48,IFERROR((G48/U48)^(1/5)-1,\"N/A\"),\"\")","v":""},{"$f":"IF('FEA___(MPG-2)'!$B48,IFERROR(F48/G48,\"N/A\"),\"\")","v":""},{"$f":"IF('FEA___(MPG-2)'!$B48,IFERROR((2*(1+H48))/(2+H48),\"N/A\"),\"\")","v":""},{"$f":"IF('FEA___(MPG-2)'!$B48,IFERROR(I48*J48,\"N/A\"),\"\")","v":""},{"$f":"'FEA___(MPG-5)'!L48","v":""},{"$f":"IF('FEA___(MPG-2)'!$B48,IFERROR(1-L48,\"N/A\"),\"\")","v":""},{"$f":"IF('FEA___(MPG-2)'!$B48,IFERROR(M48*K48,\"N/A\"),\"\")","v":""},{"$f":"IF('FEA___(MPG-2)'!$B48,IFERROR(IF(AB48<0,N48,N48+AB48),N48),\"\")","v":""},"",null,"",null,{"$f":"'FEA___(MPG-4)'!F48","v":""},{"$f":"IF('FEA___(MPG-2)'!$B48,VLOOKUP(D48,VLLU,11,FALSE),\"\")","v":""},{"$f":"IF('FEA___(MPG-2)'!$B48,IFERROR(T48/U48,\"N/A\"),\"\")","v":""},{"$f":"IF('FEA___(MPG-2)'!$B48,VLOOKUP(D48,VLLU,8,FALSE),\"\")","v":""},{"$f":"IF('FEA___(MPG-2)'!$B48,VLOOKUP(D48,VLLU,9,FALSE),\"\")","v":""},{"$f":"IF('FEA___(MPG-2)'!$B48,IFERROR((X48/W48)^(1/($AC$8-$W$9))-1,\"N/A\"),\"\")","v":""},{"$f":"IF('FEA___(MPG-2)'!$B48,IFERROR(Y48*V48,\"N/A\"),\"\")","v":""},{"$f":"IF('FEA___(MPG-2)'!$B48,IFERROR(1-1/V48,\"N/A\"),\"\")","v":""},{"$f":"IF('FEA___(MPG-2)'!$B48,Z48*AA48,\"\")","v":""}]
[{"$f":"'FEA___(MPG-2)'!A49","v":""},{"$f":"'FEA___(MPG-2)'!D49","v":""},null,{"$f":"'FEA___(MPG-2)'!F49","v":""},{"$f":"'FEA___(MPG-5)'!F49","v":""},{"$f":"'FEA___(MPG-5)'!I49","v":""},{"$f":"IF('FEA___(MPG-2)'!$B49,VLOOKUP(D49,VLLU,12,FALSE),\"\")","v":""},{"$f":"IF('FEA___(MPG-2)'!$B49,IFERROR((G49/U49)^(1/5)-1,\"N/A\"),\"\")","v":""},{"$f":"IF('FEA___(MPG-2)'!$B49,IFERROR(F49/G49,\"N/A\"),\"\")","v":""},{"$f":"IF('FEA___(MPG-2)'!$B49,IFERROR((2*(1+H49))/(2+H49),\"N/A\"),\"\")","v":""},{"$f":"IF('FEA___(MPG-2)'!$B49,IFERROR(I49*J49,\"N/A\"),\"\")","v":""},{"$f":"'FEA___(MPG-5)'!L49","v":""},{"$f":"IF('FEA___(MPG-2)'!$B49,IFERROR(1-L49,\"N/A\"),\"\")","v":""},{"$f":"IF('FEA___(MPG-2)'!$B49,IFERROR(M49*K49,\"N/A\"),\"\")","v":""},{"$f":"IF('FEA___(MPG-2)'!$B49,IFERROR(IF(AB49<0,N49,N49+AB49),N49),\"\")","v":""},"",null,"",null,{"$f":"'FEA___(MPG-4)'!F49","v":""},{"$f":"IF('FEA___(MPG-2)'!$B49,VLOOKUP(D49,VLLU,11,FALSE),\"\")","v":""},{"$f":"IF('FEA___(MPG-2)'!$B49,IFERROR(T49/U49,\"N/A\"),\"\")","v":""},{"$f":"IF('FEA___(MPG-2)'!$B49,VLOOKUP(D49,VLLU,8,FALSE),\"\")","v":""},{"$f":"IF('FEA___(MPG-2)'!$B49,VLOOKUP(D49,VLLU,9,FALSE),\"\")","v":""},{"$f":"IF('FEA___(MPG-2)'!$B49,IFERROR((X49/W49)^(1/($AC$8-$W$9))-1,\"N/A\"),\"\")","v":""},{"$f":"IF('FEA___(MPG-2)'!$B49,IFERROR(Y49*V49,\"N/A\"),\"\")","v":""},{"$f":"IF('FEA___(MPG-2)'!$B49,IFERROR(1-1/V49,\"N/A\"),\"\")","v":""},{"$f":"IF('FEA___(MPG-2)'!$B49,Z49*AA49,\"\")","v":""}]
[{"$f":"'FEA___(MPG-2)'!A50","v":""},{"$f":"'FEA___(MPG-2)'!D50","v":""},null,{"$f":"'FEA___(MPG-2)'!F50","v":""},{"$f":"'FEA___(MPG-5)'!F50","v":""},{"$f":"'FEA___(MPG-5)'!I50","v":""},{"$f":"IF('FEA___(MPG-2)'!$B50,VLOOKUP(D50,VLLU,12,FALSE),\"\")","v":""},{"$f":"IF('FEA___(MPG-2)'!$B50,IFERROR((G50/U50)^(1/5)-1,\"N/A\"),\"\")","v":""},{"$f":"IF('FEA___(MPG-2)'!$B50,IFERROR(F50/G50,\"N/A\"),\"\")","v":""},{"$f":"IF('FEA___(MPG-2)'!$B50,IFERROR((2*(1+H50))/(2+H50),\"N/A\"),\"\")","v":""},{"$f":"IF('FEA___(MPG-2)'!$B50,IFERROR(I50*J50,\"N/A\"),\"\")","v":""},{"$f":"'FEA___(MPG-5)'!L50","v":""},{"$f":"IF('FEA___(MPG-2)'!$B50,IFERROR(1-L50,\"N/A\"),\"\")","v":""},{"$f":"IF('FEA___(MPG-2)'!$B50,IFERROR(M50*K50,\"N/A\"),\"\")","v":""},{"$f":"IF('FEA___(MPG-2)'!$B50,IFERROR(IF(AB50<0,N50,N50+AB50),N50),\"\")","v":""},"",null,"",null,{"$f":"'FEA___(MPG-4)'!F50","v":""},{"$f":"IF('FEA___(MPG-2)'!$B50,VLOOKUP(D50,VLLU,11,FALSE),\"\")","v":""},{"$f":"IF('FEA___(MPG-2)'!$B50,IFERROR(T50/U50,\"N/A\"),\"\")","v":""},{"$f":"IF('FEA___(MPG-2)'!$B50,VLOOKUP(D50,VLLU,8,FALSE),\"\")","v":""},{"$f":"IF('FEA___(MPG-2)'!$B50,VLOOKUP(D50,VLLU,9,FALSE),\"\")","v":""},{"$f":"IF('FEA___(MPG-2)'!$B50,IFERROR((X50/W50)^(1/($AC$8-$W$9))-1,\"N/A\"),\"\")","v":""},{"$f":"IF('FEA___(MPG-2)'!$B50,IFERROR(Y50*V50,\"N/A\"),\"\")","v":""},{"$f":"IF('FEA___(MPG-2)'!$B50,IFERROR(1-1/V50,\"N/A\"),\"\")","v":""},{"$f":"IF('FEA___(MPG-2)'!$B50,Z50*AA50,\"\")","v":""}]
[{"$f":"'FEA___(MPG-2)'!A51","v":""},{"$f":"'FEA___(MPG-2)'!D51","v":""},null,{"$f":"'FEA___(MPG-2)'!F51","v":""},{"$f":"'FEA___(MPG-5)'!F51","v":""},{"$f":"'FEA___(MPG-5)'!I51","v":""},{"$f":"IF('FEA___(MPG-2)'!$B51,VLOOKUP(D51,VLLU,12,FALSE),\"\")","v":""},{"$f":"IF('FEA___(MPG-2)'!$B51,IFERROR((G51/U51)^(1/5)-1,\"N/A\"),\"\")","v":""},{"$f":"IF('FEA___(MPG-2)'!$B51,IFERROR(F51/G51,\"N/A\"),\"\")","v":""},{"$f":"IF('FEA___(MPG-2)'!$B51,IFERROR((2*(1+H51))/(2+H51),\"N/A\"),\"\")","v":""},{"$f":"IF('FEA___(MPG-2)'!$B51,IFERROR(I51*J51,\"N/A\"),\"\")","v":""},{"$f":"'FEA___(MPG-5)'!L51","v":""},{"$f":"IF('FEA___(MPG-2)'!$B51,IFERROR(1-L51,\"N/A\"),\"\")","v":""},{"$f":"IF('FEA___(MPG-2)'!$B51,IFERROR(M51*K51,\"N/A\"),\"\")","v":""},{"$f":"IF('FEA___(MPG-2)'!$B51,IFERROR(IF(AB51<0,N51,N51+AB51),N51),\"\")","v":""},"",null,"",null,{"$f":"'FEA___(MPG-4)'!F51","v":""},{"$f":"IF('FEA___(MPG-2)'!$B51,VLOOKUP(D51,VLLU,11,FALSE),\"\")","v":""},{"$f":"IF('FEA___(MPG-2)'!$B51,IFERROR(T51/U51,\"N/A\"),\"\")","v":""},{"$f":"IF('FEA___(MPG-2)'!$B51,VLOOKUP(D51,VLLU,8,FALSE),\"\")","v":""},{"$f":"IF('FEA___(MPG-2)'!$B51,VLOOKUP(D51,VLLU,9,FALSE),\"\")","v":""},{"$f":"IF('FEA___(MPG-2)'!$B51,IFERROR((X51/W51)^(1/($AC$8-$W$9))-1,\"N/A\"),\"\")","v":""},{"$f":"IF('FEA___(MPG-2)'!$B51,IFERROR(Y51*V51,\"N/A\"),\"\")","v":""},{"$f":"IF('FEA___(MPG-2)'!$B51,IFERROR(1-1/V51,\"N/A\"),\"\")","v":""},{"$f":"IF('FEA___(MPG-2)'!$B51,Z51*AA51,\"\")","v":""}]
[{"$f":"'FEA___(MPG-2)'!A52","v":""},{"$f":"'FEA___(MPG-2)'!D52","v":""},null,{"$f":"'FEA___(MPG-2)'!F52","v":""},{"$f":"'FEA___(MPG-5)'!F52","v":""},{"$f":"'FEA___(MPG-5)'!I52","v":""},{"$f":"IF('FEA___(MPG-2)'!$B52,VLOOKUP(D52,VLLU,12,FALSE),\"\")","v":""},{"$f":"IF('FEA___(MPG-2)'!$B52,IFERROR((G52/U52)^(1/5)-1,\"N/A\"),\"\")","v":""},{"$f":"IF('FEA___(MPG-2)'!$B52,IFERROR(F52/G52,\"N/A\"),\"\")","v":""},{"$f":"IF('FEA___(MPG-2)'!$B52,IFERROR((2*(1+H52))/(2+H52),\"N/A\"),\"\")","v":""},{"$f":"IF('FEA___(MPG-2)'!$B52,IFERROR(I52*J52,\"N/A\"),\"\")","v":""},{"$f":"'FEA___(MPG-5)'!L52","v":""},{"$f":"IF('FEA___(MPG-2)'!$B52,IFERROR(1-L52,\"N/A\"),\"\")","v":""},{"$f":"IF('FEA___(MPG-2)'!$B52,IFERROR(M52*K52,\"N/A\"),\"\")","v":""},{"$f":"IF('FEA___(MPG-2)'!$B52,IFERROR(IF(AB52<0,N52,N52+AB52),N52),\"\")","v":""},"",null,"",null,{"$f":"'FEA___(MPG-4)'!F52","v":""},{"$f":"IF('FEA___(MPG-2)'!$B52,VLOOKUP(D52,VLLU,11,FALSE),\"\")","v":""},{"$f":"IF('FEA___(MPG-2)'!$B52,IFERROR(T52/U52,\"N/A\"),\"\")","v":""},{"$f":"IF('FEA___(MPG-2)'!$B52,VLOOKUP(D52,VLLU,8,FALSE),\"\")","v":""},{"$f":"IF('FEA___(MPG-2)'!$B52,VLOOKUP(D52,VLLU,9,FALSE),\"\")","v":""},{"$f":"IF('FEA___(MPG-2)'!$B52,IFERROR((X52/W52)^(1/($AC$8-$W$9))-1,\"N/A\"),\"\")","v":""},{"$f":"IF('FEA___(MPG-2)'!$B52,IFERROR(Y52*V52,\"N/A\"),\"\")","v":""},{"$f":"IF('FEA___(MPG-2)'!$B52,IFERROR(1-1/V52,\"N/A\"),\"\")","v":""},{"$f":"IF('FEA___(MPG-2)'!$B52,Z52*AA52,\"\")","v":""}]
[{"$f":"'FEA___(MPG-2)'!A53","v":""},{"$f":"'FEA___(MPG-2)'!D53","v":""},null,{"$f":"'FEA___(MPG-2)'!F53","v":""},{"$f":"'FEA___(MPG-5)'!F53","v":""},{"$f":"'FEA___(MPG-5)'!I53","v":""},{"$f":"IF('FEA___(MPG-2)'!$B53,VLOOKUP(D53,VLLU,12,FALSE),\"\")","v":""},{"$f":"IF('FEA___(MPG-2)'!$B53,IFERROR((G53/U53)^(1/5)-1,\"N/A\"),\"\")","v":""},{"$f":"IF('FEA___(MPG-2)'!$B53,IFERROR(F53/G53,\"N/A\"),\"\")","v":""},{"$f":"IF('FEA___(MPG-2)'!$B53,IFERROR((2*(1+H53))/(2+H53),\"N/A\"),\"\")","v":""},{"$f":"IF('FEA___(MPG-2)'!$B53,IFERROR(I53*J53,\"N/A\"),\"\")","v":""},{"$f":"'FEA___(MPG-5)'!L53","v":""},{"$f":"IF('FEA___(MPG-2)'!$B53,IFERROR(1-L53,\"N/A\"),\"\")","v":""},{"$f":"IF('FEA___(MPG-2)'!$B53,IFERROR(M53*K53,\"N/A\"),\"\")","v":""},{"$f":"IF('FEA___(MPG-2)'!$B53,IFERROR(IF(AB53<0,N53,N53+AB53),N53),\"\")","v":""},"",null,"",null,{"$f":"'FEA___(MPG-4)'!F53","v":""},{"$f":"IF('FEA___(MPG-2)'!$B53,VLOOKUP(D53,VLLU,11,FALSE),\"\")","v":""},{"$f":"IF('FEA___(MPG-2)'!$B53,IFERROR(T53/U53,\"N/A\"),\"\")","v":""},{"$f":"IF('FEA___(MPG-2)'!$B53,VLOOKUP(D53,VLLU,8,FALSE),\"\")","v":""},{"$f":"IF('FEA___(MPG-2)'!$B53,VLOOKUP(D53,VLLU,9,FALSE),\"\")","v":""},{"$f":"IF('FEA___(MPG-2)'!$B53,IFERROR((X53/W53)^(1/($AC$8-$W$9))-1,\"N/A\"),\"\")","v":""},{"$f":"IF('FEA___(MPG-2)'!$B53,IFERROR(Y53*V53,\"N/A\"),\"\")","v":""},{"$f":"IF('FEA___(MPG-2)'!$B53,IFERROR(1-1/V53,\"N/A\"),\"\")","v":""},{"$f":"IF('FEA___(MPG-2)'!$B53,Z53*AA53,\"\")","v":""}]
[{"$f":"'FEA___(MPG-2)'!A54","v":""},{"$f":"'FEA___(MPG-2)'!D54","v":""},null,{"$f":"'FEA___(MPG-2)'!F54","v":""},{"$f":"'FEA___(MPG-5)'!F54","v":""},{"$f":"'FEA___(MPG-5)'!I54","v":""},{"$f":"IF('FEA___(MPG-2)'!$B54,VLOOKUP(D54,VLLU,12,FALSE),\"\")","v":""},{"$f":"IF('FEA___(MPG-2)'!$B54,IFERROR((G54/U54)^(1/5)-1,\"N/A\"),\"\")","v":""},{"$f":"IF('FEA___(MPG-2)'!$B54,IFERROR(F54/G54,\"N/A\"),\"\")","v":""},{"$f":"IF('FEA___(MPG-2)'!$B54,IFERROR((2*(1+H54))/(2+H54),\"N/A\"),\"\")","v":""},{"$f":"IF('FEA___(MPG-2)'!$B54,IFERROR(I54*J54,\"N/A\"),\"\")","v":""},{"$f":"'FEA___(MPG-5)'!L54","v":""},{"$f":"IF('FEA___(MPG-2)'!$B54,IFERROR(1-L54,\"N/A\"),\"\")","v":""},{"$f":"IF('FEA___(MPG-2)'!$B54,IFERROR(M54*K54,\"N/A\"),\"\")","v":""},{"$f":"IF('FEA___(MPG-2)'!$B54,IFERROR(IF(AB54<0,N54,N54+AB54),N54),\"\")","v":""},"",null,"",null,{"$f":"'FEA___(MPG-4)'!F54","v":""},{"$f":"IF('FEA___(MPG-2)'!$B54,VLOOKUP(D54,VLLU,11,FALSE),\"\")","v":""},{"$f":"IF('FEA___(MPG-2)'!$B54,IFERROR(T54/U54,\"N/A\"),\"\")","v":""},{"$f":"IF('FEA___(MPG-2)'!$B54,VLOOKUP(D54,VLLU,8,FALSE),\"\")","v":""},{"$f":"IF('FEA___(MPG-2)'!$B54,VLOOKUP(D54,VLLU,9,FALSE),\"\")","v":""},{"$f":"IF('FEA___(MPG-2)'!$B54,IFERROR((X54/W54)^(1/($AC$8-$W$9))-1,\"N/A\"),\"\")","v":""},{"$f":"IF('FEA___(MPG-2)'!$B54,IFERROR(Y54*V54,\"N/A\"),\"\")","v":""},{"$f":"IF('FEA___(MPG-2)'!$B54,IFERROR(1-1/V54,\"N/A\"),\"\")","v":""},{"$f":"IF('FEA___(MPG-2)'!$B54,Z54*AA54,\"\")","v":""}]
[{"$f":"'FEA___(MPG-2)'!A55","v":""},{"$f":"'FEA___(MPG-2)'!D55","v":""},null,{"$f":"'FEA___(MPG-2)'!F55","v":""},{"$f":"'FEA___(MPG-5)'!F55","v":""},{"$f":"'FEA___(MPG-5)'!I55","v":""},{"$f":"IF('FEA___(MPG-2)'!$B55,VLOOKUP(D55,VLLU,12,FALSE),\"\")","v":""},{"$f":"IF('FEA___(MPG-2)'!$B55,IFERROR((G55/U55)^(1/5)-1,\"N/A\"),\"\")","v":""},{"$f":"IF('FEA___(MPG-2)'!$B55,IFERROR(F55/G55,\"N/A\"),\"\")","v":""},{"$f":"IF('FEA___(MPG-2)'!$B55,IFERROR((2*(1+H55))/(2+H55),\"N/A\"),\"\")","v":""},{"$f":"IF('FEA___(MPG-2)'!$B55,IFERROR(I55*J55,\"N/A\"),\"\")","v":""},{"$f":"'FEA___(MPG-5)'!L55","v":""},{"$f":"IF('FEA___(MPG-2)'!$B55,IFERROR(1-L55,\"N/A\"),\"\")","v":""},{"$f":"IF('FEA___(MPG-2)'!$B55,IFERROR(M55*K55,\"N/A\"),\"\")","v":""},{"$f":"IF('FEA___(MPG-2)'!$B55,IFERROR(IF(AB55<0,N55,N55+AB55),N55),\"\")","v":""},"",null,"",null,{"$f":"'FEA___(MPG-4)'!F55","v":""},{"$f":"IF('FEA___(MPG-2)'!$B55,VLOOKUP(D55,VLLU,11,FALSE),\"\")","v":""},{"$f":"IF('FEA___(MPG-2)'!$B55,IFERROR(T55/U55,\"N/A\"),\"\")","v":""},{"$f":"IF('FEA___(MPG-2)'!$B55,VLOOKUP(D55,VLLU,8,FALSE),\"\")","v":""},{"$f":"IF('FEA___(MPG-2)'!$B55,VLOOKUP(D55,VLLU,9,FALSE),\"\")","v":""},{"$f":"IF('FEA___(MPG-2)'!$B55,IFERROR((X55/W55)^(1/($AC$8-$W$9))-1,\"N/A\"),\"\")","v":""},{"$f":"IF('FEA___(MPG-2)'!$B55,IFERROR(Y55*V55,\"N/A\"),\"\")","v":""},{"$f":"IF('FEA___(MPG-2)'!$B55,IFERROR(1-1/V55,\"N/A\"),\"\")","v":""},{"$f":"IF('FEA___(MPG-2)'!$B55,Z55*AA55,\"\")","v":""}]
[{"$f":"'FEA___(MPG-2)'!A56","v":""},{"$f":"'FEA___(MPG-2)'!D56","v":""},null,{"$f":"'FEA___(MPG-2)'!F56","v":""},{"$f":"'FEA___(MPG-5)'!F56","v":""},{"$f":"'FEA___(MPG-5)'!I56","v":""},{"$f":"IF('FEA___(MPG-2)'!$B56,VLOOKUP(D56,VLLU,12,FALSE),\"\")","v":""},{"$f":"IF('FEA___(MPG-2)'!$B56,IFERROR((G56/U56)^(1/5)-1,\"N/A\"),\"\")","v":""},{"$f":"IF('FEA___(MPG-2)'!$B56,IFERROR(F56/G56,\"N/A\"),\"\")","v":""},{"$f":"IF('FEA___(MPG-2)'!$B56,IFERROR((2*(1+H56))/(2+H56),\"N/A\"),\"\")","v":""},{"$f":"IF('FEA___(MPG-2)'!$B56,IFERROR(I56*J56,\"N/A\"),\"\")","v":""},{"$f":"'FEA___(MPG-5)'!L56","v":""},{"$f":"IF('FEA___(MPG-2)'!$B56,IFERROR(1-L56,\"N/A\"),\"\")","v":""},{"$f":"IF('FEA___(MPG-2)'!$B56,IFERROR(M56*K56,\"N/A\"),\"\")","v":""},{"$f":"IF('FEA___(MPG-2)'!$B56,IFERROR(IF(AB56<0,N56,N56+AB56),N56),\"\")","v":""},"",null,"",null,{"$f":"'FEA___(MPG-4)'!F56","v":""},{"$f":"IF('FEA___(MPG-2)'!$B56,VLOOKUP(D56,VLLU,11,FALSE),\"\")","v":""},{"$f":"IF('FEA___(MPG-2)'!$B56,IFERROR(T56/U56,\"N/A\"),\"\")","v":""},{"$f":"IF('FEA___(MPG-2)'!$B56,VLOOKUP(D56,VLLU,8,FALSE),\"\")","v":""},{"$f":"IF('FEA___(MPG-2)'!$B56,VLOOKUP(D56,VLLU,9,FALSE),\"\")","v":""},{"$f":"IF('FEA___(MPG-2)'!$B56,IFERROR((X56/W56)^(1/($AC$8-$W$9))-1,\"N/A\"),\"\")","v":""},{"$f":"IF('FEA___(MPG-2)'!$B56,IFERROR(Y56*V56,\"N/A\"),\"\")","v":""},{"$f":"IF('FEA___(MPG-2)'!$B56,IFERROR(1-1/V56,\"N/A\"),\"\")","v":""},{"$f":"IF('FEA___(MPG-2)'!$B56,Z56*AA56,\"\")","v":""}]
[{"$f":"'FEA___(MPG-2)'!A57","v":""},{"$f":"'FEA___(MPG-2)'!D57","v":""},null,{"$f":"'FEA___(MPG-2)'!F57","v":""},{"$f":"'FEA___(MPG-5)'!F57","v":""},{"$f":"'FEA___(MPG-5)'!I57","v":""},{"$f":"IF('FEA___(MPG-2)'!$B57,VLOOKUP(D57,VLLU,12,FALSE),\"\")","v":""},{"$f":"IF('FEA___(MPG-2)'!$B57,IFERROR((G57/U57)^(1/5)-1,\"N/A\"),\"\")","v":""},{"$f":"IF('FEA___(MPG-2)'!$B57,IFERROR(F57/G57,\"N/A\"),\"\")","v":""},{"$f":"IF('FEA___(MPG-2)'!$B57,IFERROR((2*(1+H57))/(2+H57),\"N/A\"),\"\")","v":""},{"$f":"IF('FEA___(MPG-2)'!$B57,IFERROR(I57*J57,\"N/A\"),\"\")","v":""},{"$f":"'FEA___(MPG-5)'!L57","v":""},{"$f":"IF('FEA___(MPG-2)'!$B57,IFERROR(1-L57,\"N/A\"),\"\")","v":""},{"$f":"IF('FEA___(MPG-2)'!$B57,IFERROR(M57*K57,\"N/A\"),\"\")","v":""},{"$f":"IF('FEA___(MPG-2)'!$B57,IFERROR(IF(AB57<0,N57,N57+AB57),N57),\"\")","v":""},"",null,"",null,{"$f":"'FEA___(MPG-4)'!F57","v":""},{"$f":"IF('FEA___(MPG-2)'!$B57,VLOOKUP(D57,VLLU,11,FALSE),\"\")","v":""},{"$f":"IF('FEA___(MPG-2)'!$B57,IFERROR(T57/U57,\"N/A\"),\"\")","v":""},{"$f":"IF('FEA___(MPG-2)'!$B57,VLOOKUP(D57,VLLU,8,FALSE),\"\")","v":""},{"$f":"IF('FEA___(MPG-2)'!$B57,VLOOKUP(D57,VLLU,9,FALSE),\"\")","v":""},{"$f":"IF('FEA___(MPG-2)'!$B57,IFERROR((X57/W57)^(1/($AC$8-$W$9))-1,\"N/A\"),\"\")","v":""},{"$f":"IF('FEA___(MPG-2)'!$B57,IFERROR(Y57*V57,\"N/A\"),\"\")","v":""},{"$f":"IF('FEA___(MPG-2)'!$B57,IFERROR(1-1/V57,\"N/A\"),\"\")","v":""},{"$f":"IF('FEA___(MPG-2)'!$B57,Z57*AA57,\"\")","v":""}]
[{"$f":"'FEA___(MPG-2)'!A58","v":""},{"$f":"'FEA___(MPG-2)'!D58","v":""},null,{"$f":"'FEA___(MPG-2)'!F58","v":""},{"$f":"'FEA___(MPG-5)'!F58","v":""},{"$f":"'FEA___(MPG-5)'!I58","v":""},{"$f":"IF('FEA___(MPG-2)'!$B58,VLOOKUP(D58,VLLU,12,FALSE),\"\")","v":""},{"$f":"IF('FEA___(MPG-2)'!$B58,IFERROR((G58/U58)^(1/5)-1,\"N/A\"),\"\")","v":""},{"$f":"IF('FEA___(MPG-2)'!$B58,IFERROR(F58/G58,\"N/A\"),\"\")","v":""},{"$f":"IF('FEA___(MPG-2)'!$B58,IFERROR((2*(1+H58))/(2+H58),\"N/A\"),\"\")","v":""},{"$f":"IF('FEA___(MPG-2)'!$B58,IFERROR(I58*J58,\"N/A\"),\"\")","v":""},{"$f":"'FEA___(MPG-5)'!L58","v":""},{"$f":"IF('FEA___(MPG-2)'!$B58,IFERROR(1-L58,\"N/A\"),\"\")","v":""},{"$f":"IF('FEA___(MPG-2)'!$B58,IFERROR(M58*K58,\"N/A\"),\"\")","v":""},{"$f":"IF('FEA___(MPG-2)'!$B58,IFERROR(IF(AB58<0,N58,N58+AB58),N58),\"\")","v":""},"",null,"",null,{"$f":"'FEA___(MPG-4)'!F58","v":""},{"$f":"IF('FEA___(MPG-2)'!$B58,VLOOKUP(D58,VLLU,11,FALSE),\"\")","v":""},{"$f":"IF('FEA___(MPG-2)'!$B58,IFERROR(T58/U58,\"N/A\"),\"\")","v":""},{"$f":"IF('FEA___(MPG-2)'!$B58,VLOOKUP(D58,VLLU,8,FALSE),\"\")","v":""},{"$f":"IF('FEA___(MPG-2)'!$B58,VLOOKUP(D58,VLLU,9,FALSE),\"\")","v":""},{"$f":"IF('FEA___(MPG-2)'!$B58,IFERROR((X58/W58)^(1/($AC$8-$W$9))-1,\"N/A\"),\"\")","v":""},{"$f":"IF('FEA___(MPG-2)'!$B58,IFERROR(Y58*V58,\"N/A\"),\"\")","v":""},{"$f":"IF('FEA___(MPG-2)'!$B58,IFERROR(1-1/V58,\"N/A\"),\"\")","v":""},{"$f":"IF('FEA___(MPG-2)'!$B58,Z58*AA58,\"\")","v":""}]
[{"$f":"'FEA___(MPG-2)'!A59","v":""},{"$f":"'FEA___(MPG-2)'!D59","v":""},null,{"$f":"'FEA___(MPG-2)'!F59","v":""},{"$f":"'FEA___(MPG-5)'!F59","v":""},{"$f":"'FEA___(MPG-5)'!I59","v":""},{"$f":"IF('FEA___(MPG-2)'!$B59,VLOOKUP(D59,VLLU,12,FALSE),\"\")","v":""},{"$f":"IF('FEA___(MPG-2)'!$B59,IFERROR((G59/U59)^(1/5)-1,\"N/A\"),\"\")","v":""},{"$f":"IF('FEA___(MPG-2)'!$B59,IFERROR(F59/G59,\"N/A\"),\"\")","v":""},{"$f":"IF('FEA___(MPG-2)'!$B59,IFERROR((2*(1+H59))/(2+H59),\"N/A\"),\"\")","v":""},{"$f":"IF('FEA___(MPG-2)'!$B59,IFERROR(I59*J59,\"N/A\"),\"\")","v":""},{"$f":"'FEA___(MPG-5)'!L59","v":""},{"$f":"IF('FEA___(MPG-2)'!$B59,IFERROR(1-L59,\"N/A\"),\"\")","v":""},{"$f":"IF('FEA___(MPG-2)'!$B59,IFERROR(M59*K59,\"N/A\"),\"\")","v":""},{"$f":"IF('FEA___(MPG-2)'!$B59,IFERROR(IF(AB59<0,N59,N59+AB59),N59),\"\")","v":""},"",null,"",null,{"$f":"'FEA___(MPG-4)'!F59","v":""},{"$f":"IF('FEA___(MPG-2)'!$B59,VLOOKUP(D59,VLLU,11,FALSE),\"\")","v":""},{"$f":"IF('FEA___(MPG-2)'!$B59,IFERROR(T59/U59,\"N/A\"),\"\")","v":""},{"$f":"IF('FEA___(MPG-2)'!$B59,VLOOKUP(D59,VLLU,8,FALSE),\"\")","v":""},{"$f":"IF('FEA___(MPG-2)'!$B59,VLOOKUP(D59,VLLU,9,FALSE),\"\")","v":""},{"$f":"IF('FEA___(MPG-2)'!$B59,IFERROR((X59/W59)^(1/($AC$8-$W$9))-1,\"N/A\"),\"\")","v":""},{"$f":"IF('FEA___(MPG-2)'!$B59,IFERROR(Y59*V59,\"N/A\"),\"\")","v":""},{"$f":"IF('FEA___(MPG-2)'!$B59,IFERROR(1-1/V59,\"N/A\"),\"\")","v":""},{"$f":"IF('FEA___(MPG-2)'!$B59,Z59*AA59,\"\")","v":""}]
[{"$f":"'FEA___(MPG-2)'!A60","v":""},{"$f":"'FEA___(MPG-2)'!D60","v":""},null,{"$f":"'FEA___(MPG-2)'!F60","v":""},{"$f":"'FEA___(MPG-5)'!F60","v":""},{"$f":"'FEA___(MPG-5)'!I60","v":""},{"$f":"IF('FEA___(MPG-2)'!$B60,VLOOKUP(D60,VLLU,12,FALSE),\"\")","v":""},{"$f":"IF('FEA___(MPG-2)'!$B60,IFERROR((G60/U60)^(1/5)-1,\"N/A\"),\"\")","v":""},{"$f":"IF('FEA___(MPG-2)'!$B60,IFERROR(F60/G60,\"N/A\"),\"\")","v":""},{"$f":"IF('FEA___(MPG-2)'!$B60,IFERROR((2*(1+H60))/(2+H60),\"N/A\"),\"\")","v":""},{"$f":"IF('FEA___(MPG-2)'!$B60,IFERROR(I60*J60,\"N/A\"),\"\")","v":""},{"$f":"'FEA___(MPG-5)'!L60","v":""},{"$f":"IF('FEA___(MPG-2)'!$B60,IFERROR(1-L60,\"N/A\"),\"\")","v":""},{"$f":"IF('FEA___(MPG-2)'!$B60,IFERROR(M60*K60,\"N/A\"),\"\")","v":""},{"$f":"IF('FEA___(MPG-2)'!$B60,IFERROR(IF(AB60<0,N60,N60+AB60),N60),\"\")","v":""},"",null,"",null,{"$f":"'FEA___(MPG-4)'!F60","v":""},{"$f":"IF('FEA___(MPG-2)'!$B60,VLOOKUP(D60,VLLU,11,FALSE),\"\")","v":""},{"$f":"IF('FEA___(MPG-2)'!$B60,IFERROR(T60/U60,\"N/A\"),\"\")","v":""},{"$f":"IF('FEA___(MPG-2)'!$B60,VLOOKUP(D60,VLLU,8,FALSE),\"\")","v":""},{"$f":"IF('FEA___(MPG-2)'!$B60,VLOOKUP(D60,VLLU,9,FALSE),\"\")","v":""},{"$f":"IF('FEA___(MPG-2)'!$B60,IFERROR((X60/W60)^(1/($AC$8-$W$9))-1,\"N/A\"),\"\")","v":""},{"$f":"IF('FEA___(MPG-2)'!$B60,IFERROR(Y60*V60,\"N/A\"),\"\")","v":""},{"$f":"IF('FEA___(MPG-2)'!$B60,IFERROR(1-1/V60,\"N/A\"),\"\")","v":""},{"$f":"IF('FEA___(MPG-2)'!$B60,Z60*AA60,\"\")","v":""}]
[{"$f":"'FEA___(MPG-2)'!A61","v":""},{"$f":"'FEA___(MPG-2)'!D61","v":""},null,{"$f":"'FEA___(MPG-2)'!F61","v":""},{"$f":"'FEA___(MPG-5)'!F61","v":""},{"$f":"'FEA___(MPG-5)'!I61","v":""},{"$f":"IF('FEA___(MPG-2)'!$B61,VLOOKUP(D61,VLLU,12,FALSE),\"\")","v":""},{"$f":"IF('FEA___(MPG-2)'!$B61,IFERROR((G61/U61)^(1/5)-1,\"N/A\"),\"\")","v":""},{"$f":"IF('FEA___(MPG-2)'!$B61,IFERROR(F61/G61,\"N/A\"),\"\")","v":""},{"$f":"IF('FEA___(MPG-2)'!$B61,IFERROR((2*(1+H61))/(2+H61),\"N/A\"),\"\")","v":""},{"$f":"IF('FEA___(MPG-2)'!$B61,IFERROR(I61*J61,\"N/A\"),\"\")","v":""},{"$f":"'FEA___(MPG-5)'!L61","v":""},{"$f":"IF('FEA___(MPG-2)'!$B61,IFERROR(1-L61,\"N/A\"),\"\")","v":""},{"$f":"IF('FEA___(MPG-2)'!$B61,IFERROR(M61*K61,\"N/A\"),\"\")","v":""},{"$f":"IF('FEA___(MPG-2)'!$B61,IFERROR(IF(AB61<0,N61,N61+AB61),N61),\"\")","v":""},"",null,"",null,{"$f":"'FEA___(MPG-4)'!F61","v":""},{"$f":"IF('FEA___(MPG-2)'!$B61,VLOOKUP(D61,VLLU,11,FALSE),\"\")","v":""},{"$f":"IF('FEA___(MPG-2)'!$B61,IFERROR(T61/U61,\"N/A\"),\"\")","v":""},{"$f":"IF('FEA___(MPG-2)'!$B61,VLOOKUP(D61,VLLU,8,FALSE),\"\")","v":""},{"$f":"IF('FEA___(MPG-2)'!$B61,VLOOKUP(D61,VLLU,9,FALSE),\"\")","v":""},{"$f":"IF('FEA___(MPG-2)'!$B61,IFERROR((X61/W61)^(1/($AC$8-$W$9))-1,\"N/A\"),\"\")","v":""},{"$f":"IF('FEA___(MPG-2)'!$B61,IFERROR(Y61*V61,\"N/A\"),\"\")","v":""},{"$f":"IF('FEA___(MPG-2)'!$B61,IFERROR(1-1/V61,\"N/A\"),\"\")","v":""},{"$f":"IF('FEA___(MPG-2)'!$B61,Z61*AA61,\"\")","v":""}]
[]
[{"$f":"IF(B63=0,\"N/A\",MAX(A12:A62)+1)","v":14},"Average",null,null,{"$f":"AVERAGE(E12:E61)","v":2.3207692307692307},3.7769230769230768,36.9,3.681026931291545E-2,0.10380024253858898,1.0180431346167444,0.10566596727892487,0.61477069938608397,0.38522930061391603,4.0359041819998498E-2,4.7386256860704232E-2,{"$f":"A63","v":14},null,{"$f":"B63","v":"Average"},null,{"$f":"AVERAGE(T12:T61)","v":51.623994082840234},{"$f":"AVERAGE(U12:U61)","v":30.593076923076925},{"$f":"AVERAGE(V12:V61)","v":1.6784158093202228},{"$f":"AVERAGE(W12:W61)","v":231.99076923076925},{"$f":"AVERAGE(X12:X61)","v":243.7076923076923},{"$f":"AVERAGEIF(Y12:Y61,\">=0\")","v":1.2888054913984592E-2},{"$f":"AVERAGEIF(Z12:Z61,\">=0\")","v":2.0500871208082472E-2},{"$f":"AVERAGEIF(AA12:AA61,\">=0\")","v":0.38273223024763031},{"$f":"AVERAGEIF(AB12:AB61,\">=0\")","v":7.6128162940978794E-3}]
[]
[]
[null,"Sources and Notes:",null,null,null,null,null,null,null,null,null,null,null,null,null,null,"Sources and Notes:"]
[null,"Cols. (1), (2) and (3): ","The Value Line Investment Survey, January 31, February 21, and March 21, 2014.",null,null,null,null,null,null,null,null,null,null,null,null,null,{"$f":"+P67+1","v":1},{"$f":"+'FEA___(MPG-4)'!C68","v":"SNL Financial, Downloaded on March 31, 2014."}]
[null,"Col. (4): [ Col. (3) / Page 2 Col. (2) ] ^ (1/5) - 1.",null,null,null,null,null,null,null,null,null,null,null,null,null,null,{"$f":"+Q67+1","v":2},"The Value Line Investment Survey, January 31, February 21, and March 21, 2014."]
[null,"Col. (5): Col. (2) / Col. (3).",null,null,null,null,null,null,null,null,null,null,null,null,null,null,{"$f":"+Q68+1","v":3},"Expected Growth in the Number of Shares, Column (3) * Column (6)."]
[null,"Col. (6): [ 2 * (1 + Col. (4)) ] / (2 + Col. (4)).",null,null,null,null,null,null,null,null,null,null,null,null,null,null,4,"Expected Profit of Stock Investment, [ 1 - 1 / Column (3) ]."]
[null,"Col. (7): Col. (6) * Col. (5)."]
[null,"Col. (8): Col. (1) / Col. (2)."]
[null,"Col. (9): 1 - Col. (8)."]
[null,"Col. (10): Col. (9) * Col. (7)."]
[null,"Col. (11): Col. (10) + Page 2 Col. (9)."]

{"sheet":"FEA___(MPG-7)","index":7,"n_rows":70,"n_cols":9,"rows_kept":70,"cut":false,"hidden":false,"merged":[[0,0,0,8],[3,0,3,8],[4,0,4,8],[8,2,8,3]]}
[{"$f":"'FEA___(MPG-6ab)'!A1:O1","v":"Rocky Mountain Power"}]
[]
[]
[{"$f":"'FEA___(MPG-4)'!A4:J4","v":"Constant Growth DCF Model"}]
["(Sustainable Growth Rate)"]
[]
[]
[null,null,null,null,"13-Week AVG","Sustainable","Annualized","Adjusted","Constant"]
["Line",null,"Company",null,"Stock Price1","Growth2","Dividend3","Yield","Growth DCF"]
[null,null,null,null,"(1)","(2)","(3)","(4)","(5)"]
[]
[{"$f":"'FEA___(MPG-2)'!A12","v":1},null,{"$f":"'FEA___(MPG-2)'!D12","v":"ALLETE, Inc."},null,{"$f":"'FEA___(MPG-4)'!F12","v":50.052692307692311},{"$f":"'FEA___(MPG-6ab)'!O12","v":5.2351273455277146E-2},{"$f":"'FEA___(MPG-4)'!H12","v":1.96},{"$f":"IF('FEA___(MPG-2)'!$B12,IFERROR(G12*(1+F12)/E12,\"N/A\"),\"\")","v":4.120874224492721E-2},{"$f":"IF('FEA___(MPG-2)'!$B12,IFERROR(F12+H12,\"N/A\"),\"\")","v":9.3560015700204363E-2}]
[{"$f":"IF('FEA___(MPG-2)'!$B13,'FEA___(MPG-2)'!A13,\"\")","v":2},null,{"$f":"IF('FEA___(MPG-2)'!$B13,'FEA___(MPG-2)'!D13,\"\")","v":"Alliant Energy Corporation"},null,{"$f":"'FEA___(MPG-4)'!F13","v":52.68884615384615},{"$f":"'FEA___(MPG-6ab)'!O13","v":5.237996798758375E-2},{"$f":"'FEA___(MPG-4)'!H13","v":2.04},{"$f":"IF('FEA___(MPG-2)'!$B13,IFERROR(G13*(1+F13)/E13,\"N/A\"),\"\")","v":4.0745912871693359E-2},{"$f":"IF('FEA___(MPG-2)'!$B13,IFERROR(F13+H13,\"N/A\"),\"\")","v":9.3125880859277116E-2}]
[{"$f":"IF('FEA___(MPG-2)'!$B14,'FEA___(MPG-2)'!A14,\"\")","v":3},null,{"$f":"IF('FEA___(MPG-2)'!$B14,'FEA___(MPG-2)'!D14,\"\")","v":"Avista Corporation"},null,{"$f":"'FEA___(MPG-4)'!F14","v":29.042692307692302},{"$f":"'FEA___(MPG-6ab)'!O14","v":3.998241265640809E-2},{"$f":"'FEA___(MPG-4)'!H14","v":1.22},{"$f":"IF('FEA___(MPG-2)'!$B14,IFERROR(G14*(1+F14)/E14,\"N/A\"),\"\")","v":4.3686670987619379E-2},{"$f":"IF('FEA___(MPG-2)'!$B14,IFERROR(F14+H14,\"N/A\"),\"\")","v":8.3669083644027475E-2}]
[{"$f":"IF('FEA___(MPG-2)'!$B15,'FEA___(MPG-2)'!A15,\"\")","v":4},null,{"$f":"IF('FEA___(MPG-2)'!$B15,'FEA___(MPG-2)'!D15,\"\")","v":"DTE Energy Company"},null,{"$f":"'FEA___(MPG-4)'!F15","v":69.032307692307697},{"$f":"'FEA___(MPG-6ab)'!O15","v":4.3239872484731698E-2},{"$f":"'FEA___(MPG-4)'!H15","v":2.62},{"$f":"IF('FEA___(MPG-2)'!$B15,IFERROR(G15*(1+F15)/E15,\"N/A\"),\"\")","v":3.9594337163011695E-2},{"$f":"IF('FEA___(MPG-2)'!$B15,IFERROR(F15+H15,\"N/A\"),\"\")","v":8.2834209647743393E-2}]
[{"$f":"IF('FEA___(MPG-2)'!$B16,'FEA___(MPG-2)'!A16,\"\")","v":5},null,{"$f":"IF('FEA___(MPG-2)'!$B16,'FEA___(MPG-2)'!D16,\"\")","v":"IDACORP, Inc."},null,{"$f":"'FEA___(MPG-4)'!F16","v":53.559615384615377},{"$f":"'FEA___(MPG-6ab)'!O16","v":3.5539679319814055E-2},{"$f":"'FEA___(MPG-4)'!H16","v":1.72},{"$f":"IF('FEA___(MPG-2)'!$B16,IFERROR(G16*(1+F16)/E16,\"N/A\"),\"\")","v":3.3255060471208998E-2},{"$f":"IF('FEA___(MPG-2)'!$B16,IFERROR(F16+H16,\"N/A\"),\"\")","v":6.8794739791023046E-2}]
[{"$f":"IF('FEA___(MPG-2)'!$B17,'FEA___(MPG-2)'!A17,\"\")","v":6},null,{"$f":"IF('FEA___(MPG-2)'!$B17,'FEA___(MPG-2)'!D17,\"\")","v":"Integrys Energy Group, Inc."},null,{"$f":"'FEA___(MPG-4)'!F17","v":55.359615384615381},{"$f":"'FEA___(MPG-6ab)'!O17","v":3.5222323204576148E-2},{"$f":"'FEA___(MPG-4)'!H17","v":2.72},{"$f":"IF('FEA___(MPG-2)'!$B17,IFERROR(G17*(1+F17)/E17,\"N/A\"),\"\")","v":5.086387792894545E-2},{"$f":"IF('FEA___(MPG-2)'!$B17,IFERROR(F17+H17,\"N/A\"),\"\")","v":8.6086201133521598E-2}]
[{"$f":"IF('FEA___(MPG-2)'!$B18,'FEA___(MPG-2)'!A18,\"\")","v":7},null,{"$f":"IF('FEA___(MPG-2)'!$B18,'FEA___(MPG-2)'!D18,\"\")","v":"NextEra Energy, Inc."},null,{"$f":"'FEA___(MPG-4)'!F18","v":90.296153846153842},{"$f":"'FEA___(MPG-6ab)'!O18","v":6.7067704162248457E-2},{"$f":"'FEA___(MPG-4)'!H18","v":2.64},{"$f":"IF('FEA___(MPG-2)'!$B18,IFERROR(G18*(1+F18)/E18,\"N/A\"),\"\")","v":3.1197992594324975E-2},{"$f":"IF('FEA___(MPG-2)'!$B18,IFERROR(F18+H18,\"N/A\"),\"\")","v":9.8265696756573429E-2}]
[{"$f":"IF('FEA___(MPG-2)'!$B19,'FEA___(MPG-2)'!A19,\"\")","v":8},null,{"$f":"IF('FEA___(MPG-2)'!$B19,'FEA___(MPG-2)'!D19,\"\")","v":"Portland General Electric Company"},null,{"$f":"'FEA___(MPG-4)'!F19","v":30.797692307692312},{"$f":"'FEA___(MPG-6ab)'!O19","v":4.6732599549326168E-2},{"$f":"'FEA___(MPG-4)'!H19","v":1.1000000000000001},{"$f":"IF('FEA___(MPG-2)'!$B19,IFERROR(G19*(1+F19)/E19,\"N/A\"),\"\")","v":3.7386108283725961E-2},{"$f":"IF('FEA___(MPG-2)'!$B19,IFERROR(F19+H19,\"N/A\"),\"\")","v":8.4118707833052128E-2}]
[{"$f":"IF('FEA___(MPG-2)'!$B20,'FEA___(MPG-2)'!A20,\"\")","v":9},null,{"$f":"IF('FEA___(MPG-2)'!$B20,'FEA___(MPG-2)'!D20,\"\")","v":"Sempra Energy"},null,{"$f":"'FEA___(MPG-4)'!F20","v":92.834230769230757},{"$f":"'FEA___(MPG-6ab)'!O20","v":5.3747996141733187E-2},{"$f":"'FEA___(MPG-4)'!H20","v":2.52},{"$f":"IF('FEA___(MPG-2)'!$B20,IFERROR(G20*(1+F20)/E20,\"N/A\"),\"\")","v":2.8604157413423578E-2},{"$f":"IF('FEA___(MPG-2)'!$B20,IFERROR(F20+H20,\"N/A\"),\"\")","v":8.2352153555156765E-2}]
[{"$f":"IF('FEA___(MPG-2)'!$B21,'FEA___(MPG-2)'!A21,\"\")","v":10},null,{"$f":"IF('FEA___(MPG-2)'!$B21,'FEA___(MPG-2)'!D21,\"\")","v":"Southern Company"},null,{"$f":"'FEA___(MPG-4)'!F21","v":41.858461538461533},{"$f":"'FEA___(MPG-6ab)'!O21","v":4.518568608263672E-2},{"$f":"'FEA___(MPG-4)'!H21","v":2.0299999999999998},{"$f":"IF('FEA___(MPG-2)'!$B21,IFERROR(G21*(1+F21)/E21,\"N/A\"),\"\")","v":5.0688125286167278E-2},{"$f":"IF('FEA___(MPG-2)'!$B21,IFERROR(F21+H21,\"N/A\"),\"\")","v":9.5873811368803991E-2}]
[{"$f":"IF('FEA___(MPG-2)'!$B22,'FEA___(MPG-2)'!A22,\"\")","v":11},null,{"$f":"IF('FEA___(MPG-2)'!$B22,'FEA___(MPG-2)'!D22,\"\")","v":"Westar Energy, Inc."},null,{"$f":"'FEA___(MPG-4)'!F22","v":33.552692307692311},{"$f":"'FEA___(MPG-6ab)'!O22","v":4.6171361788601761E-2},{"$f":"'FEA___(MPG-4)'!H22","v":1.4},{"$f":"IF('FEA___(MPG-2)'!$B22,IFERROR(G22*(1+F22)/E22,\"N/A\"),\"\")","v":4.3651933891703174E-2},{"$f":"IF('FEA___(MPG-2)'!$B22,IFERROR(F22+H22,\"N/A\"),\"\")","v":8.9823295680304935E-2}]
[{"$f":"IF('FEA___(MPG-2)'!$B23,'FEA___(MPG-2)'!A23,\"\")","v":12},null,{"$f":"IF('FEA___(MPG-2)'!$B23,'FEA___(MPG-2)'!D23,\"\")","v":"Wisconsin Energy Corporation"},null,{"$f":"'FEA___(MPG-4)'!F23","v":42.946923076923071},{"$f":"'FEA___(MPG-6ab)'!O23","v":5.5983380132915789E-2},{"$f":"'FEA___(MPG-4)'!H23","v":1.56},{"$f":"IF('FEA___(MPG-2)'!$B23,IFERROR(G23*(1+F23)/E23,\"N/A\"),\"\")","v":3.8357441115322195E-2},{"$f":"IF('FEA___(MPG-2)'!$B23,IFERROR(F23+H23,\"N/A\"),\"\")","v":9.4340821248237977E-2}]
[{"$f":"IF('FEA___(MPG-2)'!$B24,'FEA___(MPG-2)'!A24,\"\")","v":13},null,{"$f":"IF('FEA___(MPG-2)'!$B24,'FEA___(MPG-2)'!D24,\"\")","v":"Xcel Energy Inc."},null,{"$f":"'FEA___(MPG-4)'!F24","v":29.09},{"$f":"'FEA___(MPG-6ab)'!O24","v":4.2417082223302108E-2},{"$f":"'FEA___(MPG-4)'!H24","v":1.1200000000000001},{"$f":"IF('FEA___(MPG-2)'!$B24,IFERROR(G24*(1+F24)/E24,\"N/A\"),\"\")","v":4.0134311862842852E-2},{"$f":"IF('FEA___(MPG-2)'!$B24,IFERROR(F24+H24,\"N/A\"),\"\")","v":8.2551394086144952E-2}]
[{"$f":"IF('FEA___(MPG-2)'!$B25,'FEA___(MPG-2)'!A25,\"\")","v":""},null,{"$f":"IF('FEA___(MPG-2)'!$B25,'FEA___(MPG-2)'!D25,\"\")","v":""},null,{"$f":"'FEA___(MPG-4)'!F25","v":""},{"$f":"'FEA___(MPG-6ab)'!O25","v":""},{"$f":"'FEA___(MPG-4)'!H25","v":""},{"$f":"IF('FEA___(MPG-2)'!$B25,IFERROR(G25*(1+F25)/E25,\"N/A\"),\"\")","v":""},{"$f":"IF('FEA___(MPG-2)'!$B25,IFERROR(F25+H25,\"N/A\"),\"\")","v":""}]
[{"$f":"IF('FEA___(MPG-2)'!$B26,'FEA___(MPG-2)'!A26,\"\")","v":""},null,{"$f":"IF('FEA___(MPG-2)'!$B26,'FEA___(MPG-2)'!D26,\"\")","v":""},null,{"$f":"'FEA___(MPG-4)'!F26","v":""},{"$f":"'FEA___(MPG-6ab)'!O26","v":""},{"$f":"'FEA___(MPG-4)'!H26","v":""},{"$f":"IF('FEA___(MPG-2)'!$B26,IFERROR(G26*(1+F26)/E26,\"N/A\"),\"\")","v":""},{"$f":"IF('FEA___(MPG-2)'!$B26,IFERROR(F26+H26,\"N/A\"),\"\")","v":""}]
[{"$f":"IF('FEA___(MPG-2)'!$B27,'FEA___(MPG-2)'!A27,\"\")","v":""},null,{"$f":"IF('FEA___(MPG-2)'!$B27,'FEA___(MPG-2)'!D27,\"\")","v":""},null,{"$f":"'FEA___(MPG-4)'!F27","v":""},{"$f":"'FEA___(MPG-6ab)'!O27","v":""},{"$f":"'FEA___(MPG-4)'!H27","v":""},{"$f":"IF('FEA___(MPG-2)'!$B27,IFERROR(G27*(1+F27)/E27,\"N/A\"),\"\")","v":""},{"$f":"IF('FEA___(MPG-2)'!$B27,IFERROR(F27+H27,\"N/A\"),\"\")","v":""}]
[{"$f":"IF('FEA___(MPG-2)'!$B28,'FEA___(MPG-2)'!A28,\"\")","v":""},null,{"$f":"IF('FEA___(MPG-2)'!$B28,'FEA___(MPG-2)'!D28,\"\")","v":""},null,{"$f":"'FEA___(MPG-4)'!F28","v":""},{"$f":"'FEA___(MPG-6ab)'!O28","v":""},{"$f":"'FEA___(MPG-4)'!H28","v":""},{"$f":"IF('FEA___(MPG-2)'!$B28,IFERROR(G28*(1+F28)/E28,\"N/A\"),\"\")","v":""},{"$f":"IF('FEA___(MPG-2)'!$B28,IFERROR(F28+H28,\"N/A\"),\"\")","v":""}]
[{"$f":"IF('FEA___(MPG-2)'!$B29,'FEA___(MPG-2)'!A29,\"\")","v":""},null,{"$f":"IF('FEA___(MPG-2)'!$B29,'FEA___(MPG-2)'!D29,\"\")","v":""},null,{"$f":"'FEA___(MPG-4)'!F29","v":""},{"$f":"'FEA___(MPG-6ab)'!O29","v":""},{"$f":"'FEA___(MPG-4)'!H29","v":""},{"$f":"IF('FEA___(MPG-2)'!$B29,IFERROR(G29*(1+F29)/E29,\"N/A\"),\"\")","v":""},{"$f":"IF('FEA___(MPG-2)'!$B29,IFERROR(F29+H29,\"N/A\"),\"\")","v":""}]
[{"$f":"IF('FEA___(MPG-2)'!$B30,'FEA___(MPG-2)'!A30,\"\")","v":""},null,{"$f":"IF('FEA___(MPG-2)'!$B30,'FEA___(MPG-2)'!D30,\"\")","v":""},null,{"$f":"'FEA___(MPG-4)'!F30","v":""},{"$f":"'FEA___(MPG-6ab)'!O30","v":""},{"$f":"'FEA___(MPG-4)'!H30","v":""},{"$f":"IF('FEA___(MPG-2)'!$B30,IFERROR(G30*(1+F30)/E30,\"N/A\"),\"\")","v":""},{"$f":"IF('FEA___(MPG-2)'!$B30,IFERROR(F30+H30,\"N/A\"),\"\")","v":""}]
[{"$f":"IF('FEA___(MPG-2)'!$B31,'FEA___(MPG-2)'!A31,\"\")","v":""},null,{"$f":"IF('FEA___(MPG-2)'!$B31,'FEA___(MPG-2)'!D31,\"\")","v":""},null,{"$f":"'FEA___(MPG-4)'!F31","v":""},{"$f":"'FEA___(MPG-6ab)'!O31","v":""},{"$f":"'FEA___(MPG-4)'!H31","v":""},{"$f":"IF('FEA___(MPG-2)'!$B31,IFERROR(G31*(1+F31)/E31,\"N/A\"),\"\")","v":""},{"$f":"IF('FEA___(MPG-2)'!$B31,IFERROR(F31+H31,\"N/A\"),\"\")","v":""}]
[{"$f":"IF('FEA___(MPG-2)'!$B32,'FEA___(MPG-2)'!A32,\"\")","v":""},null,{"$f":"IF('FEA___(MPG-2)'!$B32,'FEA___(MPG-2)'!D32,\"\")","v":""},null,{"$f":"'FEA___(MPG-4)'!F32","v":""},{"$f":"'FEA___(MPG-6ab)'!O32","v":""},{"$f":"'FEA___(MPG-4)'!H32","v":""},{"$f":"IF('FEA___(MPG-2)'!$B32,IFERROR(G32*(1+F32)/E32,\"N/A\"),\"\")","v":""},{"$f":"IF('FEA___(MPG-2)'!$B32,IFERROR(F32+H32,\"N/A\"),\"\")","v":""}]
[{"$f":"IF('FEA___(MPG-2)'!$B33,'FEA___(MPG-2)'!A33,\"\")","v":""},null,{"$f":"IF('FEA___(MPG-2)'!$B33,'FEA___(MPG-2)'!D33,\"\")","v":""},null,{"$f":"'FEA___(MPG-4)'!F33","v":""},{"$f":"'FEA___(MPG-6ab)'!O33","v":""},{"$f":"'FEA___(MPG-4)'!H33","v":""},{"$f":"IF('FEA___(MPG-2)'!$B33,IFERROR(G33*(1+F33)/E33,\"N/A\"),\"\")","v":""},{"$f":"IF('FEA___(MPG-2)'!$B33,IFERROR(F33+H33,\"N/A\"),\"\")","v":""}]
[{"$f":"IF('FEA___(MPG-2)'!$B34,'FEA___(MPG-2)'!A34,\"\")","v":""},null,{"$f":"IF('FEA___(MPG-2)'!$B34,'FEA___(MPG-2)'!D34,\"\")","v":""},null,{"$f":"'FEA___(MPG-4)'!F34","v":""},{"$f":"'FEA___(MPG-6ab)'!O34","v":""},{"$f":"'FEA___(MPG-4)'!H34","v":""},{"$f":"IF('FEA___(MPG-2)'!$B34,IFERROR(G34*(1+F34)/E34,\"N/A\"),\"\")","v":""},{"$f":"IF('FEA___(MPG-2)'!$B34,IFERROR(F34+H34,\"N/A\"),\"\")","v":""}]
[{"$f":"IF('FEA___(MPG-2)'!$B35,'FEA___(MPG-2)'!A35,\"\")","v":""},null,{"$f":"IF('FEA___(MPG-2)'!$B35,'FEA___(MPG-2)'!D35,\"\")","v":""},null,{"$f":"'FEA___(MPG-4)'!F35","v":""},{"$f":"'FEA___(MPG-6ab)'!O35","v":""},{"$f":"'FEA___(MPG-4)'!H35","v":""},{"$f":"IF('FEA___(MPG-2)'!$B35,IFERROR(G35*(1+F35)/E35,\"N/A\"),\"\")","v":""},{"$f":"IF('FEA___(MPG-2)'!$B35,IFERROR(F35+H35,\"N/A\"),\"\")","v":""}]
[{"$f":"IF('FEA___(MPG-2)'!$B36,'FEA___(MPG-2)'!A36,\"\")","v":""},null,{"$f":"IF('FEA___(MPG-2)'!$B36,'FEA___(MPG-2)'!D36,\"\")","v":""},null,{"$f":"'FEA___(MPG-4)'!F36","v":""},{"$f":"'FEA___(MPG-6ab)'!O36","v":""},{"$f":"'FEA___(MPG-4)'!H36","v":""},{"$f":"IF('FEA___(MPG-2)'!$B36,IFERROR(G36*(1+F36)/E36,\"N/A\"),\"\")","v":""},{"$f":"IF('FEA___(MPG-2)'!$B36,IFERROR(F36+H36,\"N/A\"),\"\")","v":""}]
[{"$f":"IF('FEA___(MPG-2)'!$B37,'FEA___(MPG-2)'!A37,\"\")","v":""},null,{"$f":"IF('FEA___(MPG-2)'!$B37,'FEA___(MPG-2)'!D37,\"\")","v":""},null,{"$f":"'FEA___(MPG-4)'!F37","v":""},{"$f":"'FEA___(MPG-6ab)'!O37","v":""},{"$f":"'FEA___(MPG-4)'!H37","v":""},{"$f":"IF('FEA___(MPG-2)'!$B37,IFERROR(G37*(1+F37)/E37,\"N/A\"),\"\")","v":""},{"$f":"IF('FEA___(MPG-2)'!$B37,IFERROR(F37+H37,\"N/A\"),\"\")","v":""}]
[{"$f":"IF('FEA___(MPG-2)'!$B38,'FEA___(MPG-2)'!A38,\"\")","v":""},null,{"$f":"IF('FEA___(MPG-2)'!$B38,'FEA___(MPG-2)'!D38,\"\")","v":""},null,{"$f":"'FEA___(MPG-4)'!F38","v":""},{"$f":"'FEA___(MPG-6ab)'!O38","v":""},{"$f":"'FEA___(MPG-4)'!H38","v":""},{"$f":"IF('FEA___(MPG-2)'!$B38,IFERROR(G38*(1+F38)/E38,\"N/A\"),\"\")","v":""},{"$f":"IF('FEA___(MPG-2)'!$B38,IFERROR(F38+H38,\"N/A\"),\"\")","v":""}]
[{"$f":"IF('FEA___(MPG-2)'!$B39,'FEA___(MPG-2)'!A39,\"\")","v":""},null,{"$f":"IF('FEA___(MPG-2)'!$B39,'FEA___(MPG-2)'!D39,\"\")","v":""},null,{"$f":"'FEA___(MPG-4)'!F39","v":""},{"$f":"'FEA___(MPG-6ab)'!O39","v":""},{"$f":"'FEA___(MPG-4)'!H39","v":""},{"$f":"IF('FEA___(MPG-2)'!$B39,IFERROR(G39*(1+F39)/E39,\"N/A\"),\"\")","v":""},{"$f":"IF('FEA___(MPG-2)'!$B39,IFERROR(F39+H39,\"N/A\"),\"\")","v":""}]
[{"$f":"IF('FEA___(MPG-2)'!$B40,'FEA___(MPG-2)'!A40,\"\")","v":""},null,{"$f":"IF('FEA___(MPG-2)'!$B40,'FEA___(MPG-2)'!D40,\"\")","v":""},null,{"$f":"'FEA___(MPG-4)'!F40","v":""},{"$f":"'FEA___(MPG-6ab)'!O40","v":""},{"$f":"'FEA___(MPG-4)'!H40","v":""},{"$f":"IF('FEA___(MPG-2)'!$B40,IFERROR(G40*(1+F40)/E40,\"N/A\"),\"\")","v":""},{"$f":"IF('FEA___(MPG-2)'!$B40,IFERROR(F40+H40,\"N/A\"),\"\")","v":""}]
[{"$f":"IF('FEA___(MPG-2)'!$B41,'FEA___(MPG-2)'!A41,\"\")","v":""},null,{"$f":"IF('FEA___(MPG-2)'!$B41,'FEA___(MPG-2)'!D41,\"\")","v":""},null,{"$f":"'FEA___(MPG-4)'!F41","v":""},{"$f":"'FEA___(MPG-6ab)'!O41","v":""},{"$f":"'FEA___(MPG-4)'!H41","v":""},{"$f":"IF('FEA___(MPG-2)'!$B41,IFERROR(G41*(1+F41)/E41,\"N/A\"),\"\")","v":""},{"$f":"IF('FEA___(MPG-2)'!$B41,IFERROR(F41+H41,\"N/A\"),\"\")","v":""}]
[{"$f":"IF('FEA___(MPG-2)'!$B42,'FEA___(MPG-2)'!A42,\"\")","v":""},null,{"$f":"IF('FEA___(MPG-2)'!$B42,'FEA___(MPG-2)'!D42,\"\")","v":""},null,{"$f":"'FEA___(MPG-4)'!F42","v":""},{"$f":"'FEA___(MPG-6ab)'!O42","v":""},{"$f":"'FEA___(MPG-4)'!H42","v":""},{"$f":"IF('FEA___(MPG-2)'!$B42,IFERROR(G42*(1+F42)/E42,\"N/A\"),\"\")","v":""},{"$f":"IF('FEA___(MPG-2)'!$B42,IFERROR(F42+H42,\"N/A\"),\"\")","v":""}]
[{"$f":"IF('FEA___(MPG-2)'!$B43,'FEA___(MPG-2)'!A43,\"\")","v":""},null,{"$f":"IF('FEA___(MPG-2)'!$B43,'FEA___(MPG-2)'!D43,\"\")","v":""},null,{"$f":"'FEA___(MPG-4)'!F43","v":""},{"$f":"'FEA___(MPG-6ab)'!O43","v":""},{"$f":"'FEA___(MPG-4)'!H43","v":""},{"$f":"IF('FEA___(MPG-2)'!$B43,IFERROR(G43*(1+F43)/E43,\"N/A\"),\"\")","v":""},{"$f":"IF('FEA___(MPG-2)'!$B43,IFERROR(F43+H43,\"N/A\"),\"\")","v":""}]
[{"$f":"IF('FEA___(MPG-2)'!$B44,'FEA___(MPG-2)'!A44,\"\")","v":""},null,{"$f":"IF('FEA___(MPG-2)'!$B44,'FEA___(MPG-2)'!D44,\"\")","v":""},null,{"$f":"'FEA___(MPG-4)'!F44","v":""},{"$f":"'FEA___(MPG-6ab)'!O44","v":""},{"$f":"'FEA___(MPG-4)'!H44","v":""},{"$f":"IF('FEA___(MPG-2)'!$B44,IFERROR(G44*(1+F44)/E44,\"N/A\"),\"\")","v":""},{"$f":"IF('FEA___(MPG-2)'!$B44,IFERROR(F44+H44,\"N/A\"),\"\")","v":""}]
[{"$f":"IF('FEA___(MPG-2)'!$B45,'FEA___(MPG-2)'!A45,\"\")","v":""},null,{"$f":"IF('FEA___(MPG-2)'!$B45,'FEA___(MPG-2)'!D45,\"\")","v":""},null,{"$f":"'FEA___(MPG-4)'!F45","v":""},{"$f":"'FEA___(MPG-6ab)'!O45","v":""},{"$f":"'FEA___(MPG-4)'!H45","v":""},{"$f":"IF('FEA___(MPG-2)'!$B45,IFERROR(G45*(1+F45)/E45,\"N/A\"),\"\")","v":""},{"$f":"IF('FEA___(MPG-2)'!$B45,IFERROR(F45+H45,\"N/A\"),\"\")","v":""}]
[{"$f":"IF('FEA___(MPG-2)'!$B46,'FEA___(MPG-2)'!A46,\"\")","v":""},null,{"$f":"IF('FEA___(MPG-2)'!$B46,'FEA___(MPG-2)'!D46,\"\")","v":""},null,{"$f":"'FEA___(MPG-4)'!F46","v":""},{"$f":"'FEA___(MPG-6ab)'!O46","v":""},{"$f":"'FEA___(MPG-4)'!H46","v":""},{"$f":"IF('FEA___(MPG-2)'!$B46,IFERROR(G46*(1+F46)/E46,\"N/A\"),\"\")","v":""},{"$f":"IF('FEA___(MPG-2)'!$B46,IFERROR(F46+H46,\"N/A\"),\"\")","v":""}]
[{"$f":"IF('FEA___(MPG-2)'!$B47,'FEA___(MPG-2)'!A47,\"\")","v":""},null,{"$f":"IF('FEA___(MPG-2)'!$B47,'FEA___(MPG-2)'!D47,\"\")","v":""},null,{"$f":"'FEA___(MPG-4)'!F47","v":""},{"$f":"'FEA___(MPG-6ab)'!O47","v":""},{"$f":"'FEA___(MPG-4)'!H47","v":""},{"$f":"IF('FEA___(MPG-2)'!$B47,IFERROR(G47*(1+F47)/E47,\"N/A\"),\"\")","v":""},{"$f":"IF('FEA___(MPG-2)'!$B47,IFERROR(F47+H47,\"N/A\"),\"\")","v":""}]
[{"$f":"IF('FEA___(MPG-2)'!$B48,'FEA___(MPG-2)'!A48,\"\")","v":""},null,{"$f":"IF('FEA___(MPG-2)'!$B48,'FEA___(MPG-2)'!D48,\"\")","v":""},null,{"$f":"'FEA___(MPG-4)'!F48","v":""},{"$f":"'FEA___(MPG-6ab)'!O48","v":""},{"$f":"'FEA___(MPG-4)'!H48","v":""},{"$f":"IF('FEA___(MPG-2)'!$B48,IFERROR(G48*(1+F48)/E48,\"N/A\"),\"\")","v":""},{"$f":"IF('FEA___(MPG-2)'!$B48,IFERROR(F48+H48,\"N/A\"),\"\")","v":""}]
[{"$f":"IF('FEA___(MPG-2)'!$B49,'FEA___(MPG-2)'!A49,\"\")","v":""},null,{"$f":"IF('FEA___(MPG-2)'!$B49,'FEA___(MPG-2)'!D49,\"\")","v":""},null,{"$f":"'FEA___(MPG-4)'!F49","v":""},{"$f":"'FEA___(MPG-6ab)'!O49","v":""},{"$f":"'FEA___(MPG-4)'!H49","v":""},{"$f":"IF('FEA___(MPG-2)'!$B49,IFERROR(G49*(1+F49)/E49,\"N/A\"),\"\")","v":""},{"$f":"IF('FEA___(MPG-2)'!$B49,IFERROR(F49+H49,\"N/A\"),\"\")","v":""}]
[{"$f":"IF('FEA___(MPG-2)'!$B50,'FEA___(MPG-2)'!A50,\"\")","v":""},null,{"$f":"IF('FEA___(MPG-2)'!$B50,'FEA___(MPG-2)'!D50,\"\")","v":""},null,{"$f":"'FEA___(MPG-4)'!F50","v":""},{"$f":"'FEA___(MPG-6ab)'!O50","v":""},{"$f":"'FEA___(MPG-4)'!H50","v":""},{"$f":"IF('FEA___(MPG-2)'!$B50,IFERROR(G50*(1+F50)/E50,\"N/A\"),\"\")","v":""},{"$f":"IF('FEA___(MPG-2)'!$B50,IFERROR(F50+H50,\"N/A\"),\"\")","v":""}]
[{"$f":"IF('FEA___(MPG-2)'!$B51,'FEA___(MPG-2)'!A51,\"\")","v":""},null,{"$f":"IF('FEA___(MPG-2)'!$B51,'FEA___(MPG-2)'!D51,\"\")","v":""},null,{"$f":"'FEA___(MPG-4)'!F51","v":""},{"$f":"'FEA___(MPG-6ab)'!O51","v":""},{"$f":"'FEA___(MPG-4)'!H51","v":""},{"$f":"IF('FEA___(MPG-2)'!$B51,IFERROR(G51*(1+F51)/E51,\"N/A\"),\"\")","v":""},{"$f":"IF('FEA___(MPG-2)'!$B51,IFERROR(F51+H51,\"N/A\"),\"\")","v":""}]
[{"$f":"IF('FEA___(MPG-2)'!$B52,'FEA___(MPG-2)'!A52,\"\")","v":""},null,{"$f":"IF('FEA___(MPG-2)'!$B52,'FEA___(MPG-2)'!D52,\"\")","v":""},null,{"$f":"'FEA___(MPG-4)'!F52","v":""},{"$f":"'FEA___(MPG-6ab)'!O52","v":""},{"$f":"'FEA___(MPG-4)'!H52","v":""},{"$f":"IF('FEA___(MPG-2)'!$B52,IFERROR(G52*(1+F52)/E52,\"N/A\"),\"\")","v":""},{"$f":"IF('FEA___(MPG-2)'!$B52,IFERROR(F52+H52,\"N/A\"),\"\")","v":""}]
[{"$f":"IF('FEA___(MPG-2)'!$B53,'FEA___(MPG-2)'!A53,\"\")","v":""},null,{"$f":"IF('FEA___(MPG-2)'!$B53,'FEA___(MPG-2)'!D53,\"\")","v":""},null,{"$f":"'FEA___(MPG-4)'!F53","v":""},{"$f":"'FEA___(MPG-6ab)'!O53","v":""},{"$f":"'FEA___(MPG-4)'!H53","v":""},{"$f":"IF('FEA___(MPG-2)'!$B53,IFERROR(G53*(1+F53)/E53,\"N/A\"),\"\")","v":""},{"$f":"IF('FEA___(MPG-2)'!$B53,IFERROR(F53+H53,\"N/A\"),\"\")","v":""}]
[{"$f":"IF('FEA___(MPG-2)'!$B54,'FEA___(MPG-2)'!A54,\"\")","v":""},null,{"$f":"IF('FEA___(MPG-2)'!$B54,'FEA___(MPG-2)'!D54,\"\")","v":""},null,{"$f":"'FEA___(MPG-4)'!F54","v":""},{"$f":"'FEA___(MPG-6ab)'!O54","v":""},{"$f":"'FEA___(MPG-4)'!H54","v":""},{"$f":"IF('FEA___(MPG-2)'!$B54,IFERROR(G54*(1+F54)/E54,\"N/A\"),\"\")","v":""},{"$f":"IF('FEA___(MPG-2)'!$B54,IFERROR(F54+H54,\"N/A\"),\"\")","v":""}]
[{"$f":"IF('FEA___(MPG-2)'!$B55,'FEA___(MPG-2)'!A55,\"\")","v":""},null,{"$f":"IF('FEA___(MPG-2)'!$B55,'FEA___(MPG-2)'!D55,\"\")","v":""},null,{"$f":"'FEA___(MPG-4)'!F55","v":""},{"$f":"'FEA___(MPG-6ab)'!O55","v":""},{"$f":"'FEA___(MPG-4)'!H55","v":""},{"$f":"IF('FEA___(MPG-2)'!$B55,IFERROR(G55*(1+F55)/E55,\"N/A\"),\"\")","v":""},{"$f":"IF('FEA___(MPG-2)'!$B55,IFERROR(F55+H55,\"N/A\"),\"\")","v":""}]
[{"$f":"IF('FEA___(MPG-2)'!$B56,'FEA___(MPG-2)'!A56,\"\")","v":""},null,{"$f":"IF('FEA___(MPG-2)'!$B56,'FEA___(MPG-2)'!D56,\"\")","v":""},null,{"$f":"'FEA___(MPG-4)'!F56","v":""},{"$f":"'FEA___(MPG-6ab)'!O56","v":""},{"$f":"'FEA___(MPG-4)'!H56","v":""},{"$f":"IF('FEA___(MPG-2)'!$B56,IFERROR(G56*(1+F56)/E56,\"N/A\"),\"\")","v":""},{"$f":"IF('FEA___(MPG-2)'!$B56,IFERROR(F56+H56,\"N/A\"),\"\")","v":""}]
[{"$f":"IF('FEA___(MPG-2)'!$B57,'FEA___(MPG-2)'!A57,\"\")","v":""},null,{"$f":"IF('FEA___(MPG-2)'!$B57,'FEA___(MPG-2)'!D57,\"\")","v":""},null,{"$f":"'FEA___(MPG-4)'!F57","v":""},{"$f":"'FEA___(MPG-6ab)'!O57","v":""},{"$f":"'FEA___(MPG-4)'!H57","v":""},{"$f":"IF('FEA___(MPG-2)'!$B57,IFERROR(G57*(1+F57)/E57,\"N/A\"),\"\")","v":""},{"$f":"IF('FEA___(MPG-2)'!$B57,IFERROR(F57+H57,\"N/A\"),\"\")","v":""}]
[{"$f":"IF('FEA___(MPG-2)'!$B58,'FEA___(MPG-2)'!A58,\"\")","v":""},null,{"$f":"IF('FEA___(MPG-2)'!$B58,'FEA___(MPG-2)'!D58,\"\")","v":""},null,{"$f":"'FEA___(MPG-4)'!F58","v":""},{"$f":"'FEA___(MPG-6ab)'!O58","v":""},{"$f":"'FEA___(MPG-4)'!H58","v":""},{"$f":"IF('FEA___(MPG-2)'!$B58,IFERROR(G58*(1+F58)/E58,\"N/A\"),\"\")","v":""},{"$f":"IF('FEA___(MPG-2)'!$B58,IFERROR(F58+H58,\"N/A\"),\"\")","v":""}]
[{"$f":"IF('FEA___(MPG-2)'!$B59,'FEA___(MPG-2)'!A59,\"\")","v":""},null,{"$f":"IF('FEA___(MPG-2)'!$B59,'FEA___(MPG-2)'!D59,\"\")","v":""},null,{"$f":"'FEA___(MPG-4)'!F59","v":""},{"$f":"'FEA___(MPG-6ab)'!O59","v":""},{"$f":"'FEA___(MPG-4)'!H59","v":""},{"$f":"IF('FEA___(MPG-2)'!$B59,IFERROR(G59*(1+F59)/E59,\"N/A\"),\"\")","v":""},{"$f":"IF('FEA___(MPG-2)'!$B59,IFERROR(F59+H59,\"N/A\"),\"\")","v":""}]
[{"$f":"IF('FEA___(MPG-2)'!$B60,'FEA___(MPG-2)'!A60,\"\")","v":""},null,{"$f":"IF('FEA___(MPG-2)'!$B60,'FEA___(MPG-2)'!D60,\"\")","v":""},null,{"$f":"'FEA___(MPG-4)'!F60","v":""},{"$f":"'FEA___(MPG-6ab)'!O60","v":""},{"$f":"'FEA___(MPG-4)'!H60","v":""},{"$f":"IF('FEA___(MPG-2)'!$B60,IFERROR(G60*(1+F60)/E60,\"N/A\"),\"\")","v":""},{"$f":"IF('FEA___(MPG-2)'!$B60,IFERROR(F60+H60,\"N/A\"),\"\")","v":""}]
[{"$f":"IF('FEA___(MPG-2)'!$B61,'FEA___(MPG-2)'!A61,\"\")","v":""},null,{"$f":"IF('FEA___(MPG-2)'!$B61,'FEA___(MPG-2)'!D61,\"\")","v":""},null,{"$f":"'FEA___(MPG-4)'!F61","v":""},{"$f":"'FEA___(MPG-6ab)'!O61","v":""},{"$f":"'FEA___(MPG-4)'!H61","v":""},{"$f":"IF('FEA___(MPG-2)'!$B61,IFERROR(G61*(1+F61)/E61,\"N/A\"),\"\")","v":""},{"$f":"IF('FEA___(MPG-2)'!$B61,IFERROR(F61+H61,\"N/A\"),\"\")","v":""}]
[]
[{"$f":"IF(C63=0,\"N/A\",MAX(A14:A62)+1)","v":14},null,"Average",null,{"$f":"AVERAGE(E12:E61)","v":51.623994082840234},{"$f":"AVERAGE(F12:F61)","v":4.7386256860704232E-2},{"$f":"AVERAGE(G12:G61)","v":1.8961538461538463},{"$f":"AVERAGE(H12:H61)","v":3.9951897854993548E-2},{"$f":"AVERAGE(I12:I61)","v":8.733815471569778E-2}]
[{"$f":"IF(C64=0,\"N/A\",MAX(A62:A63)+1)","v":15},null,"Median",null,null,null,null,null,{"$f":"MEDIAN(I12:I61)","v":8.6086201133521598E-2}]
[]
[]
[null,"Sources:"]
[null,{"$f":"+A68+1","v":1},{"$f":"+'FEA___(MPG-6ab)'!R67","v":"SNL Financial, Downloaded on March 31, 2014."}]
[null,{"$f":"+B68+1","v":2},"Exhibit MPG-6, page 1."]
[null,{"$f":"+B69+1","v":3},"The Value Line Investment Survey, January 31, February 21, and March 21, 2014."]

{"sheet":"FEA___(MPG-8)","index":8,"n_rows":35,"n_cols":2,"rows_kept":35,"cut":false,"hidden":false,"merged":[[1,0,1,11]]}
[]
[{"$f":"'FEA___(MPG-4)'!A1:J1","v":"Rocky Mountain Power"}]
[]
[]
[]
[]
[]
[]
[]
[]
[]
[]
[]
[]
[]
[]
[]
[]
[]
[]
[]
[]
[]
[]
[]
[]
[]
[]
[]
[null,"Note:"]
[null,"1988 represents the base year.  Graph depicts increases or decreases from the base year."]
[]
[null,"Sources:"]
[null,"U.S. Department of Energy, Energy Information Administration."]
[null,"Edison Electric Institute, http://www.eei.org."]

{"sheet":"FEA___(MPG-9)","index":9,"n_rows":71,"n_cols":216,"rows_kept":71,"cut":false,"hidden":false,"merged":[[0,0,0,13],[3,0,3,13],[7,7,7,11],[8,2,8,3]]}
[{"$f":"'FEA___(MPG-7)'!A1:I1","v":"Rocky Mountain Power"}]
[]
[]
["Multi-Stage Growth DCF Model"]
[]
[]
[]
[null,null,null,null,"13-Week AVG","Annualized","First Stage","Second Stage Growth",null,null,null,null,"Third Stage","Multi-Stage",null,null,"First Stage",null,null,null,null,"Second Stage",null,null,null,null,"Third Stage"]
["Line",null,"Company",null,"Stock Price1","Dividend2","Growth3","Year 6","Year 7","Year 8","Year 9","Year 10","Growth4","Growth DCF",null,"Price","Year1","Year2","Year3","Year4","Year5","Year6","Year7","Year8","Year9","Year10","Year11","Year12","Year13","Year14","Year15","Year16","Year17","Year18","Year19","Year20","Year21","Year22","Year23","Year24","Year25","Year26","Year27","Year28","Year29","Year30","Year31","Year32","Year33","Year34","Year35","Year36","Year37","Year38","Year39","Year40","Year41","Year42","Year43","Year44","Year45","Year46","Year47","Year48","Year49","Year50","Year51","Year52","Year53","Year54","Year55","Year56","Year57","Year58","Year59","Year60","Year61","Year62","Year63","Year64","Year65","Year66","Year67","Year68","Year69","Year70","Year71","Year72","Year73","Year74","Year75","Year76","Year77","Year78","Year79","Year80","Year81","Year82","Year83","Year84","Year85","Year86","Year87","Year88","Year89","Year90","Year91","Year92","Year93","Year94","Year95","Year96","Year97","Year98","Year99","Year100","Year101","Year102","Year103","Year104","Year105","Year106","Year107","Year108","Year109","Year110","Year111","Year112","Year113","Year114","Year115","Year116","Year117","Year118","Year119","Year120","Year121","Year122","Year123","Year124","Year125","Year126","Year127","Year128","Year129","Year130","Year131","Year132","Year133","Year134","Year135","Year136","Year137","Year138","Year139","Year140","Year141","Year142","Year143","Year144","Year145","Year146","Year147","Year148","Year149","Year150","Year151","Year152","Year153","Year154","Year155","Year156","Year157","Year158","Year159","Year160","Year161","Year162","Year163","Year164","Year165","Year166","Year167","Year168","Year169","Year170","Year171","Year172","Year173","Year174","Year175","Year176","Year177","Year178","Year179","Year180","Year181","Year182","Year183","Year184","Year185","Year186","Year187","Year188","Year189","Year190","Year191","Year192","Year193","Year194","Year195","Year196","Year197","Year198","Year199","Year200"]
[null,null,null,null,"(1)","(2)","(3)","(4)","(5)","(6)","(7)","(8)","(9)","(10)"]
[]
[{"$f":"'FEA___(MPG-2)'!A12","v":1},null,{"$f":"'FEA___(MPG-2)'!D12","v":"ALLETE, Inc."},null,{"$f":"'FEA___(MPG-4)'!F12","v":50.052692307692311},{"$f":"'FEA___(MPG-4)'!H12","v":1.96},{"$f":"'FEA___(MPG-4)'!G12","v":0.06},{"$f":"IF('FEA___(MPG-2)'!$B12,IFERROR(G12-($G12-$M12)/6,\"N/A\"),\"\")","v":5.7833333333333334E-2},{"$f":"IF('FEA___(MPG-2)'!$B12,IFERROR(H12-($G12-$M12)/6,\"N/A\"),\"\")","v":5.566666666666667E-2},{"$f":"IF('FEA___(MPG-2)'!$B12,IFERROR(I12-($G12-$M12)/6,\"N/A\"),\"\")","v":5.3500000000000006E-2},{"$f":"IF('FEA___(MPG-2)'!$B12,IFERROR(J12-($G12-$M12)/6,\"N/A\"),\"\")","v":5.1333333333333342E-2},{"$f":"IF('FEA___(MPG-2)'!$B12,IFERROR(K12-($G12-$M12)/6,\"N/A\"),\"\")","v":4.9166666666666678E-2},{"$f":"ROUND((((1+0.026)*(1+0.021)-1)+((1+0.024)*(1+0.021)-1))/2,3)","v":4.7E-2},{"$f":"IF('FEA___(MPG-2)'!$B12,IFERROR(IRR(P12:HH12),\"N/A\"),\"\")","v":9.1444441399220366E-2},null,{"$f":"-E12","v":-50.052692307692311},{"$f":"F12*(1+$G12)","v":2.0775999999999999},{"$f":"Q12*(1+$G12)","v":2.2022560000000002},{"$f":"R12*(1+$G12)","v":2.3343913600000001},{"$f":"S12*(1+$G12)","v":2.4744548416000001},{"$f":"T12*(1+$G12)","v":2.6229221320960003},{"$f":"U12*(1+H12)","v":2.774614462068886},{"$f":"V12*(1+I12)","v":2.9290680004573875},{"$f":"W12*(1+J12)","v":3.0857731384818581},{"$f":"X12*(1+K12)","v":3.244176159590594},{"$f":"Y12*(1+L12)","v":3.4036814874371313},{"$f":"Z12*(1+$M12)","v":3.5636545173466763},3.7311462796619699,3.9065101548060821,4.0901161320819677,4.2823515902898199,4.483622115033441,4.6943523544400128,4.9149869150986927,5.1459913001083306,5.3878528912134218,5.6410819771004519,5.906212830024173,6.1838048330353086,6.4744436601879674,6.7787425122168017,7.0973434102909909,{"$f":"AP12*(1+$M12)","v":7.4309185505746669},7.7801717224516755,8.1458397934069033,8.5286942636970267,8.9295428940907868,9.3492314101130525,9.7886452863883662,10.248711614848618,10.730401060746503,11.234729910601589,11.762762216399862,12.315612040570654,12.894445806477474,13.500484759381914,14.135007543072863,14.799352897597286,{"$f":"BF12*(1+$M12)","v":15.494922483784357},16.223183840522221,16.985673481026765,17.784000134635022,18.619848140962866,19.494981003588119,20.411245110756759,21.370573630962326,22.374990591617554,23.426615149423576,24.527666061446482,25.680466366334464,26.887448285552182,28.151158354973134,29.47426279765687,30.859553149146741,{"$f":"BV12*(1+$M12)","v":32.309952147156636},33.828519898072997,35.418460333282425,37.083127968946698,38.82603498348719,40.650858627711088,42.561448983213509,44.561837085424543,46.656243428439495,48.849086869576148,51.144993952446221,53.548808668211187,56.065602675617107,58.70068600137111,61.45961824343555,64.348220300877017,{"$f":"CL12*(1+$M12)","v":67.372586655018239},70.539098227804089,73.854435844510874,77.325594329202886,80.959897262675412,84.765012434021145,88.748968018420129,92.920169515285863,97.287417482504296,101.85992610418199,106.64734263107854,111.65976773473923,116.90777681827197,122.40244232873074,128.15535711818109,134.17865890273558,{"$f":"DB12*(1+$M12)","v":140.48505587116415},147.08785349710885,154.00098261147295,161.23902879421217,168.81726314754013,176.75167451547452,185.05900321770181,193.7567763689338,202.86334485827368,212.39792206661252,222.3806244037433,232.83251375071922,243.775641897003,255.23309706616212,267.22905262827175,279.78881810180047,{"$f":"DR12*(1+$M12)","v":292.93889255258506},306.70702050255653,321.12225046617669,336.214996238087,352.01710106127706,368.56190481115704,385.88431433728141,404.02087711113359,423.00985833535685,442.89132167711858,463.70721379594312,485.5014528443524,508.32002112803696,532.21106212105462,557.22498204074418,583.41455619665908,{"$f":"EH12*(1+$M12)","v":610.835040337902},639.54428723378339,669.60286873377117,701.07420356425837,734.02469113177847,768.52385161497205,804.64447264087573,842.46276285499687,882.05851270918163,923.51526280651308,966.92048015841908,1012.3657427258647,1059.9469326339804,1109.7644384677774,1161.9233670757628,1216.5337653283236,{"$f":"EX12*(1+$M12)","v":1273.7108522987548},1333.5752623567962,1396.2532996875655,1461.877204772881,1530.5854333972063,1602.5229487668748,1677.8415273589178,1756.7000791447867,1839.2649828645915,1925.7104370592272,2016.2188276010106,2110.981112498258,2210.1972247856761,2314.0764943506028,2422.838089585081,2536.7114797955796,{"$f":"FN12*(1+$M12)","v":2655.9369193459715},2780.7659545552319,2911.4619544193274,3048.3006662770358,3191.5707975920564,3341.5746250788829,3498.6286324575904,3663.0641781830968,3835.228194557702,4015.4839197019137,4204.2116639279029,4401.8096121325143,4608.6946639027419,4825.3033131061702,5052.0925688221596,5289.5409195568009,{"$f":"GD12*(1+$M12)","v":5538.1493427759706},5798.4423618864412,6070.9691528951034,6356.3047030811731,6655.0510241259881,6967.8384222599088,7295.3268281061237,7638.2071890271109,7997.2029269113846,8373.0714644762193,8766.6058233066015,9178.6362970020109,9610.0322029611052,10061.703716500277,10534.603791175789,11029.73016936105,{"$f":"GT12*(1+$M12)","v":11548.127487321019},12090.889479225105,12659.161284748683,13254.141865131871,13877.086532793068,14529.309599834341,15212.187151026554,15927.159947124801,16675.736464639667,17459.496078477732,18280.092394166186,19139.256736691994,20038.801803316517,20980.625488072394]
[{"$f":"'FEA___(MPG-2)'!A13","v":2},null,{"$f":"'FEA___(MPG-2)'!D13","v":"Alliant Energy Corporation"},null,{"$f":"'FEA___(MPG-4)'!F13","v":52.68884615384615},{"$f":"'FEA___(MPG-4)'!H13","v":2.04},{"$f":"'FEA___(MPG-4)'!G13","v":5.5E-2},{"$f":"IF('FEA___(MPG-2)'!$B13,IFERROR(G13-($G13-$M13)/6,\"N/A\"),\"\")","v":5.3666666666666668E-2},{"$f":"IF('FEA___(MPG-2)'!$B13,IFERROR(H13-($G13-$M13)/6,\"N/A\"),\"\")","v":5.2333333333333336E-2},{"$f":"IF('FEA___(MPG-2)'!$B13,IFERROR(I13-($G13-$M13)/6,\"N/A\"),\"\")","v":5.1000000000000004E-2},{"$f":"IF('FEA___(MPG-2)'!$B13,IFERROR(J13-($G13-$M13)/6,\"N/A\"),\"\")","v":4.9666666666666671E-2},{"$f":"IF('FEA___(MPG-2)'!$B13,IFERROR(K13-($G13-$M13)/6,\"N/A\"),\"\")","v":4.8333333333333339E-2},{"$f":"IF('FEA___(MPG-2)'!$B13,$M$12,\"\")","v":4.7E-2},{"$f":"IF('FEA___(MPG-2)'!$B13,IFERROR(IRR(P13:HH13),\"N/A\"),\"\")","v":8.9606235062518858E-2},null,{"$f":"-E13","v":-52.68884615384615},{"$f":"F13*(1+$G13)","v":2.1522000000000001},{"$f":"Q13*(1+$G13)","v":2.2705709999999999},2.3954524049999999,2.5272022872749997,2.6661984130751244,{"$f":"U13*(1+H13)","v":2.8092843945768231},2.9563036112263434,3.1070750953988866,3.2613931584703648,3.4190271611297658,{"$f":"Z13*(1+$M13)","v":3.5797214377028643},{"$f":"AA13*(1+$M13)","v":3.7479683452748986},{"$f":"AB13*(1+$M13)","v":3.9241228575028186},{"$f":"AC13*(1+$M13)","v":4.1085566318054507},{"$f":"AD13*(1+$M13)","v":4.301658793500307},{"$f":"AE13*(1+$M13)","v":4.5038367567948212},{"$f":"AF13*(1+$M13)","v":4.7155170843641772},{"$f":"AG13*(1+$M13)","v":4.9371463873292933},{"$f":"AH13*(1+$M13)","v":5.16919226753377},{"$f":"AI13*(1+$M13)","v":5.4121443041078567},{"$f":"AJ13*(1+$M13)","v":5.6665150864009259},{"$f":"AK13*(1+$M13)","v":5.9328412954617686},{"$f":"AL13*(1+$M13)","v":6.2116848363484714},{"$f":"AM13*(1+$M13)","v":6.5036340236568488},{"$f":"AN13*(1+$M13)","v":6.8093048227687198},{"$f":"AO13*(1+$M13)","v":7.1293421494388491},{"$f":"AP13*(1+$M13)","v":7.4644212304624746},{"$f":"AQ13*(1+$M13)","v":7.8152490282942102},{"$f":"AR13*(1+$M13)","v":8.1825657326240382},{"$f":"AS13*(1+$M13)","v":8.5671463220573667},{"$f":"AT13*(1+$M13)","v":8.9698021991940617},{"$f":"AU13*(1+$M13)","v":9.3913829025561828},{"$f":"AV13*(1+$M13)","v":9.8327778989763228},{"$f":"AW13*(1+$M13)","v":10.294918460228208},{"$f":"AX13*(1+$M13)","v":10.778779627858933},{"$f":"AY13*(1+$M13)","v":11.285382270368302},{"$f":"AZ13*(1+$M13)","v":11.815795237075612},{"$f":"BA13*(1+$M13)","v":12.371137613218165},{"$f":"BB13*(1+$M13)","v":12.952581081039417},{"$f":"BC13*(1+$M13)","v":13.561352391848269},{"$f":"BD13*(1+$M13)","v":14.198735954265137},{"$f":"BE13*(1+$M13)","v":14.866076544115598},{"$f":"BF13*(1+$M13)","v":15.564782141689031},{"$f":"BG13*(1+$M13)","v":16.296326902348415},{"$f":"BH13*(1+$M13)","v":17.062254266758789},{"$f":"BI13*(1+$M13)","v":17.86418021729645},{"$f":"BJ13*(1+$M13)","v":18.703796687509382},{"$f":"BK13*(1+$M13)","v":19.58287513182232},{"$f":"BL13*(1+$M13)","v":20.503270263017967},{"$f":"BM13*(1+$M13)","v":21.466923965379809},{"$f":"BN13*(1+$M13)","v":22.47586939175266},{"$f":"BO13*(1+$M13)","v":23.532235253165034},{"$f":"BP13*(1+$M13)","v":24.638250310063789},{"$f":"BQ13*(1+$M13)","v":25.796248074636786},{"$f":"BR13*(1+$M13)","v":27.008671734144713},{"$f":"BS13*(1+$M13)","v":28.278079305649513},{"$f":"BT13*(1+$M13)","v":29.607149033015038},{"$f":"BU13*(1+$M13)","v":30.998685037566741},{"$f":"BV13*(1+$M13)","v":32.455623234332379},{"$f":"BW13*(1+$M13)","v":33.981037526346},{"$f":"BX13*(1+$M13)","v":35.578146290084263},{"$f":"BY13*(1+$M13)","v":37.250319165718217},{"$f":"BZ13*(1+$M13)","v":39.001084166506971},{"$f":"CA13*(1+$M13)","v":40.834135122332796},{"$f":"CB13*(1+$M13)","v":42.753339473082434},{"$f":"CC13*(1+$M13)","v":44.762746428317307},{"$f":"CD13*(1+$M13)","v":46.866595510448214},{"$f":"CE13*(1+$M13)","v":49.069325499439273},{"$f":"CF13*(1+$M13)","v":51.375583797912917},{"$f":"CG13*(1+$M13)","v":53.79023623641482},{"$f":"CH13*(1+$M13)","v":56.318377339526315},{"$f":"CI13*(1+$M13)","v":58.965341074484044},{"$f":"CJ13*(1+$M13)","v":61.73671210498479},{"$f":"CK13*(1+$M13)","v":64.638337573919074},{"$f":"CL13*(1+$M13)","v":67.676339439893269},{"$f":"CM13*(1+$M13)","v":70.857127393568248},{"$f":"CN13*(1+$M13)","v":74.187412381065954},{"$f":"CO13*(1+$M13)","v":77.674220762976049},{"$f":"CP13*(1+$M13)","v":81.32490913883592},{"$f":"CQ13*(1+$M13)","v":85.147179868361206},{"$f":"CR13*(1+$M13)","v":89.149097322174171},{"$f":"CS13*(1+$M13)","v":93.339104896316357},{"$f":"CT13*(1+$M13)","v":97.726042826443219},{"$f":"CU13*(1+$M13)","v":102.31916683928604},{"$f":"CV13*(1+$M13)","v":107.12816768073247},{"$f":"CW13*(1+$M13)","v":112.16319156172689},{"$f":"CX13*(1+$M13)","v":117.43486156512805},{"$f":"CY13*(1+$M13)","v":122.95430005868906},{"$f":"CZ13*(1+$M13)","v":128.73315216144744},{"$f":"DA13*(1+$M13)","v":134.78361031303547},{"$f":"DB13*(1+$M13)","v":141.11843999774811},{"$f":"DC13*(1+$M13)","v":147.75100667764227},{"$f":"DD13*(1+$M13)","v":154.69530399149144},{"$f":"DE13*(1+$M13)","v":161.96598327909152},{"$f":"DF13*(1+$M13)","v":169.5783844932088},{"$f":"DG13*(1+$M13)","v":177.5485685643896},{"$f":"DH13*(1+$M13)","v":185.8933512869159},{"$f":"DI13*(1+$M13)","v":194.63033879740092},{"$f":"DJ13*(1+$M13)","v":203.77796472087874},{"$f":"DK13*(1+$M13)","v":213.35552906276004},{"$f":"DL13*(1+$M13)","v":223.38323892870974},{"$f":"DM13*(1+$M13)","v":233.88225115835908},{"$f":"DN13*(1+$M13)","v":244.87471696280195},{"$f":"DO13*(1+$M13)","v":256.38382866005361},{"$f":"DP13*(1+$M13)","v":268.43386860707614},{"$f":"DQ13*(1+$M13)","v":281.05026043160871},{"$f":"DR13*(1+$M13)","v":294.25962267189431},{"$f":"DS13*(1+$M13)","v":308.08982493747334},{"$f":"DT13*(1+$M13)","v":322.57004670953455},{"$f":"DU13*(1+$M13)","v":337.73083890488266},{"$f":"DV13*(1+$M13)","v":353.60418833341214},{"$f":"DW13*(1+$M13)","v":370.22358518508247},{"$f":"DX13*(1+$M13)","v":387.62409368878133},{"$f":"DY13*(1+$M13)","v":405.84242609215403},{"$f":"DZ13*(1+$M13)","v":424.91702011848525},{"$f":"EA13*(1+$M13)","v":444.88812006405402},{"$f":"EB13*(1+$M13)","v":465.79786170706456},{"$f":"EC13*(1+$M13)","v":487.69036120729658},{"$f":"ED13*(1+$M13)","v":510.61180818403949},{"$f":"EE13*(1+$M13)","v":534.61056316868928},{"$f":"EF13*(1+$M13)","v":559.73725963761763},{"$f":"EG13*(1+$M13)","v":586.04491084058566},{"$f":"EH13*(1+$M13)","v":613.58902165009317},{"$f":"EI13*(1+$M13)","v":642.4277056676475},{"$f":"EJ13*(1+$M13)","v":672.62180783402687},{"$f":"EK13*(1+$M13)","v":704.2350328022261},{"$f":"EL13*(1+$M13)","v":737.33407934393063},{"$f":"EM13*(1+$M13)","v":771.98878107309531},{"$f":"EN13*(1+$M13)","v":808.27225378353069},{"$f":"EO13*(1+$M13)","v":846.26104971135658},{"$f":"EP13*(1+$M13)","v":886.03531904779027},{"$f":"EQ13*(1+$M13)","v":927.67897904303629},{"$f":"ER13*(1+$M13)","v":971.27989105805898},{"$f":"ES13*(1+$M13)","v":1016.9300459377877},{"$f":"ET13*(1+$M13)","v":1064.7257580968637},{"$f":"EU13*(1+$M13)","v":1114.7678687274163},{"$f":"EV13*(1+$M13)","v":1167.1619585576047},{"$f":"EW13*(1+$M13)","v":1222.0185706098121},{"$f":"EX13*(1+$M13)","v":1279.4534434284731},{"$f":"EY13*(1+$M13)","v":1339.5877552696113},{"$f":"EZ13*(1+$M13)","v":1402.548379767283},{"$f":"FA13*(1+$M13)","v":1468.4681536163453},{"$f":"FB13*(1+$M13)","v":1537.4861568363133},{"$f":"FC13*(1+$M13)","v":1609.7480062076199},{"$f":"FD13*(1+$M13)","v":1685.4061624993781},{"$f":"FE13*(1+$M13)","v":1764.6202521368486},{"$f":"FF13*(1+$M13)","v":1847.5574039872804},{"$f":"FG13*(1+$M13)","v":1934.3926019746825},{"$f":"FH13*(1+$M13)","v":2025.3090542674925},{"$f":"FI13*(1+$M13)","v":2120.4985798180646},{"$f":"FJ13*(1+$M13)","v":2220.1620130695137},{"$f":"FK13*(1+$M13)","v":2324.5096276837808},{"$f":"FL13*(1+$M13)","v":2433.7615801849183},{"$f":"FM13*(1+$M13)","v":2548.1483744536094},{"$f":"FN13*(1+$M13)","v":2667.911348052929},{"$f":"FO13*(1+$M13)","v":2793.3031814114165},{"$f":"FP13*(1+$M13)","v":2924.5884309377529},{"$f":"FQ13*(1+$M13)","v":3062.0440871918272},{"$f":"FR13*(1+$M13)","v":3205.960159289843},{"$f":"FS13*(1+$M13)","v":3356.6402867764655},{"$f":"FT13*(1+$M13)","v":3514.4023802549591},{"$f":"FU13*(1+$M13)","v":3679.5792921269417},{"$f":"FV13*(1+$M13)","v":3852.5195188569078},{"$f":"FW13*(1+$M13)","v":4033.587936243182},{"$f":"FX13*(1+$M13)","v":4223.1665692466113},{"$f":"FY13*(1+$M13)","v":4421.6553980012013},{"$f":"FZ13*(1+$M13)","v":4629.4732017072574},{"$f":"GA13*(1+$M13)","v":4847.0584421874983},{"$f":"GB13*(1+$M13)","v":5074.8701889703107},{"$f":"GC13*(1+$M13)","v":5313.3890878519151},{"$f":"GD13*(1+$M13)","v":5563.1183749809543},{"$f":"GE13*(1+$M13)","v":5824.5849386050586},{"$f":"GF13*(1+$M13)","v":6098.340430719496},{"$f":"GG13*(1+$M13)","v":6384.9624309633118},{"$f":"GH13*(1+$M13)","v":6685.0556652185869},{"$f":"GI13*(1+$M13)","v":6999.2532814838596},{"$f":"GJ13*(1+$M13)","v":7328.2181857136002},{"$f":"GK13*(1+$M13)","v":7672.6444404421391},{"$f":"GL13*(1+$M13)","v":8033.258729142919},{"$f":"GM13*(1+$M13)","v":8410.8218894126348},{"$f":"GN13*(1+$M13)","v":8806.1305182150281},{"$f":"GO13*(1+$M13)","v":9220.0186525711342},{"$f":"GP13*(1+$M13)","v":9653.3595292419777},{"$f":"GQ13*(1+$M13)","v":10107.06742711635},{"$f":"GR13*(1+$M13)","v":10582.099596190817},{"$f":"GS13*(1+$M13)","v":11079.458277211785},{"$f":"GT13*(1+$M13)","v":11600.192816240738},{"$f":"GU13*(1+$M13)","v":12145.401878604052},{"$f":"GV13*(1+$M13)","v":12716.235766898442},{"$f":"GW13*(1+$M13)","v":13313.898847942668},{"$f":"GX13*(1+$M13)","v":13939.652093795972},{"$f":"GY13*(1+$M13)","v":14594.815742204382},{"$f":"GZ13*(1+$M13)","v":15280.772082087988},{"$f":"HA13*(1+$M13)","v":15998.968369946122},{"$f":"HB13*(1+$M13)","v":16750.91988333359},{"$f":"HC13*(1+$M13)","v":17538.213117850268},{"$f":"HD13*(1+$M13)","v":18362.509134389231},{"$f":"HE13*(1+$M13)","v":19225.547063705522},{"$f":"HF13*(1+$M13)","v":20129.147775699679},{"$f":"HG13*(1+$M13)","v":21075.217721157562}]
[{"$f":"'FEA___(MPG-2)'!A14","v":3},null,{"$f":"'FEA___(MPG-2)'!D14","v":"Avista Corporation"},null,{"$f":"'FEA___(MPG-4)'!F14","v":29.042692307692302},{"$f":"'FEA___(MPG-4)'!H14","v":1.22},{"$f":"'FEA___(MPG-4)'!G14","v":0.05},{"$f":"IF('FEA___(MPG-2)'!$B14,IFERROR(G14-($G14-$M14)/6,\"N/A\"),\"\")","v":4.9500000000000002E-2},{"$f":"IF('FEA___(MPG-2)'!$B14,IFERROR(H14-($G14-$M14)/6,\"N/A\"),\"\")","v":4.9000000000000002E-2},{"$f":"IF('FEA___(MPG-2)'!$B14,IFERROR(I14-($G14-$M14)/6,\"N/A\"),\"\")","v":4.8500000000000001E-2},{"$f":"IF('FEA___(MPG-2)'!$B14,IFERROR(J14-($G14-$M14)/6,\"N/A\"),\"\")","v":4.8000000000000001E-2},{"$f":"IF('FEA___(MPG-2)'!$B14,IFERROR(K14-($G14-$M14)/6,\"N/A\"),\"\")","v":4.7500000000000001E-2},{"$f":"IF('FEA___(MPG-2)'!$B14,$M$12,\"\")","v":4.7E-2},{"$f":"IF('FEA___(MPG-2)'!$B14,IFERROR(IRR(P14:HH14),\"N/A\"),\"\")","v":9.1800892536102463E-2},null,{"$f":"-E14","v":-29.042692307692302},{"$f":"F14*(1+$G14)","v":1.2809999999999999},{"$f":"Q14*(1+$G14)","v":1.3450500000000001},1.4123025000000002,1.4829176250000002,1.5570635062500002,{"$f":"U14*(1+H14)","v":1.6341381498093754},{"$f":"V14*(1+I14)","v":1.7142109191500348},{"$f":"W14*(1+J14)","v":1.7973501487288115},{"$f":"X14*(1+K14)","v":1.8836229558677946},{"$f":"Y14*(1+L14)","v":1.9730950462715151},{"$f":"Z14*(1+$M14)","v":2.0658305134462762},{"$f":"AA14*(1+$M14)","v":2.162924547578251},{"$f":"AB14*(1+$M14)","v":2.2645820013144289},{"$f":"AC14*(1+$M14)","v":2.3710173553762068},{"$f":"AD14*(1+$M14)","v":2.4824551710788882},{"$f":"AE14*(1+$M14)","v":2.5991305641195956},{"$f":"AF14*(1+$M14)","v":2.7212897006332164},{"$f":"AG14*(1+$M14)","v":2.8491903165629773},{"$f":"AH14*(1+$M14)","v":2.9831022614414371},{"$f":"AI14*(1+$M14)","v":3.1233080677291842},{"$f":"AJ14*(1+$M14)","v":3.2701035469124555},{"$f":"AK14*(1+$M14)","v":3.4237984136173405},{"$f":"AL14*(1+$M14)","v":3.5847169390573552},{"$f":"AM14*(1+$M14)","v":3.7531986351930509},{"$f":"AN14*(1+$M14)","v":3.929598971047124},{"$f":"AO14*(1+$M14)","v":4.1142901226863389},{"$f":"AP14*(1+$M14)","v":4.3076617584525962},{"$f":"AQ14*(1+$M14)","v":4.5101218610998677},{"$f":"AR14*(1+$M14)","v":4.722097588571561},{"$f":"AS14*(1+$M14)","v":4.944036175234424},{"$f":"AT14*(1+$M14)","v":5.1764058754704418},{"$f":"AU14*(1+$M14)","v":5.4196969516175519},{"$f":"AV14*(1+$M14)","v":5.6744227083435765},{"$f":"AW14*(1+$M14)","v":5.9411205756357246},{"$f":"AX14*(1+$M14)","v":6.220353242690603},{"$f":"AY14*(1+$M14)","v":6.5127098450970609},{"$f":"AZ14*(1+$M14)","v":6.8188072078166222},{"$f":"BA14*(1+$M14)","v":7.1392911465840028},{"$f":"BB14*(1+$M14)","v":7.47483783047345},{"$f":"BC14*(1+$M14)","v":7.8261552085057016},{"$f":"BD14*(1+$M14)","v":8.1939845033054688},{"$f":"BE14*(1+$M14)","v":8.5791017749608258},{"$f":"BF14*(1+$M14)","v":8.9823195583839848},{"$f":"BG14*(1+$M14)","v":9.4044885776280314},{"$f":"BH14*(1+$M14)","v":9.8464995407765485},{"$f":"BI14*(1+$M14)","v":10.309285019193046},{"$f":"BJ14*(1+$M14)","v":10.793821415095119},{"$f":"BK14*(1+$M14)","v":11.301131021604588},{"$f":"BL14*(1+$M14)","v":11.832284179620004},{"$f":"BM14*(1+$M14)","v":12.388401536062144},{"$f":"BN14*(1+$M14)","v":12.970656408257064},{"$f":"BO14*(1+$M14)","v":13.580277259445145},{"$f":"BP14*(1+$M14)","v":14.218550290639065},{"$f":"BQ14*(1+$M14)","v":14.8868221542991},{"$f":"BR14*(1+$M14)","v":15.586502795551157},{"$f":"BS14*(1+$M14)","v":16.31906842694206},{"$f":"BT14*(1+$M14)","v":17.086064643008335},{"$f":"BU14*(1+$M14)","v":17.889109681229726},{"$f":"BV14*(1+$M14)","v":18.729897836247524},{"$f":"BW14*(1+$M14)","v":19.610203034551155},{"$f":"BX14*(1+$M14)","v":20.531882577175057},{"$f":"BY14*(1+$M14)","v":21.496881058302282},{"$f":"BZ14*(1+$M14)","v":22.507234468042487},{"$f":"CA14*(1+$M14)","v":23.565074488040484},{"$f":"CB14*(1+$M14)","v":24.672632988978386},{"$f":"CC14*(1+$M14)","v":25.832246739460366},{"$f":"CD14*(1+$M14)","v":27.046362336215001},{"$f":"CE14*(1+$M14)","v":28.317541366017103},{"$f":"CF14*(1+$M14)","v":29.648465810219903},{"$f":"CG14*(1+$M14)","v":31.041943703300237},{"$f":"CH14*(1+$M14)","v":32.50091505735535},{"$f":"CI14*(1+$M14)","v":34.028458065051048},{"$f":"CJ14*(1+$M14)","v":35.627795594108441},{"$f":"CK14*(1+$M14)","v":37.302301987031534},{"$f":"CL14*(1+$M14)","v":39.055510180422012},{"$f":"CM14*(1+$M14)","v":40.891119158901844},{"$f":"CN14*(1+$M14)","v":42.813001759370231},{"$f":"CO14*(1+$M14)","v":44.82521284206063},{"$f":"CP14*(1+$M14)","v":46.931997845637476},{"$f":"CQ14*(1+$M14)","v":49.137801744382436},{"$f":"CR14*(1+$M14)","v":51.447278426368406},{"$f":"CS14*(1+$M14)","v":53.865300512407721},{"$f":"CT14*(1+$M14)","v":56.39696963649088},{"$f":"CU14*(1+$M14)","v":59.047627209405945},{"$f":"CV14*(1+$M14)","v":61.822865688248022},{"$f":"CW14*(1+$M14)","v":64.728540375595671},{"$f":"CX14*(1+$M14)","v":67.770781773248657},{"$f":"CY14*(1+$M14)","v":70.956008516591339},{"$f":"CZ14*(1+$M14)","v":74.290940916871122},{"$f":"DA14*(1+$M14)","v":77.782615139964065},{"$f":"DB14*(1+$M14)","v":81.438398051542364},{"$f":"DC14*(1+$M14)","v":85.266002759964849},{"$f":"DD14*(1+$M14)","v":89.273504889683196},{"$f":"DE14*(1+$M14)","v":93.469359619498306},{"$f":"DF14*(1+$M14)","v":97.862419521614726},{"$f":"DG14*(1+$M14)","v":102.46195323913061},{"$f":"DH14*(1+$M14)","v":107.27766504136974},{"$f":"DI14*(1+$M14)","v":112.31971529831411},{"$f":"DJ14*(1+$M14)","v":117.59874191733486},{"$f":"DK14*(1+$M14)","v":123.1258827874496},{"$f":"DL14*(1+$M14)","v":128.91279927845972},{"$f":"DM14*(1+$M14)","v":134.97170084454731},{"$f":"DN14*(1+$M14)","v":141.31537078424103},{"$f":"DO14*(1+$M14)","v":147.95719321110033},{"$f":"DP14*(1+$M14)","v":154.91118129202204},{"$f":"DQ14*(1+$M14)","v":162.19200681274705},{"$f":"DR14*(1+$M14)","v":169.81503113294616},{"$f":"DS14*(1+$M14)","v":177.7963375961946},{"$f":"DT14*(1+$M14)","v":186.15276546321573},{"$f":"DU14*(1+$M14)","v":194.90194543998686},{"$f":"DV14*(1+$M14)","v":204.06233687566623},{"$f":"DW14*(1+$M14)","v":213.65326670882254},{"$f":"DX14*(1+$M14)","v":223.69497024413718},{"$f":"DY14*(1+$M14)","v":234.20863384561162},{"$f":"DZ14*(1+$M14)","v":245.21643963635535},{"$f":"EA14*(1+$M14)","v":256.74161229926403},{"$f":"EB14*(1+$M14)","v":268.80846807732945},{"$f":"EC14*(1+$M14)","v":281.44246607696391},{"$f":"ED14*(1+$M14)","v":294.67026198258117},{"$f":"EE14*(1+$M14)","v":308.51976429576246},{"$f":"EF14*(1+$M14)","v":323.02019321766329},{"$f":"EG14*(1+$M14)","v":338.20214229889342},{"$f":"EH14*(1+$M14)","v":354.09764298694137},{"$f":"EI14*(1+$M14)","v":370.74023220732761},{"$f":"EJ14*(1+$M14)","v":388.16502312107195},{"$f":"EK14*(1+$M14)","v":406.40877920776234},{"$f":"EL14*(1+$M14)","v":425.50999183052716},{"$f":"EM14*(1+$M14)","v":445.5089614465619},{"$f":"EN14*(1+$M14)","v":466.4478826345503},{"$f":"EO14*(1+$M14)","v":488.37093311837413},{"$f":"EP14*(1+$M14)","v":511.32436697493767},{"$f":"EQ14*(1+$M14)","v":535.35661222275974},{"$f":"ER14*(1+$M14)","v":560.51837299722945},{"$f":"ES14*(1+$M14)","v":586.86273652809916},{"$f":"ET14*(1+$M14)","v":614.44528514491981},{"$f":"EU14*(1+$M14)","v":643.32421354673102},{"$f":"EV14*(1+$M14)","v":673.56045158342738},{"$f":"EW14*(1+$M14)","v":705.21779280784847},{"$f":"EX14*(1+$M14)","v":738.36302906981734},{"$f":"EY14*(1+$M14)","v":773.06609143609876},{"$f":"EZ14*(1+$M14)","v":809.40019773359529},{"$f":"FA14*(1+$M14)","v":847.44200702707417},{"$f":"FB14*(1+$M14)","v":887.27178135734664},{"$f":"FC14*(1+$M14)","v":928.97355508114185},{"$f":"FD14*(1+$M14)","v":972.63531216995545},{"$f":"FE14*(1+$M14)","v":1018.3491718419433},{"$f":"FF14*(1+$M14)","v":1066.2115829185145},{"$f":"FG14*(1+$M14)","v":1116.3235273156847},{"$f":"FH14*(1+$M14)","v":1168.7907330995217},{"$f":"FI14*(1+$M14)","v":1223.7238975551991},{"$f":"FJ14*(1+$M14)","v":1281.2389207402935},{"$f":"FK14*(1+$M14)","v":1341.4571500150871},{"$f":"FL14*(1+$M14)","v":1404.5056360657961},{"$f":"FM14*(1+$M14)","v":1470.5174009608884},{"$f":"FN14*(1+$M14)","v":1539.63171880605},{"$f":"FO14*(1+$M14)","v":1611.9944095899343},{"$f":"FP14*(1+$M14)","v":1687.7581468406611},{"$f":"FQ14*(1+$M14)","v":1767.0827797421721},{"$f":"FR14*(1+$M14)","v":1850.135670390054},{"$f":"FS14*(1+$M14)","v":1937.0920468983863},{"$f":"FT14*(1+$M14)","v":2028.1353731026104},{"$f":"FU14*(1+$M14)","v":2123.457735638433},{"$f":"FV14*(1+$M14)","v":2223.2602492134392},{"$f":"FW14*(1+$M14)","v":2327.7534809264707},{"$f":"FX14*(1+$M14)","v":2437.1578945300148},{"$f":"FY14*(1+$M14)","v":2551.7043155729252},{"$f":"FZ14*(1+$M14)","v":2671.6344184048526},{"$f":"GA14*(1+$M14)","v":2797.2012360698805},{"$f":"GB14*(1+$M14)","v":2928.6696941651649},{"$f":"GC14*(1+$M14)","v":3066.3171697909274},{"$f":"GD14*(1+$M14)","v":3210.434076771101},{"$f":"GE14*(1+$M14)","v":3361.3244783793425},{"$f":"GF14*(1+$M14)","v":3519.3067288631714},{"$f":"GG14*(1+$M14)","v":3684.7141451197404},{"$f":"GH14*(1+$M14)","v":3857.8957099403679},{"$f":"GI14*(1+$M14)","v":4039.2168083075649},{"$f":"GJ14*(1+$M14)","v":4229.0599982980202},{"$f":"GK14*(1+$M14)","v":4427.8258182180271},{"$f":"GL14*(1+$M14)","v":4635.9336316742738},{"$f":"GM14*(1+$M14)","v":4853.8225123629645},{"$f":"GN14*(1+$M14)","v":5081.9521704440231},{"$f":"GO14*(1+$M14)","v":5320.803922454892},{"$f":"GP14*(1+$M14)","v":5570.8817068102717},{"$f":"GQ14*(1+$M14)","v":5832.7131470303539},{"$f":"GR14*(1+$M14)","v":6106.85066494078},{"$f":"GS14*(1+$M14)","v":6393.8726461929964},{"$f":"GT14*(1+$M14)","v":6694.3846605640665},{"$f":"GU14*(1+$M14)","v":7009.020739610577},{"$f":"GV14*(1+$M14)","v":7338.4447143722737},{"$f":"GW14*(1+$M14)","v":7683.3516159477704},{"$f":"GX14*(1+$M14)","v":8044.4691418973152},{"$f":"GY14*(1+$M14)","v":8422.5591915664882},{"$f":"GZ14*(1+$M14)","v":8818.419473570113},{"$f":"HA14*(1+$M14)","v":9232.8851888279078},{"$f":"HB14*(1+$M14)","v":9666.8307927028181},{"$f":"HC14*(1+$M14)","v":10121.17183995985},{"$f":"HD14*(1+$M14)","v":10596.866916437963},{"$f":"HE14*(1+$M14)","v":11094.919661510547},{"$f":"HF14*(1+$M14)","v":11616.380885601542},{"$f":"HG14*(1+$M14)","v":12162.350787224814}]
[{"$f":"'FEA___(MPG-2)'!A15","v":4},null,{"$f":"'FEA___(MPG-2)'!D15","v":"DTE Energy Company"},null,{"$f":"'FEA___(MPG-4)'!F15","v":69.032307692307697},{"$f":"'FEA___(MPG-4)'!H15","v":2.62},{"$f":"'FEA___(MPG-4)'!G15","v":5.736666666666667E-2},{"$f":"IF('FEA___(MPG-2)'!$B15,IFERROR(G15-($G15-$M15)/6,\"N/A\"),\"\")","v":5.5638888888888891E-2},{"$f":"IF('FEA___(MPG-2)'!$B15,IFERROR(H15-($G15-$M15)/6,\"N/A\"),\"\")","v":5.3911111111111111E-2},{"$f":"IF('FEA___(MPG-2)'!$B15,IFERROR(I15-($G15-$M15)/6,\"N/A\"),\"\")","v":5.2183333333333332E-2},{"$f":"IF('FEA___(MPG-2)'!$B15,IFERROR(J15-($G15-$M15)/6,\"N/A\"),\"\")","v":5.0455555555555552E-2},{"$f":"IF('FEA___(MPG-2)'!$B15,IFERROR(K15-($G15-$M15)/6,\"N/A\"),\"\")","v":4.8727777777777773E-2},{"$f":"IF('FEA___(MPG-2)'!$B15,$M$12,\"\")","v":4.7E-2},{"$f":"IF('FEA___(MPG-2)'!$B15,IFERROR(IRR(P15:HH15),\"N/A\"),\"\")","v":8.9388569268067375E-2},null,-69.032307692307697,2.7703006666666665,{"$f":"Q15*(1+$G15)","v":2.9292235815777774},3.0972633743742888,3.2749430499508936,3.4628156162497428,3.6554828295649711,3.8525539705544065,4.0535930785845036,4.2581193693606387,4.4656080637420947,4.6754916427379731,4.8952397499466578,5.1253160181941499,5.3662058710492744,5.6184175469885895,5.8824831716970527,6.1589598807668136,6.4484309951628536,6.7515072519355073,7.0688280927764753,7.4010630131369695,7.7489129747544068,8.1131118845678625,8.4944281431425512,8.8936662658702499,9.3116685803661507,9.749317003643359,10.207534902814595,10.687289043246881,11.189591628279484,11.715502434808618,12.266131049244622,12.842639208559119,13.446243251361397,14.078216684175381,14.739892868331623,15.432667833143208,16.158003221300937,16.917429372702081,17.712548553219079,18.545038335220376,19.416655136975731,20.32923792841359,21.284712111049028,22.285093580268331,23.332492978540941,24.429120148532363,25.577288795513383,26.779421368902511,28.038054173240926,29.355842719383247,30.735567327194257,32.180138991572385,33.692605524176287,35.276157983812567,36.934137409051758,38.670041867277185,40.487533835039208,42.390447925286047,44.382798977774485,46.46879052972988,48.65282368462718,50.939506397804657,53.333663198501469,55.840345368831038,58.464841601166093,61.212689156420893,64.089685546772671,67.10190076747098,70.255690103542108,73.557707538408579,77.014919792713783,80.634621022971331,84.424448211050972,88.392397276970357,92.546839948987952,96.896541426590375,101.45067887364011,106.21886078070119,111.21114723739414,116.43807115755166,121.91066050195658,127.64046154554853,133.63956323818931,139.92062271038421,146.49689197777226,153.38224590072755,160.59121145806174,168.13899839659064,176.04153132123039,184.31548329332821,192.97831100811462,202.04829162549598,211.54456133189427,221.4871557144933,231.89705203307446,242.79621347862894,254.20763551212448,266.1553943811943,278.6646979171104,291.76193871921458,305.47474983901765,319.83206308145145,334.86417004627964,350.60278603845478,367.08111698226213,384.33392948042842,402.39762416600854,421.31031250181093,441.11189718939602,461.84415635729761,483.55083170609055,506.27772079627675,530.0727736737017,554.98619403636565,581.07054515607479,608.38086077841024,636.97476123499553,666.91257501304028,698.25746603865309,731.07556694246978,765.43611858876579,801.41161616243778,839.07796212207234,878.51462634180973,919.80481377987473,963.03564002752876,1008.2983151088225,1055.6883359189371,1105.3056877071272,1157.255055029362,1211.6460426157419,1268.5934066186817,1328.2172967297597,1390.6435096760583,1456.0037546308329,1524.4359310984819,1596.0844198601105,1671.1003875935355,1749.6421058104315,1831.8752847835217,1917.9734231683472,2008.1181740572592,2102.4997282379504,2201.3172154651338,2304.7791245919948,2413.1037434478185,2526.519619389866,2645.2660415011896,2769.5935454517453,2899.7644420879769,3036.0533708661114,3178.7478792968186,3328.1490296237689,3484.572034016086,3648.3469196148417,3819.8192248367391,3999.3507284040656,4187.3202126390561,4384.1242626330913,4590.1781029768463,4805.9164738167574,5031.7945480861445,5268.2888918461931,5515.8984697629639,5775.1456978418228,6046.5775456403881,6330.7666902854862,6628.312724728904,6939.8434227911621,7266.0160636623459,7607.5188186544756,7965.0722031312353,8339.4305966784032,8731.3838347222882,9141.7588749542356,9571.4215420770834,10021.278354554706,10492.278437218776,10985.415523768057,11501.730053385156,12042.311365894257,12608.300000091285,13200.890100095576,13821.331934800066,14470.934535735669,15151.068458915244,15863.16867648426,16608.73760427902,17389.348271680134,18206.6476404491,19062.360079550206,19958.291003289065,20896.330680443651,21878.458222424502,22906.745758878453,23983.362809545739,25110.580861594386,26290.778162089322,27526.444735707519]
[{"$f":"'FEA___(MPG-2)'!A16","v":5},null,{"$f":"'FEA___(MPG-2)'!D16","v":"IDACORP, Inc."},null,{"$f":"'FEA___(MPG-4)'!F16","v":53.559615384615377},{"$f":"'FEA___(MPG-4)'!H16","v":1.72},{"$f":"'FEA___(MPG-4)'!G16","v":0.04},{"$f":"IF('FEA___(MPG-2)'!$B16,IFERROR(G16-($G16-$M16)/6,\"N/A\"),\"\")","v":4.1166666666666671E-2},{"$f":"IF('FEA___(MPG-2)'!$B16,IFERROR(H16-($G16-$M16)/6,\"N/A\"),\"\")","v":4.2333333333333334E-2},{"$f":"IF('FEA___(MPG-2)'!$B16,IFERROR(I16-($G16-$M16)/6,\"N/A\"),\"\")","v":4.3499999999999997E-2},{"$f":"IF('FEA___(MPG-2)'!$B16,IFERROR(J16-($G16-$M16)/6,\"N/A\"),\"\")","v":4.466666666666666E-2},{"$f":"IF('FEA___(MPG-2)'!$B16,IFERROR(K16-($G16-$M16)/6,\"N/A\"),\"\")","v":4.5833333333333323E-2},{"$f":"IF('FEA___(MPG-2)'!$B16,$M$12,\"\")","v":4.7E-2},{"$f":"IF('FEA___(MPG-2)'!$B16,IFERROR(IRR(P16:HH16),\"N/A\"),\"\")","v":7.9054216062054428E-2},null,-53.559615384615377,1.7887999999999999,{"$f":"Q16*(1+$G16)","v":1.860352},1.9347660800000002,2.0121567232000004,2.0926429921280003,2.1787901286372695,2.2710255774162471,2.369815190033854,2.4756669351886993,2.5891350030515148,2.7108243481949357,2.8382330925600976,2.9716300479104221,3.1112966601622118,3.2575276031898355,3.4106314005397573,3.5709310763651256,3.7387648369542861,3.9144867842911371,4.0984676631528201,4.2910956433210021,4.4927771385570887,4.7039376640692714,4.9250227342805264,5.1564988027917105,5.3988542465229203,5.6526003961094968,5.9182726147266429,6.1964314276187951,6.4876637047168781,6.7925838988385712,7.1118353420839835,7.4460916031619302,7.7960579085105408,8.1624726302105355,8.5461088438304298,8.9477759594904587,9.3683214295865103,9.8086325367770755,10.269638266005597,10.75231126450786,11.257669893939729,11.786780378954896,12.340759056765776,12.920774732433767,13.528051144858154,14.163869548666487,14.82957141745381,15.526561274074139,16.256309653955622,17.020356207691535,17.820312949453037,18.657867658077329,19.534787438006962,20.452922447593288,21.414209802630172,22.420677663353789,23.474449513531415,24.577748640667391,25.732902826778755,26.942349259637353,28.208639674840306,29.5344457395578,30.922564689317014,32.375925229714909,33.897593715511505,35.490780620140541,37.158847309287147,38.905313132823643,40.733862850066352,42.648354404019464,44.652827061008374,46.751509932875763,48.948830899720917,51.249425952007797,53.658148971752162,56.180081973424507,58.820545826175454,61.585111480005693,64.479611719565952,67.510153470385546,70.683130683493658,74.005237825617854,77.483484003421893,81.125207751582721,84.938092515907101,88.93018286415473,93.109901458769997,97.486066827332181,102.06791196821679,106.86510383072297,111.88776371076695,117.14648860517299,122.65237356961612,128.41703512738806,134.45263577837528,140.77190965995891,147.38818941397696,154.31543431643388,161.56825972930625,169.16196793658364,177.11258042960304,185.43687170979436,194.15240468015469,203.27756770012195,212.83161338202765,222.83469921098293,233.30793007389912,244.27340278737236,255.75425271837884,267.77470259614262,280.36011361816128,293.53703895821485,307.33327978925092,321.77794393934568,336.90150730449488,352.73587814780615,369.31446442075298,386.67224424852833,404.84583972820911,423.87359419543492,443.79565312262031,464.65404881938343,486.49278911389445,509.35795020224742,533.29777386175306,558.36276923325545,584.60581938721839,612.08229289841756,640.85016066464311,670.97011821588126,702.50571377202766,735.52348231931296,770.09308598832058,806.28746102977163,844.18297169817083,883.85957136798481,925.40097122228008,968.89481686972715,1014.4328732626043,1062.1112183059465,1112.0304455663259,1164.2958765079431,1219.0177827038165,1276.3116184908959,1336.2982645599679,1399.1042829942865,1464.8621842950179,1533.7107069568835,1605.7951101838569,1681.267480362498,1760.2870519395353,1843.0205433806934,1929.6425089195859,2020.3357068388063,2115.2914850602301,2214.710184858061,2318.8015635463898,2427.7852370330702,2541.8911431736242,2661.3600269027843,2786.4439481672148,2917.4068137310737,3054.5249339764341,3198.0876058733261,3348.397723349372,3505.7724163467924,3670.5437199150915,3843.0592747511005,4023.6830606644021,4212.7961645156283,4410.7975842478627,4618.1050707075119,4835.1560090307648,5062.4083414552106,5300.3415335036052,5549.4575855782741,5810.2820921004522,6083.3653504291733,6369.2835218993441,6668.6398474286125,6982.0659202577572,7310.2230185098715,7653.803500379835,8013.5322648976871,8390.1682813478783,8784.5061905712282,9197.3779815280759,9629.654746659895,10082.248519752909,10556.114200181295,11052.251567589816,11571.707391266536,12115.577638656063,12685.009787672898,13281.205247693522,13905.421894335117,14558.976723368867,15243.248629367203,15959.68131494746]
[{"$f":"'FEA___(MPG-2)'!A17","v":6},null,{"$f":"'FEA___(MPG-2)'!D17","v":"Integrys Energy Group, Inc."},null,{"$f":"'FEA___(MPG-4)'!F17","v":55.359615384615381},{"$f":"'FEA___(MPG-4)'!H17","v":2.72},{"$f":"'FEA___(MPG-4)'!G17","v":4.9500000000000002E-2},{"$f":"IF('FEA___(MPG-2)'!$B17,IFERROR(G17-($G17-$M17)/6,\"N/A\"),\"\")","v":4.9083333333333333E-2},{"$f":"IF('FEA___(MPG-2)'!$B17,IFERROR(H17-($G17-$M17)/6,\"N/A\"),\"\")","v":4.8666666666666664E-2},{"$f":"IF('FEA___(MPG-2)'!$B17,IFERROR(I17-($G17-$M17)/6,\"N/A\"),\"\")","v":4.8249999999999994E-2},{"$f":"IF('FEA___(MPG-2)'!$B17,IFERROR(J17-($G17-$M17)/6,\"N/A\"),\"\")","v":4.7833333333333325E-2},{"$f":"IF('FEA___(MPG-2)'!$B17,IFERROR(K17-($G17-$M17)/6,\"N/A\"),\"\")","v":4.7416666666666656E-2},{"$f":"IF('FEA___(MPG-2)'!$B17,$M$12,\"\")","v":4.7E-2},{"$f":"IF('FEA___(MPG-2)'!$B17,IFERROR(IRR(P17:HH17),\"N/A\"),\"\")","v":9.9229734574903805E-2},null,-55.359615384615381,2.8546400000000003,{"$f":"Q17*(1+$G17)","v":2.9959446800000005},3.144243941660001,3.2998840167721712,3.4632282756023942,3.6332150634632119,3.8100315298850882,3.9938655512020431,4.1849054534012078,4.3833397203166484,4.5893566871715308,4.8050564514685927,5.0308941046876159,5.2673461276079339,5.5149113956055063,5.7741122311989646,6.0454955060653157,6.3296337948503849,6.6271265832083524,6.9386015326191446,7.2647158046522442,7.6061574474708991,7.963646847502031,8.3379382493346252,8.7298213470533526,9.1401229503648587,9.5697087290320066,10.01948503929651,10.490400836143445,10.983449675442186,11.499671810187968,12.040156385266801,12.606043735374341,13.198527790936934,13.818858597110969,14.468344951175183,15.148357163880416,15.860329950582795,16.605765458260183,17.386236434798413,18.203389547233936,19.058948855953929,19.954719452183763,20.892591266436398,21.874543055958906,22.902646579588971,23.979070968829653,25.106087304364646,26.286073407669782,27.521518857830259,28.815030244148279,30.169336665623245,31.587295488907536,33.071898376886189,34.626277600599835,36.253712647828024,37.957637142275942,39.741646087962906,41.609503454097158,43.565150116439725,45.612712171912392,47.756509643992274,50.00106559725991,52.35111568033112,54.811618117306679,57.387764168820091,60.084989084754632,62.908983571738098,65.865705799609785,68.961393972191445,72.202579488884439,75.596100724861998,79.149117458930505,82.86912597950024,86.763974900536752,90.841881720861977,95.111450161742482,99.581688319344366,104.26202767035355,109.16234297086015,114.29297309049058,119.66474282574363,125.28898573855358,131.1775680682656,137.34291376747407,143.79803071454535,150.55653815812897,157.63269545156103,165.0414321377844,172.79837944826025,180.91990328232848,189.42313873659791,198.32602625721799,207.64734949130721,217.40677491739862,227.62489333851633,238.32326332542658,249.52445670172162,261.2521061667025,273.53095515653752,286.38691004889478,299.8470948211928,313.93990827778885,328.69508396684489,344.14375291328656,360.31850930021102,377.2534792373209,394.98439276147496,413.54865922126424,432.98544620466362,453.3357621762828,474.64254299856805,496.95074251950069,520.30742741791721,544.76187650655925,570.3656847023675,597.17287188337878,625.23999686189757,654.62627671440669,685.3937117199838,717.60721617082299,751.33475533085164,786.64748883140157,823.61992080647735,862.33005708438168,902.85956976734758,945.29396954641288,989.72278611509421,1036.2397570625035,1084.9430256444411,1135.9353478497299,1189.3243091986672,1245.2225517310044,1303.7480116623615,1365.0241682104925,1429.1803041163855,1496.3517784098556,1566.6803119951187,1640.3142866588892,1717.4090581318569,1798.1272838640541,1882.6392662056646,1971.1233117173308,2063.7661073680451,2160.7631144143429,2262.318980791817,2368.6479728890322,2479.9744276148167,2596.5332257127129,2718.5702873212103,2846.3430908253072,2980.1212160940963,3120.1869132505185,3266.8356981732927,3420.3769759874372,3581.1346938588463,3749.4480244702117,3925.6720816203115,4110.1786694564662,4303.3570669209203,4505.6148490662035,4717.3787469723147,4939.095548080013,5171.2330388397731,5414.2809916652423,5668.7521982735079,5935.1835515923622,6214.1371785172032,6506.2016259075117,6811.9931023251647,7132.1567781344474,7467.3681467067663,7818.3344496019836,8185.7961687332763,8570.5285886637394,8973.3434323309339,9395.0905736504865,9836.6598306120595,10298.982842650825,10783.035036255413,11289.837682959416,11820.460054058509,12376.021676599257,12957.694695399421,13566.706346083192,14204.341544349101,14871.945596933509,15570.927039989383,16302.760610868883,17068.990359579719,17871.232906479963,18711.180853084519,19590.60635317949,20511.364851778926,21475.398999812533,22484.742752803719,23541.525662185493,24647.977368308209,25806.432304618695,27019.33462293577]
[{"$f":"'FEA___(MPG-2)'!A18","v":7},null,{"$f":"'FEA___(MPG-2)'!D18","v":"NextEra Energy, Inc."},null,{"$f":"'FEA___(MPG-4)'!F18","v":90.296153846153842},{"$f":"'FEA___(MPG-4)'!H18","v":2.64},{"$f":"'FEA___(MPG-4)'!G18","v":6.2266666666666665E-2},{"$f":"IF('FEA___(MPG-2)'!$B18,IFERROR(G18-($G18-$M18)/6,\"N/A\"),\"\")","v":5.9722222222222218E-2},{"$f":"IF('FEA___(MPG-2)'!$B18,IFERROR(H18-($G18-$M18)/6,\"N/A\"),\"\")","v":5.7177777777777772E-2},{"$f":"IF('FEA___(MPG-2)'!$B18,IFERROR(I18-($G18-$M18)/6,\"N/A\"),\"\")","v":5.4633333333333325E-2},{"$f":"IF('FEA___(MPG-2)'!$B18,IFERROR(J18-($G18-$M18)/6,\"N/A\"),\"\")","v":5.2088888888888879E-2},{"$f":"IF('FEA___(MPG-2)'!$B18,IFERROR(K18-($G18-$M18)/6,\"N/A\"),\"\")","v":4.9544444444444433E-2},{"$f":"IF('FEA___(MPG-2)'!$B18,$M$12,\"\")","v":4.7E-2},{"$f":"IF('FEA___(MPG-2)'!$B18,IFERROR(IRR(P18:HH18),\"N/A\"),\"\")","v":8.0703234694198711E-2},null,-90.296153846153842,2.8043840000000002,{"$f":"Q18*(1+$G18)","v":2.9790036437333338},3.1644962706164628,3.361538905066848,3.5708507275556771,3.7841098682291414,4.0004768613614434,4.2190362472204903,4.4388011575201531,4.6587190948688457,4.8776788923276815,5.106929800267082,5.3469555008796341,5.5982624094209763,5.8613807426637621,6.1368656375689588,6.4252983225346991,6.7272873436938294,7.0434698488474385,7.3745129317432676,7.7211150395352011,8.0840074463933558,8.4639557963738437,8.8617617188034146,9.2782645195871751,9.7143429520077724,10.170917070752138,10.648950173077488,11.149450831212128,11.673475020279097,12.222128346232214,12.796568378505127,13.398007092294867,14.027713425632724,14.687015956637461,15.377305706599421,16.100039074809594,16.856740911325645,17.649007734157948,18.478511097663372,19.347001119253548,20.256310171858463,21.20835674993581,22.20514951718279,23.248791544490381,24.341484747081427,25.485534530194254,26.683354653113383,27.937472321809711,29.250533520934766,30.625308596418698,32.064698100450371,33.571738911171536,35.149610639996595,36.801642340076434,38.531319530060024,40.342291547972842,42.238379250727561,44.223583075511755,46.302091480060803,48.478289779623658,50.75676939926597,53.142337561031468,55.640027426399946,58.255108715440741,60.993098825066454,63.859774469844574,66.86118386992726,70.003659511813837,73.293831508869076,76.738641589785914,80.345357744505847,84.121589558497618,88.075304267747001,92.214843568331105,96.548941216042664,101.08674145319667,105.8378183014969,110.81219576166724,116.0203689624656,121.47332630370147,127.18257263997543,133.16015355405426,139.41868077109481,145.97135876733626,152.83201262940105,160.01511722298289,167.53582773246308,175.41001163588882,183.65428218277557,192.286033445366,201.32347701729819,210.78568043711118,220.69260741765538,231.06515996628517,241.92522248470056,253.29570794148145,265.20060621473107,277.66503470682341,290.7152913380441,304.37891003093216,318.68471880238593,333.66290058609803,349.34505691364461,365.76427458858586,382.95519549424938,400.95408968247909,419.79893189755558,439.52948169674067,460.18736733648745,481.81617360130235,504.46153376056355,528.17122584730998,552.99527346213347,578.98605131485374,606.19839572665182,634.68972032580439,664.52013718111709,695.75258362862951,728.452955059175,762.69024394695612,798.53668541246304,836.06790962684875,875.36310137931059,916.50516714413811,959.58090999991259,1004.6812127699084,1051.901229770094,1101.3405875692883,1153.1035951850449,1207.299464158742,1264.0425389742029,1323.4525383059904,1385.6548076063718,1450.7805835638712,1518.967270991373,1590.3587327279674,1665.1055931661817,1743.3655560449922,1825.3037371791067,1911.0930128265247,2000.9143844293712,2094.9573604975517,2193.4203564409363,2296.5111131936601,2404.4471355137621,2517.4561508829088,2635.7765899744054,2759.6580897032022,2889.3620199192524,3025.162034855457,3167.3446504936633,3316.2098490668654,3472.071711973008,3635.2590824357389,3806.1162593102185,3985.0037234977985,4172.2988985021948,4368.3969467317975,4573.711603228192,4788.6760485799168,5013.7438228631727,5249.3897825377417,5496.1111023170151,5754.4283241259145,6024.8864553598323,6308.0561187617441,6604.5347563435453,6914.9478898916914,7239.9504407166005,7580.2281114302805,7936.4988326675029,8309.5142778028749,8700.0614488596093,9108.9643369560108,9537.0856607929418,9985.3286868502091,10454.639135132169,10946.00717448338,11460.469511684098,11999.111578733249,12563.06982293371,13153.534104611594,13771.750207528337,14419.022467282168,15096.716523244429,15806.262199836916,16549.156523229249,17326.966879821022,18141.33432317261,18993.977036361721,19886.693957070722,20821.368573053045,21799.972895986535,22824.571622097901,23897.326488336501,25020.500833288315,26196.464372452865,27427.698197958147,28716.800013262178]
[{"$f":"'FEA___(MPG-2)'!A19","v":8},null,{"$f":"'FEA___(MPG-2)'!D19","v":"Portland General Electric Company"},null,{"$f":"'FEA___(MPG-4)'!F19","v":30.797692307692312},{"$f":"'FEA___(MPG-4)'!H19","v":1.1000000000000001},{"$f":"'FEA___(MPG-4)'!G19","v":7.690000000000001E-2},{"$f":"IF('FEA___(MPG-2)'!$B19,IFERROR(G19-($G19-$M19)/6,\"N/A\"),\"\")","v":7.191666666666667E-2},{"$f":"IF('FEA___(MPG-2)'!$B19,IFERROR(H19-($G19-$M19)/6,\"N/A\"),\"\")","v":6.6933333333333331E-2},{"$f":"IF('FEA___(MPG-2)'!$B19,IFERROR(I19-($G19-$M19)/6,\"N/A\"),\"\")","v":6.1949999999999998E-2},{"$f":"IF('FEA___(MPG-2)'!$B19,IFERROR(J19-($G19-$M19)/6,\"N/A\"),\"\")","v":5.6966666666666665E-2},{"$f":"IF('FEA___(MPG-2)'!$B19,IFERROR(K19-($G19-$M19)/6,\"N/A\"),\"\")","v":5.1983333333333333E-2},{"$f":"IF('FEA___(MPG-2)'!$B19,$M$12,\"\")","v":4.7E-2},{"$f":"IF('FEA___(MPG-2)'!$B19,IFERROR(IRR(P19:HH19),\"N/A\"),\"\")","v":9.1998702777574382E-2},null,-30.797692307692312,1.18459,{"$f":"Q19*(1+$G19)","v":1.275684971},1.3737851452698999,1.4794292229411552,1.5931973301853299,1.7077747715144915,1.822081829554528,1.934959798895431,2.0451880087725072,2.1515036987618648,2.2526243726036723,2.3584977181160447,2.4693471108674987,2.5854064250782711,2.7069205270569499,2.8341457918286261,2.9673506440445712,3.1068161243146659,3.2528364821574551,3.4057197968188553,3.5657886272693413,3.733380692751,3.9088495853102967,4.0925655158198806,4.2849160950634149,4.4863071515313955,4.6971635876533711,4.9179302762730792,5.1490729992579132,5.3910794302230345,5.644460163443517,5.9097497911253623,6.187508031308254,6.4783209087797413,6.7828019914923887,7.1015936850925305,7.4353685882918787,7.7848309119415964,8.1507179648028512,8.5338017091485838,8.9348903894785661,9.3548302377840589,9.7945072589599089,10.254849100131024,10.736827007837181,11.241457877205528,11.769806397434188,12.322987298113594,12.902167701124931,13.508569583077803,14.143472353482458,14.808215554096133,15.50420168513865,16.232899164340164,16.99584542506415,17.794650160042163,18.630998717564143,19.506655657289656,20.423468473182268,21.383371491421833,22.388389951518658,23.440644279240033,24.542354560364313,25.695845224701433,26.903549950262398,28.168016797924729,29.491913587427188,30.878033526036265,32.329301101759967,33.848778253542683,35.439670831459189,37.105335360537765,38.849286122483036,40.675202570239733,42.586937091041001,44.588523134319928,46.684183721632962,48.878340356549707,51.175622353307539,53.580876603912991,56.0991778042969,58.735839161098852,61.496423601670493,64.386755510949001,67.412933019963603,70.581340871901887,73.898663892881274,77.371901095846695,81.008380447351485,84.815774328377003,88.802115721810722,92.97581516073582,97.345678473290391,101.92092536153503,106.71120885352717,111.72663566964293,116.97778754611615,122.4757435607836,128.23210350814043,134.25901237302301,140.56918595455508,147.17593769441916,154.09320676605685,161.33558748406151,168.91836009581237,176.85752302031554,185.16982660227035,193.87280845257703,202.98483044984815,212.52511748099099,222.51379800259755,232.97194650871961,243.9216279946294,255.38594451037696,267.38908390236463,279.95637084577572,293.11432027552718,306.89069332847691,321.31455591491533,336.41634004291632,352.22790802493336,368.78261970210519,386.1154028281041,404.26282676102494,423.26317961879306,443.15654906087633,463.9849068667375,485.79219748947412,508.62443077147935,532.52977901773886,557.55867863157255,583.76393652725642,611.20084154403742,639.92728109660709,670.00386330814763,701.49404488363052,734.46426499316112,768.98408544783967,805.12633746388804,842.96727532469072,882.58673726495113,924.06831391640378,967.49952467047467,1012.9720023299869,1060.5816864394963,1110.4290257021526,1162.6191899101536,1217.2622918359307,1274.4736195522194,1334.3738796711737,1397.0894520157187,1462.7526562604573,1531.5020311046987,1603.4826265666195,1678.8463100152505,1757.7520865859672,1840.3664346555074,1926.8636570843162,2017.426248967279,2112.2452826687409,2211.5208109541713,2315.4622890690171,2424.2890166552606,2538.2306004380575,2657.5274386586461,2782.4312282756023,2913.2054960045552,3050.1261543167693,3193.4820835696573,3343.575741497431,3500.72380134781,3665.2578200111566,3837.5249375516805,4017.8886096166093,4206.7293742685897,4404.4456548592134,4611.4546006375958,4828.1929668675621,5055.1180363103367,5292.708584016922,5541.4658874657171,5801.9147841766053,6074.6047790329058,6360.1112036474515,6659.0364302188809,6972.011142439168,7299.6956661338081,7642.7813624420969,8001.9920864768746,8378.0857145412865,8771.8557431247264,9184.1329630515884,9615.7872123150119,10067.729211293818,10540.912484224626,11036.335370983183,11555.043133419391,12098.130160690102,12666.742278242535,13262.079165319932]
[{"$f":"'FEA___(MPG-2)'!A20","v":9},null,{"$f":"'FEA___(MPG-2)'!D20","v":"Sempra Energy"},null,{"$f":"'FEA___(MPG-4)'!F20","v":92.834230769230757},{"$f":"'FEA___(MPG-4)'!H20","v":2.52},{"$f":"'FEA___(MPG-4)'!G20","v":6.2933333333333327E-2},{"$f":"IF('FEA___(MPG-2)'!$B20,IFERROR(G20-($G20-$M20)/6,\"N/A\"),\"\")","v":6.027777777777777E-2},{"$f":"IF('FEA___(MPG-2)'!$B20,IFERROR(H20-($G20-$M20)/6,\"N/A\"),\"\")","v":5.7622222222222214E-2},{"$f":"IF('FEA___(MPG-2)'!$B20,IFERROR(I20-($G20-$M20)/6,\"N/A\"),\"\")","v":5.4966666666666657E-2},{"$f":"IF('FEA___(MPG-2)'!$B20,IFERROR(J20-($G20-$M20)/6,\"N/A\"),\"\")","v":5.23111111111111E-2},{"$f":"IF('FEA___(MPG-2)'!$B20,IFERROR(K20-($G20-$M20)/6,\"N/A\"),\"\")","v":4.9655555555555543E-2},{"$f":"IF('FEA___(MPG-2)'!$B20,$M$12,\"\")","v":4.7E-2},{"$f":"IF('FEA___(MPG-2)'!$B20,IFERROR(IRR(P20:HH20),\"N/A\"),\"\")","v":7.8417460347517398E-2},null,-92.834230769230757,2.6785920000000001,{"$f":"Q20*(1+$G20)","v":2.8471647232000001},3.0263462897800535,3.2168043496168779,3.4192485700194331,3.625353275490049,3.8342541875643978,4.0450103594075211,4.2566093457640841,4.4679736476109699,4.6779684090486855,4.8978329242739731,5.1280310717148492,5.3690485320854471,5.6213938130934631,5.8855993223088552,6.1622224904573706,6.4518469475088667,6.7550837540417827,7.0725726904817456,7.4049836069343868,7.7530178364603026,8.1174096747739366,8.4989279294883104,8.898377542174261,9.31660128665645,9.754481547129302,10.212942179844379,10.692950462297064,11.195519134025025,11.7217085333242,12.272628834390437,12.849442389606786,13.453366181918303,14.085674392468462,14.747701088914479,15.440843040093458,16.166562662977849,16.926391108137807,17.721931490220282,18.554862270260635,19.426940796962885,20.340007014420138,21.295987344097885,22.296898749270483,23.344852990486192,24.442061081039043,25.590837951847877,26.793607335584724,28.052906880357206,29.371393503733994,30.751848998409489,32.197185901334734,33.710453638697466,35.294844959716244,36.953702672822907,38.690526698445581,40.508981453272519,42.412903581576323,44.40631004991041,46.493406622256195,48.678596733502232,50.96649077997683,53.361915846635739,55.869925891427613,58.49581240832471,61.245115591515969,64.123636024317221,67.137446917460124,70.292906922580741,73.596673547942032,77.055717204695299,80.677335913315972,84.469170701241822,88.439221724200181,92.595865145237582,96.947870807063737,101.50442073499572,106.27512850954051,111.27005954948891,116.49975234831487,121.97524070868566,127.70807702199387,133.71035664202756,139.99474340420284,146.57449634420036,153.46349767237777,160.67628206297951,168.22806731993953,176.13478648397668,184.41312144872359,193.08053815681359,202.1553234501838,211.65662365234243,221.60448496400252,232.01989575731062,242.9248308579042,254.34229790822567,266.29638590991226,278.81231604767811,291.91649490191895,305.63657016230911,320.0014889599376,335.04155894105463,350.78851221128417,367.27557228521448,384.53752418261956,402.61078781920264,421.53349484670514,441.34556910450027,462.08881085241177,483.8069849624751,506.54591325571141,530.35357117872979,555.2801890241301,581.37835790826421,608.70314072995257,637.31218834426033,667.26586119644048,698.62735667267316,731.46284243628872,765.84159603079422,801.83615104424155,839.52245014332084,878.98000530005686,920.29206554915947,963.54579262996992,1008.8324448835784,1056.2475697931065,1105.8912055733824,1157.8680922353312,1212.2878925703917,1269.2654235212001,1328.9208984266963,1391.3801806527511,1456.7750491434304,1525.2434764531715,1596.9299198464705,1671.9856260792544,1750.5689505049793,1832.8456911787132,1918.9894386641126,2009.1819422813257,2103.6134935685477,2202.4833277662692,2306.0000441712837,2414.3820462473336,2527.8580024209582,2646.6673285347429,2771.0606929758756,2901.3005455457414,3037.6616711863912,3180.4317697321512,3329.9120629095623,3486.4179298663116,3650.279572570028,3821.842712480819,4001.4693199674171,4189.5383780058855,4386.4466817721623,4592.6096758154536,4808.46233057878,5034.4600601159827,5271.0796829414339,5518.8204280396812,5778.2049881575458,6049.7806226009498,6334.1203118631938,6631.8239665207639,6943.5196929472395,7269.8651185157596,7611.5487790859997,7969.291571703041,8343.8482755730838,8736.0091445250182,9146.601574317694,9576.4918483106248,10026.586965181223,10497.836552544739,10991.234870514341,11507.822909428514,12048.690586171653,12614.97904372172,13207.883058776641,13828.653562539143,14478.600279978482,15159.094493137469,15871.571934314929,16617.535815227729,17398.559998543431,18216.292318474971,19072.458057443295,19968.863586143128,20907.400174691855,21890.047982902372,22918.88023809878,23996.067609289421,25123.88278692602,26304.70527791154,27541.026425973381]
[{"$f":"'FEA___(MPG-2)'!A21","v":10},null,{"$f":"'FEA___(MPG-2)'!D21","v":"Southern Company"},null,{"$f":"'FEA___(MPG-4)'!F21","v":41.858461538461533},{"$f":"'FEA___(MPG-4)'!H21","v":2.0299999999999998},{"$f":"'FEA___(MPG-4)'!G21","v":3.7566666666666672E-2},{"$f":"IF('FEA___(MPG-2)'!$B21,IFERROR(G21-($G21-$M21)/6,\"N/A\"),\"\")","v":3.913888888888889E-2},{"$f":"IF('FEA___(MPG-2)'!$B21,IFERROR(H21-($G21-$M21)/6,\"N/A\"),\"\")","v":4.0711111111111115E-2},{"$f":"IF('FEA___(MPG-2)'!$B21,IFERROR(I21-($G21-$M21)/6,\"N/A\"),\"\")","v":4.2283333333333339E-2},{"$f":"IF('FEA___(MPG-2)'!$B21,IFERROR(J21-($G21-$M21)/6,\"N/A\"),\"\")","v":4.3855555555555564E-2},{"$f":"IF('FEA___(MPG-2)'!$B21,IFERROR(K21-($G21-$M21)/6,\"N/A\"),\"\")","v":4.5427777777777789E-2},{"$f":"IF('FEA___(MPG-2)'!$B21,$M$12,\"\")","v":4.7E-2},{"$f":"IF('FEA___(MPG-2)'!$B21,IFERROR(IRR(P21:HH21),\"N/A\"),\"\")","v":9.4891748230011563E-2},null,-41.858461538461533,2.1062603333333332,{"$f":"Q21*(1+$G21)","v":2.1853855131888889},2.2674831623010183,2.3526649464314602,2.4410467262524023,2.536586582843781,2.6398538410608881,2.7514756609737456,2.8721431546833385,3.0026182356602589,3.1437412927362907,3.2914971334948961,3.4461974987691559,3.6081687812113059,3.777752713928237,3.9553070914828639,4.1412065247825582,4.3358432314473383,4.5396278633253626,4.752990372901654,4.9763809204280314,5.2102708236881483,5.4551535524014909,5.7115457693643608,5.9799884205244851,6.2610478762891351,6.5553171264747236,6.8634170314190355,7.1859976318957299,7.5237395205948285,7.8773552780627849,8.2475909761317361,8.6352277520099268,9.0410834563543929,9.4660143788030489,9.9109170546067915,10.376730156173309,10.864436473513454,11.375064987768585,11.909693042193707,12.469448615176811,13.055512700090119,13.669121796994354,14.311570521453087,14.984214335961381,15.688472409751565,16.425830613009886,17.197844651821349,18.006143350456952,18.852432087928428,19.738496396061063,20.66620572667593,21.637517395829697,22.654480713433692,23.719241306965074,24.834045648392429,26.001245793866872,27.223304346178612,28.502799650449006,29.842431234020108,31.24502550201905,32.713541700613945,34.251078160542797,35.860878834088304,37.54634013929045,39.311018125837101,41.158635977751445,43.093091868705763,45.118467186534929,47.239035144302065,49.459269796084257,51.783855476500214,54.217696683895724,56.765928428038819,59.433927064156642,62.227321636172,65.152005753072075,68.214150023466459,71.420215074569384,74.77696518307414,78.291482546678623,81.971182226372505,85.823827791012008,89.85754769718956,94.080852438957464,98.502652503588465,103.13227717125712,107.9794941983062,113.05453042562658,118.36809335563102,123.93139374334567,129.75616924928289,135.85470920399916,142.23988053658712,148.92515492180669,155.9246372031316,163.25309515167876,170.92599062380765,178.95951218312661,187.37060925573354,196.17702789075301,205.3973482016184,215.05102356709446,225.1584216747479,235.74086749346102,246.82068826565367,258.42126061413938,270.56705986300392,283.28371167656508,296.59804612536362,310.53815429325567,325.13344754503868,340.41471957965547,356.41421139989927,373.16567933569451,390.7044662644721,409.06757617890224,428.29375225931062,448.42355861549817,469.49946587042655,491.56594076633655,514.66953998235431,538.85900836152496,564.18538175451658,590.70209469697886,618.46509314773687,647.53295252568046,677.96700129438739,709.83145035522352,743.19352852191901,778.12362436244916,814.6954347074842,852.98612013873594,893.07646778525645,935.0510617711634,978.99846167440796,1025.011389373105,1073.1869246736408,1123.6267101333019,1176.437165509567,1231.7297122885166,1289.6210087660768,1350.2331961780824,1413.6941563984522,1480.1377817491793,1549.7042574913908,1622.5403575934861,1698.7997544003799,1778.6433428571977,1862.2395799714859,1949.7648402301456,2041.4037877209623,2137.3497657438475,2237.8052047338083,2342.982049356297,2453.102205676043,2568.3980093428167,2689.1127157819292,2815.5010134236795,2947.8295610545924,3086.377550424158,3231.437295294093,3383.3148481729154,3542.3306460370422,3708.8201864007829,3883.1347351616196,4065.6420677142155,4256.7272448967833,4456.7934254069314,4666.2627164010573,4885.5770640719065,5115.1991860832859,5355.6135478291999,5607.3273845771719,5870.8717716522988,6146.8027449199562,6435.7024739311937,6738.1804902059594,7054.874973245639,7386.4540969881837,7733.6174395466278,8097.097459205319,8477.6610397879685,8876.1111086580022,9293.2883307649281,9730.0728823108784,10187.386307779489,10666.193464245123,11167.504557064643,11692.377271246682,12241.919002995275,12817.289196136053,13419.701788354447,14050.427772407105,14710.797877710238,15402.205377962619,16126.109030726861,16884.036155171023,17677.585854464061,18508.432389623871]
[{"$f":"'FEA___(MPG-2)'!A22","v":11},null,{"$f":"'FEA___(MPG-2)'!D22","v":"Westar Energy, Inc."},null,{"$f":"'FEA___(MPG-4)'!F22","v":33.552692307692311},{"$f":"'FEA___(MPG-4)'!H22","v":1.4},{"$f":"'FEA___(MPG-4)'!G22","v":3.4333333333333334E-2},{"$f":"IF('FEA___(MPG-2)'!$B22,IFERROR(G22-($G22-$M22)/6,\"N/A\"),\"\")","v":3.6444444444444446E-2},{"$f":"IF('FEA___(MPG-2)'!$B22,IFERROR(H22-($G22-$M22)/6,\"N/A\"),\"\")","v":3.8555555555555558E-2},{"$f":"IF('FEA___(MPG-2)'!$B22,IFERROR(I22-($G22-$M22)/6,\"N/A\"),\"\")","v":4.066666666666667E-2},{"$f":"IF('FEA___(MPG-2)'!$B22,IFERROR(J22-($G22-$M22)/6,\"N/A\"),\"\")","v":4.2777777777777783E-2},{"$f":"IF('FEA___(MPG-2)'!$B22,IFERROR(K22-($G22-$M22)/6,\"N/A\"),\"\")","v":4.4888888888888895E-2},{"$f":"IF('FEA___(MPG-2)'!$B22,$M$12,\"\")","v":4.7E-2},{"$f":"IF('FEA___(MPG-2)'!$B22,IFERROR(IRR(P22:HH22),\"N/A\"),\"\")","v":8.7299048515763422E-2},null,-33.552692307692311,1.4480666666666666,{"$f":"Q22*(1+$G22)","v":1.4977836222222221},1.549207526585185,1.6023969849979429,1.6574126148162056,1.7178160967783964,1.7840474507319632,1.8565987137283964,1.9360198809267779,2.02292566224838,2.1180031683740537,2.2175493172876339,2.3217741352001524,2.4308975195545592,2.5451497029736232,2.6647717390133834,2.7900160107470122,2.9211467632521217,3.0584406611249713,3.2021873721978449,3.3526901786911432,3.5102666170896266,3.6752491480928389,3.8479858580532023,4.0288411933817025,4.2181967294706419,4.4164519757557619,4.624025218616282,4.8413544038912466,5.068898060874135,5.3071362697352189,5.5565716744127736,5.8177305431101738,6.0911638786363511,6.377448580932259,6.6771886642360743,6.9910165314551689,7.3195943084335617,7.6636152409299383,8.0238051572536442,8.400923999644565,8.7957674276278599,9.2091684967263685,9.6419994160725064,10.095173388627913,10.569646537893425,11.066419925174415,11.586541661657613,12.13110911975552,12.701271248384028,13.298230997058077,13.923247853919806,14.577640503054036,15.262789606697575,15.980140718212361,16.731207331968342,17.517574076570853,18.34090005816968,19.202922360903653,20.105459711866125,21.05041631832383,22.039785885285049,23.075655821893445,24.160211645522434,25.295741592861987,26.484641447726499,27.729419595769642,29.032702316770813,30.39723932565904,31.825909573965014,33.321727323941367,34.887848508166606,36.527577388050432,38.2443735252888,40.041859080977375,41.923826457783306,43.89424630129912,45.957275877460177,48.117267843700802,50.378779432354733,52.746582065675405,55.225671422762147,57.821277979631965,60.538878044674661,63.384205312774363,66.363262962474749,69.48233632171106,72.748006128831477,76.167162416886555,79.747019050480219,83.495128945852784,87.419400006307853,91.528111806604315,95.829933061514708,100.33393991540589,105.04963509142996,109.98696794072717,115.15635543394134,120.56870413933657,126.23543323388539,132.16849859587799,138.38041802988425,144.8842976772888,151.69385966812138,158.82347107252306,166.28817421293164,174.10371840093941,182.28659316578356,190.85406304457538,199.8242040076704,209.21594159603089,219.04909085104433,229.34439812104338,240.1235848327324,251.40939331987082,263.22563480590475,275.59723964178227,288.550309904946,302.11217447047846,316.31144667059095,331.17808466410872,346.7434546433218,363.0403970115579,380.10329567110108,397.96815056764279,416.672653644322,436.25626836560508,456.76031297878848,478.22804768879149,500.70476593016468,524.2378899288824,548.87707075553988,574.67429308105022,601.68398485585953,629.96313214408485,659.57139935485679,690.57125512453501,723.02810411538815,757.01042500881135,792.5899149842254,829.84164098848396,868.84419811494263,909.67987542634489,952.43482957138303,997.19926656123801,1044.0676320896162,1093.138810797828,1144.5163349053259,1198.3086026458761,1254.6291069702322,1313.5966749978331,1375.3357187227311,1439.9764975026994,1507.6553928853261,1578.5151963509363,1652.7054105794302,1730.3825648766633,1811.7105454258663,1896.8609410608819,1986.0134052907433,2079.3560353394082,2177.0857690003604,2279.408800143377,2386.5410137501158,2498.7084413963712,2616.1477381420004,2739.1066818346744,2867.8446958809041,3002.6333965873064,3143.7571662269097,3291.5137530395741,3446.2148994324339,3608.1869997057579,3777.7717886919281,3955.3270627604484,4141.2274347101893,4335.8651241415682,4539.650784976222,4753.0143718701038,4976.4060473479985,5210.2971315733539,5455.181096757301,5711.5746083048934,5980.0186148952234,6261.0794897952983,6555.3502258156768,6863.4516864290135,7186.0339156911768,7523.7775097286612,7877.395052685908,8247.632620162145,8635.2713533097649,9041.1291069153231,9466.0621749403417,9910.9670971625364,10376.782550729175,10864.491330613446,11375.122423152277,11909.753177040433,12469.511576361332]
[{"$f":"'FEA___(MPG-2)'!A23","v":12},null,{"$f":"'FEA___(MPG-2)'!D23","v":"Wisconsin Energy Corporation"},null,{"$f":"'FEA___(MPG-4)'!F23","v":42.946923076923071},{"$f":"'FEA___(MPG-4)'!H23","v":1.56},{"$f":"'FEA___(MPG-4)'!G23","v":5.0866666666666671E-2},{"$f":"IF('FEA___(MPG-2)'!$B23,IFERROR(G23-($G23-$M23)/6,\"N/A\"),\"\")","v":5.0222222222222224E-2},{"$f":"IF('FEA___(MPG-2)'!$B23,IFERROR(H23-($G23-$M23)/6,\"N/A\"),\"\")","v":4.9577777777777776E-2},{"$f":"IF('FEA___(MPG-2)'!$B23,IFERROR(I23-($G23-$M23)/6,\"N/A\"),\"\")","v":4.8933333333333329E-2},{"$f":"IF('FEA___(MPG-2)'!$B23,IFERROR(J23-($G23-$M23)/6,\"N/A\"),\"\")","v":4.8288888888888881E-2},{"$f":"IF('FEA___(MPG-2)'!$B23,IFERROR(K23-($G23-$M23)/6,\"N/A\"),\"\")","v":4.7644444444444434E-2},{"$f":"IF('FEA___(MPG-2)'!$B23,$M$12,\"\")","v":4.7E-2},{"$f":"IF('FEA___(MPG-2)'!$B23,IFERROR(IRR(P23:HH23),\"N/A\"),\"\")","v":8.5948225411071055E-2},null,-42.946923076923071,1.6393519999999999,{"$f":"Q23*(1+$G23)","v":1.7227403717333332},1.8103704319755018,1.9024579412819889,1.9992296352285326,2.099635390242232,2.203730647034019,2.3115665333622171,2.4231895128510192,2.5386410309744099,2.6579571594302069,2.7828811459234264,2.9136765597818273,3.050619358091573,3.1939984679218769,3.3441163959142051,3.5012898665221726,3.6658504902487143,3.8381454632904037,4.0185383000650523,4.2074096001681092,4.4051578513760097,4.6122002703906819,4.8289736830990435,5.0559354462046979,5.2935644121763188,5.5423619395486057,5.8028529507073898,6.075587039390637,6.3611396302419969,6.6601131928633706,6.9731385129279486,7.3008760230355616,7.6440171961182326,8.0032860043357896,8.3794404465395704,8.77327414752693,9.1856180324606953,9.6173420799863472,10.069357157745705,10.542616944159752,11.03811994053526,11.556911577740417,12.100086421894215,12.668790483723242,13.264223636458233,13.887642147371769,14.540361328298241,15.223758310728257,15.939274951332484,16.688420874045111,17.47277665512523,18.293997157916113,19.153815024338169,20.054044330482061,20.996584414014716,21.983423881473406,23.016644803902654,24.098427109686078,25.231053183841322,26.416912683481861,27.658507579605509,28.958457435846967,30.319504935331771,31.744521667292364,33.236514185655103,34.79863035238089,36.434165978942787,38.146571779953092,39.939460653610887,41.816615304330597,43.781996223634131,45.839750046144935,47.994218298313747,50.249946558334493,52.611694046576211,55.084443666765289,57.673412519103252,60.384062907501104,63.222113864153648,66.193553215768858,69.304650216909991,72.561968777104752,75.972381309628673,79.543083231181214,83.281608143046725,87.195843725769919,91.294048380881094,95.584868654782497,100.07735748155727,104.78099328319045,109.70569996750039,114.86186786597291,120.26037565567363,125.91261331149028,131.8305061371303,138.02653992557541,144.51378730207745,151.30593530527509,158.417314264623,165.86292803506026,173.65848565270809,181.82043447838535,190.36599489886945,199.3131966591163,208.68091690209476,218.48891999649319,228.75789923632837,239.5095205004358,250.76646796395627,262.55249195826218,274.89245908030051,287.81240465707464,301.33958767595715,315.50254829672713,330.33116806667329,345.85673296580688,362.11199941519976,379.13126338771411,396.95043276693667,415.60710310698266,435.14063695301081,455.59224688980231,477.00508249362298,499.42432137082324,522.89726447525186,547.47343590558864,573.20468739315129,600.14530770062936,628.35213716255885,657.88468760919909,688.80526792683145,721.17911551939244,755.07453394880383,790.56303704439756,827.71949978548423,866.62231627540189,907.35356514034572,949.99918270194189,994.64914428893314,1041.397654070513,1090.343343811827,1141.5894809709828,1195.2441865766189,1251.42066334572,1310.2374345229687,1371.8185939455482,1436.2940678609889,1503.7998890504552,1574.4784838358266,1648.4789725761104,1725.9574842871875,1807.0774860486852,1892.0101278929733,1980.9346039039428,2074.0385302874279,2171.5183412109368,2273.5797032478508,2380.4379493004994,2492.3185329176226,2609.4575039647507,2732.1020066510937,2860.5108009636947,2994.9548086089881,3135.7176846136103,3283.09641579045,3437.4019473326011,3598.9598388572331,3768.1109512835228,3945.212165993848,4130.6371377955584,4324.7770832719498,4528.0416061857313,4740.8595616764605,4963.6799610752541,5196.9729192457908,5441.2306464503426,5696.968486833508,5964.7260057146823,6245.0681279832716,6538.5863299984849,6845.8998875084135,7167.6571822213082,7504.5370697857088,7857.2503120656365,8226.5410767327212,8613.1885073391586,9018.0083671840985,9441.8547604417508,9885.6219341825126,10350.246165089091,10836.707734848278,11346.032998386147,11879.296549310295,12437.623487127878,13022.191791022888,13634.234805200962,14275.043841045406,14945.970901574539,15648.431533948542]
[{"$f":"'FEA___(MPG-2)'!A24","v":13},null,{"$f":"'FEA___(MPG-2)'!D24","v":"Xcel Energy Inc."},null,{"$f":"'FEA___(MPG-4)'!F24","v":29.09},{"$f":"'FEA___(MPG-4)'!H24","v":1.1200000000000001},{"$f":"'FEA___(MPG-4)'!G24","v":4.7966666666666664E-2},{"$f":"IF('FEA___(MPG-2)'!$B24,IFERROR(G24-($G24-$M24)/6,\"N/A\"),\"\")","v":4.7805555555555553E-2},{"$f":"IF('FEA___(MPG-2)'!$B24,IFERROR(H24-($G24-$M24)/6,\"N/A\"),\"\")","v":4.7644444444444441E-2},{"$f":"IF('FEA___(MPG-2)'!$B24,IFERROR(I24-($G24-$M24)/6,\"N/A\"),\"\")","v":4.7483333333333329E-2},{"$f":"IF('FEA___(MPG-2)'!$B24,IFERROR(J24-($G24-$M24)/6,\"N/A\"),\"\")","v":4.7322222222222217E-2},{"$f":"IF('FEA___(MPG-2)'!$B24,IFERROR(K24-($G24-$M24)/6,\"N/A\"),\"\")","v":4.7161111111111105E-2},{"$f":"IF('FEA___(MPG-2)'!$B24,$M$12,\"\")","v":4.7E-2},{"$f":"IF('FEA___(MPG-2)'!$B24,IFERROR(IRR(P24:HH24),\"N/A\"),\"\")","v":8.753705332591033E-2},null,-29.09,1.1737226666666669,{"$f":"Q24*(1+$G24)","v":1.2300222305777782},1.2890222969044922,1.3508523997460111,1.4156482865204949,1.4833241393288776,1.5539962938782357,1.6277852178992205,1.7048156317106959,1.7852166311417634,1.8691218128054261,1.956970538007281,2.0489481532936229,2.1452487164984229,2.2460754061738486,2.3516409502640192,2.4621680749264279,2.5778899744479697,2.6990508032470242,2.8259061909996341,2.9587237819766168,3.0977837997295175,3.2433796383168048,3.3958184813176944,3.5554219499396256,3.7225267815867875,3.8974855403213664,4.0806673607164701,4.2724587266701439,4.4732642868236407,4.6835077083043517,4.903632570594656,5.1341033014126047,5.3754061565789968,5.6280502459382094,5.8925686074973047,6.1695193320496777,6.4594867406560121,6.7630826174668446,7.0809475004877855,7.4137520330107112,7.7621983785622142,8.1270217023546376,8.5089917223653053,8.9089143333164742,9.3276333069823476,9.7660320724105176,10.225035579813811,10.705612252065059,11.208776027912116,11.735588501223985,12.287161160781512,12.864657735338243,13.469296648899139,14.102353591397398,14.765164210193074,15.459126928072147,16.185705893691537,16.946434070695037,17.742916472017704,18.576833546202536,19.449944722874054,20.364092124849133,21.321204454717041,22.323301064088739,23.372496214100909,24.47100353616365,25.621140702363341,26.825334315374416,28.086125028197014,29.406172904522272,30.788263031034816,32.235311393493447,33.750371028987637,35.336638467350056,36.997460475315506,38.736341117655336,40.556949150185133,42.463125760243834,44.458892670975288,46.548460626511122,48.736238275957142,51.026841474927124,53.425103024248699,55.936082866388382,58.56507876110863,61.317637462880732,64.199566423636128,67.216946045547019,70.376142509687725,73.683821207643049,77.146960804402269,80.772867962209176,84.569192756432997,88.543944815985341,92.705510222336642,97.062669202786452,101.62461465531742,106.40097154411733,111.40181720669084,116.6377026154053,122.11967463832934,127.85929934633081,133.86868641560835,140.16051467714195,146.7480588669676,153.64521763371508,160.86654286249967,168.42727037703713,176.34335208475787,184.63148963274148,193.30916964548032,202.39470061881789,211.90725154790232,221.86689237065372,232.29463631207443,243.21248421874191,254.64347097702276,266.61171411294282,279.14246467625111,292.2621605160349,305.9984820602885,320.38041071712206,335.4382900208268,351.20388965180564,367.71047246544049,384.99286467131617,403.08752931086798,422.03264318847874,441.86817741833721,462.635981756999,484.37987289957795,507.14572692585807,530.98157609137331,555.93771016766777,582.06678254554811,609.42392132518887,638.06684562747273,668.05598737196385,699.45461877844616,732.32898586103306,766.74844819650161,802.7856252617371,840.51654964903867,880.02082748254338,921.38180637422283,964.6867512738113,1010.0270285836804,1057.4982989271132,1107.2007189766875,1159.2391527685918,1213.7233929487156,1270.7683924173052,1330.4945068609186,1393.0277486833816,1458.5000528715004,1527.0495553564608,1598.8208844582143,1673.9654660277504,1752.6418429310545,1835.0160095488138,1921.2617619976079,2011.5610648114953,2106.1044348576356,2205.0913432959442,2308.7306364308533,2417.2409763431033,2530.8513022312291,2649.8013134360967,2774.3419751675933,2904.73604800047,3041.2586422564918,3184.1977984425466,3333.8550949693463,3490.5462844329054,3654.6019598012517,3826.3682519119102,4006.2075597517696,4194.4993150601022,4391.6407828679266,4598.0478996627189,4814.1561509468665,5040.421490041369,5277.3213000733131,5525.3554011767583,5785.0471050320657,6056.9443189685726,6341.6207019600952,6639.6768749522189,6951.7416880749724,7278.4735474144954,7620.5618041429761,7978.7282089376959,8353.7284347577679,8746.3536711913821,9157.4322937373763,9587.8316115430316,10038.459697285554,10510.267303057975,11004.2498663017]
[{"$f":"'FEA___(MPG-2)'!A25","v":""},null,{"$f":"'FEA___(MPG-2)'!D25","v":""},null,{"$f":"'FEA___(MPG-4)'!F25","v":""},{"$f":"'FEA___(MPG-4)'!H25","v":""},{"$f":"'FEA___(MPG-4)'!G25","v":""},{"$f":"IF('FEA___(MPG-2)'!$B25,IFERROR(G25-($G25-$M25)/6,\"N/A\"),\"\")","v":""},{"$f":"IF('FEA___(MPG-2)'!$B25,IFERROR(H25-($G25-$M25)/6,\"N/A\"),\"\")","v":""},{"$f":"IF('FEA___(MPG-2)'!$B25,IFERROR(I25-($G25-$M25)/6,\"N/A\"),\"\")","v":""},{"$f":"IF('FEA___(MPG-2)'!$B25,IFERROR(J25-($G25-$M25)/6,\"N/A\"),\"\")","v":""},{"$f":"IF('FEA___(MPG-2)'!$B25,IFERROR(K25-($G25-$M25)/6,\"N/A\"),\"\")","v":""},{"$f":"IF('FEA___(MPG-2)'!$B25,$M$12,\"\")","v":""},{"$f":"IF('FEA___(MPG-2)'!$B25,IFERROR(IRR(P25:HH25),\"N/A\"),\"\")","v":""},null,{"$error":"#VALUE!"},{"$error":"#VALUE!"},{"$f":"Q25*(1+$G25)","v":{"$error":"#VALUE!"}},{"$error":"#VALUE!"},{"$error":"#VALUE!"},{"$error":"#VALUE!"},{"$error":"#VALUE!"},{"$error":"#VALUE!"},{"$error":"#VALUE!"},{"$error":"#VALUE!"},{"$error":"#VALUE!"},{"$error":"#VALUE!"},{"$error":"#VALUE!"},{"$error":"#VALUE!"},{"$error":"#VALUE!"},{"$error":"#VALUE!"},{"$error":"#VALUE!"},{"$error":"#VALUE!"},{"$error":"#VALUE!"},{"$error":"#VALUE!"},{"$error":"#VALUE!"},{"$error":"#VALUE!"},{"$error":"#VALUE!"},{"$error":"#VALUE!"},{"$error":"#VALUE!"},{"$error":"#VALUE!"},{"$error":"#VALUE!"},{"$error":"#VALUE!"},{"$error":"#VALUE!"},{"$error":"#VALUE!"},{"$error":"#VALUE!"},{"$error":"#VALUE!"},{"$error":"#VALUE!"},{"$error":"#VALUE!"},{"$error":"#VALUE!"},{"$error":"#VALUE!"},{"$error":"#VALUE!"},{"$error":"#VALUE!"},{"$error":"#VALUE!"},{"$error":"#VALUE!"},{"$error":"#VALUE!"},{"$error":"#VALUE!"},{"$error":"#VALUE!"},{"$error":"#VALUE!"},{"$error":"#VALUE!"},{"$error":"#VALUE!"},{"$error":"#VALUE!"},{"$error":"#VALUE!"},{"$error":"#VALUE!"},{"$error":"#VALUE!"},{"$error":"#VALUE!"},{"$error":"#VALUE!"},{"$error":"#VALUE!"},{"$error":"#VALUE!"},{"$error":"#VALUE!"},{"$error":"#VALUE!"},{"$error":"#VALUE!"},{"$error":"#VALUE!"},{"$error":"#VALUE!"},{"$error":"#VALUE!"},{"$error":"#VALUE!"},{"$error":"#VALUE!"},{"$error":"#VALUE!"},{"$error":"#VALUE!"},{"$error":"#VALUE!"},{"$error":"#VALUE!"},{"$error":"#VALUE!"},{"$error":"#VALUE!"},{"$error":"#VALUE!"},{"$error":"#VALUE!"},{"$error":"#VALUE!"},{"$error":"#VALUE!"},{"$error":"#VALUE!"},{"$error":"#VALUE!"},{"$error":"#VALUE!"},{"$error":"#VALUE!"},{"$error":"#VALUE!"},{"$error":"#VALUE!"},{"$error":"#VALUE!"},{"$error":"#VALUE!"},{"$error":"#VALUE!"},{"$error":"#VALUE!"},{"$error":"#VALUE!"},{"$error":"#VALUE!"},{"$error":"#VALUE!"},{"$error":"#VALUE!"},{"$error":"#VALUE!"},{"$error":"#VALUE!"},{"$error":"#VALUE!"},{"$error":"#VALUE!"},{"$error":"#VALUE!"},{"$error":"#VALUE!"},{"$error":"#VALUE!"},{"$error":"#VALUE!"},{"$error":"#VALUE!"},{"$error":"#VALUE!"},{"$error":"#VALUE!"},{"$error":"#VALUE!"},{"$error":"#VALUE!"},{"$error":"#VALUE!"},{"$error":"#VALUE!"},{"$error":"#VALUE!"},{"$error":"#VALUE!"},{"$error":"#VALUE!"},{"$error":"#VALUE!"},{"$error":"#VALUE!"},{"$error":"#VALUE!"},{"$error":"#VALUE!"},{"$error":"#VALUE!"},{"$error":"#VALUE!"},{"$error":"#VALUE!"},{"$error":"#VALUE!"},{"$error":"#VALUE!"},{"$error":"#VALUE!"},{"$error":"#VALUE!"},{"$error":"#VALUE!"},{"$error":"#VALUE!"},{"$error":"#VALUE!"},{"$error":"#VALUE!"},{"$error":"#VALUE!"},{"$error":"#VALUE!"},{"$error":"#VALUE!"},{"$error":"#VALUE!"},{"$error":"#VALUE!"},{"$error":"#VALUE!"},{"$error":"#VALUE!"},{"$error":"#VALUE!"},{"$error":"#VALUE!"},{"$error":"#VALUE!"},{"$error":"#VALUE!"},{"$error":"#VALUE!"},{"$error":"#VALUE!"},{"$error":"#VALUE!"},{"$error":"#VALUE!"},{"$error":"#VALUE!"},{"$error":"#VALUE!"},{"$error":"#VALUE!"},{"$error":"#VALUE!"},{"$error":"#VALUE!"},{"$error":"#VALUE!"},{"$error":"#VALUE!"},{"$error":"#VALUE!"},{"$error":"#VALUE!"},{"$error":"#VALUE!"},{"$error":"#VALUE!"},{"$error":"#VALUE!"},{"$error":"#VALUE!"},{"$error":"#VALUE!"},{"$error":"#VALUE!"},{"$error":"#VALUE!"},{"$error":"#VALUE!"},{"$error":"#VALUE!"},{"$error":"#VALUE!"},{"$error":"#VALUE!"},{"$error":"#VALUE!"},{"$error":"#VALUE!"},{"$error":"#VALUE!"},{"$error":"#VALUE!"},{"$error":"#VALUE!"},{"$error":"#VALUE!"},{"$error":"#VALUE!"},{"$error":"#VALUE!"},{"$error":"#VALUE!"},{"$error":"#VALUE!"},{"$error":"#VALUE!"},{"$error":"#VALUE!"},{"$error":"#VALUE!"},{"$error":"#VALUE!"},{"$error":"#VALUE!"},{"$error":"#VALUE!"},{"$error":"#VALUE!"},{"$error":"#VALUE!"},{"$error":"#VALUE!"},{"$error":"#VALUE!"},{"$error":"#VALUE!"},{"$error":"#VALUE!"},{"$error":"#VALUE!"},{"$error":"#VALUE!"},{"$error":"#VALUE!"},{"$error":"#VALUE!"},{"$error":"#VALUE!"},{"$error":"#VALUE!"},{"$error":"#VALUE!"},{"$error":"#VALUE!"},{"$error":"#VALUE!"},{"$error":"#VALUE!"},{"$error":"#VALUE!"},{"$error":"#VALUE!"},{"$error":"#VALUE!"},{"$error":"#VALUE!"},{"$error":"#VALUE!"},{"$error":"#VALUE!"},{"$error":"#VALUE!"},{"$error":"#VALUE!"},{"$error":"#VALUE!"},{"$error":"#VALUE!"},{"$error":"#VALUE!"},{"$error":"#VALUE!"},{"$error":"#VALUE!"},{"$error":"#VALUE!"},{"$error":"#VALUE!"}]
[{"$f":"'FEA___(MPG-2)'!A26","v":""},null,{"$f":"'FEA___(MPG-2)'!D26","v":""},null,{"$f":"'FEA___(MPG-4)'!F26","v":""},{"$f":"'FEA___(MPG-4)'!H26","v":""},{"$f":"'FEA___(MPG-4)'!G26","v":""},{"$f":"IF('FEA___(MPG-2)'!$B26,IFERROR(G26-($G26-$M26)/6,\"N/A\"),\"\")","v":""},{"$f":"IF('FEA___(MPG-2)'!$B26,IFERROR(H26-($G26-$M26)/6,\"N/A\"),\"\")","v":""},{"$f":"IF('FEA___(MPG-2)'!$B26,IFERROR(I26-($G26-$M26)/6,\"N/A\"),\"\")","v":""},{"$f":"IF('FEA___(MPG-2)'!$B26,IFERROR(J26-($G26-$M26)/6,\"N/A\"),\"\")","v":""},{"$f":"IF('FEA___(MPG-2)'!$B26,IFERROR(K26-($G26-$M26)/6,\"N/A\"),\"\")","v":""},{"$f":"IF('FEA___(MPG-2)'!$B26,$M$12,\"\")","v":""},{"$f":"IF('FEA___(MPG-2)'!$B26,IFERROR(IRR(P26:HH26),\"N/A\"),\"\")","v":""},null,{"$error":"#VALUE!"},{"$error":"#VALUE!"},{"$f":"Q26*(1+$G26)","v":{"$error":"#VALUE!"}},{"$error":"#VALUE!"},{"$error":"#VALUE!"},{"$error":"#VALUE!"},{"$error":"#VALUE!"},{"$error":"#VALUE!"},{"$error":"#VALUE!"},{"$error":"#VALUE!"},{"$error":"#VALUE!"},{"$error":"#VALUE!"},{"$error":"#VALUE!"},{"$error":"#VALUE!"},{"$error":"#VALUE!"},{"$error":"#VALUE!"},{"$error":"#VALUE!"},{"$error":"#VALUE!"},{"$error":"#VALUE!"},{"$error":"#VALUE!"},{"$error":"#VALUE!"},{"$error":"#VALUE!"},{"$error":"#VALUE!"},{"$error":"#VALUE!"},{"$error":"#VALUE!"},{"$error":"#VALUE!"},{"$error":"#VALUE!"},{"$error":"#VALUE!"},{"$error":"#VALUE!"},{"$error":"#VALUE!"},{"$error":"#VALUE!"},{"$error":"#VALUE!"},{"$error":"#VALUE!"},{"$error":"#VALUE!"},{"$error":"#VALUE!"},{"$error":"#VALUE!"},{"$error":"#VALUE!"},{"$error":"#VALUE!"},{"$error":"#VALUE!"},{"$error":"#VALUE!"},{"$error":"#VALUE!"},{"$error":"#VALUE!"},{"$error":"#VALUE!"},{"$error":"#VALUE!"},{"$error":"#VALUE!"},{"$error":"#VALUE!"},{"$error":"#VALUE!"},{"$error":"#VALUE!"},{"$error":"#VALUE!"},{"$error":"#VALUE!"},{"$error":"#VALUE!"},{"$error":"#VALUE!"},{"$error":"#VALUE!"},{"$error":"#VALUE!"},{"$error":"#VALUE!"},{"$error":"#VALUE!"},{"$error":"#VALUE!"},{"$error":"#VALUE!"},{"$error":"#VALUE!"},{"$error":"#VALUE!"},{"$error":"#VALUE!"},{"$error":"#VALUE!"},{"$error":"#VALUE!"},{"$error":"#VALUE!"},{"$error":"#VALUE!"},{"$error":"#VALUE!"},{"$error":"#VALUE!"},{"$error":"#VALUE!"},{"$error":"#VALUE!"},{"$error":"#VALUE!"},{"$error":"#VALUE!"},{"$error":"#VALUE!"},{"$error":"#VALUE!"},{"$error":"#VALUE!"},{"$error":"#VALUE!"},{"$error":"#VALUE!"},{"$error":"#VALUE!"},{"$error":"#VALUE!"},{"$error":"#VALUE!"},{"$error":"#VALUE!"},{"$error":"#VALUE!"},{"$error":"#VALUE!"},{"$error":"#VALUE!"},{"$error":"#VALUE!"},{"$error":"#VALUE!"},{"$error":"#VALUE!"},{"$error":"#VALUE!"},{"$error":"#VALUE!"},{"$error":"#VALUE!"},{"$error":"#VALUE!"},{"$error":"#VALUE!"},{"$error":"#VALUE!"},{"$error":"#VALUE!"},{"$error":"#VALUE!"},{"$error":"#VALUE!"},{"$error":"#VALUE!"},{"$error":"#VALUE!"},{"$error":"#VALUE!"},{"$error":"#VALUE!"},{"$error":"#VALUE!"},{"$error":"#VALUE!"},{"$error":"#VALUE!"},{"$error":"#VALUE!"},{"$error":"#VALUE!"},{"$error":"#VALUE!"},{"$error":"#VALUE!"},{"$error":"#VALUE!"},{"$error":"#VALUE!"},{"$error":"#VALUE!"},{"$error":"#VALUE!"},{"$error":"#VALUE!"},{"$error":"#VALUE!"},{"$error":"#VALUE!"},{"$error":"#VALUE!"},{"$error":"#VALUE!"},{"$error":"#VALUE!"},{"$error":"#VALUE!"},{"$error":"#VALUE!"},{"$error":"#VALUE!"},{"$error":"#VALUE!"},{"$error":"#VALUE!"},{"$error":"#VALUE!"},{"$error":"#VALUE!"},{"$error":"#VALUE!"},{"$error":"#VALUE!"},{"$error":"#VALUE!"},{"$error":"#VALUE!"},{"$error":"#VALUE!"},{"$error":"#VALUE!"},{"$error":"#VALUE!"},{"$error":"#VALUE!"},{"$error":"#VALUE!"},{"$error":"#VALUE!"},{"$error":"#VALUE!"},{"$error":"#VALUE!"},{"$error":"#VALUE!"},{"$error":"#VALUE!"},{"$error":"#VALUE!"},{"$error":"#VALUE!"},{"$error":"#VALUE!"},{"$error":"#VALUE!"},{"$error":"#VALUE!"},{"$error":"#VALUE!"},{"$error":"#VALUE!"},{"$error":"#VALUE!"},{"$error":"#VALUE!"},{"$error":"#VALUE!"},{"$error":"#VALUE!"},{"$error":"#VALUE!"},{"$error":"#VALUE!"},{"$error":"#VALUE!"},{"$error":"#VALUE!"},{"$error":"#VALUE!"},{"$error":"#VALUE!"},{"$error":"#VALUE!"},{"$error":"#VALUE!"},{"$error":"#VALUE!"},{"$error":"#VALUE!"},{"$error":"#VALUE!"},{"$error":"#VALUE!"},{"$error":"#VALUE!"},{"$error":"#VALUE!"},{"$error":"#VALUE!"},{"$error":"#VALUE!"},{"$error":"#VALUE!"},{"$error":"#VALUE!"},{"$error":"#VALUE!"},{"$error":"#VALUE!"},{"$error":"#VALUE!"},{"$error":"#VALUE!"},{"$error":"#VALUE!"},{"$error":"#VALUE!"},{"$error":"#VALUE!"},{"$error":"#VALUE!"},{"$error":"#VALUE!"},{"$error":"#VALUE!"},{"$error":"#VALUE!"},{"$error":"#VALUE!"},{"$error":"#VALUE!"},{"$error":"#VALUE!"},{"$error":"#VALUE!"},{"$error":"#VALUE!"},{"$error":"#VALUE!"},{"$error":"#VALUE!"},{"$error":"#VALUE!"},{"$error":"#VALUE!"},{"$error":"#VALUE!"},{"$error":"#VALUE!"},{"$error":"#VALUE!"},{"$error":"#VALUE!"},{"$error":"#VALUE!"},{"$error":"#VALUE!"},{"$error":"#VALUE!"},{"$error":"#VALUE!"},{"$error":"#VALUE!"},{"$error":"#VALUE!"},{"$error":"#VALUE!"},{"$error":"#VALUE!"},{"$error":"#VALUE!"},{"$error":"#VALUE!"},{"$error":"#VALUE!"}]
[{"$f":"'FEA___(MPG-2)'!A27","v":""},null,{"$f":"'FEA___(MPG-2)'!D27","v":""},null,{"$f":"'FEA___(MPG-4)'!F27","v":""},{"$f":"'FEA___(MPG-4)'!H27","v":""},{"$f":"'FEA___(MPG-4)'!G27","v":""},{"$f":"IF('FEA___(MPG-2)'!$B27,IFERROR(G27-($G27-$M27)/6,\"N/A\"),\"\")","v":""},{"$f":"IF('FEA___(MPG-2)'!$B27,IFERROR(H27-($G27-$M27)/6,\"N/A\"),\"\")","v":""},{"$f":"IF('FEA___(MPG-2)'!$B27,IFERROR(I27-($G27-$M27)/6,\"N/A\"),\"\")","v":""},{"$f":"IF('FEA___(MPG-2)'!$B27,IFERROR(J27-($G27-$M27)/6,\"N/A\"),\"\")","v":""},{"$f":"IF('FEA___(MPG-2)'!$B27,IFERROR(K27-($G27-$M27)/6,\"N/A\"),\"\")","v":""},{"$f":"IF('FEA___(MPG-2)'!$B27,$M$12,\"\")","v":""},{"$f":"IF('FEA___(MPG-2)'!$B27,IFERROR(IRR(P27:HH27),\"N/A\"),\"\")","v":""},null,{"$error":"#VALUE!"},{"$error":"#VALUE!"},{"$f":"Q27*(1+$G27)","v":{"$error":"#VALUE!"}},{"$error":"#VALUE!"},{"$error":"#VALUE!"},{"$error":"#VALUE!"},{"$error":"#VALUE!"},{"$error":"#VALUE!"},{"$error":"#VALUE!"},{"$error":"#VALUE!"},{"$error":"#VALUE!"},{"$error":"#VALUE!"},{"$error":"#VALUE!"},{"$error":"#VALUE!"},{"$error":"#VALUE!"},{"$error":"#VALUE!"},{"$error":"#VALUE!"},{"$error":"#VALUE!"},{"$error":"#VALUE!"},{"$error":"#VALUE!"},{"$error":"#VALUE!"},{"$error":"#VALUE!"},{"$error":"#VALUE!"},{"$error":"#VALUE!"},{"$error":"#VALUE!"},{"$error":"#VALUE!"},{"$error":"#VALUE!"},{"$error":"#VALUE!"},{"$error":"#VALUE!"},{"$error":"#VALUE!"},{"$error":"#VALUE!"},{"$error":"#VALUE!"},{"$error":"#VALUE!"},{"$error":"#VALUE!"},{"$error":"#VALUE!"},{"$error":"#VALUE!"},{"$error":"#VALUE!"},{"$error":"#VALUE!"},{"$error":"#VALUE!"},{"$error":"#VALUE!"},{"$error":"#VALUE!"},{"$error":"#VALUE!"},{"$error":"#VALUE!"},{"$error":"#VALUE!"},{"$error":"#VALUE!"},{"$error":"#VALUE!"},{"$error":"#VALUE!"},{"$error":"#VALUE!"},{"$error":"#VALUE!"},{"$error":"#VALUE!"},{"$error":"#VALUE!"},{"$error":"#VALUE!"},{"$error":"#VALUE!"},{"$error":"#VALUE!"},{"$error":"#VALUE!"},{"$error":"#VALUE!"},{"$error":"#VALUE!"},{"$error":"#VALUE!"},{"$error":"#VALUE!"},{"$error":"#VALUE!"},{"$error":"#VALUE!"},{"$error":"#VALUE!"},{"$error":"#VALUE!"},{"$error":"#VALUE!"},{"$error":"#VALUE!"},{"$error":"#VALUE!"},{"$error":"#VALUE!"},{"$error":"#VALUE!"},{"$error":"#VALUE!"},{"$error":"#VALUE!"},{"$error":"#VALUE!"},{"$error":"#VALUE!"},{"$error":"#VALUE!"},{"$error":"#VALUE!"},{"$error":"#VALUE!"},{"$error":"#VALUE!"},{"$error":"#VALUE!"},{"$error":"#VALUE!"},{"$error":"#VALUE!"},{"$error":"#VALUE!"},{"$error":"#VALUE!"},{"$error":"#VALUE!"},{"$error":"#VALUE!"},{"$error":"#VALUE!"},{"$error":"#VALUE!"},{"$error":"#VALUE!"},{"$error":"#VALUE!"},{"$error":"#VALUE!"},{"$error":"#VALUE!"},{"$error":"#VALUE!"},{"$error":"#VALUE!"},{"$error":"#VALUE!"},{"$error":"#VALUE!"},{"$error":"#VALUE!"},{"$error":"#VALUE!"},{"$error":"#VALUE!"},{"$error":"#VALUE!"},{"$error":"#VALUE!"},{"$error":"#VALUE!"},{"$error":"#VALUE!"},{"$error":"#VALUE!"},{"$error":"#VALUE!"},{"$error":"#VALUE!"},{"$error":"#VALUE!"},{"$error":"#VALUE!"},{"$error":"#VALUE!"},{"$error":"#VALUE!"},{"$error":"#VALUE!"},{"$error":"#VALUE!"},{"$error":"#VALUE!"},{"$error":"#VALUE!"},{"$error":"#VALUE!"},{"$error":"#VALUE!"},{"$error":"#VALUE!"},{"$error":"#VALUE!"},{"$error":"#VALUE!"},{"$error":"#VALUE!"},{"$error":"#VALUE!"},{"$error":"#VALUE!"},{"$error":"#VALUE!"},{"$error":"#VALUE!"},{"$error":"#VALUE!"},{"$error":"#VALUE!"},{"$error":"#VALUE!"},{"$error":"#VALUE!"},{"$error":"#VALUE!"},{"$error":"#VALUE!"},{"$error":"#VALUE!"},{"$error":"#VALUE!"},{"$error":"#VALUE!"},{"$error":"#VALUE!"},{"$error":"#VALUE!"},{"$error":"#VALUE!"},{"$error":"#VALUE!"},{"$error":"#VALUE!"},{"$error":"#VALUE!"},{"$error":"#VALUE!"},{"$error":"#VALUE!"},{"$error":"#VALUE!"},{"$error":"#VALUE!"},{"$error":"#VALUE!"},{"$error":"#VALUE!"},{"$error":"#VALUE!"},{"$error":"#VALUE!"},{"$error":"#VALUE!"},{"$error":"#VALUE!"},{"$error":"#VALUE!"},{"$error":"#VALUE!"},{"$error":"#VALUE!"},{"$error":"#VALUE!"},{"$error":"#VALUE!"},{"$error":"#VALUE!"},{"$error":"#VALUE!"},{"$error":"#VALUE!"},{"$error":"#VALUE!"},{"$error":"#VALUE!"},{"$error":"#VALUE!"},{"$error":"#VALUE!"},{"$error":"#VALUE!"},{"$error":"#VALUE!"},{"$error":"#VALUE!"},{"$error":"#VALUE!"},{"$error":"#VALUE!"},{"$error":"#VALUE!"},{"$error":"#VALUE!"},{"$error":"#VALUE!"},{"$error":"#VALUE!"},{"$error":"#VALUE!"},{"$error":"#VALUE!"},{"$error":"#VALUE!"},{"$error":"#VALUE!"},{"$error":"#VALUE!"},{"$error":"#VALUE!"},{"$error":"#VALUE!"},{"$error":"#VALUE!"},{"$error":"#VALUE!"},{"$error":"#VALUE!"},{"$error":"#VALUE!"},{"$error":"#VALUE!"},{"$error":"#VALUE!"},{"$error":"#VALUE!"},{"$error":"#VALUE!"},{"$error":"#VALUE!"},{"$error":"#VALUE!"},{"$error":"#VALUE!"},{"$error":"#VALUE!"},{"$error":"#VALUE!"},{"$error":"#VALUE!"},{"$error":"#VALUE!"},{"$error":"#VALUE!"},{"$error":"#VALUE!"},{"$error":"#VALUE!"},{"$error":"#VALUE!"},{"$error":"#VALUE!"},{"$error":"#VALUE!"},{"$error":"#VALUE!"},{"$error":"#VALUE!"},{"$error":"#VALUE!"},{"$error":"#VALUE!"},{"$error":"#VALUE!"},{"$error":"#VALUE!"}]
[{"$f":"'FEA___(MPG-2)'!A28","v":""},null,{"$f":"'FEA___(MPG-2)'!D28","v":""},null,{"$f":"'FEA___(MPG-4)'!F28","v":""},{"$f":"'FEA___(MPG-4)'!H28","v":""},{"$f":"'FEA___(MPG-4)'!G28","v":""},{"$f":"IF('FEA___(MPG-2)'!$B28,IFERROR(G28-($G28-$M28)/6,\"N/A\"),\"\")","v":""},{"$f":"IF('FEA___(MPG-2)'!$B28,IFERROR(H28-($G28-$M28)/6,\"N/A\"),\"\")","v":""},{"$f":"IF('FEA___(MPG-2)'!$B28,IFERROR(I28-($G28-$M28)/6,\"N/A\"),\"\")","v":""},{"$f":"IF('FEA___(MPG-2)'!$B28,IFERROR(J28-($G28-$M28)/6,\"N/A\"),\"\")","v":""},{"$f":"IF('FEA___(MPG-2)'!$B28,IFERROR(K28-($G28-$M28)/6,\"N/A\"),\"\")","v":""},{"$f":"IF('FEA___(MPG-2)'!$B28,$M$12,\"\")","v":""},{"$f":"IF('FEA___(MPG-2)'!$B28,IFERROR(IRR(P28:HH28),\"N/A\"),\"\")","v":""},null,{"$error":"#VALUE!"},{"$error":"#VALUE!"},{"$f":"Q28*(1+$G28)","v":{"$error":"#VALUE!"}},{"$error":"#VALUE!"},{"$error":"#VALUE!"},{"$error":"#VALUE!"},{"$error":"#VALUE!"},{"$error":"#VALUE!"},{"$error":"#VALUE!"},{"$error":"#VALUE!"},{"$error":"#VALUE!"},{"$error":"#VALUE!"},{"$error":"#VALUE!"},{"$error":"#VALUE!"},{"$error":"#VALUE!"},{"$error":"#VALUE!"},{"$error":"#VALUE!"},{"$error":"#VALUE!"},{"$error":"#VALUE!"},{"$error":"#VALUE!"},{"$error":"#VALUE!"},{"$error":"#VALUE!"},{"$error":"#VALUE!"},{"$error":"#VALUE!"},{"$error":"#VALUE!"},{"$error":"#VALUE!"},{"$error":"#VALUE!"},{"$error":"#VALUE!"},{"$error":"#VALUE!"},{"$error":"#VALUE!"},{"$error":"#VALUE!"},{"$error":"#VALUE!"},{"$error":"#VALUE!"},{"$error":"#VALUE!"},{"$error":"#VALUE!"},{"$error":"#VALUE!"},{"$error":"#VALUE!"},{"$error":"#VALUE!"},{"$error":"#VALUE!"},{"$error":"#VALUE!"},{"$error":"#VALUE!"},{"$error":"#VALUE!"},{"$error":"#VALUE!"},{"$error":"#VALUE!"},{"$error":"#VALUE!"},{"$error":"#VALUE!"},{"$error":"#VALUE!"},{"$error":"#VALUE!"},{"$error":"#VALUE!"},{"$error":"#VALUE!"},{"$error":"#VALUE!"},{"$error":"#VALUE!"},{"$error":"#VALUE!"},{"$error":"#VALUE!"},{"$error":"#VALUE!"},{"$error":"#VALUE!"},{"$error":"#VALUE!"},{"$error":"#VALUE!"},{"$error":"#VALUE!"},{"$error":"#VALUE!"},{"$error":"#VALUE!"},{"$error":"#VALUE!"},{"$error":"#VALUE!"},{"$error":"#VALUE!"},{"$error":"#VALUE!"},{"$error":"#VALUE!"},{"$error":"#VALUE!"},{"$error":"#VALUE!"},{"$error":"#VALUE!"},{"$error":"#VALUE!"},{"$error":"#VALUE!"},{"$error":"#VALUE!"},{"$error":"#VALUE!"},{"$error":"#VALUE!"},{"$error":"#VALUE!"},{"$error":"#VALUE!"},{"$error":"#VALUE!"},{"$error":"#VALUE!"},{"$error":"#VALUE!"},{"$error":"#VALUE!"},{"$error":"#VALUE!"},{"$error":"#VALUE!"},{"$error":"#VALUE!"},{"$error":"#VALUE!"},{"$error":"#VALUE!"},{"$error":"#VALUE!"},{"$error":"#VALUE!"},{"$error":"#VALUE!"},{"$error":"#VALUE!"},{"$error":"#VALUE!"},{"$error":"#VALUE!"},{"$error":"#VALUE!"},{"$error":"#VALUE!"},{"$error":"#VALUE!"},{"$error":"#VALUE!"},{"$error":"#VALUE!"},{"$error":"#VALUE!"},{"$error":"#VALUE!"},{"$error":"#VALUE!"},{"$error":"#VALUE!"},{"$error":"#VALUE!"},{"$error":"#VALUE!"},{"$error":"#VALUE!"},{"$error":"#VALUE!"},{"$error":"#VALUE!"},{"$error":"#VALUE!"},{"$error":"#VALUE!"},{"$error":"#VALUE!"},{"$error":"#VALUE!"},{"$error":"#VALUE!"},{"$error":"#VALUE!"},{"$error":"#VALUE!"},{"$error":"#VALUE!"},{"$error":"#VALUE!"},{"$error":"#VALUE!"},{"$error":"#VALUE!"},{"$error":"#VALUE!"},{"$error":"#VALUE!"},{"$error":"#VALUE!"},{"$error":"#VALUE!"},{"$error":"#VALUE!"},{"$error":"#VALUE!"},{"$error":"#VALUE!"},{"$error":"#VALUE!"},{"$error":"#VALUE!"},{"$error":"#VALUE!"},{"$error":"#VALUE!"},{"$error":"#VALUE!"},{"$error":"#VALUE!"},{"$error":"#VALUE!"},{"$error":"#VALUE!"},{"$error":"#VALUE!"},{"$error":"#VALUE!"},{"$error":"#VALUE!"},{"$error":"#VALUE!"},{"$error":"#VALUE!"},{"$error":"#VALUE!"},{"$error":"#VALUE!"},{"$error":"#VALUE!"},{"$error":"#VALUE!"},{"$error":"#VALUE!"},{"$error":"#VALUE!"},{"$error":"#VALUE!"},{"$error":"#VALUE!"},{"$error":"#VALUE!"},{"$error":"#VALUE!"},{"$error":"#VALUE!"},{"$error":"#VALUE!"},{"$error":"#VALUE!"},{"$error":"#VALUE!"},{"$error":"#VALUE!"},{"$error":"#VALUE!"},{"$error":"#VALUE!"},{"$error":"#VALUE!"},{"$error":"#VALUE!"},{"$error":"#VALUE!"},{"$error":"#VALUE!"},{"$error":"#VALUE!"},{"$error":"#VALUE!"},{"$error":"#VALUE!"},{"$error":"#VALUE!"},{"$error":"#VALUE!"},{"$error":"#VALUE!"},{"$error":"#VALUE!"},{"$error":"#VALUE!"},{"$error":"#VALUE!"},{"$error":"#VALUE!"},{"$error":"#VALUE!"},{"$error":"#VALUE!"},{"$error":"#VALUE!"},{"$error":"#VALUE!"},{"$error":"#VALUE!"},{"$error":"#VALUE!"},{"$error":"#VALUE!"},{"$error":"#VALUE!"},{"$error":"#VALUE!"},{"$error":"#VALUE!"},{"$error":"#VALUE!"},{"$error":"#VALUE!"},{"$error":"#VALUE!"},{"$error":"#VALUE!"},{"$error":"#VALUE!"},{"$error":"#VALUE!"},{"$error":"#VALUE!"},{"$error":"#VALUE!"},{"$error":"#VALUE!"},{"$error":"#VALUE!"},{"$error":"#VALUE!"},{"$error":"#VALUE!"},{"$error":"#VALUE!"},{"$error":"#VALUE!"},{"$error":"#VALUE!"},{"$error":"#VALUE!"},{"$error":"#VALUE!"},{"$error":"#VALUE!"},{"$error":"#VALUE!"},{"$error":"#VALUE!"},{"$error":"#VALUE!"},{"$error":"#VALUE!"},{"$error":"#VALUE!"},{"$error":"#VALUE!"}]
[{"$f":"'FEA___(MPG-2)'!A29","v":""},null,{"$f":"'FEA___(MPG-2)'!D29","v":""},null,{"$f":"'FEA___(MPG-4)'!F29","v":""},{"$f":"'FEA___(MPG-4)'!H29","v":""},{"$f":"'FEA___(MPG-4)'!G29","v":""},{"$f":"IF('FEA___(MPG-2)'!$B29,IFERROR(G29-($G29-$M29)/6,\"N/A\"),\"\")","v":""},{"$f":"IF('FEA___(MPG-2)'!$B29,IFERROR(H29-($G29-$M29)/6,\"N/A\"),\"\")","v":""},{"$f":"IF('FEA___(MPG-2)'!$B29,IFERROR(I29-($G29-$M29)/6,\"N/A\"),\"\")","v":""},{"$f":"IF('FEA___(MPG-2)'!$B29,IFERROR(J29-($G29-$M29)/6,\"N/A\"),\"\")","v":""},{"$f":"IF('FEA___(MPG-2)'!$B29,IFERROR(K29-($G29-$M29)/6,\"N/A\"),\"\")","v":""},{"$f":"IF('FEA___(MPG-2)'!$B29,$M$12,\"\")","v":""},{"$f":"IF('FEA___(MPG-2)'!$B29,IFERROR(IRR(P29:HH29),\"N/A\"),\"\")","v":""},null,{"$error":"#VALUE!"},{"$error":"#VALUE!"},{"$f":"Q29*(1+$G29)","v":{"$error":"#VALUE!"}},{"$error":"#VALUE!"},{"$error":"#VALUE!"},{"$error":"#VALUE!"},{"$error":"#VALUE!"},{"$error":"#VALUE!"},{"$error":"#VALUE!"},{"$error":"#VALUE!"},{"$error":"#VALUE!"},{"$error":"#VALUE!"},{"$error":"#VALUE!"},{"$error":"#VALUE!"},{"$error":"#VALUE!"},{"$error":"#VALUE!"},{"$error":"#VALUE!"},{"$error":"#VALUE!"},{"$error":"#VALUE!"},{"$error":"#VALUE!"},{"$error":"#VALUE!"},{"$error":"#VALUE!"},{"$error":"#VALUE!"},{"$error":"#VALUE!"},{"$error":"#VALUE!"},{"$error":"#VALUE!"},{"$error":"#VALUE!"},{"$error":"#VALUE!"},{"$error":"#VALUE!"},{"$error":"#VALUE!"},{"$error":"#VALUE!"},{"$error":"#VALUE!"},{"$error":"#VALUE!"},{"$error":"#VALUE!"},{"$error":"#VALUE!"},{"$error":"#VALUE!"},{"$error":"#VALUE!"},{"$error":"#VALUE!"},{"$error":"#VALUE!"},{"$error":"#VALUE!"},{"$error":"#VALUE!"},{"$error":"#VALUE!"},{"$error":"#VALUE!"},{"$error":"#VALUE!"},{"$error":"#VALUE!"},{"$error":"#VALUE!"},{"$error":"#VALUE!"},{"$error":"#VALUE!"},{"$error":"#VALUE!"},{"$error":"#VALUE!"},{"$error":"#VALUE!"},{"$error":"#VALUE!"},{"$error":"#VALUE!"},{"$error":"#VALUE!"},{"$error":"#VALUE!"},{"$error":"#VALUE!"},{"$error":"#VALUE!"},{"$error":"#VALUE!"},{"$error":"#VALUE!"},{"$error":"#VALUE!"},{"$error":"#VALUE!"},{"$error":"#VALUE!"},{"$error":"#VALUE!"},{"$error":"#VALUE!"},{"$error":"#VALUE!"},{"$error":"#VALUE!"},{"$error":"#VALUE!"},{"$error":"#VALUE!"},{"$error":"#VALUE!"},{"$error":"#VALUE!"},{"$error":"#VALUE!"},{"$error":"#VALUE!"},{"$error":"#VALUE!"},{"$error":"#VALUE!"},{"$error":"#VALUE!"},{"$error":"#VALUE!"},{"$error":"#VALUE!"},{"$error":"#VALUE!"},{"$error":"#VALUE!"},{"$error":"#VALUE!"},{"$error":"#VALUE!"},{"$error":"#VALUE!"},{"$error":"#VALUE!"},{"$error":"#VALUE!"},{"$error":"#VALUE!"},{"$error":"#VALUE!"},{"$error":"#VALUE!"},{"$error":"#VALUE!"},{"$error":"#VALUE!"},{"$error":"#VALUE!"},{"$error":"#VALUE!"},{"$error":"#VALUE!"},{"$error":"#VALUE!"},{"$error":"#VALUE!"},{"$error":"#VALUE!"},{"$error":"#VALUE!"},{"$error":"#VALUE!"},{"$error":"#VALUE!"},{"$error":"#VALUE!"},{"$error":"#VALUE!"},{"$error":"#VALUE!"},{"$error":"#VALUE!"},{"$error":"#VALUE!"},{"$error":"#VALUE!"},{"$error":"#VALUE!"},{"$error":"#VALUE!"},{"$error":"#VALUE!"},{"$error":"#VALUE!"},{"$error":"#VALUE!"},{"$error":"#VALUE!"},{"$error":"#VALUE!"},{"$error":"#VALUE!"},{"$error":"#VALUE!"},{"$error":"#VALUE!"},{"$error":"#VALUE!"},{"$error":"#VALUE!"},{"$error":"#VALUE!"},{"$error":"#VALUE!"},{"$error":"#VALUE!"},{"$error":"#VALUE!"},{"$error":"#VALUE!"},{"$error":"#VALUE!"},{"$error":"#VALUE!"},{"$error":"#VALUE!"},{"$error":"#VALUE!"},{"$error":"#VALUE!"},{"$error":"#VALUE!"},{"$error":"#VALUE!"},{"$error":"#VALUE!"},{"$error":"#VALUE!"},{"$error":"#VALUE!"},{"$error":"#VALUE!"},{"$error":"#VALUE!"},{"$error":"#VALUE!"},{"$error":"#VALUE!"},{"$error":"#VALUE!"},{"$error":"#VALUE!"},{"$error":"#VALUE!"},{"$error":"#VALUE!"},{"$error":"#VALUE!"},{"$error":"#VALUE!"},{"$error":"#VALUE!"},{"$error":"#VALUE!"},{"$error":"#VALUE!"},{"$error":"#VALUE!"},{"$error":"#VALUE!"},{"$error":"#VALUE!"},{"$error":"#VALUE!"},{"$error":"#VALUE!"},{"$error":"#VALUE!"},{"$error":"#VALUE!"},{"$error":"#VALUE!"},{"$error":"#VALUE!"},{"$error":"#VALUE!"},{"$error":"#VALUE!"},{"$error":"#VALUE!"},{"$error":"#VALUE!"},{"$error":"#VALUE!"},{"$error":"#VALUE!"},{"$error":"#VALUE!"},{"$error":"#VALUE!"},{"$error":"#VALUE!"},{"$error":"#VALUE!"},{"$error":"#VALUE!"},{"$error":"#VALUE!"},{"$error":"#VALUE!"},{"$error":"#VALUE!"},{"$error":"#VALUE!"},{"$error":"#VALUE!"},{"$error":"#VALUE!"},{"$error":"#VALUE!"},{"$error":"#VALUE!"},{"$error":"#VALUE!"},{"$error":"#VALUE!"},{"$error":"#VALUE!"},{"$error":"#VALUE!"},{"$error":"#VALUE!"},{"$error":"#VALUE!"},{"$error":"#VALUE!"},{"$error":"#VALUE!"},{"$error":"#VALUE!"},{"$error":"#VALUE!"},{"$error":"#VALUE!"},{"$error":"#VALUE!"},{"$error":"#VALUE!"},{"$error":"#VALUE!"},{"$error":"#VALUE!"},{"$error":"#VALUE!"},{"$error":"#VALUE!"},{"$error":"#VALUE!"},{"$error":"#VALUE!"},{"$error":"#VALUE!"},{"$error":"#VALUE!"},{"$error":"#VALUE!"},{"$error":"#VALUE!"},{"$error":"#VALUE!"},{"$error":"#VALUE!"},{"$error":"#VALUE!"},{"$error":"#VALUE!"},{"$error":"#VALUE!"},{"$error":"#VALUE!"}]
[{"$f":"'FEA___(MPG-2)'!A30","v":""},null,{"$f":"'FEA___(MPG-2)'!D30","v":""},null,{"$f":"'FEA___(MPG-4)'!F30","v":""},{"$f":"'FEA___(MPG-4)'!H30","v":""},{"$f":"'FEA___(MPG-4)'!G30","v":""},{"$f":"IF('FEA___(MPG-2)'!$B30,IFERROR(G30-($G30-$M30)/6,\"N/A\"),\"\")","v":""},{"$f":"IF('FEA___(MPG-2)'!$B30,IFERROR(H30-($G30-$M30)/6,\"N/A\"),\"\")","v":""},{"$f":"IF('FEA___(MPG-2)'!$B30,IFERROR(I30-($G30-$M30)/6,\"N/A\"),\"\")","v":""},{"$f":"IF('FEA___(MPG-2)'!$B30,IFERROR(J30-($G30-$M30)/6,\"N/A\"),\"\")","v":""},{"$f":"IF('FEA___(MPG-2)'!$B30,IFERROR(K30-($G30-$M30)/6,\"N/A\"),\"\")","v":""},{"$f":"IF('FEA___(MPG-2)'!$B30,$M$12,\"\")","v":""},{"$f":"IF('FEA___(MPG-2)'!$B30,IFERROR(IRR(P30:HH30),\"N/A\"),\"\")","v":""},null,{"$error":"#VALUE!"},{"$error":"#VALUE!"},{"$f":"Q30*(1+$G30)","v":{"$error":"#VALUE!"}},{"$error":"#VALUE!"},{"$error":"#VALUE!"},{"$error":"#VALUE!"},{"$error":"#VALUE!"},{"$error":"#VALUE!"},{"$error":"#VALUE!"},{"$error":"#VALUE!"},{"$error":"#VALUE!"},{"$error":"#VALUE!"},{"$error":"#VALUE!"},{"$error":"#VALUE!"},{"$error":"#VALUE!"},{"$error":"#VALUE!"},{"$error":"#VALUE!"},{"$error":"#VALUE!"},{"$error":"#VALUE!"},{"$error":"#VALUE!"},{"$error":"#VALUE!"},{"$error":"#VALUE!"},{"$error":"#VALUE!"},{"$error":"#VALUE!"},{"$error":"#VALUE!"},{"$error":"#VALUE!"},{"$error":"#VALUE!"},{"$error":"#VALUE!"},{"$error":"#VALUE!"},{"$error":"#VALUE!"},{"$error":"#VALUE!"},{"$error":"#VALUE!"},{"$error":"#VALUE!"},{"$error":"#VALUE!"},{"$error":"#VALUE!"},{"$error":"#VALUE!"},{"$error":"#VALUE!"},{"$error":"#VALUE!"},{"$error":"#VALUE!"},{"$error":"#VALUE!"},{"$error":"#VALUE!"},{"$error":"#VALUE!"},{"$error":"#VALUE!"},{"$error":"#VALUE!"},{"$error":"#VALUE!"},{"$error":"#VALUE!"},{"$error":"#VALUE!"},{"$error":"#VALUE!"},{"$error":"#VALUE!"},{"$error":"#VALUE!"},{"$error":"#VALUE!"},{"$error":"#VALUE!"},{"$error":"#VALUE!"},{"$error":"#VALUE!"},{"$error":"#VALUE!"},{"$error":"#VALUE!"},{"$error":"#VALUE!"},{"$error":"#VALUE!"},{"$error":"#VALUE!"},{"$error":"#VALUE!"},{"$error":"#VALUE!"},{"$error":"#VALUE!"},{"$error":"#VALUE!"},{"$error":"#VALUE!"},{"$error":"#VALUE!"},{"$error":"#VALUE!"},{"$error":"#VALUE!"},{"$error":"#VALUE!"},{"$error":"#VALUE!"},{"$error":"#VALUE!"},{"$error":"#VALUE!"},{"$error":"#VALUE!"},{"$error":"#VALUE!"},{"$error":"#VALUE!"},{"$error":"#VALUE!"},{"$error":"#VALUE!"},{"$error":"#VALUE!"},{"$error":"#VALUE!"},{"$error":"#VALUE!"},{"$error":"#VALUE!"},{"$error":"#VALUE!"},{"$error":"#VALUE!"},{"$error":"#VALUE!"},{"$error":"#VALUE!"},{"$error":"#VALUE!"},{"$error":"#VALUE!"},{"$error":"#VALUE!"},{"$error":"#VALUE!"},{"$error":"#VALUE!"},{"$error":"#VALUE!"},{"$error":"#VALUE!"},{"$error":"#VALUE!"},{"$error":"#VALUE!"},{"$error":"#VALUE!"},{"$error":"#VALUE!"},{"$error":"#VALUE!"},{"$error":"#VALUE!"},{"$error":"#VALUE!"},{"$error":"#VALUE!"},{"$error":"#VALUE!"},{"$error":"#VALUE!"},{"$error":"#VALUE!"},{"$error":"#VALUE!"},{"$error":"#VALUE!"},{"$error":"#VALUE!"},{"$error":"#VALUE!"},{"$error":"#VALUE!"},{"$error":"#VALUE!"},{"$error":"#VALUE!"},{"$error":"#VALUE!"},{"$error":"#VALUE!"},{"$error":"#VALUE!"},{"$error":"#VALUE!"},{"$error":"#VALUE!"},{"$error":"#VALUE!"},{"$error":"#VALUE!"},{"$error":"#VALUE!"},{"$error":"#VALUE!"},{"$error":"#VALUE!"},{"$error":"#VALUE!"},{"$error":"#VALUE!"},{"$error":"#VALUE!"},{"$error":"#VALUE!"},{"$error":"#VALUE!"},{"$error":"#VALUE!"},{"$error":"#VALUE!"},{"$error":"#VALUE!"},{"$error":"#VALUE!"},{"$error":"#VALUE!"},{"$error":"#VALUE!"},{"$error":"#VALUE!"},{"$error":"#VALUE!"},{"$error":"#VALUE!"},{"$error":"#VALUE!"},{"$error":"#VALUE!"},{"$error":"#VALUE!"},{"$error":"#VALUE!"},{"$error":"#VALUE!"},{"$error":"#VALUE!"},{"$error":"#VALUE!"},{"$error":"#VALUE!"},{"$error":"#VALUE!"},{"$error":"#VALUE!"},{"$error":"#VALUE!"},{"$error":"#VALUE!"},{"$error":"#VALUE!"},{"$error":"#VALUE!"},{"$error":"#VALUE!"},{"$error":"#VALUE!"},{"$error":"#VALUE!"},{"$error":"#VALUE!"},{"$error":"#VALUE!"},{"$error":"#VALUE!"},{"$error":"#VALUE!"},{"$error":"#VALUE!"},{"$error":"#VALUE!"},{"$error":"#VALUE!"},{"$error":"#VALUE!"},{"$error":"#VALUE!"},{"$error":"#VALUE!"},{"$error":"#VALUE!"},{"$error":"#VALUE!"},{"$error":"#VALUE!"},{"$error":"#VALUE!"},{"$error":"#VALUE!"},{"$error":"#VALUE!"},{"$error":"#VALUE!"},{"$error":"#VALUE!"},{"$error":"#VALUE!"},{"$error":"#VALUE!"},{"$error":"#VALUE!"},{"$error":"#VALUE!"},{"$error":"#VALUE!"},{"$error":"#VALUE!"},{"$error":"#VALUE!"},{"$error":"#VALUE!"},{"$error":"#VALUE!"},{"$error":"#VALUE!"},{"$error":"#VALUE!"},{"$error":"#VALUE!"},{"$error":"#VALUE!"},{"$error":"#VALUE!"},{"$error":"#VALUE!"},{"$error":"#VALUE!"},{"$error":"#VALUE!"},{"$error":"#VALUE!"},{"$error":"#VALUE!"},{"$error":"#VALUE!"},{"$error":"#VALUE!"},{"$error":"#VALUE!"},{"$error":"#VALUE!"},{"$error":"#VALUE!"},{"$error":"#VALUE!"},{"$error":"#VALUE!"},{"$error":"#VALUE!"},{"$error":"#VALUE!"},{"$error":"#VALUE!"},{"$error":"#VALUE!"},{"$error":"#VALUE!"},{"$error":"#VALUE!"},{"$error":"#VALUE!"}]
[{"$f":"'FEA___(MPG-2)'!A31","v":""},null,{"$f":"'FEA___(MPG-2)'!D31","v":""},null,{"$f":"'FEA___(MPG-4)'!F31","v":""},{"$f":"'FEA___(MPG-4)'!H31","v":""},{"$f":"'FEA___(MPG-4)'!G31","v":""},{"$f":"IF('FEA___(MPG-2)'!$B31,IFERROR(G31-($G31-$M31)/6,\"N/A\"),\"\")","v":""},{"$f":"IF('FEA___(MPG-2)'!$B31,IFERROR(H31-($G31-$M31)/6,\"N/A\"),\"\")","v":""},{"$f":"IF('FEA___(MPG-2)'!$B31,IFERROR(I31-($G31-$M31)/6,\"N/A\"),\"\")","v":""},{"$f":"IF('FEA___(MPG-2)'!$B31,IFERROR(J31-($G31-$M31)/6,\"N/A\"),\"\")","v":""},{"$f":"IF('FEA___(MPG-2)'!$B31,IFERROR(K31-($G31-$M31)/6,\"N/A\"),\"\")","v":""},{"$f":"IF('FEA___(MPG-2)'!$B31,$M$12,\"\")","v":""},{"$f":"IF('FEA___(MPG-2)'!$B31,IFERROR(IRR(P31:HH31),\"N/A\"),\"\")","v":""},null,{"$error":"#VALUE!"},{"$error":"#VALUE!"},{"$f":"Q31*(1+$G31)","v":{"$error":"#VALUE!"}},{"$error":"#VALUE!"},{"$error":"#VALUE!"},{"$error":"#VALUE!"},{"$error":"#VALUE!"},{"$error":"#VALUE!"},{"$error":"#VALUE!"},{"$error":"#VALUE!"},{"$error":"#VALUE!"},{"$error":"#VALUE!"},{"$error":"#VALUE!"},{"$error":"#VALUE!"},{"$error":"#VALUE!"},{"$error":"#VALUE!"},{"$error":"#VALUE!"},{"$error":"#VALUE!"},{"$error":"#VALUE!"},{"$error":"#VALUE!"},{"$error":"#VALUE!"},{"$error":"#VALUE!"},{"$error":"#VALUE!"},{"$error":"#VALUE!"},{"$error":"#VALUE!"},{"$error":"#VALUE!"},{"$error":"#VALUE!"},{"$error":"#VALUE!"},{"$error":"#VALUE!"},{"$error":"#VALUE!"},{"$error":"#VALUE!"},{"$error":"#VALUE!"},{"$error":"#VALUE!"},{"$error":"#VALUE!"},{"$error":"#VALUE!"},{"$error":"#VALUE!"},{"$error":"#VALUE!"},{"$error":"#VALUE!"},{"$error":"#VALUE!"},{"$error":"#VALUE!"},{"$error":"#VALUE!"},{"$error":"#VALUE!"},{"$error":"#VALUE!"},{"$error":"#VALUE!"},{"$error":"#VALUE!"},{"$error":"#VALUE!"},{"$error":"#VALUE!"},{"$error":"#VALUE!"},{"$error":"#VALUE!"},{"$error":"#VALUE!"},{"$error":"#VALUE!"},{"$error":"#VALUE!"},{"$error":"#VALUE!"},{"$error":"#VALUE!"},{"$error":"#VALUE!"},{"$error":"#VALUE!"},{"$error":"#VALUE!"},{"$error":"#VALUE!"},{"$error":"#VALUE!"},{"$error":"#VALUE!"},{"$error":"#VALUE!"},{"$error":"#VALUE!"},{"$error":"#VALUE!"},{"$error":"#VALUE!"},{"$error":"#VALUE!"},{"$error":"#VALUE!"},{"$error":"#VALUE!"},{"$error":"#VALUE!"},{"$error":"#VALUE!"},{"$error":"#VALUE!"},{"$error":"#VALUE!"},{"$error":"#VALUE!"},{"$error":"#VALUE!"},{"$error":"#VALUE!"},{"$error":"#VALUE!"},{"$error":"#VALUE!"},{"$error":"#VALUE!"},{"$error":"#VALUE!"},{"$error":"#VALUE!"},{"$error":"#VALUE!"},{"$error":"#VALUE!"},{"$error":"#VALUE!"},{"$error":"#VALUE!"},{"$error":"#VALUE!"},{"$error":"#VALUE!"},{"$error":"#VALUE!"},{"$error":"#VALUE!"},{"$error":"#VALUE!"},{"$error":"#VALUE!"},{"$error":"#VALUE!"},{"$error":"#VALUE!"},{"$error":"#VALUE!"},{"$error":"#VALUE!"},{"$error":"#VALUE!"},{"$error":"#VALUE!"},{"$error":"#VALUE!"},{"$error":"#VALUE!"},{"$error":"#VALUE!"},{"$error":"#VALUE!"},{"$error":"#VALUE!"},{"$error":"#VALUE!"},{"$error":"#VALUE!"},{"$error":"#VALUE!"},{"$error":"#VALUE!"},{"$error":"#VALUE!"},{"$error":"#VALUE!"},{"$error":"#VALUE!"},{"$error":"#VALUE!"},{"$error":"#VALUE!"},{"$error":"#VALUE!"},{"$error":"#VALUE!"},{"$error":"#VALUE!"},{"$error":"#VALUE!"},{"$error":"#VALUE!"},{"$error":"#VALUE!"},{"$error":"#VALUE!"},{"$error":"#VALUE!"},{"$error":"#VALUE!"},{"$error":"#VALUE!"},{"$error":"#VALUE!"},{"$error":"#VALUE!"},{"$error":"#VALUE!"},{"$error":"#VALUE!"},{"$error":"#VALUE!"},{"$error":"#VALUE!"},{"$error":"#VALUE!"},{"$error":"#VALUE!"},{"$error":"#VALUE!"},{"$error":"#VALUE!"},{"$error":"#VALUE!"},{"$error":"#VALUE!"},{"$error":"#VALUE!"},{"$error":"#VALUE!"},{"$error":"#VALUE!"},{"$error":"#VALUE!"},{"$error":"#VALUE!"},{"$error":"#VALUE!"},{"$error":"#VALUE!"},{"$error":"#VALUE!"},{"$error":"#VALUE!"},{"$error":"#VALUE!"},{"$error":"#VALUE!"},{"$error":"#VALUE!"},{"$error":"#VALUE!"},{"$error":"#VALUE!"},{"$error":"#VALUE!"},{"$error":"#VALUE!"},{"$error":"#VALUE!"},{"$error":"#VALUE!"},{"$error":"#VALUE!"},{"$error":"#VALUE!"},{"$error":"#VALUE!"},{"$error":"#VALUE!"},{"$error":"#VALUE!"},{"$error":"#VALUE!"},{"$error":"#VALUE!"},{"$error":"#VALUE!"},{"$error":"#VALUE!"},{"$error":"#VALUE!"},{"$error":"#VALUE!"},{"$error":"#VALUE!"},{"$error":"#VALUE!"},{"$error":"#VALUE!"},{"$error":"#VALUE!"},{"$error":"#VALUE!"},{"$error":"#VALUE!"},{"$error":"#VALUE!"},{"$error":"#VALUE!"},{"$error":"#VALUE!"},{"$error":"#VALUE!"},{"$error":"#VALUE!"},{"$error":"#VALUE!"},{"$error":"#VALUE!"},{"$error":"#VALUE!"},{"$error":"#VALUE!"},{"$error":"#VALUE!"},{"$error":"#VALUE!"},{"$error":"#VALUE!"},{"$error":"#VALUE!"},{"$error":"#VALUE!"},{"$error":"#VALUE!"},{"$error":"#VALUE!"},{"$error":"#VALUE!"},{"$error":"#VALUE!"},{"$error":"#VALUE!"},{"$error":"#VALUE!"},{"$error":"#VALUE!"},{"$error":"#VALUE!"},{"$error":"#VALUE!"},{"$error":"#VALUE!"},{"$error":"#VALUE!"},{"$error":"#VALUE!"},{"$error":"#VALUE!"},{"$error":"#VALUE!"},{"$error":"#VALUE!"},{"$error":"#VALUE!"},{"$error":"#VALUE!"},{"$error":"#VALUE!"},{"$error":"#VALUE!"},{"$error":"#VALUE!"},{"$error":"#VALUE!"}]
[{"$f":"'FEA___(MPG-2)'!A32","v":""},null,{"$f":"'FEA___(MPG-2)'!D32","v":""},null,{"$f":"'FEA___(MPG-4)'!F32","v":""},{"$f":"'FEA___(MPG-4)'!H32","v":""},{"$f":"'FEA___(MPG-4)'!G32","v":""},{"$f":"IF('FEA___(MPG-2)'!$B32,IFERROR(G32-($G32-$M32)/6,\"N/A\"),\"\")","v":""},{"$f":"IF('FEA___(MPG-2)'!$B32,IFERROR(H32-($G32-$M32)/6,\"N/A\"),\"\")","v":""},{"$f":"IF('FEA___(MPG-2)'!$B32,IFERROR(I32-($G32-$M32)/6,\"N/A\"),\"\")","v":""},{"$f":"IF('FEA___(MPG-2)'!$B32,IFERROR(J32-($G32-$M32)/6,\"N/A\"),\"\")","v":""},{"$f":"IF('FEA___(MPG-2)'!$B32,IFERROR(K32-($G32-$M32)/6,\"N/A\"),\"\")","v":""},{"$f":"IF('FEA___(MPG-2)'!$B32,$M$12,\"\")","v":""},{"$f":"IF('FEA___(MPG-2)'!$B32,IFERROR(IRR(P32:HH32),\"N/A\"),\"\")","v":""},null,{"$error":"#VALUE!"},{"$error":"#VALUE!"},{"$f":"Q32*(1+$G32)","v":{"$error":"#VALUE!"}},{"$error":"#VALUE!"},{"$error":"#VALUE!"},{"$error":"#VALUE!"},{"$error":"#VALUE!"},{"$error":"#VALUE!"},{"$error":"#VALUE!"},{"$error":"#VALUE!"},{"$error":"#VALUE!"},{"$error":"#VALUE!"},{"$error":"#VALUE!"},{"$error":"#VALUE!"},{"$error":"#VALUE!"},{"$error":"#VALUE!"},{"$error":"#VALUE!"},{"$error":"#VALUE!"},{"$error":"#VALUE!"},{"$error":"#VALUE!"},{"$error":"#VALUE!"},{"$error":"#VALUE!"},{"$error":"#VALUE!"},{"$error":"#VALUE!"},{"$error":"#VALUE!"},{"$error":"#VALUE!"},{"$error":"#VALUE!"},{"$error":"#VALUE!"},{"$error":"#VALUE!"},{"$error":"#VALUE!"},{"$error":"#VALUE!"},{"$error":"#VALUE!"},{"$error":"#VALUE!"},{"$error":"#VALUE!"},{"$error":"#VALUE!"},{"$error":"#VALUE!"},{"$error":"#VALUE!"},{"$error":"#VALUE!"},{"$error":"#VALUE!"},{"$error":"#VALUE!"},{"$error":"#VALUE!"},{"$error":"#VALUE!"},{"$error":"#VALUE!"},{"$error":"#VALUE!"},{"$error":"#VALUE!"},{"$error":"#VALUE!"},{"$error":"#VALUE!"},{"$error":"#VALUE!"},{"$error":"#VALUE!"},{"$error":"#VALUE!"},{"$error":"#VALUE!"},{"$error":"#VALUE!"},{"$error":"#VALUE!"},{"$error":"#VALUE!"},{"$error":"#VALUE!"},{"$error":"#VALUE!"},{"$error":"#VALUE!"},{"$error":"#VALUE!"},{"$error":"#VALUE!"},{"$error":"#VALUE!"},{"$error":"#VALUE!"},{"$error":"#VALUE!"},{"$error":"#VALUE!"},{"$error":"#VALUE!"},{"$error":"#VALUE!"},{"$error":"#VALUE!"},{"$error":"#VALUE!"},{"$error":"#VALUE!"},{"$error":"#VALUE!"},{"$error":"#VALUE!"},{"$error":"#VALUE!"},{"$error":"#VALUE!"},{"$error":"#VALUE!"},{"$error":"#VALUE!"},{"$error":"#VALUE!"},{"$error":"#VALUE!"},{"$error":"#VALUE!"},{"$error":"#VALUE!"},{"$error":"#VALUE!"},{"$error":"#VALUE!"},{"$error":"#VALUE!"},{"$error":"#VALUE!"},{"$error":"#VALUE!"},{"$error":"#VALUE!"},{"$error":"#VALUE!"},{"$error":"#VALUE!"},{"$error":"#VALUE!"},{"$error":"#VALUE!"},{"$error":"#VALUE!"},{"$error":"#VALUE!"},{"$error":"#VALUE!"},{"$error":"#VALUE!"},{"$error":"#VALUE!"},{"$error":"#VALUE!"},{"$error":"#VALUE!"},{"$error":"#VALUE!"},{"$error":"#VALUE!"},{"$error":"#VALUE!"},{"$error":"#VALUE!"},{"$error":"#VALUE!"},{"$error":"#VALUE!"},{"$error":"#VALUE!"},{"$error":"#VALUE!"},{"$error":"#VALUE!"},{"$error":"#VALUE!"},{"$error":"#VALUE!"},{"$error":"#VALUE!"},{"$error":"#VALUE!"},{"$error":"#VALUE!"},{"$error":"#VALUE!"},{"$error":"#VALUE!"},{"$error":"#VALUE!"},{"$error":"#VALUE!"},{"$error":"#VALUE!"},{"$error":"#VALUE!"},{"$error":"#VALUE!"},{"$error":"#VALUE!"},{"$error":"#VALUE!"},{"$error":"#VALUE!"},{"$error":"#VALUE!"},{"$error":"#VALUE!"},{"$error":"#VALUE!"},{"$error":"#VALUE!"},{"$error":"#VALUE!"},{"$error":"#VALUE!"},{"$error":"#VALUE!"},{"$error":"#VALUE!"},{"$error":"#VALUE!"},{"$error":"#VALUE!"},{"$error":"#VALUE!"},{"$error":"#VALUE!"},{"$error":"#VALUE!"},{"$error":"#VALUE!"},{"$error":"#VALUE!"},{"$error":"#VALUE!"},{"$error":"#VALUE!"},{"$error":"#VALUE!"},{"$error":"#VALUE!"},{"$error":"#VALUE!"},{"$error":"#VALUE!"},{"$error":"#VALUE!"},{"$error":"#VALUE!"},{"$error":"#VALUE!"},{"$error":"#VALUE!"},{"$error":"#VALUE!"},{"$error":"#VALUE!"},{"$error":"#VALUE!"},{"$error":"#VALUE!"},{"$error":"#VALUE!"},{"$error":"#VALUE!"},{"$error":"#VALUE!"},{"$error":"#VALUE!"},{"$error":"#VALUE!"},{"$error":"#VALUE!"},{"$error":"#VALUE!"},{"$error":"#VALUE!"},{"$error":"#VALUE!"},{"$error":"#VALUE!"},{"$error":"#VALUE!"},{"$error":"#VALUE!"},{"$error":"#VALUE!"},{"$error":"#VALUE!"},{"$error":"#VALUE!"},{"$error":"#VALUE!"},{"$error":"#VALUE!"},{"$error":"#VALUE!"},{"$error":"#VALUE!"},{"$error":"#VALUE!"},{"$error":"#VALUE!"},{"$error":"#VALUE!"},{"$error":"#VALUE!"},{"$error":"#VALUE!"},{"$error":"#VALUE!"},{"$error":"#VALUE!"},{"$error":"#VALUE!"},{"$error":"#VALUE!"},{"$error":"#VALUE!"},{"$error":"#VALUE!"},{"$error":"#VALUE!"},{"$error":"#VALUE!"},{"$error":"#VALUE!"},{"$error":"#VALUE!"},{"$error":"#VALUE!"},{"$error":"#VALUE!"},{"$error":"#VALUE!"},{"$error":"#VALUE!"},{"$error":"#VALUE!"},{"$error":"#VALUE!"},{"$error":"#VALUE!"},{"$error":"#VALUE!"},{"$error":"#VALUE!"},{"$error":"#VALUE!"},{"$error":"#VALUE!"},{"$error":"#VALUE!"},{"$error":"#VALUE!"},{"$error":"#VALUE!"},{"$error":"#VALUE!"},{"$error":"#VALUE!"},{"$error":"#VALUE!"},{"$error":"#VALUE!"},{"$error":"#VALUE!"}]
[{"$f":"'FEA___(MPG-2)'!A33","v":""},null,{"$f":"'FEA___(MPG-2)'!D33","v":""},null,{"$f":"'FEA___(MPG-4)'!F33","v":""},{"$f":"'FEA___(MPG-4)'!H33","v":""},{"$f":"'FEA___(MPG-4)'!G33","v":""},{"$f":"IF('FEA___(MPG-2)'!$B33,IFERROR(G33-($G33-$M33)/6,\"N/A\"),\"\")","v":""},{"$f":"IF('FEA___(MPG-2)'!$B33,IFERROR(H33-($G33-$M33)/6,\"N/A\"),\"\")","v":""},{"$f":"IF('FEA___(MPG-2)'!$B33,IFERROR(I33-($G33-$M33)/6,\"N/A\"),\"\")","v":""},{"$f":"IF('FEA___(MPG-2)'!$B33,IFERROR(J33-($G33-$M33)/6,\"N/A\"),\"\")","v":""},{"$f":"IF('FEA___(MPG-2)'!$B33,IFERROR(K33-($G33-$M33)/6,\"N/A\"),\"\")","v":""},{"$f":"IF('FEA___(MPG-2)'!$B33,$M$12,\"\")","v":""},{"$f":"IF('FEA___(MPG-2)'!$B33,IFERROR(IRR(P33:HH33),\"N/A\"),\"\")","v":""},null,{"$error":"#VALUE!"},{"$error":"#VALUE!"},{"$f":"Q33*(1+$G33)","v":{"$error":"#VALUE!"}},{"$error":"#VALUE!"},{"$error":"#VALUE!"},{"$error":"#VALUE!"},{"$error":"#VALUE!"},{"$error":"#VALUE!"},{"$error":"#VALUE!"},{"$error":"#VALUE!"},{"$error":"#VALUE!"},{"$error":"#VALUE!"},{"$error":"#VALUE!"},{"$error":"#VALUE!"},{"$error":"#VALUE!"},{"$error":"#VALUE!"},{"$error":"#VALUE!"},{"$error":"#VALUE!"},{"$error":"#VALUE!"},{"$error":"#VALUE!"},{"$error":"#VALUE!"},{"$error":"#VALUE!"},{"$error":"#VALUE!"},{"$error":"#VALUE!"},{"$error":"#VALUE!"},{"$error":"#VALUE!"},{"$error":"#VALUE!"},{"$error":"#VALUE!"},{"$error":"#VALUE!"},{"$error":"#VALUE!"},{"$error":"#VALUE!"},{"$error":"#VALUE!"},{"$error":"#VALUE!"},{"$error":"#VALUE!"},{"$error":"#VALUE!"},{"$error":"#VALUE!"},{"$error":"#VALUE!"},{"$error":"#VALUE!"},{"$error":"#VALUE!"},{"$error":"#VALUE!"},{"$error":"#VALUE!"},{"$error":"#VALUE!"},{"$error":"#VALUE!"},{"$error":"#VALUE!"},{"$error":"#VALUE!"},{"$error":"#VALUE!"},{"$error":"#VALUE!"},{"$error":"#VALUE!"},{"$error":"#VALUE!"},{"$error":"#VALUE!"},{"$error":"#VALUE!"},{"$error":"#VALUE!"},{"$error":"#VALUE!"},{"$error":"#VALUE!"},{"$error":"#VALUE!"},{"$error":"#VALUE!"},{"$error":"#VALUE!"},{"$error":"#VALUE!"},{"$error":"#VALUE!"},{"$error":"#VALUE!"},{"$error":"#VALUE!"},{"$error":"#VALUE!"},{"$error":"#VALUE!"},{"$error":"#VALUE!"},{"$error":"#VALUE!"},{"$error":"#VALUE!"},{"$error":"#VALUE!"},{"$error":"#VALUE!"},{"$error":"#VALUE!"},{"$error":"#VALUE!"},{"$error":"#VALUE!"},{"$error":"#VALUE!"},{"$error":"#VALUE!"},{"$error":"#VALUE!"},{"$error":"#VALUE!"},{"$error":"#VALUE!"},{"$error":"#VALUE!"},{"$error":"#VALUE!"},{"$error":"#VALUE!"},{"$error":"#VALUE!"},{"$error":"#VALUE!"},{"$error":"#VALUE!"},{"$error":"#VALUE!"},{"$error":"#VALUE!"},{"$error":"#VALUE!"},{"$error":"#VALUE!"},{"$error":"#VALUE!"},{"$error":"#VALUE!"},{"$error":"#VALUE!"},{"$error":"#VALUE!"},{"$error":"#VALUE!"},{"$error":"#VALUE!"},{"$error":"#VALUE!"},{"$error":"#VALUE!"},{"$error":"#VALUE!"},{"$error":"#VALUE!"},{"$error":"#VALUE!"},{"$error":"#VALUE!"},{"$error":"#VALUE!"},{"$error":"#VALUE!"},{"$error":"#VALUE!"},{"$error":"#VALUE!"},{"$error":"#VALUE!"},{"$error":"#VALUE!"},{"$error":"#VALUE!"},{"$error":"#VALUE!"},{"$error":"#VALUE!"},{"$error":"#VALUE!"},{"$error":"#VALUE!"},{"$error":"#VALUE!"},{"$error":"#VALUE!"},{"$error":"#VALUE!"},{"$error":"#VALUE!"},{"$error":"#VALUE!"},{"$error":"#VALUE!"},{"$error":"#VALUE!"},{"$error":"#VALUE!"},{"$error":"#VALUE!"},{"$error":"#VALUE!"},{"$error":"#VALUE!"},{"$error":"#VALUE!"},{"$error":"#VALUE!"},{"$error":"#VALUE!"},{"$error":"#VALUE!"},{"$error":"#VALUE!"},{"$error":"#VALUE!"},{"$error":"#VALUE!"},{"$error":"#VALUE!"},{"$error":"#VALUE!"},{"$error":"#VALUE!"},{"$error":"#VALUE!"},{"$error":"#VALUE!"},{"$error":"#VALUE!"},{"$error":"#VALUE!"},{"$error":"#VALUE!"},{"$error":"#VALUE!"},{"$error":"#VALUE!"},{"$error":"#VALUE!"},{"$error":"#VALUE!"},{"$error":"#VALUE!"},{"$error":"#VALUE!"},{"$error":"#VALUE!"},{"$error":"#VALUE!"},{"$error":"#VALUE!"},{"$error":"#VALUE!"},{"$error":"#VALUE!"},{"$error":"#VALUE!"},{"$error":"#VALUE!"},{"$error":"#VALUE!"},{"$error":"#VALUE!"},{"$error":"#VALUE!"},{"$error":"#VALUE!"},{"$error":"#VALUE!"},{"$error":"#VALUE!"},{"$error":"#VALUE!"},{"$error":"#VALUE!"},{"$error":"#VALUE!"},{"$error":"#VALUE!"},{"$error":"#VALUE!"},{"$error":"#VALUE!"},{"$error":"#VALUE!"},{"$error":"#VALUE!"},{"$error":"#VALUE!"},{"$error":"#VALUE!"},{"$error":"#VALUE!"},{"$error":"#VALUE!"},{"$error":"#VALUE!"},{"$error":"#VALUE!"},{"$error":"#VALUE!"},{"$error":"#VALUE!"},{"$error":"#VALUE!"},{"$error":"#VALUE!"},{"$error":"#VALUE!"},{"$error":"#VALUE!"},{"$error":"#VALUE!"},{"$error":"#VALUE!"},{"$error":"#VALUE!"},{"$error":"#VALUE!"},{"$error":"#VALUE!"},{"$error":"#VALUE!"},{"$error":"#VALUE!"},{"$error":"#VALUE!"},{"$error":"#VALUE!"},{"$error":"#VALUE!"},{"$error":"#VALUE!"},{"$error":"#VALUE!"},{"$error":"#VALUE!"},{"$error":"#VALUE!"},{"$error":"#VALUE!"},{"$error":"#VALUE!"},{"$error":"#VALUE!"},{"$error":"#VALUE!"},{"$error":"#VALUE!"},{"$error":"#VALUE!"},{"$error":"#VALUE!"},{"$error":"#VALUE!"},{"$error":"#VALUE!"},{"$error":"#VALUE!"},{"$error":"#VALUE!"},{"$error":"#VALUE!"},{"$error":"#VALUE!"}]
[{"$f":"'FEA___(MPG-2)'!A34","v":""},null,{"$f":"'FEA___(MPG-2)'!D34","v":""},null,{"$f":"'FEA___(MPG-4)'!F34","v":""},{"$f":"'FEA___(MPG-4)'!H34","v":""},{"$f":"'FEA___(MPG-4)'!G34","v":""},{"$f":"IF('FEA___(MPG-2)'!$B34,IFERROR(G34-($G34-$M34)/6,\"N/A\"),\"\")","v":""},{"$f":"IF('FEA___(MPG-2)'!$B34,IFERROR(H34-($G34-$M34)/6,\"N/A\"),\"\")","v":""},{"$f":"IF('FEA___(MPG-2)'!$B34,IFERROR(I34-($G34-$M34)/6,\"N/A\"),\"\")","v":""},{"$f":"IF('FEA___(MPG-2)'!$B34,IFERROR(J34-($G34-$M34)/6,\"N/A\"),\"\")","v":""},{"$f":"IF('FEA___(MPG-2)'!$B34,IFERROR(K34-($G34-$M34)/6,\"N/A\"),\"\")","v":""},{"$f":"IF('FEA___(MPG-2)'!$B34,$M$12,\"\")","v":""},{"$f":"IF('FEA___(MPG-2)'!$B34,IFERROR(IRR(P34:HH34),\"N/A\"),\"\")","v":""},null,{"$error":"#VALUE!"},{"$error":"#VALUE!"},{"$f":"Q34*(1+$G34)","v":{"$error":"#VALUE!"}},{"$error":"#VALUE!"},{"$error":"#VALUE!"},{"$error":"#VALUE!"},{"$error":"#VALUE!"},{"$error":"#VALUE!"},{"$error":"#VALUE!"},{"$error":"#VALUE!"},{"$error":"#VALUE!"},{"$error":"#VALUE!"},{"$error":"#VALUE!"},{"$error":"#VALUE!"},{"$error":"#VALUE!"},{"$error":"#VALUE!"},{"$error":"#VALUE!"},{"$error":"#VALUE!"},{"$error":"#VALUE!"},{"$error":"#VALUE!"},{"$error":"#VALUE!"},{"$error":"#VALUE!"},{"$error":"#VALUE!"},{"$error":"#VALUE!"},{"$error":"#VALUE!"},{"$error":"#VALUE!"},{"$error":"#VALUE!"},{"$error":"#VALUE!"},{"$error":"#VALUE!"},{"$error":"#VALUE!"},{"$error":"#VALUE!"},{"$error":"#VALUE!"},{"$error":"#VALUE!"},{"$error":"#VALUE!"},{"$error":"#VALUE!"},{"$error":"#VALUE!"},{"$error":"#VALUE!"},{"$error":"#VALUE!"},{"$error":"#VALUE!"},{"$error":"#VALUE!"},{"$error":"#VALUE!"},{"$error":"#VALUE!"},{"$error":"#VALUE!"},{"$error":"#VALUE!"},{"$error":"#VALUE!"},{"$error":"#VALUE!"},{"$error":"#VALUE!"},{"$error":"#VALUE!"},{"$error":"#VALUE!"},{"$error":"#VALUE!"},{"$error":"#VALUE!"},{"$error":"#VALUE!"},{"$error":"#VALUE!"},{"$error":"#VALUE!"},{"$error":"#VALUE!"},{"$error":"#VALUE!"},{"$error":"#VALUE!"},{"$error":"#VALUE!"},{"$error":"#VALUE!"},{"$error":"#VALUE!"},{"$error":"#VALUE!"},{"$error":"#VALUE!"},{"$error":"#VALUE!"},{"$error":"#VALUE!"},{"$error":"#VALUE!"},{"$error":"#VALUE!"},{"$error":"#VALUE!"},{"$error":"#VALUE!"},{"$error":"#VALUE!"},{"$error":"#VALUE!"},{"$error":"#VALUE!"},{"$error":"#VALUE!"},{"$error":"#VALUE!"},{"$error":"#VALUE!"},{"$error":"#VALUE!"},{"$error":"#VALUE!"},{"$error":"#VALUE!"},{"$error":"#VALUE!"},{"$error":"#VALUE!"},{"$error":"#VALUE!"},{"$error":"#VALUE!"},{"$error":"#VALUE!"},{"$error":"#VALUE!"},{"$error":"#VALUE!"},{"$error":"#VALUE!"},{"$error":"#VALUE!"},{"$error":"#VALUE!"},{"$error":"#VALUE!"},{"$error":"#VALUE!"},{"$error":"#VALUE!"},{"$error":"#VALUE!"},{"$error":"#VALUE!"},{"$error":"#VALUE!"},{"$error":"#VALUE!"},{"$error":"#VALUE!"},{"$error":"#VALUE!"},{"$error":"#VALUE!"},{"$error":"#VALUE!"},{"$error":"#VALUE!"},{"$error":"#VALUE!"},{"$error":"#VALUE!"},{"$error":"#VALUE!"},{"$error":"#VALUE!"},{"$error":"#VALUE!"},{"$error":"#VALUE!"},{"$error":"#VALUE!"},{"$error":"#VALUE!"},{"$error":"#VALUE!"},{"$error":"#VALUE!"},{"$error":"#VALUE!"},{"$error":"#VALUE!"},{"$error":"#VALUE!"},{"$error":"#VALUE!"},{"$error":"#VALUE!"},{"$error":"#VALUE!"},{"$error":"#VALUE!"},{"$error":"#VALUE!"},{"$error":"#VALUE!"},{"$error":"#VALUE!"},{"$error":"#VALUE!"},{"$error":"#VALUE!"},{"$error":"#VALUE!"},{"$error":"#VALUE!"},{"$error":"#VALUE!"},{"$error":"#VALUE!"},{"$error":"#VALUE!"},{"$error":"#VALUE!"},{"$error":"#VALUE!"},{"$error":"#VALUE!"},{"$error":"#VALUE!"},{"$error":"#VALUE!"},{"$error":"#VALUE!"},{"$error":"#VALUE!"},{"$error":"#VALUE!"},{"$error":"#VALUE!"},{"$error":"#VALUE!"},{"$error":"#VALUE!"},{"$error":"#VALUE!"},{"$error":"#VALUE!"},{"$error":"#VALUE!"},{"$error":"#VALUE!"},{"$error":"#VALUE!"},{"$error":"#VALUE!"},{"$error":"#VALUE!"},{"$error":"#VALUE!"},{"$error":"#VALUE!"},{"$error":"#VALUE!"},{"$error":"#VALUE!"},{"$error":"#VALUE!"},{"$error":"#VALUE!"},{"$error":"#VALUE!"},{"$error":"#VALUE!"},{"$error":"#VALUE!"},{"$error":"#VALUE!"},{"$error":"#VALUE!"},{"$error":"#VALUE!"},{"$error":"#VALUE!"},{"$error":"#VALUE!"},{"$error":"#VALUE!"},{"$error":"#VALUE!"},{"$error":"#VALUE!"},{"$error":"#VALUE!"},{"$error":"#VALUE!"},{"$error":"#VALUE!"},{"$error":"#VALUE!"},{"$error":"#VALUE!"},{"$error":"#VALUE!"},{"$error":"#VALUE!"},{"$error":"#VALUE!"},{"$error":"#VALUE!"},{"$error":"#VALUE!"},{"$error":"#VALUE!"},{"$error":"#VALUE!"},{"$error":"#VALUE!"},{"$error":"#VALUE!"},{"$error":"#VALUE!"},{"$error":"#VALUE!"},{"$error":"#VALUE!"},{"$error":"#VALUE!"},{"$error":"#VALUE!"},{"$error":"#VALUE!"},{"$error":"#VALUE!"},{"$error":"#VALUE!"},{"$error":"#VALUE!"},{"$error":"#VALUE!"},{"$error":"#VALUE!"},{"$error":"#VALUE!"},{"$error":"#VALUE!"},{"$error":"#VALUE!"},{"$error":"#VALUE!"},{"$error":"#VALUE!"},{"$error":"#VALUE!"},{"$error":"#VALUE!"},{"$error":"#VALUE!"},{"$error":"#VALUE!"},{"$error":"#VALUE!"},{"$error":"#VALUE!"},{"$error":"#VALUE!"},{"$error":"#VALUE!"},{"$error":"#VALUE!"},{"$error":"#VALUE!"}]
[{"$f":"'FEA___(MPG-2)'!A35","v":""},null,{"$f":"'FEA___(MPG-2)'!D35","v":""},null,{"$f":"'FEA___(MPG-4)'!F35","v":""},{"$f":"'FEA___(MPG-4)'!H35","v":""},{"$f":"'FEA___(MPG-4)'!G35","v":""},{"$f":"IF('FEA___(MPG-2)'!$B35,IFERROR(G35-($G35-$M35)/6,\"N/A\"),\"\")","v":""},{"$f":"IF('FEA___(MPG-2)'!$B35,IFERROR(H35-($G35-$M35)/6,\"N/A\"),\"\")","v":""},{"$f":"IF('FEA___(MPG-2)'!$B35,IFERROR(I35-($G35-$M35)/6,\"N/A\"),\"\")","v":""},{"$f":"IF('FEA___(MPG-2)'!$B35,IFERROR(J35-($G35-$M35)/6,\"N/A\"),\"\")","v":""},{"$f":"IF('FEA___(MPG-2)'!$B35,IFERROR(K35-($G35-$M35)/6,\"N/A\"),\"\")","v":""},{"$f":"IF('FEA___(MPG-2)'!$B35,$M$12,\"\")","v":""},{"$f":"IF('FEA___(MPG-2)'!$B35,IFERROR(IRR(P35:HH35),\"N/A\"),\"\")","v":""},null,{"$error":"#VALUE!"},{"$error":"#VALUE!"},{"$f":"Q35*(1+$G35)","v":{"$error":"#VALUE!"}},{"$error":"#VALUE!"},{"$error":"#VALUE!"},{"$error":"#VALUE!"},{"$error":"#VALUE!"},{"$error":"#VALUE!"},{"$error":"#VALUE!"},{"$error":"#VALUE!"},{"$error":"#VALUE!"},{"$error":"#VALUE!"},{"$error":"#VALUE!"},{"$error":"#VALUE!"},{"$error":"#VALUE!"},{"$error":"#VALUE!"},{"$error":"#VALUE!"},{"$error":"#VALUE!"},{"$error":"#VALUE!"},{"$error":"#VALUE!"},{"$error":"#VALUE!"},{"$error":"#VALUE!"},{"$error":"#VALUE!"},{"$error":"#VALUE!"},{"$error":"#VALUE!"},{"$error":"#VALUE!"},{"$error":"#VALUE!"},{"$error":"#VALUE!"},{"$error":"#VALUE!"},{"$error":"#VALUE!"},{"$error":"#VALUE!"},{"$error":"#VALUE!"},{"$error":"#VALUE!"},{"$error":"#VALUE!"},{"$error":"#VALUE!"},{"$error":"#VALUE!"},{"$error":"#VALUE!"},{"$error":"#VALUE!"},{"$error":"#VALUE!"},{"$error":"#VALUE!"},{"$error":"#VALUE!"},{"$error":"#VALUE!"},{"$error":"#VALUE!"},{"$error":"#VALUE!"},{"$error":"#VALUE!"},{"$error":"#VALUE!"},{"$error":"#VALUE!"},{"$error":"#VALUE!"},{"$error":"#VALUE!"},{"$error":"#VALUE!"},{"$error":"#VALUE!"},{"$error":"#VALUE!"},{"$error":"#VALUE!"},{"$error":"#VALUE!"},{"$error":"#VALUE!"},{"$error":"#VALUE!"},{"$error":"#VALUE!"},{"$error":"#VALUE!"},{"$error":"#VALUE!"},{"$error":"#VALUE!"},{"$error":"#VALUE!"},{"$error":"#VALUE!"},{"$error":"#VALUE!"},{"$error":"#VALUE!"},{"$error":"#VALUE!"},{"$error":"#VALUE!"},{"$error":"#VALUE!"},{"$error":"#VALUE!"},{"$error":"#VALUE!"},{"$error":"#VALUE!"},{"$error":"#VALUE!"},{"$error":"#VALUE!"},{"$error":"#VALUE!"},{"$error":"#VALUE!"},{"$error":"#VALUE!"},{"$error":"#VALUE!"},{"$error":"#VALUE!"},{"$error":"#VALUE!"},{"$error":"#VALUE!"},{"$error":"#VALUE!"},{"$error":"#VALUE!"},{"$error":"#VALUE!"},{"$error":"#VALUE!"},{"$error":"#VALUE!"},{"$error":"#VALUE!"},{"$error":"#VALUE!"},{"$error":"#VALUE!"},{"$error":"#VALUE!"},{"$error":"#VALUE!"},{"$error":"#VALUE!"},{"$error":"#VALUE!"},{"$error":"#VALUE!"},{"$error":"#VALUE!"},{"$error":"#VALUE!"},{"$error":"#VALUE!"},{"$error":"#VALUE!"},{"$error":"#VALUE!"},{"$error":"#VALUE!"},{"$error":"#VALUE!"},{"$error":"#VALUE!"},{"$error":"#VALUE!"},{"$error":"#VALUE!"},{"$error":"#VALUE!"},{"$error":"#VALUE!"},{"$error":"#VALUE!"},{"$error":"#VALUE!"},{"$error":"#VALUE!"},{"$error":"#VALUE!"},{"$error":"#VALUE!"},{"$error":"#VALUE!"},{"$error":"#VALUE!"},{"$error":"#VALUE!"},{"$error":"#VALUE!"},{"$error":"#VALUE!"},{"$error":"#VALUE!"},{"$error":"#VALUE!"},{"$error":"#VALUE!"},{"$error":"#VALUE!"},{"$error":"#VALUE!"},{"$error":"#VALUE!"},{"$error":"#VALUE!"},{"$error":"#VALUE!"},{"$error":"#VALUE!"},{"$error":"#VALUE!"},{"$error":"#VALUE!"},{"$error":"#VALUE!"},{"$error":"#VALUE!"},{"$error":"#VALUE!"},{"$error":"#VALUE!"},{"$error":"#VALUE!"},{"$error":"#VALUE!"},{"$error":"#VALUE!"},{"$error":"#VALUE!"},{"$error":"#VALUE!"},{"$error":"#VALUE!"},{"$error":"#VALUE!"},{"$error":"#VALUE!"},{"$error":"#VALUE!"},{"$error":"#VALUE!"},{"$error":"#VALUE!"},{"$error":"#VALUE!"},{"$error":"#VALUE!"},{"$error":"#VALUE!"},{"$error":"#VALUE!"},{"$error":"#VALUE!"},{"$error":"#VALUE!"},{"$error":"#VALUE!"},{"$error":"#VALUE!"},{"$error":"#VALUE!"},{"$error":"#VALUE!"},{"$error":"#VALUE!"},{"$error":"#VALUE!"},{"$error":"#VALUE!"},{"$error":"#VALUE!"},{"$error":"#VALUE!"},{"$error":"#VALUE!"},{"$error":"#VALUE!"},{"$error":"#VALUE!"},{"$error":"#VALUE!"},{"$error":"#VALUE!"},{"$error":"#VALUE!"},{"$error":"#VALUE!"},{"$error":"#VALUE!"},{"$error":"#VALUE!"},{"$error":"#VALUE!"},{"$error":"#VALUE!"},{"$error":"#VALUE!"},{"$error":"#VALUE!"},{"$error":"#VALUE!"},{"$error":"#VALUE!"},{"$error":"#VALUE!"},{"$error":"#VALUE!"},{"$error":"#VALUE!"},{"$error":"#VALUE!"},{"$error":"#VALUE!"},{"$error":"#VALUE!"},{"$error":"#VALUE!"},{"$error":"#VALUE!"},{"$error":"#VALUE!"},{"$error":"#VALUE!"},{"$error":"#VALUE!"},{"$error":"#VALUE!"},{"$error":"#VALUE!"},{"$error":"#VALUE!"},{"$error":"#VALUE!"},{"$error":"#VALUE!"},{"$error":"#VALUE!"},{"$error":"#VALUE!"},{"$error":"#VALUE!"},{"$error":"#VALUE!"},{"$error":"#VALUE!"},{"$error":"#VALUE!"},{"$error":"#VALUE!"},{"$error":"#VALUE!"},{"$error":"#VALUE!"},{"$error":"#VALUE!"},{"$error":"#VALUE!"},{"$error":"#VALUE!"},{"$error":"#VALUE!"},{"$error":"#VALUE!"},{"$error":"#VALUE!"}]
[{"$f":"'FEA___(MPG-2)'!A36","v":""},null,{"$f":"'FEA___(MPG-2)'!D36","v":""},null,{"$f":"'FEA___(MPG-4)'!F36","v":""},{"$f":"'FEA___(MPG-4)'!H36","v":""},{"$f":"'FEA___(MPG-4)'!G36","v":""},{"$f":"IF('FEA___(MPG-2)'!$B36,IFERROR(G36-($G36-$M36)/6,\"N/A\"),\"\")","v":""},{"$f":"IF('FEA___(MPG-2)'!$B36,IFERROR(H36-($G36-$M36)/6,\"N/A\"),\"\")","v":""},{"$f":"IF('FEA___(MPG-2)'!$B36,IFERROR(I36-($G36-$M36)/6,\"N/A\"),\"\")","v":""},{"$f":"IF('FEA___(MPG-2)'!$B36,IFERROR(J36-($G36-$M36)/6,\"N/A\"),\"\")","v":""},{"$f":"IF('FEA___(MPG-2)'!$B36,IFERROR(K36-($G36-$M36)/6,\"N/A\"),\"\")","v":""},{"$f":"IF('FEA___(MPG-2)'!$B36,$M$12,\"\")","v":""},{"$f":"IF('FEA___(MPG-2)'!$B36,IFERROR(IRR(P36:HH36),\"N/A\"),\"\")","v":""},null,{"$error":"#VALUE!"},{"$error":"#VALUE!"},{"$f":"Q36*(1+$G36)","v":{"$error":"#VALUE!"}},{"$error":"#VALUE!"},{"$error":"#VALUE!"},{"$error":"#VALUE!"},{"$error":"#VALUE!"},{"$error":"#VALUE!"},{"$error":"#VALUE!"},{"$error":"#VALUE!"},{"$error":"#VALUE!"},{"$error":"#VALUE!"},{"$error":"#VALUE!"},{"$error":"#VALUE!"},{"$error":"#VALUE!"},{"$error":"#VALUE!"},{"$error":"#VALUE!"},{"$error":"#VALUE!"},{"$error":"#VALUE!"},{"$error":"#VALUE!"},{"$error":"#VALUE!"},{"$error":"#VALUE!"},{"$error":"#VALUE!"},{"$error":"#VALUE!"},{"$error":"#VALUE!"},{"$error":"#VALUE!"},{"$error":"#VALUE!"},{"$error":"#VALUE!"},{"$error":"#VALUE!"},{"$error":"#VALUE!"},{"$error":"#VALUE!"},{"$error":"#VALUE!"},{"$error":"#VALUE!"},{"$error":"#VALUE!"},{"$error":"#VALUE!"},{"$error":"#VALUE!"},{"$error":"#VALUE!"},{"$error":"#VALUE!"},{"$error":"#VALUE!"},{"$error":"#VALUE!"},{"$error":"#VALUE!"},{"$error":"#VALUE!"},{"$error":"#VALUE!"},{"$error":"#VALUE!"},{"$error":"#VALUE!"},{"$error":"#VALUE!"},{"$error":"#VALUE!"},{"$error":"#VALUE!"},{"$error":"#VALUE!"},{"$error":"#VALUE!"},{"$error":"#VALUE!"},{"$error":"#VALUE!"},{"$error":"#VALUE!"},{"$error":"#VALUE!"},{"$error":"#VALUE!"},{"$error":"#VALUE!"},{"$error":"#VALUE!"},{"$error":"#VALUE!"},{"$error":"#VALUE!"},{"$error":"#VALUE!"},{"$error":"#VALUE!"},{"$error":"#VALUE!"},{"$error":"#VALUE!"},{"$error":"#VALUE!"},{"$error":"#VALUE!"},{"$error":"#VALUE!"},{"$error":"#VALUE!"},{"$error":"#VALUE!"},{"$error":"#VALUE!"},{"$error":"#VALUE!"},{"$error":"#VALUE!"},{"$error":"#VALUE!"},{"$error":"#VALUE!"},{"$error":"#VALUE!"},{"$error":"#VALUE!"},{"$error":"#VALUE!"},{"$error":"#VALUE!"},{"$error":"#VALUE!"},{"$error":"#VALUE!"},{"$error":"#VALUE!"},{"$error":"#VALUE!"},{"$error":"#VALUE!"},{"$error":"#VALUE!"},{"$error":"#VALUE!"},{"$error":"#VALUE!"},{"$error":"#VALUE!"},{"$error":"#VALUE!"},{"$error":"#VALUE!"},{"$error":"#VALUE!"},{"$error":"#VALUE!"},{"$error":"#VALUE!"},{"$error":"#VALUE!"},{"$error":"#VALUE!"},{"$error":"#VALUE!"},{"$error":"#VALUE!"},{"$error":"#VALUE!"},{"$error":"#VALUE!"},{"$error":"#VALUE!"},{"$error":"#VALUE!"},{"$error":"#VALUE!"},{"$error":"#VALUE!"},{"$error":"#VALUE!"},{"$error":"#VALUE!"},{"$error":"#VALUE!"},{"$error":"#VALUE!"},{"$error":"#VALUE!"},{"$error":"#VALUE!"},{"$error":"#VALUE!"},{"$error":"#VALUE!"},{"$error":"#VALUE!"},{"$error":"#VALUE!"},{"$error":"#VALUE!"},{"$error":"#VALUE!"},{"$error":"#VALUE!"},{"$error":"#VALUE!"},{"$error":"#VALUE!"},{"$error":"#VALUE!"},{"$error":"#VALUE!"},{"$error":"#VALUE!"},{"$error":"#VALUE!"},{"$error":"#VALUE!"},{"$error":"#VALUE!"},{"$error":"#VALUE!"},{"$error":"#VALUE!"},{"$error":"#VALUE!"},{"$error":"#VALUE!"},{"$error":"#VALUE!"},{"$error":"#VALUE!"},{"$error":"#VALUE!"},{"$error":"#VALUE!"},{"$error":"#VALUE!"},{"$error":"#VALUE!"},{"$error":"#VALUE!"},{"$error":"#VALUE!"},{"$error":"#VALUE!"},{"$error":"#VALUE!"},{"$error":"#VALUE!"},{"$error":"#VALUE!"},{"$error":"#VALUE!"},{"$error":"#VALUE!"},{"$error":"#VALUE!"},{"$error":"#VALUE!"},{"$error":"#VALUE!"},{"$error":"#VALUE!"},{"$error":"#VALUE!"},{"$error":"#VALUE!"},{"$error":"#VALUE!"},{"$error":"#VALUE!"},{"$error":"#VALUE!"},{"$error":"#VALUE!"},{"$error":"#VALUE!"},{"$error":"#VALUE!"},{"$error":"#VALUE!"},{"$error":"#VALUE!"},{"$error":"#VALUE!"},{"$error":"#VALUE!"},{"$error":"#VALUE!"},{"$error":"#VALUE!"},{"$error":"#VALUE!"},{"$error":"#VALUE!"},{"$error":"#VALUE!"},{"$error":"#VALUE!"},{"$error":"#VALUE!"},{"$error":"#VALUE!"},{"$error":"#VALUE!"},{"$error":"#VALUE!"},{"$error":"#VALUE!"},{"$error":"#VALUE!"},{"$error":"#VALUE!"},{"$error":"#VALUE!"},{"$error":"#VALUE!"},{"$error":"#VALUE!"},{"$error":"#VALUE!"},{"$error":"#VALUE!"},{"$error":"#VALUE!"},{"$error":"#VALUE!"},{"$error":"#VALUE!"},{"$error":"#VALUE!"},{"$error":"#VALUE!"},{"$error":"#VALUE!"},{"$error":"#VALUE!"},{"$error":"#VALUE!"},{"$error":"#VALUE!"},{"$error":"#VALUE!"},{"$error":"#VALUE!"},{"$error":"#VALUE!"},{"$error":"#VALUE!"},{"$error":"#VALUE!"},{"$error":"#VALUE!"},{"$error":"#VALUE!"},{"$error":"#VALUE!"},{"$error":"#VALUE!"},{"$error":"#VALUE!"},{"$error":"#VALUE!"},{"$error":"#VALUE!"},{"$error":"#VALUE!"},{"$error":"#VALUE!"},{"$error":"#VALUE!"},{"$error":"#VALUE!"},{"$error":"#VALUE!"},{"$error":"#VALUE!"}]
[{"$f":"'FEA___(MPG-2)'!A37","v":""},null,{"$f":"'FEA___(MPG-2)'!D37","v":""},null,{"$f":"'FEA___(MPG-4)'!F37","v":""},{"$f":"'FEA___(MPG-4)'!H37","v":""},{"$f":"'FEA___(MPG-4)'!G37","v":""},{"$f":"IF('FEA___(MPG-2)'!$B37,IFERROR(G37-($G37-$M37)/6,\"N/A\"),\"\")","v":""},{"$f":"IF('FEA___(MPG-2)'!$B37,IFERROR(H37-($G37-$M37)/6,\"N/A\"),\"\")","v":""},{"$f":"IF('FEA___(MPG-2)'!$B37,IFERROR(I37-($G37-$M37)/6,\"N/A\"),\"\")","v":""},{"$f":"IF('FEA___(MPG-2)'!$B37,IFERROR(J37-($G37-$M37)/6,\"N/A\"),\"\")","v":""},{"$f":"IF('FEA___(MPG-2)'!$B37,IFERROR(K37-($G37-$M37)/6,\"N/A\"),\"\")","v":""},{"$f":"IF('FEA___(MPG-2)'!$B37,$M$12,\"\")","v":""},{"$f":"IF('FEA___(MPG-2)'!$B37,IFERROR(IRR(P37:HH37),\"N/A\"),\"\")","v":""},null,{"$error":"#VALUE!"},{"$error":"#VALUE!"},{"$f":"Q37*(1+$G37)","v":{"$error":"#VALUE!"}},{"$error":"#VALUE!"},{"$error":"#VALUE!"},{"$error":"#VALUE!"},{"$error":"#VALUE!"},{"$error":"#VALUE!"},{"$error":"#VALUE!"},{"$error":"#VALUE!"},{"$error":"#VALUE!"},{"$error":"#VALUE!"},{"$error":"#VALUE!"},{"$error":"#VALUE!"},{"$error":"#VALUE!"},{"$error":"#VALUE!"},{"$error":"#VALUE!"},{"$error":"#VALUE!"},{"$error":"#VALUE!"},{"$error":"#VALUE!"},{"$error":"#VALUE!"},{"$error":"#VALUE!"},{"$error":"#VALUE!"},{"$error":"#VALUE!"},{"$error":"#VALUE!"},{"$error":"#VALUE!"},{"$error":"#VALUE!"},{"$error":"#VALUE!"},{"$error":"#VALUE!"},{"$error":"#VALUE!"},{"$error":"#VALUE!"},{"$error":"#VALUE!"},{"$error":"#VALUE!"},{"$error":"#VALUE!"},{"$error":"#VALUE!"},{"$error":"#VALUE!"},{"$error":"#VALUE!"},{"$error":"#VALUE!"},{"$error":"#VALUE!"},{"$error":"#VALUE!"},{"$error":"#VALUE!"},{"$error":"#VALUE!"},{"$error":"#VALUE!"},{"$error":"#VALUE!"},{"$error":"#VALUE!"},{"$error":"#VALUE!"},{"$error":"#VALUE!"},{"$error":"#VALUE!"},{"$error":"#VALUE!"},{"$error":"#VALUE!"},{"$error":"#VALUE!"},{"$error":"#VALUE!"},{"$error":"#VALUE!"},{"$error":"#VALUE!"},{"$error":"#VALUE!"},{"$error":"#VALUE!"},{"$error":"#VALUE!"},{"$error":"#VALUE!"},{"$error":"#VALUE!"},{"$error":"#VALUE!"},{"$error":"#VALUE!"},{"$error":"#VALUE!"},{"$error":"#VALUE!"},{"$error":"#VALUE!"},{"$error":"#VALUE!"},{"$error":"#VALUE!"},{"$error":"#VALUE!"},{"$error":"#VALUE!"},{"$error":"#VALUE!"},{"$error":"#VALUE!"},{"$error":"#VALUE!"},{"$error":"#VALUE!"},{"$error":"#VALUE!"},{"$error":"#VALUE!"},{"$error":"#VALUE!"},{"$error":"#VALUE!"},{"$error":"#VALUE!"},{"$error":"#VALUE!"},{"$error":"#VALUE!"},{"$error":"#VALUE!"},{"$error":"#VALUE!"},{"$error":"#VALUE!"},{"$error":"#VALUE!"},{"$error":"#VALUE!"},{"$error":"#VALUE!"},{"$error":"#VALUE!"},{"$error":"#VALUE!"},{"$error":"#VALUE!"},{"$error":"#VALUE!"},{"$error":"#VALUE!"},{"$error":"#VALUE!"},{"$error":"#VALUE!"},{"$error":"#VALUE!"},{"$error":"#VALUE!"},{"$error":"#VALUE!"},{"$error":"#VALUE!"},{"$error":"#VALUE!"},{"$error":"#VALUE!"},{"$error":"#VALUE!"},{"$error":"#VALUE!"},{"$error":"#VALUE!"},{"$error":"#VALUE!"},{"$error":"#VALUE!"},{"$error":"#VALUE!"},{"$error":"#VALUE!"},{"$error":"#VALUE!"},{"$error":"#VALUE!"},{"$error":"#VALUE!"},{"$error":"#VALUE!"},{"$error":"#VALUE!"},{"$error":"#VALUE!"},{"$error":"#VALUE!"},{"$error":"#VALUE!"},{"$error":"#VALUE!"},{"$error":"#VALUE!"},{"$error":"#VALUE!"},{"$error":"#VALUE!"},{"$error":"#VALUE!"},{"$error":"#VALUE!"},{"$error":"#VALUE!"},{"$error":"#VALUE!"},{"$error":"#VALUE!"},{"$error":"#VALUE!"},{"$error":"#VALUE!"},{"$error":"#VALUE!"},{"$error":"#VALUE!"},{"$error":"#VALUE!"},{"$error":"#VALUE!"},{"$error":"#VALUE!"},{"$error":"#VALUE!"},{"$error":"#VALUE!"},{"$error":"#VALUE!"},{"$error":"#VALUE!"},{"$error":"#VALUE!"},{"$error":"#VALUE!"},{"$error":"#VALUE!"},{"$error":"#VALUE!"},{"$error":"#VALUE!"},{"$error":"#VALUE!"},{"$error":"#VALUE!"},{"$error":"#VALUE!"},{"$error":"#VALUE!"},{"$error":"#VALUE!"},{"$error":"#VALUE!"},{"$error":"#VALUE!"},{"$error":"#VALUE!"},{"$error":"#VALUE!"},{"$error":"#VALUE!"},{"$error":"#VALUE!"},{"$error":"#VALUE!"},{"$error":"#VALUE!"},{"$error":"#VALUE!"},{"$error":"#VALUE!"},{"$error":"#VALUE!"},{"$error":"#VALUE!"},{"$error":"#VALUE!"},{"$error":"#VALUE!"},{"$error":"#VALUE!"},{"$error":"#VALUE!"},{"$error":"#VALUE!"},{"$error":"#VALUE!"},{"$error":"#VALUE!"},{"$error":"#VALUE!"},{"$error":"#VALUE!"},{"$error":"#VALUE!"},{"$error":"#VALUE!"},{"$error":"#VALUE!"},{"$error":"#VALUE!"},{"$error":"#VALUE!"},{"$error":"#VALUE!"},{"$error":"#VALUE!"},{"$error":"#VALUE!"},{"$error":"#VALUE!"},{"$error":"#VALUE!"},{"$error":"#VALUE!"},{"$error":"#VALUE!"},{"$error":"#VALUE!"},{"$error":"#VALUE!"},{"$error":"#VALUE!"},{"$error":"#VALUE!"},{"$error":"#VALUE!"},{"$error":"#VALUE!"},{"$error":"#VALUE!"},{"$error":"#VALUE!"},{"$error":"#VALUE!"},{"$error":"#VALUE!"},{"$error":"#VALUE!"},{"$error":"#VALUE!"},{"$error":"#VALUE!"},{"$error":"#VALUE!"},{"$error":"#VALUE!"},{"$error":"#VALUE!"},{"$error":"#VALUE!"},{"$error":"#VALUE!"},{"$error":"#VALUE!"},{"$error":"#VALUE!"},{"$error":"#VALUE!"},{"$error":"#VALUE!"},{"$error":"#VALUE!"},{"$error":"#VALUE!"},{"$error":"#VALUE!"}]
[{"$f":"'FEA___(MPG-2)'!A38","v":""},null,{"$f":"'FEA___(MPG-2)'!D38","v":""},null,{"$f":"'FEA___(MPG-4)'!F38","v":""},{"$f":"'FEA___(MPG-4)'!H38","v":""},{"$f":"'FEA___(MPG-4)'!G38","v":""},{"$f":"IF('FEA___(MPG-2)'!$B38,IFERROR(G38-($G38-$M38)/6,\"N/A\"),\"\")","v":""},{"$f":"IF('FEA___(MPG-2)'!$B38,IFERROR(H38-($G38-$M38)/6,\"N/A\"),\"\")","v":""},{"$f":"IF('FEA___(MPG-2)'!$B38,IFERROR(I38-($G38-$M38)/6,\"N/A\"),\"\")","v":""},{"$f":"IF('FEA___(MPG-2)'!$B38,IFERROR(J38-($G38-$M38)/6,\"N/A\"),\"\")","v":""},{"$f":"IF('FEA___(MPG-2)'!$B38,IFERROR(K38-($G38-$M38)/6,\"N/A\"),\"\")","v":""},{"$f":"IF('FEA___(MPG-2)'!$B38,$M$12,\"\")","v":""},{"$f":"IF('FEA___(MPG-2)'!$B38,IFERROR(IRR(P38:HH38),\"N/A\"),\"\")","v":""},null,{"$error":"#VALUE!"},{"$error":"#VALUE!"},{"$f":"Q38*(1+$G38)","v":{"$error":"#VALUE!"}},{"$error":"#VALUE!"},{"$error":"#VALUE!"},{"$error":"#VALUE!"},{"$error":"#VALUE!"},{"$error":"#VALUE!"},{"$error":"#VALUE!"},{"$error":"#VALUE!"},{"$error":"#VALUE!"},{"$error":"#VALUE!"},{"$error":"#VALUE!"},{"$error":"#VALUE!"},{"$error":"#VALUE!"},{"$error":"#VALUE!"},{"$error":"#VALUE!"},{"$error":"#VALUE!"},{"$error":"#VALUE!"},{"$error":"#VALUE!"},{"$error":"#VALUE!"},{"$error":"#VALUE!"},{"$error":"#VALUE!"},{"$error":"#VALUE!"},{"$error":"#VALUE!"},{"$error":"#VALUE!"},{"$error":"#VALUE!"},{"$error":"#VALUE!"},{"$error":"#VALUE!"},{"$error":"#VALUE!"},{"$error":"#VALUE!"},{"$error":"#VALUE!"},{"$error":"#VALUE!"},{"$error":"#VALUE!"},{"$error":"#VALUE!"},{"$error":"#VALUE!"},{"$error":"#VALUE!"},{"$error":"#VALUE!"},{"$error":"#VALUE!"},{"$error":"#VALUE!"},{"$error":"#VALUE!"},{"$error":"#VALUE!"},{"$error":"#VALUE!"},{"$error":"#VALUE!"},{"$error":"#VALUE!"},{"$error":"#VALUE!"},{"$error":"#VALUE!"},{"$error":"#VALUE!"},{"$error":"#VALUE!"},{"$error":"#VALUE!"},{"$error":"#VALUE!"},{"$error":"#VALUE!"},{"$error":"#VALUE!"},{"$error":"#VALUE!"},{"$error":"#VALUE!"},{"$error":"#VALUE!"},{"$error":"#VALUE!"},{"$error":"#VALUE!"},{"$error":"#VALUE!"},{"$error":"#VALUE!"},{"$error":"#VALUE!"},{"$error":"#VALUE!"},{"$error":"#VALUE!"},{"$error":"#VALUE!"},{"$error":"#VALUE!"},{"$error":"#VALUE!"},{"$error":"#VALUE!"},{"$error":"#VALUE!"},{"$error":"#VALUE!"},{"$error":"#VALUE!"},{"$error":"#VALUE!"},{"$error":"#VALUE!"},{"$error":"#VALUE!"},{"$error":"#VALUE!"},{"$error":"#VALUE!"},{"$error":"#VALUE!"},{"$error":"#VALUE!"},{"$error":"#VALUE!"},{"$error":"#VALUE!"},{"$error":"#VALUE!"},{"$error":"#VALUE!"},{"$error":"#VALUE!"},{"$error":"#VALUE!"},{"$error":"#VALUE!"},{"$error":"#VALUE!"},{"$error":"#VALUE!"},{"$error":"#VALUE!"},{"$error":"#VALUE!"},{"$error":"#VALUE!"},{"$error":"#VALUE!"},{"$error":"#VALUE!"},{"$error":"#VALUE!"},{"$error":"#VALUE!"},{"$error":"#VALUE!"},{"$error":"#VALUE!"},{"$error":"#VALUE!"},{"$error":"#VALUE!"},{"$error":"#VALUE!"},{"$error":"#VALUE!"},{"$error":"#VALUE!"},{"$error":"#VALUE!"},{"$error":"#VALUE!"},{"$error":"#VALUE!"},{"$error":"#VALUE!"},{"$error":"#VALUE!"},{"$error":"#VALUE!"},{"$error":"#VALUE!"},{"$error":"#VALUE!"},{"$error":"#VALUE!"},{"$error":"#VALUE!"},{"$error":"#VALUE!"},{"$error":"#VALUE!"},{"$error":"#VALUE!"},{"$error":"#VALUE!"},{"$error":"#VALUE!"},{"$error":"#VALUE!"},{"$error":"#VALUE!"},{"$error":"#VALUE!"},{"$error":"#VALUE!"},{"$error":"#VALUE!"},{"$error":"#VALUE!"},{"$error":"#VALUE!"},{"$error":"#VALUE!"},{"$error":"#VALUE!"},{"$error":"#VALUE!"},{"$error":"#VALUE!"},{"$error":"#VALUE!"},{"$error":"#VALUE!"},{"$error":"#VALUE!"},{"$error":"#VALUE!"},{"$error":"#VALUE!"},{"$error":"#VALUE!"},{"$error":"#VALUE!"},{"$error":"#VALUE!"},{"$error":"#VALUE!"},{"$error":"#VALUE!"},{"$error":"#VALUE!"},{"$error":"#VALUE!"},{"$error":"#VALUE!"},{"$error":"#VALUE!"},{"$error":"#VALUE!"},{"$error":"#VALUE!"},{"$error":"#VALUE!"},{"$error":"#VALUE!"},{"$error":"#VALUE!"},{"$error":"#VALUE!"},{"$error":"#VALUE!"},{"$error":"#VALUE!"},{"$error":"#VALUE!"},{"$error":"#VALUE!"},{"$error":"#VALUE!"},{"$error":"#VALUE!"},{"$error":"#VALUE!"},{"$error":"#VALUE!"},{"$error":"#VALUE!"},{"$error":"#VALUE!"},{"$error":"#VALUE!"},{"$error":"#VALUE!"},{"$error":"#VALUE!"},{"$error":"#VALUE!"},{"$error":"#VALUE!"},{"$error":"#VALUE!"},{"$error":"#VALUE!"},{"$error":"#VALUE!"},{"$error":"#VALUE!"},{"$error":"#VALUE!"},{"$error":"#VALUE!"},{"$error":"#VALUE!"},{"$error":"#VALUE!"},{"$error":"#VALUE!"},{"$error":"#VALUE!"},{"$error":"#VALUE!"},{"$error":"#VALUE!"},{"$error":"#VALUE!"},{"$error":"#VALUE!"},{"$error":"#VALUE!"},{"$error":"#VALUE!"},{"$error":"#VALUE!"},{"$error":"#VALUE!"},{"$error":"#VALUE!"},{"$error":"#VALUE!"},{"$error":"#VALUE!"},{"$error":"#VALUE!"},{"$error":"#VALUE!"},{"$error":"#VALUE!"},{"$error":"#VALUE!"},{"$error":"#VALUE!"},{"$error":"#VALUE!"},{"$error":"#VALUE!"},{"$error":"#VALUE!"},{"$error":"#VALUE!"},{"$error":"#VALUE!"},{"$error":"#VALUE!"},{"$error":"#VALUE!"},{"$error":"#VALUE!"},{"$error":"#VALUE!"},{"$error":"#VALUE!"},{"$error":"#VALUE!"},{"$error":"#VALUE!"},{"$error":"#VALUE!"},{"$error":"#VALUE!"}]
[{"$f":"'FEA___(MPG-2)'!A39","v":""},null,{"$f":"'FEA___(MPG-2)'!D39","v":""},null,{"$f":"'FEA___(MPG-4)'!F39","v":""},{"$f":"'FEA___(MPG-4)'!H39","v":""},{"$f":"'FEA___(MPG-4)'!G39","v":""},{"$f":"IF('FEA___(MPG-2)'!$B39,IFERROR(G39-($G39-$M39)/6,\"N/A\"),\"\")","v":""},{"$f":"IF('FEA___(MPG-2)'!$B39,IFERROR(H39-($G39-$M39)/6,\"N/A\"),\"\")","v":""},{"$f":"IF('FEA___(MPG-2)'!$B39,IFERROR(I39-($G39-$M39)/6,\"N/A\"),\"\")","v":""},{"$f":"IF('FEA___(MPG-2)'!$B39,IFERROR(J39-($G39-$M39)/6,\"N/A\"),\"\")","v":""},{"$f":"IF('FEA___(MPG-2)'!$B39,IFERROR(K39-($G39-$M39)/6,\"N/A\"),\"\")","v":""},{"$f":"IF('FEA___(MPG-2)'!$B39,$M$12,\"\")","v":""},{"$f":"IF('FEA___(MPG-2)'!$B39,IFERROR(IRR(P39:HH39),\"N/A\"),\"\")","v":""},null,{"$error":"#VALUE!"},{"$error":"#VALUE!"},{"$f":"Q39*(1+$G39)","v":{"$error":"#VALUE!"}},{"$error":"#VALUE!"},{"$error":"#VALUE!"},{"$error":"#VALUE!"},{"$error":"#VALUE!"},{"$error":"#VALUE!"},{"$error":"#VALUE!"},{"$error":"#VALUE!"},{"$error":"#VALUE!"},{"$error":"#VALUE!"},{"$error":"#VALUE!"},{"$error":"#VALUE!"},{"$error":"#VALUE!"},{"$error":"#VALUE!"},{"$error":"#VALUE!"},{"$error":"#VALUE!"},{"$error":"#VALUE!"},{"$error":"#VALUE!"},{"$error":"#VALUE!"},{"$error":"#VALUE!"},{"$error":"#VALUE!"},{"$error":"#VALUE!"},{"$error":"#VALUE!"},{"$error":"#VALUE!"},{"$error":"#VALUE!"},{"$error":"#VALUE!"},{"$error":"#VALUE!"},{"$error":"#VALUE!"},{"$error":"#VALUE!"},{"$error":"#VALUE!"},{"$error":"#VALUE!"},{"$error":"#VALUE!"},{"$error":"#VALUE!"},{"$error":"#VALUE!"},{"$error":"#VALUE!"},{"$error":"#VALUE!"},{"$error":"#VALUE!"},{"$error":"#VALUE!"},{"$error":"#VALUE!"},{"$error":"#VALUE!"},{"$error":"#VALUE!"},{"$error":"#VALUE!"},{"$error":"#VALUE!"},{"$error":"#VALUE!"},{"$error":"#VALUE!"},{"$error":"#VALUE!"},{"$error":"#VALUE!"},{"$error":"#VALUE!"},{"$error":"#VALUE!"},{"$error":"#VALUE!"},{"$error":"#VALUE!"},{"$error":"#VALUE!"},{"$error":"#VALUE!"},{"$error":"#VALUE!"},{"$error":"#VALUE!"},{"$error":"#VALUE!"},{"$error":"#VALUE!"},{"$error":"#VALUE!"},{"$error":"#VALUE!"},{"$error":"#VALUE!"},{"$error":"#VALUE!"},{"$error":"#VALUE!"},{"$error":"#VALUE!"},{"$error":"#VALUE!"},{"$error":"#VALUE!"},{"$error":"#VALUE!"},{"$error":"#VALUE!"},{"$error":"#VALUE!"},{"$error":"#VALUE!"},{"$error":"#VALUE!"},{"$error":"#VALUE!"},{"$error":"#VALUE!"},{"$error":"#VALUE!"},{"$error":"#VALUE!"},{"$error":"#VALUE!"},{"$error":"#VALUE!"},{"$error":"#VALUE!"},{"$error":"#VALUE!"},{"$error":"#VALUE!"},{"$error":"#VALUE!"},{"$error":"#VALUE!"},{"$error":"#VALUE!"},{"$error":"#VALUE!"},{"$error":"#VALUE!"},{"$error":"#VALUE!"},{"$error":"#VALUE!"},{"$error":"#VALUE!"},{"$error":"#VALUE!"},{"$error":"#VALUE!"},{"$error":"#VALUE!"},{"$error":"#VALUE!"},{"$error":"#VALUE!"},{"$error":"#VALUE!"},{"$error":"#VALUE!"},{"$error":"#VALUE!"},{"$error":"#VALUE!"},{"$error":"#VALUE!"},{"$error":"#VALUE!"},{"$error":"#VALUE!"},{"$error":"#VALUE!"},{"$error":"#VALUE!"},{"$error":"#VALUE!"},{"$error":"#VALUE!"},{"$error":"#VALUE!"},{"$error":"#VALUE!"},{"$error":"#VALUE!"},{"$error":"#VALUE!"},{"$error":"#VALUE!"},{"$error":"#VALUE!"},{"$error":"#VALUE!"},{"$error":"#VALUE!"},{"$error":"#VALUE!"},{"$error":"#VALUE!"},{"$error":"#VALUE!"},{"$error":"#VALUE!"},{"$error":"#VALUE!"},{"$error":"#VALUE!"},{"$error":"#VALUE!"},{"$error":"#VALUE!"},{"$error":"#VALUE!"},{"$error":"#VALUE!"},{"$error":"#VALUE!"},{"$error":"#VALUE!"},{"$error":"#VALUE!"},{"$error":"#VALUE!"},{"$error":"#VALUE!"},{"$error":"#VALUE!"},{"$error":"#VALUE!"},{"$error":"#VALUE!"},{"$error":"#VALUE!"},{"$error":"#VALUE!"},{"$error":"#VALUE!"},{"$error":"#VALUE!"},{"$error":"#VALUE!"},{"$error":"#VALUE!"},{"$error":"#VALUE!"},{"$error":"#VALUE!"},{"$error":"#VALUE!"},{"$error":"#VALUE!"},{"$error":"#VALUE!"},{"$error":"#VALUE!"},{"$error":"#VALUE!"},{"$error":"#VALUE!"},{"$error":"#VALUE!"},{"$error":"#VALUE!"},{"$error":"#VALUE!"},{"$error":"#VALUE!"},{"$error":"#VALUE!"},{"$error":"#VALUE!"},{"$error":"#VALUE!"},{"$error":"#VALUE!"},{"$error":"#VALUE!"},{"$error":"#VALUE!"},{"$error":"#VALUE!"},{"$error":"#VALUE!"},{"$error":"#VALUE!"},{"$error":"#VALUE!"},{"$error":"#VALUE!"},{"$error":"#VALUE!"},{"$error":"#VALUE!"},{"$error":"#VALUE!"},{"$error":"#VALUE!"},{"$error":"#VALUE!"},{"$error":"#VALUE!"},{"$error":"#VALUE!"},{"$error":"#VALUE!"},{"$error":"#VALUE!"},{"$error":"#VALUE!"},{"$error":"#VALUE!"},{"$error":"#VALUE!"},{"$error":"#VALUE!"},{"$error":"#VALUE!"},{"$error":"#VALUE!"},{"$error":"#VALUE!"},{"$error":"#VALUE!"},{"$error":"#VALUE!"},{"$error":"#VALUE!"},{"$error":"#VALUE!"},{"$error":"#VALUE!"},{"$error":"#VALUE!"},{"$error":"#VALUE!"},{"$error":"#VALUE!"},{"$error":"#VALUE!"},{"$error":"#VALUE!"},{"$error":"#VALUE!"},{"$error":"#VALUE!"},{"$error":"#VALUE!"},{"$error":"#VALUE!"},{"$error":"#VALUE!"},{"$error":"#VALUE!"},{"$error":"#VALUE!"},{"$error":"#VALUE!"},{"$error":"#VALUE!"},{"$error":"#VALUE!"},{"$error":"#VALUE!"},{"$error":"#VALUE!"},{"$error":"#VALUE!"},{"$error":"#VALUE!"},{"$error":"#VALUE!"}]
[{"$f":"'FEA___(MPG-2)'!A40","v":""},null,{"$f":"'FEA___(MPG-2)'!D40","v":""},null,{"$f":"'FEA___(MPG-4)'!F40","v":""},{"$f":"'FEA___(MPG-4)'!H40","v":""},{"$f":"'FEA___(MPG-4)'!G40","v":""},{"$f":"IF('FEA___(MPG-2)'!$B40,IFERROR(G40-($G40-$M40)/6,\"N/A\"),\"\")","v":""},{"$f":"IF('FEA___(MPG-2)'!$B40,IFERROR(H40-($G40-$M40)/6,\"N/A\"),\"\")","v":""},{"$f":"IF('FEA___(MPG-2)'!$B40,IFERROR(I40-($G40-$M40)/6,\"N/A\"),\"\")","v":""},{"$f":"IF('FEA___(MPG-2)'!$B40,IFERROR(J40-($G40-$M40)/6,\"N/A\"),\"\")","v":""},{"$f":"IF('FEA___(MPG-2)'!$B40,IFERROR(K40-($G40-$M40)/6,\"N/A\"),\"\")","v":""},{"$f":"IF('FEA___(MPG-2)'!$B40,$M$12,\"\")","v":""},{"$f":"IF('FEA___(MPG-2)'!$B40,IFERROR(IRR(P40:HH40),\"N/A\"),\"\")","v":""},null,{"$error":"#VALUE!"},{"$error":"#VALUE!"},{"$f":"Q40*(1+$G40)","v":{"$error":"#VALUE!"}},{"$error":"#VALUE!"},{"$error":"#VALUE!"},{"$error":"#VALUE!"},{"$error":"#VALUE!"},{"$error":"#VALUE!"},{"$error":"#VALUE!"},{"$error":"#VALUE!"},{"$error":"#VALUE!"},{"$error":"#VALUE!"},{"$error":"#VALUE!"},{"$error":"#VALUE!"},{"$error":"#VALUE!"},{"$error":"#VALUE!"},{"$error":"#VALUE!"},{"$error":"#VALUE!"},{"$error":"#VALUE!"},{"$error":"#VALUE!"},{"$error":"#VALUE!"},{"$error":"#VALUE!"},{"$error":"#VALUE!"},{"$error":"#VALUE!"},{"$error":"#VALUE!"},{"$error":"#VALUE!"},{"$error":"#VALUE!"},{"$error":"#VALUE!"},{"$error":"#VALUE!"},{"$error":"#VALUE!"},{"$error":"#VALUE!"},{"$error":"#VALUE!"},{"$error":"#VALUE!"},{"$error":"#VALUE!"},{"$error":"#VALUE!"},{"$error":"#VALUE!"},{"$error":"#VALUE!"},{"$error":"#VALUE!"},{"$error":"#VALUE!"},{"$error":"#VALUE!"},{"$error":"#VALUE!"},{"$error":"#VALUE!"},{"$error":"#VALUE!"},{"$error":"#VALUE!"},{"$error":"#VALUE!"},{"$error":"#VALUE!"},{"$error":"#VALUE!"},{"$error":"#VALUE!"},{"$error":"#VALUE!"},{"$error":"#VALUE!"},{"$error":"#VALUE!"},{"$error":"#VALUE!"},{"$error":"#VALUE!"},{"$error":"#VALUE!"},{"$error":"#VALUE!"},{"$error":"#VALUE!"},{"$error":"#VALUE!"},{"$error":"#VALUE!"},{"$error":"#VALUE!"},{"$error":"#VALUE!"},{"$error":"#VALUE!"},{"$error":"#VALUE!"},{"$error":"#VALUE!"},{"$error":"#VALUE!"},{"$error":"#VALUE!"},{"$error":"#VALUE!"},{"$error":"#VALUE!"},{"$error":"#VALUE!"},{"$error":"#VALUE!"},{"$error":"#VALUE!"},{"$error":"#VALUE!"},{"$error":"#VALUE!"},{"$error":"#VALUE!"},{"$error":"#VALUE!"},{"$error":"#VALUE!"},{"$error":"#VALUE!"},{"$error":"#VALUE!"},{"$error":"#VALUE!"},{"$error":"#VALUE!"},{"$error":"#VALUE!"},{"$error":"#VALUE!"},{"$error":"#VALUE!"},{"$error":"#VALUE!"},{"$error":"#VALUE!"},{"$error":"#VALUE!"},{"$error":"#VALUE!"},{"$error":"#VALUE!"},{"$error":"#VALUE!"},{"$error":"#VALUE!"},{"$error":"#VALUE!"},{"$error":"#VALUE!"},{"$error":"#VALUE!"},{"$error":"#VALUE!"},{"$error":"#VALUE!"},{"$error":"#VALUE!"},{"$error":"#VALUE!"},{"$error":"#VALUE!"},{"$error":"#VALUE!"},{"$error":"#VALUE!"},{"$error":"#VALUE!"},{"$error":"#VALUE!"},{"$error":"#VALUE!"},{"$error":"#VALUE!"},{"$error":"#VALUE!"},{"$error":"#VALUE!"},{"$error":"#VALUE!"},{"$error":"#VALUE!"},{"$error":"#VALUE!"},{"$error":"#VALUE!"},{"$error":"#VALUE!"},{"$error":"#VALUE!"},{"$error":"#VALUE!"},{"$error":"#VALUE!"},{"$error":"#VALUE!"},{"$error":"#VALUE!"},{"$error":"#VALUE!"},{"$error":"#VALUE!"},{"$error":"#VALUE!"},{"$error":"#VALUE!"},{"$error":"#VALUE!"},{"$error":"#VALUE!"},{"$error":"#VALUE!"},{"$error":"#VALUE!"},{"$error":"#VALUE!"},{"$error":"#VALUE!"},{"$error":"#VALUE!"},{"$error":"#VALUE!"},{"$error":"#VALUE!"},{"$error":"#VALUE!"},{"$error":"#VALUE!"},{"$error":"#VALUE!"},{"$error":"#VALUE!"},{"$error":"#VALUE!"},{"$error":"#VALUE!"},{"$error":"#VALUE!"},{"$error":"#VALUE!"},{"$error":"#VALUE!"},{"$error":"#VALUE!"},{"$error":"#VALUE!"},{"$error":"#VALUE!"},{"$error":"#VALUE!"},{"$error":"#VALUE!"},{"$error":"#VALUE!"},{"$error":"#VALUE!"},{"$error":"#VALUE!"},{"$error":"#VALUE!"},{"$error":"#VALUE!"},{"$error":"#VALUE!"},{"$error":"#VALUE!"},{"$error":"#VALUE!"},{"$error":"#VALUE!"},{"$error":"#VALUE!"},{"$error":"#VALUE!"},{"$error":"#VALUE!"},{"$error":"#VALUE!"},{"$error":"#VALUE!"},{"$error":"#VALUE!"},{"$error":"#VALUE!"},{"$error":"#VALUE!"},{"$error":"#VALUE!"},{"$error":"#VALUE!"},{"$error":"#VALUE!"},{"$error":"#VALUE!"},{"$error":"#VALUE!"},{"$error":"#VALUE!"},{"$error":"#VALUE!"},{"$error":"#VALUE!"},{"$error":"#VALUE!"},{"$error":"#VALUE!"},{"$error":"#VALUE!"},{"$error":"#VALUE!"},{"$error":"#VALUE!"},{"$error":"#VALUE!"},{"$error":"#VALUE!"},{"$error":"#VALUE!"},{"$error":"#VALUE!"},{"$error":"#VALUE!"},{"$error":"#VALUE!"},{"$error":"#VALUE!"},{"$error":"#VALUE!"},{"$error":"#VALUE!"},{"$error":"#VALUE!"},{"$error":"#VALUE!"},{"$error":"#VALUE!"},{"$error":"#VALUE!"},{"$error":"#VALUE!"},{"$error":"#VALUE!"},{"$error":"#VALUE!"},{"$error":"#VALUE!"},{"$error":"#VALUE!"},{"$error":"#VALUE!"},{"$error":"#VALUE!"},{"$error":"#VALUE!"},{"$error":"#VALUE!"},{"$error":"#VALUE!"},{"$error":"#VALUE!"},{"$error":"#VALUE!"},{"$error":"#VALUE!"},{"$error":"#VALUE!"},{"$error":"#VALUE!"},{"$error":"#VALUE!"}]
[{"$f":"'FEA___(MPG-2)'!A41","v":""},null,{"$f":"'FEA___(MPG-2)'!D41","v":""},null,{"$f":"'FEA___(MPG-4)'!F41","v":""},{"$f":"'FEA___(MPG-4)'!H41","v":""},{"$f":"'FEA___(MPG-4)'!G41","v":""},{"$f":"IF('FEA___(MPG-2)'!$B41,IFERROR(G41-($G41-$M41)/6,\"N/A\"),\"\")","v":""},{"$f":"IF('FEA___(MPG-2)'!$B41,IFERROR(H41-($G41-$M41)/6,\"N/A\"),\"\")","v":""},{"$f":"IF('FEA___(MPG-2)'!$B41,IFERROR(I41-($G41-$M41)/6,\"N/A\"),\"\")","v":""},{"$f":"IF('FEA___(MPG-2)'!$B41,IFERROR(J41-($G41-$M41)/6,\"N/A\"),\"\")","v":""},{"$f":"IF('FEA___(MPG-2)'!$B41,IFERROR(K41-($G41-$M41)/6,\"N/A\"),\"\")","v":""},{"$f":"IF('FEA___(MPG-2)'!$B41,$M$12,\"\")","v":""},{"$f":"IF('FEA___(MPG-2)'!$B41,IFERROR(IRR(P41:HH41),\"N/A\"),\"\")","v":""},null,{"$error":"#VALUE!"},{"$error":"#VALUE!"},{"$f":"Q41*(1+$G41)","v":{"$error":"#VALUE!"}},{"$error":"#VALUE!"},{"$error":"#VALUE!"},{"$error":"#VALUE!"},{"$error":"#VALUE!"},{"$error":"#VALUE!"},{"$error":"#VALUE!"},{"$error":"#VALUE!"},{"$error":"#VALUE!"},{"$error":"#VALUE!"},{"$error":"#VALUE!"},{"$error":"#VALUE!"},{"$error":"#VALUE!"},{"$error":"#VALUE!"},{"$error":"#VALUE!"},{"$error":"#VALUE!"},{"$error":"#VALUE!"},{"$error":"#VALUE!"},{"$error":"#VALUE!"},{"$error":"#VALUE!"},{"$error":"#VALUE!"},{"$error":"#VALUE!"},{"$error":"#VALUE!"},{"$error":"#VALUE!"},{"$error":"#VALUE!"},{"$error":"#VALUE!"},{"$error":"#VALUE!"},{"$error":"#VALUE!"},{"$error":"#VALUE!"},{"$error":"#VALUE!"},{"$error":"#VALUE!"},{"$error":"#VALUE!"},{"$error":"#VALUE!"},{"$error":"#VALUE!"},{"$error":"#VALUE!"},{"$error":"#VALUE!"},{"$error":"#VALUE!"},{"$error":"#VALUE!"},{"$error":"#VALUE!"},{"$error":"#VALUE!"},{"$error":"#VALUE!"},{"$error":"#VALUE!"},{"$error":"#VALUE!"},{"$error":"#VALUE!"},{"$error":"#VALUE!"},{"$error":"#VALUE!"},{"$error":"#VALUE!"},{"$error":"#VALUE!"},{"$error":"#VALUE!"},{"$error":"#VALUE!"},{"$error":"#VALUE!"},{"$error":"#VALUE!"},{"$error":"#VALUE!"},{"$error":"#VALUE!"},{"$error":"#VALUE!"},{"$error":"#VALUE!"},{"$error":"#VALUE!"},{"$error":"#VALUE!"},{"$error":"#VALUE!"},{"$error":"#VALUE!"},{"$error":"#VALUE!"},{"$error":"#VALUE!"},{"$error":"#VALUE!"},{"$error":"#VALUE!"},{"$error":"#VALUE!"},{"$error":"#VALUE!"},{"$error":"#VALUE!"},{"$error":"#VALUE!"},{"$error":"#VALUE!"},{"$error":"#VALUE!"},{"$error":"#VALUE!"},{"$error":"#VALUE!"},{"$error":"#VALUE!"},{"$error":"#VALUE!"},{"$error":"#VALUE!"},{"$error":"#VALUE!"},{"$error":"#VALUE!"},{"$error":"#VALUE!"},{"$error":"#VALUE!"},{"$error":"#VALUE!"},{"$error":"#VALUE!"},{"$error":"#VALUE!"},{"$error":"#VALUE!"},{"$error":"#VALUE!"},{"$error":"#VALUE!"},{"$error":"#VALUE!"},{"$error":"#VALUE!"},{"$error":"#VALUE!"},{"$error":"#VALUE!"},{"$error":"#VALUE!"},{"$error":"#VALUE!"},{"$error":"#VALUE!"},{"$error":"#VALUE!"},{"$error":"#VALUE!"},{"$error":"#VALUE!"},{"$error":"#VALUE!"},{"$error":"#VALUE!"},{"$error":"#VALUE!"},{"$error":"#VALUE!"},{"$error":"#VALUE!"},{"$error":"#VALUE!"},{"$error":"#VALUE!"},{"$error":"#VALUE!"},{"$error":"#VALUE!"},{"$error":"#VALUE!"},{"$error":"#VALUE!"},{"$error":"#VALUE!"},{"$error":"#VALUE!"},{"$error":"#VALUE!"},{"$error":"#VALUE!"},{"$error":"#VALUE!"},{"$error":"#VALUE!"},{"$error":"#VALUE!"},{"$error":"#VALUE!"},{"$error":"#VALUE!"},{"$error":"#VALUE!"},{"$error":"#VALUE!"},{"$error":"#VALUE!"},{"$error":"#VALUE!"},{"$error":"#VALUE!"},{"$error":"#VALUE!"},{"$error":"#VALUE!"},{"$error":"#VALUE!"},{"$error":"#VALUE!"},{"$error":"#VALUE!"},{"$error":"#VALUE!"},{"$error":"#VALUE!"},{"$error":"#VALUE!"},{"$error":"#VALUE!"},{"$error":"#VALUE!"},{"$error":"#VALUE!"},{"$error":"#VALUE!"},{"$error":"#VALUE!"},{"$error":"#VALUE!"},{"$error":"#VALUE!"},{"$error":"#VALUE!"},{"$error":"#VALUE!"},{"$error":"#VALUE!"},{"$error":"#VALUE!"},{"$error":"#VALUE!"},{"$error":"#VALUE!"},{"$error":"#VALUE!"},{"$error":"#VALUE!"},{"$error":"#VALUE!"},{"$error":"#VALUE!"},{"$error":"#VALUE!"},{"$error":"#VALUE!"},{"$error":"#VALUE!"},{"$error":"#VALUE!"},{"$error":"#VALUE!"},{"$error":"#VALUE!"},{"$error":"#VALUE!"},{"$error":"#VALUE!"},{"$error":"#VALUE!"},{"$error":"#VALUE!"},{"$error":"#VALUE!"},{"$error":"#VALUE!"},{"$error":"#VALUE!"},{"$error":"#VALUE!"},{"$error":"#VALUE!"},{"$error":"#VALUE!"},{"$error":"#VALUE!"},{"$error":"#VALUE!"},{"$error":"#VALUE!"},{"$error":"#VALUE!"},{"$error":"#VALUE!"},{"$error":"#VALUE!"},{"$error":"#VALUE!"},{"$error":"#VALUE!"},{"$error":"#VALUE!"},{"$error":"#VALUE!"},{"$error":"#VALUE!"},{"$error":"#VALUE!"},{"$error":"#VALUE!"},{"$error":"#VALUE!"},{"$error":"#VALUE!"},{"$error":"#VALUE!"},{"$error":"#VALUE!"},{"$error":"#VALUE!"},{"$error":"#VALUE!"},{"$error":"#VALUE!"},{"$error":"#VALUE!"},{"$error":"#VALUE!"},{"$error":"#VALUE!"},{"$error":"#VALUE!"},{"$error":"#VALUE!"},{"$error":"#VALUE!"},{"$error":"#VALUE!"},{"$error":"#VALUE!"},{"$error":"#VALUE!"},{"$error":"#VALUE!"},{"$error":"#VALUE!"},{"$error":"#VALUE!"},{"$error":"#VALUE!"},{"$error":"#VALUE!"},{"$error":"#VALUE!"},{"$error":"#VALUE!"},{"$error":"#VALUE!"},{"$error":"#VALUE!"}]
[{"$f":"'FEA___(MPG-2)'!A42","v":""},null,{"$f":"'FEA___(MPG-2)'!D42","v":""},null,{"$f":"'FEA___(MPG-4)'!F42","v":""},{"$f":"'FEA___(MPG-4)'!H42","v":""},{"$f":"'FEA___(MPG-4)'!G42","v":""},{"$f":"IF('FEA___(MPG-2)'!$B42,IFERROR(G42-($G42-$M42)/6,\"N/A\"),\"\")","v":""},{"$f":"IF('FEA___(MPG-2)'!$B42,IFERROR(H42-($G42-$M42)/6,\"N/A\"),\"\")","v":""},{"$f":"IF('FEA___(MPG-2)'!$B42,IFERROR(I42-($G42-$M42)/6,\"N/A\"),\"\")","v":""},{"$f":"IF('FEA___(MPG-2)'!$B42,IFERROR(J42-($G42-$M42)/6,\"N/A\"),\"\")","v":""},{"$f":"IF('FEA___(MPG-2)'!$B42,IFERROR(K42-($G42-$M42)/6,\"N/A\"),\"\")","v":""},{"$f":"IF('FEA___(MPG-2)'!$B42,$M$12,\"\")","v":""},{"$f":"IF('FEA___(MPG-2)'!$B42,IFERROR(IRR(P42:HH42),\"N/A\"),\"\")","v":""},null,{"$error":"#VALUE!"},{"$error":"#VALUE!"},{"$f":"Q42*(1+$G42)","v":{"$error":"#VALUE!"}},{"$error":"#VALUE!"},{"$error":"#VALUE!"},{"$error":"#VALUE!"},{"$error":"#VALUE!"},{"$error":"#VALUE!"},{"$error":"#VALUE!"},{"$error":"#VALUE!"},{"$error":"#VALUE!"},{"$error":"#VALUE!"},{"$error":"#VALUE!"},{"$error":"#VALUE!"},{"$error":"#VALUE!"},{"$error":"#VALUE!"},{"$error":"#VALUE!"},{"$error":"#VALUE!"},{"$error":"#VALUE!"},{"$error":"#VALUE!"},{"$error":"#VALUE!"},{"$error":"#VALUE!"},{"$error":"#VALUE!"},{"$error":"#VALUE!"},{"$error":"#VALUE!"},{"$error":"#VALUE!"},{"$error":"#VALUE!"},{"$error":"#VALUE!"},{"$error":"#VALUE!"},{"$error":"#VALUE!"},{"$error":"#VALUE!"},{"$error":"#VALUE!"},{"$error":"#VALUE!"},{"$error":"#VALUE!"},{"$error":"#VALUE!"},{"$error":"#VALUE!"},{"$error":"#VALUE!"},{"$error":"#VALUE!"},{"$error":"#VALUE!"},{"$error":"#VALUE!"},{"$error":"#VALUE!"},{"$error":"#VALUE!"},{"$error":"#VALUE!"},{"$error":"#VALUE!"},{"$error":"#VALUE!"},{"$error":"#VALUE!"},{"$error":"#VALUE!"},{"$error":"#VALUE!"},{"$error":"#VALUE!"},{"$error":"#VALUE!"},{"$error":"#VALUE!"},{"$error":"#VALUE!"},{"$error":"#VALUE!"},{"$error":"#VALUE!"},{"$error":"#VALUE!"},{"$error":"#VALUE!"},{"$error":"#VALUE!"},{"$error":"#VALUE!"},{"$error":"#VALUE!"},{"$error":"#VALUE!"},{"$error":"#VALUE!"},{"$error":"#VALUE!"},{"$error":"#VALUE!"},{"$error":"#VALUE!"},{"$error":"#VALUE!"},{"$error":"#VALUE!"},{"$error":"#VALUE!"},{"$error":"#VALUE!"},{"$error":"#VALUE!"},{"$error":"#VALUE!"},{"$error":"#VALUE!"},{"$error":"#VALUE!"},{"$error":"#VALUE!"},{"$error":"#VALUE!"},{"$error":"#VALUE!"},{"$error":"#VALUE!"},{"$error":"#VALUE!"},{"$error":"#VALUE!"},{"$error":"#VALUE!"},{"$error":"#VALUE!"},{"$error":"#VALUE!"},{"$error":"#VALUE!"},{"$error":"#VALUE!"},{"$error":"#VALUE!"},{"$error":"#VALUE!"},{"$error":"#VALUE!"},{"$error":"#VALUE!"},{"$error":"#VALUE!"},{"$error":"#VALUE!"},{"$error":"#VALUE!"},{"$error":"#VALUE!"},{"$error":"#VALUE!"},{"$error":"#VALUE!"},{"$error":"#VALUE!"},{"$error":"#VALUE!"},{"$error":"#VALUE!"},{"$error":"#VALUE!"},{"$error":"#VALUE!"},{"$error":"#VALUE!"},{"$error":"#VALUE!"},{"$error":"#VALUE!"},{"$error":"#VALUE!"},{"$error":"#VALUE!"},{"$error":"#VALUE!"},{"$error":"#VALUE!"},{"$error":"#VALUE!"},{"$error":"#VALUE!"},{"$error":"#VALUE!"},{"$error":"#VALUE!"},{"$error":"#VALUE!"},{"$error":"#VALUE!"},{"$error":"#VALUE!"},{"$error":"#VALUE!"},{"$error":"#VALUE!"},{"$error":"#VALUE!"},{"$error":"#VALUE!"},{"$error":"#VALUE!"},{"$error":"#VALUE!"},{"$error":"#VALUE!"},{"$error":"#VALUE!"},{"$error":"#VALUE!"},{"$error":"#VALUE!"},{"$error":"#VALUE!"},{"$error":"#VALUE!"},{"$error":"#VALUE!"},{"$error":"#VALUE!"},{"$error":"#VALUE!"},{"$error":"#VALUE!"},{"$error":"#VALUE!"},{"$error":"#VALUE!"},{"$error":"#VALUE!"},{"$error":"#VALUE!"},{"$error":"#VALUE!"},{"$error":"#VALUE!"},{"$error":"#VALUE!"},{"$error":"#VALUE!"},{"$error":"#VALUE!"},{"$error":"#VALUE!"},{"$error":"#VALUE!"},{"$error":"#VALUE!"},{"$error":"#VALUE!"},{"$error":"#VALUE!"},{"$error":"#VALUE!"},{"$error":"#VALUE!"},{"$error":"#VALUE!"},{"$error":"#VALUE!"},{"$error":"#VALUE!"},{"$error":"#VALUE!"},{"$error":"#VALUE!"},{"$error":"#VALUE!"},{"$error":"#VALUE!"},{"$error":"#VALUE!"},{"$error":"#VALUE!"},{"$error":"#VALUE!"},{"$error":"#VALUE!"},{"$error":"#VALUE!"},{"$error":"#VALUE!"},{"$error":"#VALUE!"},{"$error":"#VALUE!"},{"$error":"#VALUE!"},{"$error":"#VALUE!"},{"$error":"#VALUE!"},{"$error":"#VALUE!"},{"$error":"#VALUE!"},{"$error":"#VALUE!"},{"$error":"#VALUE!"},{"$error":"#VALUE!"},{"$error":"#VALUE!"},{"$error":"#VALUE!"},{"$error":"#VALUE!"},{"$error":"#VALUE!"},{"$error":"#VALUE!"},{"$error":"#VALUE!"},{"$error":"#VALUE!"},{"$error":"#VALUE!"},{"$error":"#VALUE!"},{"$error":"#VALUE!"},{"$error":"#VALUE!"},{"$error":"#VALUE!"},{"$error":"#VALUE!"},{"$error":"#VALUE!"},{"$error":"#VALUE!"},{"$error":"#VALUE!"},{"$error":"#VALUE!"},{"$error":"#VALUE!"},{"$error":"#VALUE!"},{"$error":"#VALUE!"},{"$error":"#VALUE!"},{"$error":"#VALUE!"},{"$error":"#VALUE!"},{"$error":"#VALUE!"},{"$error":"#VALUE!"},{"$error":"#VALUE!"},{"$error":"#VALUE!"},{"$error":"#VALUE!"},{"$error":"#VALUE!"},{"$error":"#VALUE!"},{"$error":"#VALUE!"},{"$error":"#VALUE!"},{"$error":"#VALUE!"},{"$error":"#VALUE!"}]
[{"$f":"'FEA___(MPG-2)'!A43","v":""},null,{"$f":"'FEA___(MPG-2)'!D43","v":""},null,{"$f":"'FEA___(MPG-4)'!F43","v":""},{"$f":"'FEA___(MPG-4)'!H43","v":""},{"$f":"'FEA___(MPG-4)'!G43","v":""},{"$f":"IF('FEA___(MPG-2)'!$B43,IFERROR(G43-($G43-$M43)/6,\"N/A\"),\"\")","v":""},{"$f":"IF('FEA___(MPG-2)'!$B43,IFERROR(H43-($G43-$M43)/6,\"N/A\"),\"\")","v":""},{"$f":"IF('FEA___(MPG-2)'!$B43,IFERROR(I43-($G43-$M43)/6,\"N/A\"),\"\")","v":""},{"$f":"IF('FEA___(MPG-2)'!$B43,IFERROR(J43-($G43-$M43)/6,\"N/A\"),\"\")","v":""},{"$f":"IF('FEA___(MPG-2)'!$B43,IFERROR(K43-($G43-$M43)/6,\"N/A\"),\"\")","v":""},{"$f":"IF('FEA___(MPG-2)'!$B43,$M$12,\"\")","v":""},{"$f":"IF('FEA___(MPG-2)'!$B43,IFERROR(IRR(P43:HH43),\"N/A\"),\"\")","v":""},null,{"$error":"#VALUE!"},{"$error":"#VALUE!"},{"$f":"Q43*(1+$G43)","v":{"$error":"#VALUE!"}},{"$error":"#VALUE!"},{"$error":"#VALUE!"},{"$error":"#VALUE!"},{"$error":"#VALUE!"},{"$error":"#VALUE!"},{"$error":"#VALUE!"},{"$error":"#VALUE!"},{"$error":"#VALUE!"},{"$error":"#VALUE!"},{"$error":"#VALUE!"},{"$error":"#VALUE!"},{"$error":"#VALUE!"},{"$error":"#VALUE!"},{"$error":"#VALUE!"},{"$error":"#VALUE!"},{"$error":"#VALUE!"},{"$error":"#VALUE!"},{"$error":"#VALUE!"},{"$error":"#VALUE!"},{"$error":"#VALUE!"},{"$error":"#VALUE!"},{"$error":"#VALUE!"},{"$error":"#VALUE!"},{"$error":"#VALUE!"},{"$error":"#VALUE!"},{"$error":"#VALUE!"},{"$error":"#VALUE!"},{"$error":"#VALUE!"},{"$error":"#VALUE!"},{"$error":"#VALUE!"},{"$error":"#VALUE!"},{"$error":"#VALUE!"},{"$error":"#VALUE!"},{"$error":"#VALUE!"},{"$error":"#VALUE!"},{"$error":"#VALUE!"},{"$error":"#VALUE!"},{"$error":"#VALUE!"},{"$error":"#VALUE!"},{"$error":"#VALUE!"},{"$error":"#VALUE!"},{"$error":"#VALUE!"},{"$error":"#VALUE!"},{"$error":"#VALUE!"},{"$error":"#VALUE!"},{"$error":"#VALUE!"},{"$error":"#VALUE!"},{"$error":"#VALUE!"},{"$error":"#VALUE!"},{"$error":"#VALUE!"},{"$error":"#VALUE!"},{"$error":"#VALUE!"},{"$error":"#VALUE!"},{"$error":"#VALUE!"},{"$error":"#VALUE!"},{"$error":"#VALUE!"},{"$error":"#VALUE!"},{"$error":"#VALUE!"},{"$error":"#VALUE!"},{"$error":"#VALUE!"},{"$error":"#VALUE!"},{"$error":"#VALUE!"},{"$error":"#VALUE!"},{"$error":"#VALUE!"},{"$error":"#VALUE!"},{"$error":"#VALUE!"},{"$error":"#VALUE!"},{"$error":"#VALUE!"},{"$error":"#VALUE!"},{"$error":"#VALUE!"},{"$error":"#VALUE!"},{"$error":"#VALUE!"},{"$error":"#VALUE!"},{"$error":"#VALUE!"},{"$error":"#VALUE!"},{"$error":"#VALUE!"},{"$error":"#VALUE!"},{"$error":"#VALUE!"},{"$error":"#VALUE!"},{"$error":"#VALUE!"},{"$error":"#VALUE!"},{"$error":"#VALUE!"},{"$error":"#VALUE!"},{"$error":"#VALUE!"},{"$error":"#VALUE!"},{"$error":"#VALUE!"},{"$error":"#VALUE!"},{"$error":"#VALUE!"},{"$error":"#VALUE!"},{"$error":"#VALUE!"},{"$error":"#VALUE!"},{"$error":"#VALUE!"},{"$error":"#VALUE!"},{"$error":"#VALUE!"},{"$error":"#VALUE!"},{"$error":"#VALUE!"},{"$error":"#VALUE!"},{"$error":"#VALUE!"},{"$error":"#VALUE!"},{"$error":"#VALUE!"},{"$error":"#VALUE!"},{"$error":"#VALUE!"},{"$error":"#VALUE!"},{"$error":"#VALUE!"},{"$error":"#VALUE!"},{"$error":"#VALUE!"},{"$error":"#VALUE!"},{"$error":"#VALUE!"},{"$error":"#VALUE!"},{"$error":"#VALUE!"},{"$error":"#VALUE!"},{"$error":"#VALUE!"},{"$error":"#VALUE!"},{"$error":"#VALUE!"},{"$error":"#VALUE!"},{"$error":"#VALUE!"},{"$error":"#VALUE!"},{"$error":"#VALUE!"},{"$error":"#VALUE!"},{"$error":"#VALUE!"},{"$error":"#VALUE!"},{"$error":"#VALUE!"},{"$error":"#VALUE!"},{"$error":"#VALUE!"},{"$error":"#VALUE!"},{"$error":"#VALUE!"},{"$error":"#VALUE!"},{"$error":"#VALUE!"},{"$error":"#VALUE!"},{"$error":"#VALUE!"},{"$error":"#VALUE!"},{"$error":"#VALUE!"},{"$error":"#VALUE!"},{"$error":"#VALUE!"},{"$error":"#VALUE!"},{"$error":"#VALUE!"},{"$error":"#VALUE!"},{"$error":"#VALUE!"},{"$error":"#VALUE!"},{"$error":"#VALUE!"},{"$error":"#VALUE!"},{"$error":"#VALUE!"},{"$error":"#VALUE!"},{"$error":"#VALUE!"},{"$error":"#VALUE!"},{"$error":"#VALUE!"},{"$error":"#VALUE!"},{"$error":"#VALUE!"},{"$error":"#VALUE!"},{"$error":"#VALUE!"},{"$error":"#VALUE!"},{"$error":"#VALUE!"},{"$error":"#VALUE!"},{"$error":"#VALUE!"},{"$error":"#VALUE!"},{"$error":"#VALUE!"},{"$error":"#VALUE!"},{"$error":"#VALUE!"},{"$error":"#VALUE!"},{"$error":"#VALUE!"},{"$error":"#VALUE!"},{"$error":"#VALUE!"},{"$error":"#VALUE!"},{"$error":"#VALUE!"},{"$error":"#VALUE!"},{"$error":"#VALUE!"},{"$error":"#VALUE!"},{"$error":"#VALUE!"},{"$error":"#VALUE!"},{"$error":"#VALUE!"},{"$error":"#VALUE!"},{"$error":"#VALUE!"},{"$error":"#VALUE!"},{"$error":"#VALUE!"},{"$error":"#VALUE!"},{"$error":"#VALUE!"},{"$error":"#VALUE!"},{"$error":"#VALUE!"},{"$error":"#VALUE!"},{"$error":"#VALUE!"},{"$error":"#VALUE!"},{"$error":"#VALUE!"},{"$error":"#VALUE!"},{"$error":"#VALUE!"},{"$error":"#VALUE!"},{"$error":"#VALUE!"},{"$error":"#VALUE!"},{"$error":"#VALUE!"},{"$error":"#VALUE!"},{"$error":"#VALUE!"},{"$error":"#VALUE!"},{"$error":"#VALUE!"},{"$error":"#VALUE!"},{"$error":"#VALUE!"},{"$error":"#VALUE!"},{"$error":"#VALUE!"},{"$error":"#VALUE!"},{"$error":"#VALUE!"}]
[{"$f":"'FEA___(MPG-2)'!A44","v":""},null,{"$f":"'FEA___(MPG-2)'!D44","v":""},null,{"$f":"'FEA___(MPG-4)'!F44","v":""},{"$f":"'FEA___(MPG-4)'!H44","v":""},{"$f":"'FEA___(MPG-4)'!G44","v":""},{"$f":"IF('FEA___(MPG-2)'!$B44,IFERROR(G44-($G44-$M44)/6,\"N/A\"),\"\")","v":""},{"$f":"IF('FEA___(MPG-2)'!$B44,IFERROR(H44-($G44-$M44)/6,\"N/A\"),\"\")","v":""},{"$f":"IF('FEA___(MPG-2)'!$B44,IFERROR(I44-($G44-$M44)/6,\"N/A\"),\"\")","v":""},{"$f":"IF('FEA___(MPG-2)'!$B44,IFERROR(J44-($G44-$M44)/6,\"N/A\"),\"\")","v":""},{"$f":"IF('FEA___(MPG-2)'!$B44,IFERROR(K44-($G44-$M44)/6,\"N/A\"),\"\")","v":""},{"$f":"IF('FEA___(MPG-2)'!$B44,$M$12,\"\")","v":""},{"$f":"IF('FEA___(MPG-2)'!$B44,IFERROR(IRR(P44:HH44),\"N/A\"),\"\")","v":""},null,{"$error":"#VALUE!"},{"$error":"#VALUE!"},{"$f":"Q44*(1+$G44)","v":{"$error":"#VALUE!"}},{"$error":"#VALUE!"},{"$error":"#VALUE!"},{"$error":"#VALUE!"},{"$error":"#VALUE!"},{"$error":"#VALUE!"},{"$error":"#VALUE!"},{"$error":"#VALUE!"},{"$error":"#VALUE!"},{"$error":"#VALUE!"},{"$error":"#VALUE!"},{"$error":"#VALUE!"},{"$error":"#VALUE!"},{"$error":"#VALUE!"},{"$error":"#VALUE!"},{"$error":"#VALUE!"},{"$error":"#VALUE!"},{"$error":"#VALUE!"},{"$error":"#VALUE!"},{"$error":"#VALUE!"},{"$error":"#VALUE!"},{"$error":"#VALUE!"},{"$error":"#VALUE!"},{"$error":"#VALUE!"},{"$error":"#VALUE!"},{"$error":"#VALUE!"},{"$error":"#VALUE!"},{"$error":"#VALUE!"},{"$error":"#VALUE!"},{"$error":"#VALUE!"},{"$error":"#VALUE!"},{"$error":"#VALUE!"},{"$error":"#VALUE!"},{"$error":"#VALUE!"},{"$error":"#VALUE!"},{"$error":"#VALUE!"},{"$error":"#VALUE!"},{"$error":"#VALUE!"},{"$error":"#VALUE!"},{"$error":"#VALUE!"},{"$error":"#VALUE!"},{"$error":"#VALUE!"},{"$error":"#VALUE!"},{"$error":"#VALUE!"},{"$error":"#VALUE!"},{"$error":"#VALUE!"},{"$error":"#VALUE!"},{"$error":"#VALUE!"},{"$error":"#VALUE!"},{"$error":"#VALUE!"},{"$error":"#VALUE!"},{"$error":"#VALUE!"},{"$error":"#VALUE!"},{"$error":"#VALUE!"},{"$error":"#VALUE!"},{"$error":"#VALUE!"},{"$error":"#VALUE!"},{"$error":"#VALUE!"},{"$error":"#VALUE!"},{"$error":"#VALUE!"},{"$error":"#VALUE!"},{"$error":"#VALUE!"},{"$error":"#VALUE!"},{"$error":"#VALUE!"},{"$error":"#VALUE!"},{"$error":"#VALUE!"},{"$error":"#VALUE!"},{"$error":"#VALUE!"},{"$error":"#VALUE!"},{"$error":"#VALUE!"},{"$error":"#VALUE!"},{"$error":"#VALUE!"},{"$error":"#VALUE!"},{"$error":"#VALUE!"},{"$error":"#VALUE!"},{"$error":"#VALUE!"},{"$error":"#VALUE!"},{"$error":"#VALUE!"},{"$error":"#VALUE!"},{"$error":"#VALUE!"},{"$error":"#VALUE!"},{"$error":"#VALUE!"},{"$error":"#VALUE!"},{"$error":"#VALUE!"},{"$error":"#VALUE!"},{"$error":"#VALUE!"},{"$error":"#VALUE!"},{"$error":"#VALUE!"},{"$error":"#VALUE!"},{"$error":"#VALUE!"},{"$error":"#VALUE!"},{"$error":"#VALUE!"},{"$error":"#VALUE!"},{"$error":"#VALUE!"},{"$error":"#VALUE!"},{"$error":"#VALUE!"},{"$error":"#VALUE!"},{"$error":"#VALUE!"},{"$error":"#VALUE!"},{"$error":"#VALUE!"},{"$error":"#VALUE!"},{"$error":"#VALUE!"},{"$error":"#VALUE!"},{"$error":"#VALUE!"},{"$error":"#VALUE!"},{"$error":"#VALUE!"},{"$error":"#VALUE!"},{"$error":"#VALUE!"},{"$error":"#VALUE!"},{"$error":"#VALUE!"},{"$error":"#VALUE!"},{"$error":"#VALUE!"},{"$error":"#VALUE!"},{"$error":"#VALUE!"},{"$error":"#VALUE!"},{"$error":"#VALUE!"},{"$error":"#VALUE!"},{"$error":"#VALUE!"},{"$error":"#VALUE!"},{"$error":"#VALUE!"},{"$error":"#VALUE!"},{"$error":"#VALUE!"},{"$error":"#VALUE!"},{"$error":"#VALUE!"},{"$error":"#VALUE!"},{"$error":"#VALUE!"},{"$error":"#VALUE!"},{"$error":"#VALUE!"},{"$error":"#VALUE!"},{"$error":"#VALUE!"},{"$error":"#VALUE!"},{"$error":"#VALUE!"},{"$error":"#VALUE!"},{"$error":"#VALUE!"},{"$error":"#VALUE!"},{"$error":"#VALUE!"},{"$error":"#VALUE!"},{"$error":"#VALUE!"},{"$error":"#VALUE!"},{"$error":"#VALUE!"},{"$error":"#VALUE!"},{"$error":"#VALUE!"},{"$error":"#VALUE!"},{"$error":"#VALUE!"},{"$error":"#VALUE!"},{"$error":"#VALUE!"},{"$error":"#VALUE!"},{"$error":"#VALUE!"},{"$error":"#VALUE!"},{"$error":"#VALUE!"},{"$error":"#VALUE!"},{"$error":"#VALUE!"},{"$error":"#VALUE!"},{"$error":"#VALUE!"},{"$error":"#VALUE!"},{"$error":"#VALUE!"},{"$error":"#VALUE!"},{"$error":"#VALUE!"},{"$error":"#VALUE!"},{"$error":"#VALUE!"},{"$error":"#VALUE!"},{"$error":"#VALUE!"},{"$error":"#VALUE!"},{"$error":"#VALUE!"},{"$error":"#VALUE!"},{"$error":"#VALUE!"},{"$error":"#VALUE!"},{"$error":"#VALUE!"},{"$error":"#VALUE!"},{"$error":"#VALUE!"},{"$error":"#VALUE!"},{"$error":"#VALUE!"},{"$error":"#VALUE!"},{"$error":"#VALUE!"},{"$error":"#VALUE!"},{"$error":"#VALUE!"},{"$error":"#VALUE!"},{"$error":"#VALUE!"},{"$error":"#VALUE!"},{"$error":"#VALUE!"},{"$error":"#VALUE!"},{"$error":"#VALUE!"},{"$error":"#VALUE!"},{"$error":"#VALUE!"},{"$error":"#VALUE!"},{"$error":"#VALUE!"},{"$error":"#VALUE!"},{"$error":"#VALUE!"},{"$error":"#VALUE!"},{"$error":"#VALUE!"},{"$error":"#VALUE!"},{"$error":"#VALUE!"},{"$error":"#VALUE!"},{"$error":"#VALUE!"},{"$error":"#VALUE!"},{"$error":"#VALUE!"},{"$error":"#VALUE!"},{"$error":"#VALUE!"},{"$error":"#VALUE!"}]
[{"$f":"'FEA___(MPG-2)'!A45","v":""},null,{"$f":"'FEA___(MPG-2)'!D45","v":""},null,{"$f":"'FEA___(MPG-4)'!F45","v":""},{"$f":"'FEA___(MPG-4)'!H45","v":""},{"$f":"'FEA___(MPG-4)'!G45","v":""},{"$f":"IF('FEA___(MPG-2)'!$B45,IFERROR(G45-($G45-$M45)/6,\"N/A\"),\"\")","v":""},{"$f":"IF('FEA___(MPG-2)'!$B45,IFERROR(H45-($G45-$M45)/6,\"N/A\"),\"\")","v":""},{"$f":"IF('FEA___(MPG-2)'!$B45,IFERROR(I45-($G45-$M45)/6,\"N/A\"),\"\")","v":""},{"$f":"IF('FEA___(MPG-2)'!$B45,IFERROR(J45-($G45-$M45)/6,\"N/A\"),\"\")","v":""},{"$f":"IF('FEA___(MPG-2)'!$B45,IFERROR(K45-($G45-$M45)/6,\"N/A\"),\"\")","v":""},{"$f":"IF('FEA___(MPG-2)'!$B45,$M$12,\"\")","v":""},{"$f":"IF('FEA___(MPG-2)'!$B45,IFERROR(IRR(P45:HH45),\"N/A\"),\"\")","v":""},null,{"$error":"#VALUE!"},{"$error":"#VALUE!"},{"$f":"Q45*(1+$G45)","v":{"$error":"#VALUE!"}},{"$error":"#VALUE!"},{"$error":"#VALUE!"},{"$error":"#VALUE!"},{"$error":"#VALUE!"},{"$error":"#VALUE!"},{"$error":"#VALUE!"},{"$error":"#VALUE!"},{"$error":"#VALUE!"},{"$error":"#VALUE!"},{"$error":"#VALUE!"},{"$error":"#VALUE!"},{"$error":"#VALUE!"},{"$error":"#VALUE!"},{"$error":"#VALUE!"},{"$error":"#VALUE!"},{"$error":"#VALUE!"},{"$error":"#VALUE!"},{"$error":"#VALUE!"},{"$error":"#VALUE!"},{"$error":"#VALUE!"},{"$error":"#VALUE!"},{"$error":"#VALUE!"},{"$error":"#VALUE!"},{"$error":"#VALUE!"},{"$error":"#VALUE!"},{"$error":"#VALUE!"},{"$error":"#VALUE!"},{"$error":"#VALUE!"},{"$error":"#VALUE!"},{"$error":"#VALUE!"},{"$error":"#VALUE!"},{"$error":"#VALUE!"},{"$error":"#VALUE!"},{"$error":"#VALUE!"},{"$error":"#VALUE!"},{"$error":"#VALUE!"},{"$error":"#VALUE!"},{"$error":"#VALUE!"},{"$error":"#VALUE!"},{"$error":"#VALUE!"},{"$error":"#VALUE!"},{"$error":"#VALUE!"},{"$error":"#VALUE!"},{"$error":"#VALUE!"},{"$error":"#VALUE!"},{"$error":"#VALUE!"},{"$error":"#VALUE!"},{"$error":"#VALUE!"},{"$error":"#VALUE!"},{"$error":"#VALUE!"},{"$error":"#VALUE!"},{"$error":"#VALUE!"},{"$error":"#VALUE!"},{"$error":"#VALUE!"},{"$error":"#VALUE!"},{"$error":"#VALUE!"},{"$error":"#VALUE!"},{"$error":"#VALUE!"},{"$error":"#VALUE!"},{"$error":"#VALUE!"},{"$error":"#VALUE!"},{"$error":"#VALUE!"},{"$error":"#VALUE!"},{"$error":"#VALUE!"},{"$error":"#VALUE!"},{"$error":"#VALUE!"},{"$error":"#VALUE!"},{"$error":"#VALUE!"},{"$error":"#VALUE!"},{"$error":"#VALUE!"},{"$error":"#VALUE!"},{"$error":"#VALUE!"},{"$error":"#VALUE!"},{"$error":"#VALUE!"},{"$error":"#VALUE!"},{"$error":"#VALUE!"},{"$error":"#VALUE!"},{"$error":"#VALUE!"},{"$error":"#VALUE!"},{"$error":"#VALUE!"},{"$error":"#VALUE!"},{"$error":"#VALUE!"},{"$error":"#VALUE!"},{"$error":"#VALUE!"},{"$error":"#VALUE!"},{"$error":"#VALUE!"},{"$error":"#VALUE!"},{"$error":"#VALUE!"},{"$error":"#VALUE!"},{"$error":"#VALUE!"},{"$error":"#VALUE!"},{"$error":"#VALUE!"},{"$error":"#VALUE!"},{"$error":"#VALUE!"},{"$error":"#VALUE!"},{"$error":"#VALUE!"},{"$error":"#VALUE!"},{"$error":"#VALUE!"},{"$error":"#VALUE!"},{"$error":"#VALUE!"},{"$error":"#VALUE!"},{"$error":"#VALUE!"},{"$error":"#VALUE!"},{"$error":"#VALUE!"},{"$error":"#VALUE!"},{"$error":"#VALUE!"},{"$error":"#VALUE!"},{"$error":"#VALUE!"},{"$error":"#VALUE!"},{"$error":"#VALUE!"},{"$error":"#VALUE!"},{"$error":"#VALUE!"},{"$error":"#VALUE!"},{"$error":"#VALUE!"},{"$error":"#VALUE!"},{"$error":"#VALUE!"},{"$error":"#VALUE!"},{"$error":"#VALUE!"},{"$error":"#VALUE!"},{"$error":"#VALUE!"},{"$error":"#VALUE!"},{"$error":"#VALUE!"},{"$error":"#VALUE!"},{"$error":"#VALUE!"},{"$error":"#VALUE!"},{"$error":"#VALUE!"},{"$error":"#VALUE!"},{"$error":"#VALUE!"},{"$error":"#VALUE!"},{"$error":"#VALUE!"},{"$error":"#VALUE!"},{"$error":"#VALUE!"},{"$error":"#VALUE!"},{"$error":"#VALUE!"},{"$error":"#VALUE!"},{"$error":"#VALUE!"},{"$error":"#VALUE!"},{"$error":"#VALUE!"},{"$error":"#VALUE!"},{"$error":"#VALUE!"},{"$error":"#VALUE!"},{"$error":"#VALUE!"},{"$error":"#VALUE!"},{"$error":"#VALUE!"},{"$error":"#VALUE!"},{"$error":"#VALUE!"},{"$error":"#VALUE!"},{"$error":"#VALUE!"},{"$error":"#VALUE!"},{"$error":"#VALUE!"},{"$error":"#VALUE!"},{"$error":"#VALUE!"},{"$error":"#VALUE!"},{"$error":"#VALUE!"},{"$error":"#VALUE!"},{"$error":"#VALUE!"},{"$error":"#VALUE!"},{"$error":"#VALUE!"},{"$error":"#VALUE!"},{"$error":"#VALUE!"},{"$error":"#VALUE!"},{"$error":"#VALUE!"},{"$error":"#VALUE!"},{"$error":"#VALUE!"},{"$error":"#VALUE!"},{"$error":"#VALUE!"},{"$error":"#VALUE!"},{"$error":"#VALUE!"},{"$error":"#VALUE!"},{"$error":"#VALUE!"},{"$error":"#VALUE!"},{"$error":"#VALUE!"},{"$error":"#VALUE!"},{"$error":"#VALUE!"},{"$error":"#VALUE!"},{"$error":"#VALUE!"},{"$error":"#VALUE!"},{"$error":"#VALUE!"},{"$error":"#VALUE!"},{"$error":"#VALUE!"},{"$error":"#VALUE!"},{"$error":"#VALUE!"},{"$error":"#VALUE!"},{"$error":"#VALUE!"},{"$error":"#VALUE!"},{"$error":"#VALUE!"},{"$error":"#VALUE!"},{"$error":"#VALUE!"},{"$error":"#VALUE!"},{"$error":"#VALUE!"},{"$error":"#VALUE!"},{"$error":"#VALUE!"},{"$error":"#VALUE!"},{"$error":"#VALUE!"},{"$error":"#VALUE!"},{"$error":"#VALUE!"},{"$error":"#VALUE!"},{"$error":"#VALUE!"}]
[{"$f":"'FEA___(MPG-2)'!A46","v":""},null,{"$f":"'FEA___(MPG-2)'!D46","v":""},null,{"$f":"'FEA___(MPG-4)'!F46","v":""},{"$f":"'FEA___(MPG-4)'!H46","v":""},{"$f":"'FEA___(MPG-4)'!G46","v":""},{"$f":"IF('FEA___(MPG-2)'!$B46,IFERROR(G46-($G46-$M46)/6,\"N/A\"),\"\")","v":""},{"$f":"IF('FEA___(MPG-2)'!$B46,IFERROR(H46-($G46-$M46)/6,\"N/A\"),\"\")","v":""},{"$f":"IF('FEA___(MPG-2)'!$B46,IFERROR(I46-($G46-$M46)/6,\"N/A\"),\"\")","v":""},{"$f":"IF('FEA___(MPG-2)'!$B46,IFERROR(J46-($G46-$M46)/6,\"N/A\"),\"\")","v":""},{"$f":"IF('FEA___(MPG-2)'!$B46,IFERROR(K46-($G46-$M46)/6,\"N/A\"),\"\")","v":""},{"$f":"IF('FEA___(MPG-2)'!$B46,$M$12,\"\")","v":""},{"$f":"IF('FEA___(MPG-2)'!$B46,IFERROR(IRR(P46:HH46),\"N/A\"),\"\")","v":""},null,{"$error":"#VALUE!"},{"$error":"#VALUE!"},{"$f":"Q46*(1+$G46)","v":{"$error":"#VALUE!"}},{"$error":"#VALUE!"},{"$error":"#VALUE!"},{"$error":"#VALUE!"},{"$error":"#VALUE!"},{"$error":"#VALUE!"},{"$error":"#VALUE!"},{"$error":"#VALUE!"},{"$error":"#VALUE!"},{"$error":"#VALUE!"},{"$error":"#VALUE!"},{"$error":"#VALUE!"},{"$error":"#VALUE!"},{"$error":"#VALUE!"},{"$error":"#VALUE!"},{"$error":"#VALUE!"},{"$error":"#VALUE!"},{"$error":"#VALUE!"},{"$error":"#VALUE!"},{"$error":"#VALUE!"},{"$error":"#VALUE!"},{"$error":"#VALUE!"},{"$error":"#VALUE!"},{"$error":"#VALUE!"},{"$error":"#VALUE!"},{"$error":"#VALUE!"},{"$error":"#VALUE!"},{"$error":"#VALUE!"},{"$error":"#VALUE!"},{"$error":"#VALUE!"},{"$error":"#VALUE!"},{"$error":"#VALUE!"},{"$error":"#VALUE!"},{"$error":"#VALUE!"},{"$error":"#VALUE!"},{"$error":"#VALUE!"},{"$error":"#VALUE!"},{"$error":"#VALUE!"},{"$error":"#VALUE!"},{"$error":"#VALUE!"},{"$error":"#VALUE!"},{"$error":"#VALUE!"},{"$error":"#VALUE!"},{"$error":"#VALUE!"},{"$error":"#VALUE!"},{"$error":"#VALUE!"},{"$error":"#VALUE!"},{"$error":"#VALUE!"},{"$error":"#VALUE!"},{"$error":"#VALUE!"},{"$error":"#VALUE!"},{"$error":"#VALUE!"},{"$error":"#VALUE!"},{"$error":"#VALUE!"},{"$error":"#VALUE!"},{"$error":"#VALUE!"},{"$error":"#VALUE!"},{"$error":"#VALUE!"},{"$error":"#VALUE!"},{"$error":"#VALUE!"},{"$error":"#VALUE!"},{"$error":"#VALUE!"},{"$error":"#VALUE!"},{"$error":"#VALUE!"},{"$error":"#VALUE!"},{"$error":"#VALUE!"},{"$error":"#VALUE!"},{"$error":"#VALUE!"},{"$error":"#VALUE!"},{"$error":"#VALUE!"},{"$error":"#VALUE!"},{"$error":"#VALUE!"},{"$error":"#VALUE!"},{"$error":"#VALUE!"},{"$error":"#VALUE!"},{"$error":"#VALUE!"},{"$error":"#VALUE!"},{"$error":"#VALUE!"},{"$error":"#VALUE!"},{"$error":"#VALUE!"},{"$error":"#VALUE!"},{"$error":"#VALUE!"},{"$error":"#VALUE!"},{"$error":"#VALUE!"},{"$error":"#VALUE!"},{"$error":"#VALUE!"},{"$error":"#VALUE!"},{"$error":"#VALUE!"},{"$error":"#VALUE!"},{"$error":"#VALUE!"},{"$error":"#VALUE!"},{"$error":"#VALUE!"},{"$error":"#VALUE!"},{"$error":"#VALUE!"},{"$error":"#VALUE!"},{"$error":"#VALUE!"},{"$error":"#VALUE!"},{"$error":"#VALUE!"},{"$error":"#VALUE!"},{"$error":"#VALUE!"},{"$error":"#VALUE!"},{"$error":"#VALUE!"},{"$error":"#VALUE!"},{"$error":"#VALUE!"},{"$error":"#VALUE!"},{"$error":"#VALUE!"},{"$error":"#VALUE!"},{"$error":"#VALUE!"},{"$error":"#VALUE!"},{"$error":"#VALUE!"},{"$error":"#VALUE!"},{"$error":"#VALUE!"},{"$error":"#VALUE!"},{"$error":"#VALUE!"},{"$error":"#VALUE!"},{"$error":"#VALUE!"},{"$error":"#VALUE!"},{"$error":"#VALUE!"},{"$error":"#VALUE!"},{"$error":"#VALUE!"},{"$error":"#VALUE!"},{"$error":"#VALUE!"},{"$error":"#VALUE!"},{"$error":"#VALUE!"},{"$error":"#VALUE!"},{"$error":"#VALUE!"},{"$error":"#VALUE!"},{"$error":"#VALUE!"},{"$error":"#VALUE!"},{"$error":"#VALUE!"},{"$error":"#VALUE!"},{"$error":"#VALUE!"},{"$error":"#VALUE!"},{"$error":"#VALUE!"},{"$error":"#VALUE!"},{"$error":"#VALUE!"},{"$error":"#VALUE!"},{"$error":"#VALUE!"},{"$error":"#VALUE!"},{"$error":"#VALUE!"},{"$error":"#VALUE!"},{"$error":"#VALUE!"},{"$error":"#VALUE!"},{"$error":"#VALUE!"},{"$error":"#VALUE!"},{"$error":"#VALUE!"},{"$error":"#VALUE!"},{"$error":"#VALUE!"},{"$error":"#VALUE!"},{"$error":"#VALUE!"},{"$error":"#VALUE!"},{"$error":"#VALUE!"},{"$error":"#VALUE!"},{"$error":"#VALUE!"},{"$error":"#VALUE!"},{"$error":"#VALUE!"},{"$error":"#VALUE!"},{"$error":"#VALUE!"},{"$error":"#VALUE!"},{"$error":"#VALUE!"},{"$error":"#VALUE!"},{"$error":"#VALUE!"},{"$error":"#VALUE!"},{"$error":"#VALUE!"},{"$error":"#VALUE!"},{"$error":"#VALUE!"},{"$error":"#VALUE!"},{"$error":"#VALUE!"},{"$error":"#VALUE!"},{"$error":"#VALUE!"},{"$error":"#VALUE!"},{"$error":"#VALUE!"},{"$error":"#VALUE!"},{"$error":"#VALUE!"},{"$error":"#VALUE!"},{"$error":"#VALUE!"},{"$error":"#VALUE!"},{"$error":"#VALUE!"},{"$error":"#VALUE!"},{"$error":"#VALUE!"},{"$error":"#VALUE!"},{"$error":"#VALUE!"},{"$error":"#VALUE!"},{"$error":"#VALUE!"},{"$error":"#VALUE!"},{"$error":"#VALUE!"},{"$error":"#VALUE!"},{"$error":"#VALUE!"},{"$error":"#VALUE!"},{"$error":"#VALUE!"},{"$error":"#VALUE!"},{"$error":"#VALUE!"},{"$error":"#VALUE!"},{"$error":"#VALUE!"},{"$error":"#VALUE!"},{"$error":"#VALUE!"},{"$error":"#VALUE!"},{"$error":"#VALUE!"},{"$error":"#VALUE!"}]
[{"$f":"'FEA___(MPG-2)'!A47","v":""},null,{"$f":"'FEA___(MPG-2)'!D47","v":""},null,{"$f":"'FEA___(MPG-4)'!F47","v":""},{"$f":"'FEA___(MPG-4)'!H47","v":""},{"$f":"'FEA___(MPG-4)'!G47","v":""},{"$f":"IF('FEA___(MPG-2)'!$B47,IFERROR(G47-($G47-$M47)/6,\"N/A\"),\"\")","v":""},{"$f":"IF('FEA___(MPG-2)'!$B47,IFERROR(H47-($G47-$M47)/6,\"N/A\"),\"\")","v":""},{"$f":"IF('FEA___(MPG-2)'!$B47,IFERROR(I47-($G47-$M47)/6,\"N/A\"),\"\")","v":""},{"$f":"IF('FEA___(MPG-2)'!$B47,IFERROR(J47-($G47-$M47)/6,\"N/A\"),\"\")","v":""},{"$f":"IF('FEA___(MPG-2)'!$B47,IFERROR(K47-($G47-$M47)/6,\"N/A\"),\"\")","v":""},{"$f":"IF('FEA___(MPG-2)'!$B47,$M$12,\"\")","v":""},{"$f":"IF('FEA___(MPG-2)'!$B47,IFERROR(IRR(P47:HH47),\"N/A\"),\"\")","v":""},null,{"$error":"#VALUE!"},{"$error":"#VALUE!"},{"$f":"Q47*(1+$G47)","v":{"$error":"#VALUE!"}},{"$error":"#VALUE!"},{"$error":"#VALUE!"},{"$error":"#VALUE!"},{"$error":"#VALUE!"},{"$error":"#VALUE!"},{"$error":"#VALUE!"},{"$error":"#VALUE!"},{"$error":"#VALUE!"},{"$error":"#VALUE!"},{"$error":"#VALUE!"},{"$error":"#VALUE!"},{"$error":"#VALUE!"},{"$error":"#VALUE!"},{"$error":"#VALUE!"},{"$error":"#VALUE!"},{"$error":"#VALUE!"},{"$error":"#VALUE!"},{"$error":"#VALUE!"},{"$error":"#VALUE!"},{"$error":"#VALUE!"},{"$error":"#VALUE!"},{"$error":"#VALUE!"},{"$error":"#VALUE!"},{"$error":"#VALUE!"},{"$error":"#VALUE!"},{"$error":"#VALUE!"},{"$error":"#VALUE!"},{"$error":"#VALUE!"},{"$error":"#VALUE!"},{"$error":"#VALUE!"},{"$error":"#VALUE!"},{"$error":"#VALUE!"},{"$error":"#VALUE!"},{"$error":"#VALUE!"},{"$error":"#VALUE!"},{"$error":"#VALUE!"},{"$error":"#VALUE!"},{"$error":"#VALUE!"},{"$error":"#VALUE!"},{"$error":"#VALUE!"},{"$error":"#VALUE!"},{"$error":"#VALUE!"},{"$error":"#VALUE!"},{"$error":"#VALUE!"},{"$error":"#VALUE!"},{"$error":"#VALUE!"},{"$error":"#VALUE!"},{"$error":"#VALUE!"},{"$error":"#VALUE!"},{"$error":"#VALUE!"},{"$error":"#VALUE!"},{"$error":"#VALUE!"},{"$error":"#VALUE!"},{"$error":"#VALUE!"},{"$error":"#VALUE!"},{"$error":"#VALUE!"},{"$error":"#VALUE!"},{"$error":"#VALUE!"},{"$error":"#VALUE!"},{"$error":"#VALUE!"},{"$error":"#VALUE!"},{"$error":"#VALUE!"},{"$error":"#VALUE!"},{"$error":"#VALUE!"},{"$error":"#VALUE!"},{"$error":"#VALUE!"},{"$error":"#VALUE!"},{"$error":"#VALUE!"},{"$error":"#VALUE!"},{"$error":"#VALUE!"},{"$error":"#VALUE!"},{"$error":"#VALUE!"},{"$error":"#VALUE!"},{"$error":"#VALUE!"},{"$error":"#VALUE!"},{"$error":"#VALUE!"},{"$error":"#VALUE!"},{"$error":"#VALUE!"},{"$error":"#VALUE!"},{"$error":"#VALUE!"},{"$error":"#VALUE!"},{"$error":"#VALUE!"},{"$error":"#VALUE!"},{"$error":"#VALUE!"},{"$error":"#VALUE!"},{"$error":"#VALUE!"},{"$error":"#VALUE!"},{"$error":"#VALUE!"},{"$error":"#VALUE!"},{"$error":"#VALUE!"},{"$error":"#VALUE!"},{"$error":"#VALUE!"},{"$error":"#VALUE!"},{"$error":"#VALUE!"},{"$error":"#VALUE!"},{"$error":"#VALUE!"},{"$error":"#VALUE!"},{"$error":"#VALUE!"},{"$error":"#VALUE!"},{"$error":"#VALUE!"},{"$error":"#VALUE!"},{"$error":"#VALUE!"},{"$error":"#VALUE!"},{"$error":"#VALUE!"},{"$error":"#VALUE!"},{"$error":"#VALUE!"},{"$error":"#VALUE!"},{"$error":"#VALUE!"},{"$error":"#VALUE!"},{"$error":"#VALUE!"},{"$error":"#VALUE!"},{"$error":"#VALUE!"},{"$error":"#VALUE!"},{"$error":"#VALUE!"},{"$error":"#VALUE!"},{"$error":"#VALUE!"},{"$error":"#VALUE!"},{"$error":"#VALUE!"},{"$error":"#VALUE!"},{"$error":"#VALUE!"},{"$error":"#VALUE!"},{"$error":"#VALUE!"},{"$error":"#VALUE!"},{"$error":"#VALUE!"},{"$error":"#VALUE!"},{"$error":"#VALUE!"},{"$error":"#VALUE!"},{"$error":"#VALUE!"},{"$error":"#VALUE!"},{"$error":"#VALUE!"},{"$error":"#VALUE!"},{"$error":"#VALUE!"},{"$error":"#VALUE!"},{"$error":"#VALUE!"},{"$error":"#VALUE!"},{"$error":"#VALUE!"},{"$error":"#VALUE!"},{"$error":"#VALUE!"},{"$error":"#VALUE!"},{"$error":"#VALUE!"},{"$error":"#VALUE!"},{"$error":"#VALUE!"},{"$error":"#VALUE!"},{"$error":"#VALUE!"},{"$error":"#VALUE!"},{"$error":"#VALUE!"},{"$error":"#VALUE!"},{"$error":"#VALUE!"},{"$error":"#VALUE!"},{"$error":"#VALUE!"},{"$error":"#VALUE!"},{"$error":"#VALUE!"},{"$error":"#VALUE!"},{"$error":"#VALUE!"},{"$error":"#VALUE!"},{"$error":"#VALUE!"},{"$error":"#VALUE!"},{"$error":"#VALUE!"},{"$error":"#VALUE!"},{"$error":"#VALUE!"},{"$error":"#VALUE!"},{"$error":"#VALUE!"},{"$error":"#VALUE!"},{"$error":"#VALUE!"},{"$error":"#VALUE!"},{"$error":"#VALUE!"},{"$error":"#VALUE!"},{"$error":"#VALUE!"},{"$error":"#VALUE!"},{"$error":"#VALUE!"},{"$error":"#VALUE!"},{"$error":"#VALUE!"},{"$error":"#VALUE!"},{"$error":"#VALUE!"},{"$error":"#VALUE!"},{"$error":"#VALUE!"},{"$error":"#VALUE!"},{"$error":"#VALUE!"},{"$error":"#VALUE!"},{"$error":"#VALUE!"},{"$error":"#VALUE!"},{"$error":"#VALUE!"},{"$error":"#VALUE!"},{"$error":"#VALUE!"},{"$error":"#VALUE!"},{"$error":"#VALUE!"},{"$error":"#VALUE!"},{"$error":"#VALUE!"},{"$error":"#VALUE!"},{"$error":"#VALUE!"},{"$error":"#VALUE!"},{"$error":"#VALUE!"},{"$error":"#VALUE!"},{"$error":"#VALUE!"},{"$error":"#VALUE!"},{"$error":"#VALUE!"},{"$error":"#VALUE!"},{"$error":"#VALUE!"}]
[{"$f":"'FEA___(MPG-2)'!A48","v":""},null,{"$f":"'FEA___(MPG-2)'!D48","v":""},null,{"$f":"'FEA___(MPG-4)'!F48","v":""},{"$f":"'FEA___(MPG-4)'!H48","v":""},{"$f":"'FEA___(MPG-4)'!G48","v":""},{"$f":"IF('FEA___(MPG-2)'!$B48,IFERROR(G48-($G48-$M48)/6,\"N/A\"),\"\")","v":""},{"$f":"IF('FEA___(MPG-2)'!$B48,IFERROR(H48-($G48-$M48)/6,\"N/A\"),\"\")","v":""},{"$f":"IF('FEA___(MPG-2)'!$B48,IFERROR(I48-($G48-$M48)/6,\"N/A\"),\"\")","v":""},{"$f":"IF('FEA___(MPG-2)'!$B48,IFERROR(J48-($G48-$M48)/6,\"N/A\"),\"\")","v":""},{"$f":"IF('FEA___(MPG-2)'!$B48,IFERROR(K48-($G48-$M48)/6,\"N/A\"),\"\")","v":""},{"$f":"IF('FEA___(MPG-2)'!$B48,$M$12,\"\")","v":""},{"$f":"IF('FEA___(MPG-2)'!$B48,IFERROR(IRR(P48:HH48),\"N/A\"),\"\")","v":""},null,{"$error":"#VALUE!"},{"$error":"#VALUE!"},{"$f":"Q48*(1+$G48)","v":{"$error":"#VALUE!"}},{"$error":"#VALUE!"},{"$error":"#VALUE!"},{"$error":"#VALUE!"},{"$error":"#VALUE!"},{"$error":"#VALUE!"},{"$error":"#VALUE!"},{"$error":"#VALUE!"},{"$error":"#VALUE!"},{"$error":"#VALUE!"},{"$error":"#VALUE!"},{"$error":"#VALUE!"},{"$error":"#VALUE!"},{"$error":"#VALUE!"},{"$error":"#VALUE!"},{"$error":"#VALUE!"},{"$error":"#VALUE!"},{"$error":"#VALUE!"},{"$error":"#VALUE!"},{"$error":"#VALUE!"},{"$error":"#VALUE!"},{"$error":"#VALUE!"},{"$error":"#VALUE!"},{"$error":"#VALUE!"},{"$error":"#VALUE!"},{"$error":"#VALUE!"},{"$error":"#VALUE!"},{"$error":"#VALUE!"},{"$error":"#VALUE!"},{"$error":"#VALUE!"},{"$error":"#VALUE!"},{"$error":"#VALUE!"},{"$error":"#VALUE!"},{"$error":"#VALUE!"},{"$error":"#VALUE!"},{"$error":"#VALUE!"},{"$error":"#VALUE!"},{"$error":"#VALUE!"},{"$error":"#VALUE!"},{"$error":"#VALUE!"},{"$error":"#VALUE!"},{"$error":"#VALUE!"},{"$error":"#VALUE!"},{"$error":"#VALUE!"},{"$error":"#VALUE!"},{"$error":"#VALUE!"},{"$error":"#VALUE!"},{"$error":"#VALUE!"},{"$error":"#VALUE!"},{"$error":"#VALUE!"},{"$error":"#VALUE!"},{"$error":"#VALUE!"},{"$error":"#VALUE!"},{"$error":"#VALUE!"},{"$error":"#VALUE!"},{"$error":"#VALUE!"},{"$error":"#VALUE!"},{"$error":"#VALUE!"},{"$error":"#VALUE!"},{"$error":"#VALUE!"},{"$error":"#VALUE!"},{"$error":"#VALUE!"},{"$error":"#VALUE!"},{"$error":"#VALUE!"},{"$error":"#VALUE!"},{"$error":"#VALUE!"},{"$error":"#VALUE!"},{"$error":"#VALUE!"},{"$error":"#VALUE!"},{"$error":"#VALUE!"},{"$error":"#VALUE!"},{"$error":"#VALUE!"},{"$error":"#VALUE!"},{"$error":"#VALUE!"},{"$error":"#VALUE!"},{"$error":"#VALUE!"},{"$error":"#VALUE!"},{"$error":"#VALUE!"},{"$error":"#VALUE!"},{"$error":"#VALUE!"},{"$error":"#VALUE!"},{"$error":"#VALUE!"},{"$error":"#VALUE!"},{"$error":"#VALUE!"},{"$error":"#VALUE!"},{"$error":"#VALUE!"},{"$error":"#VALUE!"},{"$error":"#VALUE!"},{"$error":"#VALUE!"},{"$error":"#VALUE!"},{"$error":"#VALUE!"},{"$error":"#VALUE!"},{"$error":"#VALUE!"},{"$error":"#VALUE!"},{"$error":"#VALUE!"},{"$error":"#VALUE!"},{"$error":"#VALUE!"},{"$error":"#VALUE!"},{"$error":"#VALUE!"},{"$error":"#VALUE!"},{"$error":"#VALUE!"},{"$error":"#VALUE!"},{"$error":"#VALUE!"},{"$error":"#VALUE!"},{"$error":"#VALUE!"},{"$error":"#VALUE!"},{"$error":"#VALUE!"},{"$error":"#VALUE!"},{"$error":"#VALUE!"},{"$error":"#VALUE!"},{"$error":"#VALUE!"},{"$error":"#VALUE!"},{"$error":"#VALUE!"},{"$error":"#VALUE!"},{"$error":"#VALUE!"},{"$error":"#VALUE!"},{"$error":"#VALUE!"},{"$error":"#VALUE!"},{"$error":"#VALUE!"},{"$error":"#VALUE!"},{"$error":"#VALUE!"},{"$error":"#VALUE!"},{"$error":"#VALUE!"},{"$error":"#VALUE!"},{"$error":"#VALUE!"},{"$error":"#VALUE!"},{"$error":"#VALUE!"},{"$error":"#VALUE!"},{"$error":"#VALUE!"},{"$error":"#VALUE!"},{"$error":"#VALUE!"},{"$error":"#VALUE!"},{"$error":"#VALUE!"},{"$error":"#VALUE!"},{"$error":"#VALUE!"},{"$error":"#VALUE!"},{"$error":"#VALUE!"},{"$error":"#VALUE!"},{"$error":"#VALUE!"},{"$error":"#VALUE!"},{"$error":"#VALUE!"},{"$error":"#VALUE!"},{"$error":"#VALUE!"},{"$error":"#VALUE!"},{"$error":"#VALUE!"},{"$error":"#VALUE!"},{"$error":"#VALUE!"},{"$error":"#VALUE!"},{"$error":"#VALUE!"},{"$error":"#VALUE!"},{"$error":"#VALUE!"},{"$error":"#VALUE!"},{"$error":"#VALUE!"},{"$error":"#VALUE!"},{"$error":"#VALUE!"},{"$error":"#VALUE!"},{"$error":"#VALUE!"},{"$error":"#VALUE!"},{"$error":"#VALUE!"},{"$error":"#VALUE!"},{"$error":"#VALUE!"},{"$error":"#VALUE!"},{"$error":"#VALUE!"},{"$error":"#VALUE!"},{"$error":"#VALUE!"},{"$error":"#VALUE!"},{"$error":"#VALUE!"},{"$error":"#VALUE!"},{"$error":"#VALUE!"},{"$error":"#VALUE!"},{"$error":"#VALUE!"},{"$error":"#VALUE!"},{"$error":"#VALUE!"},{"$error":"#VALUE!"},{"$error":"#VALUE!"},{"$error":"#VALUE!"},{"$error":"#VALUE!"},{"$error":"#VALUE!"},{"$error":"#VALUE!"},{"$error":"#VALUE!"},{"$error":"#VALUE!"},{"$error":"#VALUE!"},{"$error":"#VALUE!"},{"$error":"#VALUE!"},{"$error":"#VALUE!"},{"$error":"#VALUE!"},{"$error":"#VALUE!"},{"$error":"#VALUE!"},{"$error":"#VALUE!"},{"$error":"#VALUE!"},{"$error":"#VALUE!"},{"$error":"#VALUE!"},{"$error":"#VALUE!"},{"$error":"#VALUE!"},{"$error":"#VALUE!"},{"$error":"#VALUE!"},{"$error":"#VALUE!"},{"$error":"#VALUE!"},{"$error":"#VALUE!"}]
[{"$f":"'FEA___(MPG-2)'!A49","v":""},null,{"$f":"'FEA___(MPG-2)'!D49","v":""},null,{"$f":"'FEA___(MPG-4)'!F49","v":""},{"$f":"'FEA___(MPG-4)'!H49","v":""},{"$f":"'FEA___(MPG-4)'!G49","v":""},{"$f":"IF('FEA___(MPG-2)'!$B49,IFERROR(G49-($G49-$M49)/6,\"N/A\"),\"\")","v":""},{"$f":"IF('FEA___(MPG-2)'!$B49,IFERROR(H49-($G49-$M49)/6,\"N/A\"),\"\")","v":""},{"$f":"IF('FEA___(MPG-2)'!$B49,IFERROR(I49-($G49-$M49)/6,\"N/A\"),\"\")","v":""},{"$f":"IF('FEA___(MPG-2)'!$B49,IFERROR(J49-($G49-$M49)/6,\"N/A\"),\"\")","v":""},{"$f":"IF('FEA___(MPG-2)'!$B49,IFERROR(K49-($G49-$M49)/6,\"N/A\"),\"\")","v":""},{"$f":"IF('FEA___(MPG-2)'!$B49,$M$12,\"\")","v":""},{"$f":"IF('FEA___(MPG-2)'!$B49,IFERROR(IRR(P49:HH49),\"N/A\"),\"\")","v":""},null,{"$error":"#VALUE!"},{"$error":"#VALUE!"},{"$f":"Q49*(1+$G49)","v":{"$error":"#VALUE!"}},{"$error":"#VALUE!"},{"$error":"#VALUE!"},{"$error":"#VALUE!"},{"$error":"#VALUE!"},{"$error":"#VALUE!"},{"$error":"#VALUE!"},{"$error":"#VALUE!"},{"$error":"#VALUE!"},{"$error":"#VALUE!"},{"$error":"#VALUE!"},{"$error":"#VALUE!"},{"$error":"#VALUE!"},{"$error":"#VALUE!"},{"$error":"#VALUE!"},{"$error":"#VALUE!"},{"$error":"#VALUE!"},{"$error":"#VALUE!"},{"$error":"#VALUE!"},{"$error":"#VALUE!"},{"$error":"#VALUE!"},{"$error":"#VALUE!"},{"$error":"#VALUE!"},{"$error":"#VALUE!"},{"$error":"#VALUE!"},{"$error":"#VALUE!"},{"$error":"#VALUE!"},{"$error":"#VALUE!"},{"$error":"#VALUE!"},{"$error":"#VALUE!"},{"$error":"#VALUE!"},{"$error":"#VALUE!"},{"$error":"#VALUE!"},{"$error":"#VALUE!"},{"$error":"#VALUE!"},{"$error":"#VALUE!"},{"$error":"#VALUE!"},{"$error":"#VALUE!"},{"$error":"#VALUE!"},{"$error":"#VALUE!"},{"$error":"#VALUE!"},{"$error":"#VALUE!"},{"$error":"#VALUE!"},{"$error":"#VALUE!"},{"$error":"#VALUE!"},{"$error":"#VALUE!"},{"$error":"#VALUE!"},{"$error":"#VALUE!"},{"$error":"#VALUE!"},{"$error":"#VALUE!"},{"$error":"#VALUE!"},{"$error":"#VALUE!"},{"$error":"#VALUE!"},{"$error":"#VALUE!"},{"$error":"#VALUE!"},{"$error":"#VALUE!"},{"$error":"#VALUE!"},{"$error":"#VALUE!"},{"$error":"#VALUE!"},{"$error":"#VALUE!"},{"$error":"#VALUE!"},{"$error":"#VALUE!"},{"$error":"#VALUE!"},{"$error":"#VALUE!"},{"$error":"#VALUE!"},{"$error":"#VALUE!"},{"$error":"#VALUE!"},{"$error":"#VALUE!"},{"$error":"#VALUE!"},{"$error":"#VALUE!"},{"$error":"#VALUE!"},{"$error":"#VALUE!"},{"$error":"#VALUE!"},{"$error":"#VALUE!"},{"$error":"#VALUE!"},{"$error":"#VALUE!"},{"$error":"#VALUE!"},{"$error":"#VALUE!"},{"$error":"#VALUE!"},{"$error":"#VALUE!"},{"$error":"#VALUE!"},{"$error":"#VALUE!"},{"$error":"#VALUE!"},{"$error":"#VALUE!"},{"$error":"#VALUE!"},{"$error":"#VALUE!"},{"$error":"#VALUE!"},{"$error":"#VALUE!"},{"$error":"#VALUE!"},{"$error":"#VALUE!"},{"$error":"#VALUE!"},{"$error":"#VALUE!"},{"$error":"#VALUE!"},{"$error":"#VALUE!"},{"$error":"#VALUE!"},{"$error":"#VALUE!"},{"$error":"#VALUE!"},{"$error":"#VALUE!"},{"$error":"#VALUE!"},{"$error":"#VALUE!"},{"$error":"#VALUE!"},{"$error":"#VALUE!"},{"$error":"#VALUE!"},{"$error":"#VALUE!"},{"$error":"#VALUE!"},{"$error":"#VALUE!"},{"$error":"#VALUE!"},{"$error":"#VALUE!"},{"$error":"#VALUE!"},{"$error":"#VALUE!"},{"$error":"#VALUE!"},{"$error":"#VALUE!"},{"$error":"#VALUE!"},{"$error":"#VALUE!"},{"$error":"#VALUE!"},{"$error":"#VALUE!"},{"$error":"#VALUE!"},{"$error":"#VALUE!"},{"$error":"#VALUE!"},{"$error":"#VALUE!"},{"$error":"#VALUE!"},{"$error":"#VALUE!"},{"$error":"#VALUE!"},{"$error":"#VALUE!"},{"$error":"#VALUE!"},{"$error":"#VALUE!"},{"$error":"#VALUE!"},{"$error":"#VALUE!"},{"$error":"#VALUE!"},{"$error":"#VALUE!"},{"$error":"#VALUE!"},{"$error":"#VALUE!"},{"$error":"#VALUE!"},{"$error":"#VALUE!"},{"$error":"#VALUE!"},{"$error":"#VALUE!"},{"$error":"#VALUE!"},{"$error":"#VALUE!"},{"$error":"#VALUE!"},{"$error":"#VALUE!"},{"$error":"#VALUE!"},{"$error":"#VALUE!"},{"$error":"#VALUE!"},{"$error":"#VALUE!"},{"$error":"#VALUE!"},{"$error":"#VALUE!"},{"$error":"#VALUE!"},{"$error":"#VALUE!"},{"$error":"#VALUE!"},{"$error":"#VALUE!"},{"$error":"#VALUE!"},{"$error":"#VALUE!"},{"$error":"#VALUE!"},{"$error":"#VALUE!"},{"$error":"#VALUE!"},{"$error":"#VALUE!"},{"$error":"#VALUE!"},{"$error":"#VALUE!"},{"$error":"#VALUE!"},{"$error":"#VALUE!"},{"$error":"#VALUE!"},{"$error":"#VALUE!"},{"$error":"#VALUE!"},{"$error":"#VALUE!"},{"$error":"#VALUE!"},{"$error":"#VALUE!"},{"$error":"#VALUE!"},{"$error":"#VALUE!"},{"$error":"#VALUE!"},{"$error":"#VALUE!"},{"$error":"#VALUE!"},{"$error":"#VALUE!"},{"$error":"#VALUE!"},{"$error":"#VALUE!"},{"$error":"#VALUE!"},{"$error":"#VALUE!"},{"$error":"#VALUE!"},{"$error":"#VALUE!"},{"$error":"#VALUE!"},{"$error":"#VALUE!"},{"$error":"#VALUE!"},{"$error":"#VALUE!"},{"$error":"#VALUE!"},{"$error":"#VALUE!"},{"$error":"#VALUE!"},{"$error":"#VALUE!"},{"$error":"#VALUE!"},{"$error":"#VALUE!"},{"$error":"#VALUE!"},{"$error":"#VALUE!"},{"$error":"#VALUE!"},{"$error":"#VALUE!"},{"$error":"#VALUE!"},{"$error":"#VALUE!"},{"$error":"#VALUE!"},{"$error":"#VALUE!"},{"$error":"#VALUE!"},{"$error":"#VALUE!"},{"$error":"#VALUE!"}]
[{"$f":"'FEA___(MPG-2)'!A50","v":""},null,{"$f":"'FEA___(MPG-2)'!D50","v":""},null,{"$f":"'FEA___(MPG-4)'!F50","v":""},{"$f":"'FEA___(MPG-4)'!H50","v":""},{"$f":"'FEA___(MPG-4)'!G50","v":""},{"$f":"IF('FEA___(MPG-2)'!$B50,IFERROR(G50-($G50-$M50)/6,\"N/A\"),\"\")","v":""},{"$f":"IF('FEA___(MPG-2)'!$B50,IFERROR(H50-($G50-$M50)/6,\"N/A\"),\"\")","v":""},{"$f":"IF('FEA___(MPG-2)'!$B50,IFERROR(I50-($G50-$M50)/6,\"N/A\"),\"\")","v":""},{"$f":"IF('FEA___(MPG-2)'!$B50,IFERROR(J50-($G50-$M50)/6,\"N/A\"),\"\")","v":""},{"$f":"IF('FEA___(MPG-2)'!$B50,IFERROR(K50-($G50-$M50)/6,\"N/A\"),\"\")","v":""},{"$f":"IF('FEA___(MPG-2)'!$B50,$M$12,\"\")","v":""},{"$f":"IF('FEA___(MPG-2)'!$B50,IFERROR(IRR(P50:HH50),\"N/A\"),\"\")","v":""},null,{"$error":"#VALUE!"},{"$error":"#VALUE!"},{"$f":"Q50*(1+$G50)","v":{"$error":"#VALUE!"}},{"$error":"#VALUE!"},{"$error":"#VALUE!"},{"$error":"#VALUE!"},{"$error":"#VALUE!"},{"$error":"#VALUE!"},{"$error":"#VALUE!"},{"$error":"#VALUE!"},{"$error":"#VALUE!"},{"$error":"#VALUE!"},{"$error":"#VALUE!"},{"$error":"#VALUE!"},{"$error":"#VALUE!"},{"$error":"#VALUE!"},{"$error":"#VALUE!"},{"$error":"#VALUE!"},{"$error":"#VALUE!"},{"$error":"#VALUE!"},{"$error":"#VALUE!"},{"$error":"#VALUE!"},{"$error":"#VALUE!"},{"$error":"#VALUE!"},{"$error":"#VALUE!"},{"$error":"#VALUE!"},{"$error":"#VALUE!"},{"$error":"#VALUE!"},{"$error":"#VALUE!"},{"$error":"#VALUE!"},{"$error":"#VALUE!"},{"$error":"#VALUE!"},{"$error":"#VALUE!"},{"$error":"#VALUE!"},{"$error":"#VALUE!"},{"$error":"#VALUE!"},{"$error":"#VALUE!"},{"$error":"#VALUE!"},{"$error":"#VALUE!"},{"$error":"#VALUE!"},{"$error":"#VALUE!"},{"$error":"#VALUE!"},{"$error":"#VALUE!"},{"$error":"#VALUE!"},{"$error":"#VALUE!"},{"$error":"#VALUE!"},{"$error":"#VALUE!"},{"$error":"#VALUE!"},{"$error":"#VALUE!"},{"$error":"#VALUE!"},{"$error":"#VALUE!"},{"$error":"#VALUE!"},{"$error":"#VALUE!"},{"$error":"#VALUE!"},{"$error":"#VALUE!"},{"$error":"#VALUE!"},{"$error":"#VALUE!"},{"$error":"#VALUE!"},{"$error":"#VALUE!"},{"$error":"#VALUE!"},{"$error":"#VALUE!"},{"$error":"#VALUE!"},{"$error":"#VALUE!"},{"$error":"#VALUE!"},{"$error":"#VALUE!"},{"$error":"#VALUE!"},{"$error":"#VALUE!"},{"$error":"#VALUE!"},{"$error":"#VALUE!"},{"$error":"#VALUE!"},{"$error":"#VALUE!"},{"$error":"#VALUE!"},{"$error":"#VALUE!"},{"$error":"#VALUE!"},{"$error":"#VALUE!"},{"$error":"#VALUE!"},{"$error":"#VALUE!"},{"$error":"#VALUE!"},{"$error":"#VALUE!"},{"$error":"#VALUE!"},{"$error":"#VALUE!"},{"$error":"#VALUE!"},{"$error":"#VALUE!"},{"$error":"#VALUE!"},{"$error":"#VALUE!"},{"$error":"#VALUE!"},{"$error":"#VALUE!"},{"$error":"#VALUE!"},{"$error":"#VALUE!"},{"$error":"#VALUE!"},{"$error":"#VALUE!"},{"$error":"#VALUE!"},{"$error":"#VALUE!"},{"$error":"#VALUE!"},{"$error":"#VALUE!"},{"$error":"#VALUE!"},{"$error":"#VALUE!"},{"$error":"#VALUE!"},{"$error":"#VALUE!"},{"$error":"#VALUE!"},{"$error":"#VALUE!"},{"$error":"#VALUE!"},{"$error":"#VALUE!"},{"$error":"#VALUE!"},{"$error":"#VALUE!"},{"$error":"#VALUE!"},{"$error":"#VALUE!"},{"$error":"#VALUE!"},{"$error":"#VALUE!"},{"$error":"#VALUE!"},{"$error":"#VALUE!"},{"$error":"#VALUE!"},{"$error":"#VALUE!"},{"$error":"#VALUE!"},{"$error":"#VALUE!"},{"$error":"#VALUE!"},{"$error":"#VALUE!"},{"$error":"#VALUE!"},{"$error":"#VALUE!"},{"$error":"#VALUE!"},{"$error":"#VALUE!"},{"$error":"#VALUE!"},{"$error":"#VALUE!"},{"$error":"#VALUE!"},{"$error":"#VALUE!"},{"$error":"#VALUE!"},{"$error":"#VALUE!"},{"$error":"#VALUE!"},{"$error":"#VALUE!"},{"$error":"#VALUE!"},{"$error":"#VALUE!"},{"$error":"#VALUE!"},{"$error":"#VALUE!"},{"$error":"#VALUE!"},{"$error":"#VALUE!"},{"$error":"#VALUE!"},{"$error":"#VALUE!"},{"$error":"#VALUE!"},{"$error":"#VALUE!"},{"$error":"#VALUE!"},{"$error":"#VALUE!"},{"$error":"#VALUE!"},{"$error":"#VALUE!"},{"$error":"#VALUE!"},{"$error":"#VALUE!"},{"$error":"#VALUE!"},{"$error":"#VALUE!"},{"$error":"#VALUE!"},{"$error":"#VALUE!"},{"$error":"#VALUE!"},{"$error":"#VALUE!"},{"$error":"#VALUE!"},{"$error":"#VALUE!"},{"$error":"#VALUE!"},{"$error":"#VALUE!"},{"$error":"#VALUE!"},{"$error":"#VALUE!"},{"$error":"#VALUE!"},{"$error":"#VALUE!"},{"$error":"#VALUE!"},{"$error":"#VALUE!"},{"$error":"#VALUE!"},{"$error":"#VALUE!"},{"$error":"#VALUE!"},{"$error":"#VALUE!"},{"$error":"#VALUE!"},{"$error":"#VALUE!"},{"$error":"#VALUE!"},{"$error":"#VALUE!"},{"$error":"#VALUE!"},{"$error":"#VALUE!"},{"$error":"#VALUE!"},{"$error":"#VALUE!"},{"$error":"#VALUE!"},{"$error":"#VALUE!"},{"$error":"#VALUE!"},{"$error":"#VALUE!"},{"$error":"#VALUE!"},{"$error":"#VALUE!"},{"$error":"#VALUE!"},{"$error":"#VALUE!"},{"$error":"#VALUE!"},{"$error":"#VALUE!"},{"$error":"#VALUE!"},{"$error":"#VALUE!"},{"$error":"#VALUE!"},{"$error":"#VALUE!"},{"$error":"#VALUE!"},{"$error":"#VALUE!"},{"$error":"#VALUE!"},{"$error":"#VALUE!"},{"$error":"#VALUE!"},{"$error":"#VALUE!"},{"$error":"#VALUE!"},{"$error":"#VALUE!"},{"$error":"#VALUE!"},{"$error":"#VALUE!"},{"$error":"#VALUE!"},{"$error":"#VALUE!"},{"$error":"#VALUE!"},{"$error":"#VALUE!"}]
[{"$f":"'FEA___(MPG-2)'!A51","v":""},null,{"$f":"'FEA___(MPG-2)'!D51","v":""},null,{"$f":"'FEA___(MPG-4)'!F51","v":""},{"$f":"'FEA___(MPG-4)'!H51","v":""},{"$f":"'FEA___(MPG-4)'!G51","v":""},{"$f":"IF('FEA___(MPG-2)'!$B51,IFERROR(G51-($G51-$M51)/6,\"N/A\"),\"\")","v":""},{"$f":"IF('FEA___(MPG-2)'!$B51,IFERROR(H51-($G51-$M51)/6,\"N/A\"),\"\")","v":""},{"$f":"IF('FEA___(MPG-2)'!$B51,IFERROR(I51-($G51-$M51)/6,\"N/A\"),\"\")","v":""},{"$f":"IF('FEA___(MPG-2)'!$B51,IFERROR(J51-($G51-$M51)/6,\"N/A\"),\"\")","v":""},{"$f":"IF('FEA___(MPG-2)'!$B51,IFERROR(K51-($G51-$M51)/6,\"N/A\"),\"\")","v":""},{"$f":"IF('FEA___(MPG-2)'!$B51,$M$12,\"\")","v":""},{"$f":"IF('FEA___(MPG-2)'!$B51,IFERROR(IRR(P51:HH51),\"N/A\"),\"\")","v":""},null,{"$error":"#VALUE!"},{"$error":"#VALUE!"},{"$f":"Q51*(1+$G51)","v":{"$error":"#VALUE!"}},{"$error":"#VALUE!"},{"$error":"#VALUE!"},{"$error":"#VALUE!"},{"$error":"#VALUE!"},{"$error":"#VALUE!"},{"$error":"#VALUE!"},{"$error":"#VALUE!"},{"$error":"#VALUE!"},{"$error":"#VALUE!"},{"$error":"#VALUE!"},{"$error":"#VALUE!"},{"$error":"#VALUE!"},{"$error":"#VALUE!"},{"$error":"#VALUE!"},{"$error":"#VALUE!"},{"$error":"#VALUE!"},{"$error":"#VALUE!"},{"$error":"#VALUE!"},{"$error":"#VALUE!"},{"$error":"#VALUE!"},{"$error":"#VALUE!"},{"$error":"#VALUE!"},{"$error":"#VALUE!"},{"$error":"#VALUE!"},{"$error":"#VALUE!"},{"$error":"#VALUE!"},{"$error":"#VALUE!"},{"$error":"#VALUE!"},{"$error":"#VALUE!"},{"$error":"#VALUE!"},{"$error":"#VALUE!"},{"$error":"#VALUE!"},{"$error":"#VALUE!"},{"$error":"#VALUE!"},{"$error":"#VALUE!"},{"$error":"#VALUE!"},{"$error":"#VALUE!"},{"$error":"#VALUE!"},{"$error":"#VALUE!"},{"$error":"#VALUE!"},{"$error":"#VALUE!"},{"$error":"#VALUE!"},{"$error":"#VALUE!"},{"$error":"#VALUE!"},{"$error":"#VALUE!"},{"$error":"#VALUE!"},{"$error":"#VALUE!"},{"$error":"#VALUE!"},{"$error":"#VALUE!"},{"$error":"#VALUE!"},{"$error":"#VALUE!"},{"$error":"#VALUE!"},{"$error":"#VALUE!"},{"$error":"#VALUE!"},{"$error":"#VALUE!"},{"$error":"#VALUE!"},{"$error":"#VALUE!"},{"$error":"#VALUE!"},{"$error":"#VALUE!"},{"$error":"#VALUE!"},{"$error":"#VALUE!"},{"$error":"#VALUE!"},{"$error":"#VALUE!"},{"$error":"#VALUE!"},{"$error":"#VALUE!"},{"$error":"#VALUE!"},{"$error":"#VALUE!"},{"$error":"#VALUE!"},{"$error":"#VALUE!"},{"$error":"#VALUE!"},{"$error":"#VALUE!"},{"$error":"#VALUE!"},{"$error":"#VALUE!"},{"$error":"#VALUE!"},{"$error":"#VALUE!"},{"$error":"#VALUE!"},{"$error":"#VALUE!"},{"$error":"#VALUE!"},{"$error":"#VALUE!"},{"$error":"#VALUE!"},{"$error":"#VALUE!"},{"$error":"#VALUE!"},{"$error":"#VALUE!"},{"$error":"#VALUE!"},{"$error":"#VALUE!"},{"$error":"#VALUE!"},{"$error":"#VALUE!"},{"$error":"#VALUE!"},{"$error":"#VALUE!"},{"$error":"#VALUE!"},{"$error":"#VALUE!"},{"$error":"#VALUE!"},{"$error":"#VALUE!"},{"$error":"#VALUE!"},{"$error":"#VALUE!"},{"$error":"#VALUE!"},{"$error":"#VALUE!"},{"$error":"#VALUE!"},{"$error":"#VALUE!"},{"$error":"#VALUE!"},{"$error":"#VALUE!"},{"$error":"#VALUE!"},{"$error":"#VALUE!"},{"$error":"#VALUE!"},{"$error":"#VALUE!"},{"$error":"#VALUE!"},{"$error":"#VALUE!"},{"$error":"#VALUE!"},{"$error":"#VALUE!"},{"$error":"#VALUE!"},{"$error":"#VALUE!"},{"$error":"#VALUE!"},{"$error":"#VALUE!"},{"$error":"#VALUE!"},{"$error":"#VALUE!"},{"$error":"#VALUE!"},{"$error":"#VALUE!"},{"$error":"#VALUE!"},{"$error":"#VALUE!"},{"$error":"#VALUE!"},{"$error":"#VALUE!"},{"$error":"#VALUE!"},{"$error":"#VALUE!"},{"$error":"#VALUE!"},{"$error":"#VALUE!"},{"$error":"#VALUE!"},{"$error":"#VALUE!"},{"$error":"#VALUE!"},{"$error":"#VALUE!"},{"$error":"#VALUE!"},{"$error":"#VALUE!"},{"$error":"#VALUE!"},{"$error":"#VALUE!"},{"$error":"#VALUE!"},{"$error":"#VALUE!"},{"$error":"#VALUE!"},{"$error":"#VALUE!"},{"$error":"#VALUE!"},{"$error":"#VALUE!"},{"$error":"#VALUE!"},{"$error":"#VALUE!"},{"$error":"#VALUE!"},{"$error":"#VALUE!"},{"$error":"#VALUE!"},{"$error":"#VALUE!"},{"$error":"#VALUE!"},{"$error":"#VALUE!"},{"$error":"#VALUE!"},{"$error":"#VALUE!"},{"$error":"#VALUE!"},{"$error":"#VALUE!"},{"$error":"#VALUE!"},{"$error":"#VALUE!"},{"$error":"#VALUE!"},{"$error":"#VALUE!"},{"$error":"#VALUE!"},{"$error":"#VALUE!"},{"$error":"#VALUE!"},{"$error":"#VALUE!"},{"$error":"#VALUE!"},{"$error":"#VALUE!"},{"$error":"#VALUE!"},{"$error":"#VALUE!"},{"$error":"#VALUE!"},{"$error":"#VALUE!"},{"$error":"#VALUE!"},{"$error":"#VALUE!"},{"$error":"#VALUE!"},{"$error":"#VALUE!"},{"$error":"#VALUE!"},{"$error":"#VALUE!"},{"$error":"#VALUE!"},{"$error":"#VALUE!"},{"$error":"#VALUE!"},{"$error":"#VALUE!"},{"$error":"#VALUE!"},{"$error":"#VALUE!"},{"$error":"#VALUE!"},{"$error":"#VALUE!"},{"$error":"#VALUE!"},{"$error":"#VALUE!"},{"$error":"#VALUE!"},{"$error":"#VALUE!"},{"$error":"#VALUE!"},{"$error":"#VALUE!"},{"$error":"#VALUE!"},{"$error":"#VALUE!"},{"$error":"#VALUE!"},{"$error":"#VALUE!"},{"$error":"#VALUE!"},{"$error":"#VALUE!"},{"$error":"#VALUE!"},{"$error":"#VALUE!"},{"$error":"#VALUE!"},{"$error":"#VALUE!"},{"$error":"#VALUE!"},{"$error":"#VALUE!"},{"$error":"#VALUE!"}]
[{"$f":"'FEA___(MPG-2)'!A52","v":""},null,{"$f":"'FEA___(MPG-2)'!D52","v":""},null,{"$f":"'FEA___(MPG-4)'!F52","v":""},{"$f":"'FEA___(MPG-4)'!H52","v":""},{"$f":"'FEA___(MPG-4)'!G52","v":""},{"$f":"IF('FEA___(MPG-2)'!$B52,IFERROR(G52-($G52-$M52)/6,\"N/A\"),\"\")","v":""},{"$f":"IF('FEA___(MPG-2)'!$B52,IFERROR(H52-($G52-$M52)/6,\"N/A\"),\"\")","v":""},{"$f":"IF('FEA___(MPG-2)'!$B52,IFERROR(I52-($G52-$M52)/6,\"N/A\"),\"\")","v":""},{"$f":"IF('FEA___(MPG-2)'!$B52,IFERROR(J52-($G52-$M52)/6,\"N/A\"),\"\")","v":""},{"$f":"IF('FEA___(MPG-2)'!$B52,IFERROR(K52-($G52-$M52)/6,\"N/A\"),\"\")","v":""},{"$f":"IF('FEA___(MPG-2)'!$B52,$M$12,\"\")","v":""},{"$f":"IF('FEA___(MPG-2)'!$B52,IFERROR(IRR(P52:HH52),\"N/A\"),\"\")","v":""},null,{"$error":"#VALUE!"},{"$error":"#VALUE!"},{"$f":"Q52*(1+$G52)","v":{"$error":"#VALUE!"}},{"$error":"#VALUE!"},{"$error":"#VALUE!"},{"$error":"#VALUE!"},{"$error":"#VALUE!"},{"$error":"#VALUE!"},{"$error":"#VALUE!"},{"$error":"#VALUE!"},{"$error":"#VALUE!"},{"$error":"#VALUE!"},{"$error":"#VALUE!"},{"$error":"#VALUE!"},{"$error":"#VALUE!"},{"$error":"#VALUE!"},{"$error":"#VALUE!"},{"$error":"#VALUE!"},{"$error":"#VALUE!"},{"$error":"#VALUE!"},{"$error":"#VALUE!"},{"$error":"#VALUE!"},{"$error":"#VALUE!"},{"$error":"#VALUE!"},{"$error":"#VALUE!"},{"$error":"#VALUE!"},{"$error":"#VALUE!"},{"$error":"#VALUE!"},{"$error":"#VALUE!"},{"$error":"#VALUE!"},{"$error":"#VALUE!"},{"$error":"#VALUE!"},{"$error":"#VALUE!"},{"$error":"#VALUE!"},{"$error":"#VALUE!"},{"$error":"#VALUE!"},{"$error":"#VALUE!"},{"$error":"#VALUE!"},{"$error":"#VALUE!"},{"$error":"#VALUE!"},{"$error":"#VALUE!"},{"$error":"#VALUE!"},{"$error":"#VALUE!"},{"$error":"#VALUE!"},{"$error":"#VALUE!"},{"$error":"#VALUE!"},{"$error":"#VALUE!"},{"$error":"#VALUE!"},{"$error":"#VALUE!"},{"$error":"#VALUE!"},{"$error":"#VALUE!"},{"$error":"#VALUE!"},{"$error":"#VALUE!"},{"$error":"#VALUE!"},{"$error":"#VALUE!"},{"$error":"#VALUE!"},{"$error":"#VALUE!"},{"$error":"#VALUE!"},{"$error":"#VALUE!"},{"$error":"#VALUE!"},{"$error":"#VALUE!"},{"$error":"#VALUE!"},{"$error":"#VALUE!"},{"$error":"#VALUE!"},{"$error":"#VALUE!"},{"$error":"#VALUE!"},{"$error":"#VALUE!"},{"$error":"#VALUE!"},{"$error":"#VALUE!"},{"$error":"#VALUE!"},{"$error":"#VALUE!"},{"$error":"#VALUE!"},{"$error":"#VALUE!"},{"$error":"#VALUE!"},{"$error":"#VALUE!"},{"$error":"#VALUE!"},{"$error":"#VALUE!"},{"$error":"#VALUE!"},{"$error":"#VALUE!"},{"$error":"#VALUE!"},{"$error":"#VALUE!"},{"$error":"#VALUE!"},{"$error":"#VALUE!"},{"$error":"#VALUE!"},{"$error":"#VALUE!"},{"$error":"#VALUE!"},{"$error":"#VALUE!"},{"$error":"#VALUE!"},{"$error":"#VALUE!"},{"$error":"#VALUE!"},{"$error":"#VALUE!"},{"$error":"#VALUE!"},{"$error":"#VALUE!"},{"$error":"#VALUE!"},{"$error":"#VALUE!"},{"$error":"#VALUE!"},{"$error":"#VALUE!"},{"$error":"#VALUE!"},{"$error":"#VALUE!"},{"$error":"#VALUE!"},{"$error":"#VALUE!"},{"$error":"#VALUE!"},{"$error":"#VALUE!"},{"$error":"#VALUE!"},{"$error":"#VALUE!"},{"$error":"#VALUE!"},{"$error":"#VALUE!"},{"$error":"#VALUE!"},{"$error":"#VALUE!"},{"$error":"#VALUE!"},{"$error":"#VALUE!"},{"$error":"#VALUE!"},{"$error":"#VALUE!"},{"$error":"#VALUE!"},{"$error":"#VALUE!"},{"$error":"#VALUE!"},{"$error":"#VALUE!"},{"$error":"#VALUE!"},{"$error":"#VALUE!"},{"$error":"#VALUE!"},{"$error":"#VALUE!"},{"$error":"#VALUE!"},{"$error":"#VALUE!"},{"$error":"#VALUE!"},{"$error":"#VALUE!"},{"$error":"#VALUE!"},{"$error":"#VALUE!"},{"$error":"#VALUE!"},{"$error":"#VALUE!"},{"$error":"#VALUE!"},{"$error":"#VALUE!"},{"$error":"#VALUE!"},{"$error":"#VALUE!"},{"$error":"#VALUE!"},{"$error":"#VALUE!"},{"$error":"#VALUE!"},{"$error":"#VALUE!"},{"$error":"#VALUE!"},{"$error":"#VALUE!"},{"$error":"#VALUE!"},{"$error":"#VALUE!"},{"$error":"#VALUE!"},{"$error":"#VALUE!"},{"$error":"#VALUE!"},{"$error":"#VALUE!"},{"$error":"#VALUE!"},{"$error":"#VALUE!"},{"$error":"#VALUE!"},{"$error":"#VALUE!"},{"$error":"#VALUE!"},{"$error":"#VALUE!"},{"$error":"#VALUE!"},{"$error":"#VALUE!"},{"$error":"#VALUE!"},{"$error":"#VALUE!"},{"$error":"#VALUE!"},{"$error":"#VALUE!"},{"$error":"#VALUE!"},{"$error":"#VALUE!"},{"$error":"#VALUE!"},{"$error":"#VALUE!"},{"$error":"#VALUE!"},{"$error":"#VALUE!"},{"$error":"#VALUE!"},{"$error":"#VALUE!"},{"$error":"#VALUE!"},{"$error":"#VALUE!"},{"$error":"#VALUE!"},{"$error":"#VALUE!"},{"$error":"#VALUE!"},{"$error":"#VALUE!"},{"$error":"#VALUE!"},{"$error":"#VALUE!"},{"$error":"#VALUE!"},{"$error":"#VALUE!"},{"$error":"#VALUE!"},{"$error":"#VALUE!"},{"$error":"#VALUE!"},{"$error":"#VALUE!"},{"$error":"#VALUE!"},{"$error":"#VALUE!"},{"$error":"#VALUE!"},{"$error":"#VALUE!"},{"$error":"#VALUE!"},{"$error":"#VALUE!"},{"$error":"#VALUE!"},{"$error":"#VALUE!"},{"$error":"#VALUE!"},{"$error":"#VALUE!"},{"$error":"#VALUE!"},{"$error":"#VALUE!"},{"$error":"#VALUE!"},{"$error":"#VALUE!"},{"$error":"#VALUE!"},{"$error":"#VALUE!"},{"$error":"#VALUE!"},{"$error":"#VALUE!"},{"$error":"#VALUE!"},{"$error":"#VALUE!"},{"$error":"#VALUE!"},{"$error":"#VALUE!"}]
[{"$f":"'FEA___(MPG-2)'!A53","v":""},null,{"$f":"'FEA___(MPG-2)'!D53","v":""},null,{"$f":"'FEA___(MPG-4)'!F53","v":""},{"$f":"'FEA___(MPG-4)'!H53","v":""},{"$f":"'FEA___(MPG-4)'!G53","v":""},{"$f":"IF('FEA___(MPG-2)'!$B53,IFERROR(G53-($G53-$M53)/6,\"N/A\"),\"\")","v":""},{"$f":"IF('FEA___(MPG-2)'!$B53,IFERROR(H53-($G53-$M53)/6,\"N/A\"),\"\")","v":""},{"$f":"IF('FEA___(MPG-2)'!$B53,IFERROR(I53-($G53-$M53)/6,\"N/A\"),\"\")","v":""},{"$f":"IF('FEA___(MPG-2)'!$B53,IFERROR(J53-($G53-$M53)/6,\"N/A\"),\"\")","v":""},{"$f":"IF('FEA___(MPG-2)'!$B53,IFERROR(K53-($G53-$M53)/6,\"N/A\"),\"\")","v":""},{"$f":"IF('FEA___(MPG-2)'!$B53,$M$12,\"\")","v":""},{"$f":"IF('FEA___(MPG-2)'!$B53,IFERROR(IRR(P53:HH53),\"N/A\"),\"\")","v":""},null,{"$error":"#VALUE!"},{"$error":"#VALUE!"},{"$f":"Q53*(1+$G53)","v":{"$error":"#VALUE!"}},{"$error":"#VALUE!"},{"$error":"#VALUE!"},{"$error":"#VALUE!"},{"$error":"#VALUE!"},{"$error":"#VALUE!"},{"$error":"#VALUE!"},{"$error":"#VALUE!"},{"$error":"#VALUE!"},{"$error":"#VALUE!"},{"$error":"#VALUE!"},{"$error":"#VALUE!"},{"$error":"#VALUE!"},{"$error":"#VALUE!"},{"$error":"#VALUE!"},{"$error":"#VALUE!"},{"$error":"#VALUE!"},{"$error":"#VALUE!"},{"$error":"#VALUE!"},{"$error":"#VALUE!"},{"$error":"#VALUE!"},{"$error":"#VALUE!"},{"$error":"#VALUE!"},{"$error":"#VALUE!"},{"$error":"#VALUE!"},{"$error":"#VALUE!"},{"$error":"#VALUE!"},{"$error":"#VALUE!"},{"$error":"#VALUE!"},{"$error":"#VALUE!"},{"$error":"#VALUE!"},{"$error":"#VALUE!"},{"$error":"#VALUE!"},{"$error":"#VALUE!"},{"$error":"#VALUE!"},{"$error":"#VALUE!"},{"$error":"#VALUE!"},{"$error":"#VALUE!"},{"$error":"#VALUE!"},{"$error":"#VALUE!"},{"$error":"#VALUE!"},{"$error":"#VALUE!"},{"$error":"#VALUE!"},{"$error":"#VALUE!"},{"$error":"#VALUE!"},{"$error":"#VALUE!"},{"$error":"#VALUE!"},{"$error":"#VALUE!"},{"$error":"#VALUE!"},{"$error":"#VALUE!"},{"$error":"#VALUE!"},{"$error":"#VALUE!"},{"$error":"#VALUE!"},{"$error":"#VALUE!"},{"$error":"#VALUE!"},{"$error":"#VALUE!"},{"$error":"#VALUE!"},{"$error":"#VALUE!"},{"$error":"#VALUE!"},{"$error":"#VALUE!"},{"$error":"#VALUE!"},{"$error":"#VALUE!"},{"$error":"#VALUE!"},{"$error":"#VALUE!"},{"$error":"#VALUE!"},{"$error":"#VALUE!"},{"$error":"#VALUE!"},{"$error":"#VALUE!"},{"$error":"#VALUE!"},{"$error":"#VALUE!"},{"$error":"#VALUE!"},{"$error":"#VALUE!"},{"$error":"#VALUE!"},{"$error":"#VALUE!"},{"$error":"#VALUE!"},{"$error":"#VALUE!"},{"$error":"#VALUE!"},{"$error":"#VALUE!"},{"$error":"#VALUE!"},{"$error":"#VALUE!"},{"$error":"#VALUE!"},{"$error":"#VALUE!"},{"$error":"#VALUE!"},{"$error":"#VALUE!"},{"$error":"#VALUE!"},{"$error":"#VALUE!"},{"$error":"#VALUE!"},{"$error":"#VALUE!"},{"$error":"#VALUE!"},{"$error":"#VALUE!"},{"$error":"#VALUE!"},{"$error":"#VALUE!"},{"$error":"#VALUE!"},{"$error":"#VALUE!"},{"$error":"#VALUE!"},{"$error":"#VALUE!"},{"$error":"#VALUE!"},{"$error":"#VALUE!"},{"$error":"#VALUE!"},{"$error":"#VALUE!"},{"$error":"#VALUE!"},{"$error":"#VALUE!"},{"$error":"#VALUE!"},{"$error":"#VALUE!"},{"$error":"#VALUE!"},{"$error":"#VALUE!"},{"$error":"#VALUE!"},{"$error":"#VALUE!"},{"$error":"#VALUE!"},{"$error":"#VALUE!"},{"$error":"#VALUE!"},{"$error":"#VALUE!"},{"$error":"#VALUE!"},{"$error":"#VALUE!"},{"$error":"#VALUE!"},{"$error":"#VALUE!"},{"$error":"#VALUE!"},{"$error":"#VALUE!"},{"$error":"#VALUE!"},{"$error":"#VALUE!"},{"$error":"#VALUE!"},{"$error":"#VALUE!"},{"$error":"#VALUE!"},{"$error":"#VALUE!"},{"$error":"#VALUE!"},{"$error":"#VALUE!"},{"$error":"#VALUE!"},{"$error":"#VALUE!"},{"$error":"#VALUE!"},{"$error":"#VALUE!"},{"$error":"#VALUE!"},{"$error":"#VALUE!"},{"$error":"#VALUE!"},{"$error":"#VALUE!"},{"$error":"#VALUE!"},{"$error":"#VALUE!"},{"$error":"#VALUE!"},{"$error":"#VALUE!"},{"$error":"#VALUE!"},{"$error":"#VALUE!"},{"$error":"#VALUE!"},{"$error":"#VALUE!"},{"$error":"#VALUE!"},{"$error":"#VALUE!"},{"$error":"#VALUE!"},{"$error":"#VALUE!"},{"$error":"#VALUE!"},{"$error":"#VALUE!"},{"$error":"#VALUE!"},{"$error":"#VALUE!"},{"$error":"#VALUE!"},{"$error":"#VALUE!"},{"$error":"#VALUE!"},{"$error":"#VALUE!"},{"$error":"#VALUE!"},{"$error":"#VALUE!"},{"$error":"#VALUE!"},{"$error":"#VALUE!"},{"$error":"#VALUE!"},{"$error":"#VALUE!"},{"$error":"#VALUE!"},{"$error":"#VALUE!"},{"$error":"#VALUE!"},{"$error":"#VALUE!"},{"$error":"#VALUE!"},{"$error":"#VALUE!"},{"$error":"#VALUE!"},{"$error":"#VALUE!"},{"$error":"#VALUE!"},{"$error":"#VALUE!"},{"$error":"#VALUE!"},{"$error":"#VALUE!"},{"$error":"#VALUE!"},{"$error":"#VALUE!"},{"$error":"#VALUE!"},{"$error":"#VALUE!"},{"$error":"#VALUE!"},{"$error":"#VALUE!"},{"$error":"#VALUE!"},{"$error":"#VALUE!"},{"$error":"#VALUE!"},{"$error":"#VALUE!"},{"$error":"#VALUE!"},{"$error":"#VALUE!"},{"$error":"#VALUE!"},{"$error":"#VALUE!"},{"$error":"#VALUE!"},{"$error":"#VALUE!"},{"$error":"#VALUE!"},{"$error":"#VALUE!"},{"$error":"#VALUE!"},{"$error":"#VALUE!"},{"$error":"#VALUE!"},{"$error":"#VALUE!"},{"$error":"#VALUE!"},{"$error":"#VALUE!"},{"$error":"#VALUE!"},{"$error":"#VALUE!"},{"$error":"#VALUE!"}]
[{"$f":"'FEA___(MPG-2)'!A54","v":""},null,{"$f":"'FEA___(MPG-2)'!D54","v":""},null,{"$f":"'FEA___(MPG-4)'!F54","v":""},{"$f":"'FEA___(MPG-4)'!H54","v":""},{"$f":"'FEA___(MPG-4)'!G54","v":""},{"$f":"IF('FEA___(MPG-2)'!$B54,IFERROR(G54-($G54-$M54)/6,\"N/A\"),\"\")","v":""},{"$f":"IF('FEA___(MPG-2)'!$B54,IFERROR(H54-($G54-$M54)/6,\"N/A\"),\"\")","v":""},{"$f":"IF('FEA___(MPG-2)'!$B54,IFERROR(I54-($G54-$M54)/6,\"N/A\"),\"\")","v":""},{"$f":"IF('FEA___(MPG-2)'!$B54,IFERROR(J54-($G54-$M54)/6,\"N/A\"),\"\")","v":""},{"$f":"IF('FEA___(MPG-2)'!$B54,IFERROR(K54-($G54-$M54)/6,\"N/A\"),\"\")","v":""},{"$f":"IF('FEA___(MPG-2)'!$B54,$M$12,\"\")","v":""},{"$f":"IF('FEA___(MPG-2)'!$B54,IFERROR(IRR(P54:HH54),\"N/A\"),\"\")","v":""},null,{"$error":"#VALUE!"},{"$error":"#VALUE!"},{"$f":"Q54*(1+$G54)","v":{"$error":"#VALUE!"}},{"$error":"#VALUE!"},{"$error":"#VALUE!"},{"$error":"#VALUE!"},{"$error":"#VALUE!"},{"$error":"#VALUE!"},{"$error":"#VALUE!"},{"$error":"#VALUE!"},{"$error":"#VALUE!"},{"$error":"#VALUE!"},{"$error":"#VALUE!"},{"$error":"#VALUE!"},{"$error":"#VALUE!"},{"$error":"#VALUE!"},{"$error":"#VALUE!"},{"$error":"#VALUE!"},{"$error":"#VALUE!"},{"$error":"#VALUE!"},{"$error":"#VALUE!"},{"$error":"#VALUE!"},{"$error":"#VALUE!"},{"$error":"#VALUE!"},{"$error":"#VALUE!"},{"$error":"#VALUE!"},{"$error":"#VALUE!"},{"$error":"#VALUE!"},{"$error":"#VALUE!"},{"$error":"#VALUE!"},{"$error":"#VALUE!"},{"$error":"#VALUE!"},{"$error":"#VALUE!"},{"$error":"#VALUE!"},{"$error":"#VALUE!"},{"$error":"#VALUE!"},{"$error":"#VALUE!"},{"$error":"#VALUE!"},{"$error":"#VALUE!"},{"$error":"#VALUE!"},{"$error":"#VALUE!"},{"$error":"#VALUE!"},{"$error":"#VALUE!"},{"$error":"#VALUE!"},{"$error":"#VALUE!"},{"$error":"#VALUE!"},{"$error":"#VALUE!"},{"$error":"#VALUE!"},{"$error":"#VALUE!"},{"$error":"#VALUE!"},{"$error":"#VALUE!"},{"$error":"#VALUE!"},{"$error":"#VALUE!"},{"$error":"#VALUE!"},{"$error":"#VALUE!"},{"$error":"#VALUE!"},{"$error":"#VALUE!"},{"$error":"#VALUE!"},{"$error":"#VALUE!"},{"$error":"#VALUE!"},{"$error":"#VALUE!"},{"$error":"#VALUE!"},{"$error":"#VALUE!"},{"$error":"#VALUE!"},{"$error":"#VALUE!"},{"$error":"#VALUE!"},{"$error":"#VALUE!"},{"$error":"#VALUE!"},{"$error":"#VALUE!"},{"$error":"#VALUE!"},{"$error":"#VALUE!"},{"$error":"#VALUE!"},{"$error":"#VALUE!"},{"$error":"#VALUE!"},{"$error":"#VALUE!"},{"$error":"#VALUE!"},{"$error":"#VALUE!"},{"$error":"#VALUE!"},{"$error":"#VALUE!"},{"$error":"#VALUE!"},{"$error":"#VALUE!"},{"$error":"#VALUE!"},{"$error":"#VALUE!"},{"$error":"#VALUE!"},{"$error":"#VALUE!"},{"$error":"#VALUE!"},{"$error":"#VALUE!"},{"$error":"#VALUE!"},{"$error":"#VALUE!"},{"$error":"#VALUE!"},{"$error":"#VALUE!"},{"$error":"#VALUE!"},{"$error":"#VALUE!"},{"$error":"#VALUE!"},{"$error":"#VALUE!"},{"$error":"#VALUE!"},{"$error":"#VALUE!"},{"$error":"#VALUE!"},{"$error":"#VALUE!"},{"$error":"#VALUE!"},{"$error":"#VALUE!"},{"$error":"#VALUE!"},{"$error":"#VALUE!"},{"$error":"#VALUE!"},{"$error":"#VALUE!"},{"$error":"#VALUE!"},{"$error":"#VALUE!"},{"$error":"#VALUE!"},{"$error":"#VALUE!"},{"$error":"#VALUE!"},{"$error":"#VALUE!"},{"$error":"#VALUE!"},{"$error":"#VALUE!"},{"$error":"#VALUE!"},{"$error":"#VALUE!"},{"$error":"#VALUE!"},{"$error":"#VALUE!"},{"$error":"#VALUE!"},{"$error":"#VALUE!"},{"$error":"#VALUE!"},{"$error":"#VALUE!"},{"$error":"#VALUE!"},{"$error":"#VALUE!"},{"$error":"#VALUE!"},{"$error":"#VALUE!"},{"$error":"#VALUE!"},{"$error":"#VALUE!"},{"$error":"#VALUE!"},{"$error":"#VALUE!"},{"$error":"#VALUE!"},{"$error":"#VALUE!"},{"$error":"#VALUE!"},{"$error":"#VALUE!"},{"$error":"#VALUE!"},{"$error":"#VALUE!"},{"$error":"#VALUE!"},{"$error":"#VALUE!"},{"$error":"#VALUE!"},{"$error":"#VALUE!"},{"$error":"#VALUE!"},{"$error":"#VALUE!"},{"$error":"#VALUE!"},{"$error":"#VALUE!"},{"$error":"#VALUE!"},{"$error":"#VALUE!"},{"$error":"#VALUE!"},{"$error":"#VALUE!"},{"$error":"#VALUE!"},{"$error":"#VALUE!"},{"$error":"#VALUE!"},{"$error":"#VALUE!"},{"$error":"#VALUE!"},{"$error":"#VALUE!"},{"$error":"#VALUE!"},{"$error":"#VALUE!"},{"$error":"#VALUE!"},{"$error":"#VALUE!"},{"$error":"#VALUE!"},{"$error":"#VALUE!"},{"$error":"#VALUE!"},{"$error":"#VALUE!"},{"$error":"#VALUE!"},{"$error":"#VALUE!"},{"$error":"#VALUE!"},{"$error":"#VALUE!"},{"$error":"#VALUE!"},{"$error":"#VALUE!"},{"$error":"#VALUE!"},{"$error":"#VALUE!"},{"$error":"#VALUE!"},{"$error":"#VALUE!"},{"$error":"#VALUE!"},{"$error":"#VALUE!"},{"$error":"#VALUE!"},{"$error":"#VALUE!"},{"$error":"#VALUE!"},{"$error":"#VALUE!"},{"$error":"#VALUE!"},{"$error":"#VALUE!"},{"$error":"#VALUE!"},{"$error":"#VALUE!"},{"$error":"#VALUE!"},{"$error":"#VALUE!"},{"$error":"#VALUE!"},{"$error":"#VALUE!"},{"$error":"#VALUE!"},{"$error":"#VALUE!"},{"$error":"#VALUE!"},{"$error":"#VALUE!"},{"$error":"#VALUE!"},{"$error":"#VALUE!"},{"$error":"#VALUE!"},{"$error":"#VALUE!"},{"$error":"#VALUE!"},{"$error":"#VALUE!"},{"$error":"#VALUE!"},{"$error":"#VALUE!"},{"$error":"#VALUE!"},{"$error":"#VALUE!"},{"$error":"#VALUE!"},{"$error":"#VALUE!"}]
[{"$f":"'FEA___(MPG-2)'!A55","v":""},null,{"$f":"'FEA___(MPG-2)'!D55","v":""},null,{"$f":"'FEA___(MPG-4)'!F55","v":""},{"$f":"'FEA___(MPG-4)'!H55","v":""},{"$f":"'FEA___(MPG-4)'!G55","v":""},{"$f":"IF('FEA___(MPG-2)'!$B55,IFERROR(G55-($G55-$M55)/6,\"N/A\"),\"\")","v":""},{"$f":"IF('FEA___(MPG-2)'!$B55,IFERROR(H55-($G55-$M55)/6,\"N/A\"),\"\")","v":""},{"$f":"IF('FEA___(MPG-2)'!$B55,IFERROR(I55-($G55-$M55)/6,\"N/A\"),\"\")","v":""},{"$f":"IF('FEA___(MPG-2)'!$B55,IFERROR(J55-($G55-$M55)/6,\"N/A\"),\"\")","v":""},{"$f":"IF('FEA___(MPG-2)'!$B55,IFERROR(K55-($G55-$M55)/6,\"N/A\"),\"\")","v":""},{"$f":"IF('FEA___(MPG-2)'!$B55,$M$12,\"\")","v":""},{"$f":"IF('FEA___(MPG-2)'!$B55,IFERROR(IRR(P55:HH55),\"N/A\"),\"\")","v":""},null,{"$error":"#VALUE!"},{"$error":"#VALUE!"},{"$f":"Q55*(1+$G55)","v":{"$error":"#VALUE!"}},{"$error":"#VALUE!"},{"$error":"#VALUE!"},{"$error":"#VALUE!"},{"$error":"#VALUE!"},{"$error":"#VALUE!"},{"$error":"#VALUE!"},{"$error":"#VALUE!"},{"$error":"#VALUE!"},{"$error":"#VALUE!"},{"$error":"#VALUE!"},{"$error":"#VALUE!"},{"$error":"#VALUE!"},{"$error":"#VALUE!"},{"$error":"#VALUE!"},{"$error":"#VALUE!"},{"$error":"#VALUE!"},{"$error":"#VALUE!"},{"$error":"#VALUE!"},{"$error":"#VALUE!"},{"$error":"#VALUE!"},{"$error":"#VALUE!"},{"$error":"#VALUE!"},{"$error":"#VALUE!"},{"$error":"#VALUE!"},{"$error":"#VALUE!"},{"$error":"#VALUE!"},{"$error":"#VALUE!"},{"$error":"#VALUE!"},{"$error":"#VALUE!"},{"$error":"#VALUE!"},{"$error":"#VALUE!"},{"$error":"#VALUE!"},{"$error":"#VALUE!"},{"$error":"#VALUE!"},{"$error":"#VALUE!"},{"$error":"#VALUE!"},{"$error":"#VALUE!"},{"$error":"#VALUE!"},{"$error":"#VALUE!"},{"$error":"#VALUE!"},{"$error":"#VALUE!"},{"$error":"#VALUE!"},{"$error":"#VALUE!"},{"$error":"#VALUE!"},{"$error":"#VALUE!"},{"$error":"#VALUE!"},{"$error":"#VALUE!"},{"$error":"#VALUE!"},{"$error":"#VALUE!"},{"$error":"#VALUE!"},{"$error":"#VALUE!"},{"$error":"#VALUE!"},{"$error":"#VALUE!"},{"$error":"#VALUE!"},{"$error":"#VALUE!"},{"$error":"#VALUE!"},{"$error":"#VALUE!"},{"$error":"#VALUE!"},{"$error":"#VALUE!"},{"$error":"#VALUE!"},{"$error":"#VALUE!"},{"$error":"#VALUE!"},{"$error":"#VALUE!"},{"$error":"#VALUE!"},{"$error":"#VALUE!"},{"$error":"#VALUE!"},{"$error":"#VALUE!"},{"$error":"#VALUE!"},{"$error":"#VALUE!"},{"$error":"#VALUE!"},{"$error":"#VALUE!"},{"$error":"#VALUE!"},{"$error":"#VALUE!"},{"$error":"#VALUE!"},{"$error":"#VALUE!"},{"$error":"#VALUE!"},{"$error":"#VALUE!"},{"$error":"#VALUE!"},{"$error":"#VALUE!"},{"$error":"#VALUE!"},{"$error":"#VALUE!"},{"$error":"#VALUE!"},{"$error":"#VALUE!"},{"$error":"#VALUE!"},{"$error":"#VALUE!"},{"$error":"#VALUE!"},{"$error":"#VALUE!"},{"$error":"#VALUE!"},{"$error":"#VALUE!"},{"$error":"#VALUE!"},{"$error":"#VALUE!"},{"$error":"#VALUE!"},{"$error":"#VALUE!"},{"$error":"#VALUE!"},{"$error":"#VALUE!"},{"$error":"#VALUE!"},{"$error":"#VALUE!"},{"$error":"#VALUE!"},{"$error":"#VALUE!"},{"$error":"#VALUE!"},{"$error":"#VALUE!"},{"$error":"#VALUE!"},{"$error":"#VALUE!"},{"$error":"#VALUE!"},{"$error":"#VALUE!"},{"$error":"#VALUE!"},{"$error":"#VALUE!"},{"$error":"#VALUE!"},{"$error":"#VALUE!"},{"$error":"#VALUE!"},{"$error":"#VALUE!"},{"$error":"#VALUE!"},{"$error":"#VALUE!"},{"$error":"#VALUE!"},{"$error":"#VALUE!"},{"$error":"#VALUE!"},{"$error":"#VALUE!"},{"$error":"#VALUE!"},{"$error":"#VALUE!"},{"$error":"#VALUE!"},{"$error":"#VALUE!"},{"$error":"#VALUE!"},{"$error":"#VALUE!"},{"$error":"#VALUE!"},{"$error":"#VALUE!"},{"$error":"#VALUE!"},{"$error":"#VALUE!"},{"$error":"#VALUE!"},{"$error":"#VALUE!"},{"$error":"#VALUE!"},{"$error":"#VALUE!"},{"$error":"#VALUE!"},{"$error":"#VALUE!"},{"$error":"#VALUE!"},{"$error":"#VALUE!"},{"$error":"#VALUE!"},{"$error":"#VALUE!"},{"$error":"#VALUE!"},{"$error":"#VALUE!"},{"$error":"#VALUE!"},{"$error":"#VALUE!"},{"$error":"#VALUE!"},{"$error":"#VALUE!"},{"$error":"#VALUE!"},{"$error":"#VALUE!"},{"$error":"#VALUE!"},{"$error":"#VALUE!"},{"$error":"#VALUE!"},{"$error":"#VALUE!"},{"$error":"#VALUE!"},{"$error":"#VALUE!"},{"$error":"#VALUE!"},{"$error":"#VALUE!"},{"$error":"#VALUE!"},{"$error":"#VALUE!"},{"$error":"#VALUE!"},{"$error":"#VALUE!"},{"$error":"#VALUE!"},{"$error":"#VALUE!"},{"$error":"#VALUE!"},{"$error":"#VALUE!"},{"$error":"#VALUE!"},{"$error":"#VALUE!"},{"$error":"#VALUE!"},{"$error":"#VALUE!"},{"$error":"#VALUE!"},{"$error":"#VALUE!"},{"$error":"#VALUE!"},{"$error":"#VALUE!"},{"$error":"#VALUE!"},{"$error":"#VALUE!"},{"$error":"#VALUE!"},{"$error":"#VALUE!"},{"$error":"#VALUE!"},{"$error":"#VALUE!"},{"$error":"#VALUE!"},{"$error":"#VALUE!"},{"$error":"#VALUE!"},{"$error":"#VALUE!"},{"$error":"#VALUE!"},{"$error":"#VALUE!"},{"$error":"#VALUE!"},{"$error":"#VALUE!"},{"$error":"#VALUE!"},{"$error":"#VALUE!"},{"$error":"#VALUE!"},{"$error":"#VALUE!"},{"$error":"#VALUE!"},{"$error":"#VALUE!"},{"$error":"#VALUE!"},{"$error":"#VALUE!"},{"$error":"#VALUE!"},{"$error":"#VALUE!"},{"$error":"#VALUE!"},{"$error":"#VALUE!"},{"$error":"#VALUE!"},{"$error":"#VALUE!"},{"$error":"#VALUE!"}]
[{"$f":"'FEA___(MPG-2)'!A56","v":""},null,{"$f":"'FEA___(MPG-2)'!D56","v":""},null,{"$f":"'FEA___(MPG-4)'!F56","v":""},{"$f":"'FEA___(MPG-4)'!H56","v":""},{"$f":"'FEA___(MPG-4)'!G56","v":""},{"$f":"IF('FEA___(MPG-2)'!$B56,IFERROR(G56-($G56-$M56)/6,\"N/A\"),\"\")","v":""},{"$f":"IF('FEA___(MPG-2)'!$B56,IFERROR(H56-($G56-$M56)/6,\"N/A\"),\"\")","v":""},{"$f":"IF('FEA___(MPG-2)'!$B56,IFERROR(I56-($G56-$M56)/6,\"N/A\"),\"\")","v":""},{"$f":"IF('FEA___(MPG-2)'!$B56,IFERROR(J56-($G56-$M56)/6,\"N/A\"),\"\")","v":""},{"$f":"IF('FEA___(MPG-2)'!$B56,IFERROR(K56-($G56-$M56)/6,\"N/A\"),\"\")","v":""},{"$f":"IF('FEA___(MPG-2)'!$B56,$M$12,\"\")","v":""},{"$f":"IF('FEA___(MPG-2)'!$B56,IFERROR(IRR(P56:HH56),\"N/A\"),\"\")","v":""},null,{"$error":"#VALUE!"},{"$error":"#VALUE!"},{"$f":"Q56*(1+$G56)","v":{"$error":"#VALUE!"}},{"$error":"#VALUE!"},{"$error":"#VALUE!"},{"$error":"#VALUE!"},{"$error":"#VALUE!"},{"$error":"#VALUE!"},{"$error":"#VALUE!"},{"$error":"#VALUE!"},{"$error":"#VALUE!"},{"$error":"#VALUE!"},{"$error":"#VALUE!"},{"$error":"#VALUE!"},{"$error":"#VALUE!"},{"$error":"#VALUE!"},{"$error":"#VALUE!"},{"$error":"#VALUE!"},{"$error":"#VALUE!"},{"$error":"#VALUE!"},{"$error":"#VALUE!"},{"$error":"#VALUE!"},{"$error":"#VALUE!"},{"$error":"#VALUE!"},{"$error":"#VALUE!"},{"$error":"#VALUE!"},{"$error":"#VALUE!"},{"$error":"#VALUE!"},{"$error":"#VALUE!"},{"$error":"#VALUE!"},{"$error":"#VALUE!"},{"$error":"#VALUE!"},{"$error":"#VALUE!"},{"$error":"#VALUE!"},{"$error":"#VALUE!"},{"$error":"#VALUE!"},{"$error":"#VALUE!"},{"$error":"#VALUE!"},{"$error":"#VALUE!"},{"$error":"#VALUE!"},{"$error":"#VALUE!"},{"$error":"#VALUE!"},{"$error":"#VALUE!"},{"$error":"#VALUE!"},{"$error":"#VALUE!"},{"$error":"#VALUE!"},{"$error":"#VALUE!"},{"$error":"#VALUE!"},{"$error":"#VALUE!"},{"$error":"#VALUE!"},{"$error":"#VALUE!"},{"$error":"#VALUE!"},{"$error":"#VALUE!"},{"$error":"#VALUE!"},{"$error":"#VALUE!"},{"$error":"#VALUE!"},{"$error":"#VALUE!"},{"$error":"#VALUE!"},{"$error":"#VALUE!"},{"$error":"#VALUE!"},{"$error":"#VALUE!"},{"$error":"#VALUE!"},{"$error":"#VALUE!"},{"$error":"#VALUE!"},{"$error":"#VALUE!"},{"$error":"#VALUE!"},{"$error":"#VALUE!"},{"$error":"#VALUE!"},{"$error":"#VALUE!"},{"$error":"#VALUE!"},{"$error":"#VALUE!"},{"$error":"#VALUE!"},{"$error":"#VALUE!"},{"$error":"#VALUE!"},{"$error":"#VALUE!"},{"$error":"#VALUE!"},{"$error":"#VALUE!"},{"$error":"#VALUE!"},{"$error":"#VALUE!"},{"$error":"#VALUE!"},{"$error":"#VALUE!"},{"$error":"#VALUE!"},{"$error":"#VALUE!"},{"$error":"#VALUE!"},{"$error":"#VALUE!"},{"$error":"#VALUE!"},{"$error":"#VALUE!"},{"$error":"#VALUE!"},{"$error":"#VALUE!"},{"$error":"#VALUE!"},{"$error":"#VALUE!"},{"$error":"#VALUE!"},{"$error":"#VALUE!"},{"$error":"#VALUE!"},{"$error":"#VALUE!"},{"$error":"#VALUE!"},{"$error":"#VALUE!"},{"$error":"#VALUE!"},{"$error":"#VALUE!"},{"$error":"#VALUE!"},{"$error":"#VALUE!"},{"$error":"#VALUE!"},{"$error":"#VALUE!"},{"$error":"#VALUE!"},{"$error":"#VALUE!"},{"$error":"#VALUE!"},{"$error":"#VALUE!"},{"$error":"#VALUE!"},{"$error":"#VALUE!"},{"$error":"#VALUE!"},{"$error":"#VALUE!"},{"$error":"#VALUE!"},{"$error":"#VALUE!"},{"$error":"#VALUE!"},{"$error":"#VALUE!"},{"$error":"#VALUE!"},{"$error":"#VALUE!"},{"$error":"#VALUE!"},{"$error":"#VALUE!"},{"$error":"#VALUE!"},{"$error":"#VALUE!"},{"$error":"#VALUE!"},{"$error":"#VALUE!"},{"$error":"#VALUE!"},{"$error":"#VALUE!"},{"$error":"#VALUE!"},{"$error":"#VALUE!"},{"$error":"#VALUE!"},{"$error":"#VALUE!"},{"$error":"#VALUE!"},{"$error":"#VALUE!"},{"$error":"#VALUE!"},{"$error":"#VALUE!"},{"$error":"#VALUE!"},{"$error":"#VALUE!"},{"$error":"#VALUE!"},{"$error":"#VALUE!"},{"$error":"#VALUE!"},{"$error":"#VALUE!"},{"$error":"#VALUE!"},{"$error":"#VALUE!"},{"$error":"#VALUE!"},{"$error":"#VALUE!"},{"$error":"#VALUE!"},{"$error":"#VALUE!"},{"$error":"#VALUE!"},{"$error":"#VALUE!"},{"$error":"#VALUE!"},{"$error":"#VALUE!"},{"$error":"#VALUE!"},{"$error":"#VALUE!"},{"$error":"#VALUE!"},{"$error":"#VALUE!"},{"$error":"#VALUE!"},{"$error":"#VALUE!"},{"$error":"#VALUE!"},{"$error":"#VALUE!"},{"$error":"#VALUE!"},{"$error":"#VALUE!"},{"$error":"#VALUE!"},{"$error":"#VALUE!"},{"$error":"#VALUE!"},{"$error":"#VALUE!"},{"$error":"#VALUE!"},{"$error":"#VALUE!"},{"$error":"#VALUE!"},{"$error":"#VALUE!"},{"$error":"#VALUE!"},{"$error":"#VALUE!"},{"$error":"#VALUE!"},{"$error":"#VALUE!"},{"$error":"#VALUE!"},{"$error":"#VALUE!"},{"$error":"#VALUE!"},{"$error":"#VALUE!"},{"$error":"#VALUE!"},{"$error":"#VALUE!"},{"$error":"#VALUE!"},{"$error":"#VALUE!"},{"$error":"#VALUE!"},{"$error":"#VALUE!"},{"$error":"#VALUE!"},{"$error":"#VALUE!"},{"$error":"#VALUE!"},{"$error":"#VALUE!"},{"$error":"#VALUE!"},{"$error":"#VALUE!"},{"$error":"#VALUE!"},{"$error":"#VALUE!"},{"$error":"#VALUE!"},{"$error":"#VALUE!"},{"$error":"#VALUE!"},{"$error":"#VALUE!"},{"$error":"#VALUE!"},{"$error":"#VALUE!"},{"$error":"#VALUE!"},{"$error":"#VALUE!"},{"$error":"#VALUE!"},{"$error":"#VALUE!"},{"$error":"#VALUE!"},{"$error":"#VALUE!"}]
[{"$f":"'FEA___(MPG-2)'!A57","v":""},null,{"$f":"'FEA___(MPG-2)'!D57","v":""},null,{"$f":"'FEA___(MPG-4)'!F57","v":""},{"$f":"'FEA___(MPG-4)'!H57","v":""},{"$f":"'FEA___(MPG-4)'!G57","v":""},{"$f":"IF('FEA___(MPG-2)'!$B57,IFERROR(G57-($G57-$M57)/6,\"N/A\"),\"\")","v":""},{"$f":"IF('FEA___(MPG-2)'!$B57,IFERROR(H57-($G57-$M57)/6,\"N/A\"),\"\")","v":""},{"$f":"IF('FEA___(MPG-2)'!$B57,IFERROR(I57-($G57-$M57)/6,\"N/A\"),\"\")","v":""},{"$f":"IF('FEA___(MPG-2)'!$B57,IFERROR(J57-($G57-$M57)/6,\"N/A\"),\"\")","v":""},{"$f":"IF('FEA___(MPG-2)'!$B57,IFERROR(K57-($G57-$M57)/6,\"N/A\"),\"\")","v":""},{"$f":"IF('FEA___(MPG-2)'!$B57,$M$12,\"\")","v":""},{"$f":"IF('FEA___(MPG-2)'!$B57,IFERROR(IRR(P57:HH57),\"N/A\"),\"\")","v":""},null,{"$error":"#VALUE!"},{"$error":"#VALUE!"},{"$f":"Q57*(1+$G57)","v":{"$error":"#VALUE!"}},{"$error":"#VALUE!"},{"$error":"#VALUE!"},{"$error":"#VALUE!"},{"$error":"#VALUE!"},{"$error":"#VALUE!"},{"$error":"#VALUE!"},{"$error":"#VALUE!"},{"$error":"#VALUE!"},{"$error":"#VALUE!"},{"$error":"#VALUE!"},{"$error":"#VALUE!"},{"$error":"#VALUE!"},{"$error":"#VALUE!"},{"$error":"#VALUE!"},{"$error":"#VALUE!"},{"$error":"#VALUE!"},{"$error":"#VALUE!"},{"$error":"#VALUE!"},{"$error":"#VALUE!"},{"$error":"#VALUE!"},{"$error":"#VALUE!"},{"$error":"#VALUE!"},{"$error":"#VALUE!"},{"$error":"#VALUE!"},{"$error":"#VALUE!"},{"$error":"#VALUE!"},{"$error":"#VALUE!"},{"$error":"#VALUE!"},{"$error":"#VALUE!"},{"$error":"#VALUE!"},{"$error":"#VALUE!"},{"$error":"#VALUE!"},{"$error":"#VALUE!"},{"$error":"#VALUE!"},{"$error":"#VALUE!"},{"$error":"#VALUE!"},{"$error":"#VALUE!"},{"$error":"#VALUE!"},{"$error":"#VALUE!"},{"$error":"#VALUE!"},{"$error":"#VALUE!"},{"$error":"#VALUE!"},{"$error":"#VALUE!"},{"$error":"#VALUE!"},{"$error":"#VALUE!"},{"$error":"#VALUE!"},{"$error":"#VALUE!"},{"$error":"#VALUE!"},{"$error":"#VALUE!"},{"$error":"#VALUE!"},{"$error":"#VALUE!"},{"$error":"#VALUE!"},{"$error":"#VALUE!"},{"$error":"#VALUE!"},{"$error":"#VALUE!"},{"$error":"#VALUE!"},{"$error":"#VALUE!"},{"$error":"#VALUE!"},{"$error":"#VALUE!"},{"$error":"#VALUE!"},{"$error":"#VALUE!"},{"$error":"#VALUE!"},{"$error":"#VALUE!"},{"$error":"#VALUE!"},{"$error":"#VALUE!"},{"$error":"#VALUE!"},{"$error":"#VALUE!"},{"$error":"#VALUE!"},{"$error":"#VALUE!"},{"$error":"#VALUE!"},{"$error":"#VALUE!"},{"$error":"#VALUE!"},{"$error":"#VALUE!"},{"$error":"#VALUE!"},{"$error":"#VALUE!"},{"$error":"#VALUE!"},{"$error":"#VALUE!"},{"$error":"#VALUE!"},{"$error":"#VALUE!"},{"$error":"#VALUE!"},{"$error":"#VALUE!"},{"$error":"#VALUE!"},{"$error":"#VALUE!"},{"$error":"#VALUE!"},{"$error":"#VALUE!"},{"$error":"#VALUE!"},{"$error":"#VALUE!"},{"$error":"#VALUE!"},{"$error":"#VALUE!"},{"$error":"#VALUE!"},{"$error":"#VALUE!"},{"$error":"#VALUE!"},{"$error":"#VALUE!"},{"$error":"#VALUE!"},{"$error":"#VALUE!"},{"$error":"#VALUE!"},{"$error":"#VALUE!"},{"$error":"#VALUE!"},{"$error":"#VALUE!"},{"$error":"#VALUE!"},{"$error":"#VALUE!"},{"$error":"#VALUE!"},{"$error":"#VALUE!"},{"$error":"#VALUE!"},{"$error":"#VALUE!"},{"$error":"#VALUE!"},{"$error":"#VALUE!"},{"$error":"#VALUE!"},{"$error":"#VALUE!"},{"$error":"#VALUE!"},{"$error":"#VALUE!"},{"$error":"#VALUE!"},{"$error":"#VALUE!"},{"$error":"#VALUE!"},{"$error":"#VALUE!"},{"$error":"#VALUE!"},{"$error":"#VALUE!"},{"$error":"#VALUE!"},{"$error":"#VALUE!"},{"$error":"#VALUE!"},{"$error":"#VALUE!"},{"$error":"#VALUE!"},{"$error":"#VALUE!"},{"$error":"#VALUE!"},{"$error":"#VALUE!"},{"$error":"#VALUE!"},{"$error":"#VALUE!"},{"$error":"#VALUE!"},{"$error":"#VALUE!"},{"$error":"#VALUE!"},{"$error":"#VALUE!"},{"$error":"#VALUE!"},{"$error":"#VALUE!"},{"$error":"#VALUE!"},{"$error":"#VALUE!"},{"$error":"#VALUE!"},{"$error":"#VALUE!"},{"$error":"#VALUE!"},{"$error":"#VALUE!"},{"$error":"#VALUE!"},{"$error":"#VALUE!"},{"$error":"#VALUE!"},{"$error":"#VALUE!"},{"$error":"#VALUE!"},{"$error":"#VALUE!"},{"$error":"#VALUE!"},{"$error":"#VALUE!"},{"$error":"#VALUE!"},{"$error":"#VALUE!"},{"$error":"#VALUE!"},{"$error":"#VALUE!"},{"$error":"#VALUE!"},{"$error":"#VALUE!"},{"$error":"#VALUE!"},{"$error":"#VALUE!"},{"$error":"#VALUE!"},{"$error":"#VALUE!"},{"$error":"#VALUE!"},{"$error":"#VALUE!"},{"$error":"#VALUE!"},{"$error":"#VALUE!"},{"$error":"#VALUE!"},{"$error":"#VALUE!"},{"$error":"#VALUE!"},{"$error":"#VALUE!"},{"$error":"#VALUE!"},{"$error":"#VALUE!"},{"$error":"#VALUE!"},{"$error":"#VALUE!"},{"$error":"#VALUE!"},{"$error":"#VALUE!"},{"$error":"#VALUE!"},{"$error":"#VALUE!"},{"$error":"#VALUE!"},{"$error":"#VALUE!"},{"$error":"#VALUE!"},{"$error":"#VALUE!"},{"$error":"#VALUE!"},{"$error":"#VALUE!"},{"$error":"#VALUE!"},{"$error":"#VALUE!"},{"$error":"#VALUE!"},{"$error":"#VALUE!"},{"$error":"#VALUE!"},{"$error":"#VALUE!"},{"$error":"#VALUE!"},{"$error":"#VALUE!"},{"$error":"#VALUE!"},{"$error":"#VALUE!"},{"$error":"#VALUE!"},{"$error":"#VALUE!"},{"$error":"#VALUE!"},{"$error":"#VALUE!"},{"$error":"#VALUE!"},{"$error":"#VALUE!"},{"$error":"#VALUE!"},{"$error":"#VALUE!"},{"$error":"#VALUE!"}]
[{"$f":"'FEA___(MPG-2)'!A58","v":""},null,{"$f":"'FEA___(MPG-2)'!D58","v":""},null,{"$f":"'FEA___(MPG-4)'!F58","v":""},{"$f":"'FEA___(MPG-4)'!H58","v":""},{"$f":"'FEA___(MPG-4)'!G58","v":""},{"$f":"IF('FEA___(MPG-2)'!$B58,IFERROR(G58-($G58-$M58)/6,\"N/A\"),\"\")","v":""},{"$f":"IF('FEA___(MPG-2)'!$B58,IFERROR(H58-($G58-$M58)/6,\"N/A\"),\"\")","v":""},{"$f":"IF('FEA___(MPG-2)'!$B58,IFERROR(I58-($G58-$M58)/6,\"N/A\"),\"\")","v":""},{"$f":"IF('FEA___(MPG-2)'!$B58,IFERROR(J58-($G58-$M58)/6,\"N/A\"),\"\")","v":""},{"$f":"IF('FEA___(MPG-2)'!$B58,IFERROR(K58-($G58-$M58)/6,\"N/A\"),\"\")","v":""},{"$f":"IF('FEA___(MPG-2)'!$B58,$M$12,\"\")","v":""},{"$f":"IF('FEA___(MPG-2)'!$B58,IFERROR(IRR(P58:HH58),\"N/A\"),\"\")","v":""},null,{"$error":"#VALUE!"},{"$error":"#VALUE!"},{"$f":"Q58*(1+$G58)","v":{"$error":"#VALUE!"}},{"$error":"#VALUE!"},{"$error":"#VALUE!"},{"$error":"#VALUE!"},{"$error":"#VALUE!"},{"$error":"#VALUE!"},{"$error":"#VALUE!"},{"$error":"#VALUE!"},{"$error":"#VALUE!"},{"$error":"#VALUE!"},{"$error":"#VALUE!"},{"$error":"#VALUE!"},{"$error":"#VALUE!"},{"$error":"#VALUE!"},{"$error":"#VALUE!"},{"$error":"#VALUE!"},{"$error":"#VALUE!"},{"$error":"#VALUE!"},{"$error":"#VALUE!"},{"$error":"#VALUE!"},{"$error":"#VALUE!"},{"$error":"#VALUE!"},{"$error":"#VALUE!"},{"$error":"#VALUE!"},{"$error":"#VALUE!"},{"$error":"#VALUE!"},{"$error":"#VALUE!"},{"$error":"#VALUE!"},{"$error":"#VALUE!"},{"$error":"#VALUE!"},{"$error":"#VALUE!"},{"$error":"#VALUE!"},{"$error":"#VALUE!"},{"$error":"#VALUE!"},{"$error":"#VALUE!"},{"$error":"#VALUE!"},{"$error":"#VALUE!"},{"$error":"#VALUE!"},{"$error":"#VALUE!"},{"$error":"#VALUE!"},{"$error":"#VALUE!"},{"$error":"#VALUE!"},{"$error":"#VALUE!"},{"$error":"#VALUE!"},{"$error":"#VALUE!"},{"$error":"#VALUE!"},{"$error":"#VALUE!"},{"$error":"#VALUE!"},{"$error":"#VALUE!"},{"$error":"#VALUE!"},{"$error":"#VALUE!"},{"$error":"#VALUE!"},{"$error":"#VALUE!"},{"$error":"#VALUE!"},{"$error":"#VALUE!"},{"$error":"#VALUE!"},{"$error":"#VALUE!"},{"$error":"#VALUE!"},{"$error":"#VALUE!"},{"$error":"#VALUE!"},{"$error":"#VALUE!"},{"$error":"#VALUE!"},{"$error":"#VALUE!"},{"$error":"#VALUE!"},{"$error":"#VALUE!"},{"$error":"#VALUE!"},{"$error":"#VALUE!"},{"$error":"#VALUE!"},{"$error":"#VALUE!"},{"$error":"#VALUE!"},{"$error":"#VALUE!"},{"$error":"#VALUE!"},{"$error":"#VALUE!"},{"$error":"#VALUE!"},{"$error":"#VALUE!"},{"$error":"#VALUE!"},{"$error":"#VALUE!"},{"$error":"#VALUE!"},{"$error":"#VALUE!"},{"$error":"#VALUE!"},{"$error":"#VALUE!"},{"$error":"#VALUE!"},{"$error":"#VALUE!"},{"$error":"#VALUE!"},{"$error":"#VALUE!"},{"$error":"#VALUE!"},{"$error":"#VALUE!"},{"$error":"#VALUE!"},{"$error":"#VALUE!"},{"$error":"#VALUE!"},{"$error":"#VALUE!"},{"$error":"#VALUE!"},{"$error":"#VALUE!"},{"$error":"#VALUE!"},{"$error":"#VALUE!"},{"$error":"#VALUE!"},{"$error":"#VALUE!"},{"$error":"#VALUE!"},{"$error":"#VALUE!"},{"$error":"#VALUE!"},{"$error":"#VALUE!"},{"$error":"#VALUE!"},{"$error":"#VALUE!"},{"$error":"#VALUE!"},{"$error":"#VALUE!"},{"$error":"#VALUE!"},{"$error":"#VALUE!"},{"$error":"#VALUE!"},{"$error":"#VALUE!"},{"$error":"#VALUE!"},{"$error":"#VALUE!"},{"$error":"#VALUE!"},{"$error":"#VALUE!"},{"$error":"#VALUE!"},{"$error":"#VALUE!"},{"$error":"#VALUE!"},{"$error":"#VALUE!"},{"$error":"#VALUE!"},{"$error":"#VALUE!"},{"$error":"#VALUE!"},{"$error":"#VALUE!"},{"$error":"#VALUE!"},{"$error":"#VALUE!"},{"$error":"#VALUE!"},{"$error":"#VALUE!"},{"$error":"#VALUE!"},{"$error":"#VALUE!"},{"$error":"#VALUE!"},{"$error":"#VALUE!"},{"$error":"#VALUE!"},{"$error":"#VALUE!"},{"$error":"#VALUE!"},{"$error":"#VALUE!"},{"$error":"#VALUE!"},{"$error":"#VALUE!"},{"$error":"#VALUE!"},{"$error":"#VALUE!"},{"$error":"#VALUE!"},{"$error":"#VALUE!"},{"$error":"#VALUE!"},{"$error":"#VALUE!"},{"$error":"#VALUE!"},{"$error":"#VALUE!"},{"$error":"#VALUE!"},{"$error":"#VALUE!"},{"$error":"#VALUE!"},{"$error":"#VALUE!"},{"$error":"#VALUE!"},{"$error":"#VALUE!"},{"$error":"#VALUE!"},{"$error":"#VALUE!"},{"$error":"#VALUE!"},{"$error":"#VALUE!"},{"$error":"#VALUE!"},{"$error":"#VALUE!"},{"$error":"#VALUE!"},{"$error":"#VALUE!"},{"$error":"#VALUE!"},{"$error":"#VALUE!"},{"$error":"#VALUE!"},{"$error":"#VALUE!"},{"$error":"#VALUE!"},{"$error":"#VALUE!"},{"$error":"#VALUE!"},{"$error":"#VALUE!"},{"$error":"#VALUE!"},{"$error":"#VALUE!"},{"$error":"#VALUE!"},{"$error":"#VALUE!"},{"$error":"#VALUE!"},{"$error":"#VALUE!"},{"$error":"#VALUE!"},{"$error":"#VALUE!"},{"$error":"#VALUE!"},{"$error":"#VALUE!"},{"$error":"#VALUE!"},{"$error":"#VALUE!"},{"$error":"#VALUE!"},{"$error":"#VALUE!"},{"$error":"#VALUE!"},{"$error":"#VALUE!"},{"$error":"#VALUE!"},{"$error":"#VALUE!"},{"$error":"#VALUE!"},{"$error":"#VALUE!"},{"$error":"#VALUE!"},{"$error":"#VALUE!"},{"$error":"#VALUE!"},{"$error":"#VALUE!"},{"$error":"#VALUE!"},{"$error":"#VALUE!"},{"$error":"#VALUE!"},{"$error":"#VALUE!"},{"$error":"#VALUE!"},{"$error":"#VALUE!"},{"$error":"#VALUE!"},{"$error":"#VALUE!"},{"$error":"#VALUE!"},{"$error":"#VALUE!"}]
[{"$f":"'FEA___(MPG-2)'!A59","v":""},null,{"$f":"'FEA___(MPG-2)'!D59","v":""},null,{"$f":"'FEA___(MPG-4)'!F59","v":""},{"$f":"'FEA___(MPG-4)'!H59","v":""},{"$f":"'FEA___(MPG-4)'!G59","v":""},{"$f":"IF('FEA___(MPG-2)'!$B59,IFERROR(G59-($G59-$M59)/6,\"N/A\"),\"\")","v":""},{"$f":"IF('FEA___(MPG-2)'!$B59,IFERROR(H59-($G59-$M59)/6,\"N/A\"),\"\")","v":""},{"$f":"IF('FEA___(MPG-2)'!$B59,IFERROR(I59-($G59-$M59)/6,\"N/A\"),\"\")","v":""},{"$f":"IF('FEA___(MPG-2)'!$B59,IFERROR(J59-($G59-$M59)/6,\"N/A\"),\"\")","v":""},{"$f":"IF('FEA___(MPG-2)'!$B59,IFERROR(K59-($G59-$M59)/6,\"N/A\"),\"\")","v":""},{"$f":"IF('FEA___(MPG-2)'!$B59,$M$12,\"\")","v":""},{"$f":"IF('FEA___(MPG-2)'!$B59,IFERROR(IRR(P59:HH59),\"N/A\"),\"\")","v":""},null,{"$error":"#VALUE!"},{"$error":"#VALUE!"},{"$f":"Q59*(1+$G59)","v":{"$error":"#VALUE!"}},{"$error":"#VALUE!"},{"$error":"#VALUE!"},{"$error":"#VALUE!"},{"$error":"#VALUE!"},{"$error":"#VALUE!"},{"$error":"#VALUE!"},{"$error":"#VALUE!"},{"$error":"#VALUE!"},{"$error":"#VALUE!"},{"$error":"#VALUE!"},{"$error":"#VALUE!"},{"$error":"#VALUE!"},{"$error":"#VALUE!"},{"$error":"#VALUE!"},{"$error":"#VALUE!"},{"$error":"#VALUE!"},{"$error":"#VALUE!"},{"$error":"#VALUE!"},{"$error":"#VALUE!"},{"$error":"#VALUE!"},{"$error":"#VALUE!"},{"$error":"#VALUE!"},{"$error":"#VALUE!"},{"$error":"#VALUE!"},{"$error":"#VALUE!"},{"$error":"#VALUE!"},{"$error":"#VALUE!"},{"$error":"#VALUE!"},{"$error":"#VALUE!"},{"$error":"#VALUE!"},{"$error":"#VALUE!"},{"$error":"#VALUE!"},{"$error":"#VALUE!"},{"$error":"#VALUE!"},{"$error":"#VALUE!"},{"$error":"#VALUE!"},{"$error":"#VALUE!"},{"$error":"#VALUE!"},{"$error":"#VALUE!"},{"$error":"#VALUE!"},{"$error":"#VALUE!"},{"$error":"#VALUE!"},{"$error":"#VALUE!"},{"$error":"#VALUE!"},{"$error":"#VALUE!"},{"$error":"#VALUE!"},{"$error":"#VALUE!"},{"$error":"#VALUE!"},{"$error":"#VALUE!"},{"$error":"#VALUE!"},{"$error":"#VALUE!"},{"$error":"#VALUE!"},{"$error":"#VALUE!"},{"$error":"#VALUE!"},{"$error":"#VALUE!"},{"$error":"#VALUE!"},{"$error":"#VALUE!"},{"$error":"#VALUE!"},{"$error":"#VALUE!"},{"$error":"#VALUE!"},{"$error":"#VALUE!"},{"$error":"#VALUE!"},{"$error":"#VALUE!"},{"$error":"#VALUE!"},{"$error":"#VALUE!"},{"$error":"#VALUE!"},{"$error":"#VALUE!"},{"$error":"#VALUE!"},{"$error":"#VALUE!"},{"$error":"#VALUE!"},{"$error":"#VALUE!"},{"$error":"#VALUE!"},{"$error":"#VALUE!"},{"$error":"#VALUE!"},{"$error":"#VALUE!"},{"$error":"#VALUE!"},{"$error":"#VALUE!"},{"$error":"#VALUE!"},{"$error":"#VALUE!"},{"$error":"#VALUE!"},{"$error":"#VALUE!"},{"$error":"#VALUE!"},{"$error":"#VALUE!"},{"$error":"#VALUE!"},{"$error":"#VALUE!"},{"$error":"#VALUE!"},{"$error":"#VALUE!"},{"$error":"#VALUE!"},{"$error":"#VALUE!"},{"$error":"#VALUE!"},{"$error":"#VALUE!"},{"$error":"#VALUE!"},{"$error":"#VALUE!"},{"$error":"#VALUE!"},{"$error":"#VALUE!"},{"$error":"#VALUE!"},{"$error":"#VALUE!"},{"$error":"#VALUE!"},{"$error":"#VALUE!"},{"$error":"#VALUE!"},{"$error":"#VALUE!"},{"$error":"#VALUE!"},{"$error":"#VALUE!"},{"$error":"#VALUE!"},{"$error":"#VALUE!"},{"$error":"#VALUE!"},{"$error":"#VALUE!"},{"$error":"#VALUE!"},{"$error":"#VALUE!"},{"$error":"#VALUE!"},{"$error":"#VALUE!"},{"$error":"#VALUE!"},{"$error":"#VALUE!"},{"$error":"#VALUE!"},{"$error":"#VALUE!"},{"$error":"#VALUE!"},{"$error":"#VALUE!"},{"$error":"#VALUE!"},{"$error":"#VALUE!"},{"$error":"#VALUE!"},{"$error":"#VALUE!"},{"$error":"#VALUE!"},{"$error":"#VALUE!"},{"$error":"#VALUE!"},{"$error":"#VALUE!"},{"$error":"#VALUE!"},{"$error":"#VALUE!"},{"$error":"#VALUE!"},{"$error":"#VALUE!"},{"$error":"#VALUE!"},{"$error":"#VALUE!"},{"$error":"#VALUE!"},{"$error":"#VALUE!"},{"$error":"#VALUE!"},{"$error":"#VALUE!"},{"$error":"#VALUE!"},{"$error":"#VALUE!"},{"$error":"#VALUE!"},{"$error":"#VALUE!"},{"$error":"#VALUE!"},{"$error":"#VALUE!"},{"$error":"#VALUE!"},{"$error":"#VALUE!"},{"$error":"#VALUE!"},{"$error":"#VALUE!"},{"$error":"#VALUE!"},{"$error":"#VALUE!"},{"$error":"#VALUE!"},{"$error":"#VALUE!"},{"$error":"#VALUE!"},{"$error":"#VALUE!"},{"$error":"#VALUE!"},{"$error":"#VALUE!"},{"$error":"#VALUE!"},{"$error":"#VALUE!"},{"$error":"#VALUE!"},{"$error":"#VALUE!"},{"$error":"#VALUE!"},{"$error":"#VALUE!"},{"$error":"#VALUE!"},{"$error":"#VALUE!"},{"$error":"#VALUE!"},{"$error":"#VALUE!"},{"$error":"#VALUE!"},{"$error":"#VALUE!"},{"$error":"#VALUE!"},{"$error":"#VALUE!"},{"$error":"#VALUE!"},{"$error":"#VALUE!"},{"$error":"#VALUE!"},{"$error":"#VALUE!"},{"$error":"#VALUE!"},{"$error":"#VALUE!"},{"$error":"#VALUE!"},{"$error":"#VALUE!"},{"$error":"#VALUE!"},{"$error":"#VALUE!"},{"$error":"#VALUE!"},{"$error":"#VALUE!"},{"$error":"#VALUE!"},{"$error":"#VALUE!"},{"$error":"#VALUE!"},{"$error":"#VALUE!"},{"$error":"#VALUE!"},{"$error":"#VALUE!"},{"$error":"#VALUE!"},{"$error":"#VALUE!"},{"$error":"#VALUE!"},{"$error":"#VALUE!"},{"$error":"#VALUE!"},{"$error":"#VALUE!"},{"$error":"#VALUE!"},{"$error":"#VALUE!"},{"$error":"#VALUE!"},{"$error":"#VALUE!"},{"$error":"#VALUE!"},{"$error":"#VALUE!"},{"$error":"#VALUE!"}]
[{"$f":"'FEA___(MPG-2)'!A60","v":""},null,{"$f":"'FEA___(MPG-2)'!D60","v":""},null,{"$f":"'FEA___(MPG-4)'!F60","v":""},{"$f":"'FEA___(MPG-4)'!H60","v":""},{"$f":"'FEA___(MPG-4)'!G60","v":""},{"$f":"IF('FEA___(MPG-2)'!$B60,IFERROR(G60-($G60-$M60)/6,\"N/A\"),\"\")","v":""},{"$f":"IF('FEA___(MPG-2)'!$B60,IFERROR(H60-($G60-$M60)/6,\"N/A\"),\"\")","v":""},{"$f":"IF('FEA___(MPG-2)'!$B60,IFERROR(I60-($G60-$M60)/6,\"N/A\"),\"\")","v":""},{"$f":"IF('FEA___(MPG-2)'!$B60,IFERROR(J60-($G60-$M60)/6,\"N/A\"),\"\")","v":""},{"$f":"IF('FEA___(MPG-2)'!$B60,IFERROR(K60-($G60-$M60)/6,\"N/A\"),\"\")","v":""},{"$f":"IF('FEA___(MPG-2)'!$B60,$M$12,\"\")","v":""},{"$f":"IF('FEA___(MPG-2)'!$B60,IFERROR(IRR(P60:HH60),\"N/A\"),\"\")","v":""},null,{"$error":"#VALUE!"},{"$error":"#VALUE!"},{"$f":"Q60*(1+$G60)","v":{"$error":"#VALUE!"}},{"$error":"#VALUE!"},{"$error":"#VALUE!"},{"$error":"#VALUE!"},{"$error":"#VALUE!"},{"$error":"#VALUE!"},{"$error":"#VALUE!"},{"$error":"#VALUE!"},{"$error":"#VALUE!"},{"$error":"#VALUE!"},{"$error":"#VALUE!"},{"$error":"#VALUE!"},{"$error":"#VALUE!"},{"$error":"#VALUE!"},{"$error":"#VALUE!"},{"$error":"#VALUE!"},{"$error":"#VALUE!"},{"$error":"#VALUE!"},{"$error":"#VALUE!"},{"$error":"#VALUE!"},{"$error":"#VALUE!"},{"$error":"#VALUE!"},{"$error":"#VALUE!"},{"$error":"#VALUE!"},{"$error":"#VALUE!"},{"$error":"#VALUE!"},{"$error":"#VALUE!"},{"$error":"#VALUE!"},{"$error":"#VALUE!"},{"$error":"#VALUE!"},{"$error":"#VALUE!"},{"$error":"#VALUE!"},{"$error":"#VALUE!"},{"$error":"#VALUE!"},{"$error":"#VALUE!"},{"$error":"#VALUE!"},{"$error":"#VALUE!"},{"$error":"#VALUE!"},{"$error":"#VALUE!"},{"$error":"#VALUE!"},{"$error":"#VALUE!"},{"$error":"#VALUE!"},{"$error":"#VALUE!"},{"$error":"#VALUE!"},{"$error":"#VALUE!"},{"$error":"#VALUE!"},{"$error":"#VALUE!"},{"$error":"#VALUE!"},{"$error":"#VALUE!"},{"$error":"#VALUE!"},{"$error":"#VALUE!"},{"$error":"#VALUE!"},{"$error":"#VALUE!"},{"$error":"#VALUE!"},{"$error":"#VALUE!"},{"$error":"#VALUE!"},{"$error":"#VALUE!"},{"$error":"#VALUE!"},{"$error":"#VALUE!"},{"$error":"#VALUE!"},{"$error":"#VALUE!"},{"$error":"#VALUE!"},{"$error":"#VALUE!"},{"$error":"#VALUE!"},{"$error":"#VALUE!"},{"$error":"#VALUE!"},{"$error":"#VALUE!"},{"$error":"#VALUE!"},{"$error":"#VALUE!"},{"$error":"#VALUE!"},{"$error":"#VALUE!"},{"$error":"#VALUE!"},{"$error":"#VALUE!"},{"$error":"#VALUE!"},{"$error":"#VALUE!"},{"$error":"#VALUE!"},{"$error":"#VALUE!"},{"$error":"#VALUE!"},{"$error":"#VALUE!"},{"$error":"#VALUE!"},{"$error":"#VALUE!"},{"$error":"#VALUE!"},{"$error":"#VALUE!"},{"$error":"#VALUE!"},{"$error":"#VALUE!"},{"$error":"#VALUE!"},{"$error":"#VALUE!"},{"$error":"#VALUE!"},{"$error":"#VALUE!"},{"$error":"#VALUE!"},{"$error":"#VALUE!"},{"$error":"#VALUE!"},{"$error":"#VALUE!"},{"$error":"#VALUE!"},{"$error":"#VALUE!"},{"$error":"#VALUE!"},{"$error":"#VALUE!"},{"$error":"#VALUE!"},{"$error":"#VALUE!"},{"$error":"#VALUE!"},{"$error":"#VALUE!"},{"$error":"#VALUE!"},{"$error":"#VALUE!"},{"$error":"#VALUE!"},{"$error":"#VALUE!"},{"$error":"#VALUE!"},{"$error":"#VALUE!"},{"$error":"#VALUE!"},{"$error":"#VALUE!"},{"$error":"#VALUE!"},{"$error":"#VALUE!"},{"$error":"#VALUE!"},{"$error":"#VALUE!"},{"$error":"#VALUE!"},{"$error":"#VALUE!"},{"$error":"#VALUE!"},{"$error":"#VALUE!"},{"$error":"#VALUE!"},{"$error":"#VALUE!"},{"$error":"#VALUE!"},{"$error":"#VALUE!"},{"$error":"#VALUE!"},{"$error":"#VALUE!"},{"$error":"#VALUE!"},{"$error":"#VALUE!"},{"$error":"#VALUE!"},{"$error":"#VALUE!"},{"$error":"#VALUE!"},{"$error":"#VALUE!"},{"$error":"#VALUE!"},{"$error":"#VALUE!"},{"$error":"#VALUE!"},{"$error":"#VALUE!"},{"$error":"#VALUE!"},{"$error":"#VALUE!"},{"$error":"#VALUE!"},{"$error":"#VALUE!"},{"$error":"#VALUE!"},{"$error":"#VALUE!"},{"$error":"#VALUE!"},{"$error":"#VALUE!"},{"$error":"#VALUE!"},{"$error":"#VALUE!"},{"$error":"#VALUE!"},{"$error":"#VALUE!"},{"$error":"#VALUE!"},{"$error":"#VALUE!"},{"$error":"#VALUE!"},{"$error":"#VALUE!"},{"$error":"#VALUE!"},{"$error":"#VALUE!"},{"$error":"#VALUE!"},{"$error":"#VALUE!"},{"$error":"#VALUE!"},{"$error":"#VALUE!"},{"$error":"#VALUE!"},{"$error":"#VALUE!"},{"$error":"#VALUE!"},{"$error":"#VALUE!"},{"$error":"#VALUE!"},{"$error":"#VALUE!"},{"$error":"#VALUE!"},{"$error":"#VALUE!"},{"$error":"#VALUE!"},{"$error":"#VALUE!"},{"$error":"#VALUE!"},{"$error":"#VALUE!"},{"$error":"#VALUE!"},{"$error":"#VALUE!"},{"$error":"#VALUE!"},{"$error":"#VALUE!"},{"$error":"#VALUE!"},{"$error":"#VALUE!"},{"$error":"#VALUE!"},{"$error":"#VALUE!"},{"$error":"#VALUE!"},{"$error":"#VALUE!"},{"$error":"#VALUE!"},{"$error":"#VALUE!"},{"$error":"#VALUE!"},{"$error":"#VALUE!"},{"$error":"#VALUE!"},{"$error":"#VALUE!"},{"$error":"#VALUE!"},{"$error":"#VALUE!"},{"$error":"#VALUE!"},{"$error":"#VALUE!"},{"$error":"#VALUE!"},{"$error":"#VALUE!"},{"$error":"#VALUE!"},{"$error":"#VALUE!"},{"$error":"#VALUE!"},{"$error":"#VALUE!"},{"$error":"#VALUE!"},{"$error":"#VALUE!"},{"$error":"#VALUE!"},{"$error":"#VALUE!"},{"$error":"#VALUE!"},{"$error":"#VALUE!"}]
[{"$f":"'FEA___(MPG-2)'!A61","v":""},null,{"$f":"'FEA___(MPG-2)'!D61","v":""},null,{"$f":"'FEA___(MPG-4)'!F61","v":""},{"$f":"'FEA___(MPG-4)'!H61","v":""},{"$f":"'FEA___(MPG-4)'!G61","v":""},{"$f":"IF('FEA___(MPG-2)'!$B61,IFERROR(G61-($G61-$M61)/6,\"N/A\"),\"\")","v":""},{"$f":"IF('FEA___(MPG-2)'!$B61,IFERROR(H61-($G61-$M61)/6,\"N/A\"),\"\")","v":""},{"$f":"IF('FEA___(MPG-2)'!$B61,IFERROR(I61-($G61-$M61)/6,\"N/A\"),\"\")","v":""},{"$f":"IF('FEA___(MPG-2)'!$B61,IFERROR(J61-($G61-$M61)/6,\"N/A\"),\"\")","v":""},{"$f":"IF('FEA___(MPG-2)'!$B61,IFERROR(K61-($G61-$M61)/6,\"N/A\"),\"\")","v":""},{"$f":"IF('FEA___(MPG-2)'!$B61,$M$12,\"\")","v":""},{"$f":"IF('FEA___(MPG-2)'!$B61,IFERROR(IRR(P61:HH61),\"N/A\"),\"\")","v":""},null,{"$error":"#VALUE!"},{"$error":"#VALUE!"},{"$f":"Q61*(1+$G61)","v":{"$error":"#VALUE!"}},{"$error":"#VALUE!"},{"$error":"#VALUE!"},{"$error":"#VALUE!"},{"$error":"#VALUE!"},{"$error":"#VALUE!"},{"$error":"#VALUE!"},{"$error":"#VALUE!"},{"$error":"#VALUE!"},{"$error":"#VALUE!"},{"$error":"#VALUE!"},{"$error":"#VALUE!"},{"$error":"#VALUE!"},{"$error":"#VALUE!"},{"$error":"#VALUE!"},{"$error":"#VALUE!"},{"$error":"#VALUE!"},{"$error":"#VALUE!"},{"$error":"#VALUE!"},{"$error":"#VALUE!"},{"$error":"#VALUE!"},{"$error":"#VALUE!"},{"$error":"#VALUE!"},{"$error":"#VALUE!"},{"$error":"#VALUE!"},{"$error":"#VALUE!"},{"$error":"#VALUE!"},{"$error":"#VALUE!"},{"$error":"#VALUE!"},{"$error":"#VALUE!"},{"$error":"#VALUE!"},{"$error":"#VALUE!"},{"$error":"#VALUE!"},{"$error":"#VALUE!"},{"$error":"#VALUE!"},{"$error":"#VALUE!"},{"$error":"#VALUE!"},{"$error":"#VALUE!"},{"$error":"#VALUE!"},{"$error":"#VALUE!"},{"$error":"#VALUE!"},{"$error":"#VALUE!"},{"$error":"#VALUE!"},{"$error":"#VALUE!"},{"$error":"#VALUE!"},{"$error":"#VALUE!"},{"$error":"#VALUE!"},{"$error":"#VALUE!"},{"$error":"#VALUE!"},{"$error":"#VALUE!"},{"$error":"#VALUE!"},{"$error":"#VALUE!"},{"$error":"#VALUE!"},{"$error":"#VALUE!"},{"$error":"#VALUE!"},{"$error":"#VALUE!"},{"$error":"#VALUE!"},{"$error":"#VALUE!"},{"$error":"#VALUE!"},{"$error":"#VALUE!"},{"$error":"#VALUE!"},{"$error":"#VALUE!"},{"$error":"#VALUE!"},{"$error":"#VALUE!"},{"$error":"#VALUE!"},{"$error":"#VALUE!"},{"$error":"#VALUE!"},{"$error":"#VALUE!"},{"$error":"#VALUE!"},{"$error":"#VALUE!"},{"$error":"#VALUE!"},{"$error":"#VALUE!"},{"$error":"#VALUE!"},{"$error":"#VALUE!"},{"$error":"#VALUE!"},{"$error":"#VALUE!"},{"$error":"#VALUE!"},{"$error":"#VALUE!"},{"$error":"#VALUE!"},{"$error":"#VALUE!"},{"$error":"#VALUE!"},{"$error":"#VALUE!"},{"$error":"#VALUE!"},{"$error":"#VALUE!"},{"$error":"#VALUE!"},{"$error":"#VALUE!"},{"$error":"#VALUE!"},{"$error":"#VALUE!"},{"$error":"#VALUE!"},{"$error":"#VALUE!"},{"$error":"#VALUE!"},{"$error":"#VALUE!"},{"$error":"#VALUE!"},{"$error":"#VALUE!"},{"$error":"#VALUE!"},{"$error":"#VALUE!"},{"$error":"#VALUE!"},{"$error":"#VALUE!"},{"$error":"#VALUE!"},{"$error":"#VALUE!"},{"$error":"#VALUE!"},{"$error":"#VALUE!"},{"$error":"#VALUE!"},{"$error":"#VALUE!"},{"$error":"#VALUE!"},{"$error":"#VALUE!"},{"$error":"#VALUE!"},{"$error":"#VALUE!"},{"$error":"#VALUE!"},{"$error":"#VALUE!"},{"$error":"#VALUE!"},{"$error":"#VALUE!"},{"$error":"#VALUE!"},{"$error":"#VALUE!"},{"$error":"#VALUE!"},{"$error":"#VALUE!"},{"$error":"#VALUE!"},{"$error":"#VALUE!"},{"$error":"#VALUE!"},{"$error":"#VALUE!"},{"$error":"#VALUE!"},{"$error":"#VALUE!"},{"$error":"#VALUE!"},{"$error":"#VALUE!"},{"$error":"#VALUE!"},{"$error":"#VALUE!"},{"$error":"#VALUE!"},{"$error":"#VALUE!"},{"$error":"#VALUE!"},{"$error":"#VALUE!"},{"$error":"#VALUE!"},{"$error":"#VALUE!"},{"$error":"#VALUE!"},{"$error":"#VALUE!"},{"$error":"#VALUE!"},{"$error":"#VALUE!"},{"$error":"#VALUE!"},{"$error":"#VALUE!"},{"$error":"#VALUE!"},{"$error":"#VALUE!"},{"$error":"#VALUE!"},{"$error":"#VALUE!"},{"$error":"#VALUE!"},{"$error":"#VALUE!"},{"$error":"#VALUE!"},{"$error":"#VALUE!"},{"$error":"#VALUE!"},{"$error":"#VALUE!"},{"$error":"#VALUE!"},{"$error":"#VALUE!"},{"$error":"#VALUE!"},{"$error":"#VALUE!"},{"$error":"#VALUE!"},{"$error":"#VALUE!"},{"$error":"#VALUE!"},{"$error":"#VALUE!"},{"$error":"#VALUE!"},{"$error":"#VALUE!"},{"$error":"#VALUE!"},{"$error":"#VALUE!"},{"$error":"#VALUE!"},{"$error":"#VALUE!"},{"$error":"#VALUE!"},{"$error":"#VALUE!"},{"$error":"#VALUE!"},{"$error":"#VALUE!"},{"$error":"#VALUE!"},{"$error":"#VALUE!"},{"$error":"#VALUE!"},{"$error":"#VALUE!"},{"$error":"#VALUE!"},{"$error":"#VALUE!"},{"$error":"#VALUE!"},{"$error":"#VALUE!"},{"$error":"#VALUE!"},{"$error":"#VALUE!"},{"$error":"#VALUE!"},{"$error":"#VALUE!"},{"$error":"#VALUE!"},{"$error":"#VALUE!"},{"$error":"#VALUE!"},{"$error":"#VALUE!"},{"$error":"#VALUE!"},{"$error":"#VALUE!"},{"$error":"#VALUE!"},{"$error":"#VALUE!"},{"$error":"#VALUE!"},{"$error":"#VALUE!"},{"$error":"#VALUE!"},{"$error":"#VALUE!"},{"$error":"#VALUE!"},{"$error":"#VALUE!"},{"$error":"#VALUE!"},{"$error":"#VALUE!"},{"$error":"#VALUE!"},{"$error":"#VALUE!"},{"$error":"#VALUE!"},{"$error":"#VALUE!"},{"$error":"#VALUE!"}]
[]
[{"$f":"IF(C63=0,\"N/A\",MAX(A14:A62)+1)","v":14},null,"Average",null,{"$f":"AVERAGE(E12:E61)","v":51.623994082840234},1.8961538461538463,5.2669230769230774E-2,5.1724358974358967E-2,5.077948717948718E-2,4.9834615384615387E-2,4.8889743589743601E-2,4.7944871794871793E-2,4.7E-2,8.8255350938839544E-2]
[{"$f":"IF(C64=0,\"N/A\",MAX(A62:A63)+1)","v":15},null,"Median",null,null,null,null,null,null,null,null,null,null,{"$f":"MEDIAN(N12:N61)","v":8.9388569268067375E-2}]
[]
[]
[null,"Sources:"]
[null,{"$f":"+A68+1","v":1},{"$f":"+'FEA___(MPG-7)'!C68","v":"SNL Financial, Downloaded on March 31, 2014."}]
[null,{"$f":"+B68+1","v":2},"The Value Line Investment Survey, January 31, February 21, and March 21, 2014."]
[null,{"$f":"+B69+1","v":3},"Exhibit MPG-4."]
[null,4,"Blue Chip Economic Indicators, March 1, 2014 at 14."]

{"sheet":"FEA___(MPG-10)","index":10,"n_rows":44,"n_cols":6,"rows_kept":44,"cut":false,"hidden":false,"merged":[[0,0,0,4],[2,0,2,4],[0,5,0,17]]}
[{"$f":"'FEA___(MPG-2)'!A1","v":"Rocky Mountain Power"},null,null,null,null,{"$f":"+A1","v":"Rocky Mountain Power"}]
[]
["Market/Book Ratio"]
[]
[]
[]
[null,null,"Market","Book","Electric Utilities"]
["Line","Year","Price","Value","Market/Book"]
[null,null,"(1)","(2)","(3)"]
[]
[{"$f":"MAX(A7:A10)+1","v":1},1980,54.42,83.82,{"$f":"C11/D11","v":0.64924838940586982}]
[{"$f":"MAX(A8:A11)+1","v":2},1981,57.2,81.91,{"$f":"C12/D12","v":0.69832743254791851}]
[3,1982,70.260000000000005,82.77,0.84885828198622704]
[4,1983,72.03,82.9,0.86887816646562122]
[5,1984,80.16,85.08,0.94217207334273623]
[6,1985,94.98,87.76,1.0822698268003645]
[7,1986,113.66,90.35,1.2579966795794135]
[8,1987,94.24,90.12,1.045716822015091]
[9,1988,100.94,88.04,1.1465243071331213]
[10,1989,122.52,89.41,1.3703165194049882]
[11,1990,117.77,84.45,1.3945529899348725]
[12,1991,144.02000000000001,91.07,1.581420885033491]
[13,1992,141.06,93.68,1.5057643040136635]
[14,1993,146.69999999999999,92.42,1.5873187621726896]
[15,1994,115.5,93.8,1.2313432835820897]
[16,1995,142.9,93.71,1.524917298047167]
[17,1996,136,98.63,1.3788908040150056]
[18,1997,155.72999999999999,103.06,1.5110615175625848]
[19,1998,181.84,92.11,1.9741613288459452]
[20,1999,137.30000000000001,128.25,1.0705653021442496]
[21,2000,227.09,166.4,1.3647235576923076]
[22,2001,null,null,1.73]
[23,2002,null,null,1.35]
[24,2003,null,null,1.57]
[25,2004,null,null,1.63]
[26,2005,null,null,1.7,"Source:"]
[27,2006,null,null,2.06,"AUS Utility Reports, various dates."]
[28,2007,null,null,1.74]
[29,2008,null,null,1.18]
[30,2009,null,null,1.36]
[31,2010,null,null,1.4259999999999999]
[32,2011,null,null,1.498]
[33,2012,null,null,1.7150000000000001]
[34,2013,null,null,{"$f":"198.2/100","v":1.982}]

{"sheet":"FEA___(MPG-11)","index":11,"n_rows":53,"n_cols":13,"rows_kept":53,"cut":false,"hidden":false,"merged":[[0,0,0,7],[4,0,4,7],[42,2,42,3],[10,2,10,3]]}
[{"$f":"'FEA___(MPG-2)'!A1","v":"Rocky Mountain Power"}]
[]
[]
[]
["Equity Risk Premium - Treasury Bond"]
[]
[]
[]
[null,null,null,null,"Authorized",null,"Indicated "]
[null,null,null,null,"Electric","Treasury ","Risk "]
[null,"Line","Year",null,"Returns1","Bond Yield2","Premium"]
[null,null,null,null,"(1)","(2)","(3)"]
[]
[null,{"$f":"MAX(B10:B13)+1","v":1},1986,null,0.13930000000000001,{"$f":"+'Annual Yields (WP)'!B15","v":7.7983333333333349E-2},{"$f":"E14-F14","v":6.1316666666666658E-2},null,{"$f":"VLOOKUP(K14,$L$14:$M$41,2,)","v":3.8308333333333347E-2},null,1,{"$f":"RANK(G14,$G$14:$G$41,1)","v":23},{"$f":"G14","v":6.1316666666666658E-2}]
[null,{"$f":"MAX(B11:B14)+1","v":2},1987,null,0.12989999999999999,{"$f":"+'Annual Yields (WP)'!B16","v":8.5800000000000001E-2},4.4099999999999986E-2,null,{"$f":"VLOOKUP(K15,$L$14:$M$41,2,)","v":3.9699999999999999E-2},null,2,{"$f":"RANK(G15,$G$14:$G$41,1)","v":4},{"$f":"G15","v":4.4099999999999986E-2}]
[null,3,1988,null,0.12790000000000001,{"$f":"+'Annual Yields (WP)'!B17","v":8.9591666666666667E-2},3.8308333333333347E-2,null,4.0916666666666671E-2,null,3,1,3.8308333333333347E-2]
[null,4,1989,null,0.12970000000000001,{"$f":"+'Annual Yields (WP)'!B18","v":8.4491666666666687E-2},4.5208333333333323E-2,null,4.4099999999999986E-2,null,4,7,4.5208333333333323E-2]
[null,5,1990,null,0.127,{"$f":"+'Annual Yields (WP)'!B19","v":8.6083333333333331E-2},4.0916666666666671E-2,null,4.4141666666666676E-2,null,5,3,4.0916666666666671E-2]
[null,6,1991,null,0.1255,{"$f":"+'Annual Yields (WP)'!B20","v":8.1358333333333324E-2},4.4141666666666676E-2,null,4.4233333333333319E-2,null,6,5,4.4141666666666676E-2]
[null,7,1992,null,0.12089999999999999,{"$f":"+'Annual Yields (WP)'!B21","v":7.6666666666666675E-2},4.4233333333333319E-2,null,4.5208333333333323E-2,null,7,6,4.4233333333333319E-2]
[null,8,1993,null,0.11409999999999999,{"$f":"+'Annual Yields (WP)'!B22","v":6.5983333333333338E-2},4.8116666666666655E-2,null,4.6658333333333343E-2,null,8,11,4.8116666666666655E-2]
[null,9,1994,null,0.1134,{"$f":"+'Annual Yields (WP)'!B23","v":7.3700000000000002E-2},3.9699999999999999E-2,null,4.6891666666666651E-2,null,9,2,3.9699999999999999E-2]
[null,10,1995,null,0.11550000000000001,{"$f":"+'Annual Yields (WP)'!B24","v":6.8841666666666662E-2},4.6658333333333343E-2,null,4.7941666666666674E-2,null,10,8,4.6658333333333343E-2]
[null,11,1996,null,0.1139,{"$f":"+'Annual Yields (WP)'!B25","v":6.700833333333335E-2},4.6891666666666651E-2,null,4.8116666666666655E-2,null,11,9,4.6891666666666651E-2]
[null,12,1997,null,0.114,{"$f":"+'Annual Yields (WP)'!B26","v":6.605833333333333E-2},4.7941666666666674E-2,null,4.9041666666666685E-2,null,12,10,4.7941666666666674E-2]
[null,13,1998,null,0.1166,{"$f":"+'Annual Yields (WP)'!B27","v":5.5783333333333331E-2},6.0816666666666665E-2,null,5.3675E-2,null,13,21,6.0816666666666665E-2]
[null,14,1999,null,0.1077,{"$f":"+'Annual Yields (WP)'!B28","v":5.8658333333333319E-2},4.9041666666666685E-2,null,5.4875000000000007E-2,null,14,12,4.9041666666666685E-2]
[null,15,2000,null,0.1143,{"$f":"+'Annual Yields (WP)'!B29","v":5.9424999999999992E-2},5.4875000000000007E-2,null,5.5258333333333326E-2,null,15,14,5.4875000000000007E-2]
[null,16,2001,null,0.1109,{"$f":"+'Annual Yields (WP)'!B30","v":5.4933333333333334E-2},5.5966666666666665E-2,null,5.5966666666666665E-2,null,16,16,5.5966666666666665E-2]
[null,17,2002,null,0.1116,{"$f":"+'Annual Yields (WP)'!B31","v":5.4299999999999994E-2},5.7300000000000011E-2,null,5.7033333333333332E-2,null,17,18,5.7300000000000011E-2]
[null,18,2003,null,0.10970000000000001,{"$f":"+'Annual Yields (WP)'!B32","v":4.9575000000000008E-2},6.0124999999999998E-2,null,5.7300000000000011E-2,null,18,20,6.0124999999999998E-2]
[null,19,2004,null,0.1075,{"$f":"+'Annual Yields (WP)'!B33","v":5.0466666666666667E-2},5.7033333333333332E-2,null,5.8941666666666663E-2,null,19,17,5.7033333333333332E-2]
[null,20,2005,null,0.10539999999999999,{"$f":"+'Annual Yields (WP)'!B34","v":4.6458333333333331E-2},5.8941666666666663E-2,null,6.0124999999999998E-2,null,20,19,5.8941666666666663E-2]
[null,21,2006,null,0.1036,{"$f":"+'Annual Yields (WP)'!B35","v":4.9924999999999997E-2},5.3675E-2,null,6.0816666666666665E-2,null,21,13,5.3675E-2]
[null,22,2007,null,0.1036,{"$f":"+'Annual Yields (WP)'!B36","v":4.8341666666666672E-2},5.5258333333333326E-2,null,6.089166666666667E-2,null,22,15,5.5258333333333326E-2]
[null,23,2008,null,0.1046,{"$f":"+'Annual Yields (WP)'!B37","v":4.2791666666666665E-2},{"$f":"E36-F36","v":6.1808333333333333E-2},null,6.1316666666666658E-2,null,23,24,6.1808333333333333E-2]
[null,24,2009,null,0.1048,{"$f":"+'Annual Yields (WP)'!B38","v":4.0691666666666668E-2},6.4108333333333337E-2,null,6.1808333333333333E-2,null,24,27,6.4108333333333337E-2]
[null,25,2010,null,0.10340000000000001,{"$f":"+'Annual Yields (WP)'!B39","v":4.2508333333333335E-2},6.089166666666667E-2,null,6.3091666666666671E-2,null,25,22,6.089166666666667E-2]
[null,26,2011,null,0.1022,{"$f":"+'Annual Yields (WP)'!B40","v":3.9108333333333328E-2},6.3091666666666671E-2,null,6.3516666666666666E-2,null,26,25,6.3091666666666671E-2]
[null,27,2012,null,0.10009999999999999,{"$f":"+'Annual Yields (WP)'!B41","v":2.9208333333333329E-2},7.0891666666666658E-2,null,6.4108333333333337E-2,null,27,28,{"$f":"G40","v":7.0891666666666658E-2}]
[null,28,2013,null,9.8000000000000004E-2,{"$f":"+'Annual Yields (WP)'!B42","v":3.4483333333333331E-2},6.3516666666666666E-2,null,7.0891666666666658E-2,null,28,26,{"$f":"G41","v":6.3516666666666666E-2}]
[]
[null,{"$f":"MAX(B37:B42)+1","v":29},"Average",null,{"$f":"AVERAGE(E14:E41)","v":0.11339642857142858},{"$f":"AVERAGE(F14:F41)","v":6.0008035714285708E-2},5.3388392857142856E-2]
[]
[]
[]
[null,"Sources: "]
[null,"1 Regulatory Research Associates, Inc., Regulatory Focus, Jan. 85 - Dec. 06, "]
[null,"  and January 15, 2014, excluding the VA cases, which are subject to a"]
[null,"  200 basis point adjustment for certain generation assets. "]
[null,"2 St. Louis Federal Reserve: Economic Research, http://research.stlouisfed.org/."]
[null,"  The yields from 2002 to 2005 represent the 20-Year Treasury yields obtained "]
[null,"  from the Federal Reserve Bank. "]

{"sheet":"FEA___(MPG-12)","index":12,"n_rows":53,"n_cols":13,"rows_kept":53,"cut":false,"hidden":false,"merged":[[0,0,0,7],[4,0,4,7],[10,2,10,3],[42,2,42,3]]}
[{"$f":"'FEA___(MPG-2)'!A1","v":"Rocky Mountain Power"}]
[]
[]
[]
["Equity Risk Premium - Utility Bond"]
[]
[]
[]
[null,null,null,null,"Authorized","Average","Indicated "]
[null,null,null,null,"Electric","\"A\" Rated Utility","Risk "]
[null,"Line","Year",null,"Returns1","Bond Yield2","Premium"]
[null,null,null,null,"(1)","(2)","(3)"]
[]
[null,{"$f":"MAX(B10:B13)+1","v":1},1986,null,{"$f":"'FEA___(MPG-11)'!E14","v":0.13930000000000001},{"$f":"'MBR (WP)'!B14","v":9.5799999999999996E-2},{"$f":"E14-F14","v":4.3500000000000011E-2},null,{"$f":"VLOOKUP(K14,$L$14:$M$41,2,)","v":2.300000000000002E-2},null,1,{"$f":"RANK(G14,$G$14:$G$41,1)","v":19},{"$f":"G14","v":4.3500000000000011E-2}]
[null,{"$f":"MAX(B11:B14)+1","v":2},1987,null,{"$f":"'FEA___(MPG-11)'!E15","v":0.12989999999999999},{"$f":"'MBR (WP)'!B15","v":0.10100000000000001},{"$f":"E15-F15","v":2.8899999999999981E-2},null,{"$f":"VLOOKUP(K15,$L$14:$M$41,2,)","v":2.8400000000000009E-2},null,2,{"$f":"RANK(G15,$G$14:$G$41,1)","v":3},{"$f":"G15","v":2.8899999999999981E-2}]
[null,3,1988,null,{"$f":"'FEA___(MPG-11)'!E16","v":0.12790000000000001},{"$f":"'MBR (WP)'!B16","v":0.10489999999999999},2.300000000000002E-2,null,2.8899999999999981E-2,null,3,1,{"$f":"G16","v":2.300000000000002E-2}]
[null,4,1989,null,{"$f":"'FEA___(MPG-11)'!E17","v":0.12970000000000001},{"$f":"'MBR (WP)'!B17","v":9.7699999999999995E-2},3.2000000000000015E-2,null,3.0300000000000007E-2,null,4,8,3.2000000000000015E-2]
[null,5,1990,null,{"$f":"'FEA___(MPG-11)'!E18","v":0.127},{"$f":"'MBR (WP)'!B18","v":9.8599999999999993E-2},2.8400000000000009E-2,null,3.15E-2,null,5,2,2.8400000000000009E-2]
[null,6,1991,null,{"$f":"'FEA___(MPG-11)'!E19","v":0.1255},{"$f":"'MBR (WP)'!B19","v":9.3600000000000003E-2},3.1899999999999998E-2,null,3.1858333333333336E-2,null,6,7,3.1899999999999998E-2]
[null,7,1992,null,{"$f":"'FEA___(MPG-11)'!E20","v":0.12089999999999999},{"$f":"'MBR (WP)'!B20","v":8.6900000000000005E-2},3.3999999999999989E-2,null,3.1899999999999998E-2,null,7,10,3.3999999999999989E-2]
[null,8,1993,null,{"$f":"'FEA___(MPG-11)'!E21","v":0.11409999999999999},{"$f":"'MBR (WP)'!B21","v":7.5899999999999995E-2},3.8199999999999998E-2,null,3.2000000000000015E-2,null,8,15,3.8199999999999998E-2]
[null,9,1994,null,{"$f":"'FEA___(MPG-11)'!E22","v":0.1134},{"$f":"'MBR (WP)'!B22","v":8.3099999999999993E-2},3.0300000000000007E-2,null,3.3274999999999999E-2,null,9,4,3.0300000000000007E-2]
[null,10,1995,null,{"$f":"'FEA___(MPG-11)'!E23","v":0.11550000000000001},{"$f":"'MBR (WP)'!B23","v":7.8899999999999998E-2},3.6600000000000008E-2,null,3.3999999999999989E-2,null,10,12,3.6600000000000008E-2]
[null,11,1996,null,{"$f":"'FEA___(MPG-11)'!E24","v":0.1139},{"$f":"'MBR (WP)'!B24","v":7.7499999999999999E-2},3.6400000000000002E-2,null,3.6400000000000002E-2,null,11,11,{"$f":"G24","v":3.6400000000000002E-2}]
[null,12,1997,null,{"$f":"'FEA___(MPG-11)'!E25","v":0.114},{"$f":"'MBR (WP)'!B25","v":7.5999999999999998E-2},3.8000000000000006E-2,null,3.6600000000000008E-2,null,12,14,{"$f":"G25","v":3.8000000000000006E-2}]
[null,13,1998,null,{"$f":"'FEA___(MPG-11)'!E26","v":0.1166},{"$f":"'MBR (WP)'!B26","v":7.0400000000000004E-2},4.6199999999999991E-2,null,3.7875000000000006E-2,null,13,23,4.6199999999999991E-2]
[null,14,1999,null,{"$f":"'FEA___(MPG-11)'!E27","v":0.1077},{"$f":"'MBR (WP)'!B27","v":7.6200000000000004E-2},3.15E-2,null,3.8000000000000006E-2,null,14,5,3.15E-2]
[null,15,2000,null,{"$f":"'FEA___(MPG-11)'!E28","v":0.1143},{"$f":"'MBR (WP)'!B28","v":8.2441666666666663E-2},3.1858333333333336E-2,null,3.8199999999999998E-2,null,15,6,3.1858333333333336E-2]
[null,16,2001,null,{"$f":"'FEA___(MPG-11)'!E29","v":0.1109},{"$f":"'MBR (WP)'!B29","v":7.7625E-2},3.3274999999999999E-2,null,3.9316666666666666E-2,null,16,9,3.3274999999999999E-2]
[null,17,2002,null,{"$f":"'FEA___(MPG-11)'!E30","v":0.1116},{"$f":"'MBR (WP)'!B30","v":7.3724999999999999E-2},3.7875000000000006E-2,null,4.2866666666666664E-2,null,17,13,3.7875000000000006E-2]
[null,18,2003,null,{"$f":"'FEA___(MPG-11)'!E31","v":0.10970000000000001},{"$f":"'MBR (WP)'!B31","v":6.5808333333333344E-2},4.3891666666666662E-2,null,4.2916666666666672E-2,null,18,20,4.3891666666666662E-2]
[null,19,2004,null,{"$f":"'FEA___(MPG-11)'!E32","v":0.1075},{"$f":"'MBR (WP)'!B32","v":6.1600833333333334E-2},4.5899166666666665E-2,null,4.3500000000000011E-2,null,19,22,4.5899166666666665E-2]
[null,20,2005,null,{"$f":"'FEA___(MPG-11)'!E33","v":0.10539999999999999},{"$f":"'MBR (WP)'!B33","v":5.6491666666666662E-2},4.8908333333333331E-2,null,4.3891666666666662E-2,null,20,25,4.8908333333333331E-2]
[null,21,2006,null,{"$f":"'FEA___(MPG-11)'!E34","v":0.1036},{"$f":"'MBR (WP)'!B34","v":6.0683333333333325E-2},4.2916666666666672E-2,null,4.4432634972848807E-2,null,21,18,4.2916666666666672E-2]
[null,22,2007,null,{"$f":"'FEA___(MPG-11)'!E35","v":0.1036},{"$f":"'MBR (WP)'!B35","v":6.0733333333333334E-2},4.2866666666666664E-2,null,4.5899166666666665E-2,null,22,17,4.2866666666666664E-2]
[null,23,2008,null,{"$f":"'FEA___(MPG-11)'!E36","v":0.1046},{"$f":"'MBR (WP)'!B36","v":6.5283333333333332E-2},{"$f":"E36-F36","v":3.9316666666666666E-2},null,4.6199999999999991E-2,null,23,16,3.9316666666666666E-2]
[null,24,2009,null,{"$f":"'FEA___(MPG-11)'!E37","v":0.1048},{"$f":"'MBR (WP)'!B37","v":6.0367365027151197E-2},4.4432634972848807E-2,null,4.8787442441889053E-2,null,24,21,4.4432634972848807E-2]
[null,25,2010,null,{"$f":"'FEA___(MPG-11)'!E38","v":0.10340000000000001},{"$f":"'MBR (WP)'!B38","v":5.4612557558110952E-2},4.8787442441889053E-2,null,4.8908333333333331E-2,null,25,24,4.8787442441889053E-2]
[null,26,2011,null,{"$f":"'FEA___(MPG-11)'!E39","v":0.1022},{"$f":"'MBR (WP)'!B39","v":5.0411142903926134E-2},5.1788857096073865E-2,null,5.1788857096073865E-2,null,26,26,5.1788857096073865E-2]
[null,27,2012,null,{"$f":"'FEA___(MPG-11)'!E40","v":0.10009999999999999},{"$f":"'MBR (WP)'!B40","v":4.1307867339918432E-2},5.8792132660081563E-2,null,5.3238933223209543E-2,null,27,28,5.8792132660081563E-2]
[null,28,2013,null,{"$f":"'FEA___(MPG-11)'!E41","v":9.8000000000000004E-2},{"$f":"'MBR (WP)'!B41","v":4.476106677679046E-2},5.3238933223209543E-2,null,{"$f":"VLOOKUP(K41,$L$14:$M$41,2,)","v":5.8792132660081563E-2},null,28,27,{"$f":"G41","v":5.3238933223209543E-2}]
[]
[null,{"$f":"MAX(B37:B42)+1","v":29},"Average",null,{"$f":"AVERAGE(E14:E41)","v":0.11339642857142858},{"$f":"AVERAGE(F14:F41)","v":7.4012589271639201E-2},3.9383839299789385E-2]
[]
[]
[]
[null,"Sources: "]
[null,"1 Regulatory Research Associates, Inc., Regulatory Focus, Jan. 85 - Dec. 06, "]
[null,"  and January 15, 2014, excluding the VA cases, which are subject to a"]
[null,"  200 basis point adjustment for certain generation assets. "]
[null,"2 Mergent Public Utility Manual, Mergent Weekly News Reports, 2003. The utility yields"]
[null,"  for the period 2001-2009 were obtained from the Mergent Bond Record.  The utility"]
[null,"  yields from 2010-2013 were obtained from http://credittrends.moodys.com/."]

{"sheet":"FEA___(MPG-13)","index":13,"n_rows":75,"n_cols":18,"rows_kept":75,"cut":false,"hidden":false,"merged":[[8,4,8,7],[8,9,8,12],[8,14,8,15],[0,0,0,15],[4,0,4,15]]}
[{"$f":"'FEA___(MPG-2)'!A1","v":"Rocky Mountain Power"}]
[]
[null," "]
[]
["Bond Yield Spreads"]
[]
[]
[]
[null,null,null,null,"Public Utility Bond",null,null,null,null,"Corporate Bond",null,null,null,null,"Utility to Corporate"]
["Line","Year",null,"T-Bond Yield1","A2","Baa2","A-T-Bond Spread","Baa-T-Bond Spread",null,"Aaa1","Baa1","Aaa-T-Bond Spread","Baa-T-Bond Spread",null,"Baa Spread","A-Aaa Spread"]
[null,null,null,"(1)","(2)","(3)","(4)","(5)",null,"(6)","(7)","(8)","(9)",null,"(10)","(11)"]
[]
[1,1980,null,{"$f":"VLOOKUP($B13,'Annual Yields (WP)'!$A$6:$B$40,2)","v":0.11298333333333334},{"$f":"'MBR (WP)'!B8","v":0.13339999999999999},{"$f":"'MBR (WP)'!C8","v":0.13950000000000001},{"$f":"E13-D13","v":2.0416666666666652E-2},{"$f":"F13-D13","v":2.6516666666666674E-2},null,{"$f":"+'Annual Yields (WP)'!E9","v":0.11938333333333334},{"$f":"+'Annual Yields (WP)'!H9","v":0.13668333333333332},{"$f":"J13-D13","v":6.4000000000000029E-3},{"$f":"K13-D13","v":2.3699999999999985E-2},null,{"$f":"F13-K13","v":2.8166666666666895E-3},{"$f":"+E13-J13","v":1.401666666666665E-2},null,"Utility A - T-Bond Spread"]
[2,{"$f":"+B13+1","v":1981},null,{"$f":"VLOOKUP($B14,'Annual Yields (WP)'!$A$6:$B$40,2)","v":0.13441666666666666},{"$f":"'MBR (WP)'!B9","v":0.1595},{"$f":"'MBR (WP)'!C9","v":0.16600000000000001},{"$f":"E14-D14","v":2.5083333333333346E-2},{"$f":"F14-D14","v":3.1583333333333352E-2},null,{"$f":"+'Annual Yields (WP)'!E10","v":0.14170833333333333},{"$f":"+'Annual Yields (WP)'!H10","v":0.1604416666666667},{"$f":"J14-D14","v":7.2916666666666685E-3},{"$f":"K14-D14","v":2.6025000000000048E-2},null,{"$f":"F14-K14","v":5.558333333333304E-3},{"$f":"+E14-J14","v":1.7791666666666678E-2},null,"Utility Baa - T-Bond Spread"]
[3,{"$f":"+B14+1","v":1982},null,{"$f":"VLOOKUP($B15,'Annual Yields (WP)'!$A$6:$B$40,2)","v":0.12761666666666663},{"$f":"'MBR (WP)'!B10","v":0.15859999999999999},{"$f":"'MBR (WP)'!C10","v":0.16450000000000001},3.0983333333333363E-2,3.6883333333333379E-2,null,{"$f":"+'Annual Yields (WP)'!E11","v":0.13787500000000003},{"$f":"+'Annual Yields (WP)'!H11","v":0.16113333333333332},1.0258333333333397E-2,3.3516666666666695E-2,null,3.3666666666666845E-3,2.0724999999999966E-2,null,"Corporate Aaa - T-Bond Spread"]
[4,1983,null,{"$f":"VLOOKUP($B16,'Annual Yields (WP)'!$A$6:$B$40,2)","v":0.11178333333333335},{"$f":"'MBR (WP)'!B11","v":0.1366},{"$f":"'MBR (WP)'!C11","v":0.14199999999999999},2.4816666666666654E-2,3.0216666666666642E-2,null,{"$f":"+'Annual Yields (WP)'!E12","v":0.12041666666666666},{"$f":"+'Annual Yields (WP)'!H12","v":0.13554166666666664},8.6333333333333123E-3,2.3758333333333298E-2,null,6.4583333333333437E-3,1.6183333333333341E-2,null,"Corporate Baa - T-Bond Spread"]
[5,1984,null,{"$f":"VLOOKUP($B17,'Annual Yields (WP)'!$A$6:$B$40,2)","v":0.12391666666666666},{"$f":"'MBR (WP)'!B12","v":0.14030000000000001},{"$f":"'MBR (WP)'!C12","v":0.14530000000000001},1.6383333333333347E-2,2.1383333333333351E-2,null,{"$f":"+'Annual Yields (WP)'!E13","v":0.12709166666666666},{"$f":"+'Annual Yields (WP)'!H13","v":0.1419},3.1749999999999973E-3,1.7983333333333337E-2,null,3.4000000000000141E-3,1.320833333333335E-2]
[6,1985,null,{"$f":"VLOOKUP($B18,'Annual Yields (WP)'!$A$6:$B$40,2)","v":0.10789166666666666},{"$f":"'MBR (WP)'!B13","v":0.12470000000000001},{"$f":"'MBR (WP)'!C13","v":0.12959999999999999},1.6808333333333342E-2,2.1708333333333329E-2,null,{"$f":"+'Annual Yields (WP)'!E14","v":0.11373333333333333},{"$f":"+'Annual Yields (WP)'!H14","v":0.12715000000000004},5.8416666666666617E-3,1.9258333333333377E-2,null,2.4499999999999522E-3,1.096666666666668E-2]
[7,1986,null,{"$f":"VLOOKUP($B19,'Annual Yields (WP)'!$A$6:$B$40,2)","v":7.7983333333333349E-2},{"$f":"'MBR (WP)'!B14","v":9.5799999999999996E-2},{"$f":"'MBR (WP)'!C14","v":0.1},1.7816666666666647E-2,2.2016666666666657E-2,null,{"$f":"+'Annual Yields (WP)'!E15","v":9.0208333333333321E-2},{"$f":"+'Annual Yields (WP)'!H15","v":0.10390833333333331},1.2224999999999972E-2,2.5924999999999962E-2,null,-3.9083333333333053E-3,5.5916666666666753E-3]
[8,1987,null,{"$f":"VLOOKUP($B20,'Annual Yields (WP)'!$A$6:$B$40,2)","v":8.5800000000000001E-2},{"$f":"'MBR (WP)'!B15","v":0.10100000000000001},{"$f":"'MBR (WP)'!C15","v":0.1053},1.5200000000000005E-2,1.9500000000000003E-2,null,{"$f":"+'Annual Yields (WP)'!E16","v":9.3758333333333346E-2},{"$f":"+'Annual Yields (WP)'!H16","v":0.10575833333333334},7.958333333333345E-3,1.9958333333333342E-2,null,-4.5833333333333837E-4,7.2416666666666601E-3]
[9,1988,null,{"$f":"VLOOKUP($B21,'Annual Yields (WP)'!$A$6:$B$40,2)","v":8.9591666666666667E-2},{"$f":"'MBR (WP)'!B16","v":0.10489999999999999},{"$f":"'MBR (WP)'!C16","v":0.11},1.5308333333333327E-2,2.0408333333333334E-2,null,{"$f":"+'Annual Yields (WP)'!E17","v":9.7100000000000006E-2},{"$f":"+'Annual Yields (WP)'!H17","v":0.10829999999999998},7.5083333333333391E-3,1.8708333333333313E-2,null,1.7000000000000209E-3,7.7999999999999875E-3]
[10,1989,null,{"$f":"VLOOKUP($B22,'Annual Yields (WP)'!$A$6:$B$40,2)","v":8.4491666666666687E-2},{"$f":"'MBR (WP)'!B17","v":9.7699999999999995E-2},{"$f":"'MBR (WP)'!C17","v":9.9699999999999997E-2},1.3208333333333308E-2,1.520833333333331E-2,null,{"$f":"+'Annual Yields (WP)'!E18","v":9.2575000000000005E-2},{"$f":"+'Annual Yields (WP)'!H18","v":0.101775},8.0833333333333174E-3,1.7283333333333317E-2,null,-2.0750000000000074E-3,5.1249999999999907E-3]
[11,1990,null,{"$f":"VLOOKUP($B23,'Annual Yields (WP)'!$A$6:$B$40,2)","v":8.6083333333333331E-2},{"$f":"'MBR (WP)'!B18","v":9.8599999999999993E-2},{"$f":"'MBR (WP)'!C18","v":0.10059999999999999},1.2516666666666662E-2,1.4516666666666664E-2,null,{"$f":"+'Annual Yields (WP)'!E19","v":9.3216666666666656E-2},{"$f":"+'Annual Yields (WP)'!H19","v":0.10354999999999999},7.1333333333333249E-3,1.7466666666666658E-2,null,-2.9499999999999943E-3,5.3833333333333372E-3]
[12,1991,null,{"$f":"VLOOKUP($B24,'Annual Yields (WP)'!$A$6:$B$40,2)","v":8.1358333333333324E-2},{"$f":"'MBR (WP)'!B19","v":9.3600000000000003E-2},{"$f":"'MBR (WP)'!C19","v":9.5500000000000002E-2},1.2241666666666678E-2,1.4141666666666677E-2,null,{"$f":"+'Annual Yields (WP)'!E20","v":8.7691666666666668E-2},{"$f":"+'Annual Yields (WP)'!H20","v":9.8016666666666682E-2},6.3333333333333436E-3,1.6658333333333358E-2,null,-2.5166666666666809E-3,5.9083333333333349E-3]
[13,1992,null,{"$f":"VLOOKUP($B25,'Annual Yields (WP)'!$A$6:$B$40,2)","v":7.6666666666666675E-2},{"$f":"'MBR (WP)'!B20","v":8.6900000000000005E-2},{"$f":"'MBR (WP)'!C20","v":8.8599999999999998E-2},1.023333333333333E-2,1.1933333333333324E-2,null,{"$f":"+'Annual Yields (WP)'!E21","v":8.1399999999999986E-2},{"$f":"+'Annual Yields (WP)'!H21","v":8.9766666666666689E-2},4.7333333333333116E-3,1.3100000000000014E-2,null,-1.1666666666666908E-3,5.5000000000000188E-3]
[14,1993,null,{"$f":"VLOOKUP($B26,'Annual Yields (WP)'!$A$6:$B$40,2)","v":6.5983333333333338E-2},{"$f":"'MBR (WP)'!B21","v":7.5899999999999995E-2},{"$f":"'MBR (WP)'!C21","v":7.9100000000000004E-2},9.916666666666657E-3,1.3116666666666665E-2,null,{"$f":"+'Annual Yields (WP)'!E22","v":7.2191666666666696E-2},{"$f":"+'Annual Yields (WP)'!H22","v":7.9299999999999995E-2},6.2083333333333574E-3,1.3316666666666657E-2,null,-1.9999999999999185E-4,3.7083333333332996E-3]
[15,1994,null,{"$f":"VLOOKUP($B27,'Annual Yields (WP)'!$A$6:$B$40,2)","v":7.3700000000000002E-2},{"$f":"'MBR (WP)'!B22","v":8.3099999999999993E-2},{"$f":"'MBR (WP)'!C22","v":8.6300000000000002E-2},9.3999999999999917E-3,1.26E-2,null,{"$f":"+'Annual Yields (WP)'!E23","v":7.9625000000000015E-2},{"$f":"+'Annual Yields (WP)'!H23","v":8.622500000000001E-2},5.9250000000000136E-3,1.2525000000000008E-2,null,7.499999999999174E-5,3.4749999999999781E-3]
[16,1995,null,{"$f":"VLOOKUP($B28,'Annual Yields (WP)'!$A$6:$B$40,2)","v":6.8841666666666662E-2},{"$f":"'MBR (WP)'!B23","v":7.8899999999999998E-2},{"$f":"'MBR (WP)'!C23","v":8.2900000000000001E-2},1.0058333333333336E-2,1.4058333333333339E-2,null,{"$f":"+'Annual Yields (WP)'!E24","v":7.5899999999999995E-2},{"$f":"+'Annual Yields (WP)'!H24","v":8.2008333333333322E-2},7.0583333333333331E-3,1.316666666666666E-2,null,8.9166666666667949E-4,3.0000000000000027E-3]
[17,1996,null,{"$f":"VLOOKUP($B29,'Annual Yields (WP)'!$A$6:$B$40,2)","v":6.700833333333335E-2},{"$f":"'MBR (WP)'!B24","v":7.7499999999999999E-2},{"$f":"'MBR (WP)'!C24","v":8.1699999999999995E-2},1.0491666666666649E-2,1.4691666666666645E-2,null,{"$f":"+'Annual Yields (WP)'!E25","v":7.3700000000000002E-2},{"$f":"+'Annual Yields (WP)'!H25","v":8.0541666666666678E-2},6.6916666666666513E-3,1.3533333333333328E-2,null,1.1583333333333168E-3,3.7999999999999978E-3]
[18,1997,null,{"$f":"VLOOKUP($B30,'Annual Yields (WP)'!$A$6:$B$40,2)","v":6.605833333333333E-2},{"$f":"'MBR (WP)'!B25","v":7.5999999999999998E-2},{"$f":"'MBR (WP)'!C25","v":7.9500000000000001E-2},9.9416666666666681E-3,1.3441666666666671E-2,null,{"$f":"+'Annual Yields (WP)'!E26","v":7.2616666666666677E-2},{"$f":"+'Annual Yields (WP)'!H26","v":7.8625000000000014E-2},6.5583333333333466E-3,1.2566666666666684E-2,null,8.749999999999869E-4,3.3833333333333215E-3]
[19,1998,null,{"$f":"VLOOKUP($B31,'Annual Yields (WP)'!$A$6:$B$40,2)","v":5.5783333333333331E-2},{"$f":"'MBR (WP)'!B26","v":7.0400000000000004E-2},{"$f":"'MBR (WP)'!C26","v":7.2599999999999998E-2},1.4616666666666674E-2,1.6816666666666667E-2,null,{"$f":"+'Annual Yields (WP)'!E27","v":6.5316666666666662E-2},{"$f":"+'Annual Yields (WP)'!H27","v":7.2208333333333347E-2},9.5333333333333312E-3,1.6425000000000016E-2,null,3.9166666666665129E-4,5.0833333333333425E-3]
[20,1999,null,{"$f":"VLOOKUP($B32,'Annual Yields (WP)'!$A$6:$B$40,2)","v":5.8658333333333319E-2},{"$f":"'MBR (WP)'!B27","v":7.6200000000000004E-2},{"$f":"'MBR (WP)'!C27","v":7.8799999999999995E-2},1.7541666666666685E-2,2.0141666666666676E-2,null,{"$f":"+'Annual Yields (WP)'!E28","v":7.0416666666666669E-2},{"$f":"+'Annual Yields (WP)'!H28","v":7.8708333333333338E-2},1.175833333333335E-2,2.0050000000000019E-2,null,9.1666666666656571E-5,5.7833333333333348E-3]
[21,2000,null,{"$f":"VLOOKUP($B33,'Annual Yields (WP)'!$A$6:$B$40,2)","v":5.9424999999999992E-2},{"$f":"'MBR (WP)'!B28","v":8.2441666666666663E-2},{"$f":"'MBR (WP)'!C28","v":8.3591666666666647E-2},2.3016666666666671E-2,2.4166666666666656E-2,null,{"$f":"+'Annual Yields (WP)'!E29","v":7.6225000000000001E-2},{"$f":"+'Annual Yields (WP)'!H29","v":8.3641666666666656E-2},1.6800000000000009E-2,2.4216666666666664E-2,null,-5.0000000000008371E-5,6.216666666666662E-3]
[22,2001,null,{"$f":"VLOOKUP($B34,'Annual Yields (WP)'!$A$6:$B$40,2)","v":5.4933333333333334E-2},{"$f":"'MBR (WP)'!B29","v":7.7625E-2},{"$f":"'MBR (WP)'!C29","v":8.0283333333333318E-2},2.2691666666666666E-2,2.5349999999999984E-2,null,{"$f":"+'Annual Yields (WP)'!E30","v":7.0824999999999999E-2},{"$f":"+'Annual Yields (WP)'!H30","v":7.947499999999999E-2},1.5891666666666665E-2,2.4541666666666656E-2,null,8.0833333333332757E-4,6.8000000000000005E-3]
[23,2002,null,{"$f":"VLOOKUP($B35,'Annual Yields (WP)'!$A$6:$B$40,2)","v":5.4299999999999994E-2},{"$f":"'MBR (WP)'!B30","v":7.3724999999999999E-2},{"$f":"'MBR (WP)'!C30","v":8.0233333333333337E-2},1.9425000000000005E-2,2.5933333333333343E-2,null,{"$f":"+'Annual Yields (WP)'!E31","v":6.4916666666666664E-2},{"$f":"+'Annual Yields (WP)'!H31","v":7.8016666666666665E-2},1.061666666666667E-2,2.3716666666666671E-2,null,2.2166666666666723E-3,8.8083333333333347E-3]
[24,2003,null,{"$f":"VLOOKUP($B36,'Annual Yields (WP)'!$A$6:$B$40,2)","v":4.9575000000000008E-2},{"$f":"'MBR (WP)'!B31","v":6.5808333333333344E-2},{"$f":"'MBR (WP)'!C31","v":6.8425E-2},1.6233333333333336E-2,1.8849999999999992E-2,null,{"$f":"+'Annual Yields (WP)'!E32","v":5.6666666666666671E-2},{"$f":"+'Annual Yields (WP)'!H32","v":6.765833333333332E-2},7.0916666666666628E-3,1.8083333333333312E-2,null,7.6666666666667938E-4,9.1416666666666729E-3]
[25,2004,null,{"$f":"VLOOKUP($B37,'Annual Yields (WP)'!$A$6:$B$40,2)","v":5.0466666666666667E-2},{"$f":"'MBR (WP)'!B32","v":6.1600833333333334E-2},{"$f":"'MBR (WP)'!C32","v":6.3949999999999993E-2},1.1134166666666667E-2,1.3483333333333326E-2,null,{"$f":"+'Annual Yields (WP)'!E33","v":5.6283333333333331E-2},{"$f":"+'Annual Yields (WP)'!H33","v":6.3933333333333342E-2},5.8166666666666644E-3,1.3466666666666675E-2,null,1.6666666666650953E-5,5.3175000000000028E-3]
[26,2005,null,{"$f":"VLOOKUP($B38,'Annual Yields (WP)'!$A$6:$B$40,2)","v":4.6458333333333331E-2},{"$f":"'MBR (WP)'!B33","v":5.6491666666666662E-2},{"$f":"'MBR (WP)'!C33","v":5.9249999999999997E-2},1.0033333333333332E-2,1.2791666666666666E-2,null,{"$f":"+'Annual Yields (WP)'!E34","v":5.2350000000000001E-2},{"$f":"+'Annual Yields (WP)'!H34","v":6.0641666666666677E-2},5.89166666666667E-3,1.4183333333333346E-2,null,-1.3916666666666799E-3,4.1416666666666616E-3]
[27,2006,null,{"$f":"VLOOKUP($B39,'Annual Yields (WP)'!$A$6:$B$40,2)","v":4.9924999999999997E-2},{"$f":"'MBR (WP)'!B34","v":6.0683333333333325E-2},{"$f":"'MBR (WP)'!C34","v":6.3166666666666663E-2},1.0758333333333328E-2,1.3241666666666665E-2,null,{"$f":"+'Annual Yields (WP)'!E35","v":5.5874999999999994E-2},{"$f":"+'Annual Yields (WP)'!H35","v":6.4791666666666664E-2},5.949999999999997E-3,1.4866666666666667E-2,null,-1.6250000000000014E-3,4.8083333333333311E-3]
[28,2007,null,{"$f":"VLOOKUP($B40,'Annual Yields (WP)'!$A$6:$B$40,2)","v":4.8341666666666672E-2},{"$f":"'MBR (WP)'!B35","v":6.0733333333333334E-2},{"$f":"'MBR (WP)'!C35","v":6.3300000000000009E-2},1.2391666666666662E-2,1.4958333333333337E-2,null,{"$f":"+'Annual Yields (WP)'!E36","v":5.5558333333333321E-2},{"$f":"+'Annual Yields (WP)'!H36","v":6.4825000000000021E-2},7.216666666666649E-3,1.648333333333335E-2,null,-1.5250000000000125E-3,5.1750000000000129E-3]
[29,2008,null,{"$f":"VLOOKUP($B41,'Annual Yields (WP)'!$A$6:$B$40,2)","v":4.2791666666666665E-2},{"$f":"'MBR (WP)'!B36","v":6.5283333333333332E-2},{"$f":"'MBR (WP)'!C36","v":7.2458333333333333E-2},2.2491666666666667E-2,2.9666666666666668E-2,null,{"$f":"+'Annual Yields (WP)'!E37","v":5.6316666666666668E-2},{"$f":"+'Annual Yields (WP)'!H37","v":7.4466666666666681E-2},1.3525000000000002E-2,3.1675000000000016E-2,null,-2.0083333333333481E-3,8.9666666666666645E-3]
[30,2009,null,{"$f":"VLOOKUP($B42,'Annual Yields (WP)'!$A$6:$B$40,2)","v":4.0691666666666668E-2},{"$f":"'MBR (WP)'!B37","v":6.0367365027151197E-2},{"$f":"'MBR (WP)'!C37","v":7.0551731672932327E-2},1.967569836048453E-2,2.986006500626566E-2,null,{"$f":"+'Annual Yields (WP)'!E38","v":5.3133333333333324E-2},{"$f":"+'Annual Yields (WP)'!H38","v":7.2958333333333347E-2},1.2441666666666656E-2,3.226666666666668E-2,null,-2.4066016604010199E-3,7.2340316938178731E-3]
[31,2010,null,{"$f":"VLOOKUP($B43,'Annual Yields (WP)'!$A$6:$B$40,2)","v":4.2508333333333335E-2},{"$f":"'MBR (WP)'!B38","v":5.4612557558110952E-2},{"$f":"'MBR (WP)'!C38","v":5.9598179333136762E-2},1.2104224224777617E-2,1.7089845999803427E-2,null,{"$f":"+'Annual Yields (WP)'!E39","v":4.9433333333333322E-2},{"$f":"+'Annual Yields (WP)'!H39","v":6.0383333333333331E-2},6.9249999999999867E-3,1.7874999999999995E-2,null,-7.8515400019656817E-4,5.1792242247776302E-3]
[32,2011,null,{"$f":"VLOOKUP($B44,'Annual Yields (WP)'!$A$6:$B$40,2)","v":3.9108333333333328E-2},{"$f":"'MBR (WP)'!B39","v":5.0411142903926134E-2},{"$f":"'MBR (WP)'!C39","v":5.5638240700678951E-2},{"$f":"E44-D44","v":1.1302809570592806E-2},{"$f":"F44-D44","v":1.6529907367345623E-2},null,{"$f":"+'Annual Yields (WP)'!E40","v":4.6391666666666664E-2},{"$f":"+'Annual Yields (WP)'!H40","v":5.6641666666666667E-2},{"$f":"J44-D44","v":7.2833333333333361E-3},{"$f":"K44-D44","v":1.7533333333333338E-2},null,-1.0034259659877157E-3,4.01947623725947E-3]
[33,2012,null,{"$f":"VLOOKUP($B45,'Annual Yields (WP)'!$A$6:$B$400,2)","v":2.9208333333333329E-2},{"$f":"'MBR (WP)'!B40","v":4.1307867339918432E-2},{"$f":"'MBR (WP)'!C40","v":4.8259016167870657E-2},{"$f":"E45-D45","v":1.2099534006585103E-2},{"$f":"F45-D45","v":1.9050682834537327E-2},null,{"$f":"+'Annual Yields (WP)'!E41","v":3.6733333333333333E-2},{"$f":"+'Annual Yields (WP)'!H41","v":4.9349999999999998E-2},{"$f":"J45-D45","v":7.5250000000000039E-3},{"$f":"K45-D45","v":2.0141666666666669E-2},null,{"$f":"F45-K45","v":-1.0909838321293414E-3},4.5745340065850987E-3]
[{"$f":"+A45+1","v":34},2013,null,{"$f":"VLOOKUP($B46,'Annual Yields (WP)'!$A$6:$B$400,2)","v":3.4483333333333331E-2},{"$f":"'MBR (WP)'!B41","v":4.476106677679046E-2},{"$f":"'MBR (WP)'!C41","v":4.9814315713526243E-2},{"$f":"E46-D46","v":1.0277733443457129E-2},{"$f":"F46-D46","v":1.5330982380192912E-2},null,{"$f":"+'Annual Yields (WP)'!E42","v":4.2350000000000006E-2},{"$f":"+'Annual Yields (WP)'!H42","v":5.1016666666666675E-2},{"$f":"J46-D46","v":7.8666666666666746E-3},{"$f":"K46-D46","v":1.6533333333333344E-2},null,{"$f":"F46-K46","v":-1.2023509531404325E-3},{"$f":"+E46-J46","v":2.4110667767904548E-3}]
[]
[{"$f":"+A46+1","v":35},"Average",null,{"$f":"AVERAGE(D13:D46)","v":7.0553921568627428E-2},{"$f":"AVERAGE(E13:E46)","v":8.6042720576644013E-2},9.0177053438867019E-2,1.5488799008016592E-2,1.9623131870239559E-2,null,7.8793627450980397E-2,8.9980637254901949E-2,8.2397058823529407E-3,1.9426715686274507E-2,null,1.9641618396504368E-4,7.2490931256636408E-3]
[]
[]
[]
[]
[]
[]
[]
[]
[]
[]
[]
[]
[]
[]
[]
[]
[]
[]
[]
[]
[]
[]
[null,"Sources:"]
[null,"1 St. Louis Federal Reserve: Economic Research, http://research.stlouisfed.org/."]
[null,"2 Mergent Public Utility Manual, Mergent Weekly News Reports, 2003. The utility yields"]
[null,"  for the period 2001-2009 were obtained from the Mergent Bond Record.  The utility"]
[null,"  yields from 2010-2013 were obtained from http://credittrends.moodys.com/."]

{"sheet":"FEA___(MPG-14a)","index":14,"n_rows":34,"n_cols":5,"rows_kept":34,"cut":false,"hidden":false,"merged":[[0,0,0,4],[4,0,4,4]]}
[{"$f":"'FEA___(MPG-2)'!$A$1","v":"Rocky Mountain Power"}]
[]
[]
[]
["Treasury and Utility Bond Yields"]
[]
[]
[]
[null,null,"Treasury","\"A\" Rated Utility","\"Baa\" Rated Utility"]
["Line","Date","Bond Yield1","Bond Yield2","Bond Yield2"]
[null,null,"(1)","(2)","(3)"]
[]
[{"$f":"MAX(A9:A12)+1","v":1},{"$f":"+'Yields Table (WP)'!A6","v":"2014-03-28"},{"$f":"+'Yields Table (WP)'!B6","v":3.5499999999999997E-2},{"$f":"'Yields Table (WP)'!J6","v":4.4499999999999998E-2},{"$f":"'Yields Table (WP)'!M6","v":4.9200000000000001E-2}]
[{"$f":"MAX(A10:A13)+1","v":2},{"$f":"+'Yields Table (WP)'!A7","v":"2014-03-21"},{"$f":"+'Yields Table (WP)'!B7","v":3.61E-2},{"$f":"'Yields Table (WP)'!J7","v":4.5199999999999997E-2},{"$f":"'Yields Table (WP)'!M7","v":5.0099999999999999E-2}]
[3,{"$f":"+'Yields Table (WP)'!A8","v":"2014-03-14"},{"$f":"+'Yields Table (WP)'!B8","v":3.5900000000000001E-2},{"$f":"'Yields Table (WP)'!J8","v":4.48E-2},{"$f":"'Yields Table (WP)'!M8","v":4.9700000000000001E-2}]
[4,{"$f":"+'Yields Table (WP)'!A9","v":"2014-03-07"},{"$f":"+'Yields Table (WP)'!B9","v":3.7200000000000004E-2},{"$f":"'Yields Table (WP)'!J9","v":4.58E-2},{"$f":"'Yields Table (WP)'!M9","v":5.0700000000000002E-2}]
[5,{"$f":"+'Yields Table (WP)'!A10","v":"2014-02-28"},{"$f":"+'Yields Table (WP)'!B10","v":3.5900000000000001E-2},{"$f":"'Yields Table (WP)'!J10","v":4.4600000000000001E-2},{"$f":"'Yields Table (WP)'!M10","v":4.9299999999999997E-2}]
[6,{"$f":"+'Yields Table (WP)'!A11","v":"2014-02-21"},{"$f":"+'Yields Table (WP)'!B11","v":3.6900000000000002E-2},{"$f":"'Yields Table (WP)'!J11","v":4.5600000000000002E-2},{"$f":"'Yields Table (WP)'!M11","v":5.0299999999999997E-2}]
[7,{"$f":"+'Yields Table (WP)'!A12","v":"2014-02-14"},{"$f":"+'Yields Table (WP)'!B12","v":3.6900000000000002E-2},{"$f":"'Yields Table (WP)'!J12","v":4.5600000000000002E-2},{"$f":"'Yields Table (WP)'!M12","v":5.04E-2}]
[8,{"$f":"+'Yields Table (WP)'!A13","v":"2014-02-07"},{"$f":"+'Yields Table (WP)'!B13","v":3.6699999999999997E-2},{"$f":"'Yields Table (WP)'!J13","v":4.5499999999999999E-2},{"$f":"'Yields Table (WP)'!M13","v":5.0299999999999997E-2}]
[9,{"$f":"+'Yields Table (WP)'!A14","v":"2014-01-31"},{"$f":"+'Yields Table (WP)'!B14","v":3.61E-2},{"$f":"'Yields Table (WP)'!J14","v":4.4900000000000002E-2},{"$f":"'Yields Table (WP)'!M14","v":4.9700000000000001E-2}]
[10,{"$f":"+'Yields Table (WP)'!A15","v":"2014-01-24"},{"$f":"+'Yields Table (WP)'!B15","v":3.6400000000000002E-2},{"$f":"'Yields Table (WP)'!J15","v":4.5100000000000001E-2},{"$f":"'Yields Table (WP)'!M15","v":0.05}]
[11,{"$f":"+'Yields Table (WP)'!A16","v":"2014-01-17"},{"$f":"+'Yields Table (WP)'!B16","v":3.7499999999999999E-2},{"$f":"'Yields Table (WP)'!J16","v":4.5999999999999999E-2},{"$f":"'Yields Table (WP)'!M16","v":5.0799999999999998E-2}]
[12,{"$f":"+'Yields Table (WP)'!A17","v":"2014-01-10"},{"$f":"+'Yields Table (WP)'!B17","v":3.7999999999999999E-2},{"$f":"'Yields Table (WP)'!J17","v":4.65E-2},{"$f":"'Yields Table (WP)'!M17","v":5.11E-2}]
[13,{"$f":"+'Yields Table (WP)'!A18","v":"2014-01-03"},{"$f":"+'Yields Table (WP)'!B18","v":3.9300000000000002E-2},{"$f":"'Yields Table (WP)'!J18","v":4.8099999999999997E-2},{"$f":"'Yields Table (WP)'!M18","v":5.2299999999999999E-2}]
[]
[14,"   Average",{"$f":"AVERAGE(C13:C25)","v":3.6799999999999992E-2},{"$f":"AVERAGE(D13:D25)","v":4.555384615384616E-2},{"$f":"AVERAGE(E13:E25)","v":5.0300000000000004E-2}]
[{"$f":"MAX(A26:A27)+1","v":15},"   Spread To Treasury",null,{"$f":"ROUND(D27,4)-ROUND(C27,4)","v":8.8000000000000023E-3},{"$f":"ROUND(E27,4)-ROUND(C27,4)","v":1.3499999999999998E-2}]
[]
[]
[]
[null,"Sources:"]
[null,"1 St. Louis Federal Reserve: Economic Research, http://research.stlouisfed.org."]
[null,"2 http://credittrends.moodys.com/."]

{"sheet":"FEA___(MPG-15)","index":17,"n_rows":69,"n_cols":6,"rows_kept":69,"cut":false,"hidden":false,"merged":[[0,0,0,6],[5,0,5,6],[9,2,9,4]]}
[{"$f":"'FEA___(MPG-2)'!A1","v":"Rocky Mountain Power"}]
[]
[]
[]
[]
["Value Line Beta"]
[]
[]
[]
[null,"Line","Company",null,null,"Beta"]
[]
[null,{"$f":"'FEA___(MPG-2)'!A12","v":1},{"$f":"'FEA___(MPG-2)'!D12","v":"ALLETE, Inc."},null,{"$f":"'FEA___(MPG-2)'!F12","v":"ALE"},{"$f":"IF('FEA___(MPG-2)'!$B12,VLOOKUP(E12,VLLU,5,FALSE),\"\")","v":0.8}]
[null,{"$f":"'FEA___(MPG-2)'!A13","v":2},{"$f":"'FEA___(MPG-2)'!D13","v":"Alliant Energy Corporation"},null,{"$f":"'FEA___(MPG-2)'!F13","v":"LNT"},{"$f":"IF('FEA___(MPG-2)'!$B13,VLOOKUP(E13,VLLU,5,FALSE),\"\")","v":0.8}]
[null,{"$f":"'FEA___(MPG-2)'!A14","v":3},{"$f":"'FEA___(MPG-2)'!D14","v":"Avista Corporation"},null,{"$f":"'FEA___(MPG-2)'!F14","v":"AVA"},{"$f":"IF('FEA___(MPG-2)'!$B14,VLOOKUP(E14,VLLU,5,FALSE),\"\")","v":0.75}]
[null,{"$f":"'FEA___(MPG-2)'!A15","v":4},{"$f":"'FEA___(MPG-2)'!D15","v":"DTE Energy Company"},null,{"$f":"'FEA___(MPG-2)'!F15","v":"DTE"},{"$f":"IF('FEA___(MPG-2)'!$B15,VLOOKUP(E15,VLLU,5,FALSE),\"\")","v":0.85}]
[null,{"$f":"'FEA___(MPG-2)'!A16","v":5},{"$f":"'FEA___(MPG-2)'!D16","v":"IDACORP, Inc."},null,{"$f":"'FEA___(MPG-2)'!F16","v":"IDA"},{"$f":"IF('FEA___(MPG-2)'!$B16,VLOOKUP(E16,VLLU,5,FALSE),\"\")","v":0.75}]
[null,{"$f":"'FEA___(MPG-2)'!A17","v":6},{"$f":"'FEA___(MPG-2)'!D17","v":"Integrys Energy Group, Inc."},null,{"$f":"'FEA___(MPG-2)'!F17","v":"TEG"},{"$f":"IF('FEA___(MPG-2)'!$B17,VLOOKUP(E17,VLLU,5,FALSE),\"\")","v":1.05}]
[null,{"$f":"'FEA___(MPG-2)'!A18","v":7},{"$f":"'FEA___(MPG-2)'!D18","v":"NextEra Energy, Inc."},null,{"$f":"'FEA___(MPG-2)'!F18","v":"NEE"},{"$f":"IF('FEA___(MPG-2)'!$B18,VLOOKUP(E18,VLLU,5,FALSE),\"\")","v":0.75}]
[null,{"$f":"'FEA___(MPG-2)'!A19","v":8},{"$f":"'FEA___(MPG-2)'!D19","v":"Portland General Electric Company"},null,{"$f":"'FEA___(MPG-2)'!F19","v":"POR"},{"$f":"IF('FEA___(MPG-2)'!$B19,VLOOKUP(E19,VLLU,5,FALSE),\"\")","v":0.75}]
[null,{"$f":"'FEA___(MPG-2)'!A20","v":9},{"$f":"'FEA___(MPG-2)'!D20","v":"Sempra Energy"},null,{"$f":"'FEA___(MPG-2)'!F20","v":"SRE"},{"$f":"IF('FEA___(MPG-2)'!$B20,VLOOKUP(E20,VLLU,5,FALSE),\"\")","v":0.75}]
[null,{"$f":"'FEA___(MPG-2)'!A21","v":10},{"$f":"'FEA___(MPG-2)'!D21","v":"Southern Company"},null,{"$f":"'FEA___(MPG-2)'!F21","v":"SO"},{"$f":"IF('FEA___(MPG-2)'!$B21,VLOOKUP(E21,VLLU,5,FALSE),\"\")","v":0.6}]
[null,{"$f":"'FEA___(MPG-2)'!A22","v":11},{"$f":"'FEA___(MPG-2)'!D22","v":"Westar Energy, Inc."},null,{"$f":"'FEA___(MPG-2)'!F22","v":"WR"},{"$f":"IF('FEA___(MPG-2)'!$B22,VLOOKUP(E22,VLLU,5,FALSE),\"\")","v":0.8}]
[null,{"$f":"'FEA___(MPG-2)'!A23","v":12},{"$f":"'FEA___(MPG-2)'!D23","v":"Wisconsin Energy Corporation"},null,{"$f":"'FEA___(MPG-2)'!F23","v":"WEC"},{"$f":"IF('FEA___(MPG-2)'!$B23,VLOOKUP(E23,VLLU,5,FALSE),\"\")","v":0.7}]
[null,{"$f":"'FEA___(MPG-2)'!A24","v":13},{"$f":"'FEA___(MPG-2)'!D24","v":"Xcel Energy Inc."},null,{"$f":"'FEA___(MPG-2)'!F24","v":"XEL"},{"$f":"IF('FEA___(MPG-2)'!$B24,VLOOKUP(E24,VLLU,5,FALSE),\"\")","v":0.65}]
[null,{"$f":"'FEA___(MPG-2)'!A25","v":""},{"$f":"'FEA___(MPG-2)'!D25","v":""},null,{"$f":"'FEA___(MPG-2)'!F25","v":""},{"$f":"IF('FEA___(MPG-2)'!$B25,VLOOKUP(E25,VLLU,5,FALSE),\"\")","v":""}]
[null,{"$f":"'FEA___(MPG-2)'!A26","v":""},{"$f":"'FEA___(MPG-2)'!D26","v":""},null,{"$f":"'FEA___(MPG-2)'!F26","v":""},{"$f":"IF('FEA___(MPG-2)'!$B26,VLOOKUP(E26,VLLU,5,FALSE),\"\")","v":""}]
[null,{"$f":"'FEA___(MPG-2)'!A27","v":""},{"$f":"'FEA___(MPG-2)'!D27","v":""},null,{"$f":"'FEA___(MPG-2)'!F27","v":""},{"$f":"IF('FEA___(MPG-2)'!$B27,VLOOKUP(E27,VLLU,5,FALSE),\"\")","v":""}]
[null,{"$f":"'FEA___(MPG-2)'!A28","v":""},{"$f":"'FEA___(MPG-2)'!D28","v":""},null,{"$f":"'FEA___(MPG-2)'!F28","v":""},{"$f":"IF('FEA___(MPG-2)'!$B28,VLOOKUP(E28,VLLU,5,FALSE),\"\")","v":""}]
[null,{"$f":"'FEA___(MPG-2)'!A29","v":""},{"$f":"'FEA___(MPG-2)'!D29","v":""},null,{"$f":"'FEA___(MPG-2)'!F29","v":""},{"$f":"IF('FEA___(MPG-2)'!$B29,VLOOKUP(E29,VLLU,5,FALSE),\"\")","v":""}]
[null,{"$f":"'FEA___(MPG-2)'!A30","v":""},{"$f":"'FEA___(MPG-2)'!D30","v":""},null,{"$f":"'FEA___(MPG-2)'!F30","v":""},{"$f":"IF('FEA___(MPG-2)'!$B30,VLOOKUP(E30,VLLU,5,FALSE),\"\")","v":""}]
[null,{"$f":"'FEA___(MPG-2)'!A31","v":""},{"$f":"'FEA___(MPG-2)'!D31","v":""},null,{"$f":"'FEA___(MPG-2)'!F31","v":""},{"$f":"IF('FEA___(MPG-2)'!$B31,VLOOKUP(E31,VLLU,5,FALSE),\"\")","v":""}]
[null,{"$f":"'FEA___(MPG-2)'!A32","v":""},{"$f":"'FEA___(MPG-2)'!D32","v":""},null,{"$f":"'FEA___(MPG-2)'!F32","v":""},{"$f":"IF('FEA___(MPG-2)'!$B32,VLOOKUP(E32,VLLU,5,FALSE),\"\")","v":""}]
[null,{"$f":"'FEA___(MPG-2)'!A33","v":""},{"$f":"'FEA___(MPG-2)'!D33","v":""},null,{"$f":"'FEA___(MPG-2)'!F33","v":""},{"$f":"IF('FEA___(MPG-2)'!$B33,VLOOKUP(E33,VLLU,5,FALSE),\"\")","v":""}]
[null,{"$f":"'FEA___(MPG-2)'!A34","v":""},{"$f":"'FEA___(MPG-2)'!D34","v":""},null,{"$f":"'FEA___(MPG-2)'!F34","v":""},{"$f":"IF('FEA___(MPG-2)'!$B34,VLOOKUP(E34,VLLU,5,FALSE),\"\")","v":""}]
[null,{"$f":"'FEA___(MPG-2)'!A35","v":""},{"$f":"'FEA___(MPG-2)'!D35","v":""},null,{"$f":"'FEA___(MPG-2)'!F35","v":""},{"$f":"IF('FEA___(MPG-2)'!$B35,VLOOKUP(E35,VLLU,5,FALSE),\"\")","v":""}]
[null,{"$f":"'FEA___(MPG-2)'!A36","v":""},{"$f":"'FEA___(MPG-2)'!D36","v":""},null,{"$f":"'FEA___(MPG-2)'!F36","v":""},{"$f":"IF('FEA___(MPG-2)'!$B36,VLOOKUP(E36,VLLU,5,FALSE),\"\")","v":""}]
[null,{"$f":"'FEA___(MPG-2)'!A37","v":""},{"$f":"'FEA___(MPG-2)'!D37","v":""},null,{"$f":"'FEA___(MPG-2)'!F37","v":""},{"$f":"IF('FEA___(MPG-2)'!$B37,VLOOKUP(E37,VLLU,5,FALSE),\"\")","v":""}]
[null,{"$f":"'FEA___(MPG-2)'!A38","v":""},{"$f":"'FEA___(MPG-2)'!D38","v":""},null,{"$f":"'FEA___(MPG-2)'!F38","v":""},{"$f":"IF('FEA___(MPG-2)'!$B38,VLOOKUP(E38,VLLU,5,FALSE),\"\")","v":""}]
[null,{"$f":"'FEA___(MPG-2)'!A39","v":""},{"$f":"'FEA___(MPG-2)'!D39","v":""},null,{"$f":"'FEA___(MPG-2)'!F39","v":""},{"$f":"IF('FEA___(MPG-2)'!$B39,VLOOKUP(E39,VLLU,5,FALSE),\"\")","v":""}]
[null,{"$f":"'FEA___(MPG-2)'!A40","v":""},{"$f":"'FEA___(MPG-2)'!D40","v":""},null,{"$f":"'FEA___(MPG-2)'!F40","v":""},{"$f":"IF('FEA___(MPG-2)'!$B40,VLOOKUP(E40,VLLU,5,FALSE),\"\")","v":""}]
[null,{"$f":"'FEA___(MPG-2)'!A41","v":""},{"$f":"'FEA___(MPG-2)'!D41","v":""},null,{"$f":"'FEA___(MPG-2)'!F41","v":""},{"$f":"IF('FEA___(MPG-2)'!$B41,VLOOKUP(E41,VLLU,5,FALSE),\"\")","v":""}]
[null,{"$f":"'FEA___(MPG-2)'!A42","v":""},{"$f":"'FEA___(MPG-2)'!D42","v":""},null,{"$f":"'FEA___(MPG-2)'!F42","v":""},{"$f":"IF('FEA___(MPG-2)'!$B42,VLOOKUP(E42,VLLU,5,FALSE),\"\")","v":""}]
[null,{"$f":"'FEA___(MPG-2)'!A43","v":""},{"$f":"'FEA___(MPG-2)'!D43","v":""},null,{"$f":"'FEA___(MPG-2)'!F43","v":""},{"$f":"IF('FEA___(MPG-2)'!$B43,VLOOKUP(E43,VLLU,5,FALSE),\"\")","v":""}]
[null,{"$f":"'FEA___(MPG-2)'!A44","v":""},{"$f":"'FEA___(MPG-2)'!D44","v":""},null,{"$f":"'FEA___(MPG-2)'!F44","v":""},{"$f":"IF('FEA___(MPG-2)'!$B44,VLOOKUP(E44,VLLU,5,FALSE),\"\")","v":""}]
[null,{"$f":"'FEA___(MPG-2)'!A45","v":""},{"$f":"'FEA___(MPG-2)'!D45","v":""},null,{"$f":"'FEA___(MPG-2)'!F45","v":""},{"$f":"IF('FEA___(MPG-2)'!$B45,VLOOKUP(E45,VLLU,5,FALSE),\"\")","v":""}]
[null,{"$f":"'FEA___(MPG-2)'!A46","v":""},{"$f":"'FEA___(MPG-2)'!D46","v":""},null,{"$f":"'FEA___(MPG-2)'!F46","v":""},{"$f":"IF('FEA___(MPG-2)'!$B46,VLOOKUP(E46,VLLU,5,FALSE),\"\")","v":""}]
[null,{"$f":"'FEA___(MPG-2)'!A47","v":""},{"$f":"'FEA___(MPG-2)'!D47","v":""},null,{"$f":"'FEA___(MPG-2)'!F47","v":""},{"$f":"IF('FEA___(MPG-2)'!$B47,VLOOKUP(E47,VLLU,5,FALSE),\"\")","v":""}]
[null,{"$f":"'FEA___(MPG-2)'!A48","v":""},{"$f":"'FEA___(MPG-2)'!D48","v":""},null,{"$f":"'FEA___(MPG-2)'!F48","v":""},{"$f":"IF('FEA___(MPG-2)'!$B48,VLOOKUP(E48,VLLU,5,FALSE),\"\")","v":""}]
[null,{"$f":"'FEA___(MPG-2)'!A49","v":""},{"$f":"'FEA___(MPG-2)'!D49","v":""},null,{"$f":"'FEA___(MPG-2)'!F49","v":""},{"$f":"IF('FEA___(MPG-2)'!$B49,VLOOKUP(E49,VLLU,5,FALSE),\"\")","v":""}]
[null,{"$f":"'FEA___(MPG-2)'!A50","v":""},{"$f":"'FEA___(MPG-2)'!D50","v":""},null,{"$f":"'FEA___(MPG-2)'!F50","v":""},{"$f":"IF('FEA___(MPG-2)'!$B50,VLOOKUP(E50,VLLU,5,FALSE),\"\")","v":""}]
[null,{"$f":"'FEA___(MPG-2)'!A51","v":""},{"$f":"'FEA___(MPG-2)'!D51","v":""},null,{"$f":"'FEA___(MPG-2)'!F51","v":""},{"$f":"IF('FEA___(MPG-2)'!$B51,VLOOKUP(E51,VLLU,5,FALSE),\"\")","v":""}]
[null,{"$f":"'FEA___(MPG-2)'!A52","v":""},{"$f":"'FEA___(MPG-2)'!D52","v":""},null,{"$f":"'FEA___(MPG-2)'!F52","v":""},{"$f":"IF('FEA___(MPG-2)'!$B52,VLOOKUP(E52,VLLU,5,FALSE),\"\")","v":""}]
[null,{"$f":"'FEA___(MPG-2)'!A53","v":""},{"$f":"'FEA___(MPG-2)'!D53","v":""},null,{"$f":"'FEA___(MPG-2)'!F53","v":""},{"$f":"IF('FEA___(MPG-2)'!$B53,VLOOKUP(E53,VLLU,5,FALSE),\"\")","v":""}]
[null,{"$f":"'FEA___(MPG-2)'!A54","v":""},{"$f":"'FEA___(MPG-2)'!D54","v":""},null,{"$f":"'FEA___(MPG-2)'!F54","v":""},{"$f":"IF('FEA___(MPG-2)'!$B54,VLOOKUP(E54,VLLU,5,FALSE),\"\")","v":""}]
[null,{"$f":"'FEA___(MPG-2)'!A55","v":""},{"$f":"'FEA___(MPG-2)'!D55","v":""},null,{"$f":"'FEA___(MPG-2)'!F55","v":""},{"$f":"IF('FEA___(MPG-2)'!$B55,VLOOKUP(E55,VLLU,5,FALSE),\"\")","v":""}]
[null,{"$f":"'FEA___(MPG-2)'!A56","v":""},{"$f":"'FEA___(MPG-2)'!D56","v":""},null,{"$f":"'FEA___(MPG-2)'!F56","v":""},{"$f":"IF('FEA___(MPG-2)'!$B56,VLOOKUP(E56,VLLU,5,FALSE),\"\")","v":""}]
[null,{"$f":"'FEA___(MPG-2)'!A57","v":""},{"$f":"'FEA___(MPG-2)'!D57","v":""},null,{"$f":"'FEA___(MPG-2)'!F57","v":""},{"$f":"IF('FEA___(MPG-2)'!$B57,VLOOKUP(E57,VLLU,5,FALSE),\"\")","v":""}]
[null,{"$f":"'FEA___(MPG-2)'!A58","v":""},{"$f":"'FEA___(MPG-2)'!D58","v":""},null,{"$f":"'FEA___(MPG-2)'!F58","v":""},{"$f":"IF('FEA___(MPG-2)'!$B58,VLOOKUP(E58,VLLU,5,FALSE),\"\")","v":""}]
[null,{"$f":"'FEA___(MPG-2)'!A59","v":""},{"$f":"'FEA___(MPG-2)'!D59","v":""},null,{"$f":"'FEA___(MPG-2)'!F59","v":""},{"$f":"IF('FEA___(MPG-2)'!$B59,VLOOKUP(E59,VLLU,5,FALSE),\"\")","v":""}]
[null,{"$f":"'FEA___(MPG-2)'!A60","v":""},{"$f":"'FEA___(MPG-2)'!D60","v":""},null,{"$f":"'FEA___(MPG-2)'!F60","v":""},{"$f":"IF('FEA___(MPG-2)'!$B60,VLOOKUP(E60,VLLU,5,FALSE),\"\")","v":""}]
[null,{"$f":"'FEA___(MPG-2)'!A61","v":""},{"$f":"'FEA___(MPG-2)'!D61","v":""},null,{"$f":"'FEA___(MPG-2)'!F61","v":""},{"$f":"IF('FEA___(MPG-2)'!$B61,VLOOKUP(E61,VLLU,5,FALSE),\"\")","v":""}]
[]
[null,{"$f":"MAX(B12:B62)+1","v":14},"Average",null,null,{"$f":"AVERAGE(F12:F61)","v":0.76923076923076927}]
[]
[]
[]
[null,null,"Source:"]
[null,null,"The Value Line Investment Survey,"]
[null,null,{"$f":"'VL Data (WP)'!A6","v":"January 31, February 21, and March 21, 2014."}]

{"sheet":"FEA___(MPG-16)","index":18,"n_rows":32,"n_cols":13,"rows_kept":32,"cut":false,"hidden":false,"merged":[[8,1,8,2],[0,0,0,4],[3,0,3,4]]}
[{"$f":"+'FEA___(MPG-15)'!A1","v":"Rocky Mountain Power"}]
[]
[]
["CAPM Return"]
[]
[]
[]
[null,null,null,null,"Market Risk"]
["Line","Description",null,null,"Premium",null,null,null,"Notes:",null,null,2013]
[]
[null,null,null,null,null,null,null,null,"Lg. Co. Stocks Market Return",null,null,8.6999999999999994E-2,"Classic Yearbook 88"]
[1,"Risk-Free Rate1",null,null,{"$f":"+L14","v":4.4999999999999998E-2},null,null,null,"Consumer Price Index",null,null,2.1999999999999999E-2,"Blue Chips April 1 2014"]
[2,"Risk Premium2",null,null,{"$f":"MAX(L25,L32)","v":6.7000000000000004E-2},null,null,null,"Expected Market Return",null,null,{"$f":"+(1+L11)*(1+L12)-1","v":0.11091399999999996}]
[3,"Beta3",null,null,{"$f":"+'FEA___(MPG-15)'!F63","v":0.76923076923076927},null,null,null,"Risk Free Rate",null,null,4.4999999999999998E-2,{"$f":"+M12","v":"Blue Chips April 1 2014"}]
[4,"CAPM",null,null,{"$f":"E12+E13*E14","v":9.6538461538461545E-2},null,null,null,"Risk Premium",null,null,{"$f":"+L13-L14","v":6.5913999999999959E-2}]
[]
[]
[null,null,null,null,null,null,null,"Hist","Lg. Co. Stocks Total Return",null,null,0.11799999999999999,"Classic Yearbook 87"]
[null,"Sources:",null,null,null,null,null,null,"LT Gov't Bonds",null,null,6.0999999999999999E-2,{"$f":"+M18","v":"Classic Yearbook 87"}]
[null,"1  Blue Chip Financial Forecasts; April 1, 2014, at 2.",null,null,null,null,null,null,"Risk Premium",null,null,{"$f":"+L18-L19","v":5.6999999999999995E-2}]
[null,"2  Morningstar, Inc. Ibbotson SBBI 2013 Classic Yearbook at 88,"]
[null,"   and Morningstar, Inc. Ibbotson SBBI 2013 Valuation Yearbook "]
[null,"at 54 and 66."]
[null,"3 Exhibit MPG-15.",null,null,null,null,null,null,"Morningstar Equity Risk Prem."]
[null,null,null,null,null,null,null,null,"   S&P 500",null,null,6.7000000000000004E-2,"Valuation Yearbook 54 / 66"]
[null,null,null,null,null,null,null,null,"   Total Value-Weighted NYSE",null,null,6.4799999999999996E-2,"Valuation Yearbook 54"]
[null,null,null,null,null,null,null,null,"   NYSE Deciles 1-2",null,null,5.96E-2,"Valuation Yearbook 54"]
[]
[]
[null,null,null,null,null,null,null,null,null,null,null,{"$f":"ROUND(L15,3)","v":6.6000000000000003E-2}]
[null,null,null,null,null,null,null,null,null,null,null,{"$f":"+L20","v":5.6999999999999995E-2}]
[null,null,null,null,null,null,null,null,null,null,null,{"$f":"AVERAGE(L30:L31)","v":6.1499999999999999E-2}]

{"sheet":"FEA___(MPG-21)","index":19,"n_rows":84,"n_cols":10,"rows_kept":84,"cut":false,"hidden":false,"merged":[[0,0,0,9],[3,0,3,9],[4,0,4,9],[7,3,7,5]]}
[{"$f":"+'FEA___(MPG-2)'!A1","v":"Rocky Mountain Power"}]
[]
[]
["Accuracy of Interest Rate Forecasts"]
["(Long-Term Treasury Bond Yields - Projected Vs. Actual)"]
[]
[]
[null,null,null,"Publication Data",null,null,null,"Actual Yield",null,"Projected Yield"]
[null,null,null,"Prior Quarter","Projected","Projected",null,"in Projected ",null,"Higher (Lower)"]
["Line","Date",null,"Actual Yield","Yield","Quarter",null,"Quarter",null,"Than Actual Yield*"]
[null,null,null,"(1)","(2)","(3)",null,"(4)",null,"(5)"]
[]
[{"$f":"MAX(A7:A12)+1","v":1},"2000-12-01",null,5.8000000000000003E-2,5.8000000000000003E-2,"1Q, 02",null,{"$f":"D19","v":5.6300000000000003E-2},null,{"$f":"E13-H13","v":1.7000000000000001E-3}]
[2,"2001-03-01",null,5.6899999999999999E-2,5.6000000000000001E-2,"2Q, 02",null,5.7599999999999998E-2,null,-1.5999999999999973E-3]
[3,"2001-06-01",null,5.3999999999999999E-2,5.8000000000000003E-2,"3Q, 02",null,5.2200000000000003E-2,null,5.7999999999999996E-3]
[4,"2001-09-01",null,5.7000000000000002E-2,5.8999999999999997E-2,"4Q, 02",null,5.0799999999999998E-2,null,8.199999999999999E-3]
[5,"2001-12-01",null,5.5199999999999999E-2,5.7000000000000002E-2,"1Q, 03",null,4.9700000000000001E-2,null,7.3000000000000009E-3]
[6,"2002-03-01",null,5.2999999999999999E-2,5.8999999999999997E-2,"2Q, 03",null,4.6800000000000001E-2,null,1.2199999999999996E-2]
[7,"2002-06-01",null,5.6300000000000003E-2,6.2E-2,"3Q, 03",null,5.21E-2,null,9.8999999999999991E-3]
[8,"2002-09-01",null,5.7599999999999998E-2,5.8999999999999997E-2,"4Q, 03",null,5.1999999999999998E-2,null,6.9999999999999993E-3]
[9,"2002-12-01",null,5.2200000000000003E-2,5.7000000000000002E-2,"1Q, 04",null,4.9399999999999999E-2,null,7.6000000000000026E-3]
[10,"2003-03-01",null,5.0799999999999998E-2,5.7000000000000002E-2,"2Q, 04",null,5.3699999999999998E-2,null,3.3000000000000043E-3]
[11,"2003-06-01",null,4.9700000000000001E-2,5.3999999999999999E-2,"3Q, 04",null,5.0700000000000002E-2,null,3.2999999999999974E-3]
[12,"2003-09-01",null,4.6800000000000001E-2,5.8000000000000003E-2,"4Q, 04",null,4.87E-2,null,9.3000000000000027E-3]
[13,"2003-12-01",null,5.21E-2,5.8999999999999997E-2,"1Q, 05",null,4.7600000000000003E-2,null,1.1399999999999993E-2]
[14,"2004-03-01",null,5.1999999999999998E-2,5.8999999999999997E-2,"2Q, 05",null,4.5499999999999999E-2,null,1.3499999999999998E-2]
[15,"2004-06-01",null,4.9399999999999999E-2,6.2E-2,"3Q, 05",null,4.5100000000000001E-2,null,1.6899999999999998E-2]
[16,"2004-09-01",null,5.3699999999999998E-2,0.06,"4Q, 05",null,4.7699999999999999E-2,null,1.2299999999999998E-2]
[17,"2004-12-01",null,5.0700000000000002E-2,5.8000000000000003E-2,"1Q, 06",null,4.6399999999999997E-2,null,1.1600000000000006E-2]
[18,"2005-03-01",null,4.87E-2,5.6000000000000001E-2,"2Q, 06",null,5.1400000000000001E-2,null,4.5999999999999999E-3]
[19,"2005-06-01",null,4.7600000000000003E-2,5.5E-2,"3Q, 06",null,4.99E-2,null,5.1000000000000004E-3]
[20,"2005-09-01",null,4.5499999999999999E-2,5.1999999999999998E-2,"4Q, 06",null,4.7399999999999998E-2,null,4.5999999999999999E-3]
[21,"2005-12-01",null,4.5100000000000001E-2,5.2999999999999999E-2,"1Q, 07",null,4.8000000000000001E-2,null,4.9999999999999975E-3]
[22,"2006-03-01",null,4.7699999999999999E-2,5.0999999999999997E-2,"2Q, 07",null,4.99E-2,null,1.0999999999999968E-3]
[23,"2006-06-01",null,4.6399999999999997E-2,5.2999999999999999E-2,"3Q, 07",null,4.9399999999999999E-2,null,3.599999999999999E-3]
[24,"2006-09-01",null,5.1400000000000001E-2,5.1999999999999998E-2,"4Q, 07",null,4.6100000000000002E-2,null,5.8999999999999955E-3]
[25,"2006-12-01",null,4.99E-2,0.05,"1Q, 08",null,4.41E-2,null,5.9000000000000025E-3]
[26,"2007-03-01",null,4.7399999999999998E-2,5.0999999999999997E-2,"2Q, 08",null,4.58E-2,null,5.1999999999999963E-3]
[27,"2007-06-01",null,4.8000000000000001E-2,5.0999999999999997E-2,"3Q, 08",null,4.4499999999999998E-2,null,6.4999999999999988E-3]
[28,"2007-09-01",null,4.99E-2,5.1999999999999998E-2,"4Q, 08",null,3.6799999999999999E-2,null,1.5199999999999998E-2]
[29,"2007-12-01",null,4.9399999999999999E-2,4.8000000000000001E-2,"1Q, 09",null,3.4500000000000003E-2,null,1.3499999999999998E-2]
[30,"2008-03-01",null,4.6100000000000002E-2,4.8000000000000001E-2,"2Q, 09",null,3.9699999999999999E-2,null,8.3000000000000018E-3]
[31,"2008-06-01",null,4.41E-2,4.9000000000000002E-2,"3Q, 09",null,4.3200000000000002E-2,null,5.7999999999999996E-3]
[32,"2008-09-01",null,4.58E-2,5.0999999999999997E-2,"4Q, 09",null,4.3299999999999998E-2,null,7.6999999999999985E-3]
[33,"2008-12-01",null,4.4499999999999998E-2,4.5999999999999999E-2,"1Q, 10",null,4.6199999999999998E-2,null,-1.9999999999999879E-4]
[34,"2009-03-01",null,3.6799999999999999E-2,4.1000000000000002E-2,"2Q, 10",null,4.3700000000000003E-2,null,-2.700000000000001E-3]
[35,"2009-06-01",null,3.4500000000000003E-2,4.5999999999999999E-2,"3Q, 10",null,3.85E-2,null,7.4999999999999997E-3]
[36,"2009-09-01",null,3.9699999999999999E-2,0.05,"4Q, 10",null,4.1599999999999998E-2,null,8.4000000000000047E-3]
[37,"2009-12-01",null,4.3200000000000002E-2,0.05,"1Q, 11",null,4.5600000000000002E-2,null,4.4000000000000011E-3]
[38,"2010-03-01",null,4.3299999999999998E-2,5.1999999999999998E-2,"2Q, 11",null,4.3400000000000001E-2,null,8.5999999999999965E-3]
[39,"2010-06-01",null,4.6199999999999998E-2,5.1999999999999998E-2,"3Q, 11",null,{"$f":"D57","v":3.6999999999999998E-2},null,1.4999999999999999E-2]
[40,"2010-09-01",null,4.3700000000000003E-2,4.7E-2,"4Q, 11",null,{"$f":"D58","v":3.04E-2},null,1.66E-2]
[41,"2010-12-01",null,3.85E-2,4.5999999999999999E-2,"1Q, 12",null,{"$f":"D59","v":3.1399999999999997E-2},null,1.4600000000000002E-2]
[42,"2011-03-01",null,4.1599999999999998E-2,5.0999999999999997E-2,"2Q, 12",null,{"$f":"+D60","v":2.9399999999999999E-2},null,2.1599999999999998E-2]
[43,"2011-06-01",null,4.5600000000000002E-2,5.1999999999999998E-2,"3Q, 12",null,{"$f":"+D63","v":2.75E-2},null,2.4499999999999997E-2]
[{"$f":"MAX(A52:A55)+1","v":44},"2011-09-01",null,4.3400000000000001E-2,4.2000000000000003E-2,"4Q, 12",null,{"$f":"+D66","v":2.86E-2},null,1.3400000000000002E-2]
[{"$f":"MAX(A55:A56)+1","v":45},"2011-12-01",null,3.6999999999999998E-2,3.7999999999999999E-2,"1Q, 13",null,{"$f":"+D69","v":3.1399999999999997E-2},null,6.6000000000000017E-3]
[{"$f":"MAX(A56:A57)+1","v":46},"2012-03-01",null,3.04E-2,3.7999999999999999E-2,"2Q, 13",null,{"$f":"D72","v":3.15E-2},null,{"$f":"E58-H58","v":6.4999999999999988E-3}]
[{"$f":"MAX(A57:A58)+1","v":47},"2012-06-01",null,3.1399999999999997E-2,3.6999999999999998E-2,"3Q, 13",null,{"$f":"D73","v":3.7199999999999997E-2},null,{"$f":"E59-H59","v":-1.9999999999999879E-4}]
[{"$f":"MAX(A58:A59)+1","v":48},"2012-09-01",null,2.9399999999999999E-2,3.4000000000000002E-2,"4Q, 13",null,{"$f":"D76","v":3.7900000000000003E-2},null,{"$f":"E60-H60","v":-3.9000000000000007E-3}]
[{"$f":"MAX(A59:A60)+1","v":49},"2012-10-01",null,2.75E-2,3.4000000000000002E-2,"1Q, 14"]
[{"$f":"MAX(A59:A61)+1","v":50},"2012-11-01",null,2.75E-2,3.4000000000000002E-2,"1Q, 14"]
[{"$f":"MAX(A59:A62)+1","v":51},"2012-12-01",null,2.75E-2,3.4000000000000002E-2,"1Q, 14"]
[{"$f":"MAX(A60:A63)+1","v":52},"2013-01-01",null,2.86E-2,3.4000000000000002E-2,"2Q, 14"]
[{"$f":"MAX(A60:A64)+1","v":53},"2013-02-01",null,2.86E-2,3.5000000000000003E-2,"2Q, 14"]
[{"$f":"MAX(A60:A65)+1","v":54},"2013-03-01",null,2.86E-2,3.5999999999999997E-2,"2Q, 14"]
[55,"2013-04-01",null,3.1399999999999997E-2,3.6999999999999998E-2,"3Q, 14"]
[56,"2013-05-01",null,3.1399999999999997E-2,3.6999999999999998E-2,"3Q, 14"]
[57,"2013-06-01",null,3.1399999999999997E-2,3.6999999999999998E-2,"3Q, 14"]
[58,"2013-07-01",null,3.1300000000000001E-2,0.04,"4Q, 14"]
[59,"2013-08-01",null,3.15E-2,4.1000000000000002E-2,"4Q, 14"]
[60,"2013-09-01",null,3.15E-2,4.2000000000000003E-2,"4Q, 14"]
[61,"2013-10-01",null,3.7199999999999997E-2,4.2000000000000003E-2,"1Q, 15"]
[62,"2013-11-01",null,3.7199999999999997E-2,4.2000000000000003E-2,"1Q, 15"]
[63,"2013-12-01",null,3.7199999999999997E-2,4.2000000000000003E-2,"1Q, 15"]
[64,"2014-01-01",null,3.7900000000000003E-2,4.3999999999999997E-2,"2Q 15"]
[65,"2014-02-01",null,3.7900000000000003E-2,4.3999999999999997E-2,"2Q 15"]
[66,"2014-03-01",null,3.7900000000000003E-2,4.3999999999999997E-2,"2Q 15"]
[67,"2014-04-01",null,3.6900000000000002E-2,4.4999999999999998E-2,"3Q 15"]
[]
[]
[null,"Source:"]
[null,"Blue Chip Financial Forecasts, Various Dates."]
[null,"* Col. 2 - Col. 4."]

{"sheet":"VL Data (WP)","index":20,"n_rows":63,"n_cols":25,"rows_kept":63,"cut":false,"hidden":false,"merged":[[6,8,6,9],[7,8,7,9],[7,11,7,12],[7,14,7,15],[7,17,7,18]]}
["Workpapers",null,null,null,null,null,null,null,null,null,null,null,null,null,null,null,null,null,{"$f":"SUM(IF(FREQUENCY(U12:U61,U12:U61)>0,1))","v":3},null,{"$f":"MIN(U12:U61)","v":"2014-01-31"},null,{"$f":"YEAR(U1)","v":2014},null,{"$f":"TEXT(U1,IF(W1=W2,\"mmmm d, \",\"mmmm d yyyy, \"))","v":"January 31, "}]
[null,null,null,null,null,null,null,null,null,null,null,null,null,null,null,null,null,null,null,null,{"$f":" MIN( IF( U12:U61>U1, IF(U12:U61<U4,U12:U61 ) ))","v":"2014-02-21"},null,{"$f":"YEAR(U2)","v":2014},null,{"$f":"IF(U2=U3,TEXT(U2,IF(W2=W4,\"mmmm d\",\"mmmm d, yyyy\"))&\", and \",TEXT(U2,IF(W2=W3,\"mmmm d, \",\"mmmm d, yyyy, \")))","v":"February 21, and "}]
[null,null,null,null,null,null,null,null,null,null,null,null,null,null,null,null,null,null,null,null,{"$f":" MAX( IF( U12:U61>U1, IF(U12:U61<U4,U12:U61 ) ))","v":"2014-02-21"},null,2014,null,{"$f":"IF(U2=U3,TEXT(U4,\"mmmm d, yyyy.\"),TEXT(U3,IF(W3=W4,\"mmmm d\",\"mmmm d, yyyy\"))&\", and \")","v":"March 21, 2014."}]
[null,null,null,null,null,null,null,null,null,null,null,null,null,null,null,null,null,null,null,null,{"$f":"MAX(U12:U61)","v":"2014-03-21"},null,2014,null,{"$f":"IF(U2=U3,\"\",TEXT(U4,\"mmmm d,yyyy.\"))","v":""}]
["Value Line Data Workpaper",null,null,null,4,5,6,null,8,9,null,11,12,null,14,15,null,17,18,null,20]
[{"$f":"CONCATENATE(Y1,Y2,Y3,Y4)","v":"January 31, February 21, and March 21, 2014."},null,null,null,null,null,2012]
[null,null,null,null,null,null,"Common",null,"Common Shares"]
[null,null,null,null,"Quarterly",null,"Equity ",null,"Outstanding (millions)",null,null,"Book Value Per Share",null,null,"Dividends Per Share",null,null,"Earnings Per Share"]
["Line","Ticker","Company",null,"Dividend","Beta","Ratio",null,2012,"3-5 Years",null,2012,"3-5 Years",null,2012,"3-5 Years",null,2012,"3-5 Years",null,"Report Date"]
[25,1,2,null,4,5,6,null,8,9,null,11,12,null,14,15,null,17,18]
[]
[1,"ALE","ALLETE, Inc.",null,0.49,0.8,0.55400000000000005,null,41.4,47.5,null,32.44,39.75,null,1.9,2.2999999999999998,null,2.63,3.75,null,"2014-03-21"]
[2,"LNT","Alliant Energy Corporation",null,0.51,0.8,0.47,null,110.98,115,null,29.45,34.799999999999997,null,1.88,2.4,null,3.29,4,null,"2014-03-21"]
[3,"AVA","Avista Corporation",null,0.30499999999999999,0.75,0.48499999999999999,null,60.1,64.5,null,21.65,24.5,null,1.22,1.4,null,1.8,2.25,null,"2014-01-31"]
[4,"DTE","DTE Energy Company",null,0.65500000000000003,0.85,0.52500000000000002,null,177.09,190,null,44.75,54.5,null,2.59,3.35,null,3.76,5.25,null,"2014-03-21"]
[5,"IDA","IDACORP, Inc.",null,0.43,0.75,0.53500000000000003,null,50.3,51.2,null,36.950000000000003,41.75,null,1.57,2.2000000000000002,null,3.5,3.6,null,"2014-01-31"]
[6,"TEG","Integrys Energy Group, Inc.",null,0.68,1.05,0.52,null,79.45,83.5,null,41.05,48,null,2.72,3,null,4.33,4.5,null,"2014-03-21"]
[7,"NEE","NextEra Energy, Inc.",null,0.66,0.75,0.43,null,431,470,null,41.85,57.25,null,2.64,3.9,null,4.83,6.5,null,"2014-02-21"]
[8,"POR","Portland General Electric Company",null,0.27500000000000002,0.75,0.48499999999999999,null,78.099999999999994,89.5,null,23.15,27,null,1.1000000000000001,1.25,null,1.65,2.25,null,"2014-01-31"]
[9,"SRE","Sempra Energy",null,0.63,0.75,0.45500000000000002,null,244.5,250,null,43.6,52.25,null,2.52,3,null,4.1500000000000004,5.5,null,"2014-01-31"]
[10,"SO","Southern Company",null,0.50749999999999995,0.6,0.46500000000000002,null,888,940,null,21.45,26.5,null,2.0099999999999998,2.36,null,2.7,3.25,null,"2014-02-21"]
[11,"WR","Westar Energy, Inc.",null,0.35,0.8,0.49,null,127.46,135,null,23.32,29.65,null,1.36,1.56,null,2.27,2.75,null,"2014-03-21"]
[12,"WEC","Wisconsin Energy Corporation",null,0.39,0.7,0.49,null,225.5,217,null,18.75,20.75,null,1.45,2.1,null,2.5099999999999998,3.25,null,"2014-03-21"]
[13,"XEL","Xcel Energy Inc.",null,0.28000000000000003,0.65,0.47,null,502,515,null,19.3,23,null,1.1100000000000001,1.35,null,1.9,2.25,null,"2014-01-31"]
[]
[]
[]
[]
[]
[]
[]
[]
[]
[]
[]
[]
[]
[]
[]
[]
[]
[]
[]
[]
[]
[]
[]
[]
[]
[]
[]
[]
[]
[]
[]
[]
[]
[]
[]
[]
[]
[]
[{"$f":"MAX($A$11:A62)+1","v":14},null,"Average",null,{"$f":"AVERAGE(E11:E62)","v":0.47403846153846158},{"$f":"AVERAGE(F11:F62)","v":0.76923076923076927},0.49030769230769233,null,231.99076923076925,243.7076923076923,null,30.593076923076925,36.9,null,1.8515384615384614,2.3207692307692307,null,3.0246153846153847,3.7769230769230768]

{"sheet":" S&P Ratings Direct (WP)","index":21,"n_rows":63,"n_cols":5,"rows_kept":63,"cut":false,"hidden":false,"merged":[]}
["Workpapers"]
[]
[]
[]
["S&P Ratings Direct "]
[null,"U.S. Regulated Utilities, Strongest To Weakest"]
[null,"*Ratings as of July 30, 2013.",null,null,"S&P"]
[null,null,null,null,"Business"]
["Line","Ticker","Company",null,"Profile"]
[{"$f":"MAX(A12:A62)","v":13},1,2]
[]
[1,"ALE","ALLETE, Inc.",null,"Strong"]
[2,"LNT","Alliant Energy Corporation",null,"Excellent"]
[3,"AVA","Avista Corporation",null,"Excellent"]
[4,"DTE","DTE Energy Company",null,"Strong"]
[5,"IDA","IDACORP, Inc.",null,"Excellent"]
[6,"TEG","Integrys Energy Group, Inc.",null,"Excellent"]
[7,"NEE","NextEra Energy, Inc.",null,"Strong"]
[8,"POR","Portland General Electric Company",null,"Excellent"]
[9,"SRE","Sempra Energy",null,"Strong"]
[10,"SO","Southern Company",null,"Excellent"]
[11,"WR","Westar Energy, Inc.",null,"Excellent"]
[12,"WEC","Wisconsin Energy Corporation",null,"Excellent"]
[13,"XEL","Xcel Energy Inc.",null,"Excellent"]
[]
[]
[]
[]
[]
[]
[]
[]
[]
[]
[]
[{"$f":"IF(B36=\"\",\"\",MAX(A$11:A35)+1)","v":""}]
[{"$f":"IF(B37=\"\",\"\",MAX(A$11:A36)+1)","v":""},"","",null,""]
[{"$f":"IF(B38=\"\",\"\",MAX(A$11:A37)+1)","v":""},"","",null,""]
[{"$f":"IF(B39=\"\",\"\",MAX(A$11:A38)+1)","v":""},"","",null,""]
[{"$f":"IF(B40=\"\",\"\",MAX(A$11:A39)+1)","v":""},"","",null,""]
[{"$f":"IF(B41=\"\",\"\",MAX(A$11:A40)+1)","v":""},"","",null,""]
[{"$f":"IF(B42=\"\",\"\",MAX(A$11:A41)+1)","v":""},"","",null,""]
[{"$f":"IF(B43=\"\",\"\",MAX(A$11:A42)+1)","v":""},"","",null,""]
[{"$f":"IF(B44=\"\",\"\",MAX(A$11:A43)+1)","v":""},"","",null,""]
[{"$f":"IF(B45=\"\",\"\",MAX(A$11:A44)+1)","v":""},"","",null,""]
[{"$f":"IF(B46=\"\",\"\",MAX(A$11:A45)+1)","v":""},"","",null,""]
[{"$f":"IF(B47=\"\",\"\",MAX(A$11:A46)+1)","v":""},"","",null,""]
[{"$f":"IF(B48=\"\",\"\",MAX(A$11:A47)+1)","v":""},"","",null,""]
[{"$f":"IF(B49=\"\",\"\",MAX(A$11:A48)+1)","v":""},"","",null,""]
[{"$f":"IF(B50=\"\",\"\",MAX(A$11:A49)+1)","v":""},"","",null,""]
[{"$f":"IF(B51=\"\",\"\",MAX(A$11:A50)+1)","v":""},"","",null,""]
[{"$f":"IF(B52=\"\",\"\",MAX(A$11:A51)+1)","v":""},"","",null,""]
[{"$f":"IF(B53=\"\",\"\",MAX(A$11:A52)+1)","v":""},"","",null,""]
[{"$f":"IF(B54=\"\",\"\",MAX(A$11:A53)+1)","v":""},"","",null,""]
[{"$f":"IF(B55=\"\",\"\",MAX(A$11:A54)+1)","v":""},"","",null,""]
[{"$f":"IF(B56=\"\",\"\",MAX(A$11:A55)+1)","v":""},"","",null,""]
[{"$f":"IF(B57=\"\",\"\",MAX(A$11:A56)+1)","v":""},"","",null,""]
[{"$f":"IF(B58=\"\",\"\",MAX(A$11:A57)+1)","v":""},"","",null,""]
[{"$f":"IF(B59=\"\",\"\",MAX(A$11:A58)+1)","v":""},"","",null,""]
[{"$f":"IF(B60=\"\",\"\",MAX(A$11:A59)+1)","v":""},"","",null,""]
[{"$f":"IF(B61=\"\",\"\",MAX(A$11:A60)+1)","v":""},"","",null,""]
[]
[{"$f":"MAX(A12:A62)+1","v":14},null,"Average",null,{"$f":"CHOOSE(ROUND((COUNTIF(E12:E62,\"Strong\")+COUNTIF(E12:E62,\"Excellent\")*2)/(A10-COUNTIF(E12:E62,NA())),0),\"Strong\",\"Excellent\")","v":"Excellent"}]

{"sheet":"Growth Rate LU","index":22,"n_rows":18,"n_cols":13,"rows_kept":18,"cut":false,"hidden":false,"merged":[]}
[]
[null,1,2,3,4,5,6,7,8,9,10,11,12]
[]
[null,null,null,null,null,"Zacks",null,null,"SNL",null,null,"Reuters"]
[null,null,null,null,null,"Estimated Growth","Number of Estimates",null,"Estimated Growth","Number of Estimates",null,"Estimated Growth","Number of Estimates"]
[1,"ALE","ALLETE, Inc. (NYSE: ALE)",null,null,0.06,"N/A",null,"N/A","N/A",null,"NA","NA"]
[2,"LNT","Alliant Energy Corporation (NYSE: LNT)",null,null,5.5E-2,"N/A",null,5.4000000000000006E-2,2,null,5.6000000000000001E-2,3]
[3,"AVA","Avista Corporation (NYSE: AVA)",null,null,0.05,"N/A",null,"N/A","N/A",null,"NA","NA"]
[4,"DTE","DTE Energy Company (NYSE: DTE)",null,null,6.2E-2,"N/A",null,5.7999999999999996E-2,3,null,5.21E-2,4]
[5,"IDA","IDACORP, Inc. (NYSE: IDA)",null,null,0.04,"N/A",null,0.04,1,null,0.04,1]
[6,"TEG","Integrys Energy Group, Inc. (NYSE: TEG)",null,null,4.4999999999999998E-2,"N/A",null,5.4000000000000006E-2,2,null,"NA","NA"]
[7,"NEE","NextEra Energy, Inc. (NYSE: NEE)",null,null,6.0999999999999999E-2,"N/A",null,6.4000000000000001E-2,5,null,6.1800000000000001E-2,5]
[8,"POR","Portland General Electric Company (NYSE: POR)",null,null,6.6000000000000003E-2,"N/A",null,6.8000000000000005E-2,3,null,9.6699999999999994E-2,4]
[9,"SRE","Sempra Energy (NYSE: SRE)",null,null,7.4999999999999997E-2,"N/A",null,5.0999999999999997E-2,2,null,6.2799999999999995E-2,4]
[10,"SO","Southern Company (NYSE: SO)",null,null,4.1000000000000002E-2,"N/A",null,3.3000000000000002E-2,5,null,3.8699999999999998E-2,7]
[11,"WR","Westar Energy, Inc. (NYSE: WR)",null,null,4.2999999999999997E-2,"N/A",null,3.2000000000000001E-2,3,null,2.8000000000000001E-2,2]
[12,"WEC","Wisconsin Energy Corporation (NYSE: WEC)",null,null,5.1999999999999998E-2,"N/A",null,5.2000000000000005E-2,2,null,4.8599999999999997E-2,3]
[13,"XEL","Xcel Energy Inc. (NYSE: XEL)",null,null,4.2000000000000003E-2,"N/A",null,4.9000000000000002E-2,3,null,5.2900000000000003E-2,5]

{"sheet":"Stock Prices (WP)","index":23,"n_rows":56,"n_cols":70,"rows_kept":56,"cut":false,"hidden":false,"merged":[]}
[]
["Line","Ticker","Company","Average",null,1,"ALE","ALLETE, Inc.",null,{"$f":"AVERAGE(J6:J18)","v":50.052692307692311},2,"LNT","Alliant Energy Corporation",null,{"$f":"AVERAGE(O6:O18)","v":52.68884615384615},3,"AVA","Avista Corporation",null,{"$f":"AVERAGE(T6:T18)","v":29.042692307692302},4,"DTE","DTE Energy Company",null,{"$f":"AVERAGE(Y6:Y18)","v":69.032307692307697},5,"IDA","IDACORP, Inc.",null,{"$f":"AVERAGE(AD6:AD18)","v":53.559615384615377},6,"TEG","Integrys Energy Group, Inc.",null,{"$f":"AVERAGE(AI6:AI18)","v":55.359615384615381},7,"NEE","NextEra Energy, Inc.",null,{"$f":"AVERAGE(AN6:AN18)","v":90.296153846153842},8,"POR","Portland General Electric Company",null,{"$f":"AVERAGE(AS6:AS18)","v":30.797692307692312},9,"SRE","Sempra Energy",null,{"$f":"AVERAGE(AX6:AX18)","v":92.834230769230757},10,"SO","Southern Company",null,{"$f":"AVERAGE(BC6:BC18)","v":41.858461538461533},11,"WR","Westar Energy, Inc.",null,{"$f":"AVERAGE(BH6:BH18)","v":33.552692307692311},12,"WEC","Wisconsin Energy Corporation",null,{"$f":"AVERAGE(BM6:BM18)","v":42.946923076923071},13,"XEL","Xcel Energy Inc.",null,{"$f":"AVERAGE(BR6:BR18)","v":29.09}]
[]
[null,null,null,null,{"$f":"COUNT(J5:J1048576)","v":13},null,"Values",null,null,null,null,"Values",null,null,null,null,"Values",null,null,null,null,"Values",null,null,null,null,"Values",null,null,null,null,"Values",null,null,null,null,"Values",null,null,null,null,"Values",null,null,null,null,"Values",null,null,null,null,"Values",null,null,null,null,"Values",null,null,null,null,"Values",null,null,null,null,"Values"]
[{"$f":"IF(ISNUMBER('FEA___(MPG-2)'!A12),'FEA___(MPG-2)'!A12,\"\")","v":1},{"$f":"IF(ISNUMBER(A5),'FEA___(MPG-2)'!F12,\"\")","v":"ALE"},{"$f":"IF(ISNUMBER(A5),'FEA___(MPG-2)'!D12,\"\")","v":"ALLETE, Inc."},{"$f":"IFERROR(INDEX(AvgStockPrice,1,MATCH(B5,AvgStockPrice,0)+3),\"\")","v":50.052692307692311},null,"Row Labels","Max of Date","Max of High","Min of Low","Average","Row Labels","Max of Date","Max of High","Min of Low","Average","Row Labels","Max of Date","Max of High","Min of Low","Average","Row Labels","Max of Date","Max of High","Min of Low","Average","Row Labels","Max of Date","Max of High","Min of Low","Average","Row Labels","Max of Date","Max of High","Min of Low","Average","Row Labels","Max of Date","Max of High","Min of Low","Average","Row Labels","Max of Date","Max of High","Min of Low","Average","Row Labels","Max of Date","Max of High","Min of Low","Average","Row Labels","Max of Date","Max of High","Min of Low","Average","Row Labels","Max of Date","Max of High","Min of Low","Average","Row Labels","Max of Date","Max of High","Min of Low","Average","Row Labels","Max of Date","Max of High","Min of Low","Average"]
[{"$f":"IF(ISNUMBER('FEA___(MPG-2)'!A13),'FEA___(MPG-2)'!A13,\"\")","v":2},{"$f":"IF(ISNUMBER(A6),'FEA___(MPG-2)'!F13,\"\")","v":"LNT"},{"$f":"IF(ISNUMBER(A6),'FEA___(MPG-2)'!D13,\"\")","v":"Alliant Energy Corporation"},52.68884615384615,null,0,"2014-03-28",52.59,51.4,51.995000000000005,0,"2014-03-28",56.05,54.09,55.07,0,"2014-03-28",30.25,29.71,29.98,0,"2014-03-28",73.540000000000006,71.28,72.41,0,"2014-03-28",55.71,54.44,55.075000000000003,0,"2014-03-28",59,57.53,58.265000000000001,0,"2014-03-28",95.12,93.39,94.254999999999995,0,"2014-03-28",32.57,31.5,32.034999999999997,0,"2014-03-28",97.42,94.93,96.175000000000011,0,"2014-03-28",43.55,42.95,43.25,0,"2014-03-28",35.15,34.44,34.795000000000002,0,"2014-03-28",46.06,45.01,45.534999999999997,0,"2014-03-28",30.2,29.57,29.884999999999998]
[{"$f":"IF(ISNUMBER('FEA___(MPG-2)'!A14),'FEA___(MPG-2)'!A14,\"\")","v":3},{"$f":"IF(ISNUMBER(A7),'FEA___(MPG-2)'!F14,\"\")","v":"AVA"},{"$f":"IF(ISNUMBER(A7),'FEA___(MPG-2)'!D14,\"\")","v":"Avista Corporation"},29.042692307692302,null,1,"2014-03-21",52.03,49.5,50.765000000000001,1,"2014-03-21",55.47,53.54,54.504999999999995,1,"2014-03-21",30.34,29.37,29.855,1,"2014-03-21",72.22,69.849999999999994,71.034999999999997,1,"2014-03-21",55.82,53.66,54.739999999999995,1,"2014-03-21",58.61,56.63,57.620000000000005,1,"2014-03-21",95.43,91.81,93.62,1,"2014-03-21",32.75,31.73,32.24,1,"2014-03-21",97.48,94.55,96.015000000000001,1,"2014-03-21",43.7,42.19,42.945,1,"2014-03-21",35.159999999999997,33.770000000000003,34.465000000000003,1,"2014-03-21",45.92,44.47,45.195,1,"2014-03-21",30.77,29.4,30.085000000000001]
[{"$f":"IF(ISNUMBER('FEA___(MPG-2)'!A15),'FEA___(MPG-2)'!A15,\"\")","v":4},{"$f":"IF(ISNUMBER(A8),'FEA___(MPG-2)'!F15,\"\")","v":"DTE"},{"$f":"IF(ISNUMBER(A8),'FEA___(MPG-2)'!D15,\"\")","v":"DTE Energy Company"},69.032307692307697,null,2,"2014-03-14",51.27,49.84,50.555000000000007,2,"2014-03-14",55.14,53.15,54.144999999999996,2,"2014-03-14",30.1,29.03,29.565000000000001,2,"2014-03-14",72,69.69,70.844999999999999,2,"2014-03-14",55.75,54.64,55.195,2,"2014-03-14",58,55.62,56.81,2,"2014-03-14",94.9,90.6,92.75,2,"2014-03-14",32.25,31.19,31.72,2,"2014-03-14",96.5,93,94.75,2,"2014-03-14",43.65,41.9,42.774999999999999,2,"2014-03-14",34.74,33.299999999999997,34.019999999999996,2,"2014-03-14",45.43,43.27,44.35,2,"2014-03-14",30.62,29.5,30.060000000000002]
[{"$f":"IF(ISNUMBER('FEA___(MPG-2)'!A16),'FEA___(MPG-2)'!A16,\"\")","v":5},{"$f":"IF(ISNUMBER(A9),'FEA___(MPG-2)'!F16,\"\")","v":"IDA"},{"$f":"IF(ISNUMBER(A9),'FEA___(MPG-2)'!D16,\"\")","v":"IDACORP, Inc."},53.559615384615377,null,3,"2014-03-07",50.99,49.59,50.290000000000006,3,"2014-03-07",54.36,52.99,53.674999999999997,3,"2014-03-07",30.14,29.06,29.6,3,"2014-03-07",71.8,69.58,70.69,3,"2014-03-07",56.42,55.09,55.755000000000003,3,"2014-03-07",57.34,55.62,56.480000000000004,3,"2014-03-07",92.02,89.81,90.914999999999992,3,"2014-03-07",32.020000000000003,31.18,31.6,3,"2014-03-07",95.22,92.81,94.015000000000001,3,"2014-03-07",42.51,41.59,42.05,3,"2014-03-07",34.630000000000003,33.5,34.064999999999998,3,"2014-03-07",44.37,43.22,43.795000000000002,3,"2014-03-07",30.32,29.57,29.945]
[{"$f":"IF(ISNUMBER('FEA___(MPG-2)'!A17),'FEA___(MPG-2)'!A17,\"\")","v":6},{"$f":"IF(ISNUMBER(A10),'FEA___(MPG-2)'!F17,\"\")","v":"TEG"},{"$f":"IF(ISNUMBER(A10),'FEA___(MPG-2)'!D17,\"\")","v":"Integrys Energy Group, Inc."},55.359615384615381,null,4,"2014-02-28",51.68,49.74,50.71,4,"2014-02-28",54.45,53.02,53.734999999999999,4,"2014-02-28",30,29.35,29.675000000000001,4,"2014-02-28",72.650000000000006,71,71.825000000000003,4,"2014-02-28",56.65,55.15,55.9,4,"2014-02-28",57.74,55.39,56.564999999999998,4,"2014-02-28",92.77,90,91.384999999999991,4,"2014-02-28",32.200000000000003,31.41,31.805,4,"2014-02-28",95.84,91.02,93.43,4,"2014-02-28",42.7,41.67,42.185000000000002,4,"2014-02-28",35.24,33.51,34.375,4,"2014-02-28",44.23,43.33,43.78,4,"2014-02-28",30.33,29.8,30.064999999999998]
[{"$f":"IF(ISNUMBER('FEA___(MPG-2)'!A18),'FEA___(MPG-2)'!A18,\"\")","v":7},{"$f":"IF(ISNUMBER(A11),'FEA___(MPG-2)'!F18,\"\")","v":"NEE"},{"$f":"IF(ISNUMBER(A11),'FEA___(MPG-2)'!D18,\"\")","v":"NextEra Energy, Inc."},90.296153846153842,null,5,"2014-02-21",52.13,49.9,51.015000000000001,5,"2014-02-21",54.35,53.16,53.754999999999995,5,"2014-02-21",30.25,29.36,29.805,5,"2014-02-21",72.95,71.34,72.14500000000001,5,"2014-02-21",56.17,53.89,55.03,5,"2014-02-21",57.13,55.74,56.435000000000002,5,"2014-02-21",94.04,92.05,93.045000000000002,5,"2014-02-21",32.28,31.45,31.865000000000002,5,"2014-02-21",94.54,92.45,93.495000000000005,5,"2014-02-21",42.74,42.06,42.400000000000006,5,"2014-02-21",35.159999999999997,34.270000000000003,34.715000000000003,5,"2014-02-21",44.34,43.43,43.885000000000005,5,"2014-02-21",30.17,29.48,29.825000000000003]
[{"$f":"IF(ISNUMBER('FEA___(MPG-2)'!A19),'FEA___(MPG-2)'!A19,\"\")","v":8},{"$f":"IF(ISNUMBER(A12),'FEA___(MPG-2)'!F19,\"\")","v":"POR"},{"$f":"IF(ISNUMBER(A12),'FEA___(MPG-2)'!D19,\"\")","v":"Portland General Electric Company"},30.797692307692312,null,6,"2014-02-14",50,47.96,48.980000000000004,6,"2014-02-14",53.69,50.88,52.284999999999997,6,"2014-02-14",29.88,28.19,29.035,6,"2014-02-14",71.86,67.260000000000005,69.56,6,"2014-02-14",54.24,50.57,52.405000000000001,6,"2014-02-14",55.79,52.87,54.33,6,"2014-02-14",93.36,89.94,91.65,6,"2014-02-14",31.75,28.98,30.365000000000002,6,"2014-02-14",94.34,91.54,92.94,6,"2014-02-14",42.55,40.89,41.72,6,"2014-02-14",34.479999999999997,32.880000000000003,33.68,6,"2014-02-14",43.67,41.8,42.734999999999999,6,"2014-02-14",29.65,28.33,28.99]
[{"$f":"IF(ISNUMBER('FEA___(MPG-2)'!A20),'FEA___(MPG-2)'!A20,\"\")","v":9},{"$f":"IF(ISNUMBER(A13),'FEA___(MPG-2)'!F20,\"\")","v":"SRE"},{"$f":"IF(ISNUMBER(A13),'FEA___(MPG-2)'!D20,\"\")","v":"Sempra Energy"},92.834230769230757,null,7,"2014-02-07",50.49,48.17,49.33,7,"2014-02-07",52.52,50.38,51.45,7,"2014-02-07",29.27,28,28.634999999999998,7,"2014-02-07",69.06,66.78,67.92,7,"2014-02-07",52.88,50.21,51.545000000000002,7,"2014-02-07",54.83,52.08,53.454999999999998,7,"2014-02-07",92.75,89.01,90.88,7,"2014-02-07",30.65,28.98,29.814999999999998,7,"2014-02-07",94.44,89.87,92.155000000000001,7,"2014-02-07",41.96,40.700000000000003,41.33,7,"2014-02-07",33.49,32.270000000000003,32.880000000000003,7,"2014-02-07",43.22,41.58,42.4,7,"2014-02-07",29.33,28.21,28.77]
[{"$f":"IF(ISNUMBER('FEA___(MPG-2)'!A21),'FEA___(MPG-2)'!A21,\"\")","v":10},{"$f":"IF(ISNUMBER(A14),'FEA___(MPG-2)'!F21,\"\")","v":"SO"},{"$f":"IF(ISNUMBER(A14),'FEA___(MPG-2)'!D21,\"\")","v":"Southern Company"},41.858461538461533,null,8,"2014-01-31",49.99,48.42,49.204999999999998,8,"2014-01-31",52.19,50.51,51.349999999999994,8,"2014-01-31",29,28,28.5,8,"2014-01-31",68.34,65.489999999999995,66.914999999999992,8,"2014-01-31",53.13,51.54,52.335000000000001,8,"2014-01-31",54.52,53.28,53.900000000000006,8,"2014-01-31",92.25,86.12,89.185000000000002,8,"2014-01-31",30.39,29.42,29.905000000000001,8,"2014-01-31",92.94,89.93,91.435000000000002,8,"2014-01-31",41.87,40.299999999999997,41.084999999999994,8,"2014-01-31",33.200000000000003,32.25,32.725000000000001,8,"2014-01-31",42.71,41.18,41.945,8,"2014-01-31",29.02,28.02,28.52]
[{"$f":"IF(ISNUMBER('FEA___(MPG-2)'!A22),'FEA___(MPG-2)'!A22,\"\")","v":11},{"$f":"IF(ISNUMBER(A15),'FEA___(MPG-2)'!F22,\"\")","v":"WR"},{"$f":"IF(ISNUMBER(A15),'FEA___(MPG-2)'!D22,\"\")","v":"Westar Energy, Inc."},33.552692307692311,null,9,"2014-01-24",50.2,49.16,49.68,9,"2014-01-24",51.98,50.74,51.36,9,"2014-01-24",28.72,28.27,28.494999999999997,9,"2014-01-24",66.94,65.47,66.204999999999998,9,"2014-01-24",52.84,52.04,52.44,9,"2014-01-24",54.97,53.59,54.28,9,"2014-01-24",89.72,87.05,88.384999999999991,9,"2014-01-24",30.21,29.48,29.844999999999999,9,"2014-01-24",93.53,90.26,91.89500000000001,9,"2014-01-24",41.82,41.17,41.495000000000005,9,"2014-01-24",33.299999999999997,32.49,32.894999999999996,9,"2014-01-24",42.1,41.27,41.685000000000002,9,"2014-01-24",28.62,28.06,28.34]
[{"$f":"IF(ISNUMBER('FEA___(MPG-2)'!A23),'FEA___(MPG-2)'!A23,\"\")","v":12},{"$f":"IF(ISNUMBER(A16),'FEA___(MPG-2)'!F23,\"\")","v":"WEC"},{"$f":"IF(ISNUMBER(A16),'FEA___(MPG-2)'!D23,\"\")","v":"Wisconsin Energy Corporation"},42.946923076923071,null,10,"2014-01-17",49.85,48.8,49.325000000000003,10,"2014-01-17",51.83,51.09,51.46,10,"2014-01-17",28.4,27.99,28.195,10,"2014-01-17",66.67,65.319999999999993,65.995000000000005,10,"2014-01-17",52.93,51.61,52.269999999999996,10,"2014-01-17",54.11,53.46,53.784999999999997,10,"2014-01-17",87.85,86.1,86.974999999999994,10,"2014-01-17",30.12,29.3,29.71,10,"2014-01-17",92.75,90.53,91.64,10,"2014-01-17",41.48,40.93,41.204999999999998,10,"2014-01-17",33.380000000000003,32.35,32.865000000000002,10,"2014-01-17",41.43,40.61,41.019999999999996,10,"2014-01-17",28.34,27.91,28.125]
[{"$f":"IF(ISNUMBER('FEA___(MPG-2)'!A24),'FEA___(MPG-2)'!A24,\"\")","v":13},{"$f":"IF(ISNUMBER(A17),'FEA___(MPG-2)'!F24,\"\")","v":"XEL"},{"$f":"IF(ISNUMBER(A17),'FEA___(MPG-2)'!D24,\"\")","v":"Xcel Energy Inc."},29.09,null,11,"2014-01-10",50.09,48.59,49.34,11,"2014-01-10",51.98,50,50.989999999999995,11,"2014-01-10",28.41,27.71,28.060000000000002,11,"2014-01-10",67.34,64.92,66.13,11,"2014-01-10",53.2,50.84,52.02,11,"2014-01-10",54.7,52.91,53.805,11,"2014-01-10",87.8,84,85.9,11,"2014-01-10",30.19,29.13,29.66,11,"2014-01-10",92.97,86.73,89.85,11,"2014-01-10",41.69,40.28,40.984999999999999,11,"2014-01-10",33.5,31.92,32.71,11,"2014-01-10",41.72,40.17,40.945,11,"2014-01-10",28.38,27.27,27.824999999999999]
[{"$f":"IF(ISNUMBER('FEA___(MPG-2)'!A25),'FEA___(MPG-2)'!A25,\"\")","v":""},{"$f":"IF(ISNUMBER(A18),'FEA___(MPG-2)'!F25,\"\")","v":""},{"$f":"IF(ISNUMBER(A18),'FEA___(MPG-2)'!D25,\"\")","v":""},"",null,12,"2014-01-03",50.18,48.81,49.495000000000005,12,"2014-01-03",51.93,50.42,51.174999999999997,12,"2014-01-03",28.51,27.8,28.155000000000001,12,"2014-01-03",66.650000000000006,64.84,65.745000000000005,12,"2014-01-03",52.44,50.69,51.564999999999998,12,"2014-01-03",54.79,53.1,53.945,12,"2014-01-03",85.84,83.97,84.905000000000001,12,"2014-01-03",30.31,29.3,29.805,12,"2014-01-03",89.99,88.11,89.05,12,"2014-01-03",41.2,40.270000000000003,40.734999999999999,12,"2014-01-03",32.32,31.67,31.995000000000001,12,"2014-01-03",41.67,40.409999999999997,41.04,12,"2014-01-03",28.09,27.38,27.734999999999999]
[{"$f":"IF(ISNUMBER('FEA___(MPG-2)'!A26),'FEA___(MPG-2)'!A26,\"\")","v":""},{"$f":"IF(ISNUMBER(A19),'FEA___(MPG-2)'!F26,\"\")","v":""},{"$f":"IF(ISNUMBER(A19),'FEA___(MPG-2)'!D26,\"\")","v":""},""]
[{"$f":"IF(ISNUMBER('FEA___(MPG-2)'!A27),'FEA___(MPG-2)'!A27,\"\")","v":""},{"$f":"IF(ISNUMBER(A20),'FEA___(MPG-2)'!F27,\"\")","v":""},{"$f":"IF(ISNUMBER(A20),'FEA___(MPG-2)'!D27,\"\")","v":""},""]
[{"$f":"IF(ISNUMBER('FEA___(MPG-2)'!A28),'FEA___(MPG-2)'!A28,\"\")","v":""},{"$f":"IF(ISNUMBER(A21),'FEA___(MPG-2)'!F28,\"\")","v":""},{"$f":"IF(ISNUMBER(A21),'FEA___(MPG-2)'!D28,\"\")","v":""},""]
[{"$f":"IF(ISNUMBER('FEA___(MPG-2)'!A29),'FEA___(MPG-2)'!A29,\"\")","v":""},{"$f":"IF(ISNUMBER(A22),'FEA___(MPG-2)'!F29,\"\")","v":""},{"$f":"IF(ISNUMBER(A22),'FEA___(MPG-2)'!D29,\"\")","v":""},""]
[{"$f":"IF(ISNUMBER('FEA___(MPG-2)'!A30),'FEA___(MPG-2)'!A30,\"\")","v":""},{"$f":"IF(ISNUMBER(A23),'FEA___(MPG-2)'!F30,\"\")","v":""},{"$f":"IF(ISNUMBER(A23),'FEA___(MPG-2)'!D30,\"\")","v":""},""]
[{"$f":"IF(ISNUMBER('FEA___(MPG-2)'!A31),'FEA___(MPG-2)'!A31,\"\")","v":""},{"$f":"IF(ISNUMBER(A24),'FEA___(MPG-2)'!F31,\"\")","v":""},{"$f":"IF(ISNUMBER(A24),'FEA___(MPG-2)'!D31,\"\")","v":""},""]
[{"$f":"IF(ISNUMBER('FEA___(MPG-2)'!A32),'FEA___(MPG-2)'!A32,\"\")","v":""},{"$f":"IF(ISNUMBER(A25),'FEA___(MPG-2)'!F32,\"\")","v":""},{"$f":"IF(ISNUMBER(A25),'FEA___(MPG-2)'!D32,\"\")","v":""},""]
[{"$f":"IF(ISNUMBER('FEA___(MPG-2)'!A33),'FEA___(MPG-2)'!A33,\"\")","v":""},{"$f":"IF(ISNUMBER(A26),'FEA___(MPG-2)'!F33,\"\")","v":""},{"$f":"IF(ISNUMBER(A26),'FEA___(MPG-2)'!D33,\"\")","v":""},""]
[{"$f":"IF(ISNUMBER('FEA___(MPG-2)'!A34),'FEA___(MPG-2)'!A34,\"\")","v":""},{"$f":"IF(ISNUMBER(A27),'FEA___(MPG-2)'!F34,\"\")","v":""},{"$f":"IF(ISNUMBER(A27),'FEA___(MPG-2)'!D34,\"\")","v":""},""]
[{"$f":"IF(ISNUMBER('FEA___(MPG-2)'!A35),'FEA___(MPG-2)'!A35,\"\")","v":""},{"$f":"IF(ISNUMBER(A28),'FEA___(MPG-2)'!F35,\"\")","v":""},{"$f":"IF(ISNUMBER(A28),'FEA___(MPG-2)'!D35,\"\")","v":""},""]
[{"$f":"IF(ISNUMBER('FEA___(MPG-2)'!A36),'FEA___(MPG-2)'!A36,\"\")","v":""},{"$f":"IF(ISNUMBER(A29),'FEA___(MPG-2)'!F36,\"\")","v":""},{"$f":"IF(ISNUMBER(A29),'FEA___(MPG-2)'!D36,\"\")","v":""},""]
[{"$f":"IF(ISNUMBER('FEA___(MPG-2)'!A37),'FEA___(MPG-2)'!A37,\"\")","v":""},{"$f":"IF(ISNUMBER(A30),'FEA___(MPG-2)'!F37,\"\")","v":""},{"$f":"IF(ISNUMBER(A30),'FEA___(MPG-2)'!D37,\"\")","v":""},""]
[{"$f":"IF(ISNUMBER('FEA___(MPG-2)'!A38),'FEA___(MPG-2)'!A38,\"\")","v":""},{"$f":"IF(ISNUMBER(A31),'FEA___(MPG-2)'!F38,\"\")","v":""},{"$f":"IF(ISNUMBER(A31),'FEA___(MPG-2)'!D38,\"\")","v":""},""]
[{"$f":"IF(ISNUMBER('FEA___(MPG-2)'!A39),'FEA___(MPG-2)'!A39,\"\")","v":""},{"$f":"IF(ISNUMBER(A32),'FEA___(MPG-2)'!F39,\"\")","v":""},{"$f":"IF(ISNUMBER(A32),'FEA___(MPG-2)'!D39,\"\")","v":""},""]
[{"$f":"IF(ISNUMBER('FEA___(MPG-2)'!A40),'FEA___(MPG-2)'!A40,\"\")","v":""},{"$f":"IF(ISNUMBER(A33),'FEA___(MPG-2)'!F40,\"\")","v":""},{"$f":"IF(ISNUMBER(A33),'FEA___(MPG-2)'!D40,\"\")","v":""},""]
[{"$f":"IF(ISNUMBER('FEA___(MPG-2)'!A41),'FEA___(MPG-2)'!A41,\"\")","v":""},{"$f":"IF(ISNUMBER(A34),'FEA___(MPG-2)'!F41,\"\")","v":""},{"$f":"IF(ISNUMBER(A34),'FEA___(MPG-2)'!D41,\"\")","v":""},""]
[{"$f":"IF(ISNUMBER('FEA___(MPG-2)'!A42),'FEA___(MPG-2)'!A42,\"\")","v":""},{"$f":"IF(ISNUMBER(A35),'FEA___(MPG-2)'!F42,\"\")","v":""},{"$f":"IF(ISNUMBER(A35),'FEA___(MPG-2)'!D42,\"\")","v":""},""]
[{"$f":"IF(ISNUMBER('FEA___(MPG-2)'!A43),'FEA___(MPG-2)'!A43,\"\")","v":""},{"$f":"IF(ISNUMBER(A36),'FEA___(MPG-2)'!F43,\"\")","v":""},{"$f":"IF(ISNUMBER(A36),'FEA___(MPG-2)'!D43,\"\")","v":""},""]
[{"$f":"IF(ISNUMBER('FEA___(MPG-2)'!A44),'FEA___(MPG-2)'!A44,\"\")","v":""},{"$f":"IF(ISNUMBER(A37),'FEA___(MPG-2)'!F44,\"\")","v":""},{"$f":"IF(ISNUMBER(A37),'FEA___(MPG-2)'!D44,\"\")","v":""},{"$f":"IFERROR(INDEX(AvgStockPrice,1,MATCH(B37,AvgStockPrice,0)+3),\"\")","v":""}]
[{"$f":"IF(ISNUMBER('FEA___(MPG-2)'!A45),'FEA___(MPG-2)'!A45,\"\")","v":""},{"$f":"IF(ISNUMBER(A38),'FEA___(MPG-2)'!F45,\"\")","v":""},{"$f":"IF(ISNUMBER(A38),'FEA___(MPG-2)'!D45,\"\")","v":""},""]
[{"$f":"IF(ISNUMBER('FEA___(MPG-2)'!A46),'FEA___(MPG-2)'!A46,\"\")","v":""},{"$f":"IF(ISNUMBER(A39),'FEA___(MPG-2)'!F46,\"\")","v":""},{"$f":"IF(ISNUMBER(A39),'FEA___(MPG-2)'!D46,\"\")","v":""},""]
[{"$f":"IF(ISNUMBER('FEA___(MPG-2)'!A47),'FEA___(MPG-2)'!A47,\"\")","v":""},{"$f":"IF(ISNUMBER(A40),'FEA___(MPG-2)'!F47,\"\")","v":""},{"$f":"IF(ISNUMBER(A40),'FEA___(MPG-2)'!D47,\"\")","v":""},""]
[{"$f":"IF(ISNUMBER('FEA___(MPG-2)'!A48),'FEA___(MPG-2)'!A48,\"\")","v":""},{"$f":"IF(ISNUMBER(A41),'FEA___(MPG-2)'!F48,\"\")","v":""},{"$f":"IF(ISNUMBER(A41),'FEA___(MPG-2)'!D48,\"\")","v":""},""]
[{"$f":"IF(ISNUMBER('FEA___(MPG-2)'!A49),'FEA___(MPG-2)'!A49,\"\")","v":""},{"$f":"IF(ISNUMBER(A42),'FEA___(MPG-2)'!F49,\"\")","v":""},{"$f":"IF(ISNUMBER(A42),'FEA___(MPG-2)'!D49,\"\")","v":""},""]
[{"$f":"IF(ISNUMBER('FEA___(MPG-2)'!A50),'FEA___(MPG-2)'!A50,\"\")","v":""},{"$f":"IF(ISNUMBER(A43),'FEA___(MPG-2)'!F50,\"\")","v":""},{"$f":"IF(ISNUMBER(A43),'FEA___(MPG-2)'!D50,\"\")","v":""},""]
[{"$f":"IF(ISNUMBER('FEA___(MPG-2)'!A51),'FEA___(MPG-2)'!A51,\"\")","v":""},{"$f":"IF(ISNUMBER(A44),'FEA___(MPG-2)'!F51,\"\")","v":""},{"$f":"IF(ISNUMBER(A44),'FEA___(MPG-2)'!D51,\"\")","v":""},""]
[{"$f":"IF(ISNUMBER('FEA___(MPG-2)'!A52),'FEA___(MPG-2)'!A52,\"\")","v":""},{"$f":"IF(ISNUMBER(A45),'FEA___(MPG-2)'!F52,\"\")","v":""},{"$f":"IF(ISNUMBER(A45),'FEA___(MPG-2)'!D52,\"\")","v":""},""]
[{"$f":"IF(ISNUMBER('FEA___(MPG-2)'!A53),'FEA___(MPG-2)'!A53,\"\")","v":""},{"$f":"IF(ISNUMBER(A46),'FEA___(MPG-2)'!F53,\"\")","v":""},{"$f":"IF(ISNUMBER(A46),'FEA___(MPG-2)'!D53,\"\")","v":""},""]
[{"$f":"IF(ISNUMBER('FEA___(MPG-2)'!A54),'FEA___(MPG-2)'!A54,\"\")","v":""},{"$f":"IF(ISNUMBER(A47),'FEA___(MPG-2)'!F54,\"\")","v":""},{"$f":"IF(ISNUMBER(A47),'FEA___(MPG-2)'!D54,\"\")","v":""},""]
[{"$f":"IF(ISNUMBER('FEA___(MPG-2)'!A55),'FEA___(MPG-2)'!A55,\"\")","v":""},{"$f":"IF(ISNUMBER(A48),'FEA___(MPG-2)'!F55,\"\")","v":""},{"$f":"IF(ISNUMBER(A48),'FEA___(MPG-2)'!D55,\"\")","v":""},""]
[{"$f":"IF(ISNUMBER('FEA___(MPG-2)'!A56),'FEA___(MPG-2)'!A56,\"\")","v":""},{"$f":"IF(ISNUMBER(A49),'FEA___(MPG-2)'!F56,\"\")","v":""},{"$f":"IF(ISNUMBER(A49),'FEA___(MPG-2)'!D56,\"\")","v":""},""]
[{"$f":"IF(ISNUMBER('FEA___(MPG-2)'!A57),'FEA___(MPG-2)'!A57,\"\")","v":""},{"$f":"IF(ISNUMBER(A50),'FEA___(MPG-2)'!F57,\"\")","v":""},{"$f":"IF(ISNUMBER(A50),'FEA___(MPG-2)'!D57,\"\")","v":""},""]
[{"$f":"IF(ISNUMBER('FEA___(MPG-2)'!A58),'FEA___(MPG-2)'!A58,\"\")","v":""},{"$f":"IF(ISNUMBER(A51),'FEA___(MPG-2)'!F58,\"\")","v":""},{"$f":"IF(ISNUMBER(A51),'FEA___(MPG-2)'!D58,\"\")","v":""},""]
[{"$f":"IF(ISNUMBER('FEA___(MPG-2)'!A59),'FEA___(MPG-2)'!A59,\"\")","v":""},{"$f":"IF(ISNUMBER(A52),'FEA___(MPG-2)'!F59,\"\")","v":""},{"$f":"IF(ISNUMBER(A52),'FEA___(MPG-2)'!D59,\"\")","v":""},""]
[{"$f":"IF(ISNUMBER('FEA___(MPG-2)'!A60),'FEA___(MPG-2)'!A60,\"\")","v":""},{"$f":"IF(ISNUMBER(A53),'FEA___(MPG-2)'!F60,\"\")","v":""},{"$f":"IF(ISNUMBER(A53),'FEA___(MPG-2)'!D60,\"\")","v":""},""]
[{"$f":"IF(ISNUMBER('FEA___(MPG-2)'!A61),'FEA___(MPG-2)'!A61,\"\")","v":""},{"$f":"IF(ISNUMBER(A54),'FEA___(MPG-2)'!F61,\"\")","v":""},{"$f":"IF(ISNUMBER(A54),'FEA___(MPG-2)'!D61,\"\")","v":""},""]
[]
[{"$f":"IF(C56=\"\",\"\",MAX(A5:A55)+1)","v":14},null,{"$f":"IF(B5=\"\",\"\",\"Average\")","v":"Average"},{"$f":"AVERAGE(D5:D54)","v":51.623994082840234}]

{"sheet":"Graph (WP)","index":24,"n_rows":100,"n_cols":8,"rows_kept":100,"cut":false,"hidden":false,"merged":[]}
["Graph Workpaper"]
[]
[null,"30-Year Treasury Bond"]
[null,null,"\"A\" Rated Utility Bond Yield"]
["Month",null,null,"\"Baa\" Rated Utility Bond Yield",null,null,"A Spread","Baa Spread"]
["2006-02-01",{"$f":"VLOOKUP(A6,'Monthly Yields (WP)'!$B$8:$C$6000,2)/100","v":4.5400000000000003E-2},{"$f":"('MBR (WP)'!I105)/100","v":5.8200000000000002E-2},{"$f":"('MBR (WP)'!J105)/100","v":6.1100000000000002E-2},null,"Feb 06",{"$f":"(C6-B6)","v":1.2799999999999999E-2},{"$f":"(D6-B6)","v":1.5699999999999999E-2}]
["2006-03-01",{"$f":"VLOOKUP(A7,'Monthly Yields (WP)'!$B$8:$C$6000,2)/100","v":4.7300000000000002E-2},{"$f":"('MBR (WP)'!I106)/100","v":5.9800000000000006E-2},{"$f":"('MBR (WP)'!J106)/100","v":6.2600000000000003E-2},null,"Mar 06",{"$f":"(C7-B7)","v":1.2500000000000004E-2},1.5300000000000001E-2]
["2006-04-01",{"$f":"VLOOKUP(A8,'Monthly Yields (WP)'!$B$8:$C$6000,2)/100","v":5.0599999999999999E-2},{"$f":"('MBR (WP)'!I107)/100","v":6.2899999999999998E-2},{"$f":"('MBR (WP)'!J107)/100","v":6.54E-2},null,"Apr 06",{"$f":"(C8-B8)","v":1.2299999999999998E-2},1.4800000000000001E-2]
["2006-05-01",{"$f":"VLOOKUP(A9,'Monthly Yields (WP)'!$B$8:$C$6000,2)/100","v":5.2000000000000005E-2},{"$f":"('MBR (WP)'!I108)/100","v":6.4199999999999993E-2},{"$f":"('MBR (WP)'!J108)/100","v":6.59E-2},null,"May 06",1.2199999999999989E-2,1.3899999999999996E-2]
["2006-06-01",{"$f":"VLOOKUP(A10,'Monthly Yields (WP)'!$B$8:$C$6000,2)/100","v":5.1500000000000004E-2},{"$f":"('MBR (WP)'!I109)/100","v":6.4000000000000001E-2},{"$f":"('MBR (WP)'!J109)/100","v":6.6100000000000006E-2},null,"Jun 06",1.2499999999999997E-2,1.4600000000000002E-2]
["2006-07-01",{"$f":"VLOOKUP(A11,'Monthly Yields (WP)'!$B$8:$C$6000,2)/100","v":5.1299999999999998E-2},{"$f":"('MBR (WP)'!I110)/100","v":6.3700000000000007E-2},{"$f":"('MBR (WP)'!J110)/100","v":6.6100000000000006E-2},null,"Jul 06",1.2400000000000008E-2,1.4800000000000008E-2]
["2006-08-01",{"$f":"VLOOKUP(A12,'Monthly Yields (WP)'!$B$8:$C$6000,2)/100","v":0.05},{"$f":"('MBR (WP)'!I111)/100","v":6.2E-2},{"$f":"('MBR (WP)'!J111)/100","v":6.4299999999999996E-2},null,"Aug 06",1.1999999999999997E-2,1.4299999999999993E-2]
["2006-09-01",{"$f":"VLOOKUP(A13,'Monthly Yields (WP)'!$B$8:$C$6000,2)/100","v":4.8499999999999995E-2},{"$f":"('MBR (WP)'!I112)/100","v":0.06},{"$f":"('MBR (WP)'!J112)/100","v":6.2600000000000003E-2},null,"Sep 06",1.1500000000000003E-2,1.4100000000000008E-2]
["2006-10-01",{"$f":"VLOOKUP(A14,'Monthly Yields (WP)'!$B$8:$C$6000,2)/100","v":4.8499999999999995E-2},{"$f":"('MBR (WP)'!I113)/100","v":5.9800000000000006E-2},{"$f":"('MBR (WP)'!J113)/100","v":6.2400000000000004E-2},null,"Oct 06",1.1300000000000011E-2,1.390000000000001E-2]
["2006-11-01",{"$f":"VLOOKUP(A15,'Monthly Yields (WP)'!$B$8:$C$6000,2)/100","v":4.6900000000000004E-2},{"$f":"('MBR (WP)'!I114)/100","v":5.7999999999999996E-2},{"$f":"('MBR (WP)'!J114)/100","v":6.0400000000000002E-2},null,"Nov 06",1.1099999999999992E-2,1.3499999999999998E-2]
["2006-12-01",{"$f":"VLOOKUP(A16,'Monthly Yields (WP)'!$B$8:$C$6000,2)/100","v":4.6799999999999994E-2},{"$f":"('MBR (WP)'!I115)/100","v":5.8099999999999999E-2},{"$f":"('MBR (WP)'!J115)/100","v":6.0499999999999998E-2},null,"Dec 06",1.1300000000000004E-2,1.3700000000000004E-2]
["2007-01-01",{"$f":"VLOOKUP(A17,'Monthly Yields (WP)'!$B$8:$C$6000,2)/100","v":4.8499999999999995E-2},{"$f":"('MBR (WP)'!I120)/100","v":5.96E-2},{"$f":"('MBR (WP)'!J120)/100","v":6.1600000000000002E-2},null,"Jan 07",1.1100000000000006E-2,1.3100000000000007E-2]
["2007-02-01",{"$f":"VLOOKUP(A18,'Monthly Yields (WP)'!$B$8:$C$6000,2)/100","v":4.82E-2},{"$f":"('MBR (WP)'!I121)/100","v":5.9000000000000004E-2},{"$f":"('MBR (WP)'!J121)/100","v":6.0999999999999999E-2},null,"Feb 07",1.0800000000000004E-2,1.2799999999999999E-2]
["2007-03-01",{"$f":"VLOOKUP(A19,'Monthly Yields (WP)'!$B$8:$C$6000,2)/100","v":4.7199999999999999E-2},{"$f":"('MBR (WP)'!I122)/100","v":5.8499999999999996E-2},{"$f":"('MBR (WP)'!J122)/100","v":6.0999999999999999E-2},null,"Mar 07",1.1299999999999998E-2,1.38E-2]
["2007-04-01",{"$f":"VLOOKUP(A20,'Monthly Yields (WP)'!$B$8:$C$6000,2)/100","v":4.87E-2},{"$f":"('MBR (WP)'!I123)/100","v":5.9699999999999996E-2},{"$f":"('MBR (WP)'!J123)/100","v":6.2400000000000004E-2},null,"Apr 07",1.0999999999999996E-2,1.3700000000000004E-2]
["2007-05-01",{"$f":"VLOOKUP(A21,'Monthly Yields (WP)'!$B$8:$C$6000,2)/100","v":4.9000000000000002E-2},{"$f":"('MBR (WP)'!I124)/100","v":5.9900000000000002E-2},{"$f":"('MBR (WP)'!J124)/100","v":6.2300000000000001E-2},null,"May 07",1.09E-2,1.3299999999999999E-2]
["2007-06-01",{"$f":"VLOOKUP(A22,'Monthly Yields (WP)'!$B$8:$C$6000,2)/100","v":5.2000000000000005E-2},{"$f":"('MBR (WP)'!I125)/100","v":6.3E-2},{"$f":"('MBR (WP)'!J125)/100","v":6.54E-2},null,"Jun 07",1.0999999999999996E-2,1.3399999999999995E-2]
["2007-07-01",{"$f":"VLOOKUP(A23,'Monthly Yields (WP)'!$B$8:$C$6000,2)/100","v":5.1100000000000007E-2},{"$f":"('MBR (WP)'!I126)/100","v":6.25E-2},{"$f":"('MBR (WP)'!J126)/100","v":6.4899999999999999E-2},null,"Jul 07",1.1399999999999993E-2,1.3799999999999993E-2]
["2007-08-01",{"$f":"VLOOKUP(A24,'Monthly Yields (WP)'!$B$8:$C$6000,2)/100","v":4.9299999999999997E-2},{"$f":"('MBR (WP)'!I127)/100","v":6.2400000000000004E-2},{"$f":"('MBR (WP)'!J127)/100","v":6.5099999999999991E-2},null,"Aug 07",1.3100000000000007E-2,1.5799999999999995E-2]
["2007-09-01",{"$f":"VLOOKUP(A25,'Monthly Yields (WP)'!$B$8:$C$6000,2)/100","v":4.7899999999999998E-2},{"$f":"('MBR (WP)'!I128)/100","v":6.1799999999999994E-2},{"$f":"('MBR (WP)'!J128)/100","v":6.4500000000000002E-2},null,"Sep 07",1.3899999999999996E-2,1.6600000000000004E-2]
["2007-10-01",{"$f":"VLOOKUP(A26,'Monthly Yields (WP)'!$B$8:$C$6000,2)/100","v":4.7699999999999992E-2},{"$f":"('MBR (WP)'!I129)/100","v":6.1100000000000002E-2},{"$f":"('MBR (WP)'!J129)/100","v":6.3600000000000004E-2},null,"Oct 07",1.3400000000000009E-2,1.5900000000000011E-2]
["2007-11-01",{"$f":"VLOOKUP(A27,'Monthly Yields (WP)'!$B$8:$C$6000,2)/100","v":4.5199999999999997E-2},{"$f":"('MBR (WP)'!I130)/100","v":5.9699999999999996E-2},{"$f":"('MBR (WP)'!J130)/100","v":6.2699999999999992E-2},null,"Nov 07",1.4499999999999999E-2,1.7499999999999995E-2]
["2007-12-01",{"$f":"VLOOKUP(A28,'Monthly Yields (WP)'!$B$8:$C$6000,2)/100","v":4.53E-2},{"$f":"('MBR (WP)'!I131)/100","v":6.1600000000000002E-2},{"$f":"('MBR (WP)'!J131)/100","v":6.5099999999999991E-2},null,"Dec 07",1.6300000000000002E-2,1.9799999999999991E-2]
["2008-01-01",{"$f":"VLOOKUP(A29,'Monthly Yields (WP)'!$B$8:$C$6000,2)/100","v":4.3299999999999998E-2},{"$f":"('MBR (WP)'!I136)/100","v":6.0199999999999997E-2},{"$f":"('MBR (WP)'!J136)/100","v":6.3500000000000001E-2},null,"Jan 08",1.6899999999999998E-2,2.0200000000000003E-2]
["2008-02-01",{"$f":"VLOOKUP(A30,'Monthly Yields (WP)'!$B$8:$C$6000,2)/100","v":4.5199999999999997E-2},{"$f":"('MBR (WP)'!I137)/100","v":6.2100000000000002E-2},{"$f":"('MBR (WP)'!J137)/100","v":6.6000000000000003E-2},null,"Feb 08",1.6900000000000005E-2,2.0800000000000006E-2]
["2008-03-01",{"$f":"VLOOKUP(A31,'Monthly Yields (WP)'!$B$8:$C$6000,2)/100","v":4.3899999999999995E-2},{"$f":"('MBR (WP)'!I138)/100","v":6.2100000000000002E-2},{"$f":"('MBR (WP)'!J138)/100","v":6.6799999999999998E-2},null,"Mar 08",1.8200000000000008E-2,2.2900000000000004E-2]
["2008-04-01",{"$f":"VLOOKUP(A32,'Monthly Yields (WP)'!$B$8:$C$6000,2)/100","v":4.4400000000000002E-2},{"$f":"('MBR (WP)'!I139)/100","v":6.2899999999999998E-2},{"$f":"('MBR (WP)'!J139)/100","v":6.8099999999999994E-2},null,"Apr 08",1.8499999999999996E-2,2.3699999999999992E-2]
["2008-05-01",{"$f":"VLOOKUP(A33,'Monthly Yields (WP)'!$B$8:$C$6000,2)/100","v":4.5999999999999999E-2},{"$f":"('MBR (WP)'!I140)/100","v":6.2699999999999992E-2},{"$f":"('MBR (WP)'!J140)/100","v":6.7900000000000002E-2},null,"May 08",1.6699999999999993E-2,2.1900000000000003E-2]
["2008-06-01",{"$f":"VLOOKUP(A34,'Monthly Yields (WP)'!$B$8:$C$6000,2)/100","v":4.6900000000000004E-2},{"$f":"('MBR (WP)'!I141)/100","v":6.3799999999999996E-2},{"$f":"('MBR (WP)'!J141)/100","v":6.93E-2},null,"Jun 08",1.6899999999999991E-2,2.2399999999999996E-2]
["2008-07-01",{"$f":"VLOOKUP(A35,'Monthly Yields (WP)'!$B$8:$C$6000,2)/100","v":4.5700000000000005E-2},{"$f":"('MBR (WP)'!I142)/100","v":6.4000000000000001E-2},{"$f":"('MBR (WP)'!J142)/100","v":6.9699999999999998E-2},null,"Jul 08",1.8299999999999997E-2,2.3999999999999994E-2]
["2008-08-01",{"$f":"VLOOKUP(A36,'Monthly Yields (WP)'!$B$8:$C$6000,2)/100","v":4.4999999999999998E-2},{"$f":"('MBR (WP)'!I143)/100","v":6.3700000000000007E-2},{"$f":"('MBR (WP)'!J143)/100","v":6.9800000000000001E-2},null,"Aug 08",1.8700000000000008E-2,2.4800000000000003E-2]
["2008-09-01",{"$f":"VLOOKUP(A37,'Monthly Yields (WP)'!$B$8:$C$6000,2)/100","v":4.2699999999999995E-2},{"$f":"('MBR (WP)'!I144)/100","v":6.4899999999999999E-2},{"$f":"('MBR (WP)'!J144)/100","v":7.1500000000000008E-2},null,"Sep 08",2.2200000000000004E-2,2.8800000000000013E-2]
["2008-10-01",{"$f":"VLOOKUP(A38,'Monthly Yields (WP)'!$B$8:$C$6000,2)/100","v":4.1700000000000001E-2},{"$f":"('MBR (WP)'!I145)/100","v":7.5600000000000001E-2},{"$f":"('MBR (WP)'!J145)/100","v":8.5800000000000001E-2},null,"Oct 08",3.39E-2,4.41E-2]
["2008-11-01",{"$f":"VLOOKUP(A39,'Monthly Yields (WP)'!$B$8:$C$6000,2)/100","v":0.04},{"$f":"('MBR (WP)'!I146)/100","v":7.5999999999999998E-2},{"$f":"('MBR (WP)'!J146)/100","v":8.9800000000000005E-2},null,"Nov 08",3.5999999999999997E-2,4.9800000000000004E-2]
["2008-12-01",{"$f":"VLOOKUP(A40,'Monthly Yields (WP)'!$B$8:$C$6000,2)/100","v":2.87E-2},{"$f":"('MBR (WP)'!I147)/100","v":6.54E-2},{"$f":"('MBR (WP)'!J147)/100","v":8.1300000000000011E-2},null,"Dec 08",3.6699999999999997E-2,5.2600000000000008E-2]
["2009-01-01",{"$f":"VLOOKUP(A41,'Monthly Yields (WP)'!$B$8:$C$6000,2)/100","v":3.1300000000000001E-2},{"$f":"('MBR (WP)'!I152)/100","v":6.3899999999999998E-2},{"$f":"('MBR (WP)'!J152)/100","v":7.9000000000000001E-2},null,"Jan 09",3.2599999999999997E-2,4.7699999999999999E-2]
["2009-02-01",{"$f":"VLOOKUP(A42,'Monthly Yields (WP)'!$B$8:$C$6000,2)/100","v":3.5900000000000001E-2},{"$f":"('MBR (WP)'!I153)/100","v":6.3E-2},{"$f":"('MBR (WP)'!J153)/100","v":7.7399999999999997E-2},null,"Feb 09",2.7099999999999999E-2,4.1499999999999995E-2]
["2009-03-01",{"$f":"VLOOKUP(A43,'Monthly Yields (WP)'!$B$8:$C$6000,2)/100","v":3.6400000000000002E-2},{"$f":"('MBR (WP)'!I154)/100","v":6.4199999999999993E-2},{"$f":"('MBR (WP)'!J154)/100","v":0.08},null,"Mar 09",2.7799999999999991E-2,4.36E-2]
["2009-04-01",{"$f":"VLOOKUP(A44,'Monthly Yields (WP)'!$B$8:$C$6000,2)/100","v":3.7599999999999995E-2},{"$f":"('MBR (WP)'!I155)/100","v":6.480000000000001E-2},{"$f":"('MBR (WP)'!J155)/100","v":8.0299999999999996E-2},null,"Apr 09",2.7200000000000016E-2,4.2700000000000002E-2]
["2009-05-01",{"$f":"VLOOKUP(A45,'Monthly Yields (WP)'!$B$8:$C$6000,2)/100","v":4.2300000000000004E-2},{"$f":"('MBR (WP)'!I156)/100","v":6.4899999999999999E-2},{"$f":"('MBR (WP)'!J156)/100","v":7.7600000000000002E-2},null,"May 09",2.2599999999999995E-2,3.5299999999999998E-2]
["2009-06-01",{"$f":"VLOOKUP(A46,'Monthly Yields (WP)'!$B$8:$C$6000,2)/100","v":4.5199999999999997E-2},{"$f":"('MBR (WP)'!I157)/100","v":6.2E-2},{"$f":"('MBR (WP)'!J157)/100","v":7.2999999999999995E-2},null,"Jun 09",1.6800000000000002E-2,2.7799999999999998E-2]
["2009-07-01",{"$f":"VLOOKUP(A47,'Monthly Yields (WP)'!$B$8:$C$6000,2)/100","v":4.41E-2},{"$f":"('MBR (WP)'!I158)/100","v":5.9699999999999996E-2},{"$f":"('MBR (WP)'!J158)/100","v":6.8699999999999997E-2},null,"Jul 09",1.5599999999999996E-2,2.4599999999999997E-2]
["2009-08-01",{"$f":"VLOOKUP(A48,'Monthly Yields (WP)'!$B$8:$C$6000,2)/100","v":4.3700000000000003E-2},{"$f":"('MBR (WP)'!I159)/100","v":5.7099999999999998E-2},{"$f":"('MBR (WP)'!J159)/100","v":6.3600000000000004E-2},null,"Aug 09",1.3399999999999995E-2,1.9900000000000001E-2]
["2009-09-01",{"$f":"VLOOKUP(A49,'Monthly Yields (WP)'!$B$8:$C$6000,2)/100","v":4.1900000000000007E-2},{"$f":"('MBR (WP)'!I160)/100","v":5.5304761904761898E-2},{"$f":"('MBR (WP)'!J160)/100","v":6.1185714285714302E-2},null,"Sep 09",1.3404761904761892E-2,1.9285714285714295E-2]
["2009-10-01",{"$f":"VLOOKUP(A50,'Monthly Yields (WP)'!$B$8:$C$6000,2)/100","v":4.1900000000000007E-2},{"$f":"('MBR (WP)'!I161)/100","v":5.5374999999999994E-2},{"$f":"('MBR (WP)'!J161)/100","v":6.1340000000000006E-2},null,"Oct 09",1.3474999999999987E-2,1.9439999999999999E-2]
["2009-11-01",{"$f":"VLOOKUP(A51,'Monthly Yields (WP)'!$B$8:$C$6000,2)/100","v":4.3099999999999999E-2},{"$f":"('MBR (WP)'!I162)/100","v":5.6381249999999994E-2},{"$f":"('MBR (WP)'!J162)/100","v":6.186875E-2},null,"Nov 09",1.3281249999999994E-2,1.8768750000000001E-2]
["2009-12-01",{"$f":"VLOOKUP(A52,'Monthly Yields (WP)'!$B$8:$C$6000,2)/100","v":4.4900000000000002E-2},{"$f":"('MBR (WP)'!I163)/100","v":5.7747368421052603E-2},{"$f":"('MBR (WP)'!J163)/100","v":6.2626315789473697E-2},null,"Dec 09",1.28473684210526E-2,1.7726315789473694E-2]
["2010-01-01",{"$f":"VLOOKUP(A53,'Monthly Yields (WP)'!$B$8:$C$6000,2)/100","v":4.5999999999999999E-2},{"$f":"('MBR (WP)'!I168)/100","v":5.7726315789473695E-2},{"$f":"('MBR (WP)'!J168)/100","v":6.1557894736842096E-2},null,"Jan 10",1.1726315789473696E-2,1.5557894736842097E-2]
["2010-02-01",{"$f":"VLOOKUP(A54,'Monthly Yields (WP)'!$B$8:$C$6000,2)/100","v":4.6199999999999998E-2},{"$f":"('MBR (WP)'!I169)/100","v":5.8705263157894698E-2},{"$f":"('MBR (WP)'!J169)/100","v":6.2463157894736901E-2},null,"Feb 10",1.25052631578947E-2,1.6263157894736903E-2]
["2010-03-01",{"$f":"VLOOKUP(A55,'Monthly Yields (WP)'!$B$8:$C$6000,2)/100","v":4.6399999999999997E-2},{"$f":"('MBR (WP)'!I170)/100","v":5.8409523809523793E-2},{"$f":"('MBR (WP)'!J170)/100","v":6.2204761904761895E-2},null,"Mar 10",1.2009523809523796E-2,1.5804761904761898E-2]
["2010-04-01",{"$f":"VLOOKUP(A56,'Monthly Yields (WP)'!$B$8:$C$6000,2)/100","v":4.6900000000000004E-2},{"$f":"('MBR (WP)'!I171)/100","v":5.8099999999999999E-2},{"$f":"('MBR (WP)'!J171)/100","v":6.1880952380952384E-2},null,"Apr 10",1.1199999999999995E-2,1.498095238095238E-2]
["2010-05-01",{"$f":"VLOOKUP(A57,'Monthly Yields (WP)'!$B$8:$C$6000,2)/100","v":4.2900000000000001E-2},{"$f":"('MBR (WP)'!I172)/100","v":5.5E-2},{"$f":"('MBR (WP)'!J172)/100","v":5.9663157894736842E-2},null,"May 10",1.21E-2,1.6763157894736841E-2]
["2010-06-01",{"$f":"VLOOKUP(A58,'Monthly Yields (WP)'!$B$8:$C$6000,2)/100","v":4.1299999999999996E-2},{"$f":"('MBR (WP)'!I173)/100","v":5.4600000000000003E-2},{"$f":"('MBR (WP)'!J173)/100","v":6.1799999999999994E-2},null,"Jun 10",1.3300000000000006E-2,2.0499999999999997E-2]
["2010-07-01",{"$f":"VLOOKUP(A59,'Monthly Yields (WP)'!$B$8:$C$6000,2)/100","v":3.9900000000000005E-2},{"$f":"('MBR (WP)'!I174)/100","v":5.2600000000000001E-2},{"$f":"('MBR (WP)'!J174)/100","v":5.9800000000000006E-2},null,"Jul 10",1.2699999999999996E-2,1.9900000000000001E-2]
["2010-08-01",{"$f":"VLOOKUP(A60,'Monthly Yields (WP)'!$B$8:$C$6000,2)/100","v":3.7999999999999999E-2},{"$f":"('MBR (WP)'!I175)/100","v":5.0070588235294117E-2},{"$f":"('MBR (WP)'!J175)/100","v":5.5500000000000001E-2},null,"Aug 10",1.2070588235294118E-2,1.7500000000000002E-2]
["2010-09-01",{"$f":"VLOOKUP(A61,'Monthly Yields (WP)'!$B$8:$C$6000,2)/100","v":3.7699999999999997E-2},{"$f":"('MBR (WP)'!I176)/100","v":5.0095238095238089E-2},{"$f":"('MBR (WP)'!J176)/100","v":5.5319047619047615E-2},null,"Sep 10",1.2395238095238091E-2,1.7619047619047618E-2]
["2010-10-01",{"$f":"VLOOKUP(A62,'Monthly Yields (WP)'!$B$8:$C$6000,2)/100","v":3.8699999999999998E-2},{"$f":"('MBR (WP)'!I177)/100","v":5.0888235294117651E-2},{"$f":"('MBR (WP)'!J177)/100","v":5.6064705882352947E-2},null,"Oct 10",1.2188235294117652E-2,1.7364705882352949E-2]
["2010-11-01",{"$f":"VLOOKUP(A63,'Monthly Yields (WP)'!$B$8:$C$6000,2)/100","v":4.1900000000000007E-2},{"$f":"('MBR (WP)'!I178)/100","v":5.361052631578947E-2},{"$f":"('MBR (WP)'!J178)/100","v":5.8489473684210536E-2},null,"Nov 10",1.1710526315789463E-2,1.6589473684210529E-2]
["2010-12-01",{"$f":"VLOOKUP(A64,'Monthly Yields (WP)'!$B$8:$C$6000,2)/100","v":4.4199999999999996E-2},{"$f":"('MBR (WP)'!I179)/100","v":5.5544999999999997E-2},{"$f":"('MBR (WP)'!J179)/100","v":6.0434999999999996E-2},null,"Dec 10",{"$f":"(C64-B64)","v":1.1345000000000001E-2},1.6234999999999999E-2]
["2011-01-01",{"$f":"VLOOKUP(A65,'Monthly Yields (WP)'!$B$8:$C$6000,2)/100","v":4.5199999999999997E-2},{"$f":"'MBR (WP)'!I184/100","v":5.5684210526315801E-2},{"$f":"'MBR (WP)'!J184/100","v":6.0584210526315789E-2},null,"Jan 11",{"$f":"(C65-B65)","v":1.0484210526315804E-2},1.5384210526315792E-2]
["2011-02-01",{"$f":"VLOOKUP(A66,'Monthly Yields (WP)'!$B$8:$C$6000,2)/100","v":4.6500000000000007E-2},{"$f":"'MBR (WP)'!I185/100","v":5.670625E-2},{"$f":"'MBR (WP)'!J185/100","v":6.094999999999999E-2},null,"Feb 11",1.0206249999999993E-2,1.4449999999999984E-2]
["2011-03-01",{"$f":"VLOOKUP(A67,'Monthly Yields (WP)'!$B$8:$C$6000,2)/100","v":4.5100000000000001E-2},{"$f":"'MBR (WP)'!I186/100","v":5.56809523809524E-2},{"$f":"'MBR (WP)'!J186/100","v":5.9752380952380967E-2},null,"Mar 11",1.0580952380952399E-2,1.4652380952380965E-2]
["2011-04-01",{"$f":"VLOOKUP(A68,'Monthly Yields (WP)'!$B$8:$C$6000,2)/100","v":4.4999999999999998E-2},{"$f":"'MBR (WP)'!I187/100","v":5.552222222222223E-2},{"$f":"'MBR (WP)'!J187/100","v":5.9805555555555563E-2},null,"Apr 11",1.0522222222222231E-2,1.4805555555555565E-2]
["2011-05-01",{"$f":"VLOOKUP(A69,'Monthly Yields (WP)'!$B$8:$C$6000,2)/100","v":4.2900000000000001E-2},{"$f":"'MBR (WP)'!I188/100","v":5.3161111111111124E-2},{"$f":"'MBR (WP)'!J188/100","v":5.737222222222222E-2},null,"May 11",1.0261111111111124E-2,1.447222222222222E-2]
["2011-06-01",{"$f":"VLOOKUP(A70,'Monthly Yields (WP)'!$B$8:$C$6000,2)/100","v":4.2300000000000004E-2},{"$f":"'MBR (WP)'!I189/100","v":5.2765000000000006E-2},{"$f":"'MBR (WP)'!J189/100","v":5.6455000000000012E-2},null,"Jun 11",1.0465000000000002E-2,{"$f":"(D70-B70)","v":1.4155000000000008E-2}]
["2011-07-01",{"$f":"VLOOKUP(A71,'Monthly Yields (WP)'!$B$8:$C$6000,2)/100","v":4.2699999999999995E-2},{"$f":"'MBR (WP)'!I190/100","v":5.2594444444444451E-2},{"$f":"'MBR (WP)'!J190/100","v":5.6944444444444436E-2},null,"Jul 11",9.8944444444444557E-3,1.4244444444444442E-2]
["2011-08-01",{"$f":"VLOOKUP(A72,'Monthly Yields (WP)'!$B$8:$C$6000,2)/100","v":3.6499999999999998E-2},{"$f":"'MBR (WP)'!I191/100","v":4.6891304347826089E-2},{"$f":"'MBR (WP)'!J191/100","v":5.2239130434782607E-2},null,"Aug 11",1.0391304347826091E-2,1.573913043478261E-2]
["2011-09-01",{"$f":"VLOOKUP(A73,'Monthly Yields (WP)'!$B$8:$C$6000,2)/100","v":3.1800000000000002E-2},{"$f":"'MBR (WP)'!I192/100","v":4.4835294117647057E-2},{"$f":"'MBR (WP)'!J192/100","v":5.10764705882353E-2},null,"Sep 11",1.3035294117647055E-2,1.9276470588235298E-2]
["2011-10-01",{"$f":"VLOOKUP(A74,'Monthly Yields (WP)'!$B$8:$C$6000,2)/100","v":3.1300000000000001E-2},{"$f":"'MBR (WP)'!I193/100","v":4.5152631578947403E-2},{"$f":"'MBR (WP)'!J193/100","v":5.23894736842105E-2},null,"Oct 11",{"$f":"(C74-B74)","v":1.3852631578947401E-2},2.1089473684210498E-2]
["2011-11-01",{"$f":"VLOOKUP(A75,'Monthly Yields (WP)'!$B$8:$C$6000,2)/100","v":3.0200000000000001E-2},{"$f":"'MBR (WP)'!I194/100","v":4.2605000000000004E-2},{"$f":"'MBR (WP)'!J194/100","v":4.9390000000000003E-2},null,"Nov 11",{"$f":"(C75-B75)","v":1.2405000000000003E-2},1.9190000000000002E-2]
["2011-12-01",{"$f":"VLOOKUP(A76,'Monthly Yields (WP)'!$B$8:$C$6000,2)/100","v":2.98E-2},{"$f":"'MBR (WP)'!I195/100","v":4.3335294117647097E-2},{"$f":"'MBR (WP)'!J195/100","v":5.0700000000000002E-2},null,"Dec 11",{"$f":"(C76-B76)","v":1.3535294117647097E-2},2.0900000000000002E-2]
["2012-01-01",{"$f":"VLOOKUP(A77,'Monthly Yields (WP)'!$B$8:$C$6000,2)/100","v":3.0299999999999997E-2},{"$f":"+'MBR (WP)'!I200/100","v":4.3335294117647055E-2},{"$f":"+'MBR (WP)'!J200/100","v":5.0582352941176467E-2},null,"Jan 12",{"$f":"(C77-B77)","v":1.3035294117647058E-2},{"$f":"(D77-B77)","v":2.028235294117647E-2}]
["2012-02-01",{"$f":"VLOOKUP(A78,'Monthly Yields (WP)'!$B$8:$C$6000,2)/100","v":3.1099999999999999E-2},{"$f":"+'MBR (WP)'!I201/100","v":4.3647058823529407E-2},{"$f":"+'MBR (WP)'!J201/100","v":5.0258823529411772E-2},null,"Feb 12",1.2547058823529408E-2,1.9158823529411773E-2]
["2012-03-01",{"$f":"VLOOKUP(A79,'Monthly Yields (WP)'!$B$8:$C$6000,2)/100","v":3.2799999999999996E-2},{"$f":"+'MBR (WP)'!I202/100","v":4.4880000000000003E-2},{"$f":"+'MBR (WP)'!J202/100","v":5.1400000000000008E-2},null,"Mar 12",1.2080000000000007E-2,1.8600000000000012E-2]
["2012-04-01",{"$f":"VLOOKUP(A80,'Monthly Yields (WP)'!$B$8:$C$6000,2)/100","v":3.1800000000000002E-2},{"$f":"+'MBR (WP)'!I203/100","v":4.3980952380952371E-2},{"$f":"+'MBR (WP)'!J203/100","v":5.1114285714285702E-2},null,"Apr 12",1.2180952380952369E-2,1.9314285714285701E-2]
["2012-05-01",{"$f":"VLOOKUP(A81,'Monthly Yields (WP)'!$B$8:$C$6000,2)/100","v":2.9300000000000003E-2},{"$f":"+'MBR (WP)'!I204/100","v":4.2076190476190482E-2},{"$f":"+'MBR (WP)'!J204/100","v":4.9685714285714291E-2},null,"May 12",1.2776190476190479E-2,2.0385714285714288E-2]
["2012-06-01",{"$f":"VLOOKUP(A82,'Monthly Yields (WP)'!$B$8:$C$6000,2)/100","v":2.7000000000000003E-2},{"$f":"+'MBR (WP)'!I205/100","v":4.0815000000000004E-2},{"$f":"+'MBR (WP)'!J205/100","v":4.9080000000000013E-2},null,"Jun 12",1.3815000000000001E-2,2.2080000000000009E-2]
["2012-07-01",{"$f":"VLOOKUP(A83,'Monthly Yields (WP)'!$B$8:$C$6000,2)/100","v":2.5899999999999999E-2},{"$f":"+'MBR (WP)'!I206/100","v":3.9345000000000005E-2},{"$f":"+'MBR (WP)'!J206/100","v":4.8564999999999997E-2},null,"Jul 12",{"$f":"(C83-B83)","v":1.3445000000000006E-2},{"$f":"(D83-B83)","v":2.2664999999999998E-2}]
["2012-08-01",{"$f":"VLOOKUP(A84,'Monthly Yields (WP)'!$B$8:$C$6000,2)/100","v":2.7699999999999999E-2},{"$f":"+'MBR (WP)'!I207/100","v":4.0010000000000004E-2},{"$f":"+'MBR (WP)'!J207/100","v":4.5209999999999993E-2},null,"Aug 12",1.2310000000000005E-2,1.7509999999999994E-2]
["2012-09-01",{"$f":"VLOOKUP(A85,'Monthly Yields (WP)'!$B$8:$C$6000,2)/100","v":2.8799999999999999E-2},{"$f":"+'MBR (WP)'!I208/100","v":4.0231578947368417E-2},{"$f":"+'MBR (WP)'!J208/100","v":4.807368421052631E-2},null,"Sep 12",1.1431578947368418E-2,1.9273684210526311E-2]
["2012-10-01",{"$f":"VLOOKUP(A86,'Monthly Yields (WP)'!$B$8:$C$6000,2)/100","v":2.8999999999999998E-2},{"$f":"+'MBR (WP)'!I209/100","v":3.9133333333333339E-2},{"$f":"+'MBR (WP)'!J209/100","v":4.5433333333333339E-2},null,"Oct 12",{"$f":"(C86-B86)","v":1.0133333333333341E-2},{"$f":"(D86-B86)","v":1.6433333333333341E-2}]
["2012-11-01",{"$f":"VLOOKUP(A87,'Monthly Yields (WP)'!$B$8:$C$6000,2)/100","v":2.7999999999999997E-2},{"$f":"+'MBR (WP)'!I210/100","v":3.8235000000000005E-2},{"$f":"+'MBR (WP)'!J210/100","v":4.4154999999999986E-2},null,"Nov 12",1.0235000000000008E-2,1.6154999999999989E-2]
["2012-12-01",{"$f":"VLOOKUP(A88,'Monthly Yields (WP)'!$B$8:$C$6000,2)/100","v":2.8799999999999999E-2},{"$f":"+'MBR (WP)'!I211/100","v":4.0004999999999999E-2},{"$f":"+'MBR (WP)'!J211/100","v":4.555E-2},null,"Dec 12",1.1205E-2,1.6750000000000001E-2]
["2013-01-01",{"$f":"VLOOKUP(A89,'Monthly Yields (WP)'!$B$8:$C$6000,2)/100","v":3.0800000000000001E-2},{"$f":"+'MBR (WP)'!I216/100","v":4.1476190476190479E-2},{"$f":"+'MBR (WP)'!J216/100","v":4.6585714285714293E-2},null,"Jan 13",1.0676190476190478E-2,1.5785714285714292E-2]
["2013-02-01",{"$f":"VLOOKUP(A90,'Monthly Yields (WP)'!$B$8:$C$6000,2)/100","v":3.1699999999999999E-2},{"$f":"+'MBR (WP)'!I217/100","v":4.1847368421052626E-2},{"$f":"+'MBR (WP)'!J217/100","v":4.7447368421052627E-2},null,"Feb 13",1.0147368421052627E-2,1.5747368421052628E-2]
["2013-03-01",{"$f":"VLOOKUP(A91,'Monthly Yields (WP)'!$B$8:$C$6000,2)/100","v":3.1600000000000003E-2},{"$f":"+'MBR (WP)'!I218/100","v":4.200526315789474E-2},{"$f":"+'MBR (WP)'!J218/100","v":4.7205263157894729E-2},null,"Mar 13",1.0405263157894737E-2,1.5605263157894726E-2]
["2013-04-01",{"$f":"VLOOKUP(A92,'Monthly Yields (WP)'!$B$8:$C$6000,2)/100","v":2.9300000000000003E-2},{"$f":"+'MBR (WP)'!I219/100","v":3.9985E-2},{"$f":"+'MBR (WP)'!J219/100","v":4.4820000000000013E-2},null,"Apr 13",1.0684999999999997E-2,1.5520000000000009E-2]
["2013-05-01",{"$f":"VLOOKUP(A93,'Monthly Yields (WP)'!$B$8:$C$6000,2)/100","v":3.1099999999999999E-2},{"$f":"+'MBR (WP)'!I220/100","v":4.1590476190476199E-2},{"$f":"+'MBR (WP)'!J220/100","v":4.6400000000000018E-2},null,"May 13",1.0490476190476199E-2,1.5300000000000018E-2]
["2013-06-01",{"$f":"VLOOKUP(A94,'Monthly Yields (WP)'!$B$8:$C$6000,2)/100","v":3.4000000000000002E-2},{"$f":"+'MBR (WP)'!I221/100","v":4.5231578947368421E-2},{"$f":"+'MBR (WP)'!J221/100","v":5.0768421052631581E-2},null,"Jun 13",1.1231578947368419E-2,1.6768421052631578E-2]
["2013-07-01",{"$f":"VLOOKUP(A95,'Monthly Yields (WP)'!$B$8:$C$6000,2)/100","v":3.61E-2},{"$f":"+'MBR (WP)'!I222/100","v":4.6842857142857144E-2},{"$f":"+'MBR (WP)'!J222/100","v":5.2090476190476194E-2},null,"Jul 13",{"$f":"(C95-B95)","v":1.0742857142857144E-2},{"$f":"(D95-B95)","v":1.5990476190476194E-2}]
["2013-08-01",{"$f":"VLOOKUP(A96,'Monthly Yields (WP)'!$B$8:$C$6000,2)/100","v":3.7599999999999995E-2},{"$f":"+'MBR (WP)'!I223/100","v":4.7290909090909092E-2},{"$f":"+'MBR (WP)'!J223/100","v":5.2754545454545471E-2},null,"Aug 13",9.6909090909090972E-3,1.5154545454545476E-2]
["2013-09-01",{"$f":"VLOOKUP(A97,'Monthly Yields (WP)'!$B$8:$C$6000,2)/100","v":3.7900000000000003E-2},{"$f":"+'MBR (WP)'!I224/100","v":4.8063157894736835E-2},{"$f":"+'MBR (WP)'!J224/100","v":5.3099999999999994E-2},null,"Sep 13",1.0163157894736832E-2,1.5199999999999991E-2]
["2013-10-01",{"$f":"VLOOKUP(A98,'Monthly Yields (WP)'!$B$8:$C$6000,2)/100","v":3.6799999999999999E-2},{"$f":"+'MBR (WP)'!I225/100","v":4.7E-2},{"$f":"+'MBR (WP)'!J225/100","v":5.1699999999999996E-2},null,"Oct 13",{"$f":"(C98-B98)","v":1.0200000000000001E-2},{"$f":"(D98-B98)","v":1.4899999999999997E-2}]
["2013-11-01",{"$f":"VLOOKUP(A99,'Monthly Yields (WP)'!$B$8:$C$6000,2)/100","v":3.7999999999999999E-2},{"$f":"+'MBR (WP)'!I226/100","v":4.7699999999999992E-2},{"$f":"+'MBR (WP)'!J226/100","v":5.2400000000000002E-2},null,"Nov 13",9.6999999999999933E-3,1.4400000000000003E-2]
["2013-12-01",{"$f":"VLOOKUP(A100,'Monthly Yields (WP)'!$B$8:$C$6000,2)/100","v":3.8900000000000004E-2},{"$f":"+'MBR (WP)'!I227/100","v":4.8099999999999997E-2},{"$f":"+'MBR (WP)'!J227/100","v":5.2499999999999998E-2},null,"Dec 13",9.1999999999999929E-3,1.3599999999999994E-2]

{"sheet":"MBR (WP)","index":25,"n_rows":228,"n_cols":10,"rows_kept":228,"cut":false,"hidden":false,"merged":[[3,0,3,3]]}
["Public Utility Bond Averages"]
[]
[null,null,null,null,null,"Note:","Blue pulled from the Monthy Mergent Bond Record"]
["Utility Bond Average Table",null,null,null,null,null,"Red pulled from the Moodys.com daily publication"]
[]
["Year","A","Baa","Source",null,2000]
[null,null,null,null,null,null,"Aaa","Aa","A","Baa"]
[1980,0.13339999999999999,0.13950000000000001,"(1)",null,"January",7.95,8.17,8.35,8.4]
[1981,0.1595,0.16600000000000001,"(1)",null,"February",7.82,7.99,8.25,8.33]
[1982,0.15859999999999999,0.16450000000000001,"(1)",null,"March",7.87,7.99,8.2799999999999994,8.4]
[1983,0.1366,0.14199999999999999,"(1)",null,"April",7.87,8,8.2899999999999991,8.4]
[1984,0.14030000000000001,0.14530000000000001,"(1)",null,"May",8.2200000000000006,8.44,8.6999999999999993,8.86]
[1985,0.12470000000000001,0.12959999999999999,"(1)",null,"June",7.96,8.1,8.36,8.4700000000000006]
[1986,9.5799999999999996E-2,0.1,"(1)",null,"July",8,8.1,8.25,8.33]
[1987,0.10100000000000001,0.1053,"(1)",null,"August",7.89,7.95,8.1300000000000008,8.25]
[1988,0.10489999999999999,0.11,"(1)",null,"September",7.92,8.11,8.23,8.32]
[1989,9.7699999999999995E-2,9.9699999999999997E-2,"(1)",null,"October",7.8,8.08,8.14,8.2899999999999991]
[1990,9.8599999999999993E-2,0.10059999999999999,"(1)",null,"November",7.71,8.0299999999999994,8.11,8.25]
[1991,9.3600000000000003E-2,9.5500000000000002E-2,"(1)",null,"December",7.51,7.79,7.84,8.01]
[1992,8.6900000000000005E-2,8.8599999999999998E-2,"(1)",null,"Average",{"$f":"AVERAGE(G8:G19)","v":7.876666666666666},{"$f":"AVERAGE(H8:H19)","v":8.0625},{"$f":"AVERAGE(I8:I19)","v":8.2441666666666666},{"$f":"AVERAGE(J8:J19)","v":8.3591666666666651}]
[1993,7.5899999999999995E-2,7.9100000000000004E-2,"(1)"]
[1994,8.3099999999999993E-2,8.6300000000000002E-2,"(1)",null,2001]
[1995,7.8899999999999998E-2,8.2900000000000001E-2,"(1)",null,null,"Aaa","Aa","A","Baa"]
[1996,7.7499999999999999E-2,8.1699999999999995E-2,"(1)",null,"January",7.53,7.73,7.8,7.99]
[1997,7.5999999999999998E-2,7.9500000000000001E-2,"(1)",null,"February",7.46,7.62,7.74,7.94]
[1998,7.0400000000000004E-2,7.2599999999999998E-2,"(1)",null,"March",7.31,7.51,7.68,7.85]
[1999,7.6200000000000004E-2,7.8799999999999995E-2,"(1)",null,"April",7.53,7.72,7.94,8.06]
[2000,{"$f":"I20/100","v":8.2441666666666663E-2},{"$f":"J20/100","v":8.3591666666666647E-2},"(2)",null,"May",7.61,7.79,7.99,8.11]
[2001,{"$f":"I36/100","v":7.7625E-2},{"$f":"J36/100","v":8.0283333333333318E-2},"(3)",null,"June",7.5,7.62,7.85,8.02]
[2002,{"$f":"I52/100","v":7.3724999999999999E-2},{"$f":"J52/100","v":8.0233333333333337E-2},"(3)",null,"July",7.46,7.55,7.78,8.0500000000000007]
[2003,{"$f":"I68/100","v":6.5808333333333344E-2},{"$f":"J68/100","v":6.8425E-2},"(3)",null,"August",7.36,7.39,7.59,7.95]
[2004,{"$f":"I84/100","v":6.1600833333333334E-2},{"$f":"J84/100","v":6.3949999999999993E-2},"(3)",null,"September",7.52,7.55,7.75,8.1199999999999992]
[2005,{"$f":"I100/100","v":5.6491666666666662E-2},{"$f":"J100/100","v":5.9249999999999997E-2},"(4)",null,"October",7.45,7.47,7.63,8.02]
[2006,{"$f":"I116/100","v":6.0683333333333325E-2},{"$f":"J116/100","v":6.3166666666666663E-2},"(4)",null,"November",7.45,7.45,7.57,7.96]
[2007,{"$f":"I132/100","v":6.0733333333333334E-2},{"$f":"J132/100","v":6.3300000000000009E-2},"(4)",null,"December",7.53,7.53,7.83,8.27]
[2008,{"$f":"I148/100","v":6.5283333333333332E-2},{"$f":"J148/100","v":7.2458333333333333E-2},"(4)",null,"Average",{"$f":"AVERAGE(G24:G35)","v":7.475833333333334},{"$f":"AVERAGE(H24:H35)","v":7.5774999999999997},{"$f":"AVERAGE(I24:I35)","v":7.7624999999999993},{"$f":"AVERAGE(J24:J35)","v":8.0283333333333324}]
[2009,{"$f":"I164/100","v":6.0367365027151197E-2},{"$f":"J164/100","v":7.0551731672932327E-2},"(4)"]
[2010,{"$f":"I180/100","v":5.4612557558110952E-2},{"$f":"J180/100","v":5.9598179333136762E-2},"(4) / (5)",null,2002]
[2011,{"$f":"I196/100","v":5.0411142903926134E-2},{"$f":"J196/100","v":5.5638240700678951E-2},"(5)",null,null,"Aaa","Aa","A","Baa"]
[2012,{"$f":"+I212/100","v":4.1307867339918432E-2},{"$f":"+J212/100","v":4.8259016167870657E-2},"(5)",null,"January",null,7.28,7.66,8.1300000000000008]
[2013,{"$f":"+I228/100","v":4.476106677679046E-2},{"$f":"+J228/100","v":4.9814315713526243E-2},"(5)",null,"February",null,7.14,7.54,8.18]
[null,null,null,null,null,"March",null,7.42,7.76,8.32]
[null,null,null,null,null,"April",null,7.38,7.57,8.26]
[null,null,null,null,null,"May",null,4.43,7.52,8.33]
[null,null,null,null,null,"June",null,7.33,7.42,8.26]
[null,null,null,null,null,"July",null,7.22,7.31,8.07]
[null,null,null,null,null,"August",null,7.1,7.17,7.74]
[null,null,null,null,null,"September",null,6.98,7.08,7.62]
[null,null,null,null,null,"October",null,7.07,7.23,8]
[null,null,null,null,null,"November",null,7.03,7.14,7.76]
[null,null,null,null,null,"December",null,6.94,7.07,7.61]
[null,null,null,null,null,"Average",null,{"$f":"AVERAGE(H40:H51)","v":6.9433333333333325},{"$f":"AVERAGE(I40:I51)","v":7.3724999999999996},{"$f":"AVERAGE(J40:J51)","v":8.0233333333333334}]
[]
[null,null,null,null,null,2003]
[null,null,null,null,null,null,"Aaa","Aa","A","Baa"]
[null,null,null,null,null,"January",null,6.87,7.06,7.47]
[null,null,null,null,null,"February",null,6.66,6.93,7.17]
[null,null,null,null,null,"March",null,6.56,6.79,7.05]
[null,null,null,null,null,"April",null,6.47,6.64,6.94]
[null,null,null,null,null,"May",null,6.2,6.36,6.47]
[null,null,null,null,null,"June",null,6.12,6.21,6.3]
[null,null,null,null,null,"July",null,6.37,6.57,6.67]
[null,null,null,null,null,"August",null,6.48,6.78,7.08]
[null,null,null,null,null,"September",null,6.3,6.56,6.87]
[null,null,null,null,null,"October",null,6.28,6.43,6.79]
[null,null,null,null,null,"November",null,6.26,6.37,6.69]
[null,null,null,null,null,"December",null,6.18,6.27,6.61]
[null,null,null,null,null,"Average",null,{"$f":"AVERAGE(H56:H67)","v":6.395833333333333},{"$f":"AVERAGE(I56:I67)","v":6.5808333333333344},{"$f":"AVERAGE(J56:J67)","v":6.8425000000000002}]
[]
[null,null,null,null,null,2004]
[null,null,null,null,null,null,"Aaa","Aa","A","Baa"]
[null,null,null,null,null,"January",null,6.06,6.15,6.47]
[null,null,null,null,null,"February",null,6.1,6.15,6.28]
[null,null,null,null,null,"March",null,5.93,5.97,6.12]
[null,null,null,null,null,"April",null,6.33,6.35,6.46]
[null,null,null,null,null,"May",null,6.66,6.6210000000000004,6.75]
[null,null,null,null,null,"June",null,6.3,6.46,6.84]
[null,null,null,null,null,"July",null,6.09,6.27,6.67]
[null,null,null,null,null,"August",null,5.95,6.14,6.45]
[null,null,null,null,null,"September",null,5.79,5.98,6.27]
[null,null,null,null,null,"October",null,5.74,5.94,6.17]
[null,null,null,null,null,"November",null,5.79,5.97,6.16]
[null,null,null,null,null,"December",null,5.78,5.92,6.1]
[null,null,null,null,null,"Average",null,{"$f":"AVERAGE(H72:H83)","v":6.0433333333333339},{"$f":"AVERAGE(I72:I83)","v":6.1600833333333336},{"$f":"AVERAGE(J72:J83)","v":6.3949999999999996}]
[]
[null,null,null,null,null,2005]
[null,null,null,null,null,null,"Aaa","Aa","A","Baa"]
[null,null,null,null,null,"January",null,5.68,5.78,5.95]
[null,null,null,null,null,"February",null,5.55,5.61,5.76]
[null,null,null,null,null,"March",null,5.76,5.83,6.01]
[null,null,null,null,null,"April",null,5.56,5.64,5.95]
[null,null,null,null,null,"May",null,5.39,5.53,5.88]
[null,null,null,null,null,"June",null,5.05,5.4,5.7]
[null,null,null,null,null,"July",null,5.18,5.51,5.81]
[null,null,null,null,null,"August",null,5.23,5.5,5.8]
[null,null,null,null,null,"September",null,5.27,5.52,5.83]
[null,null,null,null,null,"October",null,5.5,5.79,6.08]
[null,null,null,null,null,"November",null,5.59,5.88,6.19]
[null,null,null,null,null,"December",null,5.55,5.8,6.14]
[null,null,null,null,null,"Average",null,{"$f":"AVERAGE(H88:H99)","v":5.4424999999999999},{"$f":"AVERAGE(I88:I99)","v":5.649166666666666},{"$f":"AVERAGE(J88:J99)","v":5.9249999999999998}]
[]
[null,null,null,null,null,2006]
[null,null,null,null,null,null,"Aaa","Aa","A","Baa"]
[null,null,null,null,null,"January",null,5.5,5.75,6.06]
[null,null,null,null,null,"February",null,5.55,5.82,6.11]
[null,null,null,null,null,"March",null,5.71,5.98,6.26]
[null,null,null,null,null,"April",null,6.02,6.29,6.54]
[null,null,null,null,null,"May",null,6.16,6.42,6.59]
[null,null,null,null,null,"June",null,6.16,6.4,6.61]
[null,null,null,null,null,"July",null,6.13,6.37,6.61]
[null,null,null,null,null,"August",null,5.97,6.2,6.43]
[null,null,null,null,null,"September",null,5.81,6,6.26]
[null,null,null,null,null,"October",null,5.8,5.98,6.24]
[null,null,null,null,null,"November",null,5.61,5.8,6.04]
[null,null,null,null,null,"December",null,5.62,5.81,6.05]
[null,null,null,null,null,"Average",null,{"$f":"AVERAGE(H104:H115)","v":5.8366666666666669},{"$f":"AVERAGE(I104:I115)","v":6.0683333333333325},{"$f":"AVERAGE(J104:J115)","v":6.3166666666666664}]
[]
[null,null,null,null,null,2007]
[null,null,null,null,null,null,"Aaa","Aa","A","Baa"]
[null,null,null,null,null,"January",null,5.78,5.96,6.16]
[null,null,null,null,null,"February",null,5.73,5.9,6.1]
[null,null,null,null,null,"March",null,5.66,5.85,6.1]
[null,null,null,null,null,"April",null,5.83,5.97,6.24]
[null,null,null,null,null,"May",null,5.86,5.99,6.23]
[null,null,null,null,null,"June",null,6.18,6.3,6.54]
[null,null,null,null,null,"July",null,6.11,6.25,6.49]
[null,null,null,null,null,"August",null,6.11,6.24,6.51]
[null,null,null,null,null,"September",null,6.1,6.18,6.45]
[null,null,null,null,null,"October",null,6.04,6.11,6.36]
[null,null,null,null,null,"November",null,5.87,5.97,6.27]
[null,null,null,null,null,"December",null,6.03,6.16,6.51]
[null,null,null,null,null,"Average",null,{"$f":"AVERAGE(H120:H131)","v":5.9416666666666664},{"$f":"AVERAGE(I120:I131)","v":6.0733333333333333},{"$f":"AVERAGE(J120:J131)","v":6.330000000000001}]
[]
[null,null,null,null,null,2008]
[null,null,null,null,null,null,"Aaa","Aa","A","Baa"]
[null,null,null,null,null,"January",null,5.87,6.02,6.35]
[null,null,null,null,null,"February",null,6.04,6.21,6.6]
[null,null,null,null,null,"March",null,5.99,6.21,6.68]
[null,null,null,null,null,"April",null,5.99,6.29,6.81]
[null,null,null,null,null,"May",null,6.07,6.27,6.79]
[null,null,null,null,null,"June",null,6.19,6.38,6.93]
[null,null,null,null,null,"July",null,6.13,6.4,6.97]
[null,null,null,null,null,"August",null,6.09,6.37,6.98]
[null,null,null,null,null,"September",null,6.13,6.49,7.15]
[null,null,null,null,null,"October",null,6.95,7.56,8.58]
[null,null,null,null,null,"November",null,6.83,7.6,8.98]
[null,null,null,null,null,"December",null,5.93,6.54,8.1300000000000008]
[null,null,null,null,null,"Average",null,{"$f":"AVERAGE(H136:H147)","v":6.184166666666667},{"$f":"AVERAGE(I136:I147)","v":6.5283333333333333},{"$f":"AVERAGE(J136:J147)","v":7.2458333333333336}]
[]
[null,null,null,null,null,2009]
[null,null,null,null,null,null,"Aaa","Aa","A","Baa"]
[null,null,null,null,null,"January",null,6.01,6.39,7.9]
[null,null,null,null,null,"February",null,6.11,6.3,7.74]
[null,null,null,null,null,"March",null,6.14,6.42,8]
[null,null,null,null,null,"April",null,6.2,6.48,8.0299999999999994]
[null,null,null,null,null,"May",null,6.23,6.49,7.76]
[null,null,null,null,null,"June",null,6.13,6.2,7.3]
[null,null,null,null,null,"July",null,5.63,5.97,6.87]
[null,null,null,null,null,"August",null,5.33,5.71,6.36]
[null,null,null,null,null,"September",null,null,{"$f":"0.0553047619047619*100","v":5.5304761904761897},{"$f":"0.0611857142857143*100","v":6.1185714285714301}]
[null,null,null,null,null,"October",null,null,5.5374999999999996,6.1340000000000003]
[null,null,null,null,null,"November",null,null,5.6381249999999996,6.1868749999999997]
[null,null,null,null,null,"December",null,null,5.7747368421052601,6.2626315789473699]
[null,null,null,null,null,"Average",null,null,{"$f":"AVERAGE(I152:I163)","v":6.0367365027151196},{"$f":"AVERAGE(J152:J163)","v":7.0551731672932325}]
[]
[null,null,null,null,null,2010]
[null,null,null,null,null,null,"Aaa","Aa","A","Baa"]
[null,null,null,null,null,"January",null,null,5.7726315789473697,6.1557894736842096]
[null,null,null,null,null,"February",null,null,5.87052631578947,6.24631578947369]
[null,null,null,null,null,"March",null,null,5.8409523809523796,6.2204761904761892]
[null,null,null,null,null,"April",null,null,5.81,6.1880952380952383]
[null,null,null,null,null,"May",null,null,5.5,5.9663157894736845]
[null,null,null,null,null,"June",null,null,5.46,6.18]
[null,null,null,null,null,"July",null,null,5.26,5.98]
[null,null,null,null,null,"August",null,null,5.0070588235294116,5.55]
[null,null,null,null,null,"September",null,null,5.0095238095238086,5.5319047619047614]
[null,null,null,null,null,"October",null,null,5.0888235294117647,5.606470588235295]
[null,null,null,null,null,"November",null,null,5.3610526315789473,5.8489473684210536]
[null,null,null,null,null,"December",null,null,5.5545,6.0434999999999999]
[null,null,null,null,null,"Average",null,null,{"$f":"AVERAGE(I168:I179)","v":5.461255755811095},{"$f":"AVERAGE(J168:J179)","v":5.9598179333136763}]
[]
[null,null,null,null,null,2011]
[null,null,null,null,null,null,"Aaa","Aa","A","Baa"]
[null,null,null,null,null,"January",null,null,5.5684210526315798,6.0584210526315792]
[null,null,null,null,null,"February",null,null,5.6706250000000002,6.0949999999999989]
[null,null,null,null,null,"March",null,null,5.56809523809524,5.9752380952380966]
[null,null,null,null,null,"April",null,null,5.5522222222222233,5.9805555555555561]
[null,null,null,null,null,"May",null,null,5.3161111111111126,5.737222222222222]
[null,null,null,null,null,"June",null,null,5.2765000000000004,5.6455000000000011]
[null,null,null,null,null,"July",null,null,5.259444444444445,5.6944444444444438]
[null,null,null,null,null,"August",null,null,4.6891304347826086,5.2239130434782606]
[null,null,null,null,null,"September",null,null,4.4835294117647058,5.1076470588235301]
[null,null,null,null,null,"October",null,null,4.51526315789474,5.2389473684210497]
[null,null,null,null,null,"November",null,null,4.2605000000000004,4.9390000000000001]
[null,null,null,null,null,"December",null,null,4.3335294117647098,5.07]
[null,null,null,null,null,"Average",null,null,{"$f":"AVERAGE(I184:I195)","v":5.0411142903926134},{"$f":"AVERAGE(J184:J195)","v":5.5638240700678949}]
[]
[null,null,null,null,null,2012]
[null,null,null,null,null,null,"Aaa","Aa","A","Baa"]
[null,null,null,null,null,"January",null,null,4.3335294117647054,5.0582352941176465]
[null,null,null,null,null,"February",null,null,4.3647058823529408,5.0258823529411769]
[null,null,null,null,null,"March",null,null,4.4880000000000004,5.1400000000000006]
[null,null,null,null,null,"April",null,null,4.3980952380952374,5.1114285714285703]
[null,null,null,null,null,"May",null,null,4.2076190476190485,4.9685714285714289]
[null,null,null,null,null,"June",null,null,4.0815000000000001,4.9080000000000013]
[null,null,null,null,null,"July",null,null,3.9345000000000003,4.8564999999999996]
[null,null,null,null,null,"August",null,null,4.0010000000000003,4.520999999999999]
[null,null,null,null,null,"September",null,null,4.0231578947368414,4.8073684210526313]
[null,null,null,null,null,"October",null,null,3.913333333333334,4.5433333333333339]
[null,null,null,null,null,"November",null,null,3.8235000000000006,4.4154999999999989]
[null,null,null,null,null,"December",null,null,4.0004999999999997,4.5549999999999997]
[null,null,null,null,null,"Average",null,null,{"$f":"AVERAGE(I200:I211)","v":4.1307867339918429},{"$f":"AVERAGE(J200:J211)","v":4.8259016167870659}]
[]
[null,null,null,null,null,2013,"Aaa","Aa","A","Baa"]
[]
[null,null,null,null,null,"January",null,null,4.147619047619048,4.6585714285714293]
[null,null,null,null,null,"February",null,null,4.1847368421052629,4.7447368421052625]
[null,null,null,null,null,"March",null,null,4.2005263157894737,4.7205263157894732]
[null,null,null,null,null,"April",null,null,3.9984999999999999,4.4820000000000011]
[null,null,null,null,null,"May",null,null,4.1590476190476195,4.6400000000000015]
[null,null,null,null,null,"June",null,null,4.5231578947368423,5.0768421052631583]
[null,null,null,null,null,"July",null,null,4.6842857142857142,5.2090476190476194]
[null,null,null,null,null,"August",null,null,4.7290909090909095,5.2754545454545472]
[null,null,null,null,null,"September",null,null,4.8063157894736834,5.31]
[null,null,null,null,null,"October",null,null,4.7,5.17]
[null,null,null,null,null,"November",null,null,4.7699999999999996,5.24]
[null,null,null,null,null,"December",null,null,4.8099999999999996,5.25]
[null,null,null,null,null,"Average",null,null,{"$f":"AVERAGE(I216:I227)","v":4.4761066776790459},{"$f":"AVERAGE(J216:J227)","v":4.9814315713526245}]

{"sheet":"Credit Ratings (WP)","index":26,"n_rows":24,"n_cols":8,"rows_kept":24,"cut":false,"hidden":false,"merged":[[1,4,1,5],[7,7,8,9],[17,7,18,9]]}
[]
[null,null,"S&P",null,"Moody's"]
[]
[null,{"$f":"+D4","v":21},"AAA",{"$f":"COUNTA(C4:C24)","v":21},"Aaa",{"$f":"COUNTA(E4:E24)","v":21}]
[null,20,"AA+",{"$f":"+D4-1","v":20},"Aa1",{"$f":"+F4-1","v":20}]
[null,19,"AA",19,"Aa2",19]
[null,18,"AA-",18,"Aa3",18]
[null,17,"A+",17,"A1",17,null,"Investment Grade Bond Ratings"]
[null,16,"A",16,"A2",16]
[null,15,"A-",15,"A3",15]
[null,14,"BBB+",14,"Baa1",14]
[null,13,"BBB",13,"Baa2",13]
[null,12,"BBB-",12,"Baa3",12]
[null,11,"BB+",11,"Ba1",11]
[null,10,"BB",10,"Ba2",10]
[null,9,"BB-",9,"Ba3",9]
[null,8,"B+",8,"B1",8]
[null,7,"B",7,"B2",7,null,"Junk Grade Bond Ratings"]
[null,6,"B-",6,"B3",6]
[null,5,"CCC+",5,"Caa1",5]
[null,4,"CCC",4,"Caa2",4]
[null,3,"CCC-",3,"Caa3",3]
[null,2,"CC",2,"Ca",2]
[null,1,"C",1,"C",1]

{"sheet":"SNL Data (WP)","index":27,"n_rows":55,"n_cols":12,"rows_kept":55,"cut":false,"hidden":false,"merged":[]}
[{"$f":" [4]!SNLTICKER(A6:A55)","v":{"$error":"#NAME?"}},{"$f":"[4]!SNLTable(1,C6:C55,$D$3:$F$3,,,\"Options:Curr=,Mag=,ConvMethod=\")","v":{"$error":"#NAME?"}},null,"Downloaded: ","2014-03-31"]
[null,"Institution Name ","SNL Institution Key ",{"$f":"[4]!SNLLabel(1,$D$3,$D$4,$D$5,\"Options:Curr=,Mag=,ConvMethod=\")","v":{"$error":"#NAME?"}},{"$f":"[4]!SNLLabel(1,$D$3,$D$4,$D$5,\"Options:Curr=,Mag=,ConvMethod=\")","v":{"$error":"#NAME?"}},{"$f":"[4]!SNLLabel(1,$D$3,$D$4,$D$5,\"Options:Curr=,Mag=,ConvMethod=\")","v":{"$error":"#NAME?"}},"SNL","S&P","Moody's"]
[null,null,null,133128,233276,233276,"Common Equity","Credit","Credit"]
[null,null,null,"2013Y",{"$f":"[4]!SNLLabel(\"<S&P>3000325\")","v":{"$error":"#NAME?"}},{"$f":"[4]!SNLLabel(\"<Moody's>108462\")","v":{"$error":"#NAME?"}},"Ratio","Rating","Rating"]
[null,null,null,1]
[{"$f":"IF('FEA___(MPG-2)'!B12,'FEA___(MPG-2)'!F12,\"\")","v":"ALE"},"ALLETE, Inc.",4022309,54.742978272389998,"BBB+","A3",{"$f":"IF(ISNUMBER(D6),D6,\"N/A\")","v":54.742978272389998},{"$f":"IF(ISBLANK(E6),\"N/A\",E6)","v":"BBB+"},{"$f":"IF(ISBLANK(F6),\"N/A\",IF(LEFT(F6,3)=\"(P)\",RIGHT(F6,LEN(F6)-3),F6))","v":"A3"},null,null,"Delete previous data in columns B thru F"]
[{"$f":"IF('FEA___(MPG-2)'!B13,'FEA___(MPG-2)'!F13,\"\")","v":"LNT"},"Alliant Energy Corporation",4057038,45.569303837020399,"A-","A3",{"$f":"IF(ISNUMBER(D7),D7,\"N/A\")","v":45.569303837020399},{"$f":"IF(ISBLANK(E7),\"N/A\",E7)","v":"A-"},{"$f":"IF(ISBLANK(F7),\"N/A\",IF(LEFT(F7,3)=\"(P)\",RIGHT(F7,LEN(F7)-3),F7))","v":"A3"},null,null,"Refresh SNL cell A1 to obtain institution names"]
[{"$f":"IF('FEA___(MPG-2)'!B14,'FEA___(MPG-2)'!F14,\"\")","v":"AVA"},"Avista Corporation",4057075,44.871089445910698,"BBB","Baa1",44.871089445910698,"BBB","Baa1",null,null,"Change Common Equity/Book Capital time period if needed"]
[{"$f":"IF('FEA___(MPG-2)'!B15,'FEA___(MPG-2)'!F15,\"\")","v":"DTE"},"DTE Energy Company",4057044,48.904118046551801,"BBB+","A3",48.904118046551801,"BBB+","A3",null,null,"Refresh SNL cell B1 to obtain ratings"]
[{"$f":"IF('FEA___(MPG-2)'!B16,'FEA___(MPG-2)'!F16,\"\")","v":"IDA"},"IDACORP, Inc.",4056949,52.488618224681296,"BBB","Baa1",52.488618224681296,"BBB","Baa1"]
[{"$f":"IF('FEA___(MPG-2)'!B17,'FEA___(MPG-2)'!F17,\"\")","v":"TEG"},"Integrys Energy Group, Inc.",4057067,48.708106816416802,"A-","Baa1",48.708106816416802,"A-","Baa1"]
[{"$f":"IF('FEA___(MPG-2)'!B18,'FEA___(MPG-2)'!F18,\"\")","v":"NEE"},"NextEra Energy, Inc.",3010401,38.8240864287866,"A-","Baa1",38.8240864287866,"A-","Baa1"]
[{"$f":"IF('FEA___(MPG-2)'!B19,'FEA___(MPG-2)'!F19,\"\")","v":"POR"},"Portland General Electric Company",4057019,48.688436830835101,"BBB","A3",48.688436830835101,"BBB","A3"]
[{"$f":"IF('FEA___(MPG-2)'!B20,'FEA___(MPG-2)'!F20,\"\")","v":"SRE"},"Sempra Energy",4057062,44.396047590240002,"BBB+","Baa1",44.396047590240002,"BBB+","Baa1"]
[{"$f":"IF('FEA___(MPG-2)'!B21,'FEA___(MPG-2)'!F21,\"\")","v":"SO"},"Southern Company",4004298,43.762950683796099,"A","Baa1",43.762950683796099,"A","Baa1"]
[{"$f":"IF('FEA___(MPG-2)'!B22,'FEA___(MPG-2)'!F22,\"\")","v":"WR"},"Westar Energy, Inc.",4057066,45.723813757926898,"BBB","Baa1",45.723813757926898,"BBB","Baa1"]
[{"$f":"IF('FEA___(MPG-2)'!B23,'FEA___(MPG-2)'!F23,\"\")","v":"WEC"},"Wisconsin Energy Corporation",4009725,44.528833813721597,"A-","A2",44.528833813721597,"A-","A2"]
[{"$f":"IF('FEA___(MPG-2)'!B24,'FEA___(MPG-2)'!F24,\"\")","v":"XEL"},"Xcel Energy Inc.",4025308,44.458739438960897,"A-","A3",44.458739438960897,"A-","A3"]
[{"$f":"IF('FEA___(MPG-2)'!B25,'FEA___(MPG-2)'!F25,\"\")","v":""},null,null,null,null,null,"N/A","N/A","N/A"]
[{"$f":"IF('FEA___(MPG-2)'!B26,'FEA___(MPG-2)'!F26,\"\")","v":""},null,null,null,null,null,"N/A","N/A","N/A"]
[{"$f":"IF('FEA___(MPG-2)'!B27,'FEA___(MPG-2)'!F27,\"\")","v":""},null,null,null,null,null,"N/A","N/A","N/A"]
[{"$f":"IF('FEA___(MPG-2)'!B28,'FEA___(MPG-2)'!F28,\"\")","v":""},null,null,null,null,null,"N/A","N/A","N/A"]
[{"$f":"IF('FEA___(MPG-2)'!B29,'FEA___(MPG-2)'!F29,\"\")","v":""},null,null,null,null,null,"N/A","N/A","N/A"]
[{"$f":"IF('FEA___(MPG-2)'!B30,'FEA___(MPG-2)'!F30,\"\")","v":""},null,null,null,null,null,"N/A","N/A","N/A"]
[{"$f":"IF('FEA___(MPG-2)'!B31,'FEA___(MPG-2)'!F31,\"\")","v":""},null,null,null,null,null,"N/A","N/A","N/A"]
[{"$f":"IF('FEA___(MPG-2)'!B32,'FEA___(MPG-2)'!F32,\"\")","v":""},null,null,null,null,null,"N/A","N/A","N/A"]
[{"$f":"IF('FEA___(MPG-2)'!B33,'FEA___(MPG-2)'!F33,\"\")","v":""},null,null,null,null,null,"N/A","N/A","N/A"]
[{"$f":"IF('FEA___(MPG-2)'!B34,'FEA___(MPG-2)'!F34,\"\")","v":""},null,null,null,null,null,"N/A","N/A","N/A"]
[{"$f":"IF('FEA___(MPG-2)'!B35,'FEA___(MPG-2)'!F35,\"\")","v":""},null,null,null,null,null,"N/A","N/A","N/A"]
[{"$f":"IF('FEA___(MPG-2)'!B36,'FEA___(MPG-2)'!F36,\"\")","v":""},null,null,null,null,null,"N/A","N/A","N/A"]
[{"$f":"IF('FEA___(MPG-2)'!B37,'FEA___(MPG-2)'!F37,\"\")","v":""},null,null,null,null,null,"N/A","N/A","N/A"]
[{"$f":"IF('FEA___(MPG-2)'!B38,'FEA___(MPG-2)'!F38,\"\")","v":""},null,null,null,null,null,"N/A","N/A","N/A"]
[{"$f":"IF('FEA___(MPG-2)'!B39,'FEA___(MPG-2)'!F39,\"\")","v":""},null,null,null,null,null,"N/A","N/A","N/A"]
[{"$f":"IF('FEA___(MPG-2)'!B40,'FEA___(MPG-2)'!F40,\"\")","v":""},null,null,null,null,null,"N/A","N/A","N/A"]
[{"$f":"IF('FEA___(MPG-2)'!B41,'FEA___(MPG-2)'!F41,\"\")","v":""},null,null,null,null,null,"N/A","N/A","N/A"]
[{"$f":"IF('FEA___(MPG-2)'!B42,'FEA___(MPG-2)'!F42,\"\")","v":""},null,null,null,null,null,"N/A","N/A","N/A"]
[{"$f":"IF('FEA___(MPG-2)'!B43,'FEA___(MPG-2)'!F43,\"\")","v":""},null,null,null,null,null,"N/A","N/A","N/A"]
[{"$f":"IF('FEA___(MPG-2)'!B44,'FEA___(MPG-2)'!F44,\"\")","v":""},null,null,null,null,null,"N/A","N/A","N/A"]
[{"$f":"IF('FEA___(MPG-2)'!B45,'FEA___(MPG-2)'!F45,\"\")","v":""},null,null,null,null,null,"N/A","N/A","N/A"]
[{"$f":"IF('FEA___(MPG-2)'!B46,'FEA___(MPG-2)'!F46,\"\")","v":""},null,null,null,null,null,"N/A","N/A","N/A"]
[{"$f":"IF('FEA___(MPG-2)'!B47,'FEA___(MPG-2)'!F47,\"\")","v":""},null,null,null,null,null,"N/A","N/A","N/A"]
[{"$f":"IF('FEA___(MPG-2)'!B48,'FEA___(MPG-2)'!F48,\"\")","v":""},null,null,null,null,null,"N/A","N/A","N/A"]
[{"$f":"IF('FEA___(MPG-2)'!B49,'FEA___(MPG-2)'!F49,\"\")","v":""},null,null,null,null,null,"N/A","N/A","N/A"]
[{"$f":"IF('FEA___(MPG-2)'!B50,'FEA___(MPG-2)'!F50,\"\")","v":""},null,null,null,null,null,"N/A","N/A","N/A"]
[{"$f":"IF('FEA___(MPG-2)'!B51,'FEA___(MPG-2)'!F51,\"\")","v":""},null,null,null,null,null,"N/A","N/A","N/A"]
[{"$f":"IF('FEA___(MPG-2)'!B52,'FEA___(MPG-2)'!F52,\"\")","v":""},null,null,null,null,null,"N/A","N/A","N/A"]
[{"$f":"IF('FEA___(MPG-2)'!B53,'FEA___(MPG-2)'!F53,\"\")","v":""},null,null,null,null,null,"N/A","N/A","N/A"]
[{"$f":"IF('FEA___(MPG-2)'!B54,'FEA___(MPG-2)'!F54,\"\")","v":""},null,null,null,null,null,"N/A","N/A","N/A"]
[{"$f":"IF('FEA___(MPG-2)'!B55,'FEA___(MPG-2)'!F55,\"\")","v":""},null,null,null,null,null,"N/A","N/A","N/A"]
[{"$f":"IF('FEA___(MPG-2)'!B56,'FEA___(MPG-2)'!F56,\"\")","v":""},null,null,null,null,null,"N/A","N/A","N/A"]
[{"$f":"IF('FEA___(MPG-2)'!B57,'FEA___(MPG-2)'!F57,\"\")","v":""},null,null,null,null,null,"N/A","N/A","N/A"]
[{"$f":"IF('FEA___(MPG-2)'!B58,'FEA___(MPG-2)'!F58,\"\")","v":""},null,null,null,null,null,"N/A","N/A","N/A"]
[{"$f":"IF('FEA___(MPG-2)'!B59,'FEA___(MPG-2)'!F59,\"\")","v":""},null,null,null,null,null,"N/A","N/A","N/A"]
[{"$f":"IF('FEA___(MPG-2)'!B60,'FEA___(MPG-2)'!F60,\"\")","v":""},null,null,null,null,null,"N/A","N/A","N/A"]
[{"$f":"IF('FEA___(MPG-2)'!B61,'FEA___(MPG-2)'!F61,\"\")","v":""},null,null,null,null,null,"N/A","N/A","N/A"]

{"sheet":"Yields (WP)","index":28,"n_rows":9691,"n_cols":2,"rows_kept":9691,"cut":false,"hidden":false,"merged":[]}
["DGS30"]
["lin","Percent"]
["D","Daily"]
["1977-02-15","1977-02-15 to 2014-04-08"]
["30-Year Treasury Constant Maturity Rate"]
["Board of Governors of the Federal Reserve System"]
["date","value"]
["1977-02-15",7.7]
["1977-02-16",7.67]
["1977-02-17",7.67]
["1977-02-18",7.76]
["1977-02-21",{"$f":"NA()","v":{"$error":"#N/A"}}]
["1977-02-22",7.77]
["1977-02-23",7.81]
["1977-02-24",7.82]
["1977-02-25",7.79]
["1977-02-28",7.8]
["1977-03-01",7.84]
["1977-03-02",7.81]
["1977-03-03",7.79]
["1977-03-04",7.82]
["1977-03-07",7.84]
["1977-03-08",7.84]
["1977-03-09",7.81]
["1977-03-10",7.81]
["1977-03-11",7.8]
["1977-03-14",7.8]
["1977-03-15",7.78]
["1977-03-16",7.79]
["1977-03-17",7.78]
["1977-03-18",7.76]
["1977-03-21",7.74]
["1977-03-22",7.77]
["1977-03-23",7.78]
["1977-03-24",7.78]
["1977-03-25",7.78]
["1977-03-28",7.8]
["1977-03-29",7.8]
["1977-03-30",7.8]
["1977-03-31",7.79]
["1977-04-01",7.78]
["1977-04-04",7.78]
["1977-04-05",7.78]
["1977-04-06",7.78]
["1977-04-07",7.78]
["1977-04-08",{"$f":"NA()","v":{"$error":"#N/A"}}]
["1977-04-11",7.76]
["1977-04-12",7.76]
["1977-04-13",7.76]
["1977-04-14",7.63]
["1977-04-15",7.65]
["1977-04-18",7.64]
["1977-04-19",7.67]
["1977-04-20",7.69]
["1977-04-21",7.69]
["1977-04-22",7.73]
["1977-04-25",7.76]
["1977-04-26",7.74]
["1977-04-27",7.75]
["1977-04-28",7.76]
["1977-04-29",7.8]
["1977-05-02",7.8]
["1977-05-03",7.79]
["1977-05-04",7.78]
["1977-05-05",7.8]
["1977-05-06",7.86]
["1977-05-09",7.86]
["1977-05-10",7.86]
["1977-05-11",7.86]
["1977-05-12",7.86]
["1977-05-13",7.8]
["1977-05-16",7.79]
["1977-05-17",7.77]
["1977-05-18",7.77]
["1977-05-19",7.81]
["1977-05-20",7.81]
["1977-05-23",7.8]
["1977-05-24",7.76]
["1977-05-25",7.74]
["1977-05-26",7.76]
["1977-05-27",7.74]
["1977-05-30",{"$f":"NA()","v":{"$error":"#N/A"}}]
["1977-05-31",7.74]
["1977-06-01",7.75]
["1977-06-02",7.74]
["1977-06-03",7.72]
["1977-06-06",7.72]
["1977-06-07",7.67]
["1977-06-08",7.67]
["1977-06-09",7.67]
["1977-06-10",7.66]
["1977-06-13",7.62]
["1977-06-14",7.59]
["1977-06-15",7.6]
["1977-06-16",7.62]
["1977-06-17",7.62]
["1977-06-20",7.63]
["1977-06-21",7.62]
["1977-06-22",7.61]
["1977-06-23",7.61]
["1977-06-24",7.59]
["1977-06-27",7.58]
["1977-06-28",7.56]
["1977-06-29",7.56]
["1977-06-30",7.58]
["1977-07-01",7.58]
["1977-07-04",{"$f":"NA()","v":{"$error":"#N/A"}}]
["1977-07-05",7.63]
["1977-07-06",7.63]
["1977-07-07",7.62]
["1977-07-08",7.65]
["1977-07-11",7.65]
["1977-07-12",7.65]
["1977-07-13",7.62]
["1977-07-14",{"$f":"NA()","v":{"$error":"#N/A"}}]
["1977-07-15",7.64]
["1977-07-18",7.64]
["1977-07-19",7.64]
["1977-07-20",7.64]
["1977-07-21",7.65]
["1977-07-22",7.65]
["1977-07-25",7.64]
["1977-07-26",7.64]
["1977-07-27",7.66]
["1977-07-28",7.7]
["1977-07-29",7.72]
["1977-08-01",7.7]
["1977-08-02",7.72]
["1977-08-03",7.7]
["1977-08-04",7.7]
["1977-08-05",7.72]
["1977-08-08",7.71]
["1977-08-09",7.73]
["1977-08-10",7.73]
["1977-08-11",7.74]
["1977-08-12",7.74]
["1977-08-15",7.74]
["1977-08-16",7.74]
["1977-08-17",7.72]
["1977-08-18",7.71]
["1977-08-19",7.68]
["1977-08-22",7.67]
["1977-08-23",7.65]
["1977-08-24",7.65]
["1977-08-25",7.62]
["1977-08-26",7.58]
["1977-08-29",7.58]
["1977-08-30",7.59]
["1977-08-31",7.6]
["1977-09-01",7.61]
["1977-09-02",7.58]
["1977-09-05",{"$f":"NA()","v":{"$error":"#N/A"}}]
["1977-09-06",7.57]
["1977-09-07",7.59]
["1977-09-08",7.6]
["1977-09-09",7.65]
["1977-09-12",7.66]
["1977-09-13",7.66]
["1977-09-14",7.63]
["1977-09-15",7.63]
["1977-09-16",7.63]
["1977-09-19",7.63]
["1977-09-20",7.65]
["1977-09-21",7.66]
["1977-09-22",7.67]
["1977-09-23",7.67]
["1977-09-26",7.7]
["1977-09-27",7.68]
["1977-09-28",7.68]
["1977-09-29",7.68]
["1977-09-30",7.68]
["1977-10-03",7.7]
["1977-10-04",7.69]
["1977-10-05",7.69]
["1977-10-06",7.72]
["1977-10-07",7.73]
["1977-10-10",{"$f":"NA()","v":{"$error":"#N/A"}}]
["1977-10-11",7.77]
["1977-10-12",7.79]
["1977-10-13",7.79]
["1977-10-14",7.79]
["1977-10-17",7.79]
["1977-10-18",7.8]
["1977-10-19",7.79]
["1977-10-20",7.78]
["1977-10-21",7.79]
["1977-10-24",7.8]
["1977-10-25",7.81]
["1977-10-26",7.81]
["1977-10-27",7.81]
["1977-10-28",7.81]
["1977-10-31",7.83]
["1977-11-01",7.86]
["1977-11-02",7.89]
["1977-11-03",7.92]
["1977-11-04",7.89]
["1977-11-07",7.88]
["1977-11-08",{"$f":"NA()","v":{"$error":"#N/A"}}]
["1977-11-09",7.86]
["1977-11-10",7.86]
["1977-11-11",{"$f":"NA()","v":{"$error":"#N/A"}}]
["1977-11-14",7.83]
["1977-11-15",7.84]
["1977-11-16",7.84]
["1977-11-17",7.83]
["1977-11-18",7.82]
["1977-11-21",7.83]
["1977-11-22",7.83]
["1977-11-23",7.81]
["1977-11-24",{"$f":"NA()","v":{"$error":"#N/A"}}]
["1977-11-25",7.82]
["1977-11-28",7.82]
["1977-11-29",7.83]
["1977-11-30",7.83]
["1977-12-01",7.85]
["1977-12-02",7.86]
["1977-12-05",7.87]
["1977-12-06",7.88]
["1977-12-07",7.89]
["1977-12-08",7.9]
["1977-12-09",7.88]
["1977-12-12",7.89]
["1977-12-13",7.9]
["1977-12-14",7.91]
["1977-12-15",7.92]
["1977-12-16",7.93]
["1977-12-19",7.95]
["1977-12-20",7.99]
["1977-12-21",7.98]
["1977-12-22",7.99]
["1977-12-23",8]
["1977-12-26",{"$f":"NA()","v":{"$error":"#N/A"}}]
["1977-12-27",8.02]
["1977-12-28",8.0500000000000007]
["1977-12-29",8.06]
["1977-12-30",8.0299999999999994]
["1978-01-02",{"$f":"NA()","v":{"$error":"#N/A"}}]
["1978-01-03",8.08]
["1978-01-04",8.08]
["1978-01-05",8.07]
["1978-01-06",8.1]
["1978-01-09",8.2100000000000009]
["1978-01-10",8.1999999999999993]
["1978-01-11",8.2200000000000006]
["1978-01-12",8.2200000000000006]
["1978-01-13",8.1999999999999993]
["1978-01-16",8.2100000000000009]
["1978-01-17",8.19]
["1978-01-18",8.19]
["1978-01-19",8.19]
["1978-01-20",8.19]
["1978-01-23",8.19]
["1978-01-24",8.1999999999999993]
["1978-01-25",8.23]
["1978-01-26",8.2100000000000009]
["1978-01-27",8.2100000000000009]
["1978-01-30",8.1999999999999993]
["1978-01-31",8.18]
["1978-02-01",8.1999999999999993]
["1978-02-02",8.1999999999999993]
["1978-02-03",8.2200000000000006]
["1978-02-06",8.24]
["1978-02-07",8.24]
["1978-02-08",8.24]
["1978-02-09",8.24]
["1978-02-10",8.24]
["1978-02-13",{"$f":"NA()","v":{"$error":"#N/A"}}]
["1978-02-14",8.25]
["1978-02-15",8.27]
["1978-02-16",8.3000000000000007]
["1978-02-17",8.2899999999999991]
["1978-02-20",{"$f":"NA()","v":{"$error":"#N/A"}}]
["1978-02-21",8.3000000000000007]
["1978-02-22",8.3000000000000007]
["1978-02-23",8.2799999999999994]
["1978-02-24",8.27]
["1978-02-27",8.25]
["1978-02-28",8.25]
["1978-03-01",8.26]
["1978-03-02",8.25]
["1978-03-03",8.24]
["1978-03-06",8.25]
["1978-03-07",8.23]
["1978-03-08",8.23]
["1978-03-09",8.2200000000000006]
["1978-03-10",8.2100000000000009]
["1978-03-13",8.1999999999999993]
["1978-03-14",8.1999999999999993]
["1978-03-15",8.1999999999999993]
["1978-03-16",8.1999999999999993]
["1978-03-17",8.1999999999999993]
["1978-03-20",8.18]
["1978-03-21",8.18]
["1978-03-22",8.19]
["1978-03-23",8.2200000000000006]
["1978-03-24",{"$f":"NA()","v":{"$error":"#N/A"}}]
["1978-03-27",8.3000000000000007]
["1978-03-28",8.2899999999999991]
["1978-03-29",8.2799999999999994]
["1978-03-30",8.2899999999999991]
["1978-03-31",8.33]
["1978-04-03",8.32]
["1978-04-04",8.31]
["1978-04-05",8.32]
["1978-04-06",8.33]
["1978-04-07",8.34]
["1978-04-10",8.35]
["1978-04-11",8.35]
["1978-04-12",8.35]
["1978-04-13",8.35]
["1978-04-14",8.33]
["1978-04-17",8.3000000000000007]
["1978-04-18",8.2899999999999991]
["1978-04-19",8.31]
["1978-04-20",8.32]
["1978-04-21",8.34]
["1978-04-24",8.36]
["1978-04-25",8.36]
["1978-04-26",8.3800000000000008]
["1978-04-27",8.4]
["1978-04-28",8.39]
["1978-05-01",8.3800000000000008]
["1978-05-02",8.3800000000000008]
["1978-05-03",8.4]
["1978-05-04",8.39]
["1978-05-05",8.4499999999999993]
["1978-05-08",8.4499999999999993]
["1978-05-09",8.4499999999999993]
["1978-05-10",8.4499999999999993]
["1978-05-11",8.42]
["1978-05-12",8.44]
["1978-05-15",8.42]
["1978-05-16",8.42]
["1978-05-17",8.4]
["1978-05-18",8.42]
["1978-05-19",8.4499999999999993]
["1978-05-22",8.44]
["1978-05-23",8.44]
["1978-05-24",8.4499999999999993]
["1978-05-25",8.48]
["1978-05-26",8.5]
["1978-05-29",{"$f":"NA()","v":{"$error":"#N/A"}}]
["1978-05-30",{"$f":"NA()","v":{"$error":"#N/A"}}]
["1978-05-31",8.5]
["1978-06-01",8.5]
["1978-06-02",8.48]
["1978-06-05",8.4499999999999993]
["1978-06-06",8.4499999999999993]
["1978-06-07",8.44]
["1978-06-08",8.44]
["1978-06-09",8.4499999999999993]
["1978-06-12",8.4499999999999993]
["1978-06-13",8.4499999999999993]
["1978-06-14",8.44]
["1978-06-15",8.44]
["1978-06-16",8.4600000000000009]
["1978-06-19",8.48]
["1978-06-20",8.5]
["1978-06-21",8.5399999999999991]
["1978-06-22",8.5299999999999994]
["1978-06-23",8.5500000000000007]
["1978-06-26",8.6]
["1978-06-27",8.58]
["1978-06-28",8.57]
["1978-06-29",8.59]
["1978-06-30",8.6199999999999992]
["1978-07-03",8.6]
["1978-07-04",{"$f":"NA()","v":{"$error":"#N/A"}}]
["1978-07-05",8.6199999999999992]
["1978-07-06",8.6199999999999992]
["1978-07-07",8.67]
["1978-07-10",8.69]
["1978-07-11",8.69]
["1978-07-12",8.69]
["1978-07-13",8.6999999999999993]
["1978-07-14",8.69]
["1978-07-17",8.66]
["1978-07-18",8.65]
["1978-07-19",8.65]
["1978-07-20",8.66]
["1978-07-21",8.67]
["1978-07-24",8.68]
["1978-07-25",8.68]
["1978-07-26",8.66]
["1978-07-27",8.6]
["1978-07-28",8.5500000000000007]
["1978-07-31",8.56]
["1978-08-01",8.5500000000000007]
["1978-08-02",8.44]
["1978-08-03",8.44]
["1978-08-04",8.4499999999999993]
["1978-08-07",8.44]
["1978-08-08",8.42]
["1978-08-09",8.41]
["1978-08-10",8.48]
["1978-08-11",8.48]
["1978-08-14",8.51]
["1978-08-15",8.5299999999999994]
["1978-08-16",8.6]
["1978-08-17",8.5500000000000007]
["1978-08-18",8.5299999999999994]
["1978-08-21",8.48]
["1978-08-22",8.48]
["1978-08-23",8.42]
["1978-08-24",8.44]
["1978-08-25",8.43]
["1978-08-28",8.43]
["1978-08-29",8.4499999999999993]
["1978-08-30",8.4700000000000006]
["1978-08-31",8.4600000000000009]
["1978-09-01",8.4499999999999993]
["1978-09-04",{"$f":"NA()","v":{"$error":"#N/A"}}]
["1978-09-05",8.41]
["1978-09-06",8.4]
["1978-09-07",8.41]
["1978-09-08",8.4]
["1978-09-11",8.3800000000000008]
["1978-09-12",8.36]
["1978-09-13",8.3699999999999992]
["1978-09-14",8.3800000000000008]
["1978-09-15",8.4]
["1978-09-18",8.43]
["1978-09-19",8.4499999999999993]
["1978-09-20",8.51]
["1978-09-21",8.5299999999999994]
["1978-09-22",8.59]
["1978-09-25",8.58]
["1978-09-26",8.57]
["1978-09-27",8.59]
["1978-09-28",8.6]
["1978-09-29",8.61]
["1978-10-02",8.6300000000000008]
["1978-10-03",8.6300000000000008]
["1978-10-04",8.6300000000000008]
["1978-10-05",8.64]
["1978-10-06",8.61]
["1978-10-09",{"$f":"NA()","v":{"$error":"#N/A"}}]
["1978-10-10",8.61]
["1978-10-11",8.61]
["1978-10-12",8.58]
["1978-10-13",8.59]
["1978-10-16",8.65]
["1978-10-17",8.65]
["1978-10-18",8.65]
["1978-10-19",8.67]
["1978-10-20",8.69]
["1978-10-23",8.69]
["1978-10-24",8.67]
["1978-10-25",8.68]
["1978-10-26",8.7100000000000009]
["1978-10-27",8.75]
["1978-10-30",8.84]
["1978-10-31",8.8699999999999992]
["1978-11-01",8.66]
["1978-11-02",8.7100000000000009]
["1978-11-03",8.76]
["1978-11-06",8.8000000000000007]
["1978-11-07",{"$f":"NA()","v":{"$error":"#N/A"}}]
["1978-11-08",8.81]
["1978-11-09",8.82]
["1978-11-10",8.7899999999999991]
["1978-11-13",8.76]
["1978-11-14",8.76]
["1978-11-15",8.69]
["1978-11-16",8.69]
["1978-11-17",8.69]
["1978-11-20",8.6999999999999993]
["1978-11-21",8.7100000000000009]
["1978-11-22",8.73]
["1978-11-23",{"$f":"NA()","v":{"$error":"#N/A"}}]
["1978-11-24",8.7899999999999991]
["1978-11-27",8.7799999999999994]
["1978-11-28",8.7899999999999991]
["1978-11-29",8.7899999999999991]
["1978-11-30",8.8000000000000007]
["1978-12-01",8.73]
["1978-12-04",8.7899999999999991]
["1978-12-05",8.7899999999999991]
["1978-12-06",8.7799999999999994]
["1978-12-07",8.81]
["1978-12-08",8.81]
["1978-12-11",8.81]
["1978-12-12",8.82]
["1978-12-13",8.89]
["1978-12-14",8.8800000000000008]
["1978-12-15",8.9]
["1978-12-18",8.99]
["1978-12-19",8.9700000000000006]
["1978-12-20",8.99]
["1978-12-21",8.98]
["1978-12-22",8.9499999999999993]
["1978-12-25",{"$f":"NA()","v":{"$error":"#N/A"}}]
["1978-12-26",8.94]
["1978-12-27",8.93]
["1978-12-28",8.9700000000000006]
["1978-12-29",8.9600000000000009]
["1979-01-01",{"$f":"NA()","v":{"$error":"#N/A"}}]
["1979-01-02",8.99]
["1979-01-03",8.9600000000000009]
["1979-01-04",8.94]
["1979-01-05",8.9499999999999993]
["1979-01-08",8.98]
["1979-01-09",8.99]
["1979-01-10",8.99]
["1979-01-11",8.98]
["1979-01-12",8.9700000000000006]
["1979-01-15",8.9700000000000006]
["1979-01-16",8.98]
["1979-01-17",8.99]
["1979-01-18",8.99]
["1979-01-19",8.9700000000000006]
["1979-01-22",8.94]
["1979-01-23",8.93]
["1979-01-24",8.91]
["1979-01-25",8.84]
["1979-01-26",8.82]
["1979-01-29",8.85]
["1979-01-30",8.85]
["1979-01-31",8.85]
["1979-02-01",8.85]
["1979-02-02",8.84]
["1979-02-05",8.8800000000000008]
["1979-02-06",8.92]
["1979-02-07",9]
["1979-02-08",9]
["1979-02-09",9.02]
["1979-02-12",{"$f":"NA()","v":{"$error":"#N/A"}}]
["1979-02-13",9]
["1979-02-14",9]
["1979-02-15",9.01]
["1979-02-16",9.01]
["1979-02-19",{"$f":"NA()","v":{"$error":"#N/A"}}]
["1979-02-20",9.02]
["1979-02-21",9.0399999999999991]
["1979-02-22",9.08]
["1979-02-23",9.1]
["1979-02-26",9.08]
["1979-02-27",9.08]
["1979-02-28",9.08]
["1979-03-01",9.09]
["1979-03-02",9.09]
["1979-03-05",9.02]
["1979-03-06",9.06]
["1979-03-07",9.02]
["1979-03-08",9.01]
["1979-03-09",9.0399999999999991]
["1979-03-12",9.02]
["1979-03-13",9.02]
["1979-03-14",9.0399999999999991]
["1979-03-15",9.0500000000000007]
["1979-03-16",9.0299999999999994]
["1979-03-19",9.0299999999999994]
["1979-03-20",9.0399999999999991]
["1979-03-21",9.0299999999999994]
["1979-03-22",9.0299999999999994]
["1979-03-23",9.02]
["1979-03-26",9.0299999999999994]
["1979-03-27",9.01]
["1979-03-28",8.99]
["1979-03-29",8.99]
["1979-03-30",9.02]
["1979-04-02",9.02]
["1979-04-03",9.01]
["1979-04-04",9]
["1979-04-05",8.99]
["1979-04-06",9.01]
["1979-04-09",9.0399999999999991]
["1979-04-10",9.07]
["1979-04-11",9.08]
["1979-04-12",9.09]
["1979-04-13",{"$f":"NA()","v":{"$error":"#N/A"}}]
["1979-04-16",9.09]
["1979-04-17",9.07]
["1979-04-18",9.06]
["1979-04-19",9.06]
["1979-04-20",9.11]
["1979-04-23",9.1300000000000008]
["1979-04-24",9.14]
["1979-04-25",9.1300000000000008]
["1979-04-26",9.18]
["1979-04-27",9.19]
["1979-04-30",9.2200000000000006]
["1979-05-01",9.2100000000000009]
["1979-05-02",9.2200000000000006]
["1979-05-03",9.27]
["1979-05-04",9.2899999999999991]
["1979-05-07",9.2799999999999994]
["1979-05-08",9.2799999999999994]
["1979-05-09",9.26]
["1979-05-10",9.27]
["1979-05-11",9.26]
["1979-05-14",9.2200000000000006]
["1979-05-15",9.24]
["1979-05-16",9.2200000000000006]
["1979-05-17",9.1999999999999993]
["1979-05-18",9.18]
["1979-05-21",9.1999999999999993]
["1979-05-22",9.16]
["1979-05-23",9.09]
["1979-05-24",9.07]
["1979-05-25",9.0299999999999994]
["1979-05-28",{"$f":"NA()","v":{"$error":"#N/A"}}]
["1979-05-29",9.0299999999999994]
["1979-05-30",{"$f":"NA()","v":{"$error":"#N/A"}}]
["1979-05-31",9.08]
["1979-06-01",9.07]
["1979-06-04",9.07]
["1979-06-05",9.0399999999999991]
["1979-06-06",9]
["1979-06-07",8.9]
["1979-06-08",8.91]
["1979-06-11",8.94]
["1979-06-12",8.84]
["1979-06-13",8.8699999999999992]
["1979-06-14",8.89]
["1979-06-15",8.94]
["1979-06-18",8.93]
["1979-06-19",8.94]
["1979-06-20",8.92]
["1979-06-21",8.92]
["1979-06-22",8.9499999999999993]
["1979-06-25",8.92]
["1979-06-26",8.84]
["1979-06-27",8.83]
["1979-06-28",8.84]
["1979-06-29",8.83]
["1979-07-02",8.8000000000000007]
["1979-07-03",8.81]
["1979-07-04",{"$f":"NA()","v":{"$error":"#N/A"}}]
["1979-07-05",8.82]
["1979-07-06",8.83]
["1979-07-09",8.86]
["1979-07-10",8.89]
["1979-07-11",8.93]
["1979-07-12",8.91]
["1979-07-13",8.91]
["1979-07-16",8.9499999999999993]
["1979-07-17",8.9700000000000006]
["1979-07-18",8.99]
["1979-07-19",8.99]
["1979-07-20",8.9499999999999993]
["1979-07-23",8.99]
["1979-07-24",9.01]
["1979-07-25",8.9700000000000006]
["1979-07-26",8.98]
["1979-07-27",9.01]
["1979-07-30",9.01]
["1979-07-31",8.99]
["1979-08-01",8.9700000000000006]
["1979-08-02",8.92]
["1979-08-03",8.94]
["1979-08-06",8.92]
["1979-08-07",8.9]
["1979-08-08",8.91]
["1979-08-09",8.9499999999999993]
["1979-08-10",8.9700000000000006]
["1979-08-13",8.9700000000000006]
["1979-08-14",8.9499999999999993]
["1979-08-15",8.9600000000000009]
["1979-08-16",8.9499999999999993]
["1979-08-17",8.9499999999999993]
["1979-08-20",8.9600000000000009]
["1979-08-21",8.99]
["1979-08-22",8.99]
["1979-08-23",9]
["1979-08-24",9.0500000000000007]
["1979-08-27",9.0299999999999994]
["1979-08-28",9.0299999999999994]
["1979-08-29",9.02]
["1979-08-30",9.07]
["1979-08-31",9.09]
["1979-09-03",{"$f":"NA()","v":{"$error":"#N/A"}}]
["1979-09-04",9.14]
["1979-09-05",9.15]
["1979-09-06",9.16]
["1979-09-07",9.18]
["1979-09-10",9.19]
["1979-09-11",9.1300000000000008]
["1979-09-12",9.15]
["1979-09-13",9.17]
["1979-09-14",9.1300000000000008]
["1979-09-17",9.19]
["1979-09-18",9.19]
["1979-09-19",9.16]
["1979-09-20",9.1300000000000008]
["1979-09-21",9.11]
["1979-09-24",9.17]
["1979-09-25",9.16]
["1979-09-26",9.1999999999999993]
["1979-09-27",9.25]
["1979-09-28",9.25]
["1979-10-01",9.32]
["1979-10-02",9.2799999999999994]
["1979-10-03",9.3000000000000007]
["1979-10-04",9.34]
["1979-10-05",9.36]
["1979-10-08",{"$f":"NA()","v":{"$error":"#N/A"}}]
["1979-10-09",9.61]
["1979-10-10",9.69]
["1979-10-11",9.77]
["1979-10-12",9.76]
["1979-10-15",9.84]
["1979-10-16",9.82]
["1979-10-17",9.75]
["1979-10-18",9.91]
["1979-10-19",10.07]
["1979-10-22",10.29]
["1979-10-23",10.33]
["1979-10-24",10.199999999999999]
["1979-10-25",10.31]
["1979-10-26",10.119999999999999]
["1979-10-29",10.220000000000001]
["1979-10-30",10.17]
["1979-10-31",10.19]
["1979-11-01",10.3]
["1979-11-02",10.44]
["1979-11-05",10.42]
["1979-11-06",{"$f":"NA()","v":{"$error":"#N/A"}}]
["1979-11-07",10.53]
["1979-11-08",10.51]
["1979-11-09",10.34]
["1979-11-12",{"$f":"NA()","v":{"$error":"#N/A"}}]
["1979-11-13",10.32]
["1979-11-14",10.4]
["1979-11-15",10.3]
["1979-11-16",10.41]
["1979-11-19",10.42]
["1979-11-20",10.39]
["1979-11-21",10.36]
["1979-11-22",{"$f":"NA()","v":{"$error":"#N/A"}}]
["1979-11-23",10.210000000000001]
["1979-11-26",10.1]
["1979-11-27",10.02]
["1979-11-28",10.09]
["1979-11-29",10.06]
["1979-11-30",10.09]
["1979-12-03",10.11]
["1979-12-04",10.039999999999999]
["1979-12-05",10.01]
["1979-12-06",9.93]
["1979-12-07",10.039999999999999]
["1979-12-10",10.029999999999999]
["1979-12-11",10.18]
["1979-12-12",10.27]
["1979-12-13",10.23]
["1979-12-14",10.17]
["1979-12-17",10.14]
["1979-12-18",10.11]
["1979-12-19",10.09]
["1979-12-20",10.130000000000001]
["1979-12-21",10.17]
["1979-12-24",10.17]
["1979-12-25",{"$f":"NA()","v":{"$error":"#N/A"}}]
["1979-12-26",10.199999999999999]
["1979-12-27",10.19]
["1979-12-28",10.16]
["1979-12-31",10.11]
["1980-01-01",{"$f":"NA()","v":{"$error":"#N/A"}}]
["1980-01-02",10.23]
["1980-01-03",10.31]
["1980-01-04",10.34]
["1980-01-07",10.35]
["1980-01-08",10.28]
["1980-01-09",10.29]
["1980-01-10",10.26]
["1980-01-11",10.38]
["1980-01-14",10.4]
["1980-01-15",10.4]
["1980-01-16",10.41]
["1980-01-17",10.47]
["1980-01-18",10.61]
["1980-01-21",10.77]
["1980-01-22",10.69]
["1980-01-23",10.68]
["1980-01-24",10.87]
["1980-01-25",11]
["1980-01-28",11.03]
["1980-01-29",11.12]
["1980-01-30",11.11]
["1980-01-31",11.09]
["1980-02-01",11.23]
["1980-02-04",11.32]
["1980-02-05",11.64]
["1980-02-06",11.78]
["1980-02-07",11.7]
["1980-02-08",11.72]
["1980-02-11",11.94]
["1980-02-12",{"$f":"NA()","v":{"$error":"#N/A"}}]
["1980-02-13",11.82]
["1980-02-14",11.9]
["1980-02-15",12.11]
["1980-02-18",{"$f":"NA()","v":{"$error":"#N/A"}}]
["1980-02-19",12.61]
["1980-02-20",12.56]
["1980-02-21",12.77]
["1980-02-22",12.59]
["1980-02-25",12.69]
["1980-02-26",12.85]
["1980-02-27",12.76]
["1980-02-28",12.29]
["1980-02-29",12.25]
["1980-03-03",12.32]
["1980-03-04",12.35]
["1980-03-05",12.4]
["1980-03-06",12.64]
["1980-03-07",12.5]
["1980-03-10",12.25]
["1980-03-11",12.12]
["1980-03-12",12.39]
["1980-03-13",12.19]
["1980-03-14",12.21]
["1980-03-17",12.2]
["1980-03-18",12]
["1980-03-19",11.97]
["1980-03-20",12.22]
["1980-03-21",12.28]
["1980-03-24",12.69]
["1980-03-25",12.67]
["1980-03-26",12.56]
["1980-03-27",12.5]
["1980-03-28",12.35]
["1980-03-31",12.31]
["1980-04-01",12.35]
["1980-04-02",12.28]
["1980-04-03",12.27]
["1980-04-04",{"$f":"NA()","v":{"$error":"#N/A"}}]
["1980-04-07",11.87]
["1980-04-08",11.85]
["1980-04-09",11.79]
["1980-04-10",11.74]
["1980-04-11",11.53]
["1980-04-14",11.5]
["1980-04-15",11.47]
["1980-04-16",10.91]
["1980-04-17",10.99]
["1980-04-18",10.98]
["1980-04-21",10.96]
["1980-04-22",10.94]
["1980-04-23",11.02]
["1980-04-24",11.13]
["1980-04-25",11.18]
["1980-04-28",10.86]
["1980-04-29",10.89]
["1980-04-30",10.89]
["1980-05-01",10.72]
["1980-05-02",10.47]
["1980-05-05",10.35]
["1980-05-06",10.23]
["1980-05-07",10.19]
["1980-05-08",10.34]
["1980-05-09",10.41]
["1980-05-12",10.44]
["1980-05-13",10.29]
["1980-05-14",10.26]
["1980-05-15",10.46]
["1980-05-16",10.53]
["1980-05-19",10.68]
["1980-05-20",10.47]
["1980-05-21",10.31]
["1980-05-22",10.34]
["1980-05-23",10.09]
["1980-05-26",{"$f":"NA()","v":{"$error":"#N/A"}}]
["1980-05-27",10.1]
["1980-05-28",10.220000000000001]
["1980-05-29",10.32]
["1980-05-30",10.37]
["1980-06-02",10.45]
["1980-06-03",10.29]
["1980-06-04",10.18]
["1980-06-05",10.08]
["1980-06-06",9.8699999999999992]
["1980-06-09",9.75]
["1980-06-10",9.8800000000000008]
["1980-06-11",9.7899999999999991]
["1980-06-12",9.6]
["1980-06-13",9.49]
["1980-06-16",9.49]
["1980-06-17",9.52]
["1980-06-18",9.6]
["1980-06-19",9.57]
["1980-06-20",9.5]
["1980-06-23",9.66]
["1980-06-24",9.6999999999999993]
["1980-06-25",9.7899999999999991]
["1980-06-26",9.91]
["1980-06-27",9.9700000000000006]
["1980-06-30",9.99]
["1980-07-01",10.119999999999999]
["1980-07-02",10.119999999999999]
["1980-07-03",10]
["1980-07-04",{"$f":"NA()","v":{"$error":"#N/A"}}]
["1980-07-07",10.220000000000001]
["1980-07-08",10.06]
["1980-07-09",10.14]
["1980-07-10",10.210000000000001]
["1980-07-11",10.3]
["1980-07-14",10.36]
["1980-07-15",10.19]
["1980-07-16",10.050000000000001]
["1980-07-17",10.15]
["1980-07-18",10.19]
["1980-07-21",10.11]
["1980-07-22",10.18]
["1980-07-23",10.15]
["1980-07-24",10.24]
["1980-07-25",10.33]
["1980-07-28",10.42]
["1980-07-29",10.4]
["1980-07-30",10.51]
["1980-07-31",10.8]
["1980-08-01",10.76]
["1980-08-04",10.68]
["1980-08-05",10.69]
["1980-08-06",10.73]
["1980-08-07",10.68]
["1980-08-08",10.9]
["1980-08-11",11.05]
["1980-08-12",11.01]
["1980-08-13",10.93]
["1980-08-14",10.9]
["1980-08-15",10.83]
["1980-08-18",11.02]
["1980-08-19",11.16]
["1980-08-20",11.13]
["1980-08-21",11.15]
["1980-08-22",11.01]
["1980-08-25",11.18]
["1980-08-26",11.18]
["1980-08-27",11.33]
["1980-08-28",11.43]
["1980-08-29",11.27]
["1980-09-01",{"$f":"NA()","v":{"$error":"#N/A"}}]
["1980-09-02",11.08]
["1980-09-03",10.94]
["1980-09-04",11.02]
["1980-09-05",11.06]
["1980-09-08",11.15]
["1980-09-09",11.05]
["1980-09-10",11.02]
["1980-09-11",11.15]
["1980-09-12",11.18]
["1980-09-15",11.38]
["1980-09-16",11.33]
["1980-09-17",11.41]
["1980-09-18",11.35]
["1980-09-19",11.25]
["1980-09-22",11.6]
["1980-09-23",11.53]
["1980-09-24",11.53]
["1980-09-25",11.66]
["1980-09-26",11.81]
["1980-09-29",11.93]
["1980-09-30",11.7]
["1980-10-01",11.69]
["1980-10-02",11.66]
["1980-10-03",11.33]
["1980-10-06",11.26]
["1980-10-07",11.3]
["1980-10-08",11.38]
["1980-10-09",11.21]
["1980-10-10",11.26]
["1980-10-13",{"$f":"NA()","v":{"$error":"#N/A"}}]
["1980-10-14",11.16]
["1980-10-15",11.11]
["1980-10-16",11.27]
["1980-10-17",11.44]
["1980-10-20",11.44]
["1980-10-21",11.53]
["1980-10-22",11.74]
["1980-10-23",11.68]
["1980-10-24",11.61]
["1980-10-27",11.96]
["1980-10-28",12.14]
["1980-10-29",12.21]
["1980-10-30",12.28]
["1980-10-31",12.23]
["1980-11-03",12.22]
["1980-11-04",{"$f":"NA()","v":{"$error":"#N/A"}}]
["1980-11-05",12.36]
["1980-11-06",12.59]
["1980-11-07",12.59]
["1980-11-10",12.71]
["1980-11-11",{"$f":"NA()","v":{"$error":"#N/A"}}]
["1980-11-12",12.26]
["1980-11-13",12.23]
["1980-11-14",12.45]
["1980-11-17",12.6]
["1980-11-18",12.29]
["1980-11-19",12.19]
["1980-11-20",12.22]
["1980-11-21",12.37]
["1980-11-24",12.31]
["1980-11-25",12.3]
["1980-11-26",12.27]
["1980-11-27",{"$f":"NA()","v":{"$error":"#N/A"}}]
["1980-11-28",12.32]
["1980-12-01",12.51]
["1980-12-02",12.5]
["1980-12-03",12.41]
["1980-12-04",12.43]
["1980-12-05",12.33]
["1980-12-08",12.42]
["1980-12-09",12.68]
["1980-12-10",12.8]
["1980-12-11",13.17]
["1980-12-12",12.82]
["1980-12-15",12.85]
["1980-12-16",12.95]
["1980-12-17",12.74]
["1980-12-18",12.62]
["1980-12-19",12.22]
["1980-12-22",11.75]
["1980-12-23",11.93]
["1980-12-24",11.95]
["1980-12-25",{"$f":"NA()","v":{"$error":"#N/A"}}]
["1980-12-26",11.84]
["1980-12-29",11.84]
["1980-12-30",11.96]
["1980-12-31",11.98]
["1981-01-01",{"$f":"NA()","v":{"$error":"#N/A"}}]
["1981-01-02",12.01]
["1981-01-05",11.67]
["1981-01-06",11.67]
["1981-01-07",11.89]
["1981-01-08",11.91]
["1981-01-09",12.13]
["1981-01-12",12.08]
["1981-01-13",12.08]
["1981-01-14",12.07]
["1981-01-15",12.25]
["1981-01-16",12.13]
["1981-01-19",12.25]
["1981-01-20",12.11]
["1981-01-21",12.33]
["1981-01-22",12.46]
["1981-01-23",12.38]
["1981-01-26",12.28]
["1981-01-27",12.31]
["1981-01-28",12.33]
["1981-01-29",12.38]
["1981-01-30",12.28]
["1981-02-02",12.45]
["1981-02-03",12.61]
["1981-02-04",12.49]
["1981-02-05",12.7]
["1981-02-06",12.73]
["1981-02-09",12.81]
["1981-02-10",12.92]
["1981-02-11",13.01]
["1981-02-12",{"$f":"NA()","v":{"$error":"#N/A"}}]
["1981-02-13",13.2]
["1981-02-16",{"$f":"NA()","v":{"$error":"#N/A"}}]
["1981-02-17",12.93]
["1981-02-18",12.88]
["1981-02-19",12.71]
["1981-02-20",12.54]
["1981-02-23",12.81]
["1981-02-24",12.81]
["1981-02-25",12.89]
["1981-02-26",12.98]
["1981-02-27",12.97]
["1981-03-02",13.19]
["1981-03-03",13]
["1981-03-04",13.03]
["1981-03-05",13]
["1981-03-06",12.73]
["1981-03-09",12.64]
["1981-03-10",12.69]
["1981-03-11",12.74]
["1981-03-12",12.59]
["1981-03-13",12.42]
["1981-03-16",12.41]
["1981-03-17",12.25]
["1981-03-18",12.16]
["1981-03-19",12.28]
["1981-03-20",12.34]
["1981-03-23",12.71]
["1981-03-24",12.84]
["1981-03-25",12.77]
["1981-03-26",12.92]
["1981-03-27",12.93]
["1981-03-30",12.8]
["1981-03-31",12.65]
["1981-04-01",12.65]
["1981-04-02",12.8]
["1981-04-03",12.94]
["1981-04-06",13.28]
["1981-04-07",12.99]
["1981-04-08",13.15]
["1981-04-09",13.02]
["1981-04-10",13.15]
["1981-04-13",13.23]
["1981-04-14",13.13]
["1981-04-15",13.29]
["1981-04-16",13.32]
["1981-04-17",{"$f":"NA()","v":{"$error":"#N/A"}}]
["1981-04-20",13.17]
["1981-04-21",13.2]
["1981-04-22",13.25]
["1981-04-23",13.28]
["1981-04-24",13.35]
["1981-04-27",13.38]
["1981-04-28",13.39]
["1981-04-29",13.5]
["1981-04-30",13.65]
["1981-05-01",13.59]
["1981-05-04",13.98]
["1981-05-05",14.11]
["1981-05-06",13.97]
["1981-05-07",13.84]
["1981-05-08",13.76]
["1981-05-11",13.89]
["1981-05-12",13.95]
["1981-05-13",13.95]
["1981-05-14",13.66]
["1981-05-15",13.58]
["1981-05-18",13.31]
["1981-05-19",13.47]
["1981-05-20",13.45]
["1981-05-21",13.53]
["1981-05-22",13.36]
["1981-05-25",{"$f":"NA()","v":{"$error":"#N/A"}}]
["1981-05-26",13.22]
["1981-05-27",13.27]
["1981-05-28",13.1]
["1981-05-29",13.06]
["1981-06-01",13.06]
["1981-06-02",13.13]
["1981-06-03",13.08]
["1981-06-04",13.04]
["1981-06-05",13.11]
["1981-06-08",12.87]
["1981-06-09",12.89]
["1981-06-10",12.82]
["1981-06-11",12.84]
["1981-06-12",12.84]
["1981-06-15",12.61]
["1981-06-16",12.59]
["1981-06-17",12.73]
["1981-06-18",12.98]
["1981-06-19",12.9]
["1981-06-22",12.86]
["1981-06-23",12.99]
["1981-06-24",13.1]
["1981-06-25",13.14]
["1981-06-26",13.14]
["1981-06-29",13.11]
["1981-06-30",13.3]
["1981-07-01",13.47]
["1981-07-02",13.35]
["1981-07-03",{"$f":"NA()","v":{"$error":"#N/A"}}]
["1981-07-06",13.19]
["1981-07-07",13.42]
["1981-07-08",13.43]
["1981-07-09",13.47]
["1981-07-10",13.25]
["1981-07-13",13.33]
["1981-07-14",13.49]
["1981-07-15",13.35]
["1981-07-16",13.44]
["1981-07-17",13.4]
["1981-07-20",13.87]
["1981-07-21",13.84]
["1981-07-22",13.87]
["1981-07-23",13.8]
["1981-07-24",13.65]
["1981-07-27",13.7]
["1981-07-28",13.8]
["1981-07-29",13.92]
["1981-07-30",13.95]
["1981-07-31",13.96]
["1981-08-03",14.27]
["1981-08-04",14.17]
["1981-08-05",14.15]
["1981-08-06",14.04]
["1981-08-07",14.07]
["1981-08-10",13.88]
["1981-08-11",13.63]
["1981-08-12",13.82]
["1981-08-13",13.88]
["1981-08-14",13.95]
["1981-08-17",13.9]
["1981-08-18",13.95]
["1981-08-19",13.95]
["1981-08-20",14.08]
["1981-08-21",14.14]
["1981-08-24",14.57]
["1981-08-25",14.61]
["1981-08-26",14.6]
["1981-08-27",14.59]
["1981-08-28",14.49]
["1981-08-31",14.78]
["1981-09-01",14.7]
["1981-09-02",14.7]
["1981-09-03",14.82]
["1981-09-04",14.84]
["1981-09-07",{"$f":"NA()","v":{"$error":"#N/A"}}]
["1981-09-08",14.99]
["1981-09-09",14.73]
["1981-09-10",14.68]
["1981-09-11",14.49]
["1981-09-14",14.51]
["1981-09-15",14.44]
["1981-09-16",14.42]
["1981-09-17",14.26]
["1981-09-18",14.22]
["1981-09-21",14.09]
["1981-09-22",14.33]
["1981-09-23",14.61]
["1981-09-24",14.69]
["1981-09-25",15.08]
["1981-09-28",15.01]
["1981-09-29",15.2]
["1981-09-30",15.19]
["1981-10-01",15.14]
["1981-10-02",14.8]
["1981-10-05",14.62]
["1981-10-06",14.6]
["1981-10-07",14.54]
["1981-10-08",14.44]
["1981-10-09",14.26]
["1981-10-12",{"$f":"NA()","v":{"$error":"#N/A"}}]
["1981-10-13",14.36]
["1981-10-14",14.48]
["1981-10-15",14.39]
["1981-10-16",14.55]
["1981-10-19",14.52]
["1981-10-20",14.66]
["1981-10-21",14.94]
["1981-10-22",14.91]
["1981-10-23",14.81]
["1981-10-26",15.21]
["1981-10-27",15.09]
["1981-10-28",15.03]
["1981-10-29",14.66]
["1981-10-30",14.36]
["1981-11-02",14.41]
["1981-11-03",{"$f":"NA()","v":{"$error":"#N/A"}}]
["1981-11-04",13.96]
["1981-11-05",14.06]
["1981-11-06",13.85]
["1981-11-09",13.56]
["1981-11-10",13.55]
["1981-11-11",{"$f":"NA()","v":{"$error":"#N/A"}}]
["1981-11-12",13.21]
["1981-11-13",13.26]
["1981-11-16",13.11]
["1981-11-17",13.25]
["1981-11-18",13.05]
["1981-11-19",13.09]
["1981-11-20",13.08]
["1981-11-23",13.38]
["1981-11-24",13.03]
["1981-11-25",12.83]
["1981-11-26",{"$f":"NA()","v":{"$error":"#N/A"}}]
["1981-11-27",12.76]
["1981-11-30",12.91]
["1981-12-01",13.06]
["1981-12-02",13.21]
["1981-12-03",13.16]
["1981-12-04",12.89]
["1981-12-07",13.26]
["1981-12-08",13.24]
["1981-12-09",13.39]
["1981-12-10",13.58]
["1981-12-11",13.55]
["1981-12-14",13.34]
["1981-12-15",13.3]
["1981-12-16",13.32]
["1981-12-17",13.48]
["1981-12-18",13.3]
["1981-12-21",13.55]
["1981-12-22",13.65]
["1981-12-23",13.85]
["1981-12-24",13.76]
["1981-12-25",{"$f":"NA()","v":{"$error":"#N/A"}}]
["1981-12-28",13.72]
["1981-12-29",13.88]
["1981-12-30",13.86]
["1981-12-31",13.65]
["1982-01-01",{"$f":"NA()","v":{"$error":"#N/A"}}]
["1982-01-04",13.87]
["1982-01-05",14.14]
["1982-01-06",14.28]
["1982-01-07",14.32]
["1982-01-08",14.13]
["1982-01-11",14.43]
["1982-01-12",14.27]
["1982-01-13",14.47]
["1982-01-14",14.31]
["1982-01-15",14.41]
["1982-01-18",14.27]
["1982-01-19",14.36]
["1982-01-20",14.32]
["1982-01-21",14.21]
["1982-01-22",14.24]
["1982-01-25",14.2]
["1982-01-26",14.19]
["1982-01-27",14.17]
["1982-01-28",13.98]
["1982-01-29",13.91]
["1982-02-01",14.33]
["1982-02-02",14.26]
["1982-02-03",14.41]
["1982-02-04",14.54]
["1982-02-05",14.43]
["1982-02-08",14.74]
["1982-02-09",14.8]
["1982-02-10",14.64]
["1982-02-11",14.54]
["1982-02-12",{"$f":"NA()","v":{"$error":"#N/A"}}]
["1982-02-15",{"$f":"NA()","v":{"$error":"#N/A"}}]
["1982-02-16",14.33]
["1982-02-17",14.3]
["1982-02-18",14.06]
["1982-02-19",14.02]
["1982-02-22",13.65]
["1982-02-23",13.73]
["1982-02-24",13.62]
["1982-02-25",13.72]
["1982-02-26",13.83]
["1982-03-01",13.63]
["1982-03-02",13.44]
["1982-03-03",13.39]
["1982-03-04",13.35]
["1982-03-05",13.35]
["1982-03-08",13.49]
["1982-03-09",13.43]
["1982-03-10",13.5]
["1982-03-11",13.65]
["1982-03-12",13.65]
["1982-03-15",13.56]
["1982-03-16",13.57]
["1982-03-17",13.52]
["1982-03-18",13.51]
["1982-03-19",13.56]
["1982-03-22",13.37]
["1982-03-23",13.36]
["1982-03-24",13.51]
["1982-03-25",13.49]
["1982-03-26",13.65]
["1982-03-29",13.79]
["1982-03-30",13.81]
["1982-03-31",13.68]
["1982-04-01",13.6]
["1982-04-02",13.61]
["1982-04-05",13.72]
["1982-04-06",13.73]
["1982-04-07",13.71]
["1982-04-08",13.48]
["1982-04-09",{"$f":"NA()","v":{"$error":"#N/A"}}]
["1982-04-12",13.3]
["1982-04-13",13.32]
["1982-04-14",13.42]
["1982-04-15",13.32]
["1982-04-16",13.18]
["1982-04-19",13.13]
["1982-04-20",13.21]
["1982-04-21",13.22]
["1982-04-22",13.19]
["1982-04-23",13.18]
["1982-04-26",13.16]
["1982-04-27",13.19]
["1982-04-28",13.27]
["1982-04-29",13.38]
["1982-04-30",13.39]
["1982-05-03",13.45]
["1982-05-04",13.37]
["1982-05-05",13.34]
["1982-05-06",13.13]
["1982-05-07",13.08]
["1982-05-10",13.13]
["1982-05-11",13.08]
["1982-05-12",13.23]
["1982-05-13",13.25]
["1982-05-14",13.17]
["1982-05-17",13.29]
["1982-05-18",13.26]
["1982-05-19",13.3]
["1982-05-20",13.17]
["1982-05-21",13.17]
["1982-05-24",13.19]
["1982-05-25",13.2]
["1982-05-26",13.29]
["1982-05-27",13.36]
["1982-05-28",13.39]
["1982-05-31",{"$f":"NA()","v":{"$error":"#N/A"}}]
["1982-06-01",13.66]
["1982-06-02",13.6]
["1982-06-03",13.66]
["1982-06-04",13.76]
["1982-06-07",13.66]
["1982-06-08",13.71]
["1982-06-09",13.71]
["1982-06-10",13.72]
["1982-06-11",13.61]
["1982-06-14",13.89]
["1982-06-15",13.87]
["1982-06-16",13.91]
["1982-06-17",14.1]
["1982-06-18",14.19]
["1982-06-21",14.15]
["1982-06-22",14.21]
["1982-06-23",14.26]
["1982-06-24",14.2]
["1982-06-25",14.24]
["1982-06-28",14.19]
["1982-06-29",14.11]
["1982-06-30",13.91]
["1982-07-01",13.9]
["1982-07-02",14.03]
["1982-07-05",{"$f":"NA()","v":{"$error":"#N/A"}}]
["1982-07-06",14]
["1982-07-07",13.9]
["1982-07-08",13.7]
["1982-07-09",13.57]
["1982-07-12",13.46]
["1982-07-13",13.61]
["1982-07-14",13.68]
["1982-07-15",13.57]
["1982-07-16",13.35]
["1982-07-19",13.34]
["1982-07-20",13.24]
["1982-07-21",13.3]
["1982-07-22",13.2]
["1982-07-23",13.25]
["1982-07-26",13.48]
["1982-07-27",13.46]
["1982-07-28",13.6]
["1982-07-29",13.51]
["1982-07-30",13.42]
["1982-08-02",13.17]
["1982-08-03",13.27]
["1982-08-04",13.27]
["1982-08-05",13.29]
["1982-08-06",13.41]
["1982-08-09",13.31]
["1982-08-10",13.27]
["1982-08-11",13.26]
["1982-08-12",13.15]
["1982-08-13",12.98]
["1982-08-16",12.8]
["1982-08-17",12.42]
["1982-08-18",12.29]
["1982-08-19",12.31]
["1982-08-20",12.14]
["1982-08-23",12.29]
["1982-08-24",12.16]
["1982-08-25",12.21]
["1982-08-26",12.31]
["1982-08-27",12.54]
["1982-08-30",12.54]
["1982-08-31",12.5]
["1982-09-01",12.41]
["1982-09-02",12.3]
["1982-09-03",12.16]
["1982-09-06",{"$f":"NA()","v":{"$error":"#N/A"}}]
["1982-09-07",12.19]
["1982-09-08",12.17]
["1982-09-09",12.21]
["1982-09-10",12.41]
["1982-09-13",12.26]
["1982-09-14",12.24]
["1982-09-15",12.25]
["1982-09-16",12.18]
["1982-09-17",12.12]
["1982-09-20",12.04]
["1982-09-21",11.82]
["1982-09-22",11.83]
["1982-09-23",11.75]
["1982-09-24",11.88]
["1982-09-27",11.82]
["1982-09-28",11.76]
["1982-09-29",11.79]
["1982-09-30",11.79]
["1982-10-01",11.65]
["1982-10-04",11.83]
["1982-10-05",11.81]
["1982-10-06",11.69]
["1982-10-07",11.29]
["1982-10-08",11.19]
["1982-10-11",{"$f":"NA()","v":{"$error":"#N/A"}}]
["1982-10-12",10.85]
["1982-10-13",10.75]
["1982-10-14",10.86]
["1982-10-15",11.03]
["1982-10-18",10.9]
["1982-10-19",10.87]
["1982-10-20",10.91]
["1982-10-21",10.92]
["1982-10-22",11.03]
["1982-10-25",11.25]
["1982-10-26",11.17]
["1982-10-27",11.23]
["1982-10-28",11.12]
["1982-10-29",11.01]
["1982-11-01",10.84]
["1982-11-02",{"$f":"NA()","v":{"$error":"#N/A"}}]
["1982-11-03",10.72]
["1982-11-04",10.66]
["1982-11-05",10.59]
["1982-11-08",10.61]
["1982-11-09",10.44]
["1982-11-10",10.37]
["1982-11-11",{"$f":"NA()","v":{"$error":"#N/A"}}]
["1982-11-12",10.43]
["1982-11-15",10.52]
["1982-11-16",10.6]
["1982-11-17",10.54]
["1982-11-18",10.33]
["1982-11-19",10.35]
["1982-11-22",10.43]
["1982-11-23",10.46]
["1982-11-24",10.52]
["1982-11-25",{"$f":"NA()","v":{"$error":"#N/A"}}]
["1982-11-26",10.47]
["1982-11-29",10.72]
["1982-11-30",10.7]
["1982-12-01",10.69]
["1982-12-02",10.63]
["1982-12-03",10.44]
["1982-12-06",10.41]
["1982-12-07",10.45]
["1982-12-08",10.54]
["1982-12-09",10.52]
["1982-12-10",10.63]
["1982-12-13",10.57]
["1982-12-14",10.48]
["1982-12-15",10.55]
["1982-12-16",10.66]
["1982-12-17",10.69]
["1982-12-20",10.77]
["1982-12-21",10.53]
["1982-12-22",10.55]
["1982-12-23",10.5]
["1982-12-24",{"$f":"NA()","v":{"$error":"#N/A"}}]
["1982-12-27",10.44]
["1982-12-28",10.43]
["1982-12-29",10.49]
["1982-12-30",10.46]
["1982-12-31",10.43]
["1983-01-03",10.39]
["1983-01-04",10.45]
["1983-01-05",10.47]
["1983-01-06",10.5]
["1983-01-07",10.5]
["1983-01-10",10.51]
["1983-01-11",10.48]
["1983-01-12",10.46]
["1983-01-13",10.45]
["1983-01-14",10.5]
["1983-01-17",10.5]
["1983-01-18",10.56]
["1983-01-19",10.67]
["1983-01-20",10.66]
["1983-01-21",10.78]
["1983-01-24",10.88]
["1983-01-25",10.82]
["1983-01-26",10.92]
["1983-01-27",10.85]
["1983-01-28",10.9]
["1983-01-31",10.99]
["1983-02-01",10.95]
["1983-02-02",10.94]
["1983-02-03",11.06]
["1983-02-04",11.12]
["1983-02-07",11.1]
["1983-02-08",11.12]
["1983-02-09",11.14]
["1983-02-10",10.96]
["1983-02-11",10.94]
["1983-02-14",10.95]
["1983-02-15",10.99]
["1983-02-16",10.95]
["1983-02-17",10.86]
["1983-02-18",10.78]
["1983-02-21",{"$f":"NA()","v":{"$error":"#N/A"}}]
["1983-02-22",10.63]
["1983-02-23",10.62]
["1983-02-24",10.61]
["1983-02-25",10.5]
["1983-02-28",10.51]
["1983-03-01",10.45]
["1983-03-02",10.48]
["1983-03-03",10.44]
["1983-03-04",10.46]
["1983-03-07",10.59]
["1983-03-08",10.65]
["1983-03-09",10.64]
["1983-03-10",10.67]
["1983-03-11",10.75]
["1983-03-14",10.66]
["1983-03-15",10.62]
["1983-03-16",10.68]
["1983-03-17",10.68]
["1983-03-18",10.71]
["1983-03-21",10.71]
["1983-03-22",10.71]
["1983-03-23",10.64]
["1983-03-24",10.61]
["1983-03-25",10.7]
["1983-03-28",10.71]
["1983-03-29",10.66]
["1983-03-30",10.65]
["1983-03-31",10.69]
["1983-04-01",{"$f":"NA()","v":{"$error":"#N/A"}}]
["1983-04-04",10.67]
["1983-04-05",10.55]
["1983-04-06",10.54]
["1983-04-07",10.56]
["1983-04-08",10.58]
["1983-04-11",10.46]
["1983-04-12",10.46]
["1983-04-13",10.44]
["1983-04-14",10.37]
["1983-04-15",10.4]
["1983-04-18",10.35]
["1983-04-19",10.46]
["1983-04-20",10.48]
["1983-04-21",10.53]
["1983-04-22",10.52]
["1983-04-25",10.48]
["1983-04-26",10.47]
["1983-04-27",10.43]
["1983-04-28",10.41]
["1983-04-29",10.38]
["1983-05-02",10.39]
["1983-05-03",10.38]
["1983-05-04",10.27]
["1983-05-05",10.3]
["1983-05-06",10.28]
["1983-05-09",10.37]
["1983-05-10",10.3]
["1983-05-11",10.33]
["1983-05-12",10.4]
["1983-05-13",10.37]
["1983-05-16",10.54]
["1983-05-17",10.58]
["1983-05-18",10.6]
["1983-05-19",10.67]
["1983-05-20",10.69]
["1983-05-23",10.71]
["1983-05-24",10.69]
["1983-05-25",10.71]
["1983-05-26",10.76]
["1983-05-27",10.78]
["1983-05-30",{"$f":"NA()","v":{"$error":"#N/A"}}]
["1983-05-31",10.97]
["1983-06-01",10.91]
["1983-06-02",10.91]
["1983-06-03",10.93]
["1983-06-06",10.9]
["1983-06-07",10.97]
["1983-06-08",11.02]
["1983-06-09",10.96]
["1983-06-10",10.95]
["1983-06-13",10.84]
["1983-06-14",10.88]
["1983-06-15",10.81]
["1983-06-16",10.72]
["1983-06-17",10.77]
["1983-06-20",10.85]
["1983-06-21",10.86]
["1983-06-22",10.9]
["1983-06-23",10.95]
["1983-06-24",11.06]
["1983-06-27",11.16]
["1983-06-28",11.1]
["1983-06-29",11.06]
["1983-06-30",11.01]
["1983-07-01",11]
["1983-07-04",{"$f":"NA()","v":{"$error":"#N/A"}}]
["1983-07-05",11.25]
["1983-07-06",11.21]
["1983-07-07",11.31]
["1983-07-08",11.37]
["1983-07-11",11.29]
["1983-07-12",11.45]
["1983-07-13",11.44]
["1983-07-14",11.38]
["1983-07-15",11.47]
["1983-07-18",11.37]
["1983-07-19",11.33]
["1983-07-20",11.28]
["1983-07-21",11.34]
["1983-07-22",11.48]
["1983-07-25",11.42]
["1983-07-26",11.5]
["1983-07-27",11.53]
["1983-07-28",11.68]
["1983-07-29",11.8]
["1983-08-01",11.82]
["1983-08-02",11.78]
["1983-08-03",11.87]
["1983-08-04",12.12]
["1983-08-05",12.07]
["1983-08-08",12.15]
["1983-08-09",12.09]
["1983-08-10",12.13]
["1983-08-11",12]
["1983-08-12",11.89]
["1983-08-15",11.71]
["1983-08-16",11.7]
["1983-08-17",11.61]
["1983-08-18",11.68]
["1983-08-19",11.73]
["1983-08-22",11.51]
["1983-08-23",11.56]
["1983-08-24",11.52]
["1983-08-25",11.57]
["1983-08-26",11.6]
["1983-08-29",11.81]
["1983-08-30",11.89]
["1983-08-31",11.96]
["1983-09-01",11.95]
["1983-09-02",11.97]
["1983-09-05",{"$f":"NA()","v":{"$error":"#N/A"}}]
["1983-09-06",11.82]
["1983-09-07",11.68]
["1983-09-08",11.73]
["1983-09-09",11.7]
["1983-09-12",11.56]
["1983-09-13",11.61]
["1983-09-14",11.73]
["1983-09-15",11.8]
["1983-09-16",11.65]
["1983-09-19",11.65]
["1983-09-20",11.57]
["1983-09-21",11.6]
["1983-09-22",11.56]
["1983-09-23",11.47]
["1983-09-26",11.42]
["1983-09-27",11.44]
["1983-09-28",11.47]
["1983-09-29",11.48]
["1983-09-30",11.44]
["1983-10-03",11.48]
["1983-10-04",11.47]
["1983-10-05",11.38]
["1983-10-06",11.36]
["1983-10-07",11.38]
["1983-10-10",{"$f":"NA()","v":{"$error":"#N/A"}}]
["1983-10-11",11.61]
["1983-10-12",11.62]
["1983-10-13",11.69]
["1983-10-14",11.61]
["1983-10-17",11.51]
["1983-10-18",11.56]
["1983-10-19",11.51]
["1983-10-20",11.51]
["1983-10-21",11.47]
["1983-10-24",11.69]
["1983-10-25",11.73]
["1983-10-26",11.73]
["1983-10-27",11.71]
["1983-10-28",11.74]
["1983-10-31",11.78]
["1983-11-01",11.77]
["1983-11-02",11.76]
["1983-11-03",11.83]
["1983-11-04",11.91]
["1983-11-07",11.9]
["1983-11-08",{"$f":"NA()","v":{"$error":"#N/A"}}]
["1983-11-09",11.87]
["1983-11-10",11.74]
["1983-11-11",{"$f":"NA()","v":{"$error":"#N/A"}}]
["1983-11-14",11.73]
["1983-11-15",11.72]
["1983-11-16",11.76]
["1983-11-17",11.78]
["1983-11-18",11.79]
["1983-11-21",11.7]
["1983-11-22",11.64]
["1983-11-23",11.65]
["1983-11-24",{"$f":"NA()","v":{"$error":"#N/A"}}]
["1983-11-25",11.63]
["1983-11-28",11.7]
["1983-11-29",11.62]
["1983-11-30",11.67]
["1983-12-01",11.67]
["1983-12-02",11.79]
["1983-12-05",11.81]
["1983-12-06",11.81]
["1983-12-07",11.83]
["1983-12-08",11.93]
["1983-12-09",11.95]
["1983-12-12",11.94]
["1983-12-13",12]
["1983-12-14",12.01]
["1983-12-15",11.99]
["1983-12-16",11.94]
["1983-12-19",11.94]
["1983-12-20",11.94]
["1983-12-21",11.91]
["1983-12-22",11.84]
["1983-12-23",11.86]
["1983-12-26",{"$f":"NA()","v":{"$error":"#N/A"}}]
["1983-12-27",11.8]
["1983-12-28",11.84]
["1983-12-29",11.84]
["1983-12-30",11.87]
["1984-01-02",{"$f":"NA()","v":{"$error":"#N/A"}}]
["1984-01-03",11.93]
["1984-01-04",11.83]
["1984-01-05",11.84]
["1984-01-06",11.82]
["1984-01-09",11.84]
["1984-01-10",11.79]
["1984-01-11",11.83]
["1984-01-12",11.81]
["1984-01-13",11.67]
["1984-01-16",11.62]
["1984-01-17",11.65]
["1984-01-18",11.7]
["1984-01-19",11.68]
["1984-01-20",11.71]
["1984-01-23",11.69]
["1984-01-24",11.69]
["1984-01-25",11.72]
["1984-01-26",11.7]
["1984-01-27",11.73]
["1984-01-30",11.74]
["1984-01-31",11.78]
["1984-02-01",11.74]
["1984-02-02",11.71]
["1984-02-03",11.72]
["1984-02-06",11.79]
["1984-02-07",11.79]
["1984-02-08",11.83]
["1984-02-09",11.84]
["1984-02-10",11.92]
["1984-02-13",{"$f":"NA()","v":{"$error":"#N/A"}}]
["1984-02-14",11.95]
["1984-02-15",11.92]
["1984-02-16",11.94]
["1984-02-17",12.02]
["1984-02-20",{"$f":"NA()","v":{"$error":"#N/A"}}]
["1984-02-21",12.02]
["1984-02-22",12.06]
["1984-02-23",12.17]
["1984-02-24",12.1]
["1984-02-27",12.16]
["1984-02-28",12.22]
["1984-02-29",12.14]
["1984-03-01",12.16]
["1984-03-02",12.05]
["1984-03-05",12.17]
["1984-03-06",12.19]
["1984-03-07",12.31]
["1984-03-08",12.33]
["1984-03-09",12.35]
["1984-03-12",12.33]
["1984-03-13",12.37]
["1984-03-14",12.4]
["1984-03-15",12.39]
["1984-03-16",12.43]
["1984-03-19",12.53]
["1984-03-20",12.51]
["1984-03-21",12.53]
["1984-03-22",12.53]
["1984-03-23",12.5]
["1984-03-26",12.48]
["1984-03-27",12.5]
["1984-03-28",12.44]
["1984-03-29",12.42]
["1984-03-30",12.52]
["1984-04-02",12.55]
["1984-04-03",12.63]
["1984-04-04",12.67]
["1984-04-05",12.67]
["1984-04-06",12.5]
["1984-04-09",12.48]
["1984-04-10",12.54]
["1984-04-11",12.51]
["1984-04-12",12.41]
["1984-04-13",12.58]
["1984-04-16",12.65]
["1984-04-17",12.62]
["1984-04-18",12.73]
["1984-04-19",12.81]
["1984-04-20",{"$f":"NA()","v":{"$error":"#N/A"}}]
["1984-04-23",12.82]
["1984-04-24",12.75]
["1984-04-25",12.71]
["1984-04-26",12.68]
["1984-04-27",12.82]
["1984-04-30",12.86]
["1984-05-01",12.87]
["1984-05-02",12.9]
["1984-05-03",12.92]
["1984-05-04",13.08]
["1984-05-07",13.17]
["1984-05-08",13.12]
["1984-05-09",13.26]
["1984-05-10",13.3]
["1984-05-11",13.51]
["1984-05-14",13.62]
["1984-05-15",13.5]
["1984-05-16",13.46]
["1984-05-17",13.57]
["1984-05-18",13.46]
["1984-05-21",13.46]
["1984-05-22",13.53]
["1984-05-23",13.56]
["1984-05-24",13.73]
["1984-05-25",13.72]
["1984-05-28",{"$f":"NA()","v":{"$error":"#N/A"}}]
["1984-05-29",13.85]
["1984-05-30",13.94]
["1984-05-31",13.84]
["1984-06-01",13.58]
["1984-06-04",13.37]
["1984-06-05",13.35]
["1984-06-06",13.47]
["1984-06-07",13.48]
["1984-06-08",13.42]
["1984-06-11",13.48]
["1984-06-12",13.39]
["1984-06-13",13.29]
["1984-06-14",13.28]
["1984-06-15",13.14]
["1984-06-18",13.16]
["1984-06-19",13.3]
["1984-06-20",13.49]
["1984-06-21",13.55]
["1984-06-22",13.55]
["1984-06-25",13.56]
["1984-06-26",13.6]
["1984-06-27",13.56]
["1984-06-28",13.57]
["1984-06-29",13.64]
["1984-07-02",13.64]
["1984-07-03",13.52]
["1984-07-04",{"$f":"NA()","v":{"$error":"#N/A"}}]
["1984-07-05",13.55]
["1984-07-06",13.55]
["1984-07-09",13.28]
["1984-07-10",13.28]
["1984-07-11",13.33]
["1984-07-12",13.2]
["1984-07-13",13.12]
["1984-07-16",13.12]
["1984-07-17",13.18]
["1984-07-18",13.14]
["1984-07-19",13.12]
["1984-07-20",13.26]
["1984-07-23",13.27]
["1984-07-24",13.25]
["1984-07-25",12.97]
["1984-07-26",12.88]
["1984-07-27",12.91]
["1984-07-30",12.99]
["1984-07-31",12.87]
["1984-08-01",12.78]
["1984-08-02",12.7]
["1984-08-03",12.59]
["1984-08-06",12.69]
["1984-08-07",12.64]
["1984-08-08",12.62]
["1984-08-09",12.47]
["1984-08-10",12.47]
["1984-08-13",12.54]
["1984-08-14",12.48]
["1984-08-15",12.57]
["1984-08-16",12.51]
["1984-08-17",12.46]
["1984-08-20",12.41]
["1984-08-21",12.35]
["1984-08-22",12.43]
["1984-08-23",12.45]
["1984-08-24",12.44]
["1984-08-27",12.6]
["1984-08-28",12.57]
["1984-08-29",12.57]
["1984-08-30",12.56]
["1984-08-31",12.51]
["1984-09-03",{"$f":"NA()","v":{"$error":"#N/A"}}]
["1984-09-04",12.57]
["1984-09-05",12.61]
["1984-09-06",12.48]
["1984-09-07",12.44]
["1984-09-10",12.37]
["1984-09-11",12.31]
["1984-09-12",12.33]
["1984-09-13",12.22]
["1984-09-14",12.22]
["1984-09-17",12.18]
["1984-09-18",12.15]
["1984-09-19",12.07]
["1984-09-20",12.08]
["1984-09-21",12.22]
["1984-09-24",12.31]
["1984-09-25",12.34]
["1984-09-26",12.27]
["1984-09-27",12.12]
["1984-09-28",12.28]
["1984-10-01",12.35]
["1984-10-02",12.35]
["1984-10-03",12.36]
["1984-10-04",12.31]
["1984-10-05",12.2]
["1984-10-08",{"$f":"NA()","v":{"$error":"#N/A"}}]
["1984-10-09",12.18]
["1984-10-10",12.19]
["1984-10-11",12.15]
["1984-10-12",12.12]
["1984-10-15",12.16]
["1984-10-16",12.15]
["1984-10-17",12.08]
["1984-10-18",11.88]
["1984-10-19",11.74]
["1984-10-22",11.69]
["1984-10-23",11.64]
["1984-10-24",11.62]
["1984-10-25",11.68]
["1984-10-26",11.78]
["1984-10-29",11.75]
["1984-10-30",11.61]
["1984-10-31",11.64]
["1984-11-01",11.53]
["1984-11-02",11.55]
["1984-11-05",11.5]
["1984-11-06",{"$f":"NA()","v":{"$error":"#N/A"}}]
["1984-11-07",11.63]
["1984-11-08",11.78]
["1984-11-09",11.66]
["1984-11-12",{"$f":"NA()","v":{"$error":"#N/A"}}]
["1984-11-13",11.74]
["1984-11-14",11.78]
["1984-11-15",11.7]
["1984-11-16",11.67]
["1984-11-19",11.6]
["1984-11-20",11.56]
["1984-11-21",11.46]
["1984-11-22",{"$f":"NA()","v":{"$error":"#N/A"}}]
["1984-11-23",11.32]
["1984-11-26",11.35]
["1984-11-27",11.33]
["1984-11-28",11.44]
["1984-11-29",11.47]
["1984-11-30",11.58]
["1984-12-03",11.56]
["1984-12-04",11.53]
["1984-12-05",11.53]
["1984-12-06",11.62]
["1984-12-07",11.7]
["1984-12-10",11.66]
["1984-12-11",11.59]
["1984-12-12",11.56]
["1984-12-13",11.67]
["1984-12-14",11.56]
["1984-12-17",11.5]
["1984-12-18",11.35]
["1984-12-19",11.38]
["1984-12-20",11.43]
["1984-12-21",11.38]
["1984-12-24",11.36]
["1984-12-25",{"$f":"NA()","v":{"$error":"#N/A"}}]
["1984-12-26",11.46]
["1984-12-27",11.48]
["1984-12-28",11.49]
["1984-12-31",11.54]
["1985-01-01",{"$f":"NA()","v":{"$error":"#N/A"}}]
["1985-01-02",11.69]
["1985-01-03",11.64]
["1985-01-04",11.7]
["1985-01-07",11.53]
["1985-01-08",11.49]
["1985-01-09",11.5]
["1985-01-10",11.53]
["1985-01-11",11.64]
["1985-01-14",11.68]
["1985-01-15",11.57]
["1985-01-16",11.59]
["1985-01-17",11.59]
["1985-01-18",11.51]
["1985-01-21",{"$f":"NA()","v":{"$error":"#N/A"}}]
["1985-01-22",11.38]
["1985-01-23",11.33]
["1985-01-24",11.18]
["1985-01-25",11.21]
["1985-01-28",11.2]
["1985-01-29",11.18]
["1985-01-30",11.16]
["1985-01-31",11.21]
["1985-02-01",11.32]
["1985-02-04",11.34]
["1985-02-05",11.3]
["1985-02-06",11.37]
["1985-02-07",11.29]
["1985-02-08",11.27]
["1985-02-11",11.35]
["1985-02-12",{"$f":"NA()","v":{"$error":"#N/A"}}]
["1985-02-13",11.31]
["1985-02-14",11.24]
["1985-02-15",11.37]
["1985-02-18",{"$f":"NA()","v":{"$error":"#N/A"}}]
["1985-02-19",11.35]
["1985-02-20",11.5]
["1985-02-21",11.58]
["1985-02-22",11.71]
["1985-02-25",11.71]
["1985-02-26",11.67]
["1985-02-27",11.88]
["1985-02-28",11.9]
["1985-03-01",11.82]
["1985-03-04",11.91]
["1985-03-05",11.83]
["1985-03-06",11.89]
["1985-03-07",11.93]
["1985-03-08",11.71]
["1985-03-11",11.71]
["1985-03-12",11.74]
["1985-03-13",11.83]
["1985-03-14",11.84]
["1985-03-15",11.86]
["1985-03-18",11.97]
["1985-03-19",11.93]
["1985-03-20",11.84]
["1985-03-21",11.77]
["1985-03-22",11.83]
["1985-03-25",11.79]
["1985-03-26",11.72]
["1985-03-27",11.78]
["1985-03-28",11.73]
["1985-03-29",11.64]
["1985-04-01",11.65]
["1985-04-02",11.68]
["1985-04-03",11.71]
["1985-04-04",11.74]
["1985-04-05",{"$f":"NA()","v":{"$error":"#N/A"}}]
["1985-04-08",11.75]
["1985-04-09",11.66]
["1985-04-10",11.54]
["1985-04-11",11.4]
["1985-04-12",11.42]
["1985-04-15",11.37]
["1985-04-16",11.3]
["1985-04-17",11.33]
["1985-04-18",11.21]
["1985-04-19",11.26]
["1985-04-22",11.23]
["1985-04-23",11.34]
["1985-04-24",11.36]
["1985-04-25",11.44]
["1985-04-26",11.42]
["1985-04-29",11.54]
["1985-04-30",11.48]
["1985-05-01",11.37]
["1985-05-02",11.36]
["1985-05-03",11.31]
["1985-05-06",11.3]
["1985-05-07",11.29]
["1985-05-08",11.39]
["1985-05-09",11.34]
["1985-05-10",11.2]
["1985-05-13",11.2]
["1985-05-14",11.07]
["1985-05-15",11.08]
["1985-05-16",11.02]
["1985-05-17",11.05]
["1985-05-20",10.82]
["1985-05-21",10.85]
["1985-05-22",10.9]
["1985-05-23",10.91]
["1985-05-24",10.85]
["1985-05-27",{"$f":"NA()","v":{"$error":"#N/A"}}]
["1985-05-28",10.72]
["1985-05-29",10.73]
["1985-05-30",10.67]
["1985-05-31",10.58]
["1985-06-03",10.4]
["1985-06-04",10.39]
["1985-06-05",10.25]
["1985-06-06",10.29]
["1985-06-07",10.52]
["1985-06-10",10.47]
["1985-06-11",10.41]
["1985-06-12",10.46]
["1985-06-13",10.51]
["1985-06-14",10.31]
["1985-06-17",10.28]
["1985-06-18",10.23]
["1985-06-19",10.37]
["1985-06-20",10.44]
["1985-06-21",10.57]
["1985-06-24",10.64]
["1985-06-25",10.67]
["1985-06-26",10.68]
["1985-06-27",10.54]
["1985-06-28",10.47]
["1985-07-01",10.44]
["1985-07-02",10.43]
["1985-07-03",10.45]
["1985-07-04",{"$f":"NA()","v":{"$error":"#N/A"}}]
["1985-07-05",10.23]
["1985-07-08",10.31]
["1985-07-09",10.31]
["1985-07-10",10.33]
["1985-07-11",10.43]
["1985-07-12",10.42]
["1985-07-15",10.42]
["1985-07-16",10.37]
["1985-07-17",10.32]
["1985-07-18",10.48]
["1985-07-19",10.52]
["1985-07-22",10.6]
["1985-07-23",10.6]
["1985-07-24",10.63]
["1985-07-25",10.64]
["1985-07-26",10.72]
["1985-07-29",10.79]
["1985-07-30",10.78]
["1985-07-31",10.7]
["1985-08-01",10.62]
["1985-08-02",10.77]
["1985-08-05",10.73]
["1985-08-06",10.75]
["1985-08-07",10.71]
["1985-08-08",10.63]
["1985-08-09",10.61]
["1985-08-12",10.66]
["1985-08-13",10.71]
["1985-08-14",10.61]
["1985-08-15",10.64]
["1985-08-16",10.54]
["1985-08-19",10.5]
["1985-08-20",10.48]
["1985-08-21",10.42]
["1985-08-22",10.41]
["1985-08-23",10.42]
["1985-08-26",10.46]
["1985-08-27",10.38]
["1985-08-28",10.41]
["1985-08-29",10.37]
["1985-08-30",10.48]
["1985-09-02",{"$f":"NA()","v":{"$error":"#N/A"}}]
["1985-09-03",10.46]
["1985-09-04",10.4]
["1985-09-05",10.49]
["1985-09-06",10.73]
["1985-09-09",10.73]
["1985-09-10",10.71]
["1985-09-11",10.73]
["1985-09-12",10.73]
["1985-09-13",10.62]
["1985-09-16",10.58]
["1985-09-17",10.64]
["1985-09-18",10.67]
["1985-09-19",10.65]
["1985-09-20",10.58]
["1985-09-23",10.64]
["1985-09-24",10.62]
["1985-09-25",10.56]
["1985-09-26",10.5]
["1985-09-27",{"$f":"NA()","v":{"$error":"#N/A"}}]
["1985-09-30",10.57]
["1985-10-01",10.55]
["1985-10-02",10.59]
["1985-10-03",10.59]
["1985-10-04",10.61]
["1985-10-07",10.66]
["1985-10-08",10.63]
["1985-10-09",10.64]
["1985-10-10",10.61]
["1985-10-11",10.61]
["1985-10-14",{"$f":"NA()","v":{"$error":"#N/A"}}]
["1985-10-15",10.56]
["1985-10-16",10.52]
["1985-10-17",10.47]
["1985-10-18",10.44]
["1985-10-21",10.44]
["1985-10-22",10.39]
["1985-10-23",10.39]
["1985-10-24",10.41]
["1985-10-25",10.47]
["1985-10-28",10.53]
["1985-10-29",10.37]
["1985-10-30",10.26]
["1985-10-31",10.28]
["1985-11-01",10.24]
["1985-11-04",10.23]
["1985-11-05",10.18]
["1985-11-06",10.19]
["1985-11-07",10.18]
["1985-11-08",10.130000000000001]
["1985-11-11",{"$f":"NA()","v":{"$error":"#N/A"}}]
["1985-11-12",10.029999999999999]
["1985-11-13",10.07]
["1985-11-14",10.119999999999999]
["1985-11-15",10.18]
["1985-11-18",10.029999999999999]
["1985-11-19",10]
["1985-11-20",10]
["1985-11-21",9.93]
["1985-11-22",9.9499999999999993]
["1985-11-25",9.98]
["1985-11-26",9.9600000000000009]
["1985-11-27",9.91]
["1985-11-28",{"$f":"NA()","v":{"$error":"#N/A"}}]
["1985-11-29",9.86]
["1985-12-02",9.94]
["1985-12-03",9.92]
["1985-12-04",9.8800000000000008]
["1985-12-05",9.8800000000000008]
["1985-12-06",9.9]
["1985-12-09",9.77]
["1985-12-10",9.65]
["1985-12-11",9.5299999999999994]
["1985-12-12",9.58]
["1985-12-13",9.5299999999999994]
["1985-12-16",9.4499999999999993]
["1985-12-17",9.35]
["1985-12-18",9.4]
["1985-12-19",9.3699999999999992]
["1985-12-20",9.33]
["1985-12-23",9.34]
["1985-12-24",9.33]
["1985-12-25",{"$f":"NA()","v":{"$error":"#N/A"}}]
["1985-12-26",9.31]
["1985-12-27",9.27]
["1985-12-30",9.2799999999999994]
["1985-12-31",9.27]
["1986-01-01",{"$f":"NA()","v":{"$error":"#N/A"}}]
["1986-01-02",9.2799999999999994]
["1986-01-03",9.3000000000000007]
["1986-01-06",9.31]
["1986-01-07",9.18]
["1986-01-08",9.36]
["1986-01-09",9.4499999999999993]
["1986-01-10",9.5399999999999991]
["1986-01-13",9.65]
["1986-01-14",9.56]
["1986-01-15",9.42]
["1986-01-16",9.43]
["1986-01-17",9.4]
["1986-01-20",{"$f":"NA()","v":{"$error":"#N/A"}}]
["1986-01-21",9.4]
["1986-01-22",9.4499999999999993]
["1986-01-23",9.42]
["1986-01-24",9.4499999999999993]
["1986-01-27",9.3699999999999992]
["1986-01-28",9.3000000000000007]
["1986-01-29",9.35]
["1986-01-30",9.36]
["1986-01-31",9.34]
["1986-02-03",9.2799999999999994]
["1986-02-04",9.23]
["1986-02-05",9.2799999999999994]
["1986-02-06",9.25]
["1986-02-07",9.32]
["1986-02-10",9.23]
["1986-02-11",9.16]
["1986-02-12",9.1300000000000008]
["1986-02-13",9.08]
["1986-02-14",8.93]
["1986-02-17",{"$f":"NA()","v":{"$error":"#N/A"}}]
["1986-02-18",8.89]
["1986-02-19",8.92]
["1986-02-20",8.8800000000000008]
["1986-02-21",8.73]
["1986-02-24",8.61]
["1986-02-25",8.6]
["1986-02-26",8.5399999999999991]
["1986-02-27",8.32]
["1986-02-28",8.27]
["1986-03-03",8.16]
["1986-03-04",8.1]
["1986-03-05",8.26]
["1986-03-06",8.19]
["1986-03-07",8.15]
["1986-03-10",8]
["1986-03-11",7.94]
["1986-03-12",7.91]
["1986-03-13",7.95]
["1986-03-14",7.95]
["1986-03-17",7.97]
["1986-03-18",8]
["1986-03-19",8]
["1986-03-20",7.95]
["1986-03-21",7.98]
["1986-03-24",7.89]
["1986-03-25",7.9]
["1986-03-26",7.82]
["1986-03-27",7.63]
["1986-03-28",{"$f":"NA()","v":{"$error":"#N/A"}}]
["1986-03-31",7.44]
["1986-04-01",7.47]
["1986-04-02",7.43]
["1986-04-03",7.46]
["1986-04-04",7.53]
["1986-04-07",7.54]
["1986-04-08",7.39]
["1986-04-09",7.33]
["1986-04-10",7.31]
["1986-04-11",7.37]
["1986-04-14",7.29]
["1986-04-15",7.34]
["1986-04-16",7.14]
["1986-04-17",7.16]
["1986-04-18",7.19]
["1986-04-21",7.16]
["1986-04-22",7.28]
["1986-04-23",7.45]
["1986-04-24",7.59]
["1986-04-25",7.61]
["1986-04-28",7.54]
["1986-04-29",7.45]
["1986-04-30",7.47]
["1986-05-01",7.54]
["1986-05-02",7.62]
["1986-05-05",7.49]
["1986-05-06",7.5]
["1986-05-07",7.53]
["1986-05-08",7.36]
["1986-05-09",7.37]
["1986-05-12",7.41]
["1986-05-13",7.42]
["1986-05-14",7.43]
["1986-05-15",7.5]
["1986-05-16",7.64]
["1986-05-19",7.68]
["1986-05-20",7.58]
["1986-05-21",7.58]
["1986-05-22",7.5]
["1986-05-23",7.45]
["1986-05-26",{"$f":"NA()","v":{"$error":"#N/A"}}]
["1986-05-27",7.41]
["1986-05-28",7.45]
["1986-05-29",7.66]
["1986-05-30",7.74]
["1986-06-02",7.91]
["1986-06-03",7.81]
["1986-06-04",7.93]
["1986-06-05",7.9]
["1986-06-06",7.65]
["1986-06-09",7.79]
["1986-06-10",7.78]
["1986-06-11",7.7]
["1986-06-12",7.7]
["1986-06-13",7.52]
["1986-06-16",7.43]
["1986-06-17",7.43]
["1986-06-18",7.44]
["1986-06-19",7.52]
["1986-06-20",7.47]
["1986-06-23",7.43]
["1986-06-24",7.39]
["1986-06-25",7.36]
["1986-06-26",7.35]
["1986-06-27",7.29]
["1986-06-30",7.24]
["1986-07-01",7.21]
["1986-07-02",7.22]
["1986-07-03",7.18]
["1986-07-04",{"$f":"NA()","v":{"$error":"#N/A"}}]
["1986-07-07",7.16]
["1986-07-08",7.23]
["1986-07-09",7.15]
["1986-07-10",7.16]
["1986-07-11",7.19]
["1986-07-14",7.14]
["1986-07-15",7.12]
["1986-07-16",7.17]
["1986-07-17",7.2]
["1986-07-18",7.19]
["1986-07-21",7.17]
["1986-07-22",7.27]
["1986-07-23",7.36]
["1986-07-24",7.41]
["1986-07-25",7.4]
["1986-07-28",7.59]
["1986-07-29",7.5]
["1986-07-30",7.51]
["1986-07-31",7.46]
["1986-08-01",7.46]
["1986-08-04",7.46]
["1986-08-05",7.54]
["1986-08-06",7.57]
["1986-08-07",7.56]
["1986-08-08",7.41]
["1986-08-11",7.35]
["1986-08-12",7.34]
["1986-08-13",7.28]
["1986-08-14",7.29]
["1986-08-15",7.29]
["1986-08-18",7.28]
["1986-08-19",7.19]
["1986-08-20",7.17]
["1986-08-21",7.19]
["1986-08-22",7.27]
["1986-08-25",7.25]
["1986-08-26",7.2]
["1986-08-27",7.28]
["1986-08-28",7.26]
["1986-08-29",7.21]
["1986-09-01",{"$f":"NA()","v":{"$error":"#N/A"}}]
["1986-09-02",7.23]
["1986-09-03",7.43]
["1986-09-04",7.4]
["1986-09-05",7.54]
["1986-09-08",7.59]
["1986-09-09",7.53]
["1986-09-10",7.54]
["1986-09-11",7.74]
["1986-09-12",7.74]
["1986-09-15",7.66]
["1986-09-16",7.67]
["1986-09-17",7.64]
["1986-09-18",7.74]
["1986-09-19",7.83]
["1986-09-22",7.79]
["1986-09-23",7.76]
["1986-09-24",7.64]
["1986-09-25",7.64]
["1986-09-26",7.63]
["1986-09-29",7.69]
["1986-09-30",7.6]
["1986-10-01",7.57]
["1986-10-02",7.61]
["1986-10-03",7.53]
["1986-10-06",7.53]
["1986-10-07",7.54]
["1986-10-08",7.6]
["1986-10-09",7.63]
["1986-10-10",7.66]
["1986-10-13",{"$f":"NA()","v":{"$error":"#N/A"}}]
["1986-10-14",7.79]
["1986-10-15",7.78]
["1986-10-16",7.81]
["1986-10-17",7.84]
["1986-10-20",7.92]
["1986-10-21",7.84]
["1986-10-22",7.78]
["1986-10-23",7.72]
["1986-10-24",7.76]
["1986-10-27",7.71]
["1986-10-28",7.75]
["1986-10-29",7.71]
["1986-10-30",7.61]
["1986-10-31",7.61]
["1986-11-03",7.57]
["1986-11-04",7.59]
["1986-11-05",7.58]
["1986-11-06",7.55]
["1986-11-07",7.63]
["1986-11-10",7.64]
["1986-11-11",{"$f":"NA()","v":{"$error":"#N/A"}}]
["1986-11-12",7.59]
["1986-11-13",7.59]
["1986-11-14",7.53]
["1986-11-17",7.48]
["1986-11-18",7.52]
["1986-11-19",7.44]
["1986-11-20",7.45]
["1986-11-21",7.44]
["1986-11-24",7.4]
["1986-11-25",7.44]
["1986-11-26",7.42]
["1986-11-27",{"$f":"NA()","v":{"$error":"#N/A"}}]
["1986-11-28",7.41]
["1986-12-01",7.42]
["1986-12-02",7.34]
["1986-12-03",7.31]
["1986-12-04",7.29]
["1986-12-05",7.38]
["1986-12-08",7.34]
["1986-12-09",7.33]
["1986-12-10",7.32]
["1986-12-11",7.38]
["1986-12-12",7.39]
["1986-12-15",7.41]
["1986-12-16",7.39]
["1986-12-17",7.39]
["1986-12-18",7.38]
["1986-12-19",7.36]
["1986-12-22",7.36]
["1986-12-23",7.34]
["1986-12-24",7.34]
["1986-12-25",{"$f":"NA()","v":{"$error":"#N/A"}}]
["1986-12-26",7.34]
["1986-12-29",7.41]
["1986-12-30",7.46]
["1986-12-31",7.49]
["1987-01-01",{"$f":"NA()","v":{"$error":"#N/A"}}]
["1987-01-02",7.44]
["1987-01-05",7.35]
["1987-01-06",7.36]
["1987-01-07",7.33]
["1987-01-08",7.31]
["1987-01-09",7.29]
["1987-01-12",7.33]
["1987-01-13",7.37]
["1987-01-14",7.41]
["1987-01-15",7.39]
["1987-01-16",7.34]
["1987-01-19",{"$f":"NA()","v":{"$error":"#N/A"}}]
["1987-01-20",7.32]
["1987-01-21",7.33]
["1987-01-22",7.36]
["1987-01-23",7.42]
["1987-01-26",7.49]
["1987-01-27",7.49]
["1987-01-28",7.46]
["1987-01-29",7.45]
["1987-01-30",7.48]
["1987-02-02",7.52]
["1987-02-03",7.53]
["1987-02-04",7.51]
["1987-02-05",7.47]
["1987-02-06",7.47]
["1987-02-09",7.53]
["1987-02-10",7.61]
["1987-02-11",7.64]
["1987-02-12",7.59]
["1987-02-13",7.57]
["1987-02-16",{"$f":"NA()","v":{"$error":"#N/A"}}]
["1987-02-17",7.63]
["1987-02-18",7.6]
["1987-02-19",7.55]
["1987-02-20",7.55]
["1987-02-23",7.53]
["1987-02-24",7.48]
["1987-02-25",7.5]
["1987-02-26",7.5]
["1987-02-27",7.48]
["1987-03-02",7.46]
["1987-03-03",7.49]
["1987-03-04",7.44]
["1987-03-05",7.45]
["1987-03-06",7.52]
["1987-03-09",7.53]
["1987-03-10",7.53]
["1987-03-11",7.53]
["1987-03-12",7.52]
["1987-03-13",7.49]
["1987-03-16",7.52]
["1987-03-17",7.51]
["1987-03-18",7.52]
["1987-03-19",7.51]
["1987-03-20",7.53]
["1987-03-23",7.56]
["1987-03-24",7.59]
["1987-03-25",7.58]
["1987-03-26",7.56]
["1987-03-27",7.64]
["1987-03-30",7.84]
["1987-03-31",7.81]
["1987-04-01",7.89]
["1987-04-02",7.9]
["1987-04-03",7.89]
["1987-04-06",7.84]
["1987-04-07",7.92]
["1987-04-08",7.9]
["1987-04-09",8.06]
["1987-04-10",8.19]
["1987-04-13",8.26]
["1987-04-14",8.4]
["1987-04-15",8.32]
["1987-04-16",8.2200000000000006]
["1987-04-17",{"$f":"NA()","v":{"$error":"#N/A"}}]
["1987-04-20",8.39]
["1987-04-21",8.3800000000000008]
["1987-04-22",8.44]
["1987-04-23",8.51]
["1987-04-24",8.69]
["1987-04-27",8.59]
["1987-04-28",8.5]
["1987-04-29",8.56]
["1987-04-30",8.4499999999999993]
["1987-05-01",8.59]
["1987-05-04",8.7200000000000006]
["1987-05-05",8.64]
["1987-05-06",8.75]
["1987-05-07",8.6300000000000008]
["1987-05-08",8.61]
["1987-05-11",8.76]
["1987-05-12",8.7200000000000006]
["1987-05-13",8.7100000000000009]
["1987-05-14",8.73]
["1987-05-15",8.92]
["1987-05-18",8.8800000000000008]
["1987-05-19",9.06]
["1987-05-20",9.07]
["1987-05-21",9.0299999999999994]
["1987-05-22",8.9499999999999993]
["1987-05-25",{"$f":"NA()","v":{"$error":"#N/A"}}]
["1987-05-26",8.69]
["1987-05-27",8.75]
["1987-05-28",8.74]
["1987-05-29",8.65]
["1987-06-01",8.6300000000000008]
["1987-06-02",8.9]
["1987-06-03",8.7899999999999991]
["1987-06-04",8.76]
["1987-06-05",8.66]
["1987-06-08",8.68]
["1987-06-09",8.73]
["1987-06-10",8.7200000000000006]
["1987-06-11",8.69]
["1987-06-12",8.5]
["1987-06-15",8.4600000000000009]
["1987-06-16",8.4700000000000006]
["1987-06-17",8.42]
["1987-06-18",8.4499999999999993]
["1987-06-19",8.48]
["1987-06-22",8.41]
["1987-06-23",8.41]
["1987-06-24",8.4700000000000006]
["1987-06-25",8.4]
["1987-06-26",8.5]
["1987-06-29",8.49]
["1987-06-30",8.51]
["1987-07-01",8.49]
["1987-07-02",8.43]
["1987-07-03",{"$f":"NA()","v":{"$error":"#N/A"}}]
["1987-07-06",8.42]
["1987-07-07",8.4]
["1987-07-08",8.4499999999999993]
["1987-07-09",8.52]
["1987-07-10",8.4600000000000009]
["1987-07-13",8.5399999999999991]
["1987-07-14",8.51]
["1987-07-15",8.61]
["1987-07-16",8.59]
["1987-07-17",8.5500000000000007]
["1987-07-20",8.61]
["1987-07-21",8.7200000000000006]
["1987-07-22",8.7799999999999994]
["1987-07-23",8.8000000000000007]
["1987-07-24",8.83]
["1987-07-27",8.84]
["1987-07-28",8.86]
["1987-07-29",8.85]
["1987-07-30",8.84]
["1987-07-31",8.89]
["1987-08-03",9.02]
["1987-08-04",9.0399999999999991]
["1987-08-05",8.9499999999999993]
["1987-08-06",8.9600000000000009]
["1987-08-07",8.93]
["1987-08-10",8.9600000000000009]
["1987-08-11",8.9499999999999993]
["1987-08-12",8.9499999999999993]
["1987-08-13",8.85]
["1987-08-14",8.77]
["1987-08-17",8.77]
["1987-08-18",8.9499999999999993]
["1987-08-19",8.98]
["1987-08-20",8.94]
["1987-08-21",8.9700000000000006]
["1987-08-24",8.99]
["1987-08-25",8.94]
["1987-08-26",8.99]
["1987-08-27",9.11]
["1987-08-28",9.18]
["1987-08-31",9.17]
["1987-09-01",9.24]
["1987-09-02",9.4499999999999993]
["1987-09-03",9.4700000000000006]
["1987-09-04",9.4700000000000006]
["1987-09-07",{"$f":"NA()","v":{"$error":"#N/A"}}]
["1987-09-08",9.65]
["1987-09-09",9.66]
["1987-09-10",9.6]
["1987-09-11",9.5]
["1987-09-14",9.52]
["1987-09-15",9.64]
["1987-09-16",9.6999999999999993]
["1987-09-17",9.65]
["1987-09-18",9.56]
["1987-09-21",9.6300000000000008]
["1987-09-22",9.5299999999999994]
["1987-09-23",9.5500000000000007]
["1987-09-24",9.67]
["1987-09-25",9.68]
["1987-09-28",9.67]
["1987-09-29",9.8000000000000007]
["1987-09-30",9.7899999999999991]
["1987-10-01",9.8000000000000007]
["1987-10-02",9.6999999999999993]
["1987-10-05",9.7899999999999991]
["1987-10-06",9.81]
["1987-10-07",9.7899999999999991]
["1987-10-08",9.86]
["1987-10-09",9.9600000000000009]
["1987-10-12",{"$f":"NA()","v":{"$error":"#N/A"}}]
["1987-10-13",9.92]
["1987-10-14",10.119999999999999]
["1987-10-15",10.24]
["1987-10-16",10.24]
["1987-10-19",10.25]
["1987-10-20",9.49]
["1987-10-21",9.44]
["1987-10-22",9.15]
["1987-10-23",9.11]
["1987-10-26",8.94]
["1987-10-27",9.0399999999999991]
["1987-10-28",9.14]
["1987-10-29",9.08]
["1987-10-30",9.0299999999999994]
["1987-11-02",9.1300000000000008]
["1987-11-03",9.0299999999999994]
["1987-11-04",8.92]
["1987-11-05",8.8000000000000007]
["1987-11-06",8.85]
["1987-11-09",8.86]
["1987-11-10",8.8800000000000008]
["1987-11-11",{"$f":"NA()","v":{"$error":"#N/A"}}]
["1987-11-12",8.8800000000000008]
["1987-11-13",8.93]
["1987-11-16",8.9]
["1987-11-17",8.94]
["1987-11-18",8.94]
["1987-11-19",8.92]
["1987-11-20",8.8800000000000008]
["1987-11-23",8.89]
["1987-11-24",9]
["1987-11-25",9.06]
["1987-11-26",{"$f":"NA()","v":{"$error":"#N/A"}}]
["1987-11-27",9.18]
["1987-11-30",9.1]
["1987-12-01",9.15]
["1987-12-02",9.15]
["1987-12-03",9.09]
["1987-12-04",9.1199999999999992]
["1987-12-07",9.2200000000000006]
["1987-12-08",9.26]
["1987-12-09",9.2200000000000006]
["1987-12-10",9.4]
["1987-12-11",9.4499999999999993]
["1987-12-14",9.41]
["1987-12-15",9.24]
["1987-12-16",9.14]
["1987-12-17",9.15]
["1987-12-18",8.9600000000000009]
["1987-12-21",9.01]
["1987-12-22",9.0500000000000007]
["1987-12-23",8.91]
["1987-12-24",8.9]
["1987-12-25",{"$f":"NA()","v":{"$error":"#N/A"}}]
["1987-12-28",9.01]
["1987-12-29",8.9499999999999993]
["1987-12-30",8.9]
["1987-12-31",8.9499999999999993]
["1988-01-01",{"$f":"NA()","v":{"$error":"#N/A"}}]
["1988-01-04",8.9499999999999993]
["1988-01-05",8.8800000000000008]
["1988-01-06",8.9700000000000006]
["1988-01-07",8.9700000000000006]
["1988-01-08",9.1199999999999992]
["1988-01-11",9.1]
["1988-01-12",9.1]
["1988-01-13",9.0500000000000007]
["1988-01-14",9.0500000000000007]
["1988-01-15",8.76]
["1988-01-18",{"$f":"NA()","v":{"$error":"#N/A"}}]
["1988-01-19",8.81]
["1988-01-20",8.7799999999999994]
["1988-01-21",8.6999999999999993]
["1988-01-22",8.67]
["1988-01-25",8.6199999999999992]
["1988-01-26",8.7100000000000009]
["1988-01-27",8.5500000000000007]
["1988-01-28",8.49]
["1988-01-29",8.42]
["1988-02-01",8.42]
["1988-02-02",8.32]
["1988-02-03",8.39]
["1988-02-04",8.4600000000000009]
["1988-02-05",8.36]
["1988-02-08",8.41]
["1988-02-09",8.4]
["1988-02-10",8.35]
["1988-02-11",8.4]
["1988-02-12",8.5]
["1988-02-15",{"$f":"NA()","v":{"$error":"#N/A"}}]
["1988-02-16",8.5299999999999994]
["1988-02-17",8.5399999999999991]
["1988-02-18",8.51]
["1988-02-19",8.5]
["1988-02-22",8.48]
["1988-02-23",8.4]
["1988-02-24",8.41]
["1988-02-25",8.4499999999999993]
["1988-02-26",8.42]
["1988-02-29",8.39]
["1988-03-01",8.4]
["1988-03-02",8.3699999999999992]
["1988-03-03",8.36]
["1988-03-04",8.52]
["1988-03-07",8.5399999999999991]
["1988-03-08",8.58]
["1988-03-09",8.58]
["1988-03-10",8.6]
["1988-03-11",8.5500000000000007]
["1988-03-14",8.5500000000000007]
["1988-03-15",8.56]
["1988-03-16",8.6300000000000008]
["1988-03-17",8.57]
["1988-03-18",8.69]
["1988-03-21",8.74]
["1988-03-22",8.73]
["1988-03-23",8.76]
["1988-03-24",8.77]
["1988-03-25",8.7200000000000006]
["1988-03-28",8.83]
["1988-03-29",8.81]
["1988-03-30",8.83]
["1988-03-31",8.82]
["1988-04-01",{"$f":"NA()","v":{"$error":"#N/A"}}]
["1988-04-04",8.92]
["1988-04-05",8.9]
["1988-04-06",8.83]
["1988-04-07",8.82]
["1988-04-08",8.74]
["1988-04-11",8.82]
["1988-04-12",8.7899999999999991]
["1988-04-13",8.77]
["1988-04-14",8.91]
["1988-04-15",8.9700000000000006]
["1988-04-18",9.0299999999999994]
["1988-04-19",9.06]
["1988-04-20",9.06]
["1988-04-21",9.06]
["1988-04-22",9.0299999999999994]
["1988-04-25",9.0299999999999994]
["1988-04-26",9.0399999999999991]
["1988-04-27",9.0500000000000007]
["1988-04-28",9.11]
["1988-04-29",9.11]
["1988-05-02",9.17]
["1988-05-03",9.1199999999999992]
["1988-05-04",9.1300000000000008]
["1988-05-05",9.1199999999999992]
["1988-05-06",9.18]
["1988-05-09",9.18]
["1988-05-10",9.1999999999999993]
["1988-05-11",9.2200000000000006]
["1988-05-12",9.17]
["1988-05-13",9.11]
["1988-05-16",9.1300000000000008]
["1988-05-17",9.2200000000000006]
["1988-05-18",9.31]
["1988-05-19",9.3000000000000007]
["1988-05-20",9.35]
["1988-05-23",9.36]
["1988-05-24",9.34]
["1988-05-25",9.31]
["1988-05-26",9.32]
["1988-05-27",9.33]
["1988-05-30",{"$f":"NA()","v":{"$error":"#N/A"}}]
["1988-05-31",9.3000000000000007]
["1988-06-01",9.1199999999999992]
["1988-06-02",9.16]
["1988-06-03",9.07]
["1988-06-06",9.06]
["1988-06-07",9.1199999999999992]
["1988-06-08",9.02]
["1988-06-09",9.06]
["1988-06-10",9.0399999999999991]
["1988-06-13",9.02]
["1988-06-14",8.81]
["1988-06-15",8.83]
["1988-06-16",8.98]
["1988-06-17",9.1199999999999992]
["1988-06-20",9.09]
["1988-06-21",9.1]
["1988-06-22",8.94]
["1988-06-23",8.9]
["1988-06-24",8.8699999999999992]
["1988-06-27",8.9600000000000009]
["1988-06-28",8.89]
["1988-06-29",8.92]
["1988-06-30",8.8699999999999992]
["1988-07-01",8.84]
["1988-07-04",{"$f":"NA()","v":{"$error":"#N/A"}}]
["1988-07-05",8.8800000000000008]
["1988-07-06",8.98]
["1988-07-07",9]
["1988-07-08",9.1]
["1988-07-11",9.06]
["1988-07-12",9.11]
["1988-07-13",9.1999999999999993]
["1988-07-14",9.19]
["1988-07-15",9.16]
["1988-07-18",9.24]
["1988-07-19",9.2100000000000009]
["1988-07-20",9.24]
["1988-07-21",9.27]
["1988-07-22",9.2100000000000009]
["1988-07-25",9.16]
["1988-07-26",9.19]
["1988-07-27",9.26]
["1988-07-28",9.27]
["1988-07-29",9.23]
["1988-08-01",9.17]
["1988-08-02",9.08]
["1988-08-03",9.1]
["1988-08-04",9.0399999999999991]
["1988-08-05",9.14]
["1988-08-08",9.1300000000000008]
["1988-08-09",9.2100000000000009]
["1988-08-10",9.36]
["1988-08-11",9.4]
["1988-08-12",9.42]
["1988-08-15",9.44]
["1988-08-16",9.4]
["1988-08-17",9.43]
["1988-08-18",9.41]
["1988-08-19",9.41]
["1988-08-22",9.44]
["1988-08-23",9.39]
["1988-08-24",9.4]
["1988-08-25",9.4600000000000009]
["1988-08-26",9.43]
["1988-08-29",9.36]
["1988-08-30",9.33]
["1988-08-31",9.31]
["1988-09-01",9.31]
["1988-09-02",9.0500000000000007]
["1988-09-05",{"$f":"NA()","v":{"$error":"#N/A"}}]
["1988-09-06",9.0500000000000007]
["1988-09-07",9.0399999999999991]
["1988-09-08",9.0500000000000007]
["1988-09-09",8.99]
["1988-09-12",9.0399999999999991]
["1988-09-13",9.01]
["1988-09-14",8.9600000000000009]
["1988-09-15",9]
["1988-09-16",9.01]
["1988-09-19",9.07]
["1988-09-20",9.06]
["1988-09-21",9.02]
["1988-09-22",9.0500000000000007]
["1988-09-23",9.0500000000000007]
["1988-09-26",9.09]
["1988-09-27",9.11]
["1988-09-28",9.15]
["1988-09-29",9.08]
["1988-09-30",8.98]
["1988-10-03",8.9600000000000009]
["1988-10-04",8.9700000000000006]
["1988-10-05",8.98]
["1988-10-06",8.9700000000000006]
["1988-10-07",8.81]
["1988-10-10",{"$f":"NA()","v":{"$error":"#N/A"}}]
["1988-10-11",8.86]
["1988-10-12",8.94]
["1988-10-13",8.94]
["1988-10-14",8.9]
["1988-10-17",8.8800000000000008]
["1988-10-18",8.8699999999999992]
["1988-10-19",8.91]
["1988-10-20",8.85]
["1988-10-21",8.89]
["1988-10-24",8.93]
["1988-10-25",8.93]
["1988-10-26",8.92]
["1988-10-27",8.84]
["1988-10-28",8.8000000000000007]
["1988-10-31",8.74]
["1988-11-01",8.76]
["1988-11-02",8.81]
["1988-11-03",8.76]
["1988-11-04",8.91]
["1988-11-07",8.9600000000000009]
["1988-11-08",8.9700000000000006]
["1988-11-09",9.01]
["1988-11-10",8.99]
["1988-11-11",{"$f":"NA()","v":{"$error":"#N/A"}}]
["1988-11-14",9.01]
["1988-11-15",9.01]
["1988-11-16",9.1]
["1988-11-17",9.14]
["1988-11-18",9.1199999999999992]
["1988-11-21",9.11]
["1988-11-22",9.1199999999999992]
["1988-11-23",9.11]
["1988-11-24",{"$f":"NA()","v":{"$error":"#N/A"}}]
["1988-11-25",9.18]
["1988-11-28",9.15]
["1988-11-29",9.1300000000000008]
["1988-11-30",9.07]
["1988-12-01",9.02]
["1988-12-02",9.18]
["1988-12-05",9.1300000000000008]
["1988-12-06",8.9499999999999993]
["1988-12-07",8.98]
["1988-12-08",8.9700000000000006]
["1988-12-09",8.9700000000000006]
["1988-12-12",8.94]
["1988-12-13",8.98]
["1988-12-14",9.06]
["1988-12-15",9.07]
["1988-12-16",9.0500000000000007]
["1988-12-19",9.0500000000000007]
["1988-12-20",8.9600000000000009]
["1988-12-21",8.9600000000000009]
["1988-12-22",8.94]
["1988-12-23",8.92]
["1988-12-26",{"$f":"NA()","v":{"$error":"#N/A"}}]
["1988-12-27",8.9600000000000009]
["1988-12-28",9.01]
["1988-12-29",9.01]
["1988-12-30",9]
["1989-01-02",{"$f":"NA()","v":{"$error":"#N/A"}}]
["1989-01-03",9.09]
["1989-01-04",9.08]
["1989-01-05",9.1]
["1989-01-06",9.06]
["1989-01-09",9.0500000000000007]
["1989-01-10",9.0500000000000007]
["1989-01-11",9.0500000000000007]
["1989-01-12",8.98]
["1989-01-13",8.89]
["1989-01-16",{"$f":"NA()","v":{"$error":"#N/A"}}]
["1989-01-17",8.89]
["1989-01-18",8.84]
["1989-01-19",8.86]
["1989-01-20",8.89]
["1989-01-23",8.8699999999999992]
["1989-01-24",8.7799999999999994]
["1989-01-25",8.82]
["1989-01-26",8.81]
["1989-01-27",8.76]
["1989-01-30",8.83]
["1989-01-31",8.84]
["1989-02-01",8.83]
["1989-02-02",8.82]
["1989-02-03",8.84]
["1989-02-06",8.85]
["1989-02-07",8.8000000000000007]
["1989-02-08",8.82]
["1989-02-09",8.99]
["1989-02-10",9.0500000000000007]
["1989-02-13",9.06]
["1989-02-14",9.1]
["1989-02-15",9.09]
["1989-02-16",9.06]
["1989-02-17",9.0500000000000007]
["1989-02-20",{"$f":"NA()","v":{"$error":"#N/A"}}]
["1989-02-21",9.0500000000000007]
["1989-02-22",9.1199999999999992]
["1989-02-23",9.17]
["1989-02-24",9.18]
["1989-02-27",9.17]
["1989-02-28",9.14]
["1989-03-01",9.18]
["1989-03-02",9.1300000000000008]
["1989-03-03",9.1300000000000008]
["1989-03-06",9.09]
["1989-03-07",9.09]
["1989-03-08",9.0500000000000007]
["1989-03-09",9.07]
["1989-03-10",9.15]
["1989-03-13",9.15]
["1989-03-14",9.1300000000000008]
["1989-03-15",9.1300000000000008]
["1989-03-16",9.1199999999999992]
["1989-03-17",9.3000000000000007]
["1989-03-20",9.31]
["1989-03-21",9.3000000000000007]
["1989-03-22",9.25]
["1989-03-23",9.23]
["1989-03-24",{"$f":"NA()","v":{"$error":"#N/A"}}]
["1989-03-27",9.23]
["1989-03-28",9.1999999999999993]
["1989-03-29",9.15]
["1989-03-30",9.14]
["1989-03-31",9.11]
["1989-04-03",9.07]
["1989-04-04",9.0299999999999994]
["1989-04-05",9.02]
["1989-04-06",9.0399999999999991]
["1989-04-07",9.11]
["1989-04-10",9.1]
["1989-04-11",9.1]
["1989-04-12",9.11]
["1989-04-13",9.15]
["1989-04-14",9.0399999999999991]
["1989-04-17",9.06]
["1989-04-18",8.94]
["1989-04-19",8.9600000000000009]
["1989-04-20",9.0299999999999994]
["1989-04-21",8.99]
["1989-04-24",8.99]
["1989-04-25",8.9700000000000006]
["1989-04-26",8.9600000000000009]
["1989-04-27",8.92]
["1989-04-28",8.91]
["1989-05-01",9]
["1989-05-02",8.9499999999999993]
["1989-05-03",8.9499999999999993]
["1989-05-04",8.99]
["1989-05-05",8.9499999999999993]
["1989-05-08",8.99]
["1989-05-09",9.08]
["1989-05-10",9.1199999999999992]
["1989-05-11",9.07]
["1989-05-12",8.84]
["1989-05-15",8.85]
["1989-05-16",8.84]
["1989-05-17",8.81]
["1989-05-18",8.7799999999999994]
["1989-05-19",8.7200000000000006]
["1989-05-22",8.6]
["1989-05-23",8.6199999999999992]
["1989-05-24",8.6300000000000008]
["1989-05-25",8.66]
["1989-05-26",8.6300000000000008]
["1989-05-29",{"$f":"NA()","v":{"$error":"#N/A"}}]
["1989-05-30",8.6300000000000008]
["1989-05-31",8.6]
["1989-06-01",8.61]
["1989-06-02",8.48]
["1989-06-05",8.44]
["1989-06-06",8.41]
["1989-06-07",8.34]
["1989-06-08",8.31]
["1989-06-09",8.15]
["1989-06-12",8.1300000000000008]
["1989-06-13",8.2100000000000009]
["1989-06-14",8.17]
["1989-06-15",8.3000000000000007]
["1989-06-16",8.31]
["1989-06-19",8.34]
["1989-06-20",8.2799999999999994]
["1989-06-21",8.33]
["1989-06-22",8.34]
["1989-06-23",8.1999999999999993]
["1989-06-26",8.16]
["1989-06-27",8.08]
["1989-06-28",8.1300000000000008]
["1989-06-29",8.09]
["1989-06-30",8.0500000000000007]
["1989-07-03",8.07]
["1989-07-04",{"$f":"NA()","v":{"$error":"#N/A"}}]
["1989-07-05",8.14]
["1989-07-06",8.1]
["1989-07-07",8.0399999999999991]
["1989-07-10",8.02]
["1989-07-11",8.0399999999999991]
["1989-07-12",8.0399999999999991]
["1989-07-13",8.0500000000000007]
["1989-07-14",8.09]
["1989-07-17",8.11]
["1989-07-18",8.17]
["1989-07-19",8.14]
["1989-07-20",8.1]
["1989-07-21",8.16]
["1989-07-24",8.14]
["1989-07-25",8.1199999999999992]
["1989-07-26",8.11]
["1989-07-27",8.0299999999999994]
["1989-07-28",7.99]
["1989-07-31",7.92]
["1989-08-01",7.83]
["1989-08-02",7.84]
["1989-08-03",7.9]
["1989-08-04",8.08]
["1989-08-07",8.08]
["1989-08-08",8.08]
["1989-08-09",8.1199999999999992]
["1989-08-10",8.08]
["1989-08-11",8.1300000000000008]
["1989-08-14",8.23]
["1989-08-15",8.19]
["1989-08-16",8.1300000000000008]
["1989-08-17",8.16]
["1989-08-18",8.15]
["1989-08-21",8.18]
["1989-08-22",8.25]
["1989-08-23",8.19]
["1989-08-24",8.16]
["1989-08-25",8.18]
["1989-08-28",8.23]
["1989-08-29",8.2100000000000009]
["1989-08-30",8.1999999999999993]
["1989-08-31",8.2100000000000009]
["1989-09-01",8.14]
["1989-09-04",{"$f":"NA()","v":{"$error":"#N/A"}}]
["1989-09-05",8.14]
["1989-09-06",8.11]
["1989-09-07",8.11]
["1989-09-08",8.07]
["1989-09-11",8.07]
["1989-09-12",8.09]
["1989-09-13",8.15]
["1989-09-14",8.1199999999999992]
["1989-09-15",8.08]
["1989-09-18",8.09]
["1989-09-19",8.09]
["1989-09-20",8.15]
["1989-09-21",8.19]
["1989-09-22",8.1999999999999993]
["1989-09-25",8.3000000000000007]
["1989-09-26",8.25]
["1989-09-27",8.25]
["1989-09-28",8.25]
["1989-09-29",8.24]
["1989-10-02",8.2200000000000006]
["1989-10-03",8.19]
["1989-10-04",8.16]
["1989-10-05",8.09]
["1989-10-06",8.01]
["1989-10-09",{"$f":"NA()","v":{"$error":"#N/A"}}]
["1989-10-10",8.01]
["1989-10-11",8.0500000000000007]
["1989-10-12",8.02]
["1989-10-13",7.88]
["1989-10-16",7.98]
["1989-10-17",8.01]
["1989-10-18",8.0299999999999994]
["1989-10-19",7.97]
["1989-10-20",7.98]
["1989-10-23",7.94]
["1989-10-24",7.87]
["1989-10-25",7.88]
["1989-10-26",7.89]
["1989-10-27",7.95]
["1989-10-30",7.93]
["1989-10-31",7.92]
["1989-11-01",7.89]
["1989-11-02",7.88]
["1989-11-03",7.92]
["1989-11-06",7.97]
["1989-11-07",7.88]
["1989-11-08",7.88]
["1989-11-09",7.91]
["1989-11-10",7.9]
["1989-11-13",7.89]
["1989-11-14",7.9]
["1989-11-15",7.87]
["1989-11-16",7.87]
["1989-11-17",7.94]
["1989-11-20",7.92]
["1989-11-21",7.91]
["1989-11-22",7.88]
["1989-11-23",{"$f":"NA()","v":{"$error":"#N/A"}}]
["1989-11-24",7.88]
["1989-11-27",7.92]
["1989-11-28",7.91]
["1989-11-29",7.93]
["1989-11-30",7.9]
["1989-12-01",7.88]
["1989-12-04",7.88]
["1989-12-05",7.88]
["1989-12-06",7.91]
["1989-12-07",7.93]
["1989-12-08",7.88]
["1989-12-11",7.89]
["1989-12-12",7.9]
["1989-12-13",7.88]
["1989-12-14",7.85]
["1989-12-15",7.86]
["1989-12-18",7.83]
["1989-12-19",7.85]
["1989-12-20",7.84]
["1989-12-21",7.86]
["1989-12-22",7.88]
["1989-12-25",{"$f":"NA()","v":{"$error":"#N/A"}}]
["1989-12-26",8]
["1989-12-27",7.98]
["1989-12-28",7.97]
["1989-12-29",7.98]
["1990-01-01",{"$f":"NA()","v":{"$error":"#N/A"}}]
["1990-01-02",8]
["1990-01-03",8.0399999999999991]
["1990-01-04",8.0399999999999991]
["1990-01-05",8.06]
["1990-01-08",8.09]
["1990-01-09",8.1]
["1990-01-10",8.11]
["1990-01-11",8.11]
["1990-01-12",8.17]
["1990-01-15",{"$f":"NA()","v":{"$error":"#N/A"}}]
["1990-01-16",8.25]
["1990-01-17",8.25]
["1990-01-18",8.35]
["1990-01-19",8.2899999999999991]
["1990-01-22",8.31]
["1990-01-23",8.2899999999999991]
["1990-01-24",8.41]
["1990-01-25",8.4600000000000009]
["1990-01-26",8.5500000000000007]
["1990-01-29",8.5399999999999991]
["1990-01-30",8.5500000000000007]
["1990-01-31",8.4600000000000009]
["1990-02-01",8.44]
["1990-02-02",8.51]
["1990-02-05",8.5299999999999994]
["1990-02-06",8.58]
["1990-02-07",8.57]
["1990-02-08",8.5]
["1990-02-09",8.36]
["1990-02-12",8.43]
["1990-02-13",8.39]
["1990-02-14",8.41]
["1990-02-15",8.4700000000000006]
["1990-02-16",8.4600000000000009]
["1990-02-19",{"$f":"NA()","v":{"$error":"#N/A"}}]
["1990-02-20",8.66]
["1990-02-21",8.66]
["1990-02-22",8.56]
["1990-02-23",8.56]
["1990-02-26",8.49]
["1990-02-27",8.4499999999999993]
["1990-02-28",8.5399999999999991]
["1990-03-01",8.61]
["1990-03-02",8.5500000000000007]
["1990-03-05",8.66]
["1990-03-06",8.59]
["1990-03-07",8.58]
["1990-03-08",8.56]
["1990-03-09",8.6300000000000008]
["1990-03-12",8.6199999999999992]
["1990-03-13",8.7200000000000006]
["1990-03-14",8.61]
["1990-03-15",8.6300000000000008]
["1990-03-16",8.5500000000000007]
["1990-03-19",8.5399999999999991]
["1990-03-20",8.4700000000000006]
["1990-03-21",8.4700000000000006]
["1990-03-22",8.49]
["1990-03-23",8.48]
["1990-03-26",8.4700000000000006]
["1990-03-27",8.48]
["1990-03-28",8.4700000000000006]
["1990-03-29",8.58]
["1990-03-30",8.6300000000000008]
["1990-04-02",8.6300000000000008]
["1990-04-03",8.61]
["1990-04-04",8.52]
["1990-04-05",8.52]
["1990-04-06",8.52]
["1990-04-09",8.5500000000000007]
["1990-04-10",8.57]
["1990-04-11",8.58]
["1990-04-12",8.6]
["1990-04-13",{"$f":"NA()","v":{"$error":"#N/A"}}]
["1990-04-16",8.64]
["1990-04-17",8.74]
["1990-04-18",8.85]
["1990-04-19",8.86]
["1990-04-20",8.93]
["1990-04-23",8.9600000000000009]
["1990-04-24",8.98]
["1990-04-25",8.98]
["1990-04-26",9.0399999999999991]
["1990-04-27",9.0399999999999991]
["1990-04-30",9]
["1990-05-01",9.0399999999999991]
["1990-05-02",9.0500000000000007]
["1990-05-03",8.99]
["1990-05-04",8.83]
["1990-05-07",8.85]
["1990-05-08",8.81]
["1990-05-09",8.9]
["1990-05-10",8.81]
["1990-05-11",8.64]
["1990-05-14",8.58]
["1990-05-15",8.6199999999999992]
["1990-05-16",8.64]
["1990-05-17",8.65]
["1990-05-18",8.6999999999999993]
["1990-05-21",8.69]
["1990-05-22",8.61]
["1990-05-23",8.59]
["1990-05-24",8.6]
["1990-05-25",8.67]
["1990-05-28",{"$f":"NA()","v":{"$error":"#N/A"}}]
["1990-05-29",8.64]
["1990-05-30",8.6]
["1990-05-31",8.58]
["1990-06-01",8.43]
["1990-06-04",8.43]
["1990-06-05",8.4600000000000009]
["1990-06-06",8.44]
["1990-06-07",8.43]
["1990-06-08",8.44]
["1990-06-11",8.4499999999999993]
["1990-06-12",8.4499999999999993]
["1990-06-13",8.39]
["1990-06-14",8.36]
["1990-06-15",8.43]
["1990-06-18",8.4700000000000006]
["1990-06-19",8.48]
["1990-06-20",8.52]
["1990-06-21",8.5]
["1990-06-22",8.49]
["1990-06-25",8.56]
["1990-06-26",8.5299999999999994]
["1990-06-27",8.49]
["1990-06-28",8.4499999999999993]
["1990-06-29",8.41]
["1990-07-02",8.41]
["1990-07-03",8.4]
["1990-07-04",{"$f":"NA()","v":{"$error":"#N/A"}}]
["1990-07-05",8.42]
["1990-07-06",8.51]
["1990-07-09",8.5500000000000007]
["1990-07-10",8.56]
["1990-07-11",8.56]
["1990-07-12",8.5]
["1990-07-13",8.4600000000000009]
["1990-07-16",8.4600000000000009]
["1990-07-17",8.4600000000000009]
["1990-07-18",8.5500000000000007]
["1990-07-19",8.56]
["1990-07-20",8.5399999999999991]
["1990-07-23",8.5399999999999991]
["1990-07-24",8.59]
["1990-07-25",8.5500000000000007]
["1990-07-26",8.5399999999999991]
["1990-07-27",8.48]
["1990-07-30",8.4]
["1990-07-31",8.42]
["1990-08-01",8.36]
["1990-08-02",8.4600000000000009]
["1990-08-03",8.5500000000000007]
["1990-08-06",8.82]
["1990-08-07",8.86]
["1990-08-08",8.8699999999999992]
["1990-08-09",8.75]
["1990-08-10",8.7899999999999991]
["1990-08-13",8.83]
["1990-08-14",8.7799999999999994]
["1990-08-15",8.76]
["1990-08-16",8.91]
["1990-08-17",8.94]
["1990-08-20",8.92]
["1990-08-21",8.94]
["1990-08-22",9.0299999999999994]
["1990-08-23",9.11]
["1990-08-24",9.17]
["1990-08-27",9.02]
["1990-08-28",9.07]
["1990-08-29",8.9499999999999993]
["1990-08-30",8.98]
["1990-08-31",8.99]
["1990-09-03",{"$f":"NA()","v":{"$error":"#N/A"}}]
["1990-09-04",9.0299999999999994]
["1990-09-05",8.98]
["1990-09-06",8.9600000000000009]
["1990-09-07",8.92]
["1990-09-10",8.98]
["1990-09-11",8.9600000000000009]
["1990-09-12",8.9600000000000009]
["1990-09-13",8.9600000000000009]
["1990-09-14",9.01]
["1990-09-17",9.06]
["1990-09-18",9.0500000000000007]
["1990-09-19",9.02]
["1990-09-20",9.0500000000000007]
["1990-09-21",9.1300000000000008]
["1990-09-24",9.18]
["1990-09-25",9.15]
["1990-09-26",9.14]
["1990-09-27",9.0500000000000007]
["1990-09-28",8.9600000000000009]
["1990-10-01",8.84]
["1990-10-02",8.84]
["1990-10-03",8.85]
["1990-10-04",8.81]
["1990-10-05",8.7899999999999991]
["1990-10-08",{"$f":"NA()","v":{"$error":"#N/A"}}]
["1990-10-09",8.98]
["1990-10-10",9.0299999999999994]
["1990-10-11",9.08]
["1990-10-12",8.98]
["1990-10-15",8.9499999999999993]
["1990-10-16",8.94]
["1990-10-17",8.89]
["1990-10-18",8.85]
["1990-10-19",8.75]
["1990-10-22",8.76]
["1990-10-23",8.7899999999999991]
["1990-10-24",8.7899999999999991]
["1990-10-25",8.74]
["1990-10-26",8.76]
["1990-10-29",8.84]
["1990-10-30",8.83]
["1990-10-31",8.7799999999999994]
["1990-11-01",8.6999999999999993]
["1990-11-02",8.6999999999999993]
["1990-11-05",8.6300000000000008]
["1990-11-06",8.64]
["1990-11-07",8.7100000000000009]
["1990-11-08",8.73]
["1990-11-09",8.6300000000000008]
["1990-11-12",{"$f":"NA()","v":{"$error":"#N/A"}}]
["1990-11-13",8.52]
["1990-11-14",8.51]
["1990-11-15",8.5299999999999994]
["1990-11-16",8.4600000000000009]
["1990-11-19",8.51]
["1990-11-20",8.4700000000000006]
["1990-11-21",8.44]
["1990-11-22",{"$f":"NA()","v":{"$error":"#N/A"}}]
["1990-11-23",8.44]
["1990-11-26",8.42]
["1990-11-27",8.44]
["1990-11-28",8.4600000000000009]
["1990-11-29",8.4700000000000006]
["1990-11-30",8.4]
["1990-12-03",8.36]
["1990-12-04",8.3699999999999992]
["1990-12-05",8.32]
["1990-12-06",8.35]
["1990-12-07",8.19]
["1990-12-10",8.14]
["1990-12-11",8.1]
["1990-12-12",8.07]
["1990-12-13",8.14]
["1990-12-14",8.1999999999999993]
["1990-12-17",8.18]
["1990-12-18",8.15]
["1990-12-19",8.19]
["1990-12-20",8.2200000000000006]
["1990-12-21",8.2799999999999994]
["1990-12-24",8.36]
["1990-12-25",{"$f":"NA()","v":{"$error":"#N/A"}}]
["1990-12-26",8.3000000000000007]
["1990-12-27",8.25]
["1990-12-28",8.31]
["1990-12-31",8.26]
["1991-01-01",{"$f":"NA()","v":{"$error":"#N/A"}}]
["1991-01-02",8.14]
["1991-01-03",8.11]
["1991-01-04",8.1999999999999993]
["1991-01-07",8.32]
["1991-01-08",8.3699999999999992]
["1991-01-09",8.4600000000000009]
["1991-01-10",8.3699999999999992]
["1991-01-11",8.39]
["1991-01-14",8.41]
["1991-01-15",8.41]
["1991-01-16",8.4]
["1991-01-17",8.18]
["1991-01-18",8.17]
["1991-01-21",{"$f":"NA()","v":{"$error":"#N/A"}}]
["1991-01-22",8.23]
["1991-01-23",8.2100000000000009]
["1991-01-24",8.18]
["1991-01-25",8.24]
["1991-01-28",8.23]
["1991-01-29",8.1999999999999993]
["1991-01-30",8.23]
["1991-01-31",8.2100000000000009]
["1991-02-01",8.09]
["1991-02-04",8.0500000000000007]
["1991-02-05",8.02]
["1991-02-06",8.02]
["1991-02-07",8.01]
["1991-02-08",7.95]
["1991-02-11",7.97]
["1991-02-12",7.96]
["1991-02-13",7.97]
["1991-02-14",7.99]
["1991-02-15",7.97]
["1991-02-18",{"$f":"NA()","v":{"$error":"#N/A"}}]
["1991-02-19",7.99]
["1991-02-20",8.02]
["1991-02-21",8.0399999999999991]
["1991-02-22",8.07]
["1991-02-25",8.0500000000000007]
["1991-02-26",8.14]
["1991-02-27",8.15]
["1991-02-28",8.19]
["1991-03-01",8.2799999999999994]
["1991-03-04",8.2899999999999991]
["1991-03-05",8.25]
["1991-03-06",8.2899999999999991]
["1991-03-07",8.23]
["1991-03-08",8.3000000000000007]
["1991-03-11",8.23]
["1991-03-12",8.26]
["1991-03-13",8.1999999999999993]
["1991-03-14",8.1999999999999993]
["1991-03-15",8.3000000000000007]
["1991-03-18",8.34]
["1991-03-19",8.42]
["1991-03-20",8.3699999999999992]
["1991-03-21",8.34]
["1991-03-22",8.33]
["1991-03-25",8.32]
["1991-03-26",8.31]
["1991-03-27",8.26]
["1991-03-28",8.24]
["1991-03-29",{"$f":"NA()","v":{"$error":"#N/A"}}]
["1991-04-01",8.25]
["1991-04-02",8.2200000000000006]
["1991-04-03",8.24]
["1991-04-04",8.19]
["1991-04-05",8.18]
["1991-04-08",8.16]
["1991-04-09",8.1999999999999993]
["1991-04-10",8.27]
["1991-04-11",8.27]
["1991-04-12",8.16]
["1991-04-15",8.1199999999999992]
["1991-04-16",8.1300000000000008]
["1991-04-17",8.11]
["1991-04-18",8.18]
["1991-04-19",8.24]
["1991-04-22",8.3000000000000007]
["1991-04-23",8.2799999999999994]
["1991-04-24",8.2200000000000006]
["1991-04-25",8.24]
["1991-04-26",8.2200000000000006]
["1991-04-29",8.23]
["1991-04-30",8.1999999999999993]
["1991-05-01",8.18]
["1991-05-02",8.14]
["1991-05-03",8.2200000000000006]
["1991-05-06",8.23]
["1991-05-07",8.24]
["1991-05-08",8.24]
["1991-05-09",8.2100000000000009]
["1991-05-10",8.33]
["1991-05-13",8.27]
["1991-05-14",8.36]
["1991-05-15",8.34]
["1991-05-16",8.33]
["1991-05-17",8.2799999999999994]
["1991-05-20",8.3000000000000007]
["1991-05-21",8.26]
["1991-05-22",8.2799999999999994]
["1991-05-23",8.31]
["1991-05-24",8.31]
["1991-05-27",{"$f":"NA()","v":{"$error":"#N/A"}}]
["1991-05-28",8.2799999999999994]
["1991-05-29",8.2899999999999991]
["1991-05-30",8.2200000000000006]
["1991-05-31",8.26]
["1991-06-03",8.34]
["1991-06-04",8.34]
["1991-06-05",8.39]
["1991-06-06",8.42]
["1991-06-07",8.48]
["1991-06-10",8.48]
["1991-06-11",8.48]
["1991-06-12",8.5500000000000007]
["1991-06-13",8.5299999999999994]
["1991-06-14",8.4700000000000006]
["1991-06-17",8.49]
["1991-06-18",8.52]
["1991-06-19",8.52]
["1991-06-20",8.48]
["1991-06-21",8.51]
["1991-06-24",8.51]
["1991-06-25",8.51]
["1991-06-26",8.51]
["1991-06-27",8.49]
["1991-06-28",8.42]
["1991-07-01",8.44]
["1991-07-02",8.44]
["1991-07-03",8.42]
["1991-07-04",{"$f":"NA()","v":{"$error":"#N/A"}}]
["1991-07-05",8.49]
["1991-07-08",8.51]
["1991-07-09",8.5299999999999994]
["1991-07-10",8.5299999999999994]
["1991-07-11",8.4700000000000006]
["1991-07-12",8.44]
["1991-07-15",8.44]
["1991-07-16",8.4600000000000009]
["1991-07-17",8.49]
["1991-07-18",8.5]
["1991-07-19",8.48]
["1991-07-22",8.48]
["1991-07-23",8.5]
["1991-07-24",8.42]
["1991-07-25",8.3800000000000008]
["1991-07-26",8.39]
["1991-07-29",8.39]
["1991-07-30",8.39]
["1991-07-31",8.36]
["1991-08-01",8.3800000000000008]
["1991-08-02",8.25]
["1991-08-05",8.24]
["1991-08-06",8.18]
["1991-08-07",8.17]
["1991-08-08",8.2200000000000006]
["1991-08-09",8.23]
["1991-08-12",8.2100000000000009]
["1991-08-13",8.17]
["1991-08-14",8.08]
["1991-08-15",8.09]
["1991-08-16",8.09]
["1991-08-19",8.11]
["1991-08-20",8.09]
["1991-08-21",8.07]
["1991-08-22",8.0500000000000007]
["1991-08-23",8.1300000000000008]
["1991-08-26",8.15]
["1991-08-27",8.14]
["1991-08-28",8.06]
["1991-08-29",7.99]
["1991-08-30",8.06]
["1991-09-02",{"$f":"NA()","v":{"$error":"#N/A"}}]
["1991-09-03",8.0500000000000007]
["1991-09-04",8.06]
["1991-09-05",8.09]
["1991-09-06",8.02]
["1991-09-09",8]
["1991-09-10",8.01]
["1991-09-11",8.02]
["1991-09-12",7.96]
["1991-09-13",7.95]
["1991-09-16",7.93]
["1991-09-17",7.92]
["1991-09-18",7.92]
["1991-09-19",7.92]
["1991-09-20",7.89]
["1991-09-23",7.88]
["1991-09-24",7.89]
["1991-09-25",7.91]
["1991-09-26",7.89]
["1991-09-27",7.83]
["1991-09-30",7.82]
["1991-10-01",7.81]
["1991-10-02",7.83]
["1991-10-03",7.84]
["1991-10-04",7.79]
["1991-10-07",7.79]
["1991-10-08",7.82]
["1991-10-09",7.91]
["1991-10-10",7.98]
["1991-10-11",7.9]
["1991-10-14",{"$f":"NA()","v":{"$error":"#N/A"}}]
["1991-10-15",7.87]
["1991-10-16",7.88]
["1991-10-17",8]
["1991-10-18",7.97]
["1991-10-21",8.06]
["1991-10-22",8.1]
["1991-10-23",8.09]
["1991-10-24",8.0299999999999994]
["1991-10-25",8.0500000000000007]
["1991-10-28",8.0299999999999994]
["1991-10-29",7.91]
["1991-10-30",7.9]
["1991-10-31",7.91]
["1991-11-01",7.93]
["1991-11-04",7.95]
["1991-11-05",8.02]
["1991-11-06",8.01]
["1991-11-07",7.92]
["1991-11-08",7.88]
["1991-11-11",{"$f":"NA()","v":{"$error":"#N/A"}}]
["1991-11-12",7.8]
["1991-11-13",7.88]
["1991-11-14",7.82]
["1991-11-15",7.84]
["1991-11-18",7.84]
["1991-11-19",7.9]
["1991-11-20",7.92]
["1991-11-21",7.96]
["1991-11-22",7.99]
["1991-11-25",7.99]
["1991-11-26",7.95]
["1991-11-27",7.97]
["1991-11-28",{"$f":"NA()","v":{"$error":"#N/A"}}]
["1991-11-29",7.94]
["1991-12-02",7.92]
["1991-12-03",7.9]
["1991-12-04",7.84]
["1991-12-05",7.86]
["1991-12-06",7.78]
["1991-12-09",7.78]
["1991-12-10",7.79]
["1991-12-11",7.81]
["1991-12-12",7.77]
["1991-12-13",7.79]
["1991-12-16",7.77]
["1991-12-17",7.75]
["1991-12-18",7.76]
["1991-12-19",7.68]
["1991-12-20",7.59]
["1991-12-23",7.53]
["1991-12-24",7.53]
["1991-12-25",{"$f":"NA()","v":{"$error":"#N/A"}}]
["1991-12-26",7.51]
["1991-12-27",7.52]
["1991-12-30",7.45]
["1991-12-31",7.41]
["1992-01-01",{"$f":"NA()","v":{"$error":"#N/A"}}]
["1992-01-02",7.46]
["1992-01-03",7.48]
["1992-01-06",7.44]
["1992-01-07",7.39]
["1992-01-08",7.41]
["1992-01-09",7.42]
["1992-01-10",7.47]
["1992-01-13",7.49]
["1992-01-14",7.54]
["1992-01-15",7.57]
["1992-01-16",7.65]
["1992-01-17",7.61]
["1992-01-20",{"$f":"NA()","v":{"$error":"#N/A"}}]
["1992-01-21",7.57]
["1992-01-22",7.62]
["1992-01-23",7.71]
["1992-01-24",7.71]
["1992-01-27",7.71]
["1992-01-28",7.66]
["1992-01-29",7.75]
["1992-01-30",7.79]
["1992-01-31",7.77]
["1992-02-03",7.82]
["1992-02-04",7.76]
["1992-02-05",7.74]
["1992-02-06",7.75]
["1992-02-07",7.77]
["1992-02-10",7.79]
["1992-02-11",7.79]
["1992-02-12",7.81]
["1992-02-13",7.92]
["1992-02-14",7.91]
["1992-02-17",{"$f":"NA()","v":{"$error":"#N/A"}}]
["1992-02-18",7.97]
["1992-02-19",7.93]
["1992-02-20",7.91]
["1992-02-21",7.95]
["1992-02-24",7.97]
["1992-02-25",7.94]
["1992-02-26",7.85]
["1992-02-27",7.86]
["1992-02-28",7.8]
["1992-03-02",7.9]
["1992-03-03",7.93]
["1992-03-04",7.9]
["1992-03-05",7.95]
["1992-03-06",7.93]
["1992-03-09",7.88]
["1992-03-10",7.89]
["1992-03-11",7.96]
["1992-03-12",8.0399999999999991]
["1992-03-13",8.06]
["1992-03-16",8.07]
["1992-03-17",8.02]
["1992-03-18",8.01]
["1992-03-19",7.98]
["1992-03-20",8.0500000000000007]
["1992-03-23",8.0399999999999991]
["1992-03-24",7.94]
["1992-03-25",7.94]
["1992-03-26",7.99]
["1992-03-27",7.94]
["1992-03-30",7.95]
["1992-03-31",7.96]
["1992-04-01",7.9]
["1992-04-02",7.92]
["1992-04-03",7.88]
["1992-04-06",7.88]
["1992-04-07",7.9]
["1992-04-08",7.94]
["1992-04-09",7.85]
["1992-04-10",7.89]
["1992-04-13",7.86]
["1992-04-14",7.88]
["1992-04-15",7.87]
["1992-04-16",7.93]
["1992-04-17",{"$f":"NA()","v":{"$error":"#N/A"}}]
["1992-04-20",8.02]
["1992-04-21",8.0299999999999994]
["1992-04-22",8.0399999999999991]
["1992-04-23",8.06]
["1992-04-24",8.06]
["1992-04-27",8.1]
["1992-04-28",8.06]
["1992-04-29",8.08]
["1992-04-30",8.06]
["1992-05-01",8.01]
["1992-05-04",8.0299999999999994]
["1992-05-05",8.01]
["1992-05-06",7.97]
["1992-05-07",8]
["1992-05-08",7.9]
["1992-05-11",7.9]
["1992-05-12",7.86]
["1992-05-13",7.85]
["1992-05-14",7.87]
["1992-05-15",7.81]
["1992-05-18",7.82]
["1992-05-19",7.77]
["1992-05-20",7.79]
["1992-05-21",7.86]
["1992-05-22",7.83]
["1992-05-25",{"$f":"NA()","v":{"$error":"#N/A"}}]
["1992-05-26",7.92]
["1992-05-27",7.91]
["1992-05-28",7.87]
["1992-05-29",7.84]
["1992-06-01",7.9]
["1992-06-02",7.87]
["1992-06-03",7.88]
["1992-06-04",7.88]
["1992-06-05",7.84]
["1992-06-08",7.84]
["1992-06-09",7.88]
["1992-06-10",7.9]
["1992-06-11",7.88]
["1992-06-12",7.85]
["1992-06-15",7.85]
["1992-06-16",7.84]
["1992-06-17",7.82]
["1992-06-18",7.8]
["1992-06-19",7.83]
["1992-06-22",7.84]
["1992-06-23",7.85]
["1992-06-24",7.83]
["1992-06-25",7.78]
["1992-06-26",7.79]
["1992-06-29",7.78]
["1992-06-30",7.79]
["1992-07-01",7.76]
["1992-07-02",7.63]
["1992-07-03",{"$f":"NA()","v":{"$error":"#N/A"}}]
["1992-07-06",7.62]
["1992-07-07",7.61]
["1992-07-08",7.61]
["1992-07-09",7.61]
["1992-07-10",7.64]
["1992-07-13",7.67]
["1992-07-14",7.69]
["1992-07-15",7.64]
["1992-07-16",7.62]
["1992-07-17",7.68]
["1992-07-20",7.66]
["1992-07-21",7.67]
["1992-07-22",7.62]
["1992-07-23",7.54]
["1992-07-24",7.57]
["1992-07-27",7.53]
["1992-07-28",7.44]
["1992-07-29",7.43]
["1992-07-30",7.46]
["1992-07-31",7.46]
["1992-08-03",7.46]
["1992-08-04",7.43]
["1992-08-05",7.43]
["1992-08-06",7.45]
["1992-08-07",7.4]
["1992-08-10",7.37]
["1992-08-11",7.33]
["1992-08-12",7.33]
["1992-08-13",7.36]
["1992-08-14",7.33]
["1992-08-17",7.37]
["1992-08-18",7.33]
["1992-08-19",7.33]
["1992-08-20",7.32]
["1992-08-21",7.36]
["1992-08-24",7.44]
["1992-08-25",7.47]
["1992-08-26",7.43]
["1992-08-27",7.42]
["1992-08-28",7.42]
["1992-08-31",7.42]
["1992-09-01",7.38]
["1992-09-02",7.37]
["1992-09-03",7.37]
["1992-09-04",7.29]
["1992-09-07",{"$f":"NA()","v":{"$error":"#N/A"}}]
["1992-09-08",7.23]
["1992-09-09",7.25]
["1992-09-10",7.24]
["1992-09-11",7.3]
["1992-09-14",7.26]
["1992-09-15",7.33]
["1992-09-16",7.35]
["1992-09-17",7.34]
["1992-09-18",7.32]
["1992-09-21",7.35]
["1992-09-22",7.45]
["1992-09-23",7.48]
["1992-09-24",7.42]
["1992-09-25",7.35]
["1992-09-28",7.34]
["1992-09-29",7.36]
["1992-09-30",7.38]
["1992-10-01",7.3]
["1992-10-02",7.33]
["1992-10-05",7.34]
["1992-10-06",7.41]
["1992-10-07",7.48]
["1992-10-08",7.45]
["1992-10-09",7.52]
["1992-10-12",{"$f":"NA()","v":{"$error":"#N/A"}}]
["1992-10-13",7.53]
["1992-10-14",7.5]
["1992-10-15",7.51]
["1992-10-16",7.54]
["1992-10-19",7.57]
["1992-10-20",7.65]
["1992-10-21",7.63]
["1992-10-22",7.61]
["1992-10-23",7.65]
["1992-10-26",7.66]
["1992-10-27",7.62]
["1992-10-28",7.64]
["1992-10-29",7.6]
["1992-10-30",7.63]
["1992-11-02",7.66]
["1992-11-03",7.65]
["1992-11-04",7.69]
["1992-11-05",7.69]
["1992-11-06",7.76]
["1992-11-09",7.75]
["1992-11-10",7.68]
["1992-11-11",{"$f":"NA()","v":{"$error":"#N/A"}}]
["1992-11-12",7.57]
["1992-11-13",7.57]
["1992-11-16",7.56]
["1992-11-17",7.55]
["1992-11-18",7.51]
["1992-11-19",7.54]
["1992-11-20",7.54]
["1992-11-23",7.56]
["1992-11-24",7.53]
["1992-11-25",7.54]
["1992-11-26",{"$f":"NA()","v":{"$error":"#N/A"}}]
["1992-11-27",7.59]
["1992-11-30",7.59]
["1992-12-01",7.57]
["1992-12-02",7.57]
["1992-12-03",7.57]
["1992-12-04",7.5]
["1992-12-07",7.45]
["1992-12-08",7.44]
["1992-12-09",7.44]
["1992-12-10",7.42]
["1992-12-11",7.44]
["1992-12-14",7.45]
["1992-12-15",7.45]
["1992-12-16",7.44]
["1992-12-17",7.43]
["1992-12-18",7.43]
["1992-12-21",7.38]
["1992-12-22",7.34]
["1992-12-23",7.36]
["1992-12-24",7.36]
["1992-12-25",{"$f":"NA()","v":{"$error":"#N/A"}}]
["1992-12-28",7.4]
["1992-12-29",7.37]
["1992-12-30",7.39]
["1992-12-31",7.4]
["1993-01-01",{"$f":"NA()","v":{"$error":"#N/A"}}]
["1993-01-04",7.33]
["1993-01-05",7.33]
["1993-01-06",7.34]
["1993-01-07",7.45]
["1993-01-08",7.47]
["1993-01-11",7.47]
["1993-01-12",7.48]
["1993-01-13",7.45]
["1993-01-14",7.41]
["1993-01-15",7.35]
["1993-01-18",{"$f":"NA()","v":{"$error":"#N/A"}}]
["1993-01-19",7.31]
["1993-01-20",7.32]
["1993-01-21",7.31]
["1993-01-22",7.3]
["1993-01-25",7.22]
["1993-01-26",7.26]
["1993-01-27",7.25]
["1993-01-28",7.23]
["1993-01-29",7.21]
["1993-02-01",7.21]
["1993-02-02",7.25]
["1993-02-03",7.23]
["1993-02-04",7.19]
["1993-02-05",7.17]
["1993-02-08",7.18]
["1993-02-09",7.2]
["1993-02-10",7.26]
["1993-02-11",7.15]
["1993-02-12",7.13]
["1993-02-15",{"$f":"NA()","v":{"$error":"#N/A"}}]
["1993-02-16",7.14]
["1993-02-17",7.11]
["1993-02-18",7.02]
["1993-02-19",7.01]
["1993-02-22",6.95]
["1993-02-23",6.83]
["1993-02-24",6.88]
["1993-02-25",6.89]
["1993-02-26",6.9]
["1993-03-01",6.83]
["1993-03-02",6.84]
["1993-03-03",6.78]
["1993-03-04",6.73]
["1993-03-05",6.76]
["1993-03-08",6.72]
["1993-03-09",6.73]
["1993-03-10",6.75]
["1993-03-11",6.75]
["1993-03-12",6.86]
["1993-03-15",6.91]
["1993-03-16",6.87]
["1993-03-17",6.86]
["1993-03-18",6.8]
["1993-03-19",6.81]
["1993-03-22",6.81]
["1993-03-23",6.77]
["1993-03-24",6.81]
["1993-03-25",6.83]
["1993-03-26",6.94]
["1993-03-29",6.9]
["1993-03-30",6.91]
["1993-03-31",6.93]
["1993-04-01",6.97]
["1993-04-02",7.06]
["1993-04-05",7.04]
["1993-04-06",6.97]
["1993-04-07",6.96]
["1993-04-08",6.85]
["1993-04-09",{"$f":"NA()","v":{"$error":"#N/A"}}]
["1993-04-12",6.79]
["1993-04-13",6.8]
["1993-04-14",6.76]
["1993-04-15",6.73]
["1993-04-16",6.76]
["1993-04-19",6.73]
["1993-04-20",6.76]
["1993-04-21",6.75]
["1993-04-22",6.75]
["1993-04-23",6.79]
["1993-04-26",6.83]
["1993-04-27",6.9]
["1993-04-28",6.91]
["1993-04-29",6.88]
["1993-04-30",6.95]
["1993-05-03",6.86]
["1993-05-04",6.81]
["1993-05-05",6.82]
["1993-05-06",6.8]
["1993-05-07",6.85]
["1993-05-10",6.81]
["1993-05-11",6.82]
["1993-05-12",6.86]
["1993-05-13",6.96]
["1993-05-14",6.95]
["1993-05-17",6.97]
["1993-05-18",7.02]
["1993-05-19",6.98]
["1993-05-20",6.99]
["1993-05-21",7.03]
["1993-05-24",6.99]
["1993-05-25",7.01]
["1993-05-26",6.94]
["1993-05-27",6.93]
["1993-05-28",6.98]
["1993-05-31",{"$f":"NA()","v":{"$error":"#N/A"}}]
["1993-06-01",6.88]
["1993-06-02",6.88]
["1993-06-03",6.86]
["1993-06-04",6.91]
["1993-06-07",6.88]
["1993-06-08",6.91]
["1993-06-09",6.87]
["1993-06-10",6.88]
["1993-06-11",6.8]
["1993-06-14",6.81]
["1993-06-15",6.83]
["1993-06-16",6.82]
["1993-06-17",6.81]
["1993-06-18",6.82]
["1993-06-21",6.78]
["1993-06-22",6.78]
["1993-06-23",6.77]
["1993-06-24",6.74]
["1993-06-25",6.71]
["1993-06-28",6.67]
["1993-06-29",6.67]
["1993-06-30",6.68]
["1993-07-01",6.69]
["1993-07-02",6.67]
["1993-07-05",{"$f":"NA()","v":{"$error":"#N/A"}}]
["1993-07-06",6.68]
["1993-07-07",6.68]
["1993-07-08",6.66]
["1993-07-09",6.64]
["1993-07-12",6.62]
["1993-07-13",6.62]
["1993-07-14",6.56]
["1993-07-15",6.55]
["1993-07-16",6.54]
["1993-07-19",6.54]
["1993-07-20",6.55]
["1993-07-21",6.62]
["1993-07-22",6.65]
["1993-07-23",6.71]
["1993-07-26",6.68]
["1993-07-27",6.68]
["1993-07-28",6.66]
["1993-07-29",6.57]
["1993-07-30",6.57]
["1993-08-02",6.56]
["1993-08-03",6.53]
["1993-08-04",6.54]
["1993-08-05",6.53]
["1993-08-06",6.53]
["1993-08-09",6.47]
["1993-08-10",6.45]
["1993-08-11",6.44]
["1993-08-12",6.37]
["1993-08-13",6.35]
["1993-08-16",6.31]
["1993-08-17",6.31]
["1993-08-18",6.26]
["1993-08-19",6.21]
["1993-08-20",6.22]
["1993-08-23",6.22]
["1993-08-24",6.2]
["1993-08-25",6.18]
["1993-08-26",6.09]
["1993-08-27",6.13]
["1993-08-30",6.12]
["1993-08-31",6.09]
["1993-09-01",6.09]
["1993-09-02",6.04]
["1993-09-03",5.95]
["1993-09-06",{"$f":"NA()","v":{"$error":"#N/A"}}]
["1993-09-07",5.88]
["1993-09-08",5.86]
["1993-09-09",5.96]
["1993-09-10",5.89]
["1993-09-13",5.86]
["1993-09-14",5.97]
["1993-09-15",6]
["1993-09-16",6.01]
["1993-09-17",6.04]
["1993-09-20",6.08]
["1993-09-21",6.14]
["1993-09-22",6.1]
["1993-09-23",6.06]
["1993-09-24",6.06]
["1993-09-27",5.97]
["1993-09-28",5.94]
["1993-09-29",6]
["1993-09-30",6.04]
["1993-10-01",5.98]
["1993-10-04",5.99]
["1993-10-05",6.01]
["1993-10-06",6.01]
["1993-10-07",6.01]
["1993-10-08",5.92]
["1993-10-11",{"$f":"NA()","v":{"$error":"#N/A"}}]
["1993-10-12",5.92]
["1993-10-13",5.92]
["1993-10-14",5.86]
["1993-10-15",5.78]
["1993-10-18",5.85]
["1993-10-19",5.85]
["1993-10-20",5.83]
["1993-10-21",5.92]
["1993-10-22",5.98]
["1993-10-25",6.02]
["1993-10-26",6]
["1993-10-27",6]
["1993-10-28",5.97]
["1993-10-29",5.96]
["1993-11-01",6.02]
["1993-11-02",6.07]
["1993-11-03",6.11]
["1993-11-04",6.19]
["1993-11-05",6.22]
["1993-11-08",6.22]
["1993-11-09",6.16]
["1993-11-10",6.21]
["1993-11-11",{"$f":"NA()","v":{"$error":"#N/A"}}]
["1993-11-12",6.15]
["1993-11-15",6.17]
["1993-11-16",6.17]
["1993-11-17",6.19]
["1993-11-18",6.23]
["1993-11-19",6.34]
["1993-11-22",6.36]
["1993-11-23",6.3]
["1993-11-24",6.31]
["1993-11-25",{"$f":"NA()","v":{"$error":"#N/A"}}]
["1993-11-26",6.26]
["1993-11-29",6.23]
["1993-11-30",6.29]
["1993-12-01",6.28]
["1993-12-02",6.27]
["1993-12-03",6.25]
["1993-12-06",6.17]
["1993-12-07",6.17]
["1993-12-08",6.17]
["1993-12-09",6.15]
["1993-12-10",6.19]
["1993-12-13",6.24]
["1993-12-14",6.29]
["1993-12-15",6.29]
["1993-12-16",6.31]
["1993-12-17",6.29]
["1993-12-20",6.3]
["1993-12-21",6.32]
["1993-12-22",6.22]
["1993-12-23",6.22]
["1993-12-24",{"$f":"NA()","v":{"$error":"#N/A"}}]
["1993-12-27",6.23]
["1993-12-28",6.24]
["1993-12-29",6.25]
["1993-12-30",6.34]
["1993-12-31",6.35]
["1994-01-03",6.41]
["1994-01-04",6.37]
["1994-01-05",6.4]
["1994-01-06",6.36]
["1994-01-07",6.24]
["1994-01-10",6.24]
["1994-01-11",6.25]
["1994-01-12",6.17]
["1994-01-13",6.26]
["1994-01-14",6.3]
["1994-01-17",{"$f":"NA()","v":{"$error":"#N/A"}}]
["1994-01-18",6.28]
["1994-01-19",6.3]
["1994-01-20",6.27]
["1994-01-21",6.29]
["1994-01-24",6.3]
["1994-01-25",6.34]
["1994-01-26",6.33]
["1994-01-27",6.27]
["1994-01-28",6.21]
["1994-01-31",6.23]
["1994-02-01",6.31]
["1994-02-02",6.29]
["1994-02-03",6.31]
["1994-02-04",6.37]
["1994-02-07",6.38]
["1994-02-08",6.44]
["1994-02-09",6.43]
["1994-02-10",6.45]
["1994-02-11",6.41]
["1994-02-14",6.45]
["1994-02-15",6.45]
["1994-02-16",6.46]
["1994-02-17",6.54]
["1994-02-18",6.63]
["1994-02-21",{"$f":"NA()","v":{"$error":"#N/A"}}]
["1994-02-22",6.6]
["1994-02-23",6.65]
["1994-02-24",6.75]
["1994-02-25",6.73]
["1994-02-28",6.67]
["1994-03-01",6.79]
["1994-03-02",6.79]
["1994-03-03",6.84]
["1994-03-04",6.85]
["1994-03-07",6.8]
["1994-03-08",6.85]
["1994-03-09",6.85]
["1994-03-10",6.94]
["1994-03-11",6.91]
["1994-03-14",6.93]
["1994-03-15",6.9]
["1994-03-16",6.82]
["1994-03-17",6.82]
["1994-03-18",6.9]
["1994-03-21",6.94]
["1994-03-22",6.85]
["1994-03-23",6.85]
["1994-03-24",6.98]
["1994-03-25",6.99]
["1994-03-28",6.98]
["1994-03-29",7.06]
["1994-03-30",7.1]
["1994-03-31",7.11]
["1994-04-01",{"$f":"NA()","v":{"$error":"#N/A"}}]
["1994-04-04",7.43]
["1994-04-05",7.28]
["1994-04-06",7.25]
["1994-04-07",7.21]
["1994-04-08",7.26]
["1994-04-11",7.24]
["1994-04-12",7.2]
["1994-04-13",7.26]
["1994-04-14",7.29]
["1994-04-15",7.29]
["1994-04-18",7.41]
["1994-04-19",7.37]
["1994-04-20",7.33]
["1994-04-21",7.22]
["1994-04-22",7.21]
["1994-04-25",7.14]
["1994-04-26",7.12]
["1994-04-27",{"$f":"NA()","v":{"$error":"#N/A"}}]
["1994-04-28",7.29]
["1994-04-29",7.31]
["1994-05-02",7.33]
["1994-05-03",7.35]
["1994-05-04",7.35]
["1994-05-05",7.33]
["1994-05-06",7.53]
["1994-05-09",7.63]
["1994-05-10",7.5]
["1994-05-11",7.6]
["1994-05-12",7.57]
["1994-05-13",7.5]
["1994-05-16",7.46]
["1994-05-17",7.27]
["1994-05-18",7.27]
["1994-05-19",7.24]
["1994-05-20",7.3]
["1994-05-23",7.44]
["1994-05-24",7.41]
["1994-05-25",7.37]
["1994-05-26",7.37]
["1994-05-27",7.4]
["1994-05-30",{"$f":"NA()","v":{"$error":"#N/A"}}]
["1994-05-31",7.44]
["1994-06-01",7.39]
["1994-06-02",7.35]
["1994-06-03",7.26]
["1994-06-06",7.21]
["1994-06-07",7.26]
["1994-06-08",7.28]
["1994-06-09",7.28]
["1994-06-10",7.32]
["1994-06-13",7.36]
["1994-06-14",7.31]
["1994-06-15",7.41]
["1994-06-16",7.38]
["1994-06-17",7.45]
["1994-06-20",7.46]
["1994-06-21",7.51]
["1994-06-22",7.41]
["1994-06-23",7.4]
["1994-06-24",7.52]
["1994-06-27",7.46]
["1994-06-28",7.53]
["1994-06-29",7.51]
["1994-06-30",7.63]
["1994-07-01",7.62]
["1994-07-04",{"$f":"NA()","v":{"$error":"#N/A"}}]
["1994-07-05",7.6]
["1994-07-06",7.61]
["1994-07-07",7.6]
["1994-07-08",7.7]
["1994-07-11",7.73]
["1994-07-12",7.69]
["1994-07-13",7.68]
["1994-07-14",7.54]
["1994-07-15",7.55]
["1994-07-18",7.51]
["1994-07-19",7.47]
["1994-07-20",7.55]
["1994-07-21",7.55]
["1994-07-22",7.56]
["1994-07-25",7.53]
["1994-07-26",7.55]
["1994-07-27",7.6]
["1994-07-28",7.55]
["1994-07-29",7.39]
["1994-08-01",7.41]
["1994-08-02",7.4]
["1994-08-03",7.38]
["1994-08-04",7.4]
["1994-08-05",7.54]
["1994-08-08",7.53]
["1994-08-09",7.57]
["1994-08-10",7.58]
["1994-08-11",7.56]
["1994-08-12",7.48]
["1994-08-15",7.51]
["1994-08-16",7.39]
["1994-08-17",7.39]
["1994-08-18",7.5]
["1994-08-19",7.5]
["1994-08-22",7.56]
["1994-08-23",7.54]
["1994-08-24",7.47]
["1994-08-25",7.55]
["1994-08-26",7.49]
["1994-08-29",7.5]
["1994-08-30",7.47]
["1994-08-31",7.46]
["1994-09-01",7.46]
["1994-09-02",7.5]
["1994-09-05",{"$f":"NA()","v":{"$error":"#N/A"}}]
["1994-09-06",7.55]
["1994-09-07",7.58]
["1994-09-08",7.58]
["1994-09-09",7.71]
["1994-09-12",7.72]
["1994-09-13",7.7]
["1994-09-14",7.68]
["1994-09-15",7.64]
["1994-09-16",7.78]
["1994-09-19",7.75]
["1994-09-20",7.78]
["1994-09-21",7.8]
["1994-09-22",7.79]
["1994-09-23",7.8]
["1994-09-26",7.8]
["1994-09-27",7.85]
["1994-09-28",7.81]
["1994-09-29",7.86]
["1994-09-30",7.82]
["1994-10-03",7.86]
["1994-10-04",7.89]
["1994-10-05",7.95]
["1994-10-06",7.95]
["1994-10-07",7.91]
["1994-10-10",{"$f":"NA()","v":{"$error":"#N/A"}}]
["1994-10-11",7.86]
["1994-10-12",7.89]
["1994-10-13",7.84]
["1994-10-14",7.83]
["1994-10-17",7.83]
["1994-10-18",7.86]
["1994-10-19",7.9]
["1994-10-20",8]
["1994-10-21",7.99]
["1994-10-24",8.0399999999999991]
["1994-10-25",8.06]
["1994-10-26",8.06]
["1994-10-27",8.0500000000000007]
["1994-10-28",7.96]
["1994-10-31",7.97]
["1994-11-01",8.06]
["1994-11-02",8.09]
["1994-11-03",8.11]
["1994-11-04",8.16]
["1994-11-07",8.16]
["1994-11-08",8.1199999999999992]
["1994-11-09",8.09]
["1994-11-10",8.15]
["1994-11-11",{"$f":"NA()","v":{"$error":"#N/A"}}]
["1994-11-14",8.09]
["1994-11-15",8.0500000000000007]
["1994-11-16",8.09]
["1994-11-17",8.14]
["1994-11-18",8.14]
["1994-11-21",8.14]
["1994-11-22",8.11]
["1994-11-23",7.96]
["1994-11-24",{"$f":"NA()","v":{"$error":"#N/A"}}]
["1994-11-25",7.94]
["1994-11-28",7.99]
["1994-11-29",8.0500000000000007]
["1994-11-30",7.99]
["1994-12-01",8.02]
["1994-12-02",7.92]
["1994-12-05",7.94]
["1994-12-06",7.84]
["1994-12-07",7.9]
["1994-12-08",7.88]
["1994-12-09",7.86]
["1994-12-12",7.92]
["1994-12-13",7.86]
["1994-12-14",7.86]
["1994-12-15",7.86]
["1994-12-16",7.86]
["1994-12-19",7.84]
["1994-12-20",7.85]
["1994-12-21",7.84]
["1994-12-22",7.87]
["1994-12-23",7.85]
["1994-12-26",{"$f":"NA()","v":{"$error":"#N/A"}}]
["1994-12-27",7.76]
["1994-12-28",7.83]
["1994-12-29",7.85]
["1994-12-30",7.89]
["1995-01-02",{"$f":"NA()","v":{"$error":"#N/A"}}]
["1995-01-03",7.93]
["1995-01-04",7.85]
["1995-01-05",7.91]
["1995-01-06",7.87]
["1995-01-09",7.9]
["1995-01-10",7.87]
["1995-01-11",7.85]
["1995-01-12",7.88]
["1995-01-13",7.8]
["1995-01-16",{"$f":"NA()","v":{"$error":"#N/A"}}]
["1995-01-17",7.78]
["1995-01-18",7.78]
["1995-01-19",7.82]
["1995-01-20",7.9]
["1995-01-23",7.91]
["1995-01-24",7.93]
["1995-01-25",7.88]
["1995-01-26",7.85]
["1995-01-27",7.75]
["1995-01-30",7.76]
["1995-01-31",7.71]
["1995-02-01",7.75]
["1995-02-02",7.76]
["1995-02-03",7.61]
["1995-02-06",7.64]
["1995-02-07",7.65]
["1995-02-08",7.66]
["1995-02-09",7.65]
["1995-02-10",7.68]
["1995-02-13",7.67]
["1995-02-14",7.61]
["1995-02-15",7.58]
["1995-02-16",7.57]
["1995-02-17",7.59]
["1995-02-20",{"$f":"NA()","v":{"$error":"#N/A"}}]
["1995-02-21",7.61]
["1995-02-22",7.54]
["1995-02-23",7.56]
["1995-02-24",7.54]
["1995-02-27",7.49]
["1995-02-28",7.46]
["1995-03-01",7.45]
["1995-03-02",7.5]
["1995-03-03",7.56]
["1995-03-06",7.59]
["1995-03-07",7.64]
["1995-03-08",7.56]
["1995-03-09",7.53]
["1995-03-10",7.46]
["1995-03-13",7.45]
["1995-03-14",7.35]
["1995-03-15",7.36]
["1995-03-16",7.33]
["1995-03-17",7.37]
["1995-03-20",7.4]
["1995-03-21",7.43]
["1995-03-22",7.46]
["1995-03-23",7.47]
["1995-03-24",7.38]
["1995-03-27",7.33]
["1995-03-28",7.41]
["1995-03-29",7.4]
["1995-03-30",7.43]
["1995-03-31",7.44]
["1995-04-03",7.39]
["1995-04-04",7.38]
["1995-04-05",7.38]
["1995-04-06",7.36]
["1995-04-07",7.39]
["1995-04-10",7.39]
["1995-04-11",7.37]
["1995-04-12",7.36]
["1995-04-13",7.34]
["1995-04-14",{"$f":"NA()","v":{"$error":"#N/A"}}]
["1995-04-17",7.39]
["1995-04-18",7.4]
["1995-04-19",7.37]
["1995-04-20",7.35]
["1995-04-21",7.34]
["1995-04-24",7.32]
["1995-04-25",7.33]
["1995-04-26",7.32]
["1995-04-27",7.33]
["1995-04-28",7.34]
["1995-05-01",7.35]
["1995-05-02",7.33]
["1995-05-03",7.25]
["1995-05-04",7.15]
["1995-05-05",7.02]
["1995-05-08",7.02]
["1995-05-09",6.94]
["1995-05-10",6.97]
["1995-05-11",6.99]
["1995-05-12",7]
["1995-05-15",6.95]
["1995-05-16",6.87]
["1995-05-17",6.86]
["1995-05-18",6.91]
["1995-05-19",6.91]
["1995-05-22",6.92]
["1995-05-23",6.87]
["1995-05-24",6.77]
["1995-05-25",6.73]
["1995-05-26",6.75]
["1995-05-29",{"$f":"NA()","v":{"$error":"#N/A"}}]
["1995-05-30",6.67]
["1995-05-31",6.67]
["1995-06-01",6.61]
["1995-06-02",6.52]
["1995-06-05",6.51]
["1995-06-06",6.51]
["1995-06-07",6.53]
["1995-06-08",6.57]
["1995-06-09",6.72]
["1995-06-12",6.71]
["1995-06-13",6.56]
["1995-06-14",6.57]
["1995-06-15",6.61]
["1995-06-16",6.62]
["1995-06-19",6.56]
["1995-06-20",6.57]
["1995-06-21",6.55]
["1995-06-22",6.48]
["1995-06-23",6.51]
["1995-06-26",6.54]
["1995-06-27",6.56]
["1995-06-28",6.52]
["1995-06-29",6.65]
["1995-06-30",6.63]
["1995-07-03",6.63]
["1995-07-04",{"$f":"NA()","v":{"$error":"#N/A"}}]
["1995-07-05",6.61]
["1995-07-06",6.51]
["1995-07-07",6.52]
["1995-07-10",6.51]
["1995-07-11",6.57]
["1995-07-12",6.55]
["1995-07-13",6.55]
["1995-07-14",6.6]
["1995-07-17",6.67]
["1995-07-18",6.73]
["1995-07-19",6.89]
["1995-07-20",6.87]
["1995-07-21",6.96]
["1995-07-24",6.9]
["1995-07-25",6.84]
["1995-07-26",6.9]
["1995-07-27",6.84]
["1995-07-28",6.91]
["1995-07-31",6.86]
["1995-08-01",6.92]
["1995-08-02",6.86]
["1995-08-03",6.93]
["1995-08-04",6.9]
["1995-08-07",6.89]
["1995-08-08",6.89]
["1995-08-09",6.93]
["1995-08-10",6.9]
["1995-08-11",6.98]
["1995-08-14",6.96]
["1995-08-15",6.92]
["1995-08-16",6.89]
["1995-08-17",6.9]
["1995-08-18",6.91]
["1995-08-21",6.87]
["1995-08-22",6.89]
["1995-08-23",6.92]
["1995-08-24",6.84]
["1995-08-25",6.72]
["1995-08-28",6.7]
["1995-08-29",6.72]
["1995-08-30",6.7]
["1995-08-31",6.65]
["1995-09-01",6.61]
["1995-09-04",{"$f":"NA()","v":{"$error":"#N/A"}}]
["1995-09-05",6.57]
["1995-09-06",6.57]
["1995-09-07",6.6]
["1995-09-08",6.6]
["1995-09-11",6.6]
["1995-09-12",6.51]
["1995-09-13",6.52]
["1995-09-14",6.45]
["1995-09-15",6.47]
["1995-09-18",6.53]
["1995-09-19",6.49]
["1995-09-20",6.46]
["1995-09-21",6.56]
["1995-09-22",6.59]
["1995-09-25",6.58]
["1995-09-26",6.58]
["1995-09-27",6.61]
["1995-09-28",6.59]
["1995-09-29",6.49]
["1995-10-02",6.48]
["1995-10-03",6.46]
["1995-10-04",6.44]
["1995-10-05",6.43]
["1995-10-06",6.43]
["1995-10-09",{"$f":"NA()","v":{"$error":"#N/A"}}]
["1995-10-10",6.43]
["1995-10-11",6.44]
["1995-10-12",6.41]
["1995-10-13",6.3]
["1995-10-16",6.32]
["1995-10-17",6.3]
["1995-10-18",6.32]
["1995-10-19",6.31]
["1995-10-20",6.35]
["1995-10-23",6.38]
["1995-10-24",6.33]
["1995-10-25",6.32]
["1995-10-26",6.38]
["1995-10-27",6.35]
["1995-10-30",6.35]
["1995-10-31",6.34]
["1995-11-01",6.29]
["1995-11-02",6.25]
["1995-11-03",6.28]
["1995-11-06",6.29]
["1995-11-07",6.31]
["1995-11-08",6.25]
["1995-11-09",6.29]
["1995-11-10",6.33]
["1995-11-13",6.28]
["1995-11-14",6.3]
["1995-11-15",6.3]
["1995-11-16",6.24]
["1995-11-17",6.23]
["1995-11-20",6.25]
["1995-11-21",6.27]
["1995-11-22",6.28]
["1995-11-23",{"$f":"NA()","v":{"$error":"#N/A"}}]
["1995-11-24",6.25]
["1995-11-27",6.23]
["1995-11-28",6.24]
["1995-11-29",6.22]
["1995-11-30",6.14]
["1995-12-01",6.1]
["1995-12-04",6.01]
["1995-12-05",6.04]
["1995-12-06",6.03]
["1995-12-07",6.07]
["1995-12-08",6.06]
["1995-12-11",6.04]
["1995-12-12",6.05]
["1995-12-13",6.07]
["1995-12-14",6.08]
["1995-12-15",6.09]
["1995-12-18",6.2]
["1995-12-19",6.14]
["1995-12-20",6.11]
["1995-12-21",6.11]
["1995-12-22",6.06]
["1995-12-25",{"$f":"NA()","v":{"$error":"#N/A"}}]
["1995-12-26",6.04]
["1995-12-27",6.01]
["1995-12-28",5.98]
["1995-12-29",5.96]
["1996-01-01",{"$f":"NA()","v":{"$error":"#N/A"}}]
["1996-01-02",5.97]
["1996-01-03",5.96]
["1996-01-04",6.03]
["1996-01-05",6.05]
["1996-01-08",6.04]
["1996-01-09",6.06]
["1996-01-10",6.16]
["1996-01-11",6.16]
["1996-01-12",6.16]
["1996-01-15",{"$f":"NA()","v":{"$error":"#N/A"}}]
["1996-01-16",6.09]
["1996-01-17",6]
["1996-01-18",5.98]
["1996-01-19",5.97]
["1996-01-22",6.04]
["1996-01-23",6.09]
["1996-01-24",6.02]
["1996-01-25",6.11]
["1996-01-26",6.04]
["1996-01-29",6.09]
["1996-01-30",6.04]
["1996-01-31",6.03]
["1996-02-01",6.08]
["1996-02-02",6.15]
["1996-02-05",6.15]
["1996-02-06",6.14]
["1996-02-07",6.15]
["1996-02-08",6.09]
["1996-02-09",6.11]
["1996-02-12",6.05]
["1996-02-13",6.02]
["1996-02-14",6.07]
["1996-02-15",6.16]
["1996-02-16",6.23]
["1996-02-19",{"$f":"NA()","v":{"$error":"#N/A"}}]
["1996-02-20",6.39]
["1996-02-21",6.39]
["1996-02-22",6.36]
["1996-02-23",6.42]
["1996-02-26",6.45]
["1996-02-27",6.47]
["1996-02-28",6.48]
["1996-02-29",6.48]
["1996-03-01",6.38]
["1996-03-04",6.34]
["1996-03-05",6.39]
["1996-03-06",6.44]
["1996-03-07",6.46]
["1996-03-08",6.7]
["1996-03-11",6.63]
["1996-03-12",6.66]
["1996-03-13",6.68]
["1996-03-14",6.68]
["1996-03-15",6.75]
["1996-03-18",6.71]
["1996-03-19",6.7]
["1996-03-20",6.65]
["1996-03-21",6.62]
["1996-03-22",6.65]
["1996-03-25",6.58]
["1996-03-26",6.59]
["1996-03-27",6.68]
["1996-03-28",6.73]
["1996-03-29",6.67]
["1996-04-01",6.66]
["1996-04-02",6.62]
["1996-04-03",6.63]
["1996-04-04",6.66]
["1996-04-05",6.83]
["1996-04-08",6.88]
["1996-04-09",6.84]
["1996-04-10",6.91]
["1996-04-11",6.95]
["1996-04-12",6.81]
["1996-04-15",6.79]
["1996-04-16",6.78]
["1996-04-17",6.81]
["1996-04-18",6.84]
["1996-04-19",6.8]
["1996-04-22",6.75]
["1996-04-23",6.78]
["1996-04-24",6.81]
["1996-04-25",6.81]
["1996-04-26",6.79]
["1996-04-29",6.83]
["1996-04-30",6.89]
["1996-05-01",6.91]
["1996-05-02",7.05]
["1996-05-03",7.12]
["1996-05-06",7.07]
["1996-05-07",7.08]
["1996-05-08",7]
["1996-05-09",7.02]
["1996-05-10",6.93]
["1996-05-13",6.9]
["1996-05-14",6.85]
["1996-05-15",6.84]
["1996-05-16",6.9]
["1996-05-17",6.84]
["1996-05-20",6.82]
["1996-05-21",6.85]
["1996-05-22",6.81]
["1996-05-23",6.87]
["1996-05-24",6.84]
["1996-05-27",{"$f":"NA()","v":{"$error":"#N/A"}}]
["1996-05-28",6.85]
["1996-05-29",6.94]
["1996-05-30",6.92]
["1996-05-31",7]
["1996-06-03",7.01]
["1996-06-04",7]
["1996-06-05",6.96]
["1996-06-06",6.91]
["1996-06-07",7.05]
["1996-06-10",7.1]
["1996-06-11",7.13]
["1996-06-12",7.18]
["1996-06-13",7.15]
["1996-06-14",7.1]
["1996-06-17",7.06]
["1996-06-18",7.09]
["1996-06-19",7.12]
["1996-06-20",7.12]
["1996-06-21",7.11]
["1996-06-24",7.09]
["1996-06-25",7.06]
["1996-06-26",7.05]
["1996-06-27",6.99]
["1996-06-28",6.9]
["1996-07-01",6.91]
["1996-07-02",6.94]
["1996-07-03",6.94]
["1996-07-04",{"$f":"NA()","v":{"$error":"#N/A"}}]
["1996-07-05",7.19]
["1996-07-08",7.19]
["1996-07-09",7.15]
["1996-07-10",7.1]
["1996-07-11",7.07]
["1996-07-12",7.03]
["1996-07-15",7.07]
["1996-07-16",7.03]
["1996-07-17",7.02]
["1996-07-18",6.92]
["1996-07-19",6.97]
["1996-07-22",7.01]
["1996-07-23",6.97]
["1996-07-24",7.04]
["1996-07-25",7.04]
["1996-07-26",7.02]
["1996-07-29",7.09]
["1996-07-30",7.05]
["1996-07-31",6.98]
["1996-08-01",6.84]
["1996-08-02",6.74]
["1996-08-05",6.75]
["1996-08-06",6.76]
["1996-08-07",6.78]
["1996-08-08",6.76]
["1996-08-09",6.7]
["1996-08-12",6.7]
["1996-08-13",6.78]
["1996-08-14",6.78]
["1996-08-15",6.82]
["1996-08-16",6.77]
["1996-08-19",6.8]
["1996-08-20",6.8]
["1996-08-21",6.83]
["1996-08-22",6.84]
["1996-08-23",6.93]
["1996-08-26",7]
["1996-08-27",6.97]
["1996-08-28",6.99]
["1996-08-29",7.05]
["1996-08-30",7.13]
["1996-09-02",{"$f":"NA()","v":{"$error":"#N/A"}}]
["1996-09-03",7.07]
["1996-09-04",7.1]
["1996-09-05",7.15]
["1996-09-06",7.12]
["1996-09-09",7.08]
["1996-09-10",7.13]
["1996-09-11",7.12]
["1996-09-12",7.08]
["1996-09-13",6.95]
["1996-09-16",6.95]
["1996-09-17",7]
["1996-09-18",7.02]
["1996-09-19",7.05]
["1996-09-20",7.04]
["1996-09-23",7.02]
["1996-09-24",6.99]
["1996-09-25",6.93]
["1996-09-26",6.88]
["1996-09-27",6.91]
["1996-09-30",6.93]
["1996-10-01",6.88]
["1996-10-02",6.84]
["1996-10-03",6.84]
["1996-10-04",6.74]
["1996-10-07",6.78]
["1996-10-08",6.79]
["1996-10-09",6.83]
["1996-10-10",6.89]
["1996-10-11",6.84]
["1996-10-14",{"$f":"NA()","v":{"$error":"#N/A"}}]
["1996-10-15",6.85]
["1996-10-16",6.86]
["1996-10-17",6.81]
["1996-10-18",6.79]
["1996-10-21",6.81]
["1996-10-22",6.85]
["1996-10-23",6.84]
["1996-10-24",6.85]
["1996-10-25",6.82]
["1996-10-28",6.83]
["1996-10-29",6.7]
["1996-10-30",6.69]
["1996-10-31",6.66]
["1996-11-01",6.68]
["1996-11-04",6.67]
["1996-11-05",6.6]
["1996-11-06",6.61]
["1996-11-07",6.48]
["1996-11-08",6.51]
["1996-11-11",{"$f":"NA()","v":{"$error":"#N/A"}}]
["1996-11-12",6.44]
["1996-11-13",6.46]
["1996-11-14",6.42]
["1996-11-15",6.46]
["1996-11-18",6.46]
["1996-11-19",6.44]
["1996-11-20",6.41]
["1996-11-21",6.42]
["1996-11-22",6.44]
["1996-11-25",6.42]
["1996-11-26",6.43]
["1996-11-27",6.44]
["1996-11-28",{"$f":"NA()","v":{"$error":"#N/A"}}]
["1996-11-29",6.36]
["1996-12-02",6.36]
["1996-12-03",6.35]
["1996-12-04",6.4]
["1996-12-05",6.5]
["1996-12-06",6.53]
["1996-12-09",6.48]
["1996-12-10",6.49]
["1996-12-11",6.61]
["1996-12-12",6.64]
["1996-12-13",6.58]
["1996-12-16",6.63]
["1996-12-17",6.66]
["1996-12-18",6.69]
["1996-12-19",6.6]
["1996-12-20",6.59]
["1996-12-23",6.58]
["1996-12-24",6.59]
["1996-12-25",{"$f":"NA()","v":{"$error":"#N/A"}}]
["1996-12-26",6.59]
["1996-12-27",6.54]
["1996-12-30",6.54]
["1996-12-31",6.65]
["1997-01-01",{"$f":"NA()","v":{"$error":"#N/A"}}]
["1997-01-02",6.75]
["1997-01-03",6.74]
["1997-01-06",6.77]
["1997-01-07",6.8]
["1997-01-08",6.83]
["1997-01-09",6.76]
["1997-01-10",6.86]
["1997-01-13",6.85]
["1997-01-14",6.77]
["1997-01-15",6.79]
["1997-01-16",6.83]
["1997-01-17",6.83]
["1997-01-20",{"$f":"NA()","v":{"$error":"#N/A"}}]
["1997-01-21",6.78]
["1997-01-22",6.83]
["1997-01-23",6.85]
["1997-01-24",6.89]
["1997-01-27",6.94]
["1997-01-28",6.91]
["1997-01-29",6.9]
["1997-01-30",6.88]
["1997-01-31",6.8]
["1997-02-03",6.74]
["1997-02-04",6.72]
["1997-02-05",6.75]
["1997-02-06",6.76]
["1997-02-07",6.72]
["1997-02-10",6.71]
["1997-02-11",6.71]
["1997-02-12",6.72]
["1997-02-13",6.58]
["1997-02-14",6.53]
["1997-02-17",{"$f":"NA()","v":{"$error":"#N/A"}}]
["1997-02-18",6.55]
["1997-02-19",6.57]
["1997-02-20",6.64]
["1997-02-21",6.63]
["1997-02-24",6.66]
["1997-02-25",6.66]
["1997-02-26",6.8]
["1997-02-27",6.82]
["1997-02-28",6.8]
["1997-03-03",6.83]
["1997-03-04",6.86]
["1997-03-05",6.85]
["1997-03-06",6.89]
["1997-03-07",6.83]
["1997-03-10",6.83]
["1997-03-11",6.84]
["1997-03-12",6.87]
["1997-03-13",6.98]
["1997-03-14",6.95]
["1997-03-17",6.96]
["1997-03-18",6.96]
["1997-03-19",6.99]
["1997-03-20",6.97]
["1997-03-21",6.96]
["1997-03-24",6.94]
["1997-03-25",6.95]
["1997-03-26",7]
["1997-03-27",7.09]
["1997-03-28",{"$f":"NA()","v":{"$error":"#N/A"}}]
["1997-03-31",7.1]
["1997-04-01",7.09]
["1997-04-02",7.08]
["1997-04-03",7.08]
["1997-04-04",7.14]
["1997-04-07",7.08]
["1997-04-08",7.11]
["1997-04-09",7.11]
["1997-04-10",7.11]
["1997-04-11",7.17]
["1997-04-14",7.17]
["1997-04-15",7.1]
["1997-04-16",7.11]
["1997-04-17",7.07]
["1997-04-18",7.06]
["1997-04-21",7.09]
["1997-04-22",7.05]
["1997-04-23",7.09]
["1997-04-24",7.13]
["1997-04-25",7.14]
["1997-04-28",7.12]
["1997-04-29",6.99]
["1997-04-30",6.95]
["1997-05-01",6.93]
["1997-05-02",6.9]
["1997-05-05",6.9]
["1997-05-06",6.89]
["1997-05-07",6.96]
["1997-05-08",6.92]
["1997-05-09",6.89]
["1997-05-12",6.88]
["1997-05-13",6.92]
["1997-05-14",6.9]
["1997-05-15",6.88]
["1997-05-16",6.91]
["1997-05-19",6.92]
["1997-05-20",6.92]
["1997-05-21",6.97]
["1997-05-22",7]
["1997-05-23",6.99]
["1997-05-26",{"$f":"NA()","v":{"$error":"#N/A"}}]
["1997-05-27",7.03]
["1997-05-28",7.03]
["1997-05-29",6.99]
["1997-05-30",6.92]
["1997-06-02",6.9]
["1997-06-03",6.88]
["1997-06-04",6.88]
["1997-06-05",6.88]
["1997-06-06",6.78]
["1997-06-09",6.83]
["1997-06-10",6.84]
["1997-06-11",6.83]
["1997-06-12",6.77]
["1997-06-13",6.73]
["1997-06-16",6.7]
["1997-06-17",6.72]
["1997-06-18",6.69]
["1997-06-19",6.68]
["1997-06-20",6.65]
["1997-06-23",6.69]
["1997-06-24",6.7]
["1997-06-25",6.74]
["1997-06-26",6.78]
["1997-06-27",6.75]
["1997-06-30",6.8]
["1997-07-01",6.74]
["1997-07-02",6.72]
["1997-07-03",6.63]
["1997-07-04",{"$f":"NA()","v":{"$error":"#N/A"}}]
["1997-07-07",6.58]
["1997-07-08",6.59]
["1997-07-09",6.56]
["1997-07-10",6.56]
["1997-07-11",6.53]
["1997-07-14",6.55]
["1997-07-15",6.55]
["1997-07-16",6.48]
["1997-07-17",6.49]
["1997-07-18",6.52]
["1997-07-21",6.55]
["1997-07-22",6.43]
["1997-07-23",6.42]
["1997-07-24",6.43]
["1997-07-25",6.45]
["1997-07-28",6.43]
["1997-07-29",6.38]
["1997-07-30",6.33]
["1997-07-31",6.3]
["1997-08-01",6.46]
["1997-08-04",6.48]
["1997-08-05",6.49]
["1997-08-06",6.48]
["1997-08-07",6.51]
["1997-08-08",6.64]
["1997-08-11",6.64]
["1997-08-12",6.66]
["1997-08-13",6.64]
["1997-08-14",6.56]
["1997-08-15",6.57]
["1997-08-18",6.53]
["1997-08-19",6.51]
["1997-08-20",6.54]
["1997-08-21",6.6]
["1997-08-22",6.67]
["1997-08-25",6.67]
["1997-08-26",6.66]
["1997-08-27",6.66]
["1997-08-28",6.57]
["1997-08-29",6.61]
["1997-09-01",{"$f":"NA()","v":{"$error":"#N/A"}}]
["1997-09-02",6.58]
["1997-09-03",6.6]
["1997-09-04",6.61]
["1997-09-05",6.65]
["1997-09-08",6.62]
["1997-09-09",6.63]
["1997-09-10",6.66]
["1997-09-11",6.68]
["1997-09-12",6.59]
["1997-09-15",6.58]
["1997-09-16",6.41]
["1997-09-17",6.39]
["1997-09-18",6.4]
["1997-09-19",6.38]
["1997-09-22",6.35]
["1997-09-23",6.38]
["1997-09-24",6.32]
["1997-09-25",6.4]
["1997-09-26",6.37]
["1997-09-29",6.39]
["1997-09-30",6.41]
["1997-10-01",6.33]
["1997-10-02",6.31]
["1997-10-03",6.3]
["1997-10-06",6.27]
["1997-10-07",6.24]
["1997-10-08",6.37]
["1997-10-09",6.38]
["1997-10-10",6.44]
["1997-10-13",{"$f":"NA()","v":{"$error":"#N/A"}}]
["1997-10-14",6.36]
["1997-10-15",6.39]
["1997-10-16",6.39]
["1997-10-17",6.44]
["1997-10-20",6.42]
["1997-10-21",6.42]
["1997-10-22",6.41]
["1997-10-23",6.33]
["1997-10-24",6.3]
["1997-10-27",6.24]
["1997-10-28",6.29]
["1997-10-29",6.23]
["1997-10-30",6.17]
["1997-10-31",6.15]
["1997-11-03",6.21]
["1997-11-04",6.25]
["1997-11-05",6.24]
["1997-11-06",6.15]
["1997-11-07",6.14]
["1997-11-10",6.15]
["1997-11-11",{"$f":"NA()","v":{"$error":"#N/A"}}]
["1997-11-12",6.13]
["1997-11-13",6.11]
["1997-11-14",6.09]
["1997-11-17",6.07]
["1997-11-18",6.07]
["1997-11-19",6.03]
["1997-11-20",6.05]
["1997-11-21",6.04]
["1997-11-24",6.08]
["1997-11-25",6.06]
["1997-11-26",6.06]
["1997-11-27",{"$f":"NA()","v":{"$error":"#N/A"}}]
["1997-11-28",6.04]
["1997-12-01",6.04]
["1997-12-02",6.03]
["1997-12-03",6.02]
["1997-12-04",6.04]
["1997-12-05",6.09]
["1997-12-08",6.14]
["1997-12-09",6.14]
["1997-12-10",6.1]
["1997-12-11",6.02]
["1997-12-12",5.94]
["1997-12-15",5.97]
["1997-12-16",5.96]
["1997-12-17",5.99]
["1997-12-18",5.94]
["1997-12-19",5.92]
["1997-12-22",5.89]
["1997-12-23",5.9]
["1997-12-24",5.91]
["1997-12-25",{"$f":"NA()","v":{"$error":"#N/A"}}]
["1997-12-26",5.9]
["1997-12-29",5.93]
["1997-12-30",5.98]
["1997-12-31",5.93]
["1998-01-01",{"$f":"NA()","v":{"$error":"#N/A"}}]
["1998-01-02",5.86]
["1998-01-05",5.74]
["1998-01-06",5.73]
["1998-01-07",5.8]
["1998-01-08",5.75]
["1998-01-09",5.71]
["1998-01-12",5.7]
["1998-01-13",5.71]
["1998-01-14",5.74]
["1998-01-15",5.74]
["1998-01-16",5.81]
["1998-01-19",{"$f":"NA()","v":{"$error":"#N/A"}}]
["1998-01-20",5.83]
["1998-01-21",5.81]
["1998-01-22",5.85]
["1998-01-23",5.98]
["1998-01-26",5.9]
["1998-01-27",5.95]
["1998-01-28",5.94]
["1998-01-29",5.85]
["1998-01-30",5.82]
["1998-02-02",5.87]
["1998-02-03",5.86]
["1998-02-04",5.87]
["1998-02-05",5.92]
["1998-02-06",5.92]
["1998-02-09",5.94]
["1998-02-10",5.93]
["1998-02-11",5.86]
["1998-02-12",5.87]
["1998-02-13",5.85]
["1998-02-16",{"$f":"NA()","v":{"$error":"#N/A"}}]
["1998-02-17",5.8]
["1998-02-18",5.84]
["1998-02-19",5.85]
["1998-02-20",5.87]
["1998-02-23",5.91]
["1998-02-24",5.97]
["1998-02-25",5.93]
["1998-02-26",5.95]
["1998-02-27",5.92]
["1998-03-02",6.03]
["1998-03-03",6.07]
["1998-03-04",6.05]
["1998-03-05",6.07]
["1998-03-06",6.02]
["1998-03-09",5.97]
["1998-03-10",5.97]
["1998-03-11",5.93]
["1998-03-12",5.87]
["1998-03-13",5.89]
["1998-03-16",5.86]
["1998-03-17",5.89]
["1998-03-18",5.91]
["1998-03-19",5.9]
["1998-03-20",5.89]
["1998-03-23",5.88]
["1998-03-24",5.88]
["1998-03-25",5.94]
["1998-03-26",5.96]
["1998-03-27",5.96]
["1998-03-30",5.98]
["1998-03-31",5.94]
["1998-04-01",5.9]
["1998-04-02",5.85]
["1998-04-03",5.78]
["1998-04-06",5.82]
["1998-04-07",5.84]
["1998-04-08",5.9]
["1998-04-09",5.88]
["1998-04-10",{"$f":"NA()","v":{"$error":"#N/A"}}]
["1998-04-13",5.94]
["1998-04-14",5.91]
["1998-04-15",5.89]
["1998-04-16",5.87]
["1998-04-17",5.88]
["1998-04-20",5.92]
["1998-04-21",5.96]
["1998-04-22",5.96]
["1998-04-23",5.98]
["1998-04-24",5.95]
["1998-04-27",6.07]
["1998-04-28",6.07]
["1998-04-29",6.08]
["1998-04-30",5.95]
["1998-05-01",5.94]
["1998-05-04",5.94]
["1998-05-05",5.98]
["1998-05-06",5.94]
["1998-05-07",5.95]
["1998-05-08",5.98]
["1998-05-11",6.04]
["1998-05-12",5.96]
["1998-05-13",5.95]
["1998-05-14",5.98]
["1998-05-15",5.97]
["1998-05-18",5.92]
["1998-05-19",5.94]
["1998-05-20",5.89]
["1998-05-21",5.93]
["1998-05-22",5.9]
["1998-05-25",{"$f":"NA()","v":{"$error":"#N/A"}}]
["1998-05-26",5.85]
["1998-05-27",5.83]
["1998-05-28",5.83]
["1998-05-29",5.81]
["1998-06-01",5.78]
["1998-06-02",5.8]
["1998-06-03",5.8]
["1998-06-04",5.82]
["1998-06-05",5.79]
["1998-06-08",5.79]
["1998-06-09",5.79]
["1998-06-10",5.7]
["1998-06-11",5.65]
["1998-06-12",5.66]
["1998-06-15",5.61]
["1998-06-16",5.65]
["1998-06-17",5.74]
["1998-06-18",5.7]
["1998-06-19",5.67]
["1998-06-22",5.66]
["1998-06-23",5.64]
["1998-06-24",5.66]
["1998-06-25",5.66]
["1998-06-26",5.64]
["1998-06-29",5.65]
["1998-06-30",5.62]
["1998-07-01",5.63]
["1998-07-02",5.6]
["1998-07-03",{"$f":"NA()","v":{"$error":"#N/A"}}]
["1998-07-06",5.57]
["1998-07-07",5.6]
["1998-07-08",5.63]
["1998-07-09",5.6]
["1998-07-10",5.63]
["1998-07-13",5.68]
["1998-07-14",5.72]
["1998-07-15",5.7]
["1998-07-16",5.72]
["1998-07-17",5.75]
["1998-07-20",5.71]
["1998-07-21",5.67]
["1998-07-22",5.68]
["1998-07-23",5.66]
["1998-07-24",5.68]
["1998-07-27",5.7]
["1998-07-28",5.74]
["1998-07-29",5.77]
["1998-07-30",5.73]
["1998-07-31",5.72]
["1998-08-03",5.67]
["1998-08-04",5.65]
["1998-08-05",5.66]
["1998-08-06",5.67]
["1998-08-07",5.63]
["1998-08-10",5.63]
["1998-08-11",5.6]
["1998-08-12",5.62]
["1998-08-13",5.6]
["1998-08-14",5.55]
["1998-08-17",5.56]
["1998-08-18",5.56]
["1998-08-19",5.56]
["1998-08-20",5.52]
["1998-08-21",5.46]
["1998-08-24",5.48]
["1998-08-25",5.44]
["1998-08-26",5.44]
["1998-08-27",5.38]
["1998-08-28",5.37]
["1998-08-31",5.3]
["1998-09-01",5.34]
["1998-09-02",5.34]
["1998-09-03",5.31]
["1998-09-04",5.29]
["1998-09-07",{"$f":"NA()","v":{"$error":"#N/A"}}]
["1998-09-08",5.34]
["1998-09-09",5.28]
["1998-09-10",5.18]
["1998-09-11",5.23]
["1998-09-14",5.23]
["1998-09-15",5.25]
["1998-09-16",5.23]
["1998-09-17",5.18]
["1998-09-18",5.15]
["1998-09-21",5.12]
["1998-09-22",5.16]
["1998-09-23",5.16]
["1998-09-24",5.15]
["1998-09-25",5.13]
["1998-09-28",5.15]
["1998-09-29",5.0999999999999996]
["1998-09-30",4.9800000000000004]
["1998-10-01",4.9000000000000004]
["1998-10-02",4.8499999999999996]
["1998-10-05",4.7]
["1998-10-06",4.75]
["1998-10-07",4.83]
["1998-10-08",4.99]
["1998-10-09",5.13]
["1998-10-12",{"$f":"NA()","v":{"$error":"#N/A"}}]
["1998-10-13",5.0999999999999996]
["1998-10-14",5]
["1998-10-15",5.0199999999999996]
["1998-10-16",4.96]
["1998-10-19",4.9800000000000004]
["1998-10-20",5.0599999999999996]
["1998-10-21",5.08]
["1998-10-22",5.13]
["1998-10-23",5.16]
["1998-10-26",5.13]
["1998-10-27",5.08]
["1998-10-28",5.13]
["1998-10-29",5.09]
["1998-10-30",5.15]
["1998-11-02",5.23]
["1998-11-03",5.22]
["1998-11-04",5.34]
["1998-11-05",5.29]
["1998-11-06",5.37]
["1998-11-09",5.28]
["1998-11-10",5.27]
["1998-11-11",{"$f":"NA()","v":{"$error":"#N/A"}}]
["1998-11-12",5.25]
["1998-11-13",5.26]
["1998-11-16",5.28]
["1998-11-17",5.3]
["1998-11-18",5.25]
["1998-11-19",5.25]
["1998-11-20",5.22]
["1998-11-23",5.25]
["1998-11-24",5.23]
["1998-11-25",5.19]
["1998-11-26",{"$f":"NA()","v":{"$error":"#N/A"}}]
["1998-11-27",5.16]
["1998-11-30",5.08]
["1998-12-01",5.0599999999999996]
["1998-12-02",5.03]
["1998-12-03",5.0199999999999996]
["1998-12-04",5.05]
["1998-12-07",5.05]
["1998-12-08",5]
["1998-12-09",4.97]
["1998-12-10",4.95]
["1998-12-11",5.0199999999999996]
["1998-12-14",4.99]
["1998-12-15",5.03]
["1998-12-16",5.01]
["1998-12-17",5.01]
["1998-12-18",5.01]
["1998-12-21",5.07]
["1998-12-22",5.13]
["1998-12-23",5.2]
["1998-12-24",5.23]
["1998-12-25",{"$f":"NA()","v":{"$error":"#N/A"}}]
["1998-12-28",5.17]
["1998-12-29",5.12]
["1998-12-30",5.09]
["1998-12-31",5.09]
["1999-01-01",{"$f":"NA()","v":{"$error":"#N/A"}}]
["1999-01-04",5.15]
["1999-01-05",5.21]
["1999-01-06",5.17]
["1999-01-07",5.23]
["1999-01-08",5.26]
["1999-01-11",5.29]
["1999-01-12",5.23]
["1999-01-13",5.16]
["1999-01-14",5.07]
["1999-01-15",5.0999999999999996]
["1999-01-18",{"$f":"NA()","v":{"$error":"#N/A"}}]
["1999-01-19",5.14]
["1999-01-20",5.18]
["1999-01-21",5.14]
["1999-01-22",5.09]
["1999-01-25",5.12]
["1999-01-26",5.12]
["1999-01-27",5.14]
["1999-01-28",5.1100000000000003]
["1999-01-29",5.09]
["1999-02-01",5.19]
["1999-02-02",5.24]
["1999-02-03",5.25]
["1999-02-04",5.3]
["1999-02-05",5.34]
["1999-02-08",5.35]
["1999-02-09",5.33]
["1999-02-10",5.34]
["1999-02-11",5.29]
["1999-02-12",5.42]
["1999-02-15",{"$f":"NA()","v":{"$error":"#N/A"}}]
["1999-02-16",5.35]
["1999-02-17",5.32]
["1999-02-18",5.37]
["1999-02-19",5.38]
["1999-02-22",5.36]
["1999-02-23",5.42]
["1999-02-24",5.51]
["1999-02-25",5.61]
["1999-02-26",5.57]
["1999-03-01",5.67]
["1999-03-02",5.63]
["1999-03-03",5.68]
["1999-03-04",5.69]
["1999-03-05",5.6]
["1999-03-08",5.6]
["1999-03-09",5.54]
["1999-03-10",5.56]
["1999-03-11",5.57]
["1999-03-12",5.54]
["1999-03-15",5.51]
["1999-03-16",5.48]
["1999-03-17",5.51]
["1999-03-18",5.49]
["1999-03-19",5.53]
["1999-03-22",5.57]
["1999-03-23",5.57]
["1999-03-24",5.54]
["1999-03-25",5.59]
["1999-03-26",5.61]
["1999-03-29",5.65]
["1999-03-30",5.59]
["1999-03-31",5.63]
["1999-04-01",5.67]
["1999-04-02",5.59]
["1999-04-05",5.59]
["1999-04-06",5.52]
["1999-04-07",5.51]
["1999-04-08",5.44]
["1999-04-09",5.46]
["1999-04-12",5.45]
["1999-04-13",5.5]
["1999-04-14",5.51]
["1999-04-15",5.53]
["1999-04-16",5.57]
["1999-04-19",5.55]
["1999-04-20",5.52]
["1999-04-21",5.52]
["1999-04-22",5.61]
["1999-04-23",5.6]
["1999-04-26",5.57]
["1999-04-27",5.55]
["1999-04-28",5.58]
["1999-04-29",5.53]
["1999-04-30",5.68]
["1999-05-03",5.67]
["1999-05-04",5.72]
["1999-05-05",5.71]
["1999-05-06",5.8]
["1999-05-07",5.82]
["1999-05-10",5.79]
["1999-05-11",5.85]
["1999-05-12",5.83]
["1999-05-13",5.75]
["1999-05-14",5.92]
["1999-05-17",5.91]
["1999-05-18",5.9]
["1999-05-19",5.81]
["1999-05-20",5.83]
["1999-05-21",5.78]
["1999-05-24",5.77]
["1999-05-25",5.76]
["1999-05-26",5.8]
["1999-05-27",5.85]
["1999-05-28",5.84]
["1999-05-31",{"$f":"NA()","v":{"$error":"#N/A"}}]
["1999-06-01",5.94]
["1999-06-02",5.94]
["1999-06-03",5.96]
["1999-06-04",5.97]
["1999-06-07",5.97]
["1999-06-08",6]
["1999-06-09",6.02]
["1999-06-10",6.05]
["1999-06-11",6.13]
["1999-06-14",6.11]
["1999-06-15",6.11]
["1999-06-16",6.08]
["1999-06-17",5.95]
["1999-06-18",5.98]
["1999-06-21",6.03]
["1999-06-22",6.07]
["1999-06-23",6.13]
["1999-06-24",6.17]
["1999-06-25",6.16]
["1999-06-28",6.1]
["1999-06-29",6.07]
["1999-06-30",5.98]
["1999-07-01",6.02]
["1999-07-02",6]
["1999-07-05",{"$f":"NA()","v":{"$error":"#N/A"}}]
["1999-07-06",6.05]
["1999-07-07",6.08]
["1999-07-08",6.01]
["1999-07-09",6.01]
["1999-07-12",5.92]
["1999-07-13",5.9]
["1999-07-14",5.92]
["1999-07-15",5.91]
["1999-07-16",5.9]
["1999-07-19",5.9]
["1999-07-20",5.89]
["1999-07-21",5.91]
["1999-07-22",5.97]
["1999-07-23",6.02]
["1999-07-26",6.04]
["1999-07-27",6.01]
["1999-07-28",6.01]
["1999-07-29",6.07]
["1999-07-30",6.11]
["1999-08-02",6.13]
["1999-08-03",6.15]
["1999-08-04",6.12]
["1999-08-05",6.05]
["1999-08-06",6.16]
["1999-08-09",6.23]
["1999-08-10",6.25]
["1999-08-11",6.22]
["1999-08-12",6.18]
["1999-08-13",6.09]
["1999-08-16",6.1]
["1999-08-17",6.02]
["1999-08-18",6.01]
["1999-08-19",6.03]
["1999-08-20",5.99]
["1999-08-23",5.98]
["1999-08-24",5.95]
["1999-08-25",5.87]
["1999-08-26",5.88]
["1999-08-27",5.96]
["1999-08-30",6.07]
["1999-08-31",6.07]
["1999-09-01",6.08]
["1999-09-02",6.15]
["1999-09-03",6.03]
["1999-09-06",{"$f":"NA()","v":{"$error":"#N/A"}}]
["1999-09-07",6.07]
["1999-09-08",6.07]
["1999-09-09",6.1]
["1999-09-10",6.03]
["1999-09-13",6.06]
["1999-09-14",6.11]
["1999-09-15",6.11]
["1999-09-16",6.08]
["1999-09-17",6.05]
["1999-09-20",6.08]
["1999-09-21",6.1]
["1999-09-22",6.1]
["1999-09-23",6.05]
["1999-09-24",5.95]
["1999-09-27",6.02]
["1999-09-28",6.07]
["1999-09-29",6.13]
["1999-09-30",6.06]
["1999-10-01",6.15]
["1999-10-04",6.1]
["1999-10-05",6.17]
["1999-10-06",6.17]
["1999-10-07",6.19]
["1999-10-08",6.2]
["1999-10-11",{"$f":"NA()","v":{"$error":"#N/A"}}]
["1999-10-12",6.23]
["1999-10-13",6.29]
["1999-10-14",6.32]
["1999-10-15",6.26]
["1999-10-18",6.3]
["1999-10-19",6.35]
["1999-10-20",6.34]
["1999-10-21",6.36]
["1999-10-22",6.36]
["1999-10-25",6.36]
["1999-10-26",6.38]
["1999-10-27",6.33]
["1999-10-28",6.25]
["1999-10-29",6.16]
["1999-11-01",6.19]
["1999-11-02",6.15]
["1999-11-03",6.14]
["1999-11-04",6.09]
["1999-11-05",6.05]
["1999-11-08",6.06]
["1999-11-09",6.07]
["1999-11-10",6.09]
["1999-11-11",{"$f":"NA()","v":{"$error":"#N/A"}}]
["1999-11-12",6.03]
["1999-11-15",6.04]
["1999-11-16",6.06]
["1999-11-17",6.13]
["1999-11-18",6.17]
["1999-11-19",6.17]
["1999-11-22",6.2]
["1999-11-23",6.2]
["1999-11-24",6.22]
["1999-11-25",{"$f":"NA()","v":{"$error":"#N/A"}}]
["1999-11-26",6.24]
["1999-11-29",6.31]
["1999-11-30",6.29]
["1999-12-01",6.3]
["1999-12-02",6.31]
["1999-12-03",6.27]
["1999-12-06",6.25]
["1999-12-07",6.21]
["1999-12-08",6.23]
["1999-12-09",6.22]
["1999-12-10",6.17]
["1999-12-13",6.2]
["1999-12-14",6.31]
["1999-12-15",6.34]
["1999-12-16",6.39]
["1999-12-17",6.38]
["1999-12-20",6.44]
["1999-12-21",6.46]
["1999-12-22",6.47]
["1999-12-23",6.48]
["1999-12-24",{"$f":"NA()","v":{"$error":"#N/A"}}]
["1999-12-27",6.46]
["1999-12-28",6.48]
["1999-12-29",6.45]
["1999-12-30",6.43]
["1999-12-31",6.48]
["2000-01-03",6.61]
["2000-01-04",6.53]
["2000-01-05",6.64]
["2000-01-06",6.58]
["2000-01-07",6.55]
["2000-01-10",6.59]
["2000-01-11",6.68]
["2000-01-12",6.71]
["2000-01-13",6.65]
["2000-01-14",6.69]
["2000-01-17",{"$f":"NA()","v":{"$error":"#N/A"}}]
["2000-01-18",6.75]
["2000-01-19",6.72]
["2000-01-20",6.74]
["2000-01-21",6.71]
["2000-01-24",6.65]
["2000-01-25",6.64]
["2000-01-26",6.6]
["2000-01-27",6.53]
["2000-01-28",6.45]
["2000-01-31",6.49]
["2000-02-01",6.43]
["2000-02-02",6.32]
["2000-02-03",6.17]
["2000-02-04",6.23]
["2000-02-07",6.34]
["2000-02-08",6.22]
["2000-02-09",6.32]
["2000-02-10",6.35]
["2000-02-11",6.29]
["2000-02-14",6.22]
["2000-02-15",6.26]
["2000-02-16",6.27]
["2000-02-17",6.23]
["2000-02-18",6.16]
["2000-02-21",{"$f":"NA()","v":{"$error":"#N/A"}}]
["2000-02-22",6.08]
["2000-02-23",6.14]
["2000-02-24",6.13]
["2000-02-25",6.17]
["2000-02-28",6.16]
["2000-02-29",6.15]
["2000-03-01",6.16]
["2000-03-02",6.15]
["2000-03-03",6.13]
["2000-03-06",6.16]
["2000-03-07",6.16]
["2000-03-08",6.17]
["2000-03-09",6.16]
["2000-03-10",6.19]
["2000-03-13",6.17]
["2000-03-14",6.11]
["2000-03-15",6.07]
["2000-03-16",6.05]
["2000-03-17",6.01]
["2000-03-20",5.99]
["2000-03-21",5.97]
["2000-03-22",5.97]
["2000-03-23",5.92]
["2000-03-24",6]
["2000-03-27",5.99]
["2000-03-28",5.98]
["2000-03-29",5.99]
["2000-03-30",5.89]
["2000-03-31",5.84]
["2000-04-03",5.84]
["2000-04-04",5.77]
["2000-04-05",5.81]
["2000-04-06",5.8]
["2000-04-07",5.71]
["2000-04-10",5.69]
["2000-04-11",5.77]
["2000-04-12",5.84]
["2000-04-13",5.81]
["2000-04-14",5.79]
["2000-04-17",5.92]
["2000-04-18",5.92]
["2000-04-19",5.85]
["2000-04-20",5.83]
["2000-04-21",{"$f":"NA()","v":{"$error":"#N/A"}}]
["2000-04-24",5.86]
["2000-04-25",5.95]
["2000-04-26",5.95]
["2000-04-27",6]
["2000-04-28",5.97]
["2000-05-01",5.98]
["2000-05-02",6.03]
["2000-05-03",6.11]
["2000-05-04",6.19]
["2000-05-05",6.2]
["2000-05-08",6.25]
["2000-05-09",6.22]
["2000-05-10",6.18]
["2000-05-11",6.16]
["2000-05-12",6.2]
["2000-05-15",6.17]
["2000-05-16",6.12]
["2000-05-17",6.18]
["2000-05-18",6.24]
["2000-05-19",6.22]
["2000-05-22",6.18]
["2000-05-23",6.17]
["2000-05-24",6.19]
["2000-05-25",6.11]
["2000-05-26",6.06]
["2000-05-29",{"$f":"NA()","v":{"$error":"#N/A"}}]
["2000-05-30",6.09]
["2000-05-31",6.02]
["2000-06-01",5.95]
["2000-06-02",5.94]
["2000-06-05",5.91]
["2000-06-06",5.91]
["2000-06-07",5.89]
["2000-06-08",5.89]
["2000-06-09",5.89]
["2000-06-12",5.88]
["2000-06-13",5.94]
["2000-06-14",5.91]
["2000-06-15",5.93]
["2000-06-16",5.88]
["2000-06-19",5.89]
["2000-06-20",5.9]
["2000-06-21",5.96]
["2000-06-22",5.98]
["2000-06-23",6.04]
["2000-06-26",5.99]
["2000-06-27",5.95]
["2000-06-28",5.97]
["2000-06-29",5.88]
["2000-06-30",5.9]
["2000-07-03",5.87]
["2000-07-04",{"$f":"NA()","v":{"$error":"#N/A"}}]
["2000-07-05",5.86]
["2000-07-06",5.91]
["2000-07-07",5.87]
["2000-07-10",5.88]
["2000-07-11",5.89]
["2000-07-12",5.89]
["2000-07-13",5.81]
["2000-07-14",5.88]
["2000-07-17",5.93]
["2000-07-18",5.92]
["2000-07-19",5.92]
["2000-07-20",5.81]
["2000-07-21",5.79]
["2000-07-24",5.81]
["2000-07-25",5.81]
["2000-07-26",5.82]
["2000-07-27",5.78]
["2000-07-28",5.78]
["2000-07-31",5.79]
["2000-08-01",5.74]
["2000-08-02",5.77]
["2000-08-03",5.74]
["2000-08-04",5.72]
["2000-08-07",5.76]
["2000-08-08",5.73]
["2000-08-09",5.73]
["2000-08-10",5.68]
["2000-08-11",5.72]
["2000-08-14",5.7]
["2000-08-15",5.72]
["2000-08-16",5.73]
["2000-08-17",5.72]
["2000-08-18",5.69]
["2000-08-21",5.71]
["2000-08-22",5.71]
["2000-08-23",5.68]
["2000-08-24",5.67]
["2000-08-25",5.67]
["2000-08-28",5.72]
["2000-08-29",5.75]
["2000-08-30",5.74]
["2000-08-31",5.67]
["2000-09-01",5.67]
["2000-09-04",{"$f":"NA()","v":{"$error":"#N/A"}}]
["2000-09-05",5.67]
["2000-09-06",5.71]
["2000-09-07",5.72]
["2000-09-08",5.7]
["2000-09-11",5.73]
["2000-09-12",5.76]
["2000-09-13",5.73]
["2000-09-14",5.81]
["2000-09-15",5.9]
["2000-09-18",5.96]
["2000-09-19",5.92]
["2000-09-20",5.97]
["2000-09-21",5.93]
["2000-09-22",5.92]
["2000-09-25",5.9]
["2000-09-26",5.86]
["2000-09-27",5.9]
["2000-09-28",5.89]
["2000-09-29",5.88]
["2000-10-02",5.93]
["2000-10-03",5.94]
["2000-10-04",5.95]
["2000-10-05",5.91]
["2000-10-06",5.85]
["2000-10-09",{"$f":"NA()","v":{"$error":"#N/A"}}]
["2000-10-10",5.83]
["2000-10-11",5.83]
["2000-10-12",5.82]
["2000-10-13",5.8]
["2000-10-16",5.81]
["2000-10-17",5.77]
["2000-10-18",5.77]
["2000-10-19",5.76]
["2000-10-20",5.73]
["2000-10-23",5.68]
["2000-10-24",5.71]
["2000-10-25",5.75]
["2000-10-26",5.74]
["2000-10-27",5.74]
["2000-10-30",5.76]
["2000-10-31",5.79]
["2000-11-01",5.78]
["2000-11-02",5.79]
["2000-11-03",5.86]
["2000-11-06",5.89]
["2000-11-07",5.9]
["2000-11-08",5.89]
["2000-11-09",5.85]
["2000-11-10",5.88]
["2000-11-13",5.85]
["2000-11-14",5.81]
["2000-11-15",5.77]
["2000-11-16",5.75]
["2000-11-17",5.78]
["2000-11-20",5.76]
["2000-11-21",5.74]
["2000-11-22",5.68]
["2000-11-23",{"$f":"NA()","v":{"$error":"#N/A"}}]
["2000-11-24",5.67]
["2000-11-27",5.71]
["2000-11-28",5.67]
["2000-11-29",5.66]
["2000-11-30",5.6]
["2000-12-01",5.64]
["2000-12-04",5.66]
["2000-12-05",5.59]
["2000-12-06",5.52]
["2000-12-07",5.51]
["2000-12-08",5.55]
["2000-12-11",5.54]
["2000-12-12",5.53]
["2000-12-13",5.48]
["2000-12-14",5.45]
["2000-12-15",5.44]
["2000-12-18",5.44]
["2000-12-19",5.47]
["2000-12-20",5.42]
["2000-12-21",5.41]
["2000-12-22",5.4]
["2000-12-25",{"$f":"NA()","v":{"$error":"#N/A"}}]
["2000-12-26",5.41]
["2000-12-27",5.45]
["2000-12-28",5.44]
["2000-12-29",5.46]
["2001-01-01",{"$f":"NA()","v":{"$error":"#N/A"}}]
["2001-01-02",5.35]
["2001-01-03",5.49]
["2001-01-04",5.44]
["2001-01-05",5.41]
["2001-01-08",5.42]
["2001-01-09",5.43]
["2001-01-10",5.49]
["2001-01-11",5.55]
["2001-01-12",5.63]
["2001-01-15",{"$f":"NA()","v":{"$error":"#N/A"}}]
["2001-01-16",5.6]
["2001-01-17",5.52]
["2001-01-18",5.47]
["2001-01-19",5.56]
["2001-01-22",5.61]
["2001-01-23",5.65]
["2001-01-24",5.67]
["2001-01-25",5.61]
["2001-01-26",5.64]
["2001-01-29",5.69]
["2001-01-30",5.59]
["2001-01-31",5.54]
["2001-02-01",5.46]
["2001-02-02",5.51]
["2001-02-05",5.48]
["2001-02-06",5.51]
["2001-02-07",5.52]
["2001-02-08",5.44]
["2001-02-09",5.38]
["2001-02-12",5.42]
["2001-02-13",5.43]
["2001-02-14",5.44]
["2001-02-15",5.5]
["2001-02-16",5.46]
["2001-02-19",{"$f":"NA()","v":{"$error":"#N/A"}}]
["2001-02-20",5.46]
["2001-02-21",5.49]
["2001-02-22",5.52]
["2001-02-23",5.49]
["2001-02-26",5.45]
["2001-02-27",5.34]
["2001-02-28",5.34]
["2001-03-01",5.29]
["2001-03-02",5.38]
["2001-03-05",5.36]
["2001-03-06",5.38]
["2001-03-07",5.32]
["2001-03-08",5.3]
["2001-03-09",5.32]
["2001-03-12",5.31]
["2001-03-13",5.34]
["2001-03-14",5.28]
["2001-03-15",5.29]
["2001-03-16",5.28]
["2001-03-19",5.3]
["2001-03-20",5.27]
["2001-03-21",5.28]
["2001-03-22",5.25]
["2001-03-23",5.3]
["2001-03-26",5.36]
["2001-03-27",5.45]
["2001-03-28",5.47]
["2001-03-29",5.48]
["2001-03-30",5.46]
["2001-04-02",5.49]
["2001-04-03",5.48]
["2001-04-04",5.5]
["2001-04-05",5.53]
["2001-04-06",5.46]
["2001-04-09",5.5]
["2001-04-10",5.63]
["2001-04-11",5.6]
["2001-04-12",5.61]
["2001-04-13",{"$f":"NA()","v":{"$error":"#N/A"}}]
["2001-04-16",5.7]
["2001-04-17",5.65]
["2001-04-18",5.65]
["2001-04-19",5.77]
["2001-04-20",5.79]
["2001-04-23",5.73]
["2001-04-24",5.75]
["2001-04-25",5.78]
["2001-04-26",5.71]
["2001-04-27",5.81]
["2001-04-30",5.78]
["2001-05-01",5.75]
["2001-05-02",5.71]
["2001-05-03",5.64]
["2001-05-04",5.65]
["2001-05-07",5.68]
["2001-05-08",5.72]
["2001-05-09",5.67]
["2001-05-10",5.75]
["2001-05-11",5.88]
["2001-05-14",5.85]
["2001-05-15",5.89]
["2001-05-16",5.86]
["2001-05-17",5.8]
["2001-05-18",5.76]
["2001-05-21",5.75]
["2001-05-22",5.78]
["2001-05-23",5.79]
["2001-05-24",5.87]
["2001-05-25",5.86]
["2001-05-28",{"$f":"NA()","v":{"$error":"#N/A"}}]
["2001-05-29",5.86]
["2001-05-30",5.86]
["2001-05-31",5.78]
["2001-06-01",5.71]
["2001-06-04",5.69]
["2001-06-05",5.66]
["2001-06-06",5.65]
["2001-06-07",5.72]
["2001-06-08",5.73]
["2001-06-11",5.69]
["2001-06-12",5.65]
["2001-06-13",5.66]
["2001-06-14",5.65]
["2001-06-15",5.68]
["2001-06-18",5.7]
["2001-06-19",5.69]
["2001-06-20",5.67]
["2001-06-21",5.64]
["2001-06-22",5.58]
["2001-06-25",5.59]
["2001-06-26",5.65]
["2001-06-27",5.62]
["2001-06-28",5.68]
["2001-06-29",5.75]
["2001-07-02",5.7]
["2001-07-03",5.73]
["2001-07-04",{"$f":"NA()","v":{"$error":"#N/A"}}]
["2001-07-05",5.76]
["2001-07-06",5.75]
["2001-07-09",5.7]
["2001-07-10",5.68]
["2001-07-11",5.69]
["2001-07-12",5.65]
["2001-07-13",5.64]
["2001-07-16",5.59]
["2001-07-17",5.59]
["2001-07-18",5.52]
["2001-07-19",5.53]
["2001-07-20",5.54]
["2001-07-23",5.53]
["2001-07-24",5.52]
["2001-07-25",5.58]
["2001-07-26",5.59]
["2001-07-27",5.55]
["2001-07-30",5.53]
["2001-07-31",5.51]
["2001-08-01",5.53]
["2001-08-02",5.57]
["2001-08-03",5.59]
["2001-08-06",5.59]
["2001-08-07",5.6]
["2001-08-08",5.52]
["2001-08-09",5.54]
["2001-08-10",5.52]
["2001-08-13",5.52]
["2001-08-14",5.51]
["2001-08-15",5.52]
["2001-08-16",5.48]
["2001-08-17",5.43]
["2001-08-20",5.46]
["2001-08-21",5.44]
["2001-08-22",5.44]
["2001-08-23",5.41]
["2001-08-24",5.45]
["2001-08-27",5.47]
["2001-08-28",5.41]
["2001-08-29",5.36]
["2001-08-30",5.37]
["2001-08-31",5.39]
["2001-09-03",{"$f":"NA()","v":{"$error":"#N/A"}}]
["2001-09-04",5.5]
["2001-09-05",5.48]
["2001-09-06",5.41]
["2001-09-07",5.39]
["2001-09-10",5.43]
["2001-09-11",{"$f":"NA()","v":{"$error":"#N/A"}}]
["2001-09-12",{"$f":"NA()","v":{"$error":"#N/A"}}]
["2001-09-13",5.39]
["2001-09-14",5.35]
["2001-09-17",5.41]
["2001-09-18",5.55]
["2001-09-19",5.56]
["2001-09-20",5.62]
["2001-09-21",5.59]
["2001-09-24",5.58]
["2001-09-25",5.58]
["2001-09-26",5.5]
["2001-09-27",5.45]
["2001-09-28",5.42]
["2001-10-01",5.38]
["2001-10-02",5.34]
["2001-10-03",5.32]
["2001-10-04",5.31]
["2001-10-05",5.31]
["2001-10-08",{"$f":"NA()","v":{"$error":"#N/A"}}]
["2001-10-09",5.39]
["2001-10-10",5.36]
["2001-10-11",5.41]
["2001-10-12",5.42]
["2001-10-15",5.38]
["2001-10-16",5.35]
["2001-10-17",5.32]
["2001-10-18",5.32]
["2001-10-19",5.36]
["2001-10-22",5.36]
["2001-10-23",5.38]
["2001-10-24",5.32]
["2001-10-25",5.28]
["2001-10-26",5.27]
["2001-10-29",5.25]
["2001-10-30",5.22]
["2001-10-31",4.8899999999999997]
["2001-11-01",4.79]
["2001-11-02",4.96]
["2001-11-05",4.8600000000000003]
["2001-11-06",4.8600000000000003]
["2001-11-07",4.79]
["2001-11-08",4.87]
["2001-11-09",4.88]
["2001-11-12",{"$f":"NA()","v":{"$error":"#N/A"}}]
["2001-11-13",4.92]
["2001-11-14",5.0199999999999996]
["2001-11-15",5.22]
["2001-11-16",5.3]
["2001-11-19",5.22]
["2001-11-20",5.3]
["2001-11-21",5.35]
["2001-11-22",{"$f":"NA()","v":{"$error":"#N/A"}}]
["2001-11-23",5.39]
["2001-11-26",5.39]
["2001-11-27",5.37]
["2001-11-28",5.36]
["2001-11-29",5.24]
["2001-11-30",5.27]
["2001-12-03",5.26]
["2001-12-04",5.22]
["2001-12-05",5.35]
["2001-12-06",5.47]
["2001-12-07",5.6]
["2001-12-10",5.58]
["2001-12-11",5.55]
["2001-12-12",5.47]
["2001-12-13",5.53]
["2001-12-14",5.59]
["2001-12-17",5.61]
["2001-12-18",5.52]
["2001-12-19",5.45]
["2001-12-20",5.43]
["2001-12-21",5.45]
["2001-12-24",5.49]
["2001-12-25",{"$f":"NA()","v":{"$error":"#N/A"}}]
["2001-12-26",5.52]
["2001-12-27",5.49]
["2001-12-28",5.54]
["2001-12-31",5.48]
["2002-01-01",{"$f":"NA()","v":{"$error":"#N/A"}}]
["2002-01-02",5.56]
["2002-01-03",5.54]
["2002-01-04",5.57]
["2002-01-07",5.49]
["2002-01-08",5.51]
["2002-01-09",5.51]
["2002-01-10",5.42]
["2002-01-11",5.37]
["2002-01-14",5.38]
["2002-01-15",5.34]
["2002-01-16",5.36]
["2002-01-17",5.41]
["2002-01-18",5.36]
["2002-01-21",{"$f":"NA()","v":{"$error":"#N/A"}}]
["2002-01-22",5.39]
["2002-01-23",5.48]
["2002-01-24",5.47]
["2002-01-25",5.47]
["2002-01-28",5.47]
["2002-01-29",5.4]
["2002-01-30",5.41]
["2002-01-31",5.44]
["2002-02-01",5.4]
["2002-02-04",5.35]
["2002-02-05",5.35]
["2002-02-06",5.38]
["2002-02-07",5.42]
["2002-02-08",5.39]
["2002-02-11",5.41]
["2002-02-12",5.45]
["2002-02-13",5.47]
["2002-02-14",5.42]
["2002-02-15",5.37]
["2002-02-18",{"$f":"NA()","v":{"$error":"#N/A"}}]
["2002-02-19",{"$f":"NA()","v":{"$error":"#N/A"}}]
["2002-02-20",{"$f":"NA()","v":{"$error":"#N/A"}}]
["2002-02-21",{"$f":"NA()","v":{"$error":"#N/A"}}]
["2002-02-22",{"$f":"NA()","v":{"$error":"#N/A"}}]
["2002-02-25",{"$f":"NA()","v":{"$error":"#N/A"}}]
["2002-02-26",{"$f":"NA()","v":{"$error":"#N/A"}}]
["2002-02-27",{"$f":"NA()","v":{"$error":"#N/A"}}]
["2002-02-28",{"$f":"NA()","v":{"$error":"#N/A"}}]
["2002-03-01",{"$f":"NA()","v":{"$error":"#N/A"}}]
["2002-03-04",{"$f":"NA()","v":{"$error":"#N/A"}}]
["2002-03-05",{"$f":"NA()","v":{"$error":"#N/A"}}]
["2002-03-06",{"$f":"NA()","v":{"$error":"#N/A"}}]
["2002-03-07",{"$f":"NA()","v":{"$error":"#N/A"}}]
["2002-03-08",{"$f":"NA()","v":{"$error":"#N/A"}}]
["2002-03-11",{"$f":"NA()","v":{"$error":"#N/A"}}]
["2002-03-12",{"$f":"NA()","v":{"$error":"#N/A"}}]
["2002-03-13",{"$f":"NA()","v":{"$error":"#N/A"}}]
["2002-03-14",{"$f":"NA()","v":{"$error":"#N/A"}}]
["2002-03-15",{"$f":"NA()","v":{"$error":"#N/A"}}]
["2002-03-18",{"$f":"NA()","v":{"$error":"#N/A"}}]
["2002-03-19",{"$f":"NA()","v":{"$error":"#N/A"}}]
["2002-03-20",{"$f":"NA()","v":{"$error":"#N/A"}}]
["2002-03-21",{"$f":"NA()","v":{"$error":"#N/A"}}]
["2002-03-22",{"$f":"NA()","v":{"$error":"#N/A"}}]
["2002-03-25",{"$f":"NA()","v":{"$error":"#N/A"}}]
["2002-03-26",{"$f":"NA()","v":{"$error":"#N/A"}}]
["2002-03-27",{"$f":"NA()","v":{"$error":"#N/A"}}]
["2002-03-28",{"$f":"NA()","v":{"$error":"#N/A"}}]
["2002-03-29",{"$f":"NA()","v":{"$error":"#N/A"}}]
["2002-04-01",{"$f":"NA()","v":{"$error":"#N/A"}}]
["2002-04-02",{"$f":"NA()","v":{"$error":"#N/A"}}]
["2002-04-03",{"$f":"NA()","v":{"$error":"#N/A"}}]
["2002-04-04",{"$f":"NA()","v":{"$error":"#N/A"}}]
["2002-04-05",{"$f":"NA()","v":{"$error":"#N/A"}}]
["2002-04-08",{"$f":"NA()","v":{"$error":"#N/A"}}]
["2002-04-09",{"$f":"NA()","v":{"$error":"#N/A"}}]
["2002-04-10",{"$f":"NA()","v":{"$error":"#N/A"}}]
["2002-04-11",{"$f":"NA()","v":{"$error":"#N/A"}}]
["2002-04-12",{"$f":"NA()","v":{"$error":"#N/A"}}]
["2002-04-15",{"$f":"NA()","v":{"$error":"#N/A"}}]
["2002-04-16",{"$f":"NA()","v":{"$error":"#N/A"}}]
["2002-04-17",{"$f":"NA()","v":{"$error":"#N/A"}}]
["2002-04-18",{"$f":"NA()","v":{"$error":"#N/A"}}]
["2002-04-19",{"$f":"NA()","v":{"$error":"#N/A"}}]
["2002-04-22",{"$f":"NA()","v":{"$error":"#N/A"}}]
["2002-04-23",{"$f":"NA()","v":{"$error":"#N/A"}}]
["2002-04-24",{"$f":"NA()","v":{"$error":"#N/A"}}]
["2002-04-25",{"$f":"NA()","v":{"$error":"#N/A"}}]
["2002-04-26",{"$f":"NA()","v":{"$error":"#N/A"}}]
["2002-04-29",{"$f":"NA()","v":{"$error":"#N/A"}}]
["2002-04-30",{"$f":"NA()","v":{"$error":"#N/A"}}]
["2002-05-01",{"$f":"NA()","v":{"$error":"#N/A"}}]
["2002-05-02",{"$f":"NA()","v":{"$error":"#N/A"}}]
["2002-05-03",{"$f":"NA()","v":{"$error":"#N/A"}}]
["2002-05-06",{"$f":"NA()","v":{"$error":"#N/A"}}]
["2002-05-07",{"$f":"NA()","v":{"$error":"#N/A"}}]
["2002-05-08",{"$f":"NA()","v":{"$error":"#N/A"}}]
["2002-05-09",{"$f":"NA()","v":{"$error":"#N/A"}}]
["2002-05-10",{"$f":"NA()","v":{"$error":"#N/A"}}]
["2002-05-13",{"$f":"NA()","v":{"$error":"#N/A"}}]
["2002-05-14",{"$f":"NA()","v":{"$error":"#N/A"}}]
["2002-05-15",{"$f":"NA()","v":{"$error":"#N/A"}}]
["2002-05-16",{"$f":"NA()","v":{"$error":"#N/A"}}]
["2002-05-17",{"$f":"NA()","v":{"$error":"#N/A"}}]
["2002-05-20",{"$f":"NA()","v":{"$error":"#N/A"}}]
["2002-05-21",{"$f":"NA()","v":{"$error":"#N/A"}}]
["2002-05-22",{"$f":"NA()","v":{"$error":"#N/A"}}]
["2002-05-23",{"$f":"NA()","v":{"$error":"#N/A"}}]
["2002-05-24",{"$f":"NA()","v":{"$error":"#N/A"}}]
["2002-05-27",{"$f":"NA()","v":{"$error":"#N/A"}}]
["2002-05-28",{"$f":"NA()","v":{"$error":"#N/A"}}]
["2002-05-29",{"$f":"NA()","v":{"$error":"#N/A"}}]
["2002-05-30",{"$f":"NA()","v":{"$error":"#N/A"}}]
["2002-05-31",{"$f":"NA()","v":{"$error":"#N/A"}}]
["2002-06-03",{"$f":"NA()","v":{"$error":"#N/A"}}]
["2002-06-04",{"$f":"NA()","v":{"$error":"#N/A"}}]
["2002-06-05",{"$f":"NA()","v":{"$error":"#N/A"}}]
["2002-06-06",{"$f":"NA()","v":{"$error":"#N/A"}}]
["2002-06-07",{"$f":"NA()","v":{"$error":"#N/A"}}]
["2002-06-10",{"$f":"NA()","v":{"$error":"#N/A"}}]
["2002-06-11",{"$f":"NA()","v":{"$error":"#N/A"}}]
["2002-06-12",{"$f":"NA()","v":{"$error":"#N/A"}}]
["2002-06-13",{"$f":"NA()","v":{"$error":"#N/A"}}]
["2002-06-14",{"$f":"NA()","v":{"$error":"#N/A"}}]
["2002-06-17",{"$f":"NA()","v":{"$error":"#N/A"}}]
["2002-06-18",{"$f":"NA()","v":{"$error":"#N/A"}}]
["2002-06-19",{"$f":"NA()","v":{"$error":"#N/A"}}]
["2002-06-20",{"$f":"NA()","v":{"$error":"#N/A"}}]
["2002-06-21",{"$f":"NA()","v":{"$error":"#N/A"}}]
["2002-06-24",{"$f":"NA()","v":{"$error":"#N/A"}}]
["2002-06-25",{"$f":"NA()","v":{"$error":"#N/A"}}]
["2002-06-26",{"$f":"NA()","v":{"$error":"#N/A"}}]
["2002-06-27",{"$f":"NA()","v":{"$error":"#N/A"}}]
["2002-06-28",{"$f":"NA()","v":{"$error":"#N/A"}}]
["2002-07-01",{"$f":"NA()","v":{"$error":"#N/A"}}]
["2002-07-02",{"$f":"NA()","v":{"$error":"#N/A"}}]
["2002-07-03",{"$f":"NA()","v":{"$error":"#N/A"}}]
["2002-07-04",{"$f":"NA()","v":{"$error":"#N/A"}}]
["2002-07-05",{"$f":"NA()","v":{"$error":"#N/A"}}]
["2002-07-08",{"$f":"NA()","v":{"$error":"#N/A"}}]
["2002-07-09",{"$f":"NA()","v":{"$error":"#N/A"}}]
["2002-07-10",{"$f":"NA()","v":{"$error":"#N/A"}}]
["2002-07-11",{"$f":"NA()","v":{"$error":"#N/A"}}]
["2002-07-12",{"$f":"NA()","v":{"$error":"#N/A"}}]
["2002-07-15",{"$f":"NA()","v":{"$error":"#N/A"}}]
["2002-07-16",{"$f":"NA()","v":{"$error":"#N/A"}}]
["2002-07-17",{"$f":"NA()","v":{"$error":"#N/A"}}]
["2002-07-18",{"$f":"NA()","v":{"$error":"#N/A"}}]
["2002-07-19",{"$f":"NA()","v":{"$error":"#N/A"}}]
["2002-07-22",{"$f":"NA()","v":{"$error":"#N/A"}}]
["2002-07-23",{"$f":"NA()","v":{"$error":"#N/A"}}]
["2002-07-24",{"$f":"NA()","v":{"$error":"#N/A"}}]
["2002-07-25",{"$f":"NA()","v":{"$error":"#N/A"}}]
["2002-07-26",{"$f":"NA()","v":{"$error":"#N/A"}}]
["2002-07-29",{"$f":"NA()","v":{"$error":"#N/A"}}]
["2002-07-30",{"$f":"NA()","v":{"$error":"#N/A"}}]
["2002-07-31",{"$f":"NA()","v":{"$error":"#N/A"}}]
["2002-08-01",{"$f":"NA()","v":{"$error":"#N/A"}}]
["2002-08-02",{"$f":"NA()","v":{"$error":"#N/A"}}]
["2002-08-05",{"$f":"NA()","v":{"$error":"#N/A"}}]
["2002-08-06",{"$f":"NA()","v":{"$error":"#N/A"}}]
["2002-08-07",{"$f":"NA()","v":{"$error":"#N/A"}}]
["2002-08-08",{"$f":"NA()","v":{"$error":"#N/A"}}]
["2002-08-09",{"$f":"NA()","v":{"$error":"#N/A"}}]
["2002-08-12",{"$f":"NA()","v":{"$error":"#N/A"}}]
["2002-08-13",{"$f":"NA()","v":{"$error":"#N/A"}}]
["2002-08-14",{"$f":"NA()","v":{"$error":"#N/A"}}]
["2002-08-15",{"$f":"NA()","v":{"$error":"#N/A"}}]
["2002-08-16",{"$f":"NA()","v":{"$error":"#N/A"}}]
["2002-08-19",{"$f":"NA()","v":{"$error":"#N/A"}}]
["2002-08-20",{"$f":"NA()","v":{"$error":"#N/A"}}]
["2002-08-21",{"$f":"NA()","v":{"$error":"#N/A"}}]
["2002-08-22",{"$f":"NA()","v":{"$error":"#N/A"}}]
["2002-08-23",{"$f":"NA()","v":{"$error":"#N/A"}}]
["2002-08-26",{"$f":"NA()","v":{"$error":"#N/A"}}]
["2002-08-27",{"$f":"NA()","v":{"$error":"#N/A"}}]
["2002-08-28",{"$f":"NA()","v":{"$error":"#N/A"}}]
["2002-08-29",{"$f":"NA()","v":{"$error":"#N/A"}}]
["2002-08-30",{"$f":"NA()","v":{"$error":"#N/A"}}]
["2002-09-02",{"$f":"NA()","v":{"$error":"#N/A"}}]
["2002-09-03",{"$f":"NA()","v":{"$error":"#N/A"}}]
["2002-09-04",{"$f":"NA()","v":{"$error":"#N/A"}}]
["2002-09-05",{"$f":"NA()","v":{"$error":"#N/A"}}]
["2002-09-06",{"$f":"NA()","v":{"$error":"#N/A"}}]
["2002-09-09",{"$f":"NA()","v":{"$error":"#N/A"}}]
["2002-09-10",{"$f":"NA()","v":{"$error":"#N/A"}}]
["2002-09-11",{"$f":"NA()","v":{"$error":"#N/A"}}]
["2002-09-12",{"$f":"NA()","v":{"$error":"#N/A"}}]
["2002-09-13",{"$f":"NA()","v":{"$error":"#N/A"}}]
["2002-09-16",{"$f":"NA()","v":{"$error":"#N/A"}}]
["2002-09-17",{"$f":"NA()","v":{"$error":"#N/A"}}]
["2002-09-18",{"$f":"NA()","v":{"$error":"#N/A"}}]
["2002-09-19",{"$f":"NA()","v":{"$error":"#N/A"}}]
["2002-09-20",{"$f":"NA()","v":{"$error":"#N/A"}}]
["2002-09-23",{"$f":"NA()","v":{"$error":"#N/A"}}]
["2002-09-24",{"$f":"NA()","v":{"$error":"#N/A"}}]
["2002-09-25",{"$f":"NA()","v":{"$error":"#N/A"}}]
["2002-09-26",{"$f":"NA()","v":{"$error":"#N/A"}}]
["2002-09-27",{"$f":"NA()","v":{"$error":"#N/A"}}]
["2002-09-30",{"$f":"NA()","v":{"$error":"#N/A"}}]
["2002-10-01",{"$f":"NA()","v":{"$error":"#N/A"}}]
["2002-10-02",{"$f":"NA()","v":{"$error":"#N/A"}}]
["2002-10-03",{"$f":"NA()","v":{"$error":"#N/A"}}]
["2002-10-04",{"$f":"NA()","v":{"$error":"#N/A"}}]
["2002-10-07",{"$f":"NA()","v":{"$error":"#N/A"}}]
["2002-10-08",{"$f":"NA()","v":{"$error":"#N/A"}}]
["2002-10-09",{"$f":"NA()","v":{"$error":"#N/A"}}]
["2002-10-10",{"$f":"NA()","v":{"$error":"#N/A"}}]
["2002-10-11",{"$f":"NA()","v":{"$error":"#N/A"}}]
["2002-10-14",{"$f":"NA()","v":{"$error":"#N/A"}}]
["2002-10-15",{"$f":"NA()","v":{"$error":"#N/A"}}]
["2002-10-16",{"$f":"NA()","v":{"$error":"#N/A"}}]
["2002-10-17",{"$f":"NA()","v":{"$error":"#N/A"}}]
["2002-10-18",{"$f":"NA()","v":{"$error":"#N/A"}}]
["2002-10-21",{"$f":"NA()","v":{"$error":"#N/A"}}]
["2002-10-22",{"$f":"NA()","v":{"$error":"#N/A"}}]
["2002-10-23",{"$f":"NA()","v":{"$error":"#N/A"}}]
["2002-10-24",{"$f":"NA()","v":{"$error":"#N/A"}}]
["2002-10-25",{"$f":"NA()","v":{"$error":"#N/A"}}]
["2002-10-28",{"$f":"NA()","v":{"$error":"#N/A"}}]
["2002-10-29",{"$f":"NA()","v":{"$error":"#N/A"}}]
["2002-10-30",{"$f":"NA()","v":{"$error":"#N/A"}}]
["2002-10-31",{"$f":"NA()","v":{"$error":"#N/A"}}]
["2002-11-01",{"$f":"NA()","v":{"$error":"#N/A"}}]
["2002-11-04",{"$f":"NA()","v":{"$error":"#N/A"}}]
["2002-11-05",{"$f":"NA()","v":{"$error":"#N/A"}}]
["2002-11-06",{"$f":"NA()","v":{"$error":"#N/A"}}]
["2002-11-07",{"$f":"NA()","v":{"$error":"#N/A"}}]
["2002-11-08",{"$f":"NA()","v":{"$error":"#N/A"}}]
["2002-11-11",{"$f":"NA()","v":{"$error":"#N/A"}}]
["2002-11-12",{"$f":"NA()","v":{"$error":"#N/A"}}]
["2002-11-13",{"$f":"NA()","v":{"$error":"#N/A"}}]
["2002-11-14",{"$f":"NA()","v":{"$error":"#N/A"}}]
["2002-11-15",{"$f":"NA()","v":{"$error":"#N/A"}}]
["2002-11-18",{"$f":"NA()","v":{"$error":"#N/A"}}]
["2002-11-19",{"$f":"NA()","v":{"$error":"#N/A"}}]
["2002-11-20",{"$f":"NA()","v":{"$error":"#N/A"}}]
["2002-11-21",{"$f":"NA()","v":{"$error":"#N/A"}}]
["2002-11-22",{"$f":"NA()","v":{"$error":"#N/A"}}]
["2002-11-25",{"$f":"NA()","v":{"$error":"#N/A"}}]
["2002-11-26",{"$f":"NA()","v":{"$error":"#N/A"}}]
["2002-11-27",{"$f":"NA()","v":{"$error":"#N/A"}}]
["2002-11-28",{"$f":"NA()","v":{"$error":"#N/A"}}]
["2002-11-29",{"$f":"NA()","v":{"$error":"#N/A"}}]
["2002-12-02",{"$f":"NA()","v":{"$error":"#N/A"}}]
["2002-12-03",{"$f":"NA()","v":{"$error":"#N/A"}}]
["2002-12-04",{"$f":"NA()","v":{"$error":"#N/A"}}]
["2002-12-05",{"$f":"NA()","v":{"$error":"#N/A"}}]
["2002-12-06",{"$f":"NA()","v":{"$error":"#N/A"}}]
["2002-12-09",{"$f":"NA()","v":{"$error":"#N/A"}}]
["2002-12-10",{"$f":"NA()","v":{"$error":"#N/A"}}]
["2002-12-11",{"$f":"NA()","v":{"$error":"#N/A"}}]
["2002-12-12",{"$f":"NA()","v":{"$error":"#N/A"}}]
["2002-12-13",{"$f":"NA()","v":{"$error":"#N/A"}}]
["2002-12-16",{"$f":"NA()","v":{"$error":"#N/A"}}]
["2002-12-17",{"$f":"NA()","v":{"$error":"#N/A"}}]
["2002-12-18",{"$f":"NA()","v":{"$error":"#N/A"}}]
["2002-12-19",{"$f":"NA()","v":{"$error":"#N/A"}}]
["2002-12-20",{"$f":"NA()","v":{"$error":"#N/A"}}]
["2002-12-23",{"$f":"NA()","v":{"$error":"#N/A"}}]
["2002-12-24",{"$f":"NA()","v":{"$error":"#N/A"}}]
["2002-12-25",{"$f":"NA()","v":{"$error":"#N/A"}}]
["2002-12-26",{"$f":"NA()","v":{"$error":"#N/A"}}]
["2002-12-27",{"$f":"NA()","v":{"$error":"#N/A"}}]
["2002-12-30",{"$f":"NA()","v":{"$error":"#N/A"}}]
["2002-12-31",{"$f":"NA()","v":{"$error":"#N/A"}}]
["2003-01-01",{"$f":"NA()","v":{"$error":"#N/A"}}]
["2003-01-02",{"$f":"NA()","v":{"$error":"#N/A"}}]
["2003-01-03",{"$f":"NA()","v":{"$error":"#N/A"}}]
["2003-01-06",{"$f":"NA()","v":{"$error":"#N/A"}}]
["2003-01-07",{"$f":"NA()","v":{"$error":"#N/A"}}]
["2003-01-08",{"$f":"NA()","v":{"$error":"#N/A"}}]
["2003-01-09",{"$f":"NA()","v":{"$error":"#N/A"}}]
["2003-01-10",{"$f":"NA()","v":{"$error":"#N/A"}}]
["2003-01-13",{"$f":"NA()","v":{"$error":"#N/A"}}]
["2003-01-14",{"$f":"NA()","v":{"$error":"#N/A"}}]
["2003-01-15",{"$f":"NA()","v":{"$error":"#N/A"}}]
["2003-01-16",{"$f":"NA()","v":{"$error":"#N/A"}}]
["2003-01-17",{"$f":"NA()","v":{"$error":"#N/A"}}]
["2003-01-20",{"$f":"NA()","v":{"$error":"#N/A"}}]
["2003-01-21",{"$f":"NA()","v":{"$error":"#N/A"}}]
["2003-01-22",{"$f":"NA()","v":{"$error":"#N/A"}}]
["2003-01-23",{"$f":"NA()","v":{"$error":"#N/A"}}]
["2003-01-24",{"$f":"NA()","v":{"$error":"#N/A"}}]
["2003-01-27",{"$f":"NA()","v":{"$error":"#N/A"}}]
["2003-01-28",{"$f":"NA()","v":{"$error":"#N/A"}}]
["2003-01-29",{"$f":"NA()","v":{"$error":"#N/A"}}]
["2003-01-30",{"$f":"NA()","v":{"$error":"#N/A"}}]
["2003-01-31",{"$f":"NA()","v":{"$error":"#N/A"}}]
["2003-02-03",{"$f":"NA()","v":{"$error":"#N/A"}}]
["2003-02-04",{"$f":"NA()","v":{"$error":"#N/A"}}]
["2003-02-05",{"$f":"NA()","v":{"$error":"#N/A"}}]
["2003-02-06",{"$f":"NA()","v":{"$error":"#N/A"}}]
["2003-02-07",{"$f":"NA()","v":{"$error":"#N/A"}}]
["2003-02-10",{"$f":"NA()","v":{"$error":"#N/A"}}]
["2003-02-11",{"$f":"NA()","v":{"$error":"#N/A"}}]
["2003-02-12",{"$f":"NA()","v":{"$error":"#N/A"}}]
["2003-02-13",{"$f":"NA()","v":{"$error":"#N/A"}}]
["2003-02-14",{"$f":"NA()","v":{"$error":"#N/A"}}]
["2003-02-17",{"$f":"NA()","v":{"$error":"#N/A"}}]
["2003-02-18",{"$f":"NA()","v":{"$error":"#N/A"}}]
["2003-02-19",{"$f":"NA()","v":{"$error":"#N/A"}}]
["2003-02-20",{"$f":"NA()","v":{"$error":"#N/A"}}]
["2003-02-21",{"$f":"NA()","v":{"$error":"#N/A"}}]
["2003-02-24",{"$f":"NA()","v":{"$error":"#N/A"}}]
["2003-02-25",{"$f":"NA()","v":{"$error":"#N/A"}}]
["2003-02-26",{"$f":"NA()","v":{"$error":"#N/A"}}]
["2003-02-27",{"$f":"NA()","v":{"$error":"#N/A"}}]
["2003-02-28",{"$f":"NA()","v":{"$error":"#N/A"}}]
["2003-03-03",{"$f":"NA()","v":{"$error":"#N/A"}}]
["2003-03-04",{"$f":"NA()","v":{"$error":"#N/A"}}]
["2003-03-05",{"$f":"NA()","v":{"$error":"#N/A"}}]
["2003-03-06",{"$f":"NA()","v":{"$error":"#N/A"}}]
["2003-03-07",{"$f":"NA()","v":{"$error":"#N/A"}}]
["2003-03-10",{"$f":"NA()","v":{"$error":"#N/A"}}]
["2003-03-11",{"$f":"NA()","v":{"$error":"#N/A"}}]
["2003-03-12",{"$f":"NA()","v":{"$error":"#N/A"}}]
["2003-03-13",{"$f":"NA()","v":{"$error":"#N/A"}}]
["2003-03-14",{"$f":"NA()","v":{"$error":"#N/A"}}]
["2003-03-17",{"$f":"NA()","v":{"$error":"#N/A"}}]
["2003-03-18",{"$f":"NA()","v":{"$error":"#N/A"}}]
["2003-03-19",{"$f":"NA()","v":{"$error":"#N/A"}}]
["2003-03-20",{"$f":"NA()","v":{"$error":"#N/A"}}]
["2003-03-21",{"$f":"NA()","v":{"$error":"#N/A"}}]
["2003-03-24",{"$f":"NA()","v":{"$error":"#N/A"}}]
["2003-03-25",{"$f":"NA()","v":{"$error":"#N/A"}}]
["2003-03-26",{"$f":"NA()","v":{"$error":"#N/A"}}]
["2003-03-27",{"$f":"NA()","v":{"$error":"#N/A"}}]
["2003-03-28",{"$f":"NA()","v":{"$error":"#N/A"}}]
["2003-03-31",{"$f":"NA()","v":{"$error":"#N/A"}}]
["2003-04-01",{"$f":"NA()","v":{"$error":"#N/A"}}]
["2003-04-02",{"$f":"NA()","v":{"$error":"#N/A"}}]
["2003-04-03",{"$f":"NA()","v":{"$error":"#N/A"}}]
["2003-04-04",{"$f":"NA()","v":{"$error":"#N/A"}}]
["2003-04-07",{"$f":"NA()","v":{"$error":"#N/A"}}]
["2003-04-08",{"$f":"NA()","v":{"$error":"#N/A"}}]
["2003-04-09",{"$f":"NA()","v":{"$error":"#N/A"}}]
["2003-04-10",{"$f":"NA()","v":{"$error":"#N/A"}}]
["2003-04-11",{"$f":"NA()","v":{"$error":"#N/A"}}]
["2003-04-14",{"$f":"NA()","v":{"$error":"#N/A"}}]
["2003-04-15",{"$f":"NA()","v":{"$error":"#N/A"}}]
["2003-04-16",{"$f":"NA()","v":{"$error":"#N/A"}}]
["2003-04-17",{"$f":"NA()","v":{"$error":"#N/A"}}]
["2003-04-18",{"$f":"NA()","v":{"$error":"#N/A"}}]
["2003-04-21",{"$f":"NA()","v":{"$error":"#N/A"}}]
["2003-04-22",{"$f":"NA()","v":{"$error":"#N/A"}}]
["2003-04-23",{"$f":"NA()","v":{"$error":"#N/A"}}]
["2003-04-24",{"$f":"NA()","v":{"$error":"#N/A"}}]
["2003-04-25",{"$f":"NA()","v":{"$error":"#N/A"}}]
["2003-04-28",{"$f":"NA()","v":{"$error":"#N/A"}}]
["2003-04-29",{"$f":"NA()","v":{"$error":"#N/A"}}]
["2003-04-30",{"$f":"NA()","v":{"$error":"#N/A"}}]
["2003-05-01",{"$f":"NA()","v":{"$error":"#N/A"}}]
["2003-05-02",{"$f":"NA()","v":{"$error":"#N/A"}}]
["2003-05-05",{"$f":"NA()","v":{"$error":"#N/A"}}]
["2003-05-06",{"$f":"NA()","v":{"$error":"#N/A"}}]
["2003-05-07",{"$f":"NA()","v":{"$error":"#N/A"}}]
["2003-05-08",{"$f":"NA()","v":{"$error":"#N/A"}}]
["2003-05-09",{"$f":"NA()","v":{"$error":"#N/A"}}]
["2003-05-12",{"$f":"NA()","v":{"$error":"#N/A"}}]
["2003-05-13",{"$f":"NA()","v":{"$error":"#N/A"}}]
["2003-05-14",{"$f":"NA()","v":{"$error":"#N/A"}}]
["2003-05-15",{"$f":"NA()","v":{"$error":"#N/A"}}]
["2003-05-16",{"$f":"NA()","v":{"$error":"#N/A"}}]
["2003-05-19",{"$f":"NA()","v":{"$error":"#N/A"}}]
["2003-05-20",{"$f":"NA()","v":{"$error":"#N/A"}}]
["2003-05-21",{"$f":"NA()","v":{"$error":"#N/A"}}]
["2003-05-22",{"$f":"NA()","v":{"$error":"#N/A"}}]
["2003-05-23",{"$f":"NA()","v":{"$error":"#N/A"}}]
["2003-05-26",{"$f":"NA()","v":{"$error":"#N/A"}}]
["2003-05-27",{"$f":"NA()","v":{"$error":"#N/A"}}]
["2003-05-28",{"$f":"NA()","v":{"$error":"#N/A"}}]
["2003-05-29",{"$f":"NA()","v":{"$error":"#N/A"}}]
["2003-05-30",{"$f":"NA()","v":{"$error":"#N/A"}}]
["2003-06-02",{"$f":"NA()","v":{"$error":"#N/A"}}]
["2003-06-03",{"$f":"NA()","v":{"$error":"#N/A"}}]
["2003-06-04",{"$f":"NA()","v":{"$error":"#N/A"}}]
["2003-06-05",{"$f":"NA()","v":{"$error":"#N/A"}}]
["2003-06-06",{"$f":"NA()","v":{"$error":"#N/A"}}]
["2003-06-09",{"$f":"NA()","v":{"$error":"#N/A"}}]
["2003-06-10",{"$f":"NA()","v":{"$error":"#N/A"}}]
["2003-06-11",{"$f":"NA()","v":{"$error":"#N/A"}}]
["2003-06-12",{"$f":"NA()","v":{"$error":"#N/A"}}]
["2003-06-13",{"$f":"NA()","v":{"$error":"#N/A"}}]
["2003-06-16",{"$f":"NA()","v":{"$error":"#N/A"}}]
["2003-06-17",{"$f":"NA()","v":{"$error":"#N/A"}}]
["2003-06-18",{"$f":"NA()","v":{"$error":"#N/A"}}]
["2003-06-19",{"$f":"NA()","v":{"$error":"#N/A"}}]
["2003-06-20",{"$f":"NA()","v":{"$error":"#N/A"}}]
["2003-06-23",{"$f":"NA()","v":{"$error":"#N/A"}}]
["2003-06-24",{"$f":"NA()","v":{"$error":"#N/A"}}]
["2003-06-25",{"$f":"NA()","v":{"$error":"#N/A"}}]
["2003-06-26",{"$f":"NA()","v":{"$error":"#N/A"}}]
["2003-06-27",{"$f":"NA()","v":{"$error":"#N/A"}}]
["2003-06-30",{"$f":"NA()","v":{"$error":"#N/A"}}]
["2003-07-01",{"$f":"NA()","v":{"$error":"#N/A"}}]
["2003-07-02",{"$f":"NA()","v":{"$error":"#N/A"}}]
["2003-07-03",{"$f":"NA()","v":{"$error":"#N/A"}}]
["2003-07-04",{"$f":"NA()","v":{"$error":"#N/A"}}]
["2003-07-07",{"$f":"NA()","v":{"$error":"#N/A"}}]
["2003-07-08",{"$f":"NA()","v":{"$error":"#N/A"}}]
["2003-07-09",{"$f":"NA()","v":{"$error":"#N/A"}}]
["2003-07-10",{"$f":"NA()","v":{"$error":"#N/A"}}]
["2003-07-11",{"$f":"NA()","v":{"$error":"#N/A"}}]
["2003-07-14",{"$f":"NA()","v":{"$error":"#N/A"}}]
["2003-07-15",{"$f":"NA()","v":{"$error":"#N/A"}}]
["2003-07-16",{"$f":"NA()","v":{"$error":"#N/A"}}]
["2003-07-17",{"$f":"NA()","v":{"$error":"#N/A"}}]
["2003-07-18",{"$f":"NA()","v":{"$error":"#N/A"}}]
["2003-07-21",{"$f":"NA()","v":{"$error":"#N/A"}}]
["2003-07-22",{"$f":"NA()","v":{"$error":"#N/A"}}]
["2003-07-23",{"$f":"NA()","v":{"$error":"#N/A"}}]
["2003-07-24",{"$f":"NA()","v":{"$error":"#N/A"}}]
["2003-07-25",{"$f":"NA()","v":{"$error":"#N/A"}}]
["2003-07-28",{"$f":"NA()","v":{"$error":"#N/A"}}]
["2003-07-29",{"$f":"NA()","v":{"$error":"#N/A"}}]
["2003-07-30",{"$f":"NA()","v":{"$error":"#N/A"}}]
["2003-07-31",{"$f":"NA()","v":{"$error":"#N/A"}}]
["2003-08-01",{"$f":"NA()","v":{"$error":"#N/A"}}]
["2003-08-04",{"$f":"NA()","v":{"$error":"#N/A"}}]
["2003-08-05",{"$f":"NA()","v":{"$error":"#N/A"}}]
["2003-08-06",{"$f":"NA()","v":{"$error":"#N/A"}}]
["2003-08-07",{"$f":"NA()","v":{"$error":"#N/A"}}]
["2003-08-08",{"$f":"NA()","v":{"$error":"#N/A"}}]
["2003-08-11",{"$f":"NA()","v":{"$error":"#N/A"}}]
["2003-08-12",{"$f":"NA()","v":{"$error":"#N/A"}}]
["2003-08-13",{"$f":"NA()","v":{"$error":"#N/A"}}]
["2003-08-14",{"$f":"NA()","v":{"$error":"#N/A"}}]
["2003-08-15",{"$f":"NA()","v":{"$error":"#N/A"}}]
["2003-08-18",{"$f":"NA()","v":{"$error":"#N/A"}}]
["2003-08-19",{"$f":"NA()","v":{"$error":"#N/A"}}]
["2003-08-20",{"$f":"NA()","v":{"$error":"#N/A"}}]
["2003-08-21",{"$f":"NA()","v":{"$error":"#N/A"}}]
["2003-08-22",{"$f":"NA()","v":{"$error":"#N/A"}}]
["2003-08-25",{"$f":"NA()","v":{"$error":"#N/A"}}]
["2003-08-26",{"$f":"NA()","v":{"$error":"#N/A"}}]
["2003-08-27",{"$f":"NA()","v":{"$error":"#N/A"}}]
["2003-08-28",{"$f":"NA()","v":{"$error":"#N/A"}}]
["2003-08-29",{"$f":"NA()","v":{"$error":"#N/A"}}]
["2003-09-01",{"$f":"NA()","v":{"$error":"#N/A"}}]
["2003-09-02",{"$f":"NA()","v":{"$error":"#N/A"}}]
["2003-09-03",{"$f":"NA()","v":{"$error":"#N/A"}}]
["2003-09-04",{"$f":"NA()","v":{"$error":"#N/A"}}]
["2003-09-05",{"$f":"NA()","v":{"$error":"#N/A"}}]
["2003-09-08",{"$f":"NA()","v":{"$error":"#N/A"}}]
["2003-09-09",{"$f":"NA()","v":{"$error":"#N/A"}}]
["2003-09-10",{"$f":"NA()","v":{"$error":"#N/A"}}]
["2003-09-11",{"$f":"NA()","v":{"$error":"#N/A"}}]
["2003-09-12",{"$f":"NA()","v":{"$error":"#N/A"}}]
["2003-09-15",{"$f":"NA()","v":{"$error":"#N/A"}}]
["2003-09-16",{"$f":"NA()","v":{"$error":"#N/A"}}]
["2003-09-17",{"$f":"NA()","v":{"$error":"#N/A"}}]
["2003-09-18",{"$f":"NA()","v":{"$error":"#N/A"}}]
["2003-09-19",{"$f":"NA()","v":{"$error":"#N/A"}}]
["2003-09-22",{"$f":"NA()","v":{"$error":"#N/A"}}]
["2003-09-23",{"$f":"NA()","v":{"$error":"#N/A"}}]
["2003-09-24",{"$f":"NA()","v":{"$error":"#N/A"}}]
["2003-09-25",{"$f":"NA()","v":{"$error":"#N/A"}}]
["2003-09-26",{"$f":"NA()","v":{"$error":"#N/A"}}]
["2003-09-29",{"$f":"NA()","v":{"$error":"#N/A"}}]
["2003-09-30",{"$f":"NA()","v":{"$error":"#N/A"}}]
["2003-10-01",{"$f":"NA()","v":{"$error":"#N/A"}}]
["2003-10-02",{"$f":"NA()","v":{"$error":"#N/A"}}]
["2003-10-03",{"$f":"NA()","v":{"$error":"#N/A"}}]
["2003-10-06",{"$f":"NA()","v":{"$error":"#N/A"}}]
["2003-10-07",{"$f":"NA()","v":{"$error":"#N/A"}}]
["2003-10-08",{"$f":"NA()","v":{"$error":"#N/A"}}]
["2003-10-09",{"$f":"NA()","v":{"$error":"#N/A"}}]
["2003-10-10",{"$f":"NA()","v":{"$error":"#N/A"}}]
["2003-10-13",{"$f":"NA()","v":{"$error":"#N/A"}}]
["2003-10-14",{"$f":"NA()","v":{"$error":"#N/A"}}]
["2003-10-15",{"$f":"NA()","v":{"$error":"#N/A"}}]
["2003-10-16",{"$f":"NA()","v":{"$error":"#N/A"}}]
["2003-10-17",{"$f":"NA()","v":{"$error":"#N/A"}}]
["2003-10-20",{"$f":"NA()","v":{"$error":"#N/A"}}]
["2003-10-21",{"$f":"NA()","v":{"$error":"#N/A"}}]
["2003-10-22",{"$f":"NA()","v":{"$error":"#N/A"}}]
["2003-10-23",{"$f":"NA()","v":{"$error":"#N/A"}}]
["2003-10-24",{"$f":"NA()","v":{"$error":"#N/A"}}]
["2003-10-27",{"$f":"NA()","v":{"$error":"#N/A"}}]
["2003-10-28",{"$f":"NA()","v":{"$error":"#N/A"}}]
["2003-10-29",{"$f":"NA()","v":{"$error":"#N/A"}}]
["2003-10-30",{"$f":"NA()","v":{"$error":"#N/A"}}]
["2003-10-31",{"$f":"NA()","v":{"$error":"#N/A"}}]
["2003-11-03",{"$f":"NA()","v":{"$error":"#N/A"}}]
["2003-11-04",{"$f":"NA()","v":{"$error":"#N/A"}}]
["2003-11-05",{"$f":"NA()","v":{"$error":"#N/A"}}]
["2003-11-06",{"$f":"NA()","v":{"$error":"#N/A"}}]
["2003-11-07",{"$f":"NA()","v":{"$error":"#N/A"}}]
["2003-11-10",{"$f":"NA()","v":{"$error":"#N/A"}}]
["2003-11-11",{"$f":"NA()","v":{"$error":"#N/A"}}]
["2003-11-12",{"$f":"NA()","v":{"$error":"#N/A"}}]
["2003-11-13",{"$f":"NA()","v":{"$error":"#N/A"}}]
["2003-11-14",{"$f":"NA()","v":{"$error":"#N/A"}}]
["2003-11-17",{"$f":"NA()","v":{"$error":"#N/A"}}]
["2003-11-18",{"$f":"NA()","v":{"$error":"#N/A"}}]
["2003-11-19",{"$f":"NA()","v":{"$error":"#N/A"}}]
["2003-11-20",{"$f":"NA()","v":{"$error":"#N/A"}}]
["2003-11-21",{"$f":"NA()","v":{"$error":"#N/A"}}]
["2003-11-24",{"$f":"NA()","v":{"$error":"#N/A"}}]
["2003-11-25",{"$f":"NA()","v":{"$error":"#N/A"}}]
["2003-11-26",{"$f":"NA()","v":{"$error":"#N/A"}}]
["2003-11-27",{"$f":"NA()","v":{"$error":"#N/A"}}]
["2003-11-28",{"$f":"NA()","v":{"$error":"#N/A"}}]
["2003-12-01",{"$f":"NA()","v":{"$error":"#N/A"}}]
["2003-12-02",{"$f":"NA()","v":{"$error":"#N/A"}}]
["2003-12-03",{"$f":"NA()","v":{"$error":"#N/A"}}]
["2003-12-04",{"$f":"NA()","v":{"$error":"#N/A"}}]
["2003-12-05",{"$f":"NA()","v":{"$error":"#N/A"}}]
["2003-12-08",{"$f":"NA()","v":{"$error":"#N/A"}}]
["2003-12-09",{"$f":"NA()","v":{"$error":"#N/A"}}]
["2003-12-10",{"$f":"NA()","v":{"$error":"#N/A"}}]
["2003-12-11",{"$f":"NA()","v":{"$error":"#N/A"}}]
["2003-12-12",{"$f":"NA()","v":{"$error":"#N/A"}}]
["2003-12-15",{"$f":"NA()","v":{"$error":"#N/A"}}]
["2003-12-16",{"$f":"NA()","v":{"$error":"#N/A"}}]
["2003-12-17",{"$f":"NA()","v":{"$error":"#N/A"}}]
["2003-12-18",{"$f":"NA()","v":{"$error":"#N/A"}}]
["2003-12-19",{"$f":"NA()","v":{"$error":"#N/A"}}]
["2003-12-22",{"$f":"NA()","v":{"$error":"#N/A"}}]
["2003-12-23",{"$f":"NA()","v":{"$error":"#N/A"}}]
["2003-12-24",{"$f":"NA()","v":{"$error":"#N/A"}}]
["2003-12-25",{"$f":"NA()","v":{"$error":"#N/A"}}]
["2003-12-26",{"$f":"NA()","v":{"$error":"#N/A"}}]
["2003-12-29",{"$f":"NA()","v":{"$error":"#N/A"}}]
["2003-12-30",{"$f":"NA()","v":{"$error":"#N/A"}}]
["2003-12-31",{"$f":"NA()","v":{"$error":"#N/A"}}]
["2004-01-01",{"$f":"NA()","v":{"$error":"#N/A"}}]
["2004-01-02",{"$f":"NA()","v":{"$error":"#N/A"}}]
["2004-01-05",{"$f":"NA()","v":{"$error":"#N/A"}}]
["2004-01-06",{"$f":"NA()","v":{"$error":"#N/A"}}]
["2004-01-07",{"$f":"NA()","v":{"$error":"#N/A"}}]
["2004-01-08",{"$f":"NA()","v":{"$error":"#N/A"}}]
["2004-01-09",{"$f":"NA()","v":{"$error":"#N/A"}}]
["2004-01-12",{"$f":"NA()","v":{"$error":"#N/A"}}]
["2004-01-13",{"$f":"NA()","v":{"$error":"#N/A"}}]
["2004-01-14",{"$f":"NA()","v":{"$error":"#N/A"}}]
["2004-01-15",{"$f":"NA()","v":{"$error":"#N/A"}}]
["2004-01-16",{"$f":"NA()","v":{"$error":"#N/A"}}]
["2004-01-19",{"$f":"NA()","v":{"$error":"#N/A"}}]
["2004-01-20",{"$f":"NA()","v":{"$error":"#N/A"}}]
["2004-01-21",{"$f":"NA()","v":{"$error":"#N/A"}}]
["2004-01-22",{"$f":"NA()","v":{"$error":"#N/A"}}]
["2004-01-23",{"$f":"NA()","v":{"$error":"#N/A"}}]
["2004-01-26",{"$f":"NA()","v":{"$error":"#N/A"}}]
["2004-01-27",{"$f":"NA()","v":{"$error":"#N/A"}}]
["2004-01-28",{"$f":"NA()","v":{"$error":"#N/A"}}]
["2004-01-29",{"$f":"NA()","v":{"$error":"#N/A"}}]
["2004-01-30",{"$f":"NA()","v":{"$error":"#N/A"}}]
["2004-02-02",{"$f":"NA()","v":{"$error":"#N/A"}}]
["2004-02-03",{"$f":"NA()","v":{"$error":"#N/A"}}]
["2004-02-04",{"$f":"NA()","v":{"$error":"#N/A"}}]
["2004-02-05",{"$f":"NA()","v":{"$error":"#N/A"}}]
["2004-02-06",{"$f":"NA()","v":{"$error":"#N/A"}}]
["2004-02-09",{"$f":"NA()","v":{"$error":"#N/A"}}]
["2004-02-10",{"$f":"NA()","v":{"$error":"#N/A"}}]
["2004-02-11",{"$f":"NA()","v":{"$error":"#N/A"}}]
["2004-02-12",{"$f":"NA()","v":{"$error":"#N/A"}}]
["2004-02-13",{"$f":"NA()","v":{"$error":"#N/A"}}]
["2004-02-16",{"$f":"NA()","v":{"$error":"#N/A"}}]
["2004-02-17",{"$f":"NA()","v":{"$error":"#N/A"}}]
["2004-02-18",{"$f":"NA()","v":{"$error":"#N/A"}}]
["2004-02-19",{"$f":"NA()","v":{"$error":"#N/A"}}]
["2004-02-20",{"$f":"NA()","v":{"$error":"#N/A"}}]
["2004-02-23",{"$f":"NA()","v":{"$error":"#N/A"}}]
["2004-02-24",{"$f":"NA()","v":{"$error":"#N/A"}}]
["2004-02-25",{"$f":"NA()","v":{"$error":"#N/A"}}]
["2004-02-26",{"$f":"NA()","v":{"$error":"#N/A"}}]
["2004-02-27",{"$f":"NA()","v":{"$error":"#N/A"}}]
["2004-03-01",{"$f":"NA()","v":{"$error":"#N/A"}}]
["2004-03-02",{"$f":"NA()","v":{"$error":"#N/A"}}]
["2004-03-03",{"$f":"NA()","v":{"$error":"#N/A"}}]
["2004-03-04",{"$f":"NA()","v":{"$error":"#N/A"}}]
["2004-03-05",{"$f":"NA()","v":{"$error":"#N/A"}}]
["2004-03-08",{"$f":"NA()","v":{"$error":"#N/A"}}]
["2004-03-09",{"$f":"NA()","v":{"$error":"#N/A"}}]
["2004-03-10",{"$f":"NA()","v":{"$error":"#N/A"}}]
["2004-03-11",{"$f":"NA()","v":{"$error":"#N/A"}}]
["2004-03-12",{"$f":"NA()","v":{"$error":"#N/A"}}]
["2004-03-15",{"$f":"NA()","v":{"$error":"#N/A"}}]
["2004-03-16",{"$f":"NA()","v":{"$error":"#N/A"}}]
["2004-03-17",{"$f":"NA()","v":{"$error":"#N/A"}}]
["2004-03-18",{"$f":"NA()","v":{"$error":"#N/A"}}]
["2004-03-19",{"$f":"NA()","v":{"$error":"#N/A"}}]
["2004-03-22",{"$f":"NA()","v":{"$error":"#N/A"}}]
["2004-03-23",{"$f":"NA()","v":{"$error":"#N/A"}}]
["2004-03-24",{"$f":"NA()","v":{"$error":"#N/A"}}]
["2004-03-25",{"$f":"NA()","v":{"$error":"#N/A"}}]
["2004-03-26",{"$f":"NA()","v":{"$error":"#N/A"}}]
["2004-03-29",{"$f":"NA()","v":{"$error":"#N/A"}}]
["2004-03-30",{"$f":"NA()","v":{"$error":"#N/A"}}]
["2004-03-31",{"$f":"NA()","v":{"$error":"#N/A"}}]
["2004-04-01",{"$f":"NA()","v":{"$error":"#N/A"}}]
["2004-04-02",{"$f":"NA()","v":{"$error":"#N/A"}}]
["2004-04-05",{"$f":"NA()","v":{"$error":"#N/A"}}]
["2004-04-06",{"$f":"NA()","v":{"$error":"#N/A"}}]
["2004-04-07",{"$f":"NA()","v":{"$error":"#N/A"}}]
["2004-04-08",{"$f":"NA()","v":{"$error":"#N/A"}}]
["2004-04-09",{"$f":"NA()","v":{"$error":"#N/A"}}]
["2004-04-12",{"$f":"NA()","v":{"$error":"#N/A"}}]
["2004-04-13",{"$f":"NA()","v":{"$error":"#N/A"}}]
["2004-04-14",{"$f":"NA()","v":{"$error":"#N/A"}}]
["2004-04-15",{"$f":"NA()","v":{"$error":"#N/A"}}]
["2004-04-16",{"$f":"NA()","v":{"$error":"#N/A"}}]
["2004-04-19",{"$f":"NA()","v":{"$error":"#N/A"}}]
["2004-04-20",{"$f":"NA()","v":{"$error":"#N/A"}}]
["2004-04-21",{"$f":"NA()","v":{"$error":"#N/A"}}]
["2004-04-22",{"$f":"NA()","v":{"$error":"#N/A"}}]
["2004-04-23",{"$f":"NA()","v":{"$error":"#N/A"}}]
["2004-04-26",{"$f":"NA()","v":{"$error":"#N/A"}}]
["2004-04-27",{"$f":"NA()","v":{"$error":"#N/A"}}]
["2004-04-28",{"$f":"NA()","v":{"$error":"#N/A"}}]
["2004-04-29",{"$f":"NA()","v":{"$error":"#N/A"}}]
["2004-04-30",{"$f":"NA()","v":{"$error":"#N/A"}}]
["2004-05-03",{"$f":"NA()","v":{"$error":"#N/A"}}]
["2004-05-04",{"$f":"NA()","v":{"$error":"#N/A"}}]
["2004-05-05",{"$f":"NA()","v":{"$error":"#N/A"}}]
["2004-05-06",{"$f":"NA()","v":{"$error":"#N/A"}}]
["2004-05-07",{"$f":"NA()","v":{"$error":"#N/A"}}]
["2004-05-10",{"$f":"NA()","v":{"$error":"#N/A"}}]
["2004-05-11",{"$f":"NA()","v":{"$error":"#N/A"}}]
["2004-05-12",{"$f":"NA()","v":{"$error":"#N/A"}}]
["2004-05-13",{"$f":"NA()","v":{"$error":"#N/A"}}]
["2004-05-14",{"$f":"NA()","v":{"$error":"#N/A"}}]
["2004-05-17",{"$f":"NA()","v":{"$error":"#N/A"}}]
["2004-05-18",{"$f":"NA()","v":{"$error":"#N/A"}}]
["2004-05-19",{"$f":"NA()","v":{"$error":"#N/A"}}]
["2004-05-20",{"$f":"NA()","v":{"$error":"#N/A"}}]
["2004-05-21",{"$f":"NA()","v":{"$error":"#N/A"}}]
["2004-05-24",{"$f":"NA()","v":{"$error":"#N/A"}}]
["2004-05-25",{"$f":"NA()","v":{"$error":"#N/A"}}]
["2004-05-26",{"$f":"NA()","v":{"$error":"#N/A"}}]
["2004-05-27",{"$f":"NA()","v":{"$error":"#N/A"}}]
["2004-05-28",{"$f":"NA()","v":{"$error":"#N/A"}}]
["2004-05-31",{"$f":"NA()","v":{"$error":"#N/A"}}]
["2004-06-01",{"$f":"NA()","v":{"$error":"#N/A"}}]
["2004-06-02",{"$f":"NA()","v":{"$error":"#N/A"}}]
["2004-06-03",{"$f":"NA()","v":{"$error":"#N/A"}}]
["2004-06-04",{"$f":"NA()","v":{"$error":"#N/A"}}]
["2004-06-07",{"$f":"NA()","v":{"$error":"#N/A"}}]
["2004-06-08",{"$f":"NA()","v":{"$error":"#N/A"}}]
["2004-06-09",{"$f":"NA()","v":{"$error":"#N/A"}}]
["2004-06-10",{"$f":"NA()","v":{"$error":"#N/A"}}]
["2004-06-11",{"$f":"NA()","v":{"$error":"#N/A"}}]
["2004-06-14",{"$f":"NA()","v":{"$error":"#N/A"}}]
["2004-06-15",{"$f":"NA()","v":{"$error":"#N/A"}}]
["2004-06-16",{"$f":"NA()","v":{"$error":"#N/A"}}]
["2004-06-17",{"$f":"NA()","v":{"$error":"#N/A"}}]
["2004-06-18",{"$f":"NA()","v":{"$error":"#N/A"}}]
["2004-06-21",{"$f":"NA()","v":{"$error":"#N/A"}}]
["2004-06-22",{"$f":"NA()","v":{"$error":"#N/A"}}]
["2004-06-23",{"$f":"NA()","v":{"$error":"#N/A"}}]
["2004-06-24",{"$f":"NA()","v":{"$error":"#N/A"}}]
["2004-06-25",{"$f":"NA()","v":{"$error":"#N/A"}}]
["2004-06-28",{"$f":"NA()","v":{"$error":"#N/A"}}]
["2004-06-29",{"$f":"NA()","v":{"$error":"#N/A"}}]
["2004-06-30",{"$f":"NA()","v":{"$error":"#N/A"}}]
["2004-07-01",{"$f":"NA()","v":{"$error":"#N/A"}}]
["2004-07-02",{"$f":"NA()","v":{"$error":"#N/A"}}]
["2004-07-05",{"$f":"NA()","v":{"$error":"#N/A"}}]
["2004-07-06",{"$f":"NA()","v":{"$error":"#N/A"}}]
["2004-07-07",{"$f":"NA()","v":{"$error":"#N/A"}}]
["2004-07-08",{"$f":"NA()","v":{"$error":"#N/A"}}]
["2004-07-09",{"$f":"NA()","v":{"$error":"#N/A"}}]
["2004-07-12",{"$f":"NA()","v":{"$error":"#N/A"}}]
["2004-07-13",{"$f":"NA()","v":{"$error":"#N/A"}}]
["2004-07-14",{"$f":"NA()","v":{"$error":"#N/A"}}]
["2004-07-15",{"$f":"NA()","v":{"$error":"#N/A"}}]
["2004-07-16",{"$f":"NA()","v":{"$error":"#N/A"}}]
["2004-07-19",{"$f":"NA()","v":{"$error":"#N/A"}}]
["2004-07-20",{"$f":"NA()","v":{"$error":"#N/A"}}]
["2004-07-21",{"$f":"NA()","v":{"$error":"#N/A"}}]
["2004-07-22",{"$f":"NA()","v":{"$error":"#N/A"}}]
["2004-07-23",{"$f":"NA()","v":{"$error":"#N/A"}}]
["2004-07-26",{"$f":"NA()","v":{"$error":"#N/A"}}]
["2004-07-27",{"$f":"NA()","v":{"$error":"#N/A"}}]
["2004-07-28",{"$f":"NA()","v":{"$error":"#N/A"}}]
["2004-07-29",{"$f":"NA()","v":{"$error":"#N/A"}}]
["2004-07-30",{"$f":"NA()","v":{"$error":"#N/A"}}]
["2004-08-02",{"$f":"NA()","v":{"$error":"#N/A"}}]
["2004-08-03",{"$f":"NA()","v":{"$error":"#N/A"}}]
["2004-08-04",{"$f":"NA()","v":{"$error":"#N/A"}}]
["2004-08-05",{"$f":"NA()","v":{"$error":"#N/A"}}]
["2004-08-06",{"$f":"NA()","v":{"$error":"#N/A"}}]
["2004-08-09",{"$f":"NA()","v":{"$error":"#N/A"}}]
["2004-08-10",{"$f":"NA()","v":{"$error":"#N/A"}}]
["2004-08-11",{"$f":"NA()","v":{"$error":"#N/A"}}]
["2004-08-12",{"$f":"NA()","v":{"$error":"#N/A"}}]
["2004-08-13",{"$f":"NA()","v":{"$error":"#N/A"}}]
["2004-08-16",{"$f":"NA()","v":{"$error":"#N/A"}}]
["2004-08-17",{"$f":"NA()","v":{"$error":"#N/A"}}]
["2004-08-18",{"$f":"NA()","v":{"$error":"#N/A"}}]
["2004-08-19",{"$f":"NA()","v":{"$error":"#N/A"}}]
["2004-08-20",{"$f":"NA()","v":{"$error":"#N/A"}}]
["2004-08-23",{"$f":"NA()","v":{"$error":"#N/A"}}]
["2004-08-24",{"$f":"NA()","v":{"$error":"#N/A"}}]
["2004-08-25",{"$f":"NA()","v":{"$error":"#N/A"}}]
["2004-08-26",{"$f":"NA()","v":{"$error":"#N/A"}}]
["2004-08-27",{"$f":"NA()","v":{"$error":"#N/A"}}]
["2004-08-30",{"$f":"NA()","v":{"$error":"#N/A"}}]
["2004-08-31",{"$f":"NA()","v":{"$error":"#N/A"}}]
["2004-09-01",{"$f":"NA()","v":{"$error":"#N/A"}}]
["2004-09-02",{"$f":"NA()","v":{"$error":"#N/A"}}]
["2004-09-03",{"$f":"NA()","v":{"$error":"#N/A"}}]
["2004-09-06",{"$f":"NA()","v":{"$error":"#N/A"}}]
["2004-09-07",{"$f":"NA()","v":{"$error":"#N/A"}}]
["2004-09-08",{"$f":"NA()","v":{"$error":"#N/A"}}]
["2004-09-09",{"$f":"NA()","v":{"$error":"#N/A"}}]
["2004-09-10",{"$f":"NA()","v":{"$error":"#N/A"}}]
["2004-09-13",{"$f":"NA()","v":{"$error":"#N/A"}}]
["2004-09-14",{"$f":"NA()","v":{"$error":"#N/A"}}]
["2004-09-15",{"$f":"NA()","v":{"$error":"#N/A"}}]
["2004-09-16",{"$f":"NA()","v":{"$error":"#N/A"}}]
["2004-09-17",{"$f":"NA()","v":{"$error":"#N/A"}}]
["2004-09-20",{"$f":"NA()","v":{"$error":"#N/A"}}]
["2004-09-21",{"$f":"NA()","v":{"$error":"#N/A"}}]
["2004-09-22",{"$f":"NA()","v":{"$error":"#N/A"}}]
["2004-09-23",{"$f":"NA()","v":{"$error":"#N/A"}}]
["2004-09-24",{"$f":"NA()","v":{"$error":"#N/A"}}]
["2004-09-27",{"$f":"NA()","v":{"$error":"#N/A"}}]
["2004-09-28",{"$f":"NA()","v":{"$error":"#N/A"}}]
["2004-09-29",{"$f":"NA()","v":{"$error":"#N/A"}}]
["2004-09-30",{"$f":"NA()","v":{"$error":"#N/A"}}]
["2004-10-01",{"$f":"NA()","v":{"$error":"#N/A"}}]
["2004-10-04",{"$f":"NA()","v":{"$error":"#N/A"}}]
["2004-10-05",{"$f":"NA()","v":{"$error":"#N/A"}}]
["2004-10-06",{"$f":"NA()","v":{"$error":"#N/A"}}]
["2004-10-07",{"$f":"NA()","v":{"$error":"#N/A"}}]
["2004-10-08",{"$f":"NA()","v":{"$error":"#N/A"}}]
["2004-10-11",{"$f":"NA()","v":{"$error":"#N/A"}}]
["2004-10-12",{"$f":"NA()","v":{"$error":"#N/A"}}]
["2004-10-13",{"$f":"NA()","v":{"$error":"#N/A"}}]
["2004-10-14",{"$f":"NA()","v":{"$error":"#N/A"}}]
["2004-10-15",{"$f":"NA()","v":{"$error":"#N/A"}}]
["2004-10-18",{"$f":"NA()","v":{"$error":"#N/A"}}]
["2004-10-19",{"$f":"NA()","v":{"$error":"#N/A"}}]
["2004-10-20",{"$f":"NA()","v":{"$error":"#N/A"}}]
["2004-10-21",{"$f":"NA()","v":{"$error":"#N/A"}}]
["2004-10-22",{"$f":"NA()","v":{"$error":"#N/A"}}]
["2004-10-25",{"$f":"NA()","v":{"$error":"#N/A"}}]
["2004-10-26",{"$f":"NA()","v":{"$error":"#N/A"}}]
["2004-10-27",{"$f":"NA()","v":{"$error":"#N/A"}}]
["2004-10-28",{"$f":"NA()","v":{"$error":"#N/A"}}]
["2004-10-29",{"$f":"NA()","v":{"$error":"#N/A"}}]
["2004-11-01",{"$f":"NA()","v":{"$error":"#N/A"}}]
["2004-11-02",{"$f":"NA()","v":{"$error":"#N/A"}}]
["2004-11-03",{"$f":"NA()","v":{"$error":"#N/A"}}]
["2004-11-04",{"$f":"NA()","v":{"$error":"#N/A"}}]
["2004-11-05",{"$f":"NA()","v":{"$error":"#N/A"}}]
["2004-11-08",{"$f":"NA()","v":{"$error":"#N/A"}}]
["2004-11-09",{"$f":"NA()","v":{"$error":"#N/A"}}]
["2004-11-10",{"$f":"NA()","v":{"$error":"#N/A"}}]
["2004-11-11",{"$f":"NA()","v":{"$error":"#N/A"}}]
["2004-11-12",{"$f":"NA()","v":{"$error":"#N/A"}}]
["2004-11-15",{"$f":"NA()","v":{"$error":"#N/A"}}]
["2004-11-16",{"$f":"NA()","v":{"$error":"#N/A"}}]
["2004-11-17",{"$f":"NA()","v":{"$error":"#N/A"}}]
["2004-11-18",{"$f":"NA()","v":{"$error":"#N/A"}}]
["2004-11-19",{"$f":"NA()","v":{"$error":"#N/A"}}]
["2004-11-22",{"$f":"NA()","v":{"$error":"#N/A"}}]
["2004-11-23",{"$f":"NA()","v":{"$error":"#N/A"}}]
["2004-11-24",{"$f":"NA()","v":{"$error":"#N/A"}}]
["2004-11-25",{"$f":"NA()","v":{"$error":"#N/A"}}]
["2004-11-26",{"$f":"NA()","v":{"$error":"#N/A"}}]
["2004-11-29",{"$f":"NA()","v":{"$error":"#N/A"}}]
["2004-11-30",{"$f":"NA()","v":{"$error":"#N/A"}}]
["2004-12-01",{"$f":"NA()","v":{"$error":"#N/A"}}]
["2004-12-02",{"$f":"NA()","v":{"$error":"#N/A"}}]
["2004-12-03",{"$f":"NA()","v":{"$error":"#N/A"}}]
["2004-12-06",{"$f":"NA()","v":{"$error":"#N/A"}}]
["2004-12-07",{"$f":"NA()","v":{"$error":"#N/A"}}]
["2004-12-08",{"$f":"NA()","v":{"$error":"#N/A"}}]
["2004-12-09",{"$f":"NA()","v":{"$error":"#N/A"}}]
["2004-12-10",{"$f":"NA()","v":{"$error":"#N/A"}}]
["2004-12-13",{"$f":"NA()","v":{"$error":"#N/A"}}]
["2004-12-14",{"$f":"NA()","v":{"$error":"#N/A"}}]
["2004-12-15",{"$f":"NA()","v":{"$error":"#N/A"}}]
["2004-12-16",{"$f":"NA()","v":{"$error":"#N/A"}}]
["2004-12-17",{"$f":"NA()","v":{"$error":"#N/A"}}]
["2004-12-20",{"$f":"NA()","v":{"$error":"#N/A"}}]
["2004-12-21",{"$f":"NA()","v":{"$error":"#N/A"}}]
["2004-12-22",{"$f":"NA()","v":{"$error":"#N/A"}}]
["2004-12-23",{"$f":"NA()","v":{"$error":"#N/A"}}]
["2004-12-24",{"$f":"NA()","v":{"$error":"#N/A"}}]
["2004-12-27",{"$f":"NA()","v":{"$error":"#N/A"}}]
["2004-12-28",{"$f":"NA()","v":{"$error":"#N/A"}}]
["2004-12-29",{"$f":"NA()","v":{"$error":"#N/A"}}]
["2004-12-30",{"$f":"NA()","v":{"$error":"#N/A"}}]
["2004-12-31",{"$f":"NA()","v":{"$error":"#N/A"}}]
["2005-01-03",{"$f":"NA()","v":{"$error":"#N/A"}}]
["2005-01-04",{"$f":"NA()","v":{"$error":"#N/A"}}]
["2005-01-05",{"$f":"NA()","v":{"$error":"#N/A"}}]
["2005-01-06",{"$f":"NA()","v":{"$error":"#N/A"}}]
["2005-01-07",{"$f":"NA()","v":{"$error":"#N/A"}}]
["2005-01-10",{"$f":"NA()","v":{"$error":"#N/A"}}]
["2005-01-11",{"$f":"NA()","v":{"$error":"#N/A"}}]
["2005-01-12",{"$f":"NA()","v":{"$error":"#N/A"}}]
["2005-01-13",{"$f":"NA()","v":{"$error":"#N/A"}}]
["2005-01-14",{"$f":"NA()","v":{"$error":"#N/A"}}]
["2005-01-17",{"$f":"NA()","v":{"$error":"#N/A"}}]
["2005-01-18",{"$f":"NA()","v":{"$error":"#N/A"}}]
["2005-01-19",{"$f":"NA()","v":{"$error":"#N/A"}}]
["2005-01-20",{"$f":"NA()","v":{"$error":"#N/A"}}]
["2005-01-21",{"$f":"NA()","v":{"$error":"#N/A"}}]
["2005-01-24",{"$f":"NA()","v":{"$error":"#N/A"}}]
["2005-01-25",{"$f":"NA()","v":{"$error":"#N/A"}}]
["2005-01-26",{"$f":"NA()","v":{"$error":"#N/A"}}]
["2005-01-27",{"$f":"NA()","v":{"$error":"#N/A"}}]
["2005-01-28",{"$f":"NA()","v":{"$error":"#N/A"}}]
["2005-01-31",{"$f":"NA()","v":{"$error":"#N/A"}}]
["2005-02-01",{"$f":"NA()","v":{"$error":"#N/A"}}]
["2005-02-02",{"$f":"NA()","v":{"$error":"#N/A"}}]
["2005-02-03",{"$f":"NA()","v":{"$error":"#N/A"}}]
["2005-02-04",{"$f":"NA()","v":{"$error":"#N/A"}}]
["2005-02-07",{"$f":"NA()","v":{"$error":"#N/A"}}]
["2005-02-08",{"$f":"NA()","v":{"$error":"#N/A"}}]
["2005-02-09",{"$f":"NA()","v":{"$error":"#N/A"}}]
["2005-02-10",{"$f":"NA()","v":{"$error":"#N/A"}}]
["2005-02-11",{"$f":"NA()","v":{"$error":"#N/A"}}]
["2005-02-14",{"$f":"NA()","v":{"$error":"#N/A"}}]
["2005-02-15",{"$f":"NA()","v":{"$error":"#N/A"}}]
["2005-02-16",{"$f":"NA()","v":{"$error":"#N/A"}}]
["2005-02-17",{"$f":"NA()","v":{"$error":"#N/A"}}]
["2005-02-18",{"$f":"NA()","v":{"$error":"#N/A"}}]
["2005-02-21",{"$f":"NA()","v":{"$error":"#N/A"}}]
["2005-02-22",{"$f":"NA()","v":{"$error":"#N/A"}}]
["2005-02-23",{"$f":"NA()","v":{"$error":"#N/A"}}]
["2005-02-24",{"$f":"NA()","v":{"$error":"#N/A"}}]
["2005-02-25",{"$f":"NA()","v":{"$error":"#N/A"}}]
["2005-02-28",{"$f":"NA()","v":{"$error":"#N/A"}}]
["2005-03-01",{"$f":"NA()","v":{"$error":"#N/A"}}]
["2005-03-02",{"$f":"NA()","v":{"$error":"#N/A"}}]
["2005-03-03",{"$f":"NA()","v":{"$error":"#N/A"}}]
["2005-03-04",{"$f":"NA()","v":{"$error":"#N/A"}}]
["2005-03-07",{"$f":"NA()","v":{"$error":"#N/A"}}]
["2005-03-08",{"$f":"NA()","v":{"$error":"#N/A"}}]
["2005-03-09",{"$f":"NA()","v":{"$error":"#N/A"}}]
["2005-03-10",{"$f":"NA()","v":{"$error":"#N/A"}}]
["2005-03-11",{"$f":"NA()","v":{"$error":"#N/A"}}]
["2005-03-14",{"$f":"NA()","v":{"$error":"#N/A"}}]
["2005-03-15",{"$f":"NA()","v":{"$error":"#N/A"}}]
["2005-03-16",{"$f":"NA()","v":{"$error":"#N/A"}}]
["2005-03-17",{"$f":"NA()","v":{"$error":"#N/A"}}]
["2005-03-18",{"$f":"NA()","v":{"$error":"#N/A"}}]
["2005-03-21",{"$f":"NA()","v":{"$error":"#N/A"}}]
["2005-03-22",{"$f":"NA()","v":{"$error":"#N/A"}}]
["2005-03-23",{"$f":"NA()","v":{"$error":"#N/A"}}]
["2005-03-24",{"$f":"NA()","v":{"$error":"#N/A"}}]
["2005-03-25",{"$f":"NA()","v":{"$error":"#N/A"}}]
["2005-03-28",{"$f":"NA()","v":{"$error":"#N/A"}}]
["2005-03-29",{"$f":"NA()","v":{"$error":"#N/A"}}]
["2005-03-30",{"$f":"NA()","v":{"$error":"#N/A"}}]
["2005-03-31",{"$f":"NA()","v":{"$error":"#N/A"}}]
["2005-04-01",{"$f":"NA()","v":{"$error":"#N/A"}}]
["2005-04-04",{"$f":"NA()","v":{"$error":"#N/A"}}]
["2005-04-05",{"$f":"NA()","v":{"$error":"#N/A"}}]
["2005-04-06",{"$f":"NA()","v":{"$error":"#N/A"}}]
["2005-04-07",{"$f":"NA()","v":{"$error":"#N/A"}}]
["2005-04-08",{"$f":"NA()","v":{"$error":"#N/A"}}]
["2005-04-11",{"$f":"NA()","v":{"$error":"#N/A"}}]
["2005-04-12",{"$f":"NA()","v":{"$error":"#N/A"}}]
["2005-04-13",{"$f":"NA()","v":{"$error":"#N/A"}}]
["2005-04-14",{"$f":"NA()","v":{"$error":"#N/A"}}]
["2005-04-15",{"$f":"NA()","v":{"$error":"#N/A"}}]
["2005-04-18",{"$f":"NA()","v":{"$error":"#N/A"}}]
["2005-04-19",{"$f":"NA()","v":{"$error":"#N/A"}}]
["2005-04-20",{"$f":"NA()","v":{"$error":"#N/A"}}]
["2005-04-21",{"$f":"NA()","v":{"$error":"#N/A"}}]
["2005-04-22",{"$f":"NA()","v":{"$error":"#N/A"}}]
["2005-04-25",{"$f":"NA()","v":{"$error":"#N/A"}}]
["2005-04-26",{"$f":"NA()","v":{"$error":"#N/A"}}]
["2005-04-27",{"$f":"NA()","v":{"$error":"#N/A"}}]
["2005-04-28",{"$f":"NA()","v":{"$error":"#N/A"}}]
["2005-04-29",{"$f":"NA()","v":{"$error":"#N/A"}}]
["2005-05-02",{"$f":"NA()","v":{"$error":"#N/A"}}]
["2005-05-03",{"$f":"NA()","v":{"$error":"#N/A"}}]
["2005-05-04",{"$f":"NA()","v":{"$error":"#N/A"}}]
["2005-05-05",{"$f":"NA()","v":{"$error":"#N/A"}}]
["2005-05-06",{"$f":"NA()","v":{"$error":"#N/A"}}]
["2005-05-09",{"$f":"NA()","v":{"$error":"#N/A"}}]
["2005-05-10",{"$f":"NA()","v":{"$error":"#N/A"}}]
["2005-05-11",{"$f":"NA()","v":{"$error":"#N/A"}}]
["2005-05-12",{"$f":"NA()","v":{"$error":"#N/A"}}]
["2005-05-13",{"$f":"NA()","v":{"$error":"#N/A"}}]
["2005-05-16",{"$f":"NA()","v":{"$error":"#N/A"}}]
["2005-05-17",{"$f":"NA()","v":{"$error":"#N/A"}}]
["2005-05-18",{"$f":"NA()","v":{"$error":"#N/A"}}]
["2005-05-19",{"$f":"NA()","v":{"$error":"#N/A"}}]
["2005-05-20",{"$f":"NA()","v":{"$error":"#N/A"}}]
["2005-05-23",{"$f":"NA()","v":{"$error":"#N/A"}}]
["2005-05-24",{"$f":"NA()","v":{"$error":"#N/A"}}]
["2005-05-25",{"$f":"NA()","v":{"$error":"#N/A"}}]
["2005-05-26",{"$f":"NA()","v":{"$error":"#N/A"}}]
["2005-05-27",{"$f":"NA()","v":{"$error":"#N/A"}}]
["2005-05-30",{"$f":"NA()","v":{"$error":"#N/A"}}]
["2005-05-31",{"$f":"NA()","v":{"$error":"#N/A"}}]
["2005-06-01",{"$f":"NA()","v":{"$error":"#N/A"}}]
["2005-06-02",{"$f":"NA()","v":{"$error":"#N/A"}}]
["2005-06-03",{"$f":"NA()","v":{"$error":"#N/A"}}]
["2005-06-06",{"$f":"NA()","v":{"$error":"#N/A"}}]
["2005-06-07",{"$f":"NA()","v":{"$error":"#N/A"}}]
["2005-06-08",{"$f":"NA()","v":{"$error":"#N/A"}}]
["2005-06-09",{"$f":"NA()","v":{"$error":"#N/A"}}]
["2005-06-10",{"$f":"NA()","v":{"$error":"#N/A"}}]
["2005-06-13",{"$f":"NA()","v":{"$error":"#N/A"}}]
["2005-06-14",{"$f":"NA()","v":{"$error":"#N/A"}}]
["2005-06-15",{"$f":"NA()","v":{"$error":"#N/A"}}]
["2005-06-16",{"$f":"NA()","v":{"$error":"#N/A"}}]
["2005-06-17",{"$f":"NA()","v":{"$error":"#N/A"}}]
["2005-06-20",{"$f":"NA()","v":{"$error":"#N/A"}}]
["2005-06-21",{"$f":"NA()","v":{"$error":"#N/A"}}]
["2005-06-22",{"$f":"NA()","v":{"$error":"#N/A"}}]
["2005-06-23",{"$f":"NA()","v":{"$error":"#N/A"}}]
["2005-06-24",{"$f":"NA()","v":{"$error":"#N/A"}}]
["2005-06-27",{"$f":"NA()","v":{"$error":"#N/A"}}]
["2005-06-28",{"$f":"NA()","v":{"$error":"#N/A"}}]
["2005-06-29",{"$f":"NA()","v":{"$error":"#N/A"}}]
["2005-06-30",{"$f":"NA()","v":{"$error":"#N/A"}}]
["2005-07-01",{"$f":"NA()","v":{"$error":"#N/A"}}]
["2005-07-04",{"$f":"NA()","v":{"$error":"#N/A"}}]
["2005-07-05",{"$f":"NA()","v":{"$error":"#N/A"}}]
["2005-07-06",{"$f":"NA()","v":{"$error":"#N/A"}}]
["2005-07-07",{"$f":"NA()","v":{"$error":"#N/A"}}]
["2005-07-08",{"$f":"NA()","v":{"$error":"#N/A"}}]
["2005-07-11",{"$f":"NA()","v":{"$error":"#N/A"}}]
["2005-07-12",{"$f":"NA()","v":{"$error":"#N/A"}}]
["2005-07-13",{"$f":"NA()","v":{"$error":"#N/A"}}]
["2005-07-14",{"$f":"NA()","v":{"$error":"#N/A"}}]
["2005-07-15",{"$f":"NA()","v":{"$error":"#N/A"}}]
["2005-07-18",{"$f":"NA()","v":{"$error":"#N/A"}}]
["2005-07-19",{"$f":"NA()","v":{"$error":"#N/A"}}]
["2005-07-20",{"$f":"NA()","v":{"$error":"#N/A"}}]
["2005-07-21",{"$f":"NA()","v":{"$error":"#N/A"}}]
["2005-07-22",{"$f":"NA()","v":{"$error":"#N/A"}}]
["2005-07-25",{"$f":"NA()","v":{"$error":"#N/A"}}]
["2005-07-26",{"$f":"NA()","v":{"$error":"#N/A"}}]
["2005-07-27",{"$f":"NA()","v":{"$error":"#N/A"}}]
["2005-07-28",{"$f":"NA()","v":{"$error":"#N/A"}}]
["2005-07-29",{"$f":"NA()","v":{"$error":"#N/A"}}]
["2005-08-01",{"$f":"NA()","v":{"$error":"#N/A"}}]
["2005-08-02",{"$f":"NA()","v":{"$error":"#N/A"}}]
["2005-08-03",{"$f":"NA()","v":{"$error":"#N/A"}}]
["2005-08-04",{"$f":"NA()","v":{"$error":"#N/A"}}]
["2005-08-05",{"$f":"NA()","v":{"$error":"#N/A"}}]
["2005-08-08",{"$f":"NA()","v":{"$error":"#N/A"}}]
["2005-08-09",{"$f":"NA()","v":{"$error":"#N/A"}}]
["2005-08-10",{"$f":"NA()","v":{"$error":"#N/A"}}]
["2005-08-11",{"$f":"NA()","v":{"$error":"#N/A"}}]
["2005-08-12",{"$f":"NA()","v":{"$error":"#N/A"}}]
["2005-08-15",{"$f":"NA()","v":{"$error":"#N/A"}}]
["2005-08-16",{"$f":"NA()","v":{"$error":"#N/A"}}]
["2005-08-17",{"$f":"NA()","v":{"$error":"#N/A"}}]
["2005-08-18",{"$f":"NA()","v":{"$error":"#N/A"}}]
["2005-08-19",{"$f":"NA()","v":{"$error":"#N/A"}}]
["2005-08-22",{"$f":"NA()","v":{"$error":"#N/A"}}]
["2005-08-23",{"$f":"NA()","v":{"$error":"#N/A"}}]
["2005-08-24",{"$f":"NA()","v":{"$error":"#N/A"}}]
["2005-08-25",{"$f":"NA()","v":{"$error":"#N/A"}}]
["2005-08-26",{"$f":"NA()","v":{"$error":"#N/A"}}]
["2005-08-29",{"$f":"NA()","v":{"$error":"#N/A"}}]
["2005-08-30",{"$f":"NA()","v":{"$error":"#N/A"}}]
["2005-08-31",{"$f":"NA()","v":{"$error":"#N/A"}}]
["2005-09-01",{"$f":"NA()","v":{"$error":"#N/A"}}]
["2005-09-02",{"$f":"NA()","v":{"$error":"#N/A"}}]
["2005-09-05",{"$f":"NA()","v":{"$error":"#N/A"}}]
["2005-09-06",{"$f":"NA()","v":{"$error":"#N/A"}}]
["2005-09-07",{"$f":"NA()","v":{"$error":"#N/A"}}]
["2005-09-08",{"$f":"NA()","v":{"$error":"#N/A"}}]
["2005-09-09",{"$f":"NA()","v":{"$error":"#N/A"}}]
["2005-09-12",{"$f":"NA()","v":{"$error":"#N/A"}}]
["2005-09-13",{"$f":"NA()","v":{"$error":"#N/A"}}]
["2005-09-14",{"$f":"NA()","v":{"$error":"#N/A"}}]
["2005-09-15",{"$f":"NA()","v":{"$error":"#N/A"}}]
["2005-09-16",{"$f":"NA()","v":{"$error":"#N/A"}}]
["2005-09-19",{"$f":"NA()","v":{"$error":"#N/A"}}]
["2005-09-20",{"$f":"NA()","v":{"$error":"#N/A"}}]
["2005-09-21",{"$f":"NA()","v":{"$error":"#N/A"}}]
["2005-09-22",{"$f":"NA()","v":{"$error":"#N/A"}}]
["2005-09-23",{"$f":"NA()","v":{"$error":"#N/A"}}]
["2005-09-26",{"$f":"NA()","v":{"$error":"#N/A"}}]
["2005-09-27",{"$f":"NA()","v":{"$error":"#N/A"}}]
["2005-09-28",{"$f":"NA()","v":{"$error":"#N/A"}}]
["2005-09-29",{"$f":"NA()","v":{"$error":"#N/A"}}]
["2005-09-30",{"$f":"NA()","v":{"$error":"#N/A"}}]
["2005-10-03",{"$f":"NA()","v":{"$error":"#N/A"}}]
["2005-10-04",{"$f":"NA()","v":{"$error":"#N/A"}}]
["2005-10-05",{"$f":"NA()","v":{"$error":"#N/A"}}]
["2005-10-06",{"$f":"NA()","v":{"$error":"#N/A"}}]
["2005-10-07",{"$f":"NA()","v":{"$error":"#N/A"}}]
["2005-10-10",{"$f":"NA()","v":{"$error":"#N/A"}}]
["2005-10-11",{"$f":"NA()","v":{"$error":"#N/A"}}]
["2005-10-12",{"$f":"NA()","v":{"$error":"#N/A"}}]
["2005-10-13",{"$f":"NA()","v":{"$error":"#N/A"}}]
["2005-10-14",{"$f":"NA()","v":{"$error":"#N/A"}}]
["2005-10-17",{"$f":"NA()","v":{"$error":"#N/A"}}]
["2005-10-18",{"$f":"NA()","v":{"$error":"#N/A"}}]
["2005-10-19",{"$f":"NA()","v":{"$error":"#N/A"}}]
["2005-10-20",{"$f":"NA()","v":{"$error":"#N/A"}}]
["2005-10-21",{"$f":"NA()","v":{"$error":"#N/A"}}]
["2005-10-24",{"$f":"NA()","v":{"$error":"#N/A"}}]
["2005-10-25",{"$f":"NA()","v":{"$error":"#N/A"}}]
["2005-10-26",{"$f":"NA()","v":{"$error":"#N/A"}}]
["2005-10-27",{"$f":"NA()","v":{"$error":"#N/A"}}]
["2005-10-28",{"$f":"NA()","v":{"$error":"#N/A"}}]
["2005-10-31",{"$f":"NA()","v":{"$error":"#N/A"}}]
["2005-11-01",{"$f":"NA()","v":{"$error":"#N/A"}}]
["2005-11-02",{"$f":"NA()","v":{"$error":"#N/A"}}]
["2005-11-03",{"$f":"NA()","v":{"$error":"#N/A"}}]
["2005-11-04",{"$f":"NA()","v":{"$error":"#N/A"}}]
["2005-11-07",{"$f":"NA()","v":{"$error":"#N/A"}}]
["2005-11-08",{"$f":"NA()","v":{"$error":"#N/A"}}]
["2005-11-09",{"$f":"NA()","v":{"$error":"#N/A"}}]
["2005-11-10",{"$f":"NA()","v":{"$error":"#N/A"}}]
["2005-11-11",{"$f":"NA()","v":{"$error":"#N/A"}}]
["2005-11-14",{"$f":"NA()","v":{"$error":"#N/A"}}]
["2005-11-15",{"$f":"NA()","v":{"$error":"#N/A"}}]
["2005-11-16",{"$f":"NA()","v":{"$error":"#N/A"}}]
["2005-11-17",{"$f":"NA()","v":{"$error":"#N/A"}}]
["2005-11-18",{"$f":"NA()","v":{"$error":"#N/A"}}]
["2005-11-21",{"$f":"NA()","v":{"$error":"#N/A"}}]
["2005-11-22",{"$f":"NA()","v":{"$error":"#N/A"}}]
["2005-11-23",{"$f":"NA()","v":{"$error":"#N/A"}}]
["2005-11-24",{"$f":"NA()","v":{"$error":"#N/A"}}]
["2005-11-25",{"$f":"NA()","v":{"$error":"#N/A"}}]
["2005-11-28",{"$f":"NA()","v":{"$error":"#N/A"}}]
["2005-11-29",{"$f":"NA()","v":{"$error":"#N/A"}}]
["2005-11-30",{"$f":"NA()","v":{"$error":"#N/A"}}]
["2005-12-01",{"$f":"NA()","v":{"$error":"#N/A"}}]
["2005-12-02",{"$f":"NA()","v":{"$error":"#N/A"}}]
["2005-12-05",{"$f":"NA()","v":{"$error":"#N/A"}}]
["2005-12-06",{"$f":"NA()","v":{"$error":"#N/A"}}]
["2005-12-07",{"$f":"NA()","v":{"$error":"#N/A"}}]
["2005-12-08",{"$f":"NA()","v":{"$error":"#N/A"}}]
["2005-12-09",{"$f":"NA()","v":{"$error":"#N/A"}}]
["2005-12-12",{"$f":"NA()","v":{"$error":"#N/A"}}]
["2005-12-13",{"$f":"NA()","v":{"$error":"#N/A"}}]
["2005-12-14",{"$f":"NA()","v":{"$error":"#N/A"}}]
["2005-12-15",{"$f":"NA()","v":{"$error":"#N/A"}}]
["2005-12-16",{"$f":"NA()","v":{"$error":"#N/A"}}]
["2005-12-19",{"$f":"NA()","v":{"$error":"#N/A"}}]
["2005-12-20",{"$f":"NA()","v":{"$error":"#N/A"}}]
["2005-12-21",{"$f":"NA()","v":{"$error":"#N/A"}}]
["2005-12-22",{"$f":"NA()","v":{"$error":"#N/A"}}]
["2005-12-23",{"$f":"NA()","v":{"$error":"#N/A"}}]
["2005-12-26",{"$f":"NA()","v":{"$error":"#N/A"}}]
["2005-12-27",{"$f":"NA()","v":{"$error":"#N/A"}}]
["2005-12-28",{"$f":"NA()","v":{"$error":"#N/A"}}]
["2005-12-29",{"$f":"NA()","v":{"$error":"#N/A"}}]
["2005-12-30",{"$f":"NA()","v":{"$error":"#N/A"}}]
["2006-01-02",{"$f":"NA()","v":{"$error":"#N/A"}}]
["2006-01-03",{"$f":"NA()","v":{"$error":"#N/A"}}]
["2006-01-04",{"$f":"NA()","v":{"$error":"#N/A"}}]
["2006-01-05",{"$f":"NA()","v":{"$error":"#N/A"}}]
["2006-01-06",{"$f":"NA()","v":{"$error":"#N/A"}}]
["2006-01-09",{"$f":"NA()","v":{"$error":"#N/A"}}]
["2006-01-10",{"$f":"NA()","v":{"$error":"#N/A"}}]
["2006-01-11",{"$f":"NA()","v":{"$error":"#N/A"}}]
["2006-01-12",{"$f":"NA()","v":{"$error":"#N/A"}}]
["2006-01-13",{"$f":"NA()","v":{"$error":"#N/A"}}]
["2006-01-16",{"$f":"NA()","v":{"$error":"#N/A"}}]
["2006-01-17",{"$f":"NA()","v":{"$error":"#N/A"}}]
["2006-01-18",{"$f":"NA()","v":{"$error":"#N/A"}}]
["2006-01-19",{"$f":"NA()","v":{"$error":"#N/A"}}]
["2006-01-20",{"$f":"NA()","v":{"$error":"#N/A"}}]
["2006-01-23",{"$f":"NA()","v":{"$error":"#N/A"}}]
["2006-01-24",{"$f":"NA()","v":{"$error":"#N/A"}}]
["2006-01-25",{"$f":"NA()","v":{"$error":"#N/A"}}]
["2006-01-26",{"$f":"NA()","v":{"$error":"#N/A"}}]
["2006-01-27",{"$f":"NA()","v":{"$error":"#N/A"}}]
["2006-01-30",{"$f":"NA()","v":{"$error":"#N/A"}}]
["2006-01-31",{"$f":"NA()","v":{"$error":"#N/A"}}]
["2006-02-01",{"$f":"NA()","v":{"$error":"#N/A"}}]
["2006-02-02",{"$f":"NA()","v":{"$error":"#N/A"}}]
["2006-02-03",{"$f":"NA()","v":{"$error":"#N/A"}}]
["2006-02-06",{"$f":"NA()","v":{"$error":"#N/A"}}]
["2006-02-07",{"$f":"NA()","v":{"$error":"#N/A"}}]
["2006-02-08",{"$f":"NA()","v":{"$error":"#N/A"}}]
["2006-02-09",4.51]
["2006-02-10",4.55]
["2006-02-13",4.5599999999999996]
["2006-02-14",4.5999999999999996]
["2006-02-15",4.58]
["2006-02-16",4.57]
["2006-02-17",4.51]
["2006-02-20",{"$f":"NA()","v":{"$error":"#N/A"}}]
["2006-02-21",4.53]
["2006-02-22",4.4800000000000004]
["2006-02-23",4.51]
["2006-02-24",4.5199999999999996]
["2006-02-27",4.55]
["2006-02-28",4.51]
["2006-03-01",4.5599999999999996]
["2006-03-02",4.62]
["2006-03-03",4.66]
["2006-03-06",4.72]
["2006-03-07",4.72]
["2006-03-08",4.72]
["2006-03-09",4.72]
["2006-03-10",4.74]
["2006-03-13",4.7699999999999996]
["2006-03-14",4.71]
["2006-03-15",4.75]
["2006-03-16",4.7]
["2006-03-17",4.72]
["2006-03-20",4.7]
["2006-03-21",4.74]
["2006-03-22",4.7300000000000004]
["2006-03-23",4.75]
["2006-03-24",4.7]
["2006-03-27",4.7300000000000004]
["2006-03-28",4.8]
["2006-03-29",4.84]
["2006-03-30",4.8899999999999997]
["2006-03-31",4.9000000000000004]
["2006-04-03",4.9000000000000004]
["2006-04-04",4.91]
["2006-04-05",4.9000000000000004]
["2006-04-06",4.96]
["2006-04-07",5.04]
["2006-04-10",5.04]
["2006-04-11",5]
["2006-04-12",5.05]
["2006-04-13",5.1100000000000003]
["2006-04-14",{"$f":"NA()","v":{"$error":"#N/A"}}]
["2006-04-17",5.08]
["2006-04-18",5.07]
["2006-04-19",5.13]
["2006-04-20",5.14]
["2006-04-21",5.0999999999999996]
["2006-04-24",5.07]
["2006-04-25",5.16]
["2006-04-26",5.18]
["2006-04-27",5.18]
["2006-04-28",5.17]
["2006-05-01",5.23]
["2006-05-02",5.2]
["2006-05-03",5.24]
["2006-05-04",5.23]
["2006-05-05",5.2]
["2006-05-08",5.19]
["2006-05-09",5.2]
["2006-05-10",5.19]
["2006-05-11",5.23]
["2006-05-12",5.29]
["2006-05-15",5.26]
["2006-05-16",5.22]
["2006-05-17",5.28]
["2006-05-18",5.18]
["2006-05-19",5.14]
["2006-05-22",5.13]
["2006-05-23",5.16]
["2006-05-24",5.13]
["2006-05-25",5.17]
["2006-05-26",5.16]
["2006-05-29",{"$f":"NA()","v":{"$error":"#N/A"}}]
["2006-05-30",5.19]
["2006-05-31",5.21]
["2006-06-01",5.2]
["2006-06-02",5.0999999999999996]
["2006-06-05",5.0999999999999996]
["2006-06-06",5.08]
["2006-06-07",5.09]
["2006-06-08",5.0599999999999996]
["2006-06-09",5.03]
["2006-06-12",5.03]
["2006-06-13",5.01]
["2006-06-14",5.09]
["2006-06-15",5.13]
["2006-06-16",5.17]
["2006-06-19",5.18]
["2006-06-20",5.19]
["2006-06-21",5.19]
["2006-06-22",5.23]
["2006-06-23",5.26]
["2006-06-26",5.28]
["2006-06-27",5.24]
["2006-06-28",5.28]
["2006-06-29",5.26]
["2006-06-30",5.19]
["2006-07-03",5.2]
["2006-07-04",{"$f":"NA()","v":{"$error":"#N/A"}}]
["2006-07-05",5.27]
["2006-07-06",5.23]
["2006-07-07",5.18]
["2006-07-10",5.17]
["2006-07-11",5.14]
["2006-07-12",5.14]
["2006-07-13",5.12]
["2006-07-14",5.1100000000000003]
["2006-07-17",5.0999999999999996]
["2006-07-18",5.16]
["2006-07-19",5.0999999999999996]
["2006-07-20",5.08]
["2006-07-21",5.0999999999999996]
["2006-07-24",5.1100000000000003]
["2006-07-25",5.13]
["2006-07-26",5.0999999999999996]
["2006-07-27",5.1100000000000003]
["2006-07-28",5.07]
["2006-07-31",5.07]
["2006-08-01",5.07]
["2006-08-02",5.05]
["2006-08-03",5.04]
["2006-08-04",5]
["2006-08-07",5]
["2006-08-08",5.0199999999999996]
["2006-08-09",5.05]
["2006-08-10",5.0599999999999996]
["2006-08-11",5.09]
["2006-08-14",5.12]
["2006-08-15",5.05]
["2006-08-16",5]
["2006-08-17",5]
["2006-08-18",4.97]
["2006-08-21",4.96]
["2006-08-22",4.95]
["2006-08-23",4.95]
["2006-08-24",4.9400000000000004]
["2006-08-25",4.93]
["2006-08-28",4.9400000000000004]
["2006-08-29",4.93]
["2006-08-30",4.91]
["2006-08-31",4.88]
["2006-09-01",4.87]
["2006-09-04",{"$f":"NA()","v":{"$error":"#N/A"}}]
["2006-09-05",4.93]
["2006-09-06",4.95]
["2006-09-07",4.9400000000000004]
["2006-09-08",4.92]
["2006-09-11",4.95]
["2006-09-12",4.91]
["2006-09-13",4.9000000000000004]
["2006-09-14",4.92]
["2006-09-15",4.92]
["2006-09-18",4.93]
["2006-09-19",4.8600000000000003]
["2006-09-20",4.8499999999999996]
["2006-09-21",4.78]
["2006-09-22",4.74]
["2006-09-25",4.7]
["2006-09-26",4.71]
["2006-09-27",4.7300000000000004]
["2006-09-28",4.76]
["2006-09-29",4.7699999999999996]
["2006-10-02",4.76]
["2006-10-03",4.76]
["2006-10-04",4.72]
["2006-10-05",4.76]
["2006-10-06",4.84]
["2006-10-09",{"$f":"NA()","v":{"$error":"#N/A"}}]
["2006-10-10",4.88]
["2006-10-11",4.91]
["2006-10-12",4.91]
["2006-10-13",4.9400000000000004]
["2006-10-16",4.92]
["2006-10-17",4.91]
["2006-10-18",4.8899999999999997]
["2006-10-19",4.91]
["2006-10-20",4.91]
["2006-10-23",4.95]
["2006-10-24",4.95]
["2006-10-25",4.8899999999999997]
["2006-10-26",4.84]
["2006-10-27",4.8]
["2006-10-30",4.78]
["2006-10-31",4.72]
["2006-11-01",4.68]
["2006-11-02",4.72]
["2006-11-03",4.8099999999999996]
["2006-11-06",4.79]
["2006-11-07",4.76]
["2006-11-08",4.7300000000000004]
["2006-11-09",4.7300000000000004]
["2006-11-10",4.6900000000000004]
["2006-11-13",4.71]
["2006-11-14",4.66]
["2006-11-15",4.6900000000000004]
["2006-11-16",4.74]
["2006-11-17",4.6900000000000004]
["2006-11-20",4.68]
["2006-11-21",4.66]
["2006-11-22",4.6500000000000004]
["2006-11-23",{"$f":"NA()","v":{"$error":"#N/A"}}]
["2006-11-24",4.63]
["2006-11-27",4.62]
["2006-11-28",4.59]
["2006-11-29",4.6100000000000003]
["2006-11-30",4.5599999999999996]
["2006-12-01",4.54]
["2006-12-04",4.55]
["2006-12-05",4.57]
["2006-12-06",4.5999999999999996]
["2006-12-07",4.5999999999999996]
["2006-12-08",4.66]
["2006-12-11",4.63]
["2006-12-12",4.5999999999999996]
["2006-12-13",4.6900000000000004]
["2006-12-14",4.72]
["2006-12-15",4.72]
["2006-12-18",4.72]
["2006-12-19",4.7300000000000004]
["2006-12-20",4.7300000000000004]
["2006-12-21",4.7]
["2006-12-22",4.76]
["2006-12-25",{"$f":"NA()","v":{"$error":"#N/A"}}]
["2006-12-26",4.7300000000000004]
["2006-12-27",4.78]
["2006-12-28",4.8099999999999996]
["2006-12-29",4.8099999999999996]
["2007-01-01",{"$f":"NA()","v":{"$error":"#N/A"}}]
["2007-01-02",4.79]
["2007-01-03",4.7699999999999996]
["2007-01-04",4.72]
["2007-01-05",4.74]
["2007-01-08",4.74]
["2007-01-09",4.74]
["2007-01-10",4.7699999999999996]
["2007-01-11",4.82]
["2007-01-12",4.8600000000000003]
["2007-01-15",{"$f":"NA()","v":{"$error":"#N/A"}}]
["2007-01-16",4.8499999999999996]
["2007-01-17",4.88]
["2007-01-18",4.8499999999999996]
["2007-01-19",4.87]
["2007-01-22",4.84]
["2007-01-23",4.9000000000000004]
["2007-01-24",4.91]
["2007-01-25",4.96]
["2007-01-26",4.9800000000000004]
["2007-01-29",4.99]
["2007-01-30",4.9800000000000004]
["2007-01-31",4.93]
["2007-02-01",4.93]
["2007-02-02",4.93]
["2007-02-05",4.91]
["2007-02-06",4.87]
["2007-02-07",4.8600000000000003]
["2007-02-08",4.8099999999999996]
["2007-02-09",4.87]
["2007-02-12",4.88]
["2007-02-13",4.9000000000000004]
["2007-02-14",4.83]
["2007-02-15",4.8099999999999996]
["2007-02-16",4.79]
["2007-02-19",{"$f":"NA()","v":{"$error":"#N/A"}}]
["2007-02-20",4.78]
["2007-02-21",4.79]
["2007-02-22",4.83]
["2007-02-23",4.79]
["2007-02-26",4.7300000000000004]
["2007-02-27",4.62]
["2007-02-28",4.68]
["2007-03-01",4.68]
["2007-03-02",4.6500000000000004]
["2007-03-05",4.6399999999999997]
["2007-03-06",4.66]
["2007-03-07",4.6399999999999997]
["2007-03-08",4.6500000000000004]
["2007-03-09",4.72]
["2007-03-12",4.6900000000000004]
["2007-03-13",4.66]
["2007-03-14",4.6900000000000004]
["2007-03-15",4.6900000000000004]
["2007-03-16",4.7]
["2007-03-19",4.72]
["2007-03-20",4.71]
["2007-03-21",4.7]
["2007-03-22",4.78]
["2007-03-23",4.8]
["2007-03-26",4.79]
["2007-03-27",4.8099999999999996]
["2007-03-28",4.83]
["2007-03-29",4.83]
["2007-03-30",4.84]
["2007-04-02",4.84]
["2007-04-03",4.8499999999999996]
["2007-04-04",4.8499999999999996]
["2007-04-05",4.87]
["2007-04-06",4.92]
["2007-04-09",4.92]
["2007-04-10",4.91]
["2007-04-11",4.92]
["2007-04-12",4.91]
["2007-04-13",4.93]
["2007-04-16",4.8899999999999997]
["2007-04-17",4.8499999999999996]
["2007-04-18",4.8099999999999996]
["2007-04-19",4.84]
["2007-04-20",4.8499999999999996]
["2007-04-23",4.83]
["2007-04-24",4.8]
["2007-04-25",4.83]
["2007-04-26",4.87]
["2007-04-27",4.8899999999999997]
["2007-04-30",4.8099999999999996]
["2007-05-01",4.8099999999999996]
["2007-05-02",4.82]
["2007-05-03",4.84]
["2007-05-04",4.8]
["2007-05-07",4.79]
["2007-05-08",4.8]
["2007-05-09",4.83]
["2007-05-10",4.83]
["2007-05-11",4.8499999999999996]
["2007-05-14",4.8600000000000003]
["2007-05-15",4.88]
["2007-05-16",4.88]
["2007-05-17",4.91]
["2007-05-18",4.96]
["2007-05-21",4.9400000000000004]
["2007-05-22",4.9800000000000004]
["2007-05-23",5.01]
["2007-05-24",5]
["2007-05-25",5.01]
["2007-05-28",{"$f":"NA()","v":{"$error":"#N/A"}}]
["2007-05-29",5.01]
["2007-05-30",5.01]
["2007-05-31",5.01]
["2007-06-01",5.0599999999999996]
["2007-06-04",5.0199999999999996]
["2007-06-05",5.07]
["2007-06-06",5.08]
["2007-06-07",5.2]
["2007-06-08",5.22]
["2007-06-11",5.24]
["2007-06-12",5.35]
["2007-06-13",5.28]
["2007-06-14",5.3]
["2007-06-15",5.26]
["2007-06-18",5.26]
["2007-06-19",5.2]
["2007-06-20",5.24]
["2007-06-21",5.28]
["2007-06-22",5.25]
["2007-06-25",5.2]
["2007-06-26",5.22]
["2007-06-27",5.2]
["2007-06-28",5.22]
["2007-06-29",5.12]
["2007-07-02",5.09]
["2007-07-03",5.14]
["2007-07-04",{"$f":"NA()","v":{"$error":"#N/A"}}]
["2007-07-05",5.24]
["2007-07-06",5.28]
["2007-07-09",5.25]
["2007-07-10",5.14]
["2007-07-11",5.18]
["2007-07-12",5.22]
["2007-07-13",5.19]
["2007-07-16",5.14]
["2007-07-17",5.16]
["2007-07-18",5.0999999999999996]
["2007-07-19",5.12]
["2007-07-20",5.07]
["2007-07-23",5.07]
["2007-07-24",5.05]
["2007-07-25",5.04]
["2007-07-26",4.95]
["2007-07-27",4.95]
["2007-07-30",4.97]
["2007-07-31",4.92]
["2007-08-01",4.9000000000000004]
["2007-08-02",4.91]
["2007-08-03",4.87]
["2007-08-06",4.8899999999999997]
["2007-08-07",4.92]
["2007-08-08",5.01]
["2007-08-09",5.0199999999999996]
["2007-08-10",5.03]
["2007-08-13",5.01]
["2007-08-14",4.99]
["2007-08-15",5]
["2007-08-16",4.92]
["2007-08-17",5]
["2007-08-20",4.9800000000000004]
["2007-08-21",4.95]
["2007-08-22",4.96]
["2007-08-23",4.93]
["2007-08-24",4.88]
["2007-08-27",4.87]
["2007-08-28",4.8600000000000003]
["2007-08-29",4.88]
["2007-08-30",4.83]
["2007-08-31",4.83]
["2007-09-03",{"$f":"NA()","v":{"$error":"#N/A"}}]
["2007-09-04",4.84]
["2007-09-05",4.78]
["2007-09-06",4.79]
["2007-09-07",4.7]
["2007-09-10",4.6500000000000004]
["2007-09-11",4.6500000000000004]
["2007-09-12",4.68]
["2007-09-13",4.75]
["2007-09-14",4.72]
["2007-09-17",4.72]
["2007-09-18",4.7699999999999996]
["2007-09-19",4.83]
["2007-09-20",4.96]
["2007-09-21",4.8899999999999997]
["2007-09-24",4.88]
["2007-09-25",4.8899999999999997]
["2007-09-26",4.9000000000000004]
["2007-09-27",4.84]
["2007-09-28",4.83]
["2007-10-01",4.79]
["2007-10-02",4.7699999999999996]
["2007-10-03",4.79]
["2007-10-04",4.7699999999999996]
["2007-10-05",4.87]
["2007-10-08",{"$f":"NA()","v":{"$error":"#N/A"}}]
["2007-10-09",4.87]
["2007-10-10",4.8600000000000003]
["2007-10-11",4.87]
["2007-10-12",4.91]
["2007-10-15",4.91]
["2007-10-16",4.9000000000000004]
["2007-10-17",4.82]
["2007-10-18",4.78]
["2007-10-19",4.68]
["2007-10-22",4.68]
["2007-10-23",4.6900000000000004]
["2007-10-24",4.6399999999999997]
["2007-10-25",4.66]
["2007-10-26",4.68]
["2007-10-29",4.66]
["2007-10-30",4.68]
["2007-10-31",4.74]
["2007-11-01",4.6399999999999997]
["2007-11-02",4.6100000000000003]
["2007-11-05",4.63]
["2007-11-06",4.66]
["2007-11-07",4.67]
["2007-11-08",4.67]
["2007-11-09",4.6100000000000003]
["2007-11-12",{"$f":"NA()","v":{"$error":"#N/A"}}]
["2007-11-13",4.6100000000000003]
["2007-11-14",4.6100000000000003]
["2007-11-15",4.54]
["2007-11-16",4.5199999999999996]
["2007-11-19",4.47]
["2007-11-20",4.49]
["2007-11-21",4.46]
["2007-11-22",{"$f":"NA()","v":{"$error":"#N/A"}}]
["2007-11-23",4.43]
["2007-11-26",4.26]
["2007-11-27",4.3600000000000003]
["2007-11-28",4.41]
["2007-11-29",4.3499999999999996]
["2007-11-30",4.4000000000000004]
["2007-12-03",4.34]
["2007-12-04",4.34]
["2007-12-05",4.3899999999999997]
["2007-12-06",4.49]
["2007-12-07",4.58]
["2007-12-10",4.5999999999999996]
["2007-12-11",4.47]
["2007-12-12",4.51]
["2007-12-13",4.6100000000000003]
["2007-12-14",4.66]
["2007-12-17",4.62]
["2007-12-18",4.55]
["2007-12-19",4.47]
["2007-12-20",4.46]
["2007-12-21",4.58]
["2007-12-24",4.62]
["2007-12-25",{"$f":"NA()","v":{"$error":"#N/A"}}]
["2007-12-26",4.68]
["2007-12-27",4.6100000000000003]
["2007-12-28",4.51]
["2007-12-31",4.45]
["2008-01-01",{"$f":"NA()","v":{"$error":"#N/A"}}]
["2008-01-02",4.3499999999999996]
["2008-01-03",4.37]
["2008-01-04",4.3600000000000003]
["2008-01-07",4.34]
["2008-01-08",4.3499999999999996]
["2008-01-09",4.32]
["2008-01-10",4.4400000000000004]
["2008-01-11",4.3899999999999997]
["2008-01-14",4.37]
["2008-01-15",4.28]
["2008-01-16",4.32]
["2008-01-17",4.25]
["2008-01-18",4.28]
["2008-01-21",{"$f":"NA()","v":{"$error":"#N/A"}}]
["2008-01-22",4.2300000000000004]
["2008-01-23",4.2300000000000004]
["2008-01-24",4.3600000000000003]
["2008-01-25",4.28]
["2008-01-28",4.29]
["2008-01-29",4.34]
["2008-01-30",4.4400000000000004]
["2008-01-31",4.3499999999999996]
["2008-02-01",4.32]
["2008-02-04",4.37]
["2008-02-05",4.33]
["2008-02-06",4.37]
["2008-02-07",4.51]
["2008-02-08",4.43]
["2008-02-11",4.41]
["2008-02-12",4.46]
["2008-02-13",4.5199999999999996]
["2008-02-14",4.67]
["2008-02-15",4.58]
["2008-02-18",{"$f":"NA()","v":{"$error":"#N/A"}}]
["2008-02-19",4.66]
["2008-02-20",4.6500000000000004]
["2008-02-21",4.54]
["2008-02-22",4.58]
["2008-02-25",4.67]
["2008-02-26",4.66]
["2008-02-27",4.6500000000000004]
["2008-02-28",4.55]
["2008-02-29",4.41]
["2008-03-03",4.42]
["2008-03-04",4.5199999999999996]
["2008-03-05",4.5999999999999996]
["2008-03-06",4.57]
["2008-03-07",4.55]
["2008-03-10",4.45]
["2008-03-11",4.53]
["2008-03-12",4.4000000000000004]
["2008-03-13",4.47]
["2008-03-14",4.3499999999999996]
["2008-03-17",4.29]
["2008-03-18",4.3499999999999996]
["2008-03-19",4.22]
["2008-03-20",4.17]
["2008-03-21",{"$f":"NA()","v":{"$error":"#N/A"}}]
["2008-03-24",4.33]
["2008-03-25",4.3]
["2008-03-26",4.33]
["2008-03-27",4.38]
["2008-03-28",4.33]
["2008-03-31",4.3]
["2008-04-01",4.4000000000000004]
["2008-04-02",4.38]
["2008-04-03",4.4000000000000004]
["2008-04-04",4.32]
["2008-04-07",4.3600000000000003]
["2008-04-08",4.37]
["2008-04-09",4.3099999999999996]
["2008-04-10",4.34]
["2008-04-11",4.3]
["2008-04-14",4.3499999999999996]
["2008-04-15",4.42]
["2008-04-16",4.54]
["2008-04-17",4.54]
["2008-04-18",4.51]
["2008-04-21",4.4800000000000004]
["2008-04-22",4.46]
["2008-04-23",4.49]
["2008-04-24",4.5599999999999996]
["2008-04-25",4.6100000000000003]
["2008-04-28",4.57]
["2008-04-29",4.55]
["2008-04-30",4.49]
["2008-05-01",4.49]
["2008-05-02",4.57]
["2008-05-05",4.58]
["2008-05-06",4.6399999999999997]
["2008-05-07",4.6100000000000003]
["2008-05-08",4.5]
["2008-05-09",4.53]
["2008-05-12",4.53]
["2008-05-13",4.62]
["2008-05-14",4.63]
["2008-05-15",4.5599999999999996]
["2008-05-16",4.58]
["2008-05-19",4.5599999999999996]
["2008-05-20",4.53]
["2008-05-21",4.55]
["2008-05-22",4.63]
["2008-05-23",4.57]
["2008-05-26",{"$f":"NA()","v":{"$error":"#N/A"}}]
["2008-05-27",4.6500000000000004]
["2008-05-28",4.71]
["2008-05-29",4.76]
["2008-05-30",4.72]
["2008-06-02",4.68]
["2008-06-03",4.63]
["2008-06-04",4.71]
["2008-06-05",4.75]
["2008-06-06",4.6500000000000004]
["2008-06-09",4.6399999999999997]
["2008-06-10",4.7]
["2008-06-11",4.72]
["2008-06-12",4.7699999999999996]
["2008-06-13",4.79]
["2008-06-16",4.7699999999999996]
["2008-06-17",4.78]
["2008-06-18",4.72]
["2008-06-19",4.76]
["2008-06-20",4.71]
["2008-06-23",4.71]
["2008-06-24",4.6500000000000004]
["2008-06-25",4.6500000000000004]
["2008-06-26",4.62]
["2008-06-27",4.53]
["2008-06-30",4.53]
["2008-07-01",4.55]
["2008-07-02",4.51]
["2008-07-03",4.53]
["2008-07-04",{"$f":"NA()","v":{"$error":"#N/A"}}]
["2008-07-07",4.51]
["2008-07-08",4.46]
["2008-07-09",4.42]
["2008-07-10",4.42]
["2008-07-11",4.5199999999999996]
["2008-07-14",4.47]
["2008-07-15",4.4800000000000004]
["2008-07-16",4.59]
["2008-07-17",4.6500000000000004]
["2008-07-18",4.66]
["2008-07-21",4.6399999999999997]
["2008-07-22",4.67]
["2008-07-23",4.6900000000000004]
["2008-07-24",4.5999999999999996]
["2008-07-25",4.6900000000000004]
["2008-07-28",4.63]
["2008-07-29",4.6399999999999997]
["2008-07-30",4.6399999999999997]
["2008-07-31",4.59]
["2008-08-01",4.57]
["2008-08-04",4.58]
["2008-08-05",4.63]
["2008-08-06",4.68]
["2008-08-07",4.5599999999999996]
["2008-08-08",4.55]
["2008-08-11",4.6100000000000003]
["2008-08-12",4.55]
["2008-08-13",4.57]
["2008-08-14",4.5199999999999996]
["2008-08-15",4.47]
["2008-08-18",4.4400000000000004]
["2008-08-19",4.47]
["2008-08-20",4.43]
["2008-08-21",4.46]
["2008-08-22",4.46]
["2008-08-25",4.4000000000000004]
["2008-08-26",4.4000000000000004]
["2008-08-27",4.38]
["2008-08-28",4.38]
["2008-08-29",4.43]
["2008-09-01",{"$f":"NA()","v":{"$error":"#N/A"}}]
["2008-09-02",4.3600000000000003]
["2008-09-03",4.32]
["2008-09-04",4.2699999999999996]
["2008-09-05",4.2699999999999996]
["2008-09-08",4.26]
["2008-09-09",4.2]
["2008-09-10",4.2300000000000004]
["2008-09-11",4.2]
["2008-09-12",4.32]
["2008-09-15",4.12]
["2008-09-16",4.08]
["2008-09-17",4.08]
["2008-09-18",4.1399999999999997]
["2008-09-19",4.3600000000000003]
["2008-09-22",4.41]
["2008-09-23",4.43]
["2008-09-24",4.4000000000000004]
["2008-09-25",4.4000000000000004]
["2008-09-26",4.3600000000000003]
["2008-09-29",4.13]
["2008-09-30",4.3099999999999996]
["2008-10-01",4.22]
["2008-10-02",4.16]
["2008-10-03",4.1100000000000003]
["2008-10-06",3.99]
["2008-10-07",4.01]
["2008-10-08",4.09]
["2008-10-09",4.1399999999999997]
["2008-10-10",4.1500000000000004]
["2008-10-13",{"$f":"NA()","v":{"$error":"#N/A"}}]
["2008-10-14",4.2699999999999996]
["2008-10-15",4.25]
["2008-10-16",4.25]
["2008-10-17",4.32]
["2008-10-20",4.26]
["2008-10-21",4.2]
["2008-10-22",4.07]
["2008-10-23",3.99]
["2008-10-24",4.1100000000000003]
["2008-10-27",4.12]
["2008-10-28",4.1900000000000004]
["2008-10-29",4.26]
["2008-10-30",4.3]
["2008-10-31",4.3499999999999996]
["2008-11-03",4.33]
["2008-11-04",4.2]
["2008-11-05",4.13]
["2008-11-06",4.1900000000000004]
["2008-11-07",4.25]
["2008-11-10",4.21]
["2008-11-11",{"$f":"NA()","v":{"$error":"#N/A"}}]
["2008-11-12",4.17]
["2008-11-13",4.34]
["2008-11-14",4.22]
["2008-11-17",4.2]
["2008-11-18",4.1399999999999997]
["2008-11-19",3.96]
["2008-11-20",3.64]
["2008-11-21",3.7]
["2008-11-24",3.78]
["2008-11-25",3.63]
["2008-11-26",3.54]
["2008-11-27",{"$f":"NA()","v":{"$error":"#N/A"}}]
["2008-11-28",3.45]
["2008-12-01",3.22]
["2008-12-02",3.18]
["2008-12-03",3.17]
["2008-12-04",3.06]
["2008-12-05",3.11]
["2008-12-08",3.16]
["2008-12-09",3.06]
["2008-12-10",3.09]
["2008-12-11",3.07]
["2008-12-12",3.07]
["2008-12-15",2.98]
["2008-12-16",2.86]
["2008-12-17",2.66]
["2008-12-18",2.5299999999999998]
["2008-12-19",2.5499999999999998]
["2008-12-22",2.6]
["2008-12-23",2.63]
["2008-12-24",2.63]
["2008-12-25",{"$f":"NA()","v":{"$error":"#N/A"}}]
["2008-12-26",2.61]
["2008-12-29",2.63]
["2008-12-30",2.58]
["2008-12-31",2.69]
["2009-01-01",{"$f":"NA()","v":{"$error":"#N/A"}}]
["2009-01-02",2.83]
["2009-01-05",3]
["2009-01-06",3.04]
["2009-01-07",3.05]
["2009-01-08",3.04]
["2009-01-09",3.04]
["2009-01-12",2.99]
["2009-01-13",3]
["2009-01-14",2.89]
["2009-01-15",2.86]
["2009-01-16",2.89]
["2009-01-19",{"$f":"NA()","v":{"$error":"#N/A"}}]
["2009-01-20",2.97]
["2009-01-21",3.15]
["2009-01-22",3.25]
["2009-01-23",3.32]
["2009-01-26",3.39]
["2009-01-27",3.26]
["2009-01-28",3.44]
["2009-01-29",3.57]
["2009-01-30",3.58]
["2009-02-02",3.47]
["2009-02-03",3.64]
["2009-02-04",3.65]
["2009-02-05",3.63]
["2009-02-06",3.7]
["2009-02-09",3.69]
["2009-02-10",3.54]
["2009-02-11",3.45]
["2009-02-12",3.47]
["2009-02-13",3.68]
["2009-02-16",{"$f":"NA()","v":{"$error":"#N/A"}}]
["2009-02-17",3.47]
["2009-02-18",3.54]
["2009-02-19",3.68]
["2009-02-20",3.56]
["2009-02-23",3.53]
["2009-02-24",3.49]
["2009-02-25",3.59]
["2009-02-26",3.66]
["2009-02-27",3.71]
["2009-03-02",3.64]
["2009-03-03",3.67]
["2009-03-04",3.69]
["2009-03-05",3.51]
["2009-03-06",3.5]
["2009-03-09",3.59]
["2009-03-10",3.7]
["2009-03-11",3.67]
["2009-03-12",3.63]
["2009-03-13",3.66]
["2009-03-16",3.76]
["2009-03-17",3.83]
["2009-03-18",3.57]
["2009-03-19",3.62]
["2009-03-20",3.65]
["2009-03-23",3.69]
["2009-03-24",3.6]
["2009-03-25",3.73]
["2009-03-26",3.66]
["2009-03-27",3.62]
["2009-03-30",3.6]
["2009-03-31",3.56]
["2009-04-01",3.51]
["2009-04-02",3.57]
["2009-04-03",3.7]
["2009-04-06",3.73]
["2009-04-07",3.72]
["2009-04-08",3.66]
["2009-04-09",3.76]
["2009-04-10",{"$f":"NA()","v":{"$error":"#N/A"}}]
["2009-04-13",3.69]
["2009-04-14",3.64]
["2009-04-15",3.66]
["2009-04-16",3.72]
["2009-04-17",3.79]
["2009-04-20",3.69]
["2009-04-21",3.74]
["2009-04-22",3.82]
["2009-04-23",3.8]
["2009-04-24",3.89]
["2009-04-27",3.84]
["2009-04-28",3.97]
["2009-04-29",4.01]
["2009-04-30",4.05]
["2009-05-01",4.09]
["2009-05-04",4.0599999999999996]
["2009-05-05",4.0599999999999996]
["2009-05-06",4.09]
["2009-05-07",4.25]
["2009-05-08",4.28]
["2009-05-11",4.18]
["2009-05-12",4.16]
["2009-05-13",4.09]
["2009-05-14",4.0599999999999996]
["2009-05-15",4.09]
["2009-05-18",4.18]
["2009-05-19",4.21]
["2009-05-20",4.1399999999999997]
["2009-05-21",4.3]
["2009-05-22",4.38]
["2009-05-25",{"$f":"NA()","v":{"$error":"#N/A"}}]
["2009-05-26",4.45]
["2009-05-27",4.59]
["2009-05-28",4.54]
["2009-05-29",4.34]
["2009-06-01",4.55]
["2009-06-02",4.5]
["2009-06-03",4.45]
["2009-06-04",4.58]
["2009-06-05",4.63]
["2009-06-08",4.6500000000000004]
["2009-06-09",4.6399999999999997]
["2009-06-10",4.76]
["2009-06-11",4.6900000000000004]
["2009-06-12",4.6500000000000004]
["2009-06-15",4.6100000000000003]
["2009-06-16",4.4800000000000004]
["2009-06-17",4.5]
["2009-06-18",4.63]
["2009-06-19",4.5199999999999996]
["2009-06-22",4.45]
["2009-06-23",4.37]
["2009-06-24",4.4400000000000004]
["2009-06-25",4.33]
["2009-06-26",4.3]
["2009-06-29",4.3099999999999996]
["2009-06-30",4.32]
["2009-07-01",4.34]
["2009-07-02",4.32]
["2009-07-03",{"$f":"NA()","v":{"$error":"#N/A"}}]
["2009-07-06",4.3499999999999996]
["2009-07-07",4.3099999999999996]
["2009-07-08",4.17]
["2009-07-09",4.3099999999999996]
["2009-07-10",4.2]
["2009-07-13",4.25]
["2009-07-14",4.38]
["2009-07-15",4.4800000000000004]
["2009-07-16",4.45]
["2009-07-17",4.53]
["2009-07-20",4.47]
["2009-07-21",4.38]
["2009-07-22",4.45]
["2009-07-23",4.58]
["2009-07-24",4.55]
["2009-07-27",4.62]
["2009-07-28",4.5599999999999996]
["2009-07-29",4.5]
["2009-07-30",4.4400000000000004]
["2009-07-31",4.3099999999999996]
["2009-08-03",4.42]
["2009-08-04",4.45]
["2009-08-05",4.57]
["2009-08-06",4.53]
["2009-08-07",4.6100000000000003]
["2009-08-10",4.5199999999999996]
["2009-08-11",4.4400000000000004]
["2009-08-12",4.53]
["2009-08-13",4.4400000000000004]
["2009-08-14",4.41]
["2009-08-17",4.33]
["2009-08-18",4.3499999999999996]
["2009-08-19",4.28]
["2009-08-20",4.24]
["2009-08-21",4.3600000000000003]
["2009-08-24",4.2699999999999996]
["2009-08-25",4.22]
["2009-08-26",4.2]
["2009-08-27",4.2300000000000004]
["2009-08-28",4.21]
["2009-08-31",4.18]
["2009-09-01",4.1900000000000004]
["2009-09-02",4.09]
["2009-09-03",4.1500000000000004]
["2009-09-04",4.2699999999999996]
["2009-09-07",{"$f":"NA()","v":{"$error":"#N/A"}}]
["2009-09-08",4.3099999999999996]
["2009-09-09",4.33]
["2009-09-10",4.1900000000000004]
["2009-09-11",4.18]
["2009-09-14",4.22]
["2009-09-15",4.2699999999999996]
["2009-09-16",4.26]
["2009-09-17",4.1900000000000004]
["2009-09-18",4.24]
["2009-09-21",4.2300000000000004]
["2009-09-22",4.2]
["2009-09-23",4.21]
["2009-09-24",4.17]
["2009-09-25",4.0999999999999996]
["2009-09-28",4.04]
["2009-09-29",4.03]
["2009-09-30",4.03]
["2009-10-01",3.97]
["2009-10-02",4.01]
["2009-10-05",4.01]
["2009-10-06",4.07]
["2009-10-07",3.99]
["2009-10-08",4.09]
["2009-10-09",4.22]
["2009-10-12",{"$f":"NA()","v":{"$error":"#N/A"}}]
["2009-10-13",4.16]
["2009-10-14",4.28]
["2009-10-15",4.3099999999999996]
["2009-10-16",4.24]
["2009-10-19",4.21]
["2009-10-20",4.16]
["2009-10-21",4.22]
["2009-10-22",4.24]
["2009-10-23",4.29]
["2009-10-26",4.37]
["2009-10-27",4.29]
["2009-10-28",4.25]
["2009-10-29",4.3499999999999996]
["2009-10-30",4.2300000000000004]
["2009-11-02",4.26]
["2009-11-03",4.34]
["2009-11-04",4.41]
["2009-11-05",4.41]
["2009-11-06",4.4000000000000004]
["2009-11-09",4.4000000000000004]
["2009-11-10",4.41]
["2009-11-11",{"$f":"NA()","v":{"$error":"#N/A"}}]
["2009-11-12",4.41]
["2009-11-13",4.3600000000000003]
["2009-11-16",4.26]
["2009-11-17",4.26]
["2009-11-18",4.29]
["2009-11-19",4.29]
["2009-11-20",4.3]
["2009-11-23",4.29]
["2009-11-24",4.25]
["2009-11-25",4.2300000000000004]
["2009-11-26",{"$f":"NA()","v":{"$error":"#N/A"}}]
["2009-11-27",4.21]
["2009-11-30",4.2]
["2009-12-01",4.26]
["2009-12-02",4.26]
["2009-12-03",4.33]
["2009-12-04",4.4000000000000004]
["2009-12-07",4.4000000000000004]
["2009-12-08",4.3899999999999997]
["2009-12-09",4.41]
["2009-12-10",4.5]
["2009-12-11",4.49]
["2009-12-14",4.4800000000000004]
["2009-12-15",4.5199999999999996]
["2009-12-16",4.5199999999999996]
["2009-12-17",4.42]
["2009-12-18",4.46]
["2009-12-21",4.5599999999999996]
["2009-12-22",4.5999999999999996]
["2009-12-23",4.6100000000000003]
["2009-12-24",4.68]
["2009-12-25",{"$f":"NA()","v":{"$error":"#N/A"}}]
["2009-12-28",4.6900000000000004]
["2009-12-29",4.6399999999999997]
["2009-12-30",4.6100000000000003]
["2009-12-31",4.63]
["2010-01-01",{"$f":"NA()","v":{"$error":"#N/A"}}]
["2010-01-04",4.6500000000000004]
["2010-01-05",4.59]
["2010-01-06",4.7]
["2010-01-07",4.6900000000000004]
["2010-01-08",4.7]
["2010-01-11",4.74]
["2010-01-12",4.62]
["2010-01-13",4.71]
["2010-01-14",4.63]
["2010-01-15",4.58]
["2010-01-18",{"$f":"NA()","v":{"$error":"#N/A"}}]
["2010-01-19",4.5999999999999996]
["2010-01-20",4.54]
["2010-01-21",4.5]
["2010-01-22",4.5]
["2010-01-25",4.55]
["2010-01-26",4.5599999999999996]
["2010-01-27",4.55]
["2010-01-28",4.57]
["2010-01-29",4.51]
["2010-02-01",4.5599999999999996]
["2010-02-02",4.55]
["2010-02-03",4.62]
["2010-02-04",4.53]
["2010-02-05",4.51]
["2010-02-08",4.5199999999999996]
["2010-02-09",4.58]
["2010-02-10",4.6500000000000004]
["2010-02-11",4.6900000000000004]
["2010-02-12",4.66]
["2010-02-15",{"$f":"NA()","v":{"$error":"#N/A"}}]
["2010-02-16",4.63]
["2010-02-17",4.7]
["2010-02-18",4.74]
["2010-02-19",4.71]
["2010-02-22",4.7300000000000004]
["2010-02-23",4.63]
["2010-02-24",4.63]
["2010-02-25",4.58]
["2010-02-26",4.55]
["2010-03-01",4.5599999999999996]
["2010-03-02",4.57]
["2010-03-03",4.58]
["2010-03-04",4.5599999999999996]
["2010-03-05",4.6399999999999997]
["2010-03-08",4.68]
["2010-03-09",4.68]
["2010-03-10",4.6900000000000004]
["2010-03-11",4.66]
["2010-03-12",4.62]
["2010-03-15",4.63]
["2010-03-16",4.59]
["2010-03-17",4.5599999999999996]
["2010-03-18",4.59]
["2010-03-19",4.58]
["2010-03-22",4.57]
["2010-03-23",4.5999999999999996]
["2010-03-24",4.72]
["2010-03-25",4.7699999999999996]
["2010-03-26",4.75]
["2010-03-29",4.76]
["2010-03-30",4.75]
["2010-03-31",4.72]
["2010-04-01",4.74]
["2010-04-02",4.8099999999999996]
["2010-04-05",4.8499999999999996]
["2010-04-06",4.84]
["2010-04-07",4.74]
["2010-04-08",4.75]
["2010-04-09",4.74]
["2010-04-12",4.7]
["2010-04-13",4.68]
["2010-04-14",4.72]
["2010-04-15",4.72]
["2010-04-16",4.67]
["2010-04-19",4.7]
["2010-04-20",4.67]
["2010-04-21",4.6100000000000003]
["2010-04-22",4.6500000000000004]
["2010-04-23",4.67]
["2010-04-26",4.67]
["2010-04-27",4.5599999999999996]
["2010-04-28",4.63]
["2010-04-29",4.5999999999999996]
["2010-04-30",4.53]
["2010-05-03",4.53]
["2010-05-04",4.43]
["2010-05-05",4.3899999999999997]
["2010-05-06",4.1900000000000004]
["2010-05-07",4.28]
["2010-05-10",4.41]
["2010-05-11",4.42]
["2010-05-12",4.47]
["2010-05-13",4.47]
["2010-05-14",4.32]
["2010-05-17",4.3499999999999996]
["2010-05-18",4.26]
["2010-05-19",4.24]
["2010-05-20",4.13]
["2010-05-21",4.07]
["2010-05-24",4.12]
["2010-05-25",4.07]
["2010-05-26",4.1100000000000003]
["2010-05-27",4.24]
["2010-05-28",4.22]
["2010-05-31",{"$f":"NA()","v":{"$error":"#N/A"}}]
["2010-06-01",4.1900000000000004]
["2010-06-02",4.24]
["2010-06-03",4.29]
["2010-06-04",4.13]
["2010-06-07",4.1100000000000003]
["2010-06-08",4.0999999999999996]
["2010-06-09",4.12]
["2010-06-10",4.25]
["2010-06-11",4.1500000000000004]
["2010-06-14",4.2]
["2010-06-15",4.2300000000000004]
["2010-06-16",4.18]
["2010-06-17",4.13]
["2010-06-18",4.1500000000000004]
["2010-06-21",4.17]
["2010-06-22",4.0999999999999996]
["2010-06-23",4.05]
["2010-06-24",4.09]
["2010-06-25",4.07]
["2010-06-28",4.01]
["2010-06-29",3.94]
["2010-06-30",3.91]
["2010-07-01",3.88]
["2010-07-02",3.94]
["2010-07-05",{"$f":"NA()","v":{"$error":"#N/A"}}]
["2010-07-06",3.89]
["2010-07-07",3.96]
["2010-07-08",4]
["2010-07-09",4.04]
["2010-07-12",4.05]
["2010-07-13",4.0999999999999996]
["2010-07-14",4.03]
["2010-07-15",3.97]
["2010-07-16",3.95]
["2010-07-19",3.99]
["2010-07-20",3.99]
["2010-07-21",3.89]
["2010-07-22",3.95]
["2010-07-23",4.01]
["2010-07-26",4.03]
["2010-07-27",4.08]
["2010-07-28",4.07]
["2010-07-29",4.08]
["2010-07-30",3.98]
["2010-08-02",4.0599999999999996]
["2010-08-03",4.04]
["2010-08-04",4.07]
["2010-08-05",4.05]
["2010-08-06",4]
["2010-08-09",4.01]
["2010-08-10",4]
["2010-08-11",3.93]
["2010-08-12",3.94]
["2010-08-13",3.87]
["2010-08-16",3.72]
["2010-08-17",3.77]
["2010-08-18",3.73]
["2010-08-19",3.66]
["2010-08-20",3.67]
["2010-08-23",3.65]
["2010-08-24",3.57]
["2010-08-25",3.59]
["2010-08-26",3.53]
["2010-08-27",3.69]
["2010-08-30",3.6]
["2010-08-31",3.52]
["2010-09-01",3.65]
["2010-09-02",3.72]
["2010-09-03",3.79]
["2010-09-06",{"$f":"NA()","v":{"$error":"#N/A"}}]
["2010-09-07",3.67]
["2010-09-08",3.72]
["2010-09-09",3.84]
["2010-09-10",3.88]
["2010-09-13",3.83]
["2010-09-14",3.79]
["2010-09-15",3.87]
["2010-09-16",3.92]
["2010-09-17",3.9]
["2010-09-20",3.87]
["2010-09-21",3.79]
["2010-09-22",3.74]
["2010-09-23",3.73]
["2010-09-24",3.79]
["2010-09-27",3.7]
["2010-09-28",3.66]
["2010-09-29",3.69]
["2010-09-30",3.69]
["2010-10-01",3.71]
["2010-10-04",3.71]
["2010-10-05",3.74]
["2010-10-06",3.67]
["2010-10-07",3.72]
["2010-10-08",3.75]
["2010-10-11",{"$f":"NA()","v":{"$error":"#N/A"}}]
["2010-10-12",3.8]
["2010-10-13",3.84]
["2010-10-14",3.91]
["2010-10-15",3.98]
["2010-10-18",3.93]
["2010-10-19",3.9]
["2010-10-20",3.89]
["2010-10-21",3.95]
["2010-10-22",3.94]
["2010-10-25",3.91]
["2010-10-26",4]
["2010-10-27",4.0599999999999996]
["2010-10-28",4.05]
["2010-10-29",3.99]
["2010-11-01",4.01]
["2010-11-02",3.93]
["2010-11-03",4.09]
["2010-11-04",4.04]
["2010-11-05",4.12]
["2010-11-08",4.12]
["2010-11-09",4.25]
["2010-11-10",4.25]
["2010-11-11",{"$f":"NA()","v":{"$error":"#N/A"}}]
["2010-11-12",4.26]
["2010-11-15",4.38]
["2010-11-16",4.26]
["2010-11-17",4.3099999999999996]
["2010-11-18",4.29]
["2010-11-19",4.25]
["2010-11-22",4.2]
["2010-11-23",4.18]
["2010-11-24",4.29]
["2010-11-25",{"$f":"NA()","v":{"$error":"#N/A"}}]
["2010-11-26",4.21]
["2010-11-29",4.16]
["2010-11-30",4.12]
["2010-12-01",4.24]
["2010-12-02",4.2699999999999996]
["2010-12-03",4.32]
["2010-12-06",4.25]
["2010-12-07",4.3899999999999997]
["2010-12-08",4.45]
["2010-12-09",4.41]
["2010-12-10",4.43]
["2010-12-13",4.3899999999999997]
["2010-12-14",4.54]
["2010-12-15",4.59]
["2010-12-16",4.57]
["2010-12-17",4.41]
["2010-12-20",4.4400000000000004]
["2010-12-21",4.4400000000000004]
["2010-12-22",4.45]
["2010-12-23",4.47]
["2010-12-24",{"$f":"NA()","v":{"$error":"#N/A"}}]
["2010-12-27",4.42]
["2010-12-28",4.53]
["2010-12-29",4.41]
["2010-12-30",4.43]
["2010-12-31",4.34]
["2011-01-03",4.3899999999999997]
["2011-01-04",4.4400000000000004]
["2011-01-05",4.55]
["2011-01-06",4.53]
["2011-01-07",4.4800000000000004]
["2011-01-10",4.47]
["2011-01-11",4.49]
["2011-01-12",4.5199999999999996]
["2011-01-13",4.5]
["2011-01-14",4.53]
["2011-01-17",{"$f":"NA()","v":{"$error":"#N/A"}}]
["2011-01-18",4.5599999999999996]
["2011-01-19",4.53]
["2011-01-20",4.5999999999999996]
["2011-01-21",4.57]
["2011-01-24",4.55]
["2011-01-25",4.4800000000000004]
["2011-01-26",4.59]
["2011-01-27",4.57]
["2011-01-28",4.53]
["2011-01-31",4.58]
["2011-02-01",4.62]
["2011-02-02",4.6399999999999997]
["2011-02-03",4.67]
["2011-02-04",4.7300000000000004]
["2011-02-07",4.71]
["2011-02-08",4.76]
["2011-02-09",4.71]
["2011-02-10",4.75]
["2011-02-11",4.71]
["2011-02-14",4.67]
["2011-02-15",4.66]
["2011-02-16",4.67]
["2011-02-17",4.66]
["2011-02-18",4.7]
["2011-02-21",{"$f":"NA()","v":{"$error":"#N/A"}}]
["2011-02-22",4.5999999999999996]
["2011-02-23",4.59]
["2011-02-24",4.54]
["2011-02-25",4.51]
["2011-02-28",4.49]
["2011-03-01",4.4800000000000004]
["2011-03-02",4.54]
["2011-03-03",4.6399999999999997]
["2011-03-04",4.5999999999999996]
["2011-03-07",4.6100000000000003]
["2011-03-08",4.66]
["2011-03-09",4.5999999999999996]
["2011-03-10",4.53]
["2011-03-11",4.54]
["2011-03-14",4.5199999999999996]
["2011-03-15",4.47]
["2011-03-16",4.38]
["2011-03-17",4.42]
["2011-03-18",4.43]
["2011-03-21",4.45]
["2011-03-22",4.4400000000000004]
["2011-03-23",4.4400000000000004]
["2011-03-24",4.4800000000000004]
["2011-03-25",4.51]
["2011-03-28",4.51]
["2011-03-29",4.54]
["2011-03-30",4.5199999999999996]
["2011-03-31",4.51]
["2011-04-01",4.4800000000000004]
["2011-04-04",4.49]
["2011-04-05",4.51]
["2011-04-06",4.58]
["2011-04-07",4.63]
["2011-04-08",4.63]
["2011-04-11",4.6399999999999997]
["2011-04-12",4.58]
["2011-04-13",4.55]
["2011-04-14",4.53]
["2011-04-15",4.47]
["2011-04-18",4.45]
["2011-04-19",4.43]
["2011-04-20",4.47]
["2011-04-21",4.47]
["2011-04-22",{"$f":"NA()","v":{"$error":"#N/A"}}]
["2011-04-25",4.46]
["2011-04-26",4.3899999999999997]
["2011-04-27",4.45]
["2011-04-28",4.42]
["2011-04-29",4.4000000000000004]
["2011-05-02",4.38]
["2011-05-03",4.3600000000000003]
["2011-05-04",4.33]
["2011-05-05",4.26]
["2011-05-06",4.29]
["2011-05-09",4.3]
["2011-05-10",4.34]
["2011-05-11",4.3099999999999996]
["2011-05-12",4.37]
["2011-05-13",4.32]
["2011-05-16",4.28]
["2011-05-17",4.2300000000000004]
["2011-05-18",4.29]
["2011-05-19",4.3]
["2011-05-20",4.3]
["2011-05-23",4.2699999999999996]
["2011-05-24",4.26]
["2011-05-25",4.28]
["2011-05-26",4.2300000000000004]
["2011-05-27",4.24]
["2011-05-30",{"$f":"NA()","v":{"$error":"#N/A"}}]
["2011-05-31",4.22]
["2011-06-01",4.1500000000000004]
["2011-06-02",4.25]
["2011-06-03",4.22]
["2011-06-06",4.25]
["2011-06-07",4.2699999999999996]
["2011-06-08",4.2]
["2011-06-09",4.22]
["2011-06-10",4.18]
["2011-06-13",4.2]
["2011-06-14",4.3]
["2011-06-15",4.1900000000000004]
["2011-06-16",4.16]
["2011-06-17",4.1900000000000004]
["2011-06-20",4.1900000000000004]
["2011-06-21",4.21]
["2011-06-22",4.22]
["2011-06-23",4.17]
["2011-06-24",4.17]
["2011-06-27",4.28]
["2011-06-28",4.33]
["2011-06-29",4.3899999999999997]
["2011-06-30",4.38]
["2011-07-01",4.4000000000000004]
["2011-07-04",{"$f":"NA()","v":{"$error":"#N/A"}}]
["2011-07-05",4.3899999999999997]
["2011-07-06",4.3499999999999996]
["2011-07-07",4.37]
["2011-07-08",4.2699999999999996]
["2011-07-11",4.2]
["2011-07-12",4.1900000000000004]
["2011-07-13",4.17]
["2011-07-14",4.25]
["2011-07-15",4.26]
["2011-07-18",4.29]
["2011-07-19",4.1900000000000004]
["2011-07-20",4.25]
["2011-07-21",4.3099999999999996]
["2011-07-22",4.26]
["2011-07-25",4.3099999999999996]
["2011-07-26",4.28]
["2011-07-27",4.29]
["2011-07-28",4.26]
["2011-07-29",4.12]
["2011-08-01",4.07]
["2011-08-02",3.93]
["2011-08-03",3.89]
["2011-08-04",3.7]
["2011-08-05",3.82]
["2011-08-08",3.68]
["2011-08-09",3.56]
["2011-08-10",3.54]
["2011-08-11",3.82]
["2011-08-12",3.72]
["2011-08-15",3.75]
["2011-08-16",3.67]
["2011-08-17",3.57]
["2011-08-18",3.45]
["2011-08-19",3.39]
["2011-08-22",3.42]
["2011-08-23",3.47]
["2011-08-24",3.63]
["2011-08-25",3.6]
["2011-08-26",3.54]
["2011-08-29",3.63]
["2011-08-30",3.53]
["2011-08-31",3.6]
["2011-09-01",3.51]
["2011-09-02",3.32]
["2011-09-05",{"$f":"NA()","v":{"$error":"#N/A"}}]
["2011-09-06",3.26]
["2011-09-07",3.36]
["2011-09-08",3.32]
["2011-09-09",3.26]
["2011-09-12",3.24]
["2011-09-13",3.32]
["2011-09-14",3.32]
["2011-09-15",3.36]
["2011-09-16",3.34]
["2011-09-19",3.22]
["2011-09-20",3.2]
["2011-09-21",3.03]
["2011-09-22",2.78]
["2011-09-23",2.89]
["2011-09-26",2.99]
["2011-09-27",3.08]
["2011-09-28",3.1]
["2011-09-29",3.03]
["2011-09-30",2.9]
["2011-10-03",2.76]
["2011-10-04",2.77]
["2011-10-05",2.87]
["2011-10-06",2.96]
["2011-10-07",3.02]
["2011-10-10",{"$f":"NA()","v":{"$error":"#N/A"}}]
["2011-10-11",3.11]
["2011-10-12",3.19]
["2011-10-13",3.15]
["2011-10-14",3.22]
["2011-10-17",3.13]
["2011-10-18",3.17]
["2011-10-19",3.17]
["2011-10-20",3.19]
["2011-10-21",3.26]
["2011-10-24",3.27]
["2011-10-25",3.13]
["2011-10-26",3.22]
["2011-10-27",3.45]
["2011-10-28",3.36]
["2011-10-31",3.16]
["2011-11-01",2.99]
["2011-11-02",3.03]
["2011-11-03",3.1]
["2011-11-04",3.09]
["2011-11-07",3.05]
["2011-11-08",3.13]
["2011-11-09",3.03]
["2011-11-10",3.12]
["2011-11-11",{"$f":"NA()","v":{"$error":"#N/A"}}]
["2011-11-14",3.09]
["2011-11-15",3.1]
["2011-11-16",3.05]
["2011-11-17",2.98]
["2011-11-18",2.99]
["2011-11-21",2.96]
["2011-11-22",2.91]
["2011-11-23",2.82]
["2011-11-24",{"$f":"NA()","v":{"$error":"#N/A"}}]
["2011-11-25",2.92]
["2011-11-28",2.93]
["2011-11-29",2.96]
["2011-11-30",3.06]
["2011-12-01",3.12]
["2011-12-02",3.03]
["2011-12-05",3.02]
["2011-12-06",3.09]
["2011-12-07",3.04]
["2011-12-08",3]
["2011-12-09",3.1]
["2011-12-12",3.06]
["2011-12-13",2.98]
["2011-12-14",2.91]
["2011-12-15",2.92]
["2011-12-16",2.86]
["2011-12-19",2.79]
["2011-12-20",2.93]
["2011-12-21",3]
["2011-12-22",2.99]
["2011-12-23",3.05]
["2011-12-26",{"$f":"NA()","v":{"$error":"#N/A"}}]
["2011-12-27",3.04]
["2011-12-28",2.91]
["2011-12-29",2.9]
["2011-12-30",2.89]
["2012-01-02",{"$f":"NA()","v":{"$error":"#N/A"}}]
["2012-01-03",2.98]
["2012-01-04",3.03]
["2012-01-05",3.06]
["2012-01-06",3.02]
["2012-01-09",3.02]
["2012-01-10",3.04]
["2012-01-11",2.96]
["2012-01-12",2.97]
["2012-01-13",2.91]
["2012-01-16",{"$f":"NA()","v":{"$error":"#N/A"}}]
["2012-01-17",2.89]
["2012-01-18",2.96]
["2012-01-19",3.05]
["2012-01-20",3.1]
["2012-01-23",3.15]
["2012-01-24",3.15]
["2012-01-25",3.13]
["2012-01-26",3.1]
["2012-01-27",3.07]
["2012-01-30",2.99]
["2012-01-31",2.94]
["2012-02-01",3.01]
["2012-02-02",3.01]
["2012-02-03",3.13]
["2012-02-06",3.08]
["2012-02-07",3.14]
["2012-02-08",3.14]
["2012-02-09",3.2]
["2012-02-10",3.11]
["2012-02-13",3.14]
["2012-02-14",3.06]
["2012-02-15",3.09]
["2012-02-16",3.14]
["2012-02-17",3.16]
["2012-02-20",{"$f":"NA()","v":{"$error":"#N/A"}}]
["2012-02-21",3.2]
["2012-02-22",3.15]
["2012-02-23",3.13]
["2012-02-24",3.1]
["2012-02-27",3.04]
["2012-02-28",3.07]
["2012-02-29",3.08]
["2012-03-01",3.15]
["2012-03-02",3.11]
["2012-03-05",3.13]
["2012-03-06",3.08]
["2012-03-07",3.12]
["2012-03-08",3.18]
["2012-03-09",3.19]
["2012-03-12",3.17]
["2012-03-13",3.26]
["2012-03-14",3.43]
["2012-03-15",3.41]
["2012-03-16",3.41]
["2012-03-19",3.48]
["2012-03-20",3.46]
["2012-03-21",3.38]
["2012-03-22",3.37]
["2012-03-23",3.31]
["2012-03-26",3.33]
["2012-03-27",3.29]
["2012-03-28",3.31]
["2012-03-29",3.27]
["2012-03-30",3.35]
["2012-04-02",3.35]
["2012-04-03",3.41]
["2012-04-04",3.37]
["2012-04-05",3.32]
["2012-04-06",3.21]
["2012-04-09",3.18]
["2012-04-10",3.13]
["2012-04-11",3.18]
["2012-04-12",3.22]
["2012-04-13",3.14]
["2012-04-16",3.12]
["2012-04-17",3.15]
["2012-04-18",3.13]
["2012-04-19",3.12]
["2012-04-20",3.12]
["2012-04-23",3.08]
["2012-04-24",3.12]
["2012-04-25",3.15]
["2012-04-26",3.13]
["2012-04-27",3.12]
["2012-04-30",3.12]
["2012-05-01",3.16]
["2012-05-02",3.11]
["2012-05-03",3.12]
["2012-05-04",3.07]
["2012-05-07",3.07]
["2012-05-08",3.03]
["2012-05-09",3.03]
["2012-05-10",3.07]
["2012-05-11",3.02]
["2012-05-14",2.95]
["2012-05-15",2.91]
["2012-05-16",2.9]
["2012-05-17",2.8]
["2012-05-18",2.8]
["2012-05-21",2.8]
["2012-05-22",2.88]
["2012-05-23",2.81]
["2012-05-24",2.86]
["2012-05-25",2.85]
["2012-05-28",{"$f":"NA()","v":{"$error":"#N/A"}}]
["2012-05-29",2.85]
["2012-05-30",2.72]
["2012-05-31",2.67]
["2012-06-01",2.5299999999999998]
["2012-06-04",2.56]
["2012-06-05",2.63]
["2012-06-06",2.73]
["2012-06-07",2.75]
["2012-06-08",2.77]
["2012-06-11",2.71]
["2012-06-12",2.77]
["2012-06-13",2.7]
["2012-06-14",2.73]
["2012-06-15",2.7]
["2012-06-18",2.67]
["2012-06-19",2.73]
["2012-06-20",2.72]
["2012-06-21",2.68]
["2012-06-22",2.75]
["2012-06-25",2.69]
["2012-06-26",2.71]
["2012-06-27",2.7]
["2012-06-28",2.67]
["2012-06-29",2.76]
["2012-07-02",2.69]
["2012-07-03",2.74]
["2012-07-04",{"$f":"NA()","v":{"$error":"#N/A"}}]
["2012-07-05",2.72]
["2012-07-06",2.66]
["2012-07-09",2.62]
["2012-07-10",2.6]
["2012-07-11",2.6]
["2012-07-12",2.57]
["2012-07-13",2.58]
["2012-07-16",2.56]
["2012-07-17",2.59]
["2012-07-18",2.59]
["2012-07-19",2.61]
["2012-07-20",2.5499999999999998]
["2012-07-23",2.52]
["2012-07-24",2.4700000000000002]
["2012-07-25",2.46]
["2012-07-26",2.4900000000000002]
["2012-07-27",2.63]
["2012-07-30",2.58]
["2012-07-31",2.56]
["2012-08-01",2.6]
["2012-08-02",2.5499999999999998]
["2012-08-03",2.65]
["2012-08-06",2.65]
["2012-08-07",2.72]
["2012-08-08",2.75]
["2012-08-09",2.78]
["2012-08-10",2.74]
["2012-08-13",2.74]
["2012-08-14",2.82]
["2012-08-15",2.9]
["2012-08-16",2.96]
["2012-08-17",2.93]
["2012-08-20",2.93]
["2012-08-21",2.9]
["2012-08-22",2.82]
["2012-08-23",2.79]
["2012-08-24",2.79]
["2012-08-27",2.76]
["2012-08-28",2.75]
["2012-08-29",2.77]
["2012-08-30",2.75]
["2012-08-31",2.68]
["2012-09-03",{"$f":"NA()","v":{"$error":"#N/A"}}]
["2012-09-04",2.69]
["2012-09-05",2.7]
["2012-09-06",2.8]
["2012-09-07",2.81]
["2012-09-10",2.83]
["2012-09-11",2.84]
["2012-09-12",2.92]
["2012-09-13",2.95]
["2012-09-14",3.09]
["2012-09-17",3.03]
["2012-09-18",3]
["2012-09-19",2.97]
["2012-09-20",2.96]
["2012-09-21",2.95]
["2012-09-24",2.91]
["2012-09-25",2.86]
["2012-09-26",2.79]
["2012-09-27",2.83]
["2012-09-28",2.82]
["2012-10-01",2.81]
["2012-10-02",2.81]
["2012-10-03",2.82]
["2012-10-04",2.89]
["2012-10-05",2.96]
["2012-10-08",{"$f":"NA()","v":{"$error":"#N/A"}}]
["2012-10-09",2.93]
["2012-10-10",2.89]
["2012-10-11",2.86]
["2012-10-12",2.83]
["2012-10-15",2.85]
["2012-10-16",2.91]
["2012-10-17",2.98]
["2012-10-18",3.02]
["2012-10-19",2.94]
["2012-10-22",2.95]
["2012-10-23",2.91]
["2012-10-24",2.93]
["2012-10-25",2.98]
["2012-10-26",2.92]
["2012-10-29",2.87]
["2012-10-30",{"$f":"NA()","v":{"$error":"#N/A"}}]
["2012-10-31",2.85]
["2012-11-01",2.89]
["2012-11-02",2.91]
["2012-11-05",2.88]
["2012-11-06",2.92]
["2012-11-07",2.83]
["2012-11-08",2.77]
["2012-11-09",2.75]
["2012-11-12",{"$f":"NA()","v":{"$error":"#N/A"}}]
["2012-11-13",2.72]
["2012-11-14",2.73]
["2012-11-15",2.72]
["2012-11-16",2.73]
["2012-11-19",2.76]
["2012-11-20",2.82]
["2012-11-21",2.83]
["2012-11-22",{"$f":"NA()","v":{"$error":"#N/A"}}]
["2012-11-23",2.83]
["2012-11-26",2.8]
["2012-11-27",2.79]
["2012-11-28",2.79]
["2012-11-29",2.79]
["2012-11-30",2.81]
["2012-12-03",2.8]
["2012-12-04",2.78]
["2012-12-05",2.78]
["2012-12-06",2.76]
["2012-12-07",2.81]
["2012-12-10",2.8]
["2012-12-11",2.83]
["2012-12-12",2.9]
["2012-12-13",2.9]
["2012-12-14",2.87]
["2012-12-17",2.94]
["2012-12-18",3]
["2012-12-19",2.99]
["2012-12-20",2.98]
["2012-12-21",2.93]
["2012-12-24",2.94]
["2012-12-25",{"$f":"NA()","v":{"$error":"#N/A"}}]
["2012-12-26",2.94]
["2012-12-27",2.89]
["2012-12-28",2.88]
["2012-12-31",2.95]
["2013-01-01",{"$f":"NA()","v":{"$error":"#N/A"}}]
["2013-01-02",3.04]
["2013-01-03",3.12]
["2013-01-04",3.1]
["2013-01-07",3.1]
["2013-01-08",3.06]
["2013-01-09",3.06]
["2013-01-10",3.08]
["2013-01-11",3.05]
["2013-01-14",3.05]
["2013-01-15",3.02]
["2013-01-16",3.01]
["2013-01-17",3.06]
["2013-01-18",3.03]
["2013-01-21",{"$f":"NA()","v":{"$error":"#N/A"}}]
["2013-01-22",3.02]
["2013-01-23",3.02]
["2013-01-24",3.04]
["2013-01-25",3.14]
["2013-01-28",3.15]
["2013-01-29",3.18]
["2013-01-30",3.19]
["2013-01-31",3.17]
["2013-02-01",3.21]
["2013-02-04",3.17]
["2013-02-05",3.21]
["2013-02-06",3.18]
["2013-02-07",3.17]
["2013-02-08",3.17]
["2013-02-11",3.16]
["2013-02-12",3.19]
["2013-02-13",3.23]
["2013-02-14",3.17]
["2013-02-15",3.18]
["2013-02-18",{"$f":"NA()","v":{"$error":"#N/A"}}]
["2013-02-19",3.21]
["2013-02-20",3.2]
["2013-02-21",3.17]
["2013-02-22",3.15]
["2013-02-25",3.08]
["2013-02-26",3.08]
["2013-02-27",3.11]
["2013-02-28",3.1]
["2013-03-01",3.06]
["2013-03-04",3.08]
["2013-03-05",3.1]
["2013-03-06",3.15]
["2013-03-07",3.2]
["2013-03-08",3.25]
["2013-03-11",3.26]
["2013-03-12",3.22]
["2013-03-13",3.22]
["2013-03-14",3.25]
["2013-03-15",3.22]
["2013-03-18",3.18]
["2013-03-19",3.13]
["2013-03-20",3.19]
["2013-03-21",3.15]
["2013-03-22",3.13]
["2013-03-25",3.14]
["2013-03-26",3.13]
["2013-03-27",3.09]
["2013-03-28",3.1]
["2013-03-29",{"$f":"NA()","v":{"$error":"#N/A"}}]
["2013-04-01",3.08]
["2013-04-02",3.1]
["2013-04-03",3.05]
["2013-04-04",2.99]
["2013-04-05",2.87]
["2013-04-08",2.91]
["2013-04-09",2.94]
["2013-04-10",3.01]
["2013-04-11",3.01]
["2013-04-12",2.92]
["2013-04-15",2.88]
["2013-04-16",2.91]
["2013-04-17",2.89]
["2013-04-18",2.87]
["2013-04-19",2.88]
["2013-04-22",2.88]
["2013-04-23",2.9]
["2013-04-24",2.89]
["2013-04-25",2.91]
["2013-04-26",2.87]
["2013-04-29",2.88]
["2013-04-30",2.88]
["2013-05-01",2.83]
["2013-05-02",2.82]
["2013-05-03",2.96]
["2013-05-06",2.98]
["2013-05-07",3]
["2013-05-08",2.99]
["2013-05-09",3.01]
["2013-05-10",3.1]
["2013-05-13",3.13]
["2013-05-14",3.17]
["2013-05-15",3.16]
["2013-05-16",3.09]
["2013-05-17",3.17]
["2013-05-20",3.18]
["2013-05-21",3.14]
["2013-05-22",3.21]
["2013-05-23",3.2]
["2013-05-24",3.18]
["2013-05-27",{"$f":"NA()","v":{"$error":"#N/A"}}]
["2013-05-28",3.31]
["2013-05-29",3.27]
["2013-05-30",3.28]
["2013-05-31",3.3]
["2013-06-03",3.27]
["2013-06-04",3.3]
["2013-06-05",3.25]
["2013-06-06",3.23]
["2013-06-07",3.33]
["2013-06-10",3.36]
["2013-06-11",3.33]
["2013-06-12",3.37]
["2013-06-13",3.33]
["2013-06-14",3.28]
["2013-06-17",3.35]
["2013-06-18",3.34]
["2013-06-19",3.41]
["2013-06-20",3.49]
["2013-06-21",3.56]
["2013-06-24",3.56]
["2013-06-25",3.6]
["2013-06-26",3.58]
["2013-06-27",3.54]
["2013-06-28",3.52]
["2013-07-01",3.48]
["2013-07-02",3.47]
["2013-07-03",3.49]
["2013-07-04",{"$f":"NA()","v":{"$error":"#N/A"}}]
["2013-07-05",3.68]
["2013-07-08",3.63]
["2013-07-09",3.64]
["2013-07-10",3.68]
["2013-07-11",3.64]
["2013-07-12",3.64]
["2013-07-15",3.61]
["2013-07-16",3.58]
["2013-07-17",3.57]
["2013-07-18",3.63]
["2013-07-19",3.56]
["2013-07-22",3.55]
["2013-07-23",3.58]
["2013-07-24",3.65]
["2013-07-25",3.65]
["2013-07-26",3.61]
["2013-07-29",3.66]
["2013-07-30",3.67]
["2013-07-31",3.64]
["2013-08-01",3.77]
["2013-08-02",3.69]
["2013-08-05",3.73]
["2013-08-06",3.73]
["2013-08-07",3.68]
["2013-08-08",3.65]
["2013-08-09",3.63]
["2013-08-12",3.67]
["2013-08-13",3.75]
["2013-08-14",3.75]
["2013-08-15",3.81]
["2013-08-16",3.86]
["2013-08-19",3.89]
["2013-08-20",3.86]
["2013-08-21",3.9]
["2013-08-22",3.88]
["2013-08-23",3.8]
["2013-08-26",3.77]
["2013-08-27",3.7]
["2013-08-28",3.75]
["2013-08-29",3.7]
["2013-08-30",3.7]
["2013-09-02",{"$f":"NA()","v":{"$error":"#N/A"}}]
["2013-09-03",3.79]
["2013-09-04",3.8]
["2013-09-05",3.88]
["2013-09-06",3.87]
["2013-09-09",3.84]
["2013-09-10",3.88]
["2013-09-11",3.85]
["2013-09-12",3.85]
["2013-09-13",3.84]
["2013-09-16",3.87]
["2013-09-17",3.84]
["2013-09-18",3.75]
["2013-09-19",3.8]
["2013-09-20",3.77]
["2013-09-23",3.73]
["2013-09-24",3.67]
["2013-09-25",3.65]
["2013-09-26",3.69]
["2013-09-27",3.68]
["2013-09-30",3.69]
["2013-10-01",3.72]
["2013-10-02",3.7]
["2013-10-03",3.71]
["2013-10-04",3.73]
["2013-10-07",3.7]
["2013-10-08",3.7]
["2013-10-09",3.73]
["2013-10-10",3.75]
["2013-10-11",3.74]
["2013-10-14",{"$f":"NA()","v":{"$error":"#N/A"}}]
["2013-10-15",3.78]
["2013-10-16",3.72]
["2013-10-17",3.66]
["2013-10-18",3.65]
["2013-10-21",3.68]
["2013-10-22",3.61]
["2013-10-23",3.59]
["2013-10-24",3.61]
["2013-10-25",3.6]
["2013-10-28",3.61]
["2013-10-29",3.62]
["2013-10-30",3.63]
["2013-10-31",3.63]
["2013-11-01",3.69]
["2013-11-04",3.7]
["2013-11-05",3.76]
["2013-11-06",3.77]
["2013-11-07",3.71]
["2013-11-08",3.84]
["2013-11-11",{"$f":"NA()","v":{"$error":"#N/A"}}]
["2013-11-12",3.86]
["2013-11-13",3.83]
["2013-11-14",3.79]
["2013-11-15",3.8]
["2013-11-18",3.76]
["2013-11-19",3.8]
["2013-11-20",3.9]
["2013-11-21",3.89]
["2013-11-22",3.84]
["2013-11-25",3.83]
["2013-11-26",3.8]
["2013-11-27",3.81]
["2013-11-28",{"$f":"NA()","v":{"$error":"#N/A"}}]
["2013-11-29",3.82]
["2013-12-02",3.86]
["2013-12-03",3.84]
["2013-12-04",3.9]
["2013-12-05",3.92]
["2013-12-06",3.9]
["2013-12-09",3.88]
["2013-12-10",3.83]
["2013-12-11",3.87]
["2013-12-12",3.91]
["2013-12-13",3.88]
["2013-12-16",3.9]
["2013-12-17",3.88]
["2013-12-18",3.9]
["2013-12-19",3.91]
["2013-12-20",3.82]
["2013-12-23",3.85]
["2013-12-24",3.9]
["2013-12-25",{"$f":"NA()","v":{"$error":"#N/A"}}]
["2013-12-26",3.92]
["2013-12-27",3.94]
["2013-12-30",3.9]
["2013-12-31",3.96]
["2014-01-01",{"$f":"NA()","v":{"$error":"#N/A"}}]
["2014-01-02",3.92]
["2014-01-03",3.93]
["2014-01-06",3.9]
["2014-01-07",3.88]
["2014-01-08",3.9]
["2014-01-09",3.88]
["2014-01-10",3.8]
["2014-01-13",3.77]
["2014-01-14",3.8]
["2014-01-15",3.81]
["2014-01-16",3.77]
["2014-01-17",3.75]
["2014-01-20",{"$f":"NA()","v":{"$error":"#N/A"}}]
["2014-01-21",3.74]
["2014-01-22",3.75]
["2014-01-23",3.68]
["2014-01-24",3.64]
["2014-01-27",3.67]
["2014-01-28",3.68]
["2014-01-29",3.62]
["2014-01-30",3.65]
["2014-01-31",3.61]
["2014-02-03",3.55]
["2014-02-04",3.59]
["2014-02-05",3.66]
["2014-02-06",3.67]
["2014-02-07",3.67]
["2014-02-10",3.66]
["2014-02-11",3.69]
["2014-02-12",3.72]
["2014-02-13",3.7]
["2014-02-14",3.69]
["2014-02-17",{"$f":"NA()","v":{"$error":"#N/A"}}]
["2014-02-18",3.68]
["2014-02-19",3.71]
["2014-02-20",3.73]
["2014-02-21",3.69]
["2014-02-24",3.7]
["2014-02-25",3.66]
["2014-02-26",3.63]
["2014-02-27",3.6]
["2014-02-28",3.59]
["2014-03-03",3.55]
["2014-03-04",3.64]
["2014-03-05",3.64]
["2014-03-06",3.68]
["2014-03-07",3.72]
["2014-03-10",3.73]
["2014-03-11",3.7]
["2014-03-12",3.66]
["2014-03-13",3.6]
["2014-03-14",3.59]
["2014-03-17",3.63]
["2014-03-18",3.62]
["2014-03-19",3.66]
["2014-03-20",3.67]
["2014-03-21",3.61]
["2014-03-24",3.57]
["2014-03-25",3.59]
["2014-03-26",3.55]
["2014-03-27",3.52]
["2014-03-28",3.55]

{"sheet":"Yields Table (WP)","index":29,"n_rows":18,"n_cols":13,"rows_kept":18,"cut":false,"hidden":false,"merged":[]}
[]
["30-Year Treasury Constant Maturity Rate",null,null,null,null,null,null,"Moody's Daily Long-term Corporate Bond Yield Averages - Utilities"]
[null,null,null,null,null,null,null,"Lookup Table",null,"A",null,null,"Baa"]
["Date","Yield",null,null,null,null,null,"Dates",2,3,4,5,6]
[]
[{"$f":"'Stock Prices (WP)'!G6","v":"2014-03-28"},{"$f":"VLOOKUP(A6,'Yields (WP)'!$A$90:$B$99196,2)/100","v":3.5499999999999997E-2},null,null,null,null,null,"2014-03-28",4.5699999999999998E-2,4.4499999999999998E-2,4.3299999999999998E-2,"N/A",4.9200000000000001E-2]
[{"$f":"'Stock Prices (WP)'!G7","v":"2014-03-21"},{"$f":"VLOOKUP(A7,'Yields (WP)'!$A$90:$B$99196,2)/100","v":3.61E-2},null,null,null,null,null,"2014-03-21",4.6399999999999997E-2,4.5199999999999997E-2,4.3999999999999997E-2,"N/A",5.0099999999999999E-2]
[{"$f":"'Stock Prices (WP)'!G8","v":"2014-03-14"},{"$f":"VLOOKUP(A8,'Yields (WP)'!$A$90:$B$99196,2)/100","v":3.5900000000000001E-2},null,null,null,null,null,"2014-03-14",4.6100000000000002E-2,4.48E-2,4.3700000000000003E-2,"N/A",4.9700000000000001E-2]
[{"$f":"'Stock Prices (WP)'!G9","v":"2014-03-07"},{"$f":"VLOOKUP(A9,'Yields (WP)'!$A$90:$B$99196,2)/100","v":3.7200000000000004E-2},null,null,null,null,null,"2014-03-07",4.7100000000000003E-2,4.58E-2,4.4900000000000002E-2,"N/A",5.0700000000000002E-2]
[{"$f":"'Stock Prices (WP)'!G10","v":"2014-02-28"},{"$f":"VLOOKUP(A10,'Yields (WP)'!$A$90:$B$99196,2)/100","v":3.5900000000000001E-2},null,null,null,null,null,"2014-02-28",4.5699999999999998E-2,4.4600000000000001E-2,4.3200000000000002E-2,"N/A",4.9299999999999997E-2]
[{"$f":"'Stock Prices (WP)'!G11","v":"2014-02-21"},{"$f":"VLOOKUP(A11,'Yields (WP)'!$A$90:$B$99196,2)/100","v":3.6900000000000002E-2},null,null,null,null,null,"2014-02-21",4.6699999999999998E-2,4.5600000000000002E-2,4.4200000000000003E-2,"N/A",5.0299999999999997E-2]
[{"$f":"'Stock Prices (WP)'!G12","v":"2014-02-14"},{"$f":"VLOOKUP(A12,'Yields (WP)'!$A$90:$B$99196,2)/100","v":3.6900000000000002E-2},null,null,null,null,null,"2014-02-14",4.6699999999999998E-2,4.5600000000000002E-2,4.4200000000000003E-2,"N/A",5.04E-2]
[{"$f":"'Stock Prices (WP)'!G13","v":"2014-02-07"},{"$f":"VLOOKUP(A13,'Yields (WP)'!$A$90:$B$99196,2)/100","v":3.6699999999999997E-2},null,null,null,null,null,"2014-02-07",4.6600000000000003E-2,4.5499999999999999E-2,4.3900000000000002E-2,"N/A",5.0299999999999997E-2]
[{"$f":"'Stock Prices (WP)'!G14","v":"2014-01-31"},{"$f":"VLOOKUP(A14,'Yields (WP)'!$A$90:$B$99196,2)/100","v":3.61E-2},null,null,null,null,null,"2014-01-31",4.5999999999999999E-2,4.4900000000000002E-2,4.3299999999999998E-2,"N/A",4.9700000000000001E-2]
[{"$f":"'Stock Prices (WP)'!G15","v":"2014-01-24"},{"$f":"VLOOKUP(A15,'Yields (WP)'!$A$90:$B$99196,2)/100","v":3.6400000000000002E-2},null,null,null,null,null,"2014-01-24",4.6199999999999998E-2,4.5100000000000001E-2,4.36E-2,"N/A",0.05]
[{"$f":"'Stock Prices (WP)'!G16","v":"2014-01-17"},{"$f":"VLOOKUP(A16,'Yields (WP)'!$A$90:$B$99196,2)/100","v":3.7499999999999999E-2},null,null,null,null,null,"2014-01-17",4.7E-2,4.5999999999999999E-2,4.4299999999999999E-2,"N/A",5.0799999999999998E-2]
[{"$f":"'Stock Prices (WP)'!G17","v":"2014-01-10"},{"$f":"VLOOKUP(A17,'Yields (WP)'!$A$90:$B$99196,2)/100","v":3.7999999999999999E-2},null,null,null,null,null,"2014-01-10",4.7399999999999998E-2,4.65E-2,4.4499999999999998E-2,"N/A",5.11E-2]
[{"$f":"'Stock Prices (WP)'!G18","v":"2014-01-03"},{"$f":"VLOOKUP(A18,'Yields (WP)'!$A$90:$B$99196,2)/100","v":3.9300000000000002E-2},null,null,null,null,null,"2014-01-03",4.87E-2,4.8099999999999997E-2,4.58E-2,"N/A",5.2299999999999999E-2]

{"sheet":"Monthly Yields (WP)","index":30,"n_rows":1149,"n_cols":21,"rows_kept":1149,"cut":false,"hidden":false,"merged":[[6,13,6,14],[6,19,6,20]]}
[null,"GS30",null,null,null,null,"GS20",null,null,null,null,"AAA",null,null,null,null,null,"BAA"]
[null,"lin","Percent",null,null,null,"lin","Percent",null,null,null,"lin","Percent",null,null,null,null,"lin","Percent"]
[null,"M","Monthly",null,null,null,"M","Monthly",null,null,null,"M","Monthly",null,null,null,null,"M","Monthly"]
[null,"1977-02-01","1977-02-01 to 2014-02-01",null,null,null,"1953-04-01","1953-04-01 to 2014-02-01",null,null,null,"1919-01-01","1919-01-01 to 2014-02-01",null,null,null,null,"1919-01-01","1919-01-01 to 2014-02-01"]
[null,"30-Year Treasury Constant Maturity Rate",null,null,null,null,"20-Year Treasury Constant Maturity Rate",null,null,null,null,"Moody's Seasoned Aaa Corporate Bond Yield",null,null,null,null,null,"Moody's Seasoned Baa Corporate Bond Yield"]
[null,"Board of Governors of the Federal Reserve System",null,null,null,null,"Board of Governors of the Federal Reserve System",null,null,null,null,"Board of Governors of the Federal Reserve System",null,null,null,null,null,"Board of Governors of the Federal Reserve System"]
[null,"date","value",null,null,null,"date","value",null,null,null,"date","value","Annual Average",null,null,null,"date","value","Annual Average"]
[{"$f":"YEAR(B8)","v":1977},"1977-02-01",7.75,null,null,{"$f":"YEAR(G8)","v":1953},"1953-04-01",3.08,null,null,{"$f":"YEAR(L8)","v":1919},"1919-01-01",5.35,1919,{"$f":"AVERAGEIF($K$8:$K$11126,N8,$M$8:$M$11126)/100","v":5.4875000000000007E-2},null,{"$f":"YEAR(R8)","v":1919},"1919-01-01",7.12,1919,{"$f":"AVERAGEIF($Q$8:$Q$11126,T8,$S$8:$S$11126)/100","v":7.2450000000000014E-2}]
[1977,"1977-03-01",7.8,null,null,1953,"1953-05-01",3.18,null,null,1919,"1919-02-01",5.35,{"$f":"IF(N8+1>2012,\"\",N8+1)","v":1920},{"$f":"AVERAGEIF($K$8:$K$11126,N9,$M$8:$M$11126)/100","v":6.1208333333333337E-2},null,{"$f":"YEAR(R9)","v":1919},"1919-02-01",7.2,{"$f":"IF(T8+1>2013,\"\",T8+1)","v":1920},{"$f":"AVERAGEIF($Q$8:$Q$11126,T9,$S$8:$S$11126)/100","v":8.2041666666666652E-2}]
[1977,"1977-04-01",7.73,null,null,1953,"1953-06-01",3.21,null,null,1919,"1919-03-01",5.39,{"$f":"IF(N9+1>2012,\"\",N9+1)","v":1921},5.9691666666666657E-2,null,1919,"1919-03-01",7.15,{"$f":"IF(T9+1>2013,\"\",T9+1)","v":1921},8.3533333333333334E-2]
[1977,"1977-05-01",7.8,null,null,1953,"1953-07-01",3.12,null,null,1919,"1919-04-01",5.44,1922,5.1041666666666673E-2,null,1919,"1919-04-01",7.23,1922,7.0808333333333334E-2]
[1977,"1977-06-01",7.64,null,null,1953,"1953-08-01",3.1,null,null,1919,"1919-05-01",5.39,1923,5.1166666666666666E-2,null,1919,"1919-05-01",7.09,1923,7.2441666666666682E-2]
[1977,"1977-07-01",7.64,null,null,1953,"1953-09-01",3.07,null,null,1919,"1919-06-01",5.4,1924,5.0041666666666672E-2,null,1919,"1919-06-01",7.04,1924,6.8325000000000011E-2]
[1977,"1977-08-01",7.68,null,null,1953,"1953-10-01",2.95,null,null,1919,"1919-07-01",5.44,1925,4.876666666666666E-2,null,1919,"1919-07-01",7.06,1925,6.2650000000000011E-2]
[1977,"1977-09-01",7.64,null,null,1953,"1953-11-01",2.95,null,null,1919,"1919-08-01",5.56,1926,4.7308333333333327E-2,null,1919,"1919-08-01",7.13,1926,5.8708333333333328E-2]
[1977,"1977-10-01",7.77,null,null,1953,"1953-12-01",2.89,null,null,1919,"1919-09-01",5.6,1927,4.5700000000000005E-2,null,1919,"1919-09-01",7.27,1927,5.4808333333333341E-2]
[1977,"1977-11-01",7.85,null,null,1954,"1954-01-01",2.8,null,null,1919,"1919-10-01",5.54,1928,4.5466666666666662E-2,null,1919,"1919-10-01",7.34,1928,5.4841666666666657E-2]
[1977,"1977-12-01",7.94,null,null,1954,"1954-02-01",2.72,null,null,1919,"1919-11-01",5.66,1929,4.7249999999999993E-2,null,1919,"1919-11-01",7.54,1929,5.9016666666666662E-2]
[1978,"1978-01-01",8.18,null,null,1954,"1954-03-01",2.61,null,null,1919,"1919-12-01",5.73,1930,4.5466666666666669E-2,null,1919,"1919-12-01",7.77,1930,5.8991666666666651E-2]
[1978,"1978-02-01",8.25,null,null,1954,"1954-04-01",2.6,null,null,1920,"1920-01-01",5.75,1931,4.5774999999999996E-2,null,1920,"1920-01-01",7.78,1931,7.6225000000000015E-2]
[1978,"1978-03-01",8.23,null,null,1954,"1954-05-01",2.66,null,null,1920,"1920-02-01",5.86,1932,5.0066666666666669E-2,null,1920,"1920-02-01",7.94,1932,9.2033333333333328E-2]
[1978,"1978-04-01",8.34,null,null,1954,"1954-06-01",2.64,null,null,1920,"1920-03-01",5.92,1933,4.489166666666667E-2,null,1920,"1920-03-01",7.97,1933,7.7583333333333324E-2]
[1978,"1978-05-01",8.43,null,null,1954,"1954-07-01",2.57,null,null,1920,"1920-04-01",6.04,1934,4.003333333333333E-2,null,1920,"1920-04-01",8.17,1934,6.3208333333333339E-2]
[1978,"1978-06-01",8.5,null,null,1954,"1954-08-01",2.58,null,null,1920,"1920-05-01",6.25,1935,3.6024999999999995E-2,null,1920,"1920-05-01",8.39,1935,5.751666666666666E-2]
[1978,"1978-07-01",8.65,null,null,1954,"1954-09-01",2.6,null,null,1920,"1920-06-01",6.38,1936,3.2358333333333336E-2,null,1920,"1920-06-01",8.39,1936,4.7666666666666663E-2]
[1978,"1978-08-01",8.4700000000000006,null,null,1954,"1954-10-01",2.61,null,null,1920,"1920-07-01",6.34,1937,3.2633333333333341E-2,null,1920,"1920-07-01",8.52,1937,5.030833333333333E-2]
[1978,"1978-09-01",8.4700000000000006,null,null,1954,"1954-11-01",2.65,null,null,1920,"1920-08-01",6.3,1938,3.1924999999999995E-2,null,1920,"1920-08-01",8.39,1938,5.7974999999999992E-2]
[1978,"1978-10-01",8.67,null,null,1954,"1954-12-01",2.67,null,null,1920,"1920-09-01",6.22,1939,3.0058333333333329E-2,null,1920,"1920-09-01",8.14,1939,4.9608333333333345E-2]
[1978,"1978-11-01",8.75,null,null,1955,"1955-01-01",2.75,null,null,1920,"1920-10-01",6.05,1940,2.8408333333333327E-2,null,1920,"1920-10-01",7.99,1940,4.7491666666666675E-2]
[1978,"1978-12-01",8.8800000000000008,null,null,1955,"1955-02-01",2.83,null,null,1920,"1920-11-01",6.08,1941,2.7675000000000002E-2,null,1920,"1920-11-01",8.2100000000000009,1941,4.3274999999999994E-2]
[1979,"1979-01-01",8.94,null,null,1955,"1955-03-01",2.84,null,null,1920,"1920-12-01",6.26,1942,2.8258333333333333E-2,null,1920,"1920-12-01",8.56,1942,4.2791666666666665E-2]
[1979,"1979-02-01",9,null,null,1955,"1955-04-01",2.85,null,null,1921,"1921-01-01",6.14,1943,2.7300000000000005E-2,null,1921,"1921-01-01",8.5,1943,3.9099999999999996E-2]
[1979,"1979-03-01",9.0299999999999994,null,null,1955,"1955-05-01",2.87,null,null,1921,"1921-02-01",6.08,1944,2.7241666666666668E-2,null,1921,"1921-02-01",8.42,1944,3.6108333333333333E-2]
[1979,"1979-04-01",9.08,null,null,1955,"1955-06-01",2.86,null,null,1921,"1921-03-01",6.08,1945,2.6233333333333334E-2,null,1921,"1921-03-01",8.5500000000000007,1945,3.285833333333333E-2]
[1979,"1979-05-01",9.19,null,null,1955,"1955-07-01",2.94,null,null,1921,"1921-04-01",6.06,1946,2.5266666666666663E-2,null,1921,"1921-04-01",8.5299999999999994,1946,3.046666666666667E-2]
[1979,"1979-06-01",8.92,null,null,1955,"1955-08-01",3.01,null,null,1921,"1921-05-01",6.11,1947,2.6108333333333331E-2,null,1921,"1921-05-01",8.52,1947,3.2358333333333336E-2]
[1979,"1979-07-01",8.93,null,null,1955,"1955-09-01",3,null,null,1921,"1921-06-01",6.18,1948,2.8166666666666663E-2,null,1921,"1921-06-01",8.56,1948,3.465833333333334E-2]
[1979,"1979-08-01",8.98,null,null,1955,"1955-10-01",2.93,null,null,1921,"1921-07-01",6.12,1949,2.6600000000000006E-2,null,1921,"1921-07-01",8.48,1949,3.4166666666666672E-2]
[1979,"1979-09-01",9.17,null,null,1955,"1955-11-01",2.93,null,null,1921,"1921-08-01",5.99,1950,2.6225000000000002E-2,null,1921,"1921-08-01",8.51,1950,3.2400000000000005E-2]
[1979,"1979-10-01",9.85,null,null,1955,"1955-12-01",2.98,null,null,1921,"1921-09-01",5.93,1951,2.86E-2,null,1921,"1921-09-01",8.34,1951,3.4133333333333335E-2]
[1979,"1979-11-01",10.3,null,null,1956,"1956-01-01",2.94,null,null,1921,"1921-10-01",5.84,1952,2.9558333333333332E-2,null,1921,"1921-10-01",8.34,1952,3.5191666666666663E-2]
[1979,"1979-12-01",10.119999999999999,null,null,1956,"1956-02-01",2.91,null,null,1921,"1921-11-01",5.6,1953,3.1991666666666668E-2,null,1921,"1921-11-01",7.88,1953,3.7333333333333336E-2]
[1980,"1980-01-01",10.6,null,null,1956,"1956-03-01",2.99,null,null,1921,"1921-12-01",5.5,1954,2.9008333333333334E-2,null,1921,"1921-12-01",7.61,1954,3.506666666666667E-2]
[1980,"1980-02-01",12.13,null,null,1956,"1956-04-01",3.14,null,null,1922,"1922-01-01",5.34,1955,3.0524999999999997E-2,null,1922,"1922-01-01",7.7,1955,3.5299999999999991E-2]
[1980,"1980-03-01",12.34,null,null,1956,"1956-05-01",3.06,null,null,1922,"1922-02-01",5.29,1956,3.364166666666666E-2,null,1922,"1922-02-01",7.55,1956,3.8774999999999997E-2]
[1980,"1980-04-01",11.4,null,null,1956,"1956-06-01",3,null,null,1922,"1922-03-01",5.23,1957,3.8849999999999996E-2,null,1922,"1922-03-01",7.45,1957,4.7141666666666672E-2]
[1980,"1980-05-01",10.36,null,null,1956,"1956-07-01",3.08,null,null,1922,"1922-04-01",5.15,1958,3.7874999999999999E-2,null,1922,"1922-04-01",7.14,1958,4.7266666666666665E-2]
[1980,"1980-06-01",9.81,null,null,1956,"1956-08-01",3.22,null,null,1922,"1922-05-01",5.13,1959,4.381666666666667E-2,null,1922,"1922-05-01",6.89,1959,5.053333333333334E-2]
[1980,"1980-07-01",10.24,null,null,1956,"1956-09-01",3.28,null,null,1922,"1922-06-01",5.08,1960,4.41E-2,null,1922,"1922-06-01",6.97,1960,5.1891666666666662E-2]
[1980,"1980-08-01",11,null,null,1956,"1956-10-01",3.26,null,null,1922,"1922-07-01",5,1961,4.3500000000000004E-2,null,1922,"1922-07-01",6.89,1961,5.0750000000000003E-2]
[1980,"1980-09-01",11.34,null,null,1956,"1956-11-01",3.37,null,null,1922,"1922-08-01",4.96,1962,4.3250000000000004E-2,null,1922,"1922-08-01",6.85,1962,5.0200000000000002E-2]
[1980,"1980-10-01",11.59,null,null,1956,"1956-12-01",3.45,null,null,1922,"1922-09-01",4.93,1963,4.2591666666666667E-2,null,1922,"1922-09-01",6.75,1963,4.8558333333333342E-2]
[1980,"1980-11-01",12.37,null,null,1957,"1957-01-01",3.41,null,null,1922,"1922-10-01",4.97,1964,4.4058333333333331E-2,null,1922,"1922-10-01",6.78,1964,4.8283333333333338E-2]
[1980,"1980-12-01",12.4,null,null,1957,"1957-02-01",3.3,null,null,1922,"1922-11-01",5.09,1965,4.4933333333333332E-2,null,1922,"1922-11-01",6.98,1965,4.8658333333333345E-2]
[1981,"1981-01-01",12.14,null,null,1957,"1957-03-01",3.32,null,null,1922,"1922-12-01",5.08,1966,5.1300000000000005E-2,null,1922,"1922-12-01",7.02,1966,5.6649999999999992E-2]
[1981,"1981-02-01",12.8,null,null,1957,"1957-04-01",3.4,null,null,1923,"1923-01-01",5.04,1967,5.5066666666666667E-2,null,1923,"1923-01-01",6.98,1967,6.2283333333333316E-2]
[1981,"1981-03-01",12.69,null,null,1957,"1957-05-01",3.49,null,null,1923,"1923-02-01",5.07,1968,6.1750000000000006E-2,null,1923,"1923-02-01",6.97,1968,6.9358333333333355E-2]
[1981,"1981-04-01",13.2,null,null,1957,"1957-06-01",3.65,null,null,1923,"1923-03-01",5.13,1969,7.0291666666666655E-2,null,1923,"1923-03-01",7.09,1969,7.8133333333333332E-2]
[1981,"1981-05-01",13.6,null,null,1957,"1957-07-01",3.72,null,null,1923,"1923-04-01",5.22,1970,8.0399999999999985E-2,null,1923,"1923-04-01",7.17,1970,9.1050000000000006E-2]
[1981,"1981-06-01",12.96,null,null,1957,"1957-08-01",3.75,null,null,1923,"1923-05-01",5.16,1971,7.3866666666666664E-2,null,1923,"1923-05-01",7.17,1971,8.5633333333333339E-2]
[1981,"1981-07-01",13.59,null,null,1957,"1957-09-01",3.73,null,null,1923,"1923-06-01",5.15,1972,7.2133333333333341E-2,null,1923,"1923-06-01",7.21,1972,8.1550000000000011E-2]
[1981,"1981-08-01",14.17,null,null,1957,"1957-10-01",3.76,null,null,1923,"1923-07-01",5.14,1973,7.4408333333333326E-2,null,1923,"1923-07-01",7.34,1973,8.2408333333333333E-2]
[1981,"1981-09-01",14.67,null,null,1957,"1957-11-01",3.61,null,null,1923,"1923-08-01",5.08,1974,8.5658333333333322E-2,null,1923,"1923-08-01",7.38,1974,9.4966666666666658E-2]
[1981,"1981-10-01",14.68,null,null,1957,"1957-12-01",3.38,null,null,1923,"1923-09-01",5.12,1975,8.8258333333333341E-2,null,1923,"1923-09-01",7.38,1975,0.10610000000000001]
[1981,"1981-11-01",13.35,null,null,1958,"1958-01-01",3.27,null,null,1923,"1923-10-01",5.1100000000000003,1976,8.4341666666666662E-2,null,1923,"1923-10-01",7.46,1976,9.7466666666666674E-2]
[1981,"1981-12-01",13.45,null,null,1958,"1958-02-01",3.31,null,null,1923,"1923-11-01",5.09,1977,8.0241666666666683E-2,null,1923,"1923-11-01",7.4,1977,8.969166666666667E-2]
[1982,"1982-01-01",14.22,null,null,1958,"1958-03-01",3.29,null,null,1923,"1923-12-01",5.09,1978,8.7249999999999994E-2,null,1923,"1923-12-01",7.38,1978,9.4883333333333333E-2]
[1982,"1982-02-01",14.22,null,null,1958,"1958-04-01",3.17,null,null,1924,"1924-01-01",5.09,1979,9.6291666666666664E-2,null,1924,"1924-01-01",7.24,1979,0.10689999999999998]
[1982,"1982-03-01",13.53,null,null,1958,"1958-05-01",3.17,null,null,1924,"1924-02-01",5.09,1980,0.11938333333333334,null,1924,"1924-02-01",7.14,1980,0.13668333333333332]
[1982,"1982-04-01",13.37,null,null,1958,"1958-06-01",3.23,null,null,1924,"1924-03-01",5.0999999999999996,1981,0.14170833333333333,null,1924,"1924-03-01",7.08,1981,0.1604416666666667]
[1982,"1982-05-01",13.24,null,null,1958,"1958-07-01",3.39,null,null,1924,"1924-04-01",5.08,1982,0.13787500000000003,null,1924,"1924-04-01",7.03,1982,0.16113333333333332]
[{"$f":"YEAR(B72)","v":1982},"1982-06-01",13.92,null,null,{"$f":"YEAR(G72)","v":1958},"1958-08-01",3.65,null,null,{"$f":"YEAR(L72)","v":1924},"1924-05-01",5.04,1983,0.12041666666666666,null,1924,"1924-05-01",6.97,1983,0.13554166666666664]
[1982,"1982-07-01",13.55,null,null,1958,"1958-09-01",3.8,null,null,1924,"1924-06-01",4.99,1984,{"$f":"AVERAGEIF($K$8:$K$11126,N73,$M$8:$M$11126)/100","v":0.12709166666666666},null,{"$f":"YEAR(R73)","v":1924},"1924-06-01",6.82,1984,{"$f":"AVERAGEIF($Q$8:$Q$11126,T73,$S$8:$S$11126)/100","v":0.1419}]
[1982,"1982-08-01",12.77,null,null,1958,"1958-10-01",3.81,null,null,1924,"1924-07-01",4.95,{"$f":"IF(N73+1>2012,\"\",N73+1)","v":1985},0.11373333333333333,null,1924,"1924-07-01",6.67,{"$f":"IF(T73+1>2013,\"\",T73+1)","v":1985},0.12715000000000004]
[1982,"1982-09-01",12.07,null,null,1958,"1958-11-01",3.76,null,null,1924,"1924-08-01",4.95,1986,9.0208333333333321E-2,null,1924,"1924-08-01",6.69,1986,0.10390833333333331]
[1982,"1982-10-01",11.17,null,null,1958,"1958-12-01",3.86,null,null,1924,"1924-09-01",4.95,1987,9.3758333333333346E-2,null,1924,"1924-09-01",6.73,1987,0.10575833333333334]
[1982,"1982-11-01",10.54,null,null,1959,"1959-01-01",3.95,null,null,1924,"1924-10-01",4.92,1988,9.7100000000000006E-2,null,1924,"1924-10-01",6.62,1988,0.10829999999999998]
[1982,"1982-12-01",10.54,null,null,1959,"1959-02-01",3.96,null,null,1924,"1924-11-01",4.9400000000000004,1989,9.2575000000000005E-2,null,1924,"1924-11-01",6.54,1989,0.101775]
[1983,"1983-01-01",10.63,null,null,1959,"1959-03-01",3.99,null,null,1924,"1924-12-01",4.95,1990,9.3216666666666656E-2,null,1924,"1924-12-01",6.46,1990,0.10354999999999999]
[1983,"1983-02-01",10.88,null,null,1959,"1959-04-01",4.0599999999999996,null,null,1925,"1925-01-01",4.95,1991,8.7691666666666668E-2,null,1925,"1925-01-01",6.44,1991,9.8016666666666682E-2]
[1983,"1983-03-01",10.63,null,null,1959,"1959-05-01",4.13,null,null,1925,"1925-02-01",4.95,1992,8.1399999999999986E-2,null,1925,"1925-02-01",6.36,1992,8.9766666666666689E-2]
[1983,"1983-04-01",10.48,null,null,1959,"1959-06-01",4.1399999999999997,null,null,1925,"1925-03-01",4.91,1993,7.2191666666666696E-2,null,1925,"1925-03-01",6.36,1993,7.9299999999999995E-2]
[1983,"1983-05-01",10.53,null,null,1959,"1959-07-01",4.16,null,null,1925,"1925-04-01",4.87,1994,7.9625000000000015E-2,null,1925,"1925-04-01",6.41,1994,8.622500000000001E-2]
[1983,"1983-06-01",10.93,null,null,1959,"1959-08-01",4.1500000000000004,null,null,1925,"1925-05-01",4.83,1995,7.5899999999999995E-2,null,1925,"1925-05-01",6.3,1995,8.2008333333333322E-2]
[1983,"1983-07-01",11.4,null,null,1959,"1959-09-01",4.29,null,null,1925,"1925-06-01",4.83,1996,7.3700000000000002E-2,null,1925,"1925-06-01",6.18,1996,8.0541666666666678E-2]
[1983,"1983-08-01",11.82,null,null,1959,"1959-10-01",4.1900000000000004,null,null,1925,"1925-07-01",4.87,1997,7.2616666666666677E-2,null,1925,"1925-07-01",6.2,1997,7.8625000000000014E-2]
[1983,"1983-09-01",11.63,null,null,1959,"1959-11-01",4.2,null,null,1925,"1925-08-01",4.9000000000000004,1998,6.5316666666666662E-2,null,1925,"1925-08-01",6.24,1998,7.2208333333333347E-2]
[1983,"1983-10-01",11.58,null,null,1959,"1959-12-01",4.33,null,null,1925,"1925-09-01",4.87,1999,7.0416666666666669E-2,null,1925,"1925-09-01",6.2,1999,7.8708333333333338E-2]
[1983,"1983-11-01",11.75,null,null,1960,"1960-01-01",4.42,null,null,1925,"1925-10-01",4.8499999999999996,2000,7.6225000000000001E-2,null,1925,"1925-10-01",6.17,2000,8.3641666666666656E-2]
[1983,"1983-12-01",11.88,null,null,1960,"1960-02-01",4.28,null,null,1925,"1925-11-01",4.84,2001,7.0824999999999999E-2,null,1925,"1925-11-01",6.17,2001,7.947499999999999E-2]
[1984,"1984-01-01",11.75,null,null,1960,"1960-03-01",4.1399999999999997,null,null,1925,"1925-12-01",4.8499999999999996,2002,6.4916666666666664E-2,null,1925,"1925-12-01",6.15,2002,7.8016666666666665E-2]
[1984,"1984-02-01",11.95,null,null,1960,"1960-04-01",4.2300000000000004,null,null,1926,"1926-01-01",4.82,2003,5.6666666666666671E-2,null,1926,"1926-01-01",6.09,2003,6.765833333333332E-2]
[1984,"1984-03-01",12.38,null,null,1960,"1960-05-01",4.2,null,null,1926,"1926-02-01",4.7699999999999996,2004,5.6283333333333331E-2,null,1926,"1926-02-01",6.02,2004,6.3933333333333342E-2]
[1984,"1984-04-01",12.65,null,null,1960,"1960-06-01",4.04,null,null,1926,"1926-03-01",4.79,2005,5.2350000000000001E-2,null,1926,"1926-03-01",6.05,2005,6.0641666666666677E-2]
[1984,"1984-05-01",13.43,null,null,1960,"1960-07-01",3.91,null,null,1926,"1926-04-01",4.74,2006,5.5874999999999994E-2,null,1926,"1926-04-01",5.98,2006,6.4791666666666664E-2]
[1984,"1984-06-01",13.44,null,null,1960,"1960-08-01",3.84,null,null,1926,"1926-05-01",4.71,2007,5.5558333333333321E-2,null,1926,"1926-05-01",5.86,2007,6.4825000000000021E-2]
[1984,"1984-07-01",13.21,null,null,1960,"1960-09-01",3.86,null,null,1926,"1926-06-01",4.72,2008,5.6316666666666668E-2,null,1926,"1926-06-01",5.8,2008,7.4466666666666681E-2]
[1984,"1984-08-01",12.54,null,null,1960,"1960-10-01",3.92,null,null,1926,"1926-07-01",4.71,2009,5.3133333333333324E-2,null,1926,"1926-07-01",5.79,2009,7.2958333333333347E-2]
[1984,"1984-09-01",12.29,null,null,1960,"1960-11-01",3.96,null,null,1926,"1926-08-01",4.72,2010,4.9433333333333322E-2,null,1926,"1926-08-01",5.81,2010,6.0383333333333331E-2]
[1984,"1984-10-01",11.98,null,null,1960,"1960-12-01",3.91,null,null,1926,"1926-09-01",4.72,2011,4.6391666666666664E-2,null,1926,"1926-09-01",5.79,2011,5.6641666666666667E-2]
[1984,"1984-11-01",11.56,null,null,1961,"1961-01-01",3.9,null,null,1926,"1926-10-01",4.71,{"$f":"IF(N100+1>2013,\"\",N100+1)","v":2012},{"$f":"AVERAGEIF($K$8:$K$11126,N101,$M$8:$M$11126)/100","v":3.6733333333333333E-2},null,1926,"1926-10-01",5.81,2012,{"$f":"AVERAGEIF($Q$8:$Q$11126,T101,$S$8:$S$11126)/100","v":4.9349999999999998E-2}]
[1984,"1984-12-01",11.52,null,null,1961,"1961-02-01",3.84,null,null,1926,"1926-11-01",4.68,{"$f":"IF(N101+1>2013,\"\",N101+1)","v":2013},{"$f":"AVERAGEIF($K$8:$K$11126,N102,$M$8:$M$11126)/100","v":4.2350000000000006E-2},null,1926,"1926-11-01",5.77,{"$f":"IF(T101+1>2013,\"\",T101+1)","v":2013},{"$f":"AVERAGEIF($Q$8:$Q$11126,T102,$S$8:$S$11126)/100","v":5.1016666666666675E-2}]
[1985,"1985-01-01",11.45,null,null,1961,"1961-03-01",3.81,null,null,1926,"1926-12-01",4.68,null,null,null,1926,"1926-12-01",5.68]
[1985,"1985-02-01",11.47,null,null,1961,"1961-04-01",3.81,null,null,1927,"1927-01-01",4.66,null,null,null,1927,"1927-01-01",5.61]
[1985,"1985-03-01",11.81,null,null,1961,"1961-05-01",3.74,null,null,1927,"1927-02-01",4.67,null,null,null,1927,"1927-02-01",5.59]
[1985,"1985-04-01",11.47,null,null,1961,"1961-06-01",3.89,null,null,1927,"1927-03-01",4.62,null,null,null,1927,"1927-03-01",5.54]
[1985,"1985-05-01",11.05,null,null,1961,"1961-07-01",3.93,null,null,1927,"1927-04-01",4.58,null,null,null,1927,"1927-04-01",5.48]
[1985,"1985-06-01",10.45,null,null,1961,"1961-08-01",4.04,null,null,1927,"1927-05-01",4.57,null,null,null,1927,"1927-05-01",5.5]
[1985,"1985-07-01",10.5,null,null,1961,"1961-09-01",4.04,null,null,1927,"1927-06-01",4.58,null,null,null,1927,"1927-06-01",5.55]
[1985,"1985-08-01",10.56,null,null,1961,"1961-10-01",4.01,null,null,1927,"1927-07-01",4.5999999999999996,null,null,null,1927,"1927-07-01",5.55]
[1985,"1985-09-01",10.61,null,null,1961,"1961-11-01",4,null,null,1927,"1927-08-01",4.5599999999999996,null,null,null,1927,"1927-08-01",5.48]
[1985,"1985-10-01",10.5,null,null,1961,"1961-12-01",4.07,null,null,1927,"1927-09-01",4.54,null,null,null,1927,"1927-09-01",5.42]
[1985,"1985-11-01",10.06,null,null,1962,"1962-01-01",4.0999999999999996,null,null,1927,"1927-10-01",4.51,null,null,null,1927,"1927-10-01",5.38]
[1985,"1985-12-01",9.5399999999999991,null,null,1962,"1962-02-01",4.12,null,null,1927,"1927-11-01",4.49,null,null,null,1927,"1927-11-01",5.35]
[1986,"1986-01-01",9.4,null,null,1962,"1962-03-01",4.04,null,null,1927,"1927-12-01",4.46,null,null,null,1927,"1927-12-01",5.32]
[1986,"1986-02-01",8.93,null,null,1962,"1962-04-01",3.93,null,null,1928,"1928-01-01",4.46,null,null,null,1928,"1928-01-01",5.35]
[1986,"1986-03-01",7.96,null,null,1962,"1962-05-01",3.92,null,null,1928,"1928-02-01",4.46,null,null,null,1928,"1928-02-01",5.33]
[1986,"1986-04-01",7.39,null,null,1962,"1962-06-01",3.96,null,null,1928,"1928-03-01",4.46,null,null,null,1928,"1928-03-01",5.32]
[1986,"1986-05-01",7.52,null,null,1962,"1962-07-01",4.05,null,null,1928,"1928-04-01",4.46,null,null,null,1928,"1928-04-01",5.33]
[1986,"1986-06-01",7.57,null,null,1962,"1962-08-01",4.01,null,null,1928,"1928-05-01",4.49,null,null,null,1928,"1928-05-01",5.42]
[1986,"1986-07-01",7.27,null,null,1962,"1962-09-01",4,null,null,1928,"1928-06-01",4.57,null,null,null,1928,"1928-06-01",5.55]
[1986,"1986-08-01",7.33,null,null,1962,"1962-10-01",3.94,null,null,1928,"1928-07-01",4.6100000000000003,null,null,null,1928,"1928-07-01",5.58]
[1986,"1986-09-01",7.62,null,null,1962,"1962-11-01",3.93,null,null,1928,"1928-08-01",4.6399999999999997,null,null,null,1928,"1928-08-01",5.61]
[1986,"1986-10-01",7.7,null,null,1962,"1962-12-01",3.92,null,null,1928,"1928-09-01",4.6100000000000003,null,null,null,1928,"1928-09-01",5.59]
[1986,"1986-11-01",7.52,null,null,1963,"1963-01-01",3.93,null,null,1928,"1928-10-01",4.6100000000000003,null,null,null,1928,"1928-10-01",5.58]
[1986,"1986-12-01",7.37,null,null,1963,"1963-02-01",3.97,null,null,1928,"1928-11-01",4.58,null,null,null,1928,"1928-11-01",5.55]
[1987,"1987-01-01",7.39,null,null,1963,"1963-03-01",3.98,null,null,1928,"1928-12-01",4.6100000000000003,null,null,null,1928,"1928-12-01",5.6]
[1987,"1987-02-01",7.54,null,null,1963,"1963-04-01",4.03,null,null,1929,"1929-01-01",4.62,null,null,null,1929,"1929-01-01",5.63]
[1987,"1987-03-01",7.55,null,null,1963,"1963-05-01",4.0199999999999996,null,null,1929,"1929-02-01",4.66,null,null,null,1929,"1929-02-01",5.66]
[1987,"1987-04-01",8.25,null,null,1963,"1963-06-01",4.0199999999999996,null,null,1929,"1929-03-01",4.7,null,null,null,1929,"1929-03-01",5.79]
[1987,"1987-05-01",8.7799999999999994,null,null,1963,"1963-07-01",4.0599999999999996,null,null,1929,"1929-04-01",4.6900000000000004,null,null,null,1929,"1929-04-01",5.8]
[1987,"1987-06-01",8.57,null,null,1963,"1963-08-01",4.03,null,null,1929,"1929-05-01",4.7,null,null,null,1929,"1929-05-01",5.8]
[1987,"1987-07-01",8.64,null,null,1963,"1963-09-01",4.09,null,null,1929,"1929-06-01",4.7699999999999996,null,null,null,1929,"1929-06-01",5.94]
[1987,"1987-08-01",8.9700000000000006,null,null,1963,"1963-10-01",4.12,null,null,1929,"1929-07-01",4.7699999999999996,null,null,null,1929,"1929-07-01",5.95]
[1987,"1987-09-01",9.59,null,null,1963,"1963-11-01",4.16,null,null,1929,"1929-08-01",4.79,null,null,null,1929,"1929-08-01",6.04]
[{"$f":"YEAR(B136)","v":1987},"1987-10-01",9.61,null,null,{"$f":"YEAR(G136)","v":1963},"1963-12-01",4.1900000000000004,null,null,{"$f":"YEAR(L136)","v":1929},"1929-09-01",4.8,null,null,null,1929,"1929-09-01",6.12]
[1987,"1987-11-01",8.9499999999999993,null,null,1964,"1964-01-01",4.1900000000000004,null,null,1929,"1929-10-01",4.7699999999999996,null,null,null,{"$f":"YEAR(R137)","v":1929},"1929-10-01",6.11]
[1987,"1987-12-01",9.1199999999999992,null,null,1964,"1964-02-01",4.17,null,null,1929,"1929-11-01",4.76,null,null,null,1929,"1929-11-01",6.03]
[1988,"1988-01-01",8.83,null,null,1964,"1964-03-01",4.22,null,null,1929,"1929-12-01",4.67,null,null,null,1929,"1929-12-01",5.95]
[1988,"1988-02-01",8.43,null,null,1964,"1964-04-01",4.24,null,null,1930,"1930-01-01",4.66,null,null,null,1930,"1930-01-01",5.92]
[1988,"1988-03-01",8.6300000000000008,null,null,1964,"1964-05-01",4.2,null,null,1930,"1930-02-01",4.6900000000000004,null,null,null,1930,"1930-02-01",5.89]
[1988,"1988-04-01",8.9499999999999993,null,null,1964,"1964-06-01",4.17,null,null,1930,"1930-03-01",4.62,null,null,null,1930,"1930-03-01",5.73]
[1988,"1988-05-01",9.23,null,null,1964,"1964-07-01",4.16,null,null,1930,"1930-04-01",4.5999999999999996,null,null,null,1930,"1930-04-01",5.7]
[1988,"1988-06-01",9,null,null,1964,"1964-08-01",4.18,null,null,1930,"1930-05-01",4.5999999999999996,null,null,null,1930,"1930-05-01",5.72]
[1988,"1988-07-01",9.14,null,null,1964,"1964-09-01",4.2,null,null,1930,"1930-06-01",4.57,null,null,null,1930,"1930-06-01",5.78]
[1988,"1988-08-01",9.32,null,null,1964,"1964-10-01",4.2,null,null,1930,"1930-07-01",4.5199999999999996,null,null,null,1930,"1930-07-01",5.77]
[1988,"1988-09-01",9.06,null,null,1964,"1964-11-01",4.17,null,null,1930,"1930-08-01",4.47,null,null,null,1930,"1930-08-01",5.73]
[1988,"1988-10-01",8.89,null,null,1964,"1964-12-01",4.18,null,null,1930,"1930-09-01",4.42,null,null,null,1930,"1930-09-01",5.65]
[1988,"1988-11-01",9.02,null,null,1965,"1965-01-01",4.1900000000000004,null,null,1930,"1930-10-01",4.42,null,null,null,1930,"1930-10-01",5.94]
[1988,"1988-12-01",9.01,null,null,1965,"1965-02-01",4.21,null,null,1930,"1930-11-01",4.47,null,null,null,1930,"1930-11-01",6.25]
[1989,"1989-01-01",8.93,null,null,1965,"1965-03-01",4.2,null,null,1930,"1930-12-01",4.5199999999999996,null,null,null,1930,"1930-12-01",6.71]
[1989,"1989-02-01",9.01,null,null,1965,"1965-04-01",4.2,null,null,1931,"1931-01-01",4.42,null,null,null,1931,"1931-01-01",6.41]
[1989,"1989-03-01",9.17,null,null,1965,"1965-05-01",4.21,null,null,1931,"1931-02-01",4.43,null,null,null,1931,"1931-02-01",6.38]
[1989,"1989-04-01",9.0299999999999994,null,null,1965,"1965-06-01",4.21,null,null,1931,"1931-03-01",4.3899999999999997,null,null,null,1931,"1931-03-01",6.44]
[1989,"1989-05-01",8.83,null,null,1965,"1965-07-01",4.21,null,null,1931,"1931-04-01",4.4000000000000004,null,null,null,1931,"1931-04-01",6.72]
[1989,"1989-06-01",8.27,null,null,1965,"1965-08-01",4.25,null,null,1931,"1931-05-01",4.37,null,null,null,1931,"1931-05-01",7.15]
[1989,"1989-07-01",8.08,null,null,1965,"1965-09-01",4.3,null,null,1931,"1931-06-01",4.3600000000000003,null,null,null,1931,"1931-06-01",7.36]
[1989,"1989-08-01",8.1199999999999992,null,null,1965,"1965-10-01",4.32,null,null,1931,"1931-07-01",4.3600000000000003,null,null,null,1931,"1931-07-01",7.08]
[1989,"1989-09-01",8.15,null,null,1965,"1965-11-01",4.4000000000000004,null,null,1931,"1931-08-01",4.4000000000000004,null,null,null,1931,"1931-08-01",7.47]
[1989,"1989-10-01",8,null,null,1965,"1965-12-01",4.5,null,null,1931,"1931-09-01",4.55,null,null,null,1931,"1931-09-01",8.07]
[1989,"1989-11-01",7.9,null,null,1966,"1966-01-01",4.5199999999999996,null,null,1931,"1931-10-01",4.99,null,null,null,1931,"1931-10-01",9.0399999999999991]
[1989,"1989-12-01",7.9,null,null,1966,"1966-02-01",4.71,null,null,1931,"1931-11-01",4.9400000000000004,null,null,null,1931,"1931-11-01",8.93]
[1990,"1990-01-01",8.26,null,null,1966,"1966-03-01",4.72,null,null,1931,"1931-12-01",5.32,null,null,null,1931,"1931-12-01",10.42]
[1990,"1990-02-01",8.5,null,null,1966,"1966-04-01",4.6500000000000004,null,null,1932,"1932-01-01",5.2,null,null,null,1932,"1932-01-01",9.1300000000000008]
[1990,"1990-03-01",8.56,null,null,1966,"1966-05-01",4.6900000000000004,null,null,1932,"1932-02-01",5.23,null,null,null,1932,"1932-02-01",8.8699999999999992]
[1990,"1990-04-01",8.76,null,null,1966,"1966-06-01",4.7300000000000004,null,null,1932,"1932-03-01",4.9800000000000004,null,null,null,1932,"1932-03-01",8.83]
[1990,"1990-05-01",8.73,null,null,1966,"1966-07-01",4.84,null,null,1932,"1932-04-01",5.17,null,null,null,1932,"1932-04-01",10.46]
[1990,"1990-06-01",8.4600000000000009,null,null,1966,"1966-08-01",4.95,null,null,1932,"1932-05-01",5.36,null,null,null,1932,"1932-05-01",11]
[1990,"1990-07-01",8.5,null,null,1966,"1966-09-01",4.9400000000000004,null,null,1932,"1932-06-01",5.41,null,null,null,1932,"1932-06-01",11]
[1990,"1990-08-01",8.86,null,null,1966,"1966-10-01",4.83,null,null,1932,"1932-07-01",5.26,null,null,null,1932,"1932-07-01",10.79]
[1990,"1990-09-01",9.0299999999999994,null,null,1966,"1966-11-01",4.87,null,null,1932,"1932-08-01",4.91,null,null,null,1932,"1932-08-01",8.2200000000000006]
[1990,"1990-10-01",8.86,null,null,1966,"1966-12-01",4.76,null,null,1932,"1932-09-01",4.7,null,null,null,1932,"1932-09-01",7.61]
[1990,"1990-11-01",8.5399999999999991,null,null,1967,"1967-01-01",4.51,null,null,1932,"1932-10-01",4.6399999999999997,null,null,null,1932,"1932-10-01",7.87]
[1990,"1990-12-01",8.24,null,null,1967,"1967-02-01",4.6100000000000003,null,null,1932,"1932-11-01",4.63,null,null,null,1932,"1932-11-01",8.24]
[1991,"1991-01-01",8.27,null,null,1967,"1967-03-01",4.5599999999999996,null,null,1932,"1932-12-01",4.59,null,null,null,1932,"1932-12-01",8.42]
[1991,"1991-02-01",8.0299999999999994,null,null,1967,"1967-04-01",4.6399999999999997,null,null,1933,"1933-01-01",4.4400000000000004,null,null,null,1933,"1933-01-01",8.01]
[1991,"1991-03-01",8.2899999999999991,null,null,1967,"1967-05-01",4.9000000000000004,null,null,1933,"1933-02-01",4.4800000000000004,null,null,null,1933,"1933-02-01",8.3699999999999992]
[1991,"1991-04-01",8.2100000000000009,null,null,1967,"1967-06-01",4.99,null,null,1933,"1933-03-01",4.68,null,null,null,1933,"1933-03-01",8.91]
[1991,"1991-05-01",8.27,null,null,1967,"1967-07-01",5.01,null,null,1933,"1933-04-01",4.78,null,null,null,1933,"1933-04-01",9.1199999999999992]
[1991,"1991-06-01",8.4700000000000006,null,null,1967,"1967-08-01",5.12,null,null,1933,"1933-05-01",4.63,null,null,null,1933,"1933-05-01",7.74]
[1991,"1991-07-01",8.4499999999999993,null,null,1967,"1967-09-01",5.16,null,null,1933,"1933-06-01",4.46,null,null,null,1933,"1933-06-01",7.07]
[1991,"1991-08-01",8.14,null,null,1967,"1967-10-01",5.36,null,null,1933,"1933-07-01",4.3600000000000003,null,null,null,1933,"1933-07-01",6.62]
[1991,"1991-09-01",7.95,null,null,1967,"1967-11-01",5.66,null,null,1933,"1933-08-01",4.3,null,null,null,1933,"1933-08-01",6.77]
[1991,"1991-10-01",7.93,null,null,1967,"1967-12-01",5.59,null,null,1933,"1933-09-01",4.3600000000000003,null,null,null,1933,"1933-09-01",7.27]
[1991,"1991-11-01",7.92,null,null,1968,"1968-01-01",5.39,null,null,1933,"1933-10-01",4.34,null,null,null,1933,"1933-10-01",7.49]
[1991,"1991-12-01",7.7,null,null,1968,"1968-02-01",5.38,null,null,1933,"1933-11-01",4.54,null,null,null,1933,"1933-11-01",7.98]
[1992,"1992-01-01",7.58,null,null,1968,"1968-03-01",5.59,null,null,1933,"1933-12-01",4.5,null,null,null,1933,"1933-12-01",7.75]
[1992,"1992-02-01",7.85,null,null,1968,"1968-04-01",5.46,null,null,1934,"1934-01-01",4.3499999999999996,null,null,null,1934,"1934-01-01",7.01]
[1992,"1992-03-01",7.97,null,null,1968,"1968-05-01",5.55,null,null,1934,"1934-02-01",4.2,null,null,null,1934,"1934-02-01",6.27]
[1992,"1992-04-01",7.96,null,null,1968,"1968-06-01",5.4,null,null,1934,"1934-03-01",4.13,null,null,null,1934,"1934-03-01",6.26]
[1992,"1992-05-01",7.89,null,null,1968,"1968-07-01",5.29,null,null,1934,"1934-04-01",4.07,null,null,null,1934,"1934-04-01",6.01]
[1992,"1992-06-01",7.84,null,null,1968,"1968-08-01",5.23,null,null,1934,"1934-05-01",4.01,null,null,null,1934,"1934-05-01",6.05]
[1992,"1992-07-01",7.6,null,null,1968,"1968-09-01",5.28,null,null,1934,"1934-06-01",3.93,null,null,null,1934,"1934-06-01",6.06]
[1992,"1992-08-01",7.39,null,null,1968,"1968-10-01",5.44,null,null,1934,"1934-07-01",3.89,null,null,null,1934,"1934-07-01",6.13]
[1992,"1992-09-01",7.34,null,null,1968,"1968-11-01",5.56,null,null,1934,"1934-08-01",3.93,null,null,null,1934,"1934-08-01",6.49]
[1992,"1992-10-01",7.53,null,null,1968,"1968-12-01",5.88,null,null,1934,"1934-09-01",3.96,null,null,null,1934,"1934-09-01",6.57]
[1992,"1992-11-01",7.61,null,null,1969,"1969-01-01",5.99,null,null,1934,"1934-10-01",3.9,null,null,null,1934,"1934-10-01",6.4]
[1992,"1992-12-01",7.44,null,null,1969,"1969-02-01",6.11,null,null,1934,"1934-11-01",3.86,null,null,null,1934,"1934-11-01",6.37]
[1993,"1993-01-01",7.34,null,null,1969,"1969-03-01",6.22,null,null,1934,"1934-12-01",3.81,null,null,null,1934,"1934-12-01",6.23]
[{"$f":"YEAR(B200)","v":1993},"1993-02-01",7.09,null,null,{"$f":"YEAR(G200)","v":1969},"1969-04-01",6.03,null,null,{"$f":"YEAR(L200)","v":1935},"1935-01-01",3.77,null,null,null,1935,"1935-01-01",5.98]
[1993,"1993-03-01",6.82,null,null,1969,"1969-05-01",6.11,null,null,1935,"1935-02-01",3.69,null,null,null,{"$f":"YEAR(R201)","v":1935},"1935-02-01",5.95]
[1993,"1993-04-01",6.85,null,null,1969,"1969-06-01",6.28,null,null,1935,"1935-03-01",3.67,null,null,null,1935,"1935-03-01",6.2]
[1993,"1993-05-01",6.92,null,null,1969,"1969-07-01",6.27,null,null,1935,"1935-04-01",3.66,null,null,null,1935,"1935-04-01",6.13]
[1993,"1993-06-01",6.81,null,null,1969,"1969-08-01",6.22,null,null,1935,"1935-05-01",3.65,null,null,null,1935,"1935-05-01",5.94]
[1993,"1993-07-01",6.63,null,null,1969,"1969-09-01",6.55,null,null,1935,"1935-06-01",3.61,null,null,null,1935,"1935-06-01",5.77]
[1993,"1993-08-01",6.32,null,null,1969,"1969-10-01",6.49,null,null,1935,"1935-07-01",3.56,null,null,null,1935,"1935-07-01",5.67]
[1993,"1993-09-01",6,null,null,1969,"1969-11-01",6.74,null,null,1935,"1935-08-01",3.6,null,null,null,1935,"1935-08-01",5.58]
[1993,"1993-10-01",5.94,null,null,1969,"1969-12-01",6.91,null,null,1935,"1935-09-01",3.59,null,null,null,1935,"1935-09-01",5.53]
[1993,"1993-11-01",6.21,null,null,1970,"1970-01-01",6.92,null,null,1935,"1935-10-01",3.52,null,null,null,1935,"1935-10-01",5.54]
[1993,"1993-12-01",6.25,null,null,1970,"1970-02-01",6.67,null,null,1935,"1935-11-01",3.47,null,null,null,1935,"1935-11-01",5.43]
[1994,"1994-01-01",6.29,null,null,1970,"1970-03-01",6.72,null,null,1935,"1935-12-01",3.44,null,null,null,1935,"1935-12-01",5.3]
[1994,"1994-02-01",6.49,null,null,1970,"1970-04-01",6.85,null,null,1936,"1936-01-01",3.37,null,null,null,1936,"1936-01-01",5]
[1994,"1994-03-01",6.91,null,null,1970,"1970-05-01",7.24,null,null,1936,"1936-02-01",3.32,null,null,null,1936,"1936-02-01",4.8]
[1994,"1994-04-01",7.27,null,null,1970,"1970-06-01",7.34,null,null,1936,"1936-03-01",3.29,null,null,null,1936,"1936-03-01",4.8600000000000003]
[1994,"1994-05-01",7.41,null,null,1970,"1970-07-01",6.92,null,null,1936,"1936-04-01",3.29,null,null,null,1936,"1936-04-01",4.91]
[1994,"1994-06-01",7.4,null,null,1970,"1970-08-01",7.07,null,null,1936,"1936-05-01",3.27,null,null,null,1936,"1936-05-01",4.9400000000000004]
[1994,"1994-07-01",7.58,null,null,1970,"1970-09-01",6.88,null,null,1936,"1936-06-01",3.24,null,null,null,1936,"1936-06-01",4.9000000000000004]
[1994,"1994-08-01",7.49,null,null,1970,"1970-10-01",6.88,null,null,1936,"1936-07-01",3.23,null,null,null,1936,"1936-07-01",4.84]
[1994,"1994-09-01",7.71,null,null,1970,"1970-11-01",6.58,null,null,1936,"1936-08-01",3.21,null,null,null,1936,"1936-08-01",4.74]
[1994,"1994-10-01",7.94,null,null,1970,"1970-12-01",6.28,null,null,1936,"1936-09-01",3.18,null,null,null,1936,"1936-09-01",4.62]
[1994,"1994-11-01",8.08,null,null,1971,"1971-01-01",6.18,null,null,1936,"1936-10-01",3.18,null,null,null,1936,"1936-10-01",4.54]
[1994,"1994-12-01",7.87,null,null,1971,"1971-02-01",6.14,null,null,1936,"1936-11-01",3.15,null,null,null,1936,"1936-11-01",4.5199999999999996]
[1995,"1995-01-01",7.85,null,null,1971,"1971-03-01",5.94,null,null,1936,"1936-12-01",3.1,null,null,null,1936,"1936-12-01",4.53]
[1995,"1995-02-01",7.61,null,null,1971,"1971-04-01",6,null,null,1937,"1937-01-01",3.1,null,null,null,1937,"1937-01-01",4.49]
[1995,"1995-03-01",7.45,null,null,1971,"1971-05-01",6.32,null,null,1937,"1937-02-01",3.22,null,null,null,1937,"1937-02-01",4.53]
[1995,"1995-04-01",7.36,null,null,1971,"1971-06-01",6.38,null,null,1937,"1937-03-01",3.32,null,null,null,1937,"1937-03-01",4.68]
[1995,"1995-05-01",6.95,null,null,1971,"1971-07-01",6.38,null,null,1937,"1937-04-01",3.42,null,null,null,1937,"1937-04-01",4.84]
[1995,"1995-06-01",6.57,null,null,1971,"1971-08-01",6.27,null,null,1937,"1937-05-01",3.33,null,null,null,1937,"1937-05-01",4.84]
[1995,"1995-07-01",6.72,null,null,1971,"1971-09-01",6.05,null,null,1937,"1937-06-01",3.28,null,null,null,1937,"1937-06-01",4.93]
[1995,"1995-08-01",6.86,null,null,1971,"1971-10-01",5.92,null,null,1937,"1937-07-01",3.25,null,null,null,1937,"1937-07-01",4.91]
[1995,"1995-09-01",6.55,null,null,1971,"1971-11-01",5.86,null,null,1937,"1937-08-01",3.24,null,null,null,1937,"1937-08-01",4.92]
[1995,"1995-10-01",6.37,null,null,1971,"1971-12-01",6,null,null,1937,"1937-09-01",3.28,null,null,null,1937,"1937-09-01",5.16]
[1995,"1995-11-01",6.26,null,null,1972,"1972-01-01",6.01,null,null,1937,"1937-10-01",3.27,null,null,null,1937,"1937-10-01",5.52]
[1995,"1995-12-01",6.06,null,null,1972,"1972-02-01",6.06,null,null,1937,"1937-11-01",3.24,null,null,null,1937,"1937-11-01",5.82]
[1996,"1996-01-01",6.05,null,null,1972,"1972-03-01",6.06,null,null,1937,"1937-12-01",3.21,null,null,null,1937,"1937-12-01",5.73]
[1996,"1996-02-01",6.24,null,null,1972,"1972-04-01",6.16,null,null,1938,"1938-01-01",3.17,null,null,null,1938,"1938-01-01",5.89]
[1996,"1996-03-01",6.6,null,null,1972,"1972-05-01",6.07,null,null,1938,"1938-02-01",3.2,null,null,null,1938,"1938-02-01",5.97]
[1996,"1996-04-01",6.79,null,null,1972,"1972-06-01",6.01,null,null,1938,"1938-03-01",3.22,null,null,null,1938,"1938-03-01",6.3]
[1996,"1996-05-01",6.93,null,null,1972,"1972-07-01",6.01,null,null,1938,"1938-04-01",3.3,null,null,null,1938,"1938-04-01",6.47]
[1996,"1996-06-01",7.06,null,null,1972,"1972-08-01",5.94,null,null,1938,"1938-05-01",3.22,null,null,null,1938,"1938-05-01",6.06]
[1996,"1996-07-01",7.03,null,null,1972,"1972-09-01",6.05,null,null,1938,"1938-06-01",3.26,null,null,null,1938,"1938-06-01",6.25]
[1996,"1996-08-01",6.84,null,null,1972,"1972-10-01",6,null,null,1938,"1938-07-01",3.22,null,null,null,1938,"1938-07-01",5.63]
[1996,"1996-09-01",7.03,null,null,1972,"1972-11-01",5.79,null,null,1938,"1938-08-01",3.18,null,null,null,1938,"1938-08-01",5.49]
[1996,"1996-10-01",6.81,null,null,1972,"1972-12-01",5.96,null,null,1938,"1938-09-01",3.21,null,null,null,1938,"1938-09-01",5.65]
[1996,"1996-11-01",6.48,null,null,1973,"1973-01-01",6.78,null,null,1938,"1938-10-01",3.15,null,null,null,1938,"1938-10-01",5.36]
[1996,"1996-12-01",6.55,null,null,1973,"1973-02-01",6.88,null,null,1938,"1938-11-01",3.1,null,null,null,1938,"1938-11-01",5.23]
[1997,"1997-01-01",6.83,null,null,1973,"1973-03-01",6.91,null,null,1938,"1938-12-01",3.08,null,null,null,1938,"1938-12-01",5.27]
[1997,"1997-02-01",6.69,null,null,1973,"1973-04-01",6.86,null,null,1939,"1939-01-01",3.01,null,null,null,1939,"1939-01-01",5.12]
[1997,"1997-03-01",6.93,null,null,1973,"1973-05-01",6.99,null,null,1939,"1939-02-01",3,null,null,null,1939,"1939-02-01",5.05]
[1997,"1997-04-01",7.09,null,null,1973,"1973-06-01",7.06,null,null,1939,"1939-03-01",2.99,null,null,null,1939,"1939-03-01",4.8899999999999997]
[1997,"1997-05-01",6.94,null,null,1973,"1973-07-01",7.29,null,null,1939,"1939-04-01",3.02,null,null,null,1939,"1939-04-01",5.15]
[1997,"1997-06-01",6.77,null,null,1973,"1973-08-01",7.61,null,null,1939,"1939-05-01",2.97,null,null,null,1939,"1939-05-01",5.07]
[1997,"1997-07-01",6.51,null,null,1973,"1973-09-01",7.25,null,null,1939,"1939-06-01",2.92,null,null,null,1939,"1939-06-01",4.91]
[1997,"1997-08-01",6.58,null,null,1973,"1973-10-01",7.18,null,null,1939,"1939-07-01",2.89,null,null,null,1939,"1939-07-01",4.84]
[1997,"1997-09-01",6.5,null,null,1973,"1973-11-01",7.3,null,null,1939,"1939-08-01",2.93,null,null,null,1939,"1939-08-01",4.8499999999999996]
[1997,"1997-10-01",6.33,null,null,1973,"1973-12-01",7.29,null,null,1939,"1939-09-01",3.25,null,null,null,1939,"1939-09-01",5]
[1997,"1997-11-01",6.11,null,null,1974,"1974-01-01",7.47,null,null,1939,"1939-10-01",3.15,null,null,null,1939,"1939-10-01",4.88]
[1997,"1997-12-01",5.99,null,null,1974,"1974-02-01",7.46,null,null,1939,"1939-11-01",3,null,null,null,1939,"1939-11-01",4.8499999999999996]
[1998,"1998-01-01",5.81,null,null,1974,"1974-03-01",7.73,null,null,1939,"1939-12-01",2.94,null,null,null,1939,"1939-12-01",4.92]
[1998,"1998-02-01",5.89,null,null,1974,"1974-04-01",8.01,null,null,1940,"1940-01-01",2.88,null,null,null,1940,"1940-01-01",4.8600000000000003]
[1998,"1998-03-01",5.95,null,null,1974,"1974-05-01",8.14,null,null,1940,"1940-02-01",2.86,null,null,null,1940,"1940-02-01",4.83]
[1998,"1998-04-01",5.92,null,null,1974,"1974-06-01",8.1,null,null,1940,"1940-03-01",2.84,null,null,null,1940,"1940-03-01",4.8]
[1998,"1998-05-01",5.93,null,null,1974,"1974-07-01",8.26,null,null,1940,"1940-04-01",2.82,null,null,null,1940,"1940-04-01",4.74]
[{"$f":"YEAR(B264)","v":1998},"1998-06-01",5.7,null,null,{"$f":"YEAR(G264)","v":1974},"1974-08-01",8.6,null,null,{"$f":"YEAR(L264)","v":1940},"1940-05-01",2.93,null,null,null,1940,"1940-05-01",4.9400000000000004]
[1998,"1998-07-01",5.68,null,null,1974,"1974-09-01",8.59,null,null,1940,"1940-06-01",2.96,null,null,null,{"$f":"YEAR(R265)","v":1940},"1940-06-01",5.1100000000000003]
[1998,"1998-08-01",5.54,null,null,1974,"1974-10-01",8.3699999999999992,null,null,1940,"1940-07-01",2.88,null,null,null,1940,"1940-07-01",4.8]
[1998,"1998-09-01",5.2,null,null,1974,"1974-11-01",7.98,null,null,1940,"1940-08-01",2.85,null,null,null,1940,"1940-08-01",4.76]
[1998,"1998-10-01",5.01,null,null,1974,"1974-12-01",7.91,null,null,1940,"1940-09-01",2.82,null,null,null,1940,"1940-09-01",4.66]
[1998,"1998-11-01",5.25,null,null,1975,"1975-01-01",7.88,null,null,1940,"1940-10-01",2.79,null,null,null,1940,"1940-10-01",4.5599999999999996]
[1998,"1998-12-01",5.0599999999999996,null,null,1975,"1975-02-01",7.71,null,null,1940,"1940-11-01",2.75,null,null,null,1940,"1940-11-01",4.4800000000000004]
[1999,"1999-01-01",5.16,null,null,1975,"1975-03-01",7.99,null,null,1940,"1940-12-01",2.71,null,null,null,1940,"1940-12-01",4.45]
[1999,"1999-02-01",5.37,null,null,1975,"1975-04-01",8.36,null,null,1941,"1941-01-01",2.75,null,null,null,1941,"1941-01-01",4.38]
[1999,"1999-03-01",5.58,null,null,1975,"1975-05-01",8.2200000000000006,null,null,1941,"1941-02-01",2.78,null,null,null,1941,"1941-02-01",4.42]
[1999,"1999-04-01",5.55,null,null,1975,"1975-06-01",8.0399999999999991,null,null,1941,"1941-03-01",2.8,null,null,null,1941,"1941-03-01",4.38]
[1999,"1999-05-01",5.81,null,null,1975,"1975-07-01",8.17,null,null,1941,"1941-04-01",2.82,null,null,null,1941,"1941-04-01",4.33]
[1999,"1999-06-01",6.04,null,null,1975,"1975-08-01",8.5,null,null,1941,"1941-05-01",2.81,null,null,null,1941,"1941-05-01",4.32]
[1999,"1999-07-01",5.98,null,null,1975,"1975-09-01",8.57,null,null,1941,"1941-06-01",2.77,null,null,null,1941,"1941-06-01",4.3099999999999996]
[1999,"1999-08-01",6.07,null,null,1975,"1975-10-01",8.35,null,null,1941,"1941-07-01",2.74,null,null,null,1941,"1941-07-01",4.28]
[1999,"1999-09-01",6.07,null,null,1975,"1975-11-01",8.2799999999999994,null,null,1941,"1941-08-01",2.74,null,null,null,1941,"1941-08-01",4.2699999999999996]
[1999,"1999-10-01",6.26,null,null,1975,"1975-12-01",8.23,null,null,1941,"1941-09-01",2.75,null,null,null,1941,"1941-09-01",4.3]
[1999,"1999-11-01",6.15,null,null,1976,"1976-01-01",8.01,null,null,1941,"1941-10-01",2.73,null,null,null,1941,"1941-10-01",4.28]
[1999,"1999-12-01",6.35,null,null,1976,"1976-02-01",8.0299999999999994,null,null,1941,"1941-11-01",2.72,null,null,null,1941,"1941-11-01",4.28]
[2000,"2000-01-01",6.63,null,null,1976,"1976-03-01",7.97,null,null,1941,"1941-12-01",2.8,null,null,null,1941,"1941-12-01",4.38]
[2000,"2000-02-01",6.23,null,null,1976,"1976-04-01",7.86,null,null,1942,"1942-01-01",2.83,null,null,null,1942,"1942-01-01",4.29]
[2000,"2000-03-01",6.05,null,null,1976,"1976-05-01",8.1300000000000008,null,null,1942,"1942-02-01",2.85,null,null,null,1942,"1942-02-01",4.29]
[2000,"2000-04-01",5.85,null,null,1976,"1976-06-01",8.0299999999999994,null,null,1942,"1942-03-01",2.86,null,null,null,1942,"1942-03-01",4.3]
[2000,"2000-05-01",6.15,null,null,1976,"1976-07-01",8,null,null,1942,"1942-04-01",2.83,null,null,null,1942,"1942-04-01",4.26]
[2000,"2000-06-01",5.93,null,null,1976,"1976-08-01",7.91,null,null,1942,"1942-05-01",2.85,null,null,null,1942,"1942-05-01",4.2699999999999996]
[2000,"2000-07-01",5.85,null,null,1976,"1976-09-01",7.78,null,null,1942,"1942-06-01",2.85,null,null,null,1942,"1942-06-01",4.33]
[2000,"2000-08-01",5.72,null,null,1976,"1976-10-01",7.7,null,null,1942,"1942-07-01",2.83,null,null,null,1942,"1942-07-01",4.3]
[2000,"2000-09-01",5.83,null,null,1976,"1976-11-01",7.64,null,null,1942,"1942-08-01",2.81,null,null,null,1942,"1942-08-01",4.28]
[2000,"2000-10-01",5.8,null,null,1976,"1976-12-01",7.3,null,null,1942,"1942-09-01",2.8,null,null,null,1942,"1942-09-01",4.26]
[2000,"2000-11-01",5.78,null,null,1977,"1977-01-01",7.48,null,null,1942,"1942-10-01",2.8,null,null,null,1942,"1942-10-01",4.24]
[2000,"2000-12-01",5.49,null,null,1977,"1977-02-01",7.64,null,null,1942,"1942-11-01",2.79,null,null,null,1942,"1942-11-01",4.25]
[2001,"2001-01-01",5.54,null,null,1977,"1977-03-01",7.73,null,null,1942,"1942-12-01",2.81,null,null,null,1942,"1942-12-01",4.28]
[2001,"2001-02-01",5.45,null,null,1977,"1977-04-01",7.67,null,null,1943,"1943-01-01",2.79,null,null,null,1943,"1943-01-01",4.16]
[2001,"2001-03-01",5.34,null,null,1977,"1977-05-01",7.74,null,null,1943,"1943-02-01",2.77,null,null,null,1943,"1943-02-01",4.08]
[2001,"2001-04-01",5.65,null,null,1977,"1977-06-01",7.64,null,null,1943,"1943-03-01",2.76,null,null,null,1943,"1943-03-01",4.01]
[2001,"2001-05-01",5.78,null,null,1977,"1977-07-01",7.6,null,null,1943,"1943-04-01",2.76,null,null,null,1943,"1943-04-01",3.96]
[2001,"2001-06-01",5.67,null,null,1977,"1977-08-01",7.64,null,null,1943,"1943-05-01",2.74,null,null,null,1943,"1943-05-01",3.91]
[2001,"2001-07-01",5.61,null,null,1977,"1977-09-01",7.57,null,null,1943,"1943-06-01",2.72,null,null,null,1943,"1943-06-01",3.88]
[2001,"2001-08-01",5.48,null,null,1977,"1977-10-01",7.71,null,null,1943,"1943-07-01",2.69,null,null,null,1943,"1943-07-01",3.81]
[2001,"2001-09-01",5.48,null,null,1977,"1977-11-01",7.76,null,null,1943,"1943-08-01",2.69,null,null,null,1943,"1943-08-01",3.81]
[2001,"2001-10-01",5.32,null,null,1977,"1977-12-01",7.87,null,null,1943,"1943-09-01",2.69,null,null,null,1943,"1943-09-01",3.83]
[2001,"2001-11-01",5.12,null,null,1978,"1978-01-01",8.14,null,null,1943,"1943-10-01",2.7,null,null,null,1943,"1943-10-01",3.82]
[2001,"2001-12-01",5.48,null,null,1978,"1978-02-01",8.2200000000000006,null,null,1943,"1943-11-01",2.71,null,null,null,1943,"1943-11-01",3.83]
[2002,"2002-01-01",5.45,null,null,1978,"1978-03-01",8.2100000000000009,null,null,1943,"1943-12-01",2.74,null,null,null,1943,"1943-12-01",3.82]
[2002,"2002-02-01",5.4,null,null,1978,"1978-04-01",8.32,null,null,1944,"1944-01-01",2.72,null,null,null,1944,"1944-01-01",3.76]
[2002,"2002-03-01",{"$f":"NA()","v":{"$error":"#N/A"}},null,null,1978,"1978-05-01",8.44,null,null,1944,"1944-02-01",2.74,null,null,null,1944,"1944-02-01",3.72]
[2002,"2002-04-01",{"$f":"NA()","v":{"$error":"#N/A"}},null,null,1978,"1978-06-01",8.5299999999999994,null,null,1944,"1944-03-01",2.74,null,null,null,1944,"1944-03-01",3.7]
[2002,"2002-05-01",{"$f":"NA()","v":{"$error":"#N/A"}},null,null,1978,"1978-07-01",8.69,null,null,1944,"1944-04-01",2.74,null,null,null,1944,"1944-04-01",3.68]
[2002,"2002-06-01",{"$f":"NA()","v":{"$error":"#N/A"}},null,null,1978,"1978-08-01",8.4499999999999993,null,null,1944,"1944-05-01",2.73,null,null,null,1944,"1944-05-01",3.63]
[2002,"2002-07-01",{"$f":"NA()","v":{"$error":"#N/A"}},null,null,1978,"1978-09-01",8.4700000000000006,null,null,1944,"1944-06-01",2.73,null,null,null,1944,"1944-06-01",3.59]
[2002,"2002-08-01",{"$f":"NA()","v":{"$error":"#N/A"}},null,null,1978,"1978-10-01",8.69,null,null,1944,"1944-07-01",2.72,null,null,null,1944,"1944-07-01",3.57]
[2002,"2002-09-01",{"$f":"NA()","v":{"$error":"#N/A"}},null,null,1978,"1978-11-01",8.75,null,null,1944,"1944-08-01",2.71,null,null,null,1944,"1944-08-01",3.55]
[2002,"2002-10-01",{"$f":"NA()","v":{"$error":"#N/A"}},null,null,1978,"1978-12-01",8.9,null,null,1944,"1944-09-01",2.72,null,null,null,1944,"1944-09-01",3.56]
[2002,"2002-11-01",{"$f":"NA()","v":{"$error":"#N/A"}},null,null,1979,"1979-01-01",8.98,null,null,1944,"1944-10-01",2.72,null,null,null,1944,"1944-10-01",3.55]
[2002,"2002-12-01",{"$f":"NA()","v":{"$error":"#N/A"}},null,null,1979,"1979-02-01",9.0299999999999994,null,null,1944,"1944-11-01",2.72,null,null,null,1944,"1944-11-01",3.53]
[2003,"2003-01-01",{"$f":"NA()","v":{"$error":"#N/A"}},null,null,1979,"1979-03-01",9.08,null,null,1944,"1944-12-01",2.7,null,null,null,1944,"1944-12-01",3.49]
[2003,"2003-02-01",{"$f":"NA()","v":{"$error":"#N/A"}},null,null,1979,"1979-04-01",9.1199999999999992,null,null,1945,"1945-01-01",2.69,null,null,null,1945,"1945-01-01",3.46]
[2003,"2003-03-01",{"$f":"NA()","v":{"$error":"#N/A"}},null,null,1979,"1979-05-01",9.2100000000000009,null,null,1945,"1945-02-01",2.65,null,null,null,1945,"1945-02-01",3.41]
[2003,"2003-04-01",{"$f":"NA()","v":{"$error":"#N/A"}},null,null,1979,"1979-06-01",8.91,null,null,1945,"1945-03-01",2.62,null,null,null,1945,"1945-03-01",3.38]
[2003,"2003-05-01",{"$f":"NA()","v":{"$error":"#N/A"}},null,null,1979,"1979-07-01",8.92,null,null,1945,"1945-04-01",2.61,null,null,null,1945,"1945-04-01",3.36]
[2003,"2003-06-01",{"$f":"NA()","v":{"$error":"#N/A"}},null,null,1979,"1979-08-01",8.9700000000000006,null,null,1945,"1945-05-01",2.62,null,null,null,1945,"1945-05-01",3.32]
[2003,"2003-07-01",{"$f":"NA()","v":{"$error":"#N/A"}},null,null,1979,"1979-09-01",9.2100000000000009,null,null,1945,"1945-06-01",2.61,null,null,null,1945,"1945-06-01",3.29]
[2003,"2003-08-01",{"$f":"NA()","v":{"$error":"#N/A"}},null,null,1979,"1979-10-01",9.99,null,null,1945,"1945-07-01",2.6,null,null,null,1945,"1945-07-01",3.26]
[2003,"2003-09-01",{"$f":"NA()","v":{"$error":"#N/A"}},null,null,1979,"1979-11-01",10.37,null,null,1945,"1945-08-01",2.61,null,null,null,1945,"1945-08-01",3.26]
[{"$f":"YEAR(B328)","v":2003},"2003-10-01",{"$f":"NA()","v":{"$error":"#N/A"}},null,null,{"$f":"YEAR(G328)","v":1979},"1979-12-01",10.18,null,null,{"$f":"YEAR(L328)","v":1945},"1945-09-01",2.62,null,null,null,1945,"1945-09-01",3.24]
[2003,"2003-11-01",{"$f":"NA()","v":{"$error":"#N/A"}},null,null,1980,"1980-01-01",10.65,null,null,1945,"1945-10-01",2.62,null,null,null,{"$f":"YEAR(R329)","v":1945},"1945-10-01",3.2]
[2003,"2003-12-01",{"$f":"NA()","v":{"$error":"#N/A"}},null,null,1980,"1980-02-01",12.21,null,null,1945,"1945-11-01",2.62,null,null,null,1945,"1945-11-01",3.15]
[2004,"2004-01-01",{"$f":"NA()","v":{"$error":"#N/A"}},null,null,1980,"1980-03-01",12.49,null,null,1945,"1945-12-01",2.61,null,null,null,1945,"1945-12-01",3.1]
[2004,"2004-02-01",{"$f":"NA()","v":{"$error":"#N/A"}},null,null,1980,"1980-04-01",11.42,null,null,1946,"1946-01-01",2.54,null,null,null,1946,"1946-01-01",3.01]
[2004,"2004-03-01",{"$f":"NA()","v":{"$error":"#N/A"}},null,null,1980,"1980-05-01",10.44,null,null,1946,"1946-02-01",2.48,null,null,null,1946,"1946-02-01",2.95]
[2004,"2004-04-01",{"$f":"NA()","v":{"$error":"#N/A"}},null,null,1980,"1980-06-01",9.89,null,null,1946,"1946-03-01",2.4700000000000002,null,null,null,1946,"1946-03-01",2.94]
[2004,"2004-05-01",{"$f":"NA()","v":{"$error":"#N/A"}},null,null,1980,"1980-07-01",10.32,null,null,1946,"1946-04-01",2.46,null,null,null,1946,"1946-04-01",2.96]
[2004,"2004-06-01",{"$f":"NA()","v":{"$error":"#N/A"}},null,null,1980,"1980-08-01",11.07,null,null,1946,"1946-05-01",2.5099999999999998,null,null,null,1946,"1946-05-01",3.02]
[2004,"2004-07-01",{"$f":"NA()","v":{"$error":"#N/A"}},null,null,1980,"1980-09-01",11.47,null,null,1946,"1946-06-01",2.4900000000000002,null,null,null,1946,"1946-06-01",3.03]
[2004,"2004-08-01",{"$f":"NA()","v":{"$error":"#N/A"}},null,null,1980,"1980-10-01",11.75,null,null,1946,"1946-07-01",2.48,null,null,null,1946,"1946-07-01",3.03]
[2004,"2004-09-01",{"$f":"NA()","v":{"$error":"#N/A"}},null,null,1980,"1980-11-01",12.44,null,null,1946,"1946-08-01",2.5099999999999998,null,null,null,1946,"1946-08-01",3.03]
[2004,"2004-10-01",{"$f":"NA()","v":{"$error":"#N/A"}},null,null,1980,"1980-12-01",12.49,null,null,1946,"1946-09-01",2.58,null,null,null,1946,"1946-09-01",3.1]
[2004,"2004-11-01",{"$f":"NA()","v":{"$error":"#N/A"}},null,null,1981,"1981-01-01",12.29,null,null,1946,"1946-10-01",2.6,null,null,null,1946,"1946-10-01",3.15]
[2004,"2004-12-01",{"$f":"NA()","v":{"$error":"#N/A"}},null,null,1981,"1981-02-01",12.98,null,null,1946,"1946-11-01",2.59,null,null,null,1946,"1946-11-01",3.17]
[2005,"2005-01-01",{"$f":"NA()","v":{"$error":"#N/A"}},null,null,1981,"1981-03-01",12.94,null,null,1946,"1946-12-01",2.61,null,null,null,1946,"1946-12-01",3.17]
[2005,"2005-02-01",{"$f":"NA()","v":{"$error":"#N/A"}},null,null,1981,"1981-04-01",13.46,null,null,1947,"1947-01-01",2.57,null,null,null,1947,"1947-01-01",3.13]
[2005,"2005-03-01",{"$f":"NA()","v":{"$error":"#N/A"}},null,null,1981,"1981-05-01",13.82,null,null,1947,"1947-02-01",2.5499999999999998,null,null,null,1947,"1947-02-01",3.12]
[2005,"2005-04-01",{"$f":"NA()","v":{"$error":"#N/A"}},null,null,1981,"1981-06-01",13.2,null,null,1947,"1947-03-01",2.5499999999999998,null,null,null,1947,"1947-03-01",3.15]
[2005,"2005-05-01",{"$f":"NA()","v":{"$error":"#N/A"}},null,null,1981,"1981-07-01",13.92,null,null,1947,"1947-04-01",2.5299999999999998,null,null,null,1947,"1947-04-01",3.16]
[2005,"2005-06-01",{"$f":"NA()","v":{"$error":"#N/A"}},null,null,1981,"1981-08-01",14.52,null,null,1947,"1947-05-01",2.5299999999999998,null,null,null,1947,"1947-05-01",3.17]
[2005,"2005-07-01",{"$f":"NA()","v":{"$error":"#N/A"}},null,null,1981,"1981-09-01",15.07,null,null,1947,"1947-06-01",2.5499999999999998,null,null,null,1947,"1947-06-01",3.21]
[2005,"2005-08-01",{"$f":"NA()","v":{"$error":"#N/A"}},null,null,1981,"1981-10-01",15.13,null,null,1947,"1947-07-01",2.5499999999999998,null,null,null,1947,"1947-07-01",3.18]
[2005,"2005-09-01",{"$f":"NA()","v":{"$error":"#N/A"}},null,null,1981,"1981-11-01",13.56,null,null,1947,"1947-08-01",2.56,null,null,null,1947,"1947-08-01",3.17]
[2005,"2005-10-01",{"$f":"NA()","v":{"$error":"#N/A"}},null,null,1981,"1981-12-01",13.73,null,null,1947,"1947-09-01",2.61,null,null,null,1947,"1947-09-01",3.23]
[2005,"2005-11-01",{"$f":"NA()","v":{"$error":"#N/A"}},null,null,1982,"1982-01-01",14.57,null,null,1947,"1947-10-01",2.7,null,null,null,1947,"1947-10-01",3.35]
[2005,"2005-12-01",{"$f":"NA()","v":{"$error":"#N/A"}},null,null,1982,"1982-02-01",14.48,null,null,1947,"1947-11-01",2.77,null,null,null,1947,"1947-11-01",3.44]
[2006,"2006-01-01",{"$f":"NA()","v":{"$error":"#N/A"}},null,null,1982,"1982-03-01",13.75,null,null,1947,"1947-12-01",2.86,null,null,null,1947,"1947-12-01",3.52]
[2006,"2006-02-01",4.54,null,null,1982,"1982-04-01",13.57,null,null,1948,"1948-01-01",2.86,null,null,null,1948,"1948-01-01",3.52]
[2006,"2006-03-01",4.7300000000000004,null,null,1982,"1982-05-01",13.46,null,null,1948,"1948-02-01",2.85,null,null,null,1948,"1948-02-01",3.53]
[2006,"2006-04-01",5.0599999999999996,null,null,1982,"1982-06-01",14.18,null,null,1948,"1948-03-01",2.83,null,null,null,1948,"1948-03-01",3.53]
[2006,"2006-05-01",5.2,null,null,1982,"1982-07-01",13.76,null,null,1948,"1948-04-01",2.78,null,null,null,1948,"1948-04-01",3.47]
[2006,"2006-06-01",5.15,null,null,1982,"1982-08-01",12.91,null,null,1948,"1948-05-01",2.76,null,null,null,1948,"1948-05-01",3.38]
[2006,"2006-07-01",5.13,null,null,1982,"1982-09-01",12.16,null,null,1948,"1948-06-01",2.76,null,null,null,1948,"1948-06-01",3.34]
[2006,"2006-08-01",5,null,null,1982,"1982-10-01",10.97,null,null,1948,"1948-07-01",2.81,null,null,null,1948,"1948-07-01",3.37]
[2006,"2006-09-01",4.8499999999999996,null,null,1982,"1982-11-01",10.57,null,null,1948,"1948-08-01",2.84,null,null,null,1948,"1948-08-01",3.44]
[2006,"2006-10-01",4.8499999999999996,null,null,1982,"1982-12-01",10.62,null,null,1948,"1948-09-01",2.84,null,null,null,1948,"1948-09-01",3.45]
[2006,"2006-11-01",4.6900000000000004,null,null,1983,"1983-01-01",10.78,null,null,1948,"1948-10-01",2.84,null,null,null,1948,"1948-10-01",3.5]
[2006,"2006-12-01",4.68,null,null,1983,"1983-02-01",11.03,null,null,1948,"1948-11-01",2.84,null,null,null,1948,"1948-11-01",3.53]
[2007,"2007-01-01",4.8499999999999996,null,null,1983,"1983-03-01",10.8,null,null,1948,"1948-12-01",2.79,null,null,null,1948,"1948-12-01",3.53]
[2007,"2007-02-01",4.82,null,null,1983,"1983-04-01",10.63,null,null,1949,"1949-01-01",2.71,null,null,null,1949,"1949-01-01",3.46]
[2007,"2007-03-01",4.72,null,null,1983,"1983-05-01",10.67,null,null,1949,"1949-02-01",2.71,null,null,null,1949,"1949-02-01",3.45]
[2007,"2007-04-01",4.87,null,null,1983,"1983-06-01",11.12,null,null,1949,"1949-03-01",2.7,null,null,null,1949,"1949-03-01",3.47]
[2007,"2007-05-01",4.9000000000000004,null,null,1983,"1983-07-01",11.59,null,null,1949,"1949-04-01",2.7,null,null,null,1949,"1949-04-01",3.45]
[2007,"2007-06-01",5.2,null,null,1983,"1983-08-01",11.96,null,null,1949,"1949-05-01",2.71,null,null,null,1949,"1949-05-01",3.45]
[2007,"2007-07-01",5.1100000000000003,null,null,1983,"1983-09-01",11.82,null,null,1949,"1949-06-01",2.71,null,null,null,1949,"1949-06-01",3.47]
[2007,"2007-08-01",4.93,null,null,1983,"1983-10-01",11.77,null,null,1949,"1949-07-01",2.67,null,null,null,1949,"1949-07-01",3.46]
[2007,"2007-09-01",4.79,null,null,1983,"1983-11-01",11.92,null,null,1949,"1949-08-01",2.62,null,null,null,1949,"1949-08-01",3.4]
[2007,"2007-10-01",4.7699999999999996,null,null,1983,"1983-12-01",12.02,null,null,1949,"1949-09-01",2.6,null,null,null,1949,"1949-09-01",3.37]
[2007,"2007-11-01",4.5199999999999996,null,null,1984,"1984-01-01",11.82,null,null,1949,"1949-10-01",2.61,null,null,null,1949,"1949-10-01",3.36]
[2007,"2007-12-01",4.53,null,null,1984,"1984-02-01",12,null,null,1949,"1949-11-01",2.6,null,null,null,1949,"1949-11-01",3.35]
[2008,"2008-01-01",4.33,null,null,1984,"1984-03-01",12.45,null,null,1949,"1949-12-01",2.58,null,null,null,1949,"1949-12-01",3.31]
[2008,"2008-02-01",4.5199999999999996,null,null,1984,"1984-04-01",12.65,null,null,1950,"1950-01-01",2.57,null,null,null,1950,"1950-01-01",3.24]
[2008,"2008-03-01",4.3899999999999997,null,null,1984,"1984-05-01",13.43,null,null,1950,"1950-02-01",2.58,null,null,null,1950,"1950-02-01",3.24]
[2008,"2008-04-01",4.4400000000000004,null,null,1984,"1984-06-01",13.54,null,null,1950,"1950-03-01",2.58,null,null,null,1950,"1950-03-01",3.24]
[2008,"2008-05-01",4.5999999999999996,null,null,1984,"1984-07-01",13.36,null,null,1950,"1950-04-01",2.6,null,null,null,1950,"1950-04-01",3.23]
[2008,"2008-06-01",4.6900000000000004,null,null,1984,"1984-08-01",12.71,null,null,1950,"1950-05-01",2.61,null,null,null,1950,"1950-05-01",3.25]
[2008,"2008-07-01",4.57,null,null,1984,"1984-09-01",12.42,null,null,1950,"1950-06-01",2.62,null,null,null,1950,"1950-06-01",3.28]
[2008,"2008-08-01",4.5,null,null,1984,"1984-10-01",12.04,null,null,1950,"1950-07-01",2.65,null,null,null,1950,"1950-07-01",3.32]
[2008,"2008-09-01",4.2699999999999996,null,null,1984,"1984-11-01",11.66,null,null,1950,"1950-08-01",2.61,null,null,null,1950,"1950-08-01",3.23]
[2008,"2008-10-01",4.17,null,null,1984,"1984-12-01",11.64,null,null,1950,"1950-09-01",2.64,null,null,null,1950,"1950-09-01",3.21]
[2008,"2008-11-01",4,null,null,1985,"1985-01-01",11.58,null,null,1950,"1950-10-01",2.67,null,null,null,1950,"1950-10-01",3.22]
[2008,"2008-12-01",2.87,null,null,1985,"1985-02-01",11.7,null,null,1950,"1950-11-01",2.67,null,null,null,1950,"1950-11-01",3.22]
[2009,"2009-01-01",3.13,null,null,1985,"1985-03-01",12.06,null,null,1950,"1950-12-01",2.67,null,null,null,1950,"1950-12-01",3.2]
[{"$f":"YEAR(B392)","v":2009},"2009-02-01",3.59,null,null,{"$f":"YEAR(G392)","v":1985},"1985-04-01",11.69,null,null,{"$f":"YEAR(L392)","v":1951},"1951-01-01",2.66,null,null,null,1951,"1951-01-01",3.17]
[2009,"2009-03-01",3.64,null,null,1985,"1985-05-01",11.19,null,null,1951,"1951-02-01",2.66,null,null,null,{"$f":"YEAR(R393)","v":1951},"1951-02-01",3.16]
[2009,"2009-04-01",3.76,null,null,1985,"1985-06-01",10.57,null,null,1951,"1951-03-01",2.78,null,null,null,1951,"1951-03-01",3.23]
[2009,"2009-05-01",4.2300000000000004,null,null,1985,"1985-07-01",10.68,null,null,1951,"1951-04-01",2.87,null,null,null,1951,"1951-04-01",3.35]
[2009,"2009-06-01",4.5199999999999996,null,null,1985,"1985-08-01",10.73,null,null,1951,"1951-05-01",2.89,null,null,null,1951,"1951-05-01",3.4]
[2009,"2009-07-01",4.41,null,null,1985,"1985-09-01",10.8,null,null,1951,"1951-06-01",2.94,null,null,null,1951,"1951-06-01",3.49]
[2009,"2009-08-01",4.37,null,null,1985,"1985-10-01",10.67,null,null,1951,"1951-07-01",2.94,null,null,null,1951,"1951-07-01",3.53]
[2009,"2009-09-01",4.1900000000000004,null,null,1985,"1985-11-01",10.24,null,null,1951,"1951-08-01",2.88,null,null,null,1951,"1951-08-01",3.5]
[2009,"2009-10-01",4.1900000000000004,null,null,1985,"1985-12-01",9.75,null,null,1951,"1951-09-01",2.84,null,null,null,1951,"1951-09-01",3.46]
[2009,"2009-11-01",4.3099999999999996,null,null,1986,"1986-01-01",9.59,null,null,1951,"1951-10-01",2.89,null,null,null,1951,"1951-10-01",3.5]
[2009,"2009-12-01",4.49,null,null,1986,"1986-02-01",9.08,null,null,1951,"1951-11-01",2.96,null,null,null,1951,"1951-11-01",3.56]
[2010,"2010-01-01",4.5999999999999996,null,null,1986,"1986-03-01",8.09,null,null,1951,"1951-12-01",3.01,null,null,null,1951,"1951-12-01",3.61]
[2010,"2010-02-01",4.62,null,null,1986,"1986-04-01",7.5,null,null,1952,"1952-01-01",2.98,null,null,null,1952,"1952-01-01",3.59]
[2010,"2010-03-01",4.6399999999999997,null,null,1986,"1986-05-01",7.81,null,null,1952,"1952-02-01",2.93,null,null,null,1952,"1952-02-01",3.53]
[2010,"2010-04-01",4.6900000000000004,null,null,1986,"1986-06-01",7.69,null,null,1952,"1952-03-01",2.96,null,null,null,1952,"1952-03-01",3.51]
[2010,"2010-05-01",4.29,null,null,1986,"1986-07-01",7.29,null,null,1952,"1952-04-01",2.93,null,null,null,1952,"1952-04-01",3.5]
[2010,"2010-06-01",4.13,null,null,1986,"1986-08-01",7.28,null,null,1952,"1952-05-01",2.93,null,null,null,1952,"1952-05-01",3.49]
[2010,"2010-07-01",3.99,null,null,1986,"1986-09-01",7.56,null,null,1952,"1952-06-01",2.94,null,null,null,1952,"1952-06-01",3.5]
[2010,"2010-08-01",3.8,null,null,1986,"1986-10-01",7.61,null,null,1952,"1952-07-01",2.95,null,null,null,1952,"1952-07-01",3.5]
[2010,"2010-09-01",3.77,null,null,1986,"1986-11-01",7.42,null,null,1952,"1952-08-01",2.94,null,null,null,1952,"1952-08-01",3.51]
[2010,"2010-10-01",3.87,null,null,1986,"1986-12-01",7.28,null,null,1952,"1952-09-01",2.95,null,null,null,1952,"1952-09-01",3.52]
[2010,"2010-11-01",4.1900000000000004,null,null,1987,"1987-01-01",{"$f":"NA()","v":{"$error":"#N/A"}},null,null,1952,"1952-10-01",3.01,null,null,null,1952,"1952-10-01",3.54]
[2010,"2010-12-01",4.42,null,null,1987,"1987-02-01",{"$f":"NA()","v":{"$error":"#N/A"}},null,null,1952,"1952-11-01",2.98,null,null,null,1952,"1952-11-01",3.53]
[2011,"2011-01-01",4.5199999999999996,null,null,1987,"1987-03-01",{"$f":"NA()","v":{"$error":"#N/A"}},null,null,1952,"1952-12-01",2.97,null,null,null,1952,"1952-12-01",3.51]
[2011,"2011-02-01",4.6500000000000004,null,null,1987,"1987-04-01",{"$f":"NA()","v":{"$error":"#N/A"}},null,null,1953,"1953-01-01",3.02,null,null,null,1953,"1953-01-01",3.51]
[2011,"2011-03-01",4.51,null,null,1987,"1987-05-01",{"$f":"NA()","v":{"$error":"#N/A"}},null,null,1953,"1953-02-01",3.07,null,null,null,1953,"1953-02-01",3.53]
[2011,"2011-04-01",4.5,null,null,1987,"1987-06-01",{"$f":"NA()","v":{"$error":"#N/A"}},null,null,1953,"1953-03-01",3.12,null,null,null,1953,"1953-03-01",3.57]
[2011,"2011-05-01",4.29,null,null,1987,"1987-07-01",{"$f":"NA()","v":{"$error":"#N/A"}},null,null,1953,"1953-04-01",3.23,null,null,null,1953,"1953-04-01",3.65]
[2011,"2011-06-01",4.2300000000000004,null,null,1987,"1987-08-01",{"$f":"NA()","v":{"$error":"#N/A"}},null,null,1953,"1953-05-01",3.34,null,null,null,1953,"1953-05-01",3.78]
[2011,"2011-07-01",4.2699999999999996,null,null,1987,"1987-09-01",{"$f":"NA()","v":{"$error":"#N/A"}},null,null,1953,"1953-06-01",3.4,null,null,null,1953,"1953-06-01",3.86]
[2011,"2011-08-01",3.65,null,null,1987,"1987-10-01",{"$f":"NA()","v":{"$error":"#N/A"}},null,null,1953,"1953-07-01",3.28,null,null,null,1953,"1953-07-01",3.86]
[2011,"2011-09-01",3.18,null,null,1987,"1987-11-01",{"$f":"NA()","v":{"$error":"#N/A"}},null,null,1953,"1953-08-01",3.24,null,null,null,1953,"1953-08-01",3.85]
[2011,"2011-10-01",3.13,null,null,1987,"1987-12-01",{"$f":"NA()","v":{"$error":"#N/A"}},null,null,1953,"1953-09-01",3.29,null,null,null,1953,"1953-09-01",3.88]
[2011,"2011-11-01",3.02,null,null,1988,"1988-01-01",{"$f":"NA()","v":{"$error":"#N/A"}},null,null,1953,"1953-10-01",3.16,null,null,null,1953,"1953-10-01",3.82]
[2011,"2011-12-01",2.98,null,null,1988,"1988-02-01",{"$f":"NA()","v":{"$error":"#N/A"}},null,null,1953,"1953-11-01",3.11,null,null,null,1953,"1953-11-01",3.75]
[2012,"2012-01-01",3.03,null,null,1988,"1988-03-01",{"$f":"NA()","v":{"$error":"#N/A"}},null,null,1953,"1953-12-01",3.13,null,null,null,1953,"1953-12-01",3.74]
[2012,"2012-02-01",3.11,null,null,1988,"1988-04-01",{"$f":"NA()","v":{"$error":"#N/A"}},null,null,1954,"1954-01-01",3.06,null,null,null,1954,"1954-01-01",3.71]
[2012,"2012-03-01",3.28,null,null,1988,"1988-05-01",{"$f":"NA()","v":{"$error":"#N/A"}},null,null,1954,"1954-02-01",2.95,null,null,null,1954,"1954-02-01",3.61]
[2012,"2012-04-01",3.18,null,null,1988,"1988-06-01",{"$f":"NA()","v":{"$error":"#N/A"}},null,null,1954,"1954-03-01",2.86,null,null,null,1954,"1954-03-01",3.51]
[2012,"2012-05-01",2.93,null,null,1988,"1988-07-01",{"$f":"NA()","v":{"$error":"#N/A"}},null,null,1954,"1954-04-01",2.85,null,null,null,1954,"1954-04-01",3.47]
[2012,"2012-06-01",2.7,null,null,1988,"1988-08-01",{"$f":"NA()","v":{"$error":"#N/A"}},null,null,1954,"1954-05-01",2.88,null,null,null,1954,"1954-05-01",3.47]
[2012,"2012-07-01",2.59,null,null,1988,"1988-09-01",{"$f":"NA()","v":{"$error":"#N/A"}},null,null,1954,"1954-06-01",2.9,null,null,null,1954,"1954-06-01",3.49]
[2012,"2012-08-01",2.77,null,null,1988,"1988-10-01",{"$f":"NA()","v":{"$error":"#N/A"}},null,null,1954,"1954-07-01",2.89,null,null,null,1954,"1954-07-01",3.5]
[2012,"2012-09-01",2.88,null,null,1988,"1988-11-01",{"$f":"NA()","v":{"$error":"#N/A"}},null,null,1954,"1954-08-01",2.87,null,null,null,1954,"1954-08-01",3.49]
[2012,"2012-10-01",2.9,null,null,1988,"1988-12-01",{"$f":"NA()","v":{"$error":"#N/A"}},null,null,1954,"1954-09-01",2.89,null,null,null,1954,"1954-09-01",3.47]
[2012,"2012-11-01",2.8,null,null,1989,"1989-01-01",{"$f":"NA()","v":{"$error":"#N/A"}},null,null,1954,"1954-10-01",2.87,null,null,null,1954,"1954-10-01",3.46]
[2012,"2012-12-01",2.88,null,null,1989,"1989-02-01",{"$f":"NA()","v":{"$error":"#N/A"}},null,null,1954,"1954-11-01",2.89,null,null,null,1954,"1954-11-01",3.45]
[2013,"2013-01-01",3.08,null,null,1989,"1989-03-01",{"$f":"NA()","v":{"$error":"#N/A"}},null,null,1954,"1954-12-01",2.9,null,null,null,1954,"1954-12-01",3.45]
[2013,"2013-02-01",3.17,null,null,1989,"1989-04-01",{"$f":"NA()","v":{"$error":"#N/A"}},null,null,1955,"1955-01-01",2.93,null,null,null,1955,"1955-01-01",3.45]
[2013,"2013-03-01",3.16,null,null,1989,"1989-05-01",{"$f":"NA()","v":{"$error":"#N/A"}},null,null,1955,"1955-02-01",2.93,null,null,null,1955,"1955-02-01",3.47]
[2013,"2013-04-01",2.93,null,null,1989,"1989-06-01",{"$f":"NA()","v":{"$error":"#N/A"}},null,null,1955,"1955-03-01",3.02,null,null,null,1955,"1955-03-01",3.48]
[2013,"2013-05-01",3.11,null,null,1989,"1989-07-01",{"$f":"NA()","v":{"$error":"#N/A"}},null,null,1955,"1955-04-01",3.01,null,null,null,1955,"1955-04-01",3.49]
[2013,"2013-06-01",3.4,null,null,1989,"1989-08-01",{"$f":"NA()","v":{"$error":"#N/A"}},null,null,1955,"1955-05-01",3.04,null,null,null,1955,"1955-05-01",3.5]
[2013,"2013-07-01",3.61,null,null,1989,"1989-09-01",{"$f":"NA()","v":{"$error":"#N/A"}},null,null,1955,"1955-06-01",3.05,null,null,null,1955,"1955-06-01",3.51]
[2013,"2013-08-01",3.76,null,null,1989,"1989-10-01",{"$f":"NA()","v":{"$error":"#N/A"}},null,null,1955,"1955-07-01",3.06,null,null,null,1955,"1955-07-01",3.52]
[2013,"2013-09-01",3.79,null,null,1989,"1989-11-01",{"$f":"NA()","v":{"$error":"#N/A"}},null,null,1955,"1955-08-01",3.11,null,null,null,1955,"1955-08-01",3.56]
[2013,"2013-10-01",3.68,null,null,1989,"1989-12-01",{"$f":"NA()","v":{"$error":"#N/A"}},null,null,1955,"1955-09-01",3.13,null,null,null,1955,"1955-09-01",3.59]
[2013,"2013-11-01",3.8,null,null,1990,"1990-01-01",{"$f":"NA()","v":{"$error":"#N/A"}},null,null,1955,"1955-10-01",3.1,null,null,null,1955,"1955-10-01",3.59]
[2013,"2013-12-01",3.89,null,null,1990,"1990-02-01",{"$f":"NA()","v":{"$error":"#N/A"}},null,null,1955,"1955-11-01",3.1,null,null,null,1955,"1955-11-01",3.58]
[null,"2014-01-01",3.77,null,null,1990,"1990-03-01",{"$f":"NA()","v":{"$error":"#N/A"}},null,null,1955,"1955-12-01",3.15,null,null,null,1955,"1955-12-01",3.62]
[null,"2014-02-01",3.66,null,null,1990,"1990-04-01",{"$f":"NA()","v":{"$error":"#N/A"}},null,null,1956,"1956-01-01",3.11,null,null,null,1956,"1956-01-01",3.6]
[null,null,null,null,null,1990,"1990-05-01",{"$f":"NA()","v":{"$error":"#N/A"}},null,null,1956,"1956-02-01",3.08,null,null,null,1956,"1956-02-01",3.58]
[null,null,null,null,null,1990,"1990-06-01",{"$f":"NA()","v":{"$error":"#N/A"}},null,null,1956,"1956-03-01",3.1,null,null,null,1956,"1956-03-01",3.6]
[null,null,null,null,null,1990,"1990-07-01",{"$f":"NA()","v":{"$error":"#N/A"}},null,null,1956,"1956-04-01",3.24,null,null,null,1956,"1956-04-01",3.68]
[null,null,null,null,null,{"$f":"YEAR(G456)","v":1990},"1990-08-01",{"$f":"NA()","v":{"$error":"#N/A"}},null,null,{"$f":"YEAR(L456)","v":1956},"1956-05-01",3.28,null,null,null,1956,"1956-05-01",3.73]
[null,null,null,null,null,1990,"1990-09-01",{"$f":"NA()","v":{"$error":"#N/A"}},null,null,1956,"1956-06-01",3.26,null,null,null,{"$f":"YEAR(R457)","v":1956},"1956-06-01",3.76]
[null,null,null,null,null,1990,"1990-10-01",{"$f":"NA()","v":{"$error":"#N/A"}},null,null,1956,"1956-07-01",3.28,null,null,null,1956,"1956-07-01",3.8]
[null,null,null,null,null,1990,"1990-11-01",{"$f":"NA()","v":{"$error":"#N/A"}},null,null,1956,"1956-08-01",3.43,null,null,null,1956,"1956-08-01",3.93]
[null,null,null,null,null,1990,"1990-12-01",{"$f":"NA()","v":{"$error":"#N/A"}},null,null,1956,"1956-09-01",3.56,null,null,null,1956,"1956-09-01",4.07]
[null,null,null,null,null,1991,"1991-01-01",{"$f":"NA()","v":{"$error":"#N/A"}},null,null,1956,"1956-10-01",3.59,null,null,null,1956,"1956-10-01",4.17]
[null,null,null,null,null,1991,"1991-02-01",{"$f":"NA()","v":{"$error":"#N/A"}},null,null,1956,"1956-11-01",3.69,null,null,null,1956,"1956-11-01",4.24]
[null,null,null,null,null,1991,"1991-03-01",{"$f":"NA()","v":{"$error":"#N/A"}},null,null,1956,"1956-12-01",3.75,null,null,null,1956,"1956-12-01",4.37]
[null,null,null,null,null,1991,"1991-04-01",{"$f":"NA()","v":{"$error":"#N/A"}},null,null,1957,"1957-01-01",3.77,null,null,null,1957,"1957-01-01",4.49]
[null,null,null,null,null,1991,"1991-05-01",{"$f":"NA()","v":{"$error":"#N/A"}},null,null,1957,"1957-02-01",3.67,null,null,null,1957,"1957-02-01",4.47]
[null,null,null,null,null,1991,"1991-06-01",{"$f":"NA()","v":{"$error":"#N/A"}},null,null,1957,"1957-03-01",3.66,null,null,null,1957,"1957-03-01",4.43]
[null,null,null,null,null,1991,"1991-07-01",{"$f":"NA()","v":{"$error":"#N/A"}},null,null,1957,"1957-04-01",3.67,null,null,null,1957,"1957-04-01",4.4400000000000004]
[null,null,null,null,null,1991,"1991-08-01",{"$f":"NA()","v":{"$error":"#N/A"}},null,null,1957,"1957-05-01",3.74,null,null,null,1957,"1957-05-01",4.5199999999999996]
[null,null,null,null,null,1991,"1991-09-01",{"$f":"NA()","v":{"$error":"#N/A"}},null,null,1957,"1957-06-01",3.91,null,null,null,1957,"1957-06-01",4.63]
[null,null,null,null,null,1991,"1991-10-01",{"$f":"NA()","v":{"$error":"#N/A"}},null,null,1957,"1957-07-01",3.99,null,null,null,1957,"1957-07-01",4.7300000000000004]
[null,null,null,null,null,1991,"1991-11-01",{"$f":"NA()","v":{"$error":"#N/A"}},null,null,1957,"1957-08-01",4.0999999999999996,null,null,null,1957,"1957-08-01",4.82]
[null,null,null,null,null,1991,"1991-12-01",{"$f":"NA()","v":{"$error":"#N/A"}},null,null,1957,"1957-09-01",4.12,null,null,null,1957,"1957-09-01",4.93]
[null,null,null,null,null,1992,"1992-01-01",{"$f":"NA()","v":{"$error":"#N/A"}},null,null,1957,"1957-10-01",4.0999999999999996,null,null,null,1957,"1957-10-01",4.99]
[null,null,null,null,null,1992,"1992-02-01",{"$f":"NA()","v":{"$error":"#N/A"}},null,null,1957,"1957-11-01",4.08,null,null,null,1957,"1957-11-01",5.09]
[null,null,null,null,null,1992,"1992-03-01",{"$f":"NA()","v":{"$error":"#N/A"}},null,null,1957,"1957-12-01",3.81,null,null,null,1957,"1957-12-01",5.03]
[null,null,null,null,null,1992,"1992-04-01",{"$f":"NA()","v":{"$error":"#N/A"}},null,null,1958,"1958-01-01",3.6,null,null,null,1958,"1958-01-01",4.83]
[null,null,null,null,null,1992,"1992-05-01",{"$f":"NA()","v":{"$error":"#N/A"}},null,null,1958,"1958-02-01",3.59,null,null,null,1958,"1958-02-01",4.66]
[null,null,null,null,null,1992,"1992-06-01",{"$f":"NA()","v":{"$error":"#N/A"}},null,null,1958,"1958-03-01",3.63,null,null,null,1958,"1958-03-01",4.68]
[null,null,null,null,null,1992,"1992-07-01",{"$f":"NA()","v":{"$error":"#N/A"}},null,null,1958,"1958-04-01",3.6,null,null,null,1958,"1958-04-01",4.67]
[null,null,null,null,null,1992,"1992-08-01",{"$f":"NA()","v":{"$error":"#N/A"}},null,null,1958,"1958-05-01",3.57,null,null,null,1958,"1958-05-01",4.62]
[null,null,null,null,null,1992,"1992-09-01",{"$f":"NA()","v":{"$error":"#N/A"}},null,null,1958,"1958-06-01",3.57,null,null,null,1958,"1958-06-01",4.55]
[null,null,null,null,null,1992,"1992-10-01",{"$f":"NA()","v":{"$error":"#N/A"}},null,null,1958,"1958-07-01",3.67,null,null,null,1958,"1958-07-01",4.53]
[null,null,null,null,null,1992,"1992-11-01",{"$f":"NA()","v":{"$error":"#N/A"}},null,null,1958,"1958-08-01",3.85,null,null,null,1958,"1958-08-01",4.67]
[null,null,null,null,null,1992,"1992-12-01",{"$f":"NA()","v":{"$error":"#N/A"}},null,null,1958,"1958-09-01",4.09,null,null,null,1958,"1958-09-01",4.87]
[null,null,null,null,null,1993,"1993-01-01",{"$f":"NA()","v":{"$error":"#N/A"}},null,null,1958,"1958-10-01",4.1100000000000003,null,null,null,1958,"1958-10-01",4.92]
[null,null,null,null,null,1993,"1993-02-01",{"$f":"NA()","v":{"$error":"#N/A"}},null,null,1958,"1958-11-01",4.09,null,null,null,1958,"1958-11-01",4.87]
[null,null,null,null,null,1993,"1993-03-01",{"$f":"NA()","v":{"$error":"#N/A"}},null,null,1958,"1958-12-01",4.08,null,null,null,1958,"1958-12-01",4.8499999999999996]
[null,null,null,null,null,1993,"1993-04-01",{"$f":"NA()","v":{"$error":"#N/A"}},null,null,1959,"1959-01-01",4.12,null,null,null,1959,"1959-01-01",4.87]
[null,null,null,null,null,1993,"1993-05-01",{"$f":"NA()","v":{"$error":"#N/A"}},null,null,1959,"1959-02-01",4.1399999999999997,null,null,null,1959,"1959-02-01",4.8899999999999997]
[null,null,null,null,null,1993,"1993-06-01",{"$f":"NA()","v":{"$error":"#N/A"}},null,null,1959,"1959-03-01",4.13,null,null,null,1959,"1959-03-01",4.8499999999999996]
[null,null,null,null,null,1993,"1993-07-01",{"$f":"NA()","v":{"$error":"#N/A"}},null,null,1959,"1959-04-01",4.2300000000000004,null,null,null,1959,"1959-04-01",4.8600000000000003]
[null,null,null,null,null,1993,"1993-08-01",{"$f":"NA()","v":{"$error":"#N/A"}},null,null,1959,"1959-05-01",4.37,null,null,null,1959,"1959-05-01",4.96]
[null,null,null,null,null,1993,"1993-09-01",{"$f":"NA()","v":{"$error":"#N/A"}},null,null,1959,"1959-06-01",4.46,null,null,null,1959,"1959-06-01",5.04]
[null,null,null,null,null,1993,"1993-10-01",6.07,null,null,1959,"1959-07-01",4.47,null,null,null,1959,"1959-07-01",5.08]
[null,null,null,null,null,1993,"1993-11-01",6.38,null,null,1959,"1959-08-01",4.43,null,null,null,1959,"1959-08-01",5.09]
[null,null,null,null,null,1993,"1993-12-01",6.4,null,null,1959,"1959-09-01",4.5199999999999996,null,null,null,1959,"1959-09-01",5.18]
[null,null,null,null,null,1994,"1994-01-01",6.39,null,null,1959,"1959-10-01",4.57,null,null,null,1959,"1959-10-01",5.28]
[null,null,null,null,null,1994,"1994-02-01",6.57,null,null,1959,"1959-11-01",4.5599999999999996,null,null,null,1959,"1959-11-01",5.26]
[null,null,null,null,null,1994,"1994-03-01",7,null,null,1959,"1959-12-01",4.58,null,null,null,1959,"1959-12-01",5.28]
[null,null,null,null,null,1994,"1994-04-01",7.4,null,null,1960,"1960-01-01",4.6100000000000003,null,null,null,1960,"1960-01-01",5.34]
[null,null,null,null,null,1994,"1994-05-01",7.54,null,null,1960,"1960-02-01",4.5599999999999996,null,null,null,1960,"1960-02-01",5.34]
[null,null,null,null,null,1994,"1994-06-01",7.51,null,null,1960,"1960-03-01",4.49,null,null,null,1960,"1960-03-01",5.25]
[null,null,null,null,null,1994,"1994-07-01",7.67,null,null,1960,"1960-04-01",4.45,null,null,null,1960,"1960-04-01",5.2]
[null,null,null,null,null,1994,"1994-08-01",7.62,null,null,1960,"1960-05-01",4.46,null,null,null,1960,"1960-05-01",5.28]
[null,null,null,null,null,1994,"1994-09-01",7.87,null,null,1960,"1960-06-01",4.45,null,null,null,1960,"1960-06-01",5.26]
[null,null,null,null,null,1994,"1994-10-01",8.08,null,null,1960,"1960-07-01",4.41,null,null,null,1960,"1960-07-01",5.22]
[null,null,null,null,null,1994,"1994-11-01",8.1999999999999993,null,null,1960,"1960-08-01",4.28,null,null,null,1960,"1960-08-01",5.08]
[null,null,null,null,null,1994,"1994-12-01",7.99,null,null,1960,"1960-09-01",4.25,null,null,null,1960,"1960-09-01",5.01]
[null,null,null,null,null,1995,"1995-01-01",7.97,null,null,1960,"1960-10-01",4.3,null,null,null,1960,"1960-10-01",5.1100000000000003]
[null,null,null,null,null,1995,"1995-02-01",7.73,null,null,1960,"1960-11-01",4.3099999999999996,null,null,null,1960,"1960-11-01",5.08]
[null,null,null,null,null,1995,"1995-03-01",7.57,null,null,1960,"1960-12-01",4.3499999999999996,null,null,null,1960,"1960-12-01",5.0999999999999996]
[null,null,null,null,null,1995,"1995-04-01",7.45,null,null,1961,"1961-01-01",4.32,null,null,null,1961,"1961-01-01",5.0999999999999996]
[null,null,null,null,null,1995,"1995-05-01",7.01,null,null,1961,"1961-02-01",4.2699999999999996,null,null,null,1961,"1961-02-01",5.07]
[null,null,null,null,null,1995,"1995-06-01",6.59,null,null,1961,"1961-03-01",4.22,null,null,null,1961,"1961-03-01",5.0199999999999996]
[null,null,null,null,null,1995,"1995-07-01",6.74,null,null,1961,"1961-04-01",4.25,null,null,null,1961,"1961-04-01",5.01]
[null,null,null,null,null,1995,"1995-08-01",6.92,null,null,1961,"1961-05-01",4.2699999999999996,null,null,null,1961,"1961-05-01",5.01]
[null,null,null,null,null,1995,"1995-09-01",6.65,null,null,1961,"1961-06-01",4.33,null,null,null,1961,"1961-06-01",5.03]
[null,null,null,null,null,1995,"1995-10-01",6.45,null,null,1961,"1961-07-01",4.41,null,null,null,1961,"1961-07-01",5.09]
[null,null,null,null,null,1995,"1995-11-01",6.33,null,null,1961,"1961-08-01",4.45,null,null,null,1961,"1961-08-01",5.1100000000000003]
[null,null,null,null,null,{"$f":"YEAR(G520)","v":1995},"1995-12-01",6.12,null,null,{"$f":"YEAR(L520)","v":1961},"1961-09-01",4.45,null,null,null,1961,"1961-09-01",5.12]
[null,null,null,null,null,1996,"1996-01-01",6.11,null,null,1961,"1961-10-01",4.42,null,null,null,{"$f":"YEAR(R521)","v":1961},"1961-10-01",5.13]
[null,null,null,null,null,1996,"1996-02-01",6.3,null,null,1961,"1961-11-01",4.3899999999999997,null,null,null,1961,"1961-11-01",5.1100000000000003]
[null,null,null,null,null,1996,"1996-03-01",6.74,null,null,1961,"1961-12-01",4.42,null,null,null,1961,"1961-12-01",5.0999999999999996]
[null,null,null,null,null,1996,"1996-04-01",6.98,null,null,1962,"1962-01-01",4.42,null,null,null,1962,"1962-01-01",5.08]
[null,null,null,null,null,1996,"1996-05-01",7.11,null,null,1962,"1962-02-01",4.42,null,null,null,1962,"1962-02-01",5.07]
[null,null,null,null,null,1996,"1996-06-01",7.22,null,null,1962,"1962-03-01",4.3899999999999997,null,null,null,1962,"1962-03-01",5.04]
[null,null,null,null,null,1996,"1996-07-01",7.14,null,null,1962,"1962-04-01",4.33,null,null,null,1962,"1962-04-01",5.0199999999999996]
[null,null,null,null,null,1996,"1996-08-01",6.97,null,null,1962,"1962-05-01",4.28,null,null,null,1962,"1962-05-01",5]
[null,null,null,null,null,1996,"1996-09-01",7.17,null,null,1962,"1962-06-01",4.28,null,null,null,1962,"1962-06-01",5.0199999999999996]
[null,null,null,null,null,1996,"1996-10-01",6.9,null,null,1962,"1962-07-01",4.34,null,null,null,1962,"1962-07-01",5.05]
[null,null,null,null,null,1996,"1996-11-01",6.58,null,null,1962,"1962-08-01",4.3499999999999996,null,null,null,1962,"1962-08-01",5.0599999999999996]
[null,null,null,null,null,1996,"1996-12-01",6.65,null,null,1962,"1962-09-01",4.32,null,null,null,1962,"1962-09-01",5.03]
[null,null,null,null,null,1997,"1997-01-01",6.91,null,null,1962,"1962-10-01",4.28,null,null,null,1962,"1962-10-01",4.99]
[null,null,null,null,null,1997,"1997-02-01",6.77,null,null,1962,"1962-11-01",4.25,null,null,null,1962,"1962-11-01",4.96]
[null,null,null,null,null,1997,"1997-03-01",7.05,null,null,1962,"1962-12-01",4.24,null,null,null,1962,"1962-12-01",4.92]
[null,null,null,null,null,1997,"1997-04-01",7.2,null,null,1963,"1963-01-01",4.21,null,null,null,1963,"1963-01-01",4.91]
[null,null,null,null,null,1997,"1997-05-01",7.02,null,null,1963,"1963-02-01",4.1900000000000004,null,null,null,1963,"1963-02-01",4.8899999999999997]
[null,null,null,null,null,1997,"1997-06-01",6.84,null,null,1963,"1963-03-01",4.1900000000000004,null,null,null,1963,"1963-03-01",4.88]
[null,null,null,null,null,1997,"1997-07-01",6.56,null,null,1963,"1963-04-01",4.21,null,null,null,1963,"1963-04-01",4.87]
[null,null,null,null,null,1997,"1997-08-01",6.65,null,null,1963,"1963-05-01",4.22,null,null,null,1963,"1963-05-01",4.8499999999999996]
[null,null,null,null,null,1997,"1997-09-01",6.56,null,null,1963,"1963-06-01",4.2300000000000004,null,null,null,1963,"1963-06-01",4.84]
[null,null,null,null,null,1997,"1997-10-01",6.38,null,null,1963,"1963-07-01",4.26,null,null,null,1963,"1963-07-01",4.84]
[null,null,null,null,null,1997,"1997-11-01",6.2,null,null,1963,"1963-08-01",4.29,null,null,null,1963,"1963-08-01",4.83]
[null,null,null,null,null,1997,"1997-12-01",6.07,null,null,1963,"1963-09-01",4.3099999999999996,null,null,null,1963,"1963-09-01",4.84]
[null,null,null,null,null,1998,"1998-01-01",5.88,null,null,1963,"1963-10-01",4.32,null,null,null,1963,"1963-10-01",4.83]
[null,null,null,null,null,1998,"1998-02-01",5.96,null,null,1963,"1963-11-01",4.33,null,null,null,1963,"1963-11-01",4.84]
[null,null,null,null,null,1998,"1998-03-01",6.01,null,null,1963,"1963-12-01",4.3499999999999996,null,null,null,1963,"1963-12-01",4.8499999999999996]
[null,null,null,null,null,1998,"1998-04-01",6,null,null,1964,"1964-01-01",4.3899999999999997,null,null,null,1964,"1964-01-01",4.83]
[null,null,null,null,null,1998,"1998-05-01",6.01,null,null,1964,"1964-02-01",4.3600000000000003,null,null,null,1964,"1964-02-01",4.83]
[null,null,null,null,null,1998,"1998-06-01",5.8,null,null,1964,"1964-03-01",4.38,null,null,null,1964,"1964-03-01",4.83]
[null,null,null,null,null,1998,"1998-07-01",5.78,null,null,1964,"1964-04-01",4.4000000000000004,null,null,null,1964,"1964-04-01",4.8499999999999996]
[null,null,null,null,null,1998,"1998-08-01",5.66,null,null,1964,"1964-05-01",4.41,null,null,null,1964,"1964-05-01",4.8499999999999996]
[null,null,null,null,null,1998,"1998-09-01",5.38,null,null,1964,"1964-06-01",4.41,null,null,null,1964,"1964-06-01",4.8499999999999996]
[null,null,null,null,null,1998,"1998-10-01",5.3,null,null,1964,"1964-07-01",4.4000000000000004,null,null,null,1964,"1964-07-01",4.83]
[null,null,null,null,null,1998,"1998-11-01",5.48,null,null,1964,"1964-08-01",4.41,null,null,null,1964,"1964-08-01",4.82]
[null,null,null,null,null,1998,"1998-12-01",5.36,null,null,1964,"1964-09-01",4.42,null,null,null,1964,"1964-09-01",4.82]
[null,null,null,null,null,1999,"1999-01-01",5.45,null,null,1964,"1964-10-01",4.42,null,null,null,1964,"1964-10-01",4.8099999999999996]
[null,null,null,null,null,1999,"1999-02-01",5.66,null,null,1964,"1964-11-01",4.43,null,null,null,1964,"1964-11-01",4.8099999999999996]
[null,null,null,null,null,1999,"1999-03-01",5.87,null,null,1964,"1964-12-01",4.4400000000000004,null,null,null,1964,"1964-12-01",4.8099999999999996]
[null,null,null,null,null,1999,"1999-04-01",5.82,null,null,1965,"1965-01-01",4.43,null,null,null,1965,"1965-01-01",4.8]
[null,null,null,null,null,1999,"1999-05-01",6.08,null,null,1965,"1965-02-01",4.41,null,null,null,1965,"1965-02-01",4.78]
[null,null,null,null,null,1999,"1999-06-01",6.36,null,null,1965,"1965-03-01",4.42,null,null,null,1965,"1965-03-01",4.78]
[null,null,null,null,null,1999,"1999-07-01",6.28,null,null,1965,"1965-04-01",4.43,null,null,null,1965,"1965-04-01",4.8]
[null,null,null,null,null,1999,"1999-08-01",6.43,null,null,1965,"1965-05-01",4.4400000000000004,null,null,null,1965,"1965-05-01",4.8099999999999996]
[null,null,null,null,null,1999,"1999-09-01",6.5,null,null,1965,"1965-06-01",4.46,null,null,null,1965,"1965-06-01",4.8499999999999996]
[null,null,null,null,null,1999,"1999-10-01",6.66,null,null,1965,"1965-07-01",4.4800000000000004,null,null,null,1965,"1965-07-01",4.88]
[null,null,null,null,null,1999,"1999-11-01",6.48,null,null,1965,"1965-08-01",4.49,null,null,null,1965,"1965-08-01",4.88]
[null,null,null,null,null,1999,"1999-12-01",6.69,null,null,1965,"1965-09-01",4.5199999999999996,null,null,null,1965,"1965-09-01",4.91]
[null,null,null,null,null,2000,"2000-01-01",6.86,null,null,1965,"1965-10-01",4.5599999999999996,null,null,null,1965,"1965-10-01",4.93]
[null,null,null,null,null,2000,"2000-02-01",6.54,null,null,1965,"1965-11-01",4.5999999999999996,null,null,null,1965,"1965-11-01",4.95]
[null,null,null,null,null,2000,"2000-03-01",6.38,null,null,1965,"1965-12-01",4.68,null,null,null,1965,"1965-12-01",5.0199999999999996]
[null,null,null,null,null,2000,"2000-04-01",6.18,null,null,1966,"1966-01-01",4.74,null,null,null,1966,"1966-01-01",5.0599999999999996]
[null,null,null,null,null,2000,"2000-05-01",6.55,null,null,1966,"1966-02-01",4.78,null,null,null,1966,"1966-02-01",5.12]
[null,null,null,null,null,2000,"2000-06-01",6.28,null,null,1966,"1966-03-01",4.92,null,null,null,1966,"1966-03-01",5.32]
[null,null,null,null,null,2000,"2000-07-01",6.2,null,null,1966,"1966-04-01",4.96,null,null,null,1966,"1966-04-01",5.41]
[null,null,null,null,null,2000,"2000-08-01",6.02,null,null,1966,"1966-05-01",4.9800000000000004,null,null,null,1966,"1966-05-01",5.48]
[null,null,null,null,null,2000,"2000-09-01",6.09,null,null,1966,"1966-06-01",5.07,null,null,null,1966,"1966-06-01",5.58]
[null,null,null,null,null,2000,"2000-10-01",6.04,null,null,1966,"1966-07-01",5.16,null,null,null,1966,"1966-07-01",5.68]
[null,null,null,null,null,2000,"2000-11-01",5.98,null,null,1966,"1966-08-01",5.31,null,null,null,1966,"1966-08-01",5.83]
[null,null,null,null,null,2000,"2000-12-01",5.64,null,null,1966,"1966-09-01",5.49,null,null,null,1966,"1966-09-01",6.09]
[null,null,null,null,null,2001,"2001-01-01",5.65,null,null,1966,"1966-10-01",5.41,null,null,null,1966,"1966-10-01",6.1]
[null,null,null,null,null,2001,"2001-02-01",5.62,null,null,1966,"1966-11-01",5.35,null,null,null,1966,"1966-11-01",6.13]
[null,null,null,null,null,2001,"2001-03-01",5.49,null,null,1966,"1966-12-01",5.39,null,null,null,1966,"1966-12-01",6.18]
[null,null,null,null,null,{"$f":"YEAR(G584)","v":2001},"2001-04-01",5.78,null,null,{"$f":"YEAR(L584)","v":1967},"1967-01-01",5.2,null,null,null,1967,"1967-01-01",5.97]
[null,null,null,null,null,2001,"2001-05-01",5.92,null,null,1967,"1967-02-01",5.03,null,null,null,{"$f":"YEAR(R585)","v":1967},"1967-02-01",5.82]
[null,null,null,null,null,2001,"2001-06-01",5.82,null,null,1967,"1967-03-01",5.13,null,null,null,1967,"1967-03-01",5.85]
[null,null,null,null,null,2001,"2001-07-01",5.75,null,null,1967,"1967-04-01",5.1100000000000003,null,null,null,1967,"1967-04-01",5.83]
[null,null,null,null,null,2001,"2001-08-01",5.58,null,null,1967,"1967-05-01",5.24,null,null,null,1967,"1967-05-01",5.96]
[null,null,null,null,null,2001,"2001-09-01",5.53,null,null,1967,"1967-06-01",5.44,null,null,null,1967,"1967-06-01",6.15]
[null,null,null,null,null,2001,"2001-10-01",5.34,null,null,1967,"1967-07-01",5.58,null,null,null,1967,"1967-07-01",6.26]
[null,null,null,null,null,2001,"2001-11-01",5.33,null,null,1967,"1967-08-01",5.62,null,null,null,1967,"1967-08-01",6.33]
[null,null,null,null,null,2001,"2001-12-01",5.76,null,null,1967,"1967-09-01",5.65,null,null,null,1967,"1967-09-01",6.4]
[null,null,null,null,null,2002,"2002-01-01",5.69,null,null,1967,"1967-10-01",5.82,null,null,null,1967,"1967-10-01",6.52]
[null,null,null,null,null,2002,"2002-02-01",5.61,null,null,1967,"1967-11-01",6.07,null,null,null,1967,"1967-11-01",6.72]
[null,null,null,null,null,2002,"2002-03-01",5.93,null,null,1967,"1967-12-01",6.19,null,null,null,1967,"1967-12-01",6.93]
[null,null,null,null,null,2002,"2002-04-01",5.85,null,null,1968,"1968-01-01",6.17,null,null,null,1968,"1968-01-01",6.84]
[null,null,null,null,null,2002,"2002-05-01",5.81,null,null,1968,"1968-02-01",6.1,null,null,null,1968,"1968-02-01",6.8]
[null,null,null,null,null,2002,"2002-06-01",5.65,null,null,1968,"1968-03-01",6.11,null,null,null,1968,"1968-03-01",6.85]
[null,null,null,null,null,2002,"2002-07-01",5.51,null,null,1968,"1968-04-01",6.21,null,null,null,1968,"1968-04-01",6.97]
[null,null,null,null,null,2002,"2002-08-01",5.19,null,null,1968,"1968-05-01",6.27,null,null,null,1968,"1968-05-01",7.03]
[null,null,null,null,null,2002,"2002-09-01",4.87,null,null,1968,"1968-06-01",6.28,null,null,null,1968,"1968-06-01",7.07]
[null,null,null,null,null,2002,"2002-10-01",5,null,null,1968,"1968-07-01",6.24,null,null,null,1968,"1968-07-01",6.98]
[null,null,null,null,null,2002,"2002-11-01",5.04,null,null,1968,"1968-08-01",6.02,null,null,null,1968,"1968-08-01",6.82]
[null,null,null,null,null,2002,"2002-12-01",5.01,null,null,1968,"1968-09-01",5.97,null,null,null,1968,"1968-09-01",6.79]
[null,null,null,null,null,2003,"2003-01-01",5.0199999999999996,null,null,1968,"1968-10-01",6.09,null,null,null,1968,"1968-10-01",6.84]
[null,null,null,null,null,2003,"2003-02-01",4.87,null,null,1968,"1968-11-01",6.19,null,null,null,1968,"1968-11-01",7.01]
[null,null,null,null,null,2003,"2003-03-01",4.82,null,null,1968,"1968-12-01",6.45,null,null,null,1968,"1968-12-01",7.23]
[null,null,null,null,null,2003,"2003-04-01",4.91,null,null,1969,"1969-01-01",6.59,null,null,null,1969,"1969-01-01",7.32]
[null,null,null,null,null,2003,"2003-05-01",4.5199999999999996,null,null,1969,"1969-02-01",6.66,null,null,null,1969,"1969-02-01",7.3]
[null,null,null,null,null,2003,"2003-06-01",4.34,null,null,1969,"1969-03-01",6.85,null,null,null,1969,"1969-03-01",7.51]
[null,null,null,null,null,2003,"2003-07-01",4.92,null,null,1969,"1969-04-01",6.89,null,null,null,1969,"1969-04-01",7.54]
[null,null,null,null,null,2003,"2003-08-01",5.39,null,null,1969,"1969-05-01",6.79,null,null,null,1969,"1969-05-01",7.52]
[null,null,null,null,null,2003,"2003-09-01",5.21,null,null,1969,"1969-06-01",6.98,null,null,null,1969,"1969-06-01",7.7]
[null,null,null,null,null,2003,"2003-10-01",5.21,null,null,1969,"1969-07-01",7.08,null,null,null,1969,"1969-07-01",7.84]
[null,null,null,null,null,2003,"2003-11-01",5.17,null,null,1969,"1969-08-01",6.97,null,null,null,1969,"1969-08-01",7.86]
[null,null,null,null,null,2003,"2003-12-01",5.1100000000000003,null,null,1969,"1969-09-01",7.14,null,null,null,1969,"1969-09-01",8.0500000000000007]
[null,null,null,null,null,2004,"2004-01-01",5.01,null,null,1969,"1969-10-01",7.33,null,null,null,1969,"1969-10-01",8.2200000000000006]
[null,null,null,null,null,2004,"2004-02-01",4.9400000000000004,null,null,1969,"1969-11-01",7.35,null,null,null,1969,"1969-11-01",8.25]
[null,null,null,null,null,2004,"2004-03-01",4.72,null,null,1969,"1969-12-01",7.72,null,null,null,1969,"1969-12-01",8.65]
[null,null,null,null,null,2004,"2004-04-01",5.16,null,null,1970,"1970-01-01",7.91,null,null,null,1970,"1970-01-01",8.86]
[null,null,null,null,null,2004,"2004-05-01",5.46,null,null,1970,"1970-02-01",7.93,null,null,null,1970,"1970-02-01",8.7799999999999994]
[null,null,null,null,null,2004,"2004-06-01",5.45,null,null,1970,"1970-03-01",7.84,null,null,null,1970,"1970-03-01",8.6300000000000008]
[null,null,null,null,null,2004,"2004-07-01",5.24,null,null,1970,"1970-04-01",7.83,null,null,null,1970,"1970-04-01",8.6999999999999993]
[null,null,null,null,null,2004,"2004-08-01",5.07,null,null,1970,"1970-05-01",8.11,null,null,null,1970,"1970-05-01",8.98]
[null,null,null,null,null,2004,"2004-09-01",4.8899999999999997,null,null,1970,"1970-06-01",8.48,null,null,null,1970,"1970-06-01",9.25]
[null,null,null,null,null,2004,"2004-10-01",4.8499999999999996,null,null,1970,"1970-07-01",8.44,null,null,null,1970,"1970-07-01",9.4]
[null,null,null,null,null,2004,"2004-11-01",4.8899999999999997,null,null,1970,"1970-08-01",8.1300000000000008,null,null,null,1970,"1970-08-01",9.44]
[null,null,null,null,null,2004,"2004-12-01",4.88,null,null,1970,"1970-09-01",8.09,null,null,null,1970,"1970-09-01",9.39]
[null,null,null,null,null,2005,"2005-01-01",4.7699999999999996,null,null,1970,"1970-10-01",8.0299999999999994,null,null,null,1970,"1970-10-01",9.33]
[null,null,null,null,null,2005,"2005-02-01",4.6100000000000003,null,null,1970,"1970-11-01",8.0500000000000007,null,null,null,1970,"1970-11-01",9.3800000000000008]
[null,null,null,null,null,2005,"2005-03-01",4.8899999999999997,null,null,1970,"1970-12-01",7.64,null,null,null,1970,"1970-12-01",9.1199999999999992]
[null,null,null,null,null,2005,"2005-04-01",4.75,null,null,1971,"1971-01-01",7.36,null,null,null,1971,"1971-01-01",8.74]
[null,null,null,null,null,2005,"2005-05-01",4.5599999999999996,null,null,1971,"1971-02-01",7.08,null,null,null,1971,"1971-02-01",8.39]
[null,null,null,null,null,2005,"2005-06-01",4.3499999999999996,null,null,1971,"1971-03-01",7.21,null,null,null,1971,"1971-03-01",8.4600000000000009]
[null,null,null,null,null,2005,"2005-07-01",4.4800000000000004,null,null,1971,"1971-04-01",7.25,null,null,null,1971,"1971-04-01",8.4499999999999993]
[null,null,null,null,null,2005,"2005-08-01",4.53,null,null,1971,"1971-05-01",7.53,null,null,null,1971,"1971-05-01",8.6199999999999992]
[null,null,null,null,null,2005,"2005-09-01",4.51,null,null,1971,"1971-06-01",7.64,null,null,null,1971,"1971-06-01",8.75]
[null,null,null,null,null,2005,"2005-10-01",4.74,null,null,1971,"1971-07-01",7.64,null,null,null,1971,"1971-07-01",8.76]
[null,null,null,null,null,2005,"2005-11-01",4.83,null,null,1971,"1971-08-01",7.59,null,null,null,1971,"1971-08-01",8.76]
[null,null,null,null,null,2005,"2005-12-01",4.7300000000000004,null,null,1971,"1971-09-01",7.44,null,null,null,1971,"1971-09-01",8.59]
[null,null,null,null,null,2006,"2006-01-01",4.6500000000000004,null,null,1971,"1971-10-01",7.39,null,null,null,1971,"1971-10-01",8.48]
[null,null,null,null,null,2006,"2006-02-01",4.7300000000000004,null,null,1971,"1971-11-01",7.26,null,null,null,1971,"1971-11-01",8.3800000000000008]
[null,null,null,null,null,2006,"2006-03-01",4.91,null,null,1971,"1971-12-01",7.25,null,null,null,1971,"1971-12-01",8.3800000000000008]
[null,null,null,null,null,2006,"2006-04-01",5.22,null,null,1972,"1972-01-01",7.19,null,null,null,1972,"1972-01-01",8.23]
[null,null,null,null,null,2006,"2006-05-01",5.35,null,null,1972,"1972-02-01",7.27,null,null,null,1972,"1972-02-01",8.23]
[null,null,null,null,null,2006,"2006-06-01",5.29,null,null,1972,"1972-03-01",7.24,null,null,null,1972,"1972-03-01",8.24]
[null,null,null,null,null,2006,"2006-07-01",5.25,null,null,1972,"1972-04-01",7.3,null,null,null,1972,"1972-04-01",8.24]
[null,null,null,null,null,{"$f":"YEAR(G648)","v":2006},"2006-08-01",5.08,null,null,{"$f":"YEAR(L648)","v":1972},"1972-05-01",7.3,null,null,null,1972,"1972-05-01",8.23]
[null,null,null,null,null,2006,"2006-09-01",4.93,null,null,1972,"1972-06-01",7.23,null,null,null,{"$f":"YEAR(R649)","v":1972},"1972-06-01",8.1999999999999993]
[null,null,null,null,null,2006,"2006-10-01",4.9400000000000004,null,null,1972,"1972-07-01",7.21,null,null,null,1972,"1972-07-01",8.23]
[null,null,null,null,null,2006,"2006-11-01",4.78,null,null,1972,"1972-08-01",7.19,null,null,null,1972,"1972-08-01",8.19]
[null,null,null,null,null,2006,"2006-12-01",4.78,null,null,1972,"1972-09-01",7.22,null,null,null,1972,"1972-09-01",8.09]
[null,null,null,null,null,2007,"2007-01-01",4.95,null,null,1972,"1972-10-01",7.21,null,null,null,1972,"1972-10-01",8.06]
[null,null,null,null,null,2007,"2007-02-01",4.93,null,null,1972,"1972-11-01",7.12,null,null,null,1972,"1972-11-01",7.99]
[null,null,null,null,null,2007,"2007-03-01",4.8099999999999996,null,null,1972,"1972-12-01",7.08,null,null,null,1972,"1972-12-01",7.93]
[null,null,null,null,null,2007,"2007-04-01",4.95,null,null,1973,"1973-01-01",7.15,null,null,null,1973,"1973-01-01",7.9]
[null,null,null,null,null,2007,"2007-05-01",4.9800000000000004,null,null,1973,"1973-02-01",7.22,null,null,null,1973,"1973-02-01",7.97]
[null,null,null,null,null,2007,"2007-06-01",5.29,null,null,1973,"1973-03-01",7.29,null,null,null,1973,"1973-03-01",8.0299999999999994]
[null,null,null,null,null,2007,"2007-07-01",5.19,null,null,1973,"1973-04-01",7.26,null,null,null,1973,"1973-04-01",8.09]
[null,null,null,null,null,2007,"2007-08-01",5,null,null,1973,"1973-05-01",7.29,null,null,null,1973,"1973-05-01",8.06]
[null,null,null,null,null,2007,"2007-09-01",4.84,null,null,1973,"1973-06-01",7.37,null,null,null,1973,"1973-06-01",8.1300000000000008]
[null,null,null,null,null,2007,"2007-10-01",4.83,null,null,1973,"1973-07-01",7.45,null,null,null,1973,"1973-07-01",8.24]
[null,null,null,null,null,2007,"2007-11-01",4.5599999999999996,null,null,1973,"1973-08-01",7.68,null,null,null,1973,"1973-08-01",8.5299999999999994]
[null,null,null,null,null,2007,"2007-12-01",4.57,null,null,1973,"1973-09-01",7.63,null,null,null,1973,"1973-09-01",8.6300000000000008]
[null,null,null,null,null,2008,"2008-01-01",4.3499999999999996,null,null,1973,"1973-10-01",7.6,null,null,null,1973,"1973-10-01",8.41]
[null,null,null,null,null,2008,"2008-02-01",4.49,null,null,1973,"1973-11-01",7.67,null,null,null,1973,"1973-11-01",8.42]
[null,null,null,null,null,2008,"2008-03-01",4.3600000000000003,null,null,1973,"1973-12-01",7.68,null,null,null,1973,"1973-12-01",8.48]
[null,null,null,null,null,2008,"2008-04-01",4.4400000000000004,null,null,1974,"1974-01-01",7.83,null,null,null,1974,"1974-01-01",8.48]
[null,null,null,null,null,2008,"2008-05-01",4.5999999999999996,null,null,1974,"1974-02-01",7.85,null,null,null,1974,"1974-02-01",8.5299999999999994]
[null,null,null,null,null,2008,"2008-06-01",4.74,null,null,1974,"1974-03-01",8.01,null,null,null,1974,"1974-03-01",8.6199999999999992]
[null,null,null,null,null,2008,"2008-07-01",4.62,null,null,1974,"1974-04-01",8.25,null,null,null,1974,"1974-04-01",8.8699999999999992]
[null,null,null,null,null,2008,"2008-08-01",4.53,null,null,1974,"1974-05-01",8.3699999999999992,null,null,null,1974,"1974-05-01",9.0500000000000007]
[null,null,null,null,null,2008,"2008-09-01",4.32,null,null,1974,"1974-06-01",8.4700000000000006,null,null,null,1974,"1974-06-01",9.27]
[null,null,null,null,null,2008,"2008-10-01",4.45,null,null,1974,"1974-07-01",8.7200000000000006,null,null,null,1974,"1974-07-01",9.48]
[null,null,null,null,null,2008,"2008-11-01",4.2699999999999996,null,null,1974,"1974-08-01",9,null,null,null,1974,"1974-08-01",9.77]
[null,null,null,null,null,2008,"2008-12-01",3.18,null,null,1974,"1974-09-01",9.24,null,null,null,1974,"1974-09-01",10.18]
[null,null,null,null,null,2009,"2009-01-01",3.46,null,null,1974,"1974-10-01",9.27,null,null,null,1974,"1974-10-01",10.48]
[null,null,null,null,null,2009,"2009-02-01",3.83,null,null,1974,"1974-11-01",8.89,null,null,null,1974,"1974-11-01",10.6]
[null,null,null,null,null,2009,"2009-03-01",3.78,null,null,1974,"1974-12-01",8.89,null,null,null,1974,"1974-12-01",10.63]
[null,null,null,null,null,2009,"2009-04-01",3.84,null,null,1975,"1975-01-01",8.83,null,null,null,1975,"1975-01-01",10.81]
[null,null,null,null,null,2009,"2009-05-01",4.22,null,null,1975,"1975-02-01",8.6199999999999992,null,null,null,1975,"1975-02-01",10.65]
[null,null,null,null,null,2009,"2009-06-01",4.51,null,null,1975,"1975-03-01",8.67,null,null,null,1975,"1975-03-01",10.48]
[null,null,null,null,null,2009,"2009-07-01",4.38,null,null,1975,"1975-04-01",8.9499999999999993,null,null,null,1975,"1975-04-01",10.58]
[null,null,null,null,null,2009,"2009-08-01",4.33,null,null,1975,"1975-05-01",8.9,null,null,null,1975,"1975-05-01",10.69]
[null,null,null,null,null,2009,"2009-09-01",4.1399999999999997,null,null,1975,"1975-06-01",8.77,null,null,null,1975,"1975-06-01",10.62]
[null,null,null,null,null,2009,"2009-10-01",4.16,null,null,1975,"1975-07-01",8.84,null,null,null,1975,"1975-07-01",10.55]
[null,null,null,null,null,2009,"2009-11-01",4.24,null,null,1975,"1975-08-01",8.9499999999999993,null,null,null,1975,"1975-08-01",10.59]
[null,null,null,null,null,2009,"2009-12-01",4.4000000000000004,null,null,1975,"1975-09-01",8.9499999999999993,null,null,null,1975,"1975-09-01",10.61]
[null,null,null,null,null,2010,"2010-01-01",4.5,null,null,1975,"1975-10-01",8.86,null,null,null,1975,"1975-10-01",10.62]
[null,null,null,null,null,2010,"2010-02-01",4.4800000000000004,null,null,1975,"1975-11-01",8.7799999999999994,null,null,null,1975,"1975-11-01",10.56]
[null,null,null,null,null,2010,"2010-03-01",4.49,null,null,1975,"1975-12-01",8.7899999999999991,null,null,null,1975,"1975-12-01",10.56]
[null,null,null,null,null,2010,"2010-04-01",4.53,null,null,1976,"1976-01-01",8.6,null,null,null,1976,"1976-01-01",10.41]
[null,null,null,null,null,2010,"2010-05-01",4.1100000000000003,null,null,1976,"1976-02-01",8.5500000000000007,null,null,null,1976,"1976-02-01",10.24]
[null,null,null,null,null,2010,"2010-06-01",3.95,null,null,1976,"1976-03-01",8.52,null,null,null,1976,"1976-03-01",10.119999999999999]
[null,null,null,null,null,2010,"2010-07-01",3.8,null,null,1976,"1976-04-01",8.4,null,null,null,1976,"1976-04-01",9.94]
[null,null,null,null,null,2010,"2010-08-01",3.52,null,null,1976,"1976-05-01",8.58,null,null,null,1976,"1976-05-01",9.86]
[null,null,null,null,null,2010,"2010-09-01",3.47,null,null,1976,"1976-06-01",8.6199999999999992,null,null,null,1976,"1976-06-01",9.89]
[null,null,null,null,null,2010,"2010-10-01",3.52,null,null,1976,"1976-07-01",8.56,null,null,null,1976,"1976-07-01",9.82]
[null,null,null,null,null,2010,"2010-11-01",3.82,null,null,1976,"1976-08-01",8.4499999999999993,null,null,null,1976,"1976-08-01",9.64]
[null,null,null,null,null,2010,"2010-12-01",4.17,null,null,1976,"1976-09-01",8.3800000000000008,null,null,null,1976,"1976-09-01",9.4]
[null,null,null,null,null,2011,"2011-01-01",4.28,null,null,1976,"1976-10-01",8.32,null,null,null,1976,"1976-10-01",9.2899999999999991]
[null,null,null,null,null,2011,"2011-02-01",4.42,null,null,1976,"1976-11-01",8.25,null,null,null,1976,"1976-11-01",9.23]
[null,null,null,null,null,2011,"2011-03-01",4.2699999999999996,null,null,1976,"1976-12-01",7.98,null,null,null,1976,"1976-12-01",9.1199999999999992]
[null,null,null,null,null,2011,"2011-04-01",4.28,null,null,1977,"1977-01-01",7.96,null,null,null,1977,"1977-01-01",9.08]
[null,null,null,null,null,2011,"2011-05-01",4.01,null,null,1977,"1977-02-01",8.0399999999999991,null,null,null,1977,"1977-02-01",9.1199999999999992]
[null,null,null,null,null,2011,"2011-06-01",3.91,null,null,1977,"1977-03-01",8.1,null,null,null,1977,"1977-03-01",9.1199999999999992]
[null,null,null,null,null,2011,"2011-07-01",3.95,null,null,1977,"1977-04-01",8.0399999999999991,null,null,null,1977,"1977-04-01",9.07]
[null,null,null,null,null,2011,"2011-08-01",3.24,null,null,1977,"1977-05-01",8.0500000000000007,null,null,null,1977,"1977-05-01",9.01]
[null,null,null,null,null,2011,"2011-09-01",2.83,null,null,1977,"1977-06-01",7.95,null,null,null,1977,"1977-06-01",8.91]
[null,null,null,null,null,2011,"2011-10-01",2.87,null,null,1977,"1977-07-01",7.94,null,null,null,1977,"1977-07-01",8.8699999999999992]
[null,null,null,null,null,2011,"2011-11-01",2.72,null,null,1977,"1977-08-01",7.98,null,null,null,1977,"1977-08-01",8.82]
[null,null,null,null,null,{"$f":"YEAR(G712)","v":2011},"2011-12-01",2.67,null,null,{"$f":"YEAR(L712)","v":1977},"1977-09-01",7.92,null,null,null,1977,"1977-09-01",8.8000000000000007]
[null,null,null,null,null,2012,"2012-01-01",2.7,null,null,1977,"1977-10-01",8.0399999999999991,null,null,null,{"$f":"YEAR(R713)","v":1977},"1977-10-01",8.89]
[null,null,null,null,null,2012,"2012-02-01",2.75,null,null,1977,"1977-11-01",8.08,null,null,null,1977,"1977-11-01",8.9499999999999993]
[null,null,null,null,null,2012,"2012-03-01",2.94,null,null,1977,"1977-12-01",8.19,null,null,null,1977,"1977-12-01",8.99]
[null,null,null,null,null,2012,"2012-04-01",2.82,null,null,1978,"1978-01-01",8.41,null,null,null,1978,"1978-01-01",9.17]
[null,null,null,null,null,2012,"2012-05-01",2.5299999999999998,null,null,1978,"1978-02-01",8.4700000000000006,null,null,null,1978,"1978-02-01",9.1999999999999993]
[null,null,null,null,null,2012,"2012-06-01",2.31,null,null,1978,"1978-03-01",8.4700000000000006,null,null,null,1978,"1978-03-01",9.2200000000000006]
[null,null,null,null,null,2012,"2012-07-01",2.2200000000000002,null,null,1978,"1978-04-01",8.56,null,null,null,1978,"1978-04-01",9.32]
[null,null,null,null,null,2012,"2012-08-01",2.4,null,null,1978,"1978-05-01",8.69,null,null,null,1978,"1978-05-01",9.49]
[null,null,null,null,null,2012,"2012-09-01",2.4900000000000002,null,null,1978,"1978-06-01",8.76,null,null,null,1978,"1978-06-01",9.6]
[null,null,null,null,null,2012,"2012-10-01",2.5099999999999998,null,null,1978,"1978-07-01",8.8800000000000008,null,null,null,1978,"1978-07-01",9.6]
[null,null,null,null,null,2012,"2012-11-01",2.39,null,null,1978,"1978-08-01",8.69,null,null,null,1978,"1978-08-01",9.48]
[null,null,null,null,null,2012,"2012-12-01",2.4700000000000002,null,null,1978,"1978-09-01",8.69,null,null,null,1978,"1978-09-01",9.42]
[null,null,null,null,null,2013,"2013-01-01",2.68,null,null,1978,"1978-10-01",8.89,null,null,null,1978,"1978-10-01",9.59]
[null,null,null,null,null,2013,"2013-02-01",2.78,null,null,1978,"1978-11-01",9.0299999999999994,null,null,null,1978,"1978-11-01",9.83]
[null,null,null,null,null,2013,"2013-03-01",2.78,null,null,1978,"1978-12-01",9.16,null,null,null,1978,"1978-12-01",9.94]
[null,null,null,null,null,2013,"2013-04-01",2.5499999999999998,null,null,1979,"1979-01-01",9.25,null,null,null,1979,"1979-01-01",10.130000000000001]
[null,null,null,null,null,2013,"2013-05-01",2.73,null,null,1979,"1979-02-01",9.26,null,null,null,1979,"1979-02-01",10.08]
[null,null,null,null,null,2013,"2013-06-01",3.07,null,null,1979,"1979-03-01",9.3699999999999992,null,null,null,1979,"1979-03-01",10.26]
[null,null,null,null,null,2013,"2013-07-01",3.31,null,null,1979,"1979-04-01",9.3800000000000008,null,null,null,1979,"1979-04-01",10.33]
[null,null,null,null,null,2013,"2013-08-01",3.49,null,null,1979,"1979-05-01",9.5,null,null,null,1979,"1979-05-01",10.47]
[null,null,null,null,null,2013,"2013-09-01",3.53,null,null,1979,"1979-06-01",9.2899999999999991,null,null,null,1979,"1979-06-01",10.38]
[null,null,null,null,null,2013,"2013-10-01",3.38,null,null,1979,"1979-07-01",9.1999999999999993,null,null,null,1979,"1979-07-01",10.29]
[null,null,null,null,null,2013,"2013-11-01",3.5,null,null,1979,"1979-08-01",9.23,null,null,null,1979,"1979-08-01",10.35]
[null,null,null,null,null,2013,"2013-12-01",3.63,null,null,1979,"1979-09-01",9.44,null,null,null,1979,"1979-09-01",10.54]
[null,null,null,null,null,null,"2014-01-01",3.52,null,null,1979,"1979-10-01",10.130000000000001,null,null,null,1979,"1979-10-01",11.4]
[null,null,null,null,null,null,"2014-02-01",3.38,null,null,1979,"1979-11-01",10.76,null,null,null,1979,"1979-11-01",11.99]
[null,null,null,null,null,null,null,null,null,null,1979,"1979-12-01",10.74,null,null,null,1979,"1979-12-01",12.06]
[null,null,null,null,null,null,null,null,null,null,1980,"1980-01-01",11.09,null,null,null,1980,"1980-01-01",12.42]
[null,null,null,null,null,null,null,null,null,null,1980,"1980-02-01",12.38,null,null,null,1980,"1980-02-01",13.57]
[null,null,null,null,null,null,null,null,null,null,1980,"1980-03-01",12.96,null,null,null,1980,"1980-03-01",14.45]
[null,null,null,null,null,null,null,null,null,null,1980,"1980-04-01",12.04,null,null,null,1980,"1980-04-01",14.19]
[null,null,null,null,null,null,null,null,null,null,1980,"1980-05-01",10.99,null,null,null,1980,"1980-05-01",13.17]
[null,null,null,null,null,null,null,null,null,null,1980,"1980-06-01",10.58,null,null,null,1980,"1980-06-01",12.71]
[null,null,null,null,null,null,null,null,null,null,1980,"1980-07-01",11.07,null,null,null,1980,"1980-07-01",12.65]
[null,null,null,null,null,null,null,null,null,null,1980,"1980-08-01",11.64,null,null,null,1980,"1980-08-01",13.15]
[null,null,null,null,null,null,null,null,null,null,1980,"1980-09-01",12.02,null,null,null,1980,"1980-09-01",13.7]
[null,null,null,null,null,null,null,null,null,null,1980,"1980-10-01",12.31,null,null,null,1980,"1980-10-01",14.23]
[null,null,null,null,null,null,null,null,null,null,1980,"1980-11-01",12.97,null,null,null,1980,"1980-11-01",14.64]
[null,null,null,null,null,null,null,null,null,null,1980,"1980-12-01",13.21,null,null,null,1980,"1980-12-01",15.14]
[null,null,null,null,null,null,null,null,null,null,1981,"1981-01-01",12.81,null,null,null,1981,"1981-01-01",15.03]
[null,null,null,null,null,null,null,null,null,null,1981,"1981-02-01",13.35,null,null,null,1981,"1981-02-01",15.37]
[null,null,null,null,null,null,null,null,null,null,1981,"1981-03-01",13.33,null,null,null,1981,"1981-03-01",15.34]
[null,null,null,null,null,null,null,null,null,null,1981,"1981-04-01",13.88,null,null,null,1981,"1981-04-01",15.56]
[null,null,null,null,null,null,null,null,null,null,1981,"1981-05-01",14.32,null,null,null,1981,"1981-05-01",15.95]
[null,null,null,null,null,null,null,null,null,null,1981,"1981-06-01",13.75,null,null,null,1981,"1981-06-01",15.8]
[null,null,null,null,null,null,null,null,null,null,1981,"1981-07-01",14.38,null,null,null,1981,"1981-07-01",16.170000000000002]
[null,null,null,null,null,null,null,null,null,null,1981,"1981-08-01",14.89,null,null,null,1981,"1981-08-01",16.34]
[null,null,null,null,null,null,null,null,null,null,1981,"1981-09-01",15.49,null,null,null,1981,"1981-09-01",16.920000000000002]
[null,null,null,null,null,null,null,null,null,null,1981,"1981-10-01",15.4,null,null,null,1981,"1981-10-01",17.11]
[null,null,null,null,null,null,null,null,null,null,1981,"1981-11-01",14.22,null,null,null,1981,"1981-11-01",16.39]
[null,null,null,null,null,null,null,null,null,null,1981,"1981-12-01",14.23,null,null,null,1981,"1981-12-01",16.55]
[null,null,null,null,null,null,null,null,null,null,1982,"1982-01-01",15.18,null,null,null,1982,"1982-01-01",17.100000000000001]
[null,null,null,null,null,null,null,null,null,null,1982,"1982-02-01",15.27,null,null,null,1982,"1982-02-01",17.18]
[null,null,null,null,null,null,null,null,null,null,1982,"1982-03-01",14.58,null,null,null,1982,"1982-03-01",16.82]
[null,null,null,null,null,null,null,null,null,null,1982,"1982-04-01",14.46,null,null,null,1982,"1982-04-01",16.78]
[null,null,null,null,null,null,null,null,null,null,1982,"1982-05-01",14.26,null,null,null,1982,"1982-05-01",16.64]
[null,null,null,null,null,null,null,null,null,null,1982,"1982-06-01",14.81,null,null,null,1982,"1982-06-01",16.920000000000002]
[null,null,null,null,null,null,null,null,null,null,1982,"1982-07-01",14.61,null,null,null,1982,"1982-07-01",16.8]
[null,null,null,null,null,null,null,null,null,null,1982,"1982-08-01",13.71,null,null,null,1982,"1982-08-01",16.32]
[null,null,null,null,null,null,null,null,null,null,1982,"1982-09-01",12.94,null,null,null,1982,"1982-09-01",15.63]
[null,null,null,null,null,null,null,null,null,null,1982,"1982-10-01",12.12,null,null,null,1982,"1982-10-01",14.73]
[null,null,null,null,null,null,null,null,null,null,1982,"1982-11-01",11.68,null,null,null,1982,"1982-11-01",14.3]
[null,null,null,null,null,null,null,null,null,null,1982,"1982-12-01",11.83,null,null,null,1982,"1982-12-01",14.14]
[null,null,null,null,null,null,null,null,null,null,{"$f":"YEAR(L776)","v":1983},"1983-01-01",11.79,null,null,null,1983,"1983-01-01",13.94]
[null,null,null,null,null,null,null,null,null,null,1983,"1983-02-01",12.01,null,null,null,{"$f":"YEAR(R777)","v":1983},"1983-02-01",13.95]
[null,null,null,null,null,null,null,null,null,null,1983,"1983-03-01",11.73,null,null,null,1983,"1983-03-01",13.61]
[null,null,null,null,null,null,null,null,null,null,1983,"1983-04-01",11.51,null,null,null,1983,"1983-04-01",13.29]
[null,null,null,null,null,null,null,null,null,null,1983,"1983-05-01",11.46,null,null,null,1983,"1983-05-01",13.09]
[null,null,null,null,null,null,null,null,null,null,1983,"1983-06-01",11.74,null,null,null,1983,"1983-06-01",13.37]
[null,null,null,null,null,null,null,null,null,null,1983,"1983-07-01",12.15,null,null,null,1983,"1983-07-01",13.39]
[null,null,null,null,null,null,null,null,null,null,1983,"1983-08-01",12.51,null,null,null,1983,"1983-08-01",13.64]
[null,null,null,null,null,null,null,null,null,null,1983,"1983-09-01",12.37,null,null,null,1983,"1983-09-01",13.55]
[null,null,null,null,null,null,null,null,null,null,1983,"1983-10-01",12.25,null,null,null,1983,"1983-10-01",13.46]
[null,null,null,null,null,null,null,null,null,null,1983,"1983-11-01",12.41,null,null,null,1983,"1983-11-01",13.61]
[null,null,null,null,null,null,null,null,null,null,1983,"1983-12-01",12.57,null,null,null,1983,"1983-12-01",13.75]
[null,null,null,null,null,null,null,null,null,null,1984,"1984-01-01",12.2,null,null,null,1984,"1984-01-01",13.65]
[null,null,null,null,null,null,null,null,null,null,1984,"1984-02-01",12.08,null,null,null,1984,"1984-02-01",13.59]
[null,null,null,null,null,null,null,null,null,null,1984,"1984-03-01",12.57,null,null,null,1984,"1984-03-01",13.99]
[null,null,null,null,null,null,null,null,null,null,1984,"1984-04-01",12.81,null,null,null,1984,"1984-04-01",14.31]
[null,null,null,null,null,null,null,null,null,null,1984,"1984-05-01",13.28,null,null,null,1984,"1984-05-01",14.74]
[null,null,null,null,null,null,null,null,null,null,1984,"1984-06-01",13.55,null,null,null,1984,"1984-06-01",15.05]
[null,null,null,null,null,null,null,null,null,null,1984,"1984-07-01",13.44,null,null,null,1984,"1984-07-01",15.15]
[null,null,null,null,null,null,null,null,null,null,1984,"1984-08-01",12.87,null,null,null,1984,"1984-08-01",14.63]
[null,null,null,null,null,null,null,null,null,null,1984,"1984-09-01",12.66,null,null,null,1984,"1984-09-01",14.35]
[null,null,null,null,null,null,null,null,null,null,1984,"1984-10-01",12.63,null,null,null,1984,"1984-10-01",13.94]
[null,null,null,null,null,null,null,null,null,null,1984,"1984-11-01",12.29,null,null,null,1984,"1984-11-01",13.48]
[null,null,null,null,null,null,null,null,null,null,1984,"1984-12-01",12.13,null,null,null,1984,"1984-12-01",13.4]
[null,null,null,null,null,null,null,null,null,null,1985,"1985-01-01",12.08,null,null,null,1985,"1985-01-01",13.26]
[null,null,null,null,null,null,null,null,null,null,1985,"1985-02-01",12.13,null,null,null,1985,"1985-02-01",13.23]
[null,null,null,null,null,null,null,null,null,null,1985,"1985-03-01",12.56,null,null,null,1985,"1985-03-01",13.69]
[null,null,null,null,null,null,null,null,null,null,1985,"1985-04-01",12.23,null,null,null,1985,"1985-04-01",13.51]
[null,null,null,null,null,null,null,null,null,null,1985,"1985-05-01",11.72,null,null,null,1985,"1985-05-01",13.15]
[null,null,null,null,null,null,null,null,null,null,1985,"1985-06-01",10.94,null,null,null,1985,"1985-06-01",12.4]
[null,null,null,null,null,null,null,null,null,null,1985,"1985-07-01",10.97,null,null,null,1985,"1985-07-01",12.43]
[null,null,null,null,null,null,null,null,null,null,1985,"1985-08-01",11.05,null,null,null,1985,"1985-08-01",12.5]
[null,null,null,null,null,null,null,null,null,null,1985,"1985-09-01",11.07,null,null,null,1985,"1985-09-01",12.48]
[null,null,null,null,null,null,null,null,null,null,1985,"1985-10-01",11.02,null,null,null,1985,"1985-10-01",12.36]
[null,null,null,null,null,null,null,null,null,null,1985,"1985-11-01",10.55,null,null,null,1985,"1985-11-01",11.99]
[null,null,null,null,null,null,null,null,null,null,1985,"1985-12-01",10.16,null,null,null,1985,"1985-12-01",11.58]
[null,null,null,null,null,null,null,null,null,null,1986,"1986-01-01",10.050000000000001,null,null,null,1986,"1986-01-01",11.44]
[null,null,null,null,null,null,null,null,null,null,1986,"1986-02-01",9.67,null,null,null,1986,"1986-02-01",11.11]
[null,null,null,null,null,null,null,null,null,null,1986,"1986-03-01",9,null,null,null,1986,"1986-03-01",10.5]
[null,null,null,null,null,null,null,null,null,null,1986,"1986-04-01",8.7899999999999991,null,null,null,1986,"1986-04-01",10.19]
[null,null,null,null,null,null,null,null,null,null,1986,"1986-05-01",9.09,null,null,null,1986,"1986-05-01",10.29]
[null,null,null,null,null,null,null,null,null,null,1986,"1986-06-01",9.1300000000000008,null,null,null,1986,"1986-06-01",10.34]
[null,null,null,null,null,null,null,null,null,null,1986,"1986-07-01",8.8800000000000008,null,null,null,1986,"1986-07-01",10.16]
[null,null,null,null,null,null,null,null,null,null,1986,"1986-08-01",8.7200000000000006,null,null,null,1986,"1986-08-01",10.18]
[null,null,null,null,null,null,null,null,null,null,1986,"1986-09-01",8.89,null,null,null,1986,"1986-09-01",10.199999999999999]
[null,null,null,null,null,null,null,null,null,null,1986,"1986-10-01",8.86,null,null,null,1986,"1986-10-01",10.24]
[null,null,null,null,null,null,null,null,null,null,1986,"1986-11-01",8.68,null,null,null,1986,"1986-11-01",10.07]
[null,null,null,null,null,null,null,null,null,null,1986,"1986-12-01",8.49,null,null,null,1986,"1986-12-01",9.9700000000000006]
[null,null,null,null,null,null,null,null,null,null,1987,"1987-01-01",8.36,null,null,null,1987,"1987-01-01",9.7200000000000006]
[null,null,null,null,null,null,null,null,null,null,1987,"1987-02-01",8.3800000000000008,null,null,null,1987,"1987-02-01",9.65]
[null,null,null,null,null,null,null,null,null,null,1987,"1987-03-01",8.36,null,null,null,1987,"1987-03-01",9.61]
[null,null,null,null,null,null,null,null,null,null,1987,"1987-04-01",8.85,null,null,null,1987,"1987-04-01",10.039999999999999]
[null,null,null,null,null,null,null,null,null,null,1987,"1987-05-01",9.33,null,null,null,1987,"1987-05-01",10.51]
[null,null,null,null,null,null,null,null,null,null,1987,"1987-06-01",9.32,null,null,null,1987,"1987-06-01",10.52]
[null,null,null,null,null,null,null,null,null,null,1987,"1987-07-01",9.42,null,null,null,1987,"1987-07-01",10.61]
[null,null,null,null,null,null,null,null,null,null,1987,"1987-08-01",9.67,null,null,null,1987,"1987-08-01",10.8]
[null,null,null,null,null,null,null,null,null,null,1987,"1987-09-01",10.18,null,null,null,1987,"1987-09-01",11.31]
[null,null,null,null,null,null,null,null,null,null,1987,"1987-10-01",10.52,null,null,null,1987,"1987-10-01",11.62]
[null,null,null,null,null,null,null,null,null,null,1987,"1987-11-01",10.01,null,null,null,1987,"1987-11-01",11.23]
[null,null,null,null,null,null,null,null,null,null,1987,"1987-12-01",10.11,null,null,null,1987,"1987-12-01",11.29]
[null,null,null,null,null,null,null,null,null,null,1988,"1988-01-01",9.8800000000000008,null,null,null,1988,"1988-01-01",11.07]
[null,null,null,null,null,null,null,null,null,null,1988,"1988-02-01",9.4,null,null,null,1988,"1988-02-01",10.62]
[null,null,null,null,null,null,null,null,null,null,1988,"1988-03-01",9.39,null,null,null,1988,"1988-03-01",10.57]
[null,null,null,null,null,null,null,null,null,null,1988,"1988-04-01",9.67,null,null,null,1988,"1988-04-01",10.9]
[null,null,null,null,null,null,null,null,null,null,{"$f":"YEAR(L840)","v":1988},"1988-05-01",9.9,null,null,null,1988,"1988-05-01",11.04]
[null,null,null,null,null,null,null,null,null,null,1988,"1988-06-01",9.86,null,null,null,{"$f":"YEAR(R841)","v":1988},"1988-06-01",11]
[null,null,null,null,null,null,null,null,null,null,1988,"1988-07-01",9.9600000000000009,null,null,null,1988,"1988-07-01",11.11]
[null,null,null,null,null,null,null,null,null,null,1988,"1988-08-01",10.11,null,null,null,1988,"1988-08-01",11.21]
[null,null,null,null,null,null,null,null,null,null,1988,"1988-09-01",9.82,null,null,null,1988,"1988-09-01",10.9]
[null,null,null,null,null,null,null,null,null,null,1988,"1988-10-01",9.51,null,null,null,1988,"1988-10-01",10.41]
[null,null,null,null,null,null,null,null,null,null,1988,"1988-11-01",9.4499999999999993,null,null,null,1988,"1988-11-01",10.48]
[null,null,null,null,null,null,null,null,null,null,1988,"1988-12-01",9.57,null,null,null,1988,"1988-12-01",10.65]
[null,null,null,null,null,null,null,null,null,null,1989,"1989-01-01",9.6199999999999992,null,null,null,1989,"1989-01-01",10.65]
[null,null,null,null,null,null,null,null,null,null,1989,"1989-02-01",9.64,null,null,null,1989,"1989-02-01",10.61]
[null,null,null,null,null,null,null,null,null,null,1989,"1989-03-01",9.8000000000000007,null,null,null,1989,"1989-03-01",10.67]
[null,null,null,null,null,null,null,null,null,null,1989,"1989-04-01",9.7899999999999991,null,null,null,1989,"1989-04-01",10.61]
[null,null,null,null,null,null,null,null,null,null,1989,"1989-05-01",9.57,null,null,null,1989,"1989-05-01",10.46]
[null,null,null,null,null,null,null,null,null,null,1989,"1989-06-01",9.1,null,null,null,1989,"1989-06-01",10.029999999999999]
[null,null,null,null,null,null,null,null,null,null,1989,"1989-07-01",8.93,null,null,null,1989,"1989-07-01",9.8699999999999992]
[null,null,null,null,null,null,null,null,null,null,1989,"1989-08-01",8.9600000000000009,null,null,null,1989,"1989-08-01",9.8800000000000008]
[null,null,null,null,null,null,null,null,null,null,1989,"1989-09-01",9.01,null,null,null,1989,"1989-09-01",9.91]
[null,null,null,null,null,null,null,null,null,null,1989,"1989-10-01",8.92,null,null,null,1989,"1989-10-01",9.81]
[null,null,null,null,null,null,null,null,null,null,1989,"1989-11-01",8.89,null,null,null,1989,"1989-11-01",9.81]
[null,null,null,null,null,null,null,null,null,null,1989,"1989-12-01",8.86,null,null,null,1989,"1989-12-01",9.82]
[null,null,null,null,null,null,null,null,null,null,1990,"1990-01-01",8.99,null,null,null,1990,"1990-01-01",9.94]
[null,null,null,null,null,null,null,null,null,null,1990,"1990-02-01",9.2200000000000006,null,null,null,1990,"1990-02-01",10.14]
[null,null,null,null,null,null,null,null,null,null,1990,"1990-03-01",9.3699999999999992,null,null,null,1990,"1990-03-01",10.210000000000001]
[null,null,null,null,null,null,null,null,null,null,1990,"1990-04-01",9.4600000000000009,null,null,null,1990,"1990-04-01",10.3]
[null,null,null,null,null,null,null,null,null,null,1990,"1990-05-01",9.4700000000000006,null,null,null,1990,"1990-05-01",10.41]
[null,null,null,null,null,null,null,null,null,null,1990,"1990-06-01",9.26,null,null,null,1990,"1990-06-01",10.220000000000001]
[null,null,null,null,null,null,null,null,null,null,1990,"1990-07-01",9.24,null,null,null,1990,"1990-07-01",10.199999999999999]
[null,null,null,null,null,null,null,null,null,null,1990,"1990-08-01",9.41,null,null,null,1990,"1990-08-01",10.41]
[null,null,null,null,null,null,null,null,null,null,1990,"1990-09-01",9.56,null,null,null,1990,"1990-09-01",10.64]
[null,null,null,null,null,null,null,null,null,null,1990,"1990-10-01",9.5299999999999994,null,null,null,1990,"1990-10-01",10.74]
[null,null,null,null,null,null,null,null,null,null,1990,"1990-11-01",9.3000000000000007,null,null,null,1990,"1990-11-01",10.62]
[null,null,null,null,null,null,null,null,null,null,1990,"1990-12-01",9.0500000000000007,null,null,null,1990,"1990-12-01",10.43]
[null,null,null,null,null,null,null,null,null,null,1991,"1991-01-01",9.0399999999999991,null,null,null,1991,"1991-01-01",10.45]
[null,null,null,null,null,null,null,null,null,null,1991,"1991-02-01",8.83,null,null,null,1991,"1991-02-01",10.07]
[null,null,null,null,null,null,null,null,null,null,1991,"1991-03-01",8.93,null,null,null,1991,"1991-03-01",10.09]
[null,null,null,null,null,null,null,null,null,null,1991,"1991-04-01",8.86,null,null,null,1991,"1991-04-01",9.94]
[null,null,null,null,null,null,null,null,null,null,1991,"1991-05-01",8.86,null,null,null,1991,"1991-05-01",9.86]
[null,null,null,null,null,null,null,null,null,null,1991,"1991-06-01",9.01,null,null,null,1991,"1991-06-01",9.9600000000000009]
[null,null,null,null,null,null,null,null,null,null,1991,"1991-07-01",9,null,null,null,1991,"1991-07-01",9.89]
[null,null,null,null,null,null,null,null,null,null,1991,"1991-08-01",8.75,null,null,null,1991,"1991-08-01",9.65]
[null,null,null,null,null,null,null,null,null,null,1991,"1991-09-01",8.61,null,null,null,1991,"1991-09-01",9.51]
[null,null,null,null,null,null,null,null,null,null,1991,"1991-10-01",8.5500000000000007,null,null,null,1991,"1991-10-01",9.49]
[null,null,null,null,null,null,null,null,null,null,1991,"1991-11-01",8.48,null,null,null,1991,"1991-11-01",9.4499999999999993]
[null,null,null,null,null,null,null,null,null,null,1991,"1991-12-01",8.31,null,null,null,1991,"1991-12-01",9.26]
[null,null,null,null,null,null,null,null,null,null,1992,"1992-01-01",8.1999999999999993,null,null,null,1992,"1992-01-01",9.1300000000000008]
[null,null,null,null,null,null,null,null,null,null,1992,"1992-02-01",8.2899999999999991,null,null,null,1992,"1992-02-01",9.23]
[null,null,null,null,null,null,null,null,null,null,1992,"1992-03-01",8.35,null,null,null,1992,"1992-03-01",9.25]
[null,null,null,null,null,null,null,null,null,null,1992,"1992-04-01",8.33,null,null,null,1992,"1992-04-01",9.2100000000000009]
[null,null,null,null,null,null,null,null,null,null,1992,"1992-05-01",8.2799999999999994,null,null,null,1992,"1992-05-01",9.1300000000000008]
[null,null,null,null,null,null,null,null,null,null,1992,"1992-06-01",8.2200000000000006,null,null,null,1992,"1992-06-01",9.0500000000000007]
[null,null,null,null,null,null,null,null,null,null,1992,"1992-07-01",8.07,null,null,null,1992,"1992-07-01",8.84]
[null,null,null,null,null,null,null,null,null,null,1992,"1992-08-01",7.95,null,null,null,1992,"1992-08-01",8.65]
[null,null,null,null,null,null,null,null,null,null,1992,"1992-09-01",7.92,null,null,null,1992,"1992-09-01",8.6199999999999992]
[null,null,null,null,null,null,null,null,null,null,1992,"1992-10-01",7.99,null,null,null,1992,"1992-10-01",8.84]
[null,null,null,null,null,null,null,null,null,null,1992,"1992-11-01",8.1,null,null,null,1992,"1992-11-01",8.9600000000000009]
[null,null,null,null,null,null,null,null,null,null,1992,"1992-12-01",7.98,null,null,null,1992,"1992-12-01",8.81]
[null,null,null,null,null,null,null,null,null,null,1993,"1993-01-01",7.91,null,null,null,1993,"1993-01-01",8.67]
[null,null,null,null,null,null,null,null,null,null,1993,"1993-02-01",7.71,null,null,null,1993,"1993-02-01",8.39]
[null,null,null,null,null,null,null,null,null,null,1993,"1993-03-01",7.58,null,null,null,1993,"1993-03-01",8.15]
[null,null,null,null,null,null,null,null,null,null,1993,"1993-04-01",7.46,null,null,null,1993,"1993-04-01",8.14]
[null,null,null,null,null,null,null,null,null,null,1993,"1993-05-01",7.43,null,null,null,1993,"1993-05-01",8.2100000000000009]
[null,null,null,null,null,null,null,null,null,null,1993,"1993-06-01",7.33,null,null,null,1993,"1993-06-01",8.07]
[null,null,null,null,null,null,null,null,null,null,1993,"1993-07-01",7.17,null,null,null,1993,"1993-07-01",7.93]
[null,null,null,null,null,null,null,null,null,null,1993,"1993-08-01",6.85,null,null,null,1993,"1993-08-01",7.6]
[null,null,null,null,null,null,null,null,null,null,{"$f":"YEAR(L904)","v":1993},"1993-09-01",6.66,null,null,null,1993,"1993-09-01",7.34]
[null,null,null,null,null,null,null,null,null,null,1993,"1993-10-01",6.67,null,null,null,{"$f":"YEAR(R905)","v":1993},"1993-10-01",7.31]
[null,null,null,null,null,null,null,null,null,null,1993,"1993-11-01",6.93,null,null,null,1993,"1993-11-01",7.66]
[null,null,null,null,null,null,null,null,null,null,1993,"1993-12-01",6.93,null,null,null,1993,"1993-12-01",7.69]
[null,null,null,null,null,null,null,null,null,null,1994,"1994-01-01",6.92,null,null,null,1994,"1994-01-01",7.65]
[null,null,null,null,null,null,null,null,null,null,1994,"1994-02-01",7.08,null,null,null,1994,"1994-02-01",7.76]
[null,null,null,null,null,null,null,null,null,null,1994,"1994-03-01",7.48,null,null,null,1994,"1994-03-01",8.1300000000000008]
[null,null,null,null,null,null,null,null,null,null,1994,"1994-04-01",7.88,null,null,null,1994,"1994-04-01",8.52]
[null,null,null,null,null,null,null,null,null,null,1994,"1994-05-01",7.99,null,null,null,1994,"1994-05-01",8.6199999999999992]
[null,null,null,null,null,null,null,null,null,null,1994,"1994-06-01",7.97,null,null,null,1994,"1994-06-01",8.65]
[null,null,null,null,null,null,null,null,null,null,1994,"1994-07-01",8.11,null,null,null,1994,"1994-07-01",8.8000000000000007]
[null,null,null,null,null,null,null,null,null,null,1994,"1994-08-01",8.07,null,null,null,1994,"1994-08-01",8.74]
[null,null,null,null,null,null,null,null,null,null,1994,"1994-09-01",8.34,null,null,null,1994,"1994-09-01",8.98]
[null,null,null,null,null,null,null,null,null,null,1994,"1994-10-01",8.57,null,null,null,1994,"1994-10-01",9.1999999999999993]
[null,null,null,null,null,null,null,null,null,null,1994,"1994-11-01",8.68,null,null,null,1994,"1994-11-01",9.32]
[null,null,null,null,null,null,null,null,null,null,1994,"1994-12-01",8.4600000000000009,null,null,null,1994,"1994-12-01",9.1]
[null,null,null,null,null,null,null,null,null,null,1995,"1995-01-01",8.4600000000000009,null,null,null,1995,"1995-01-01",9.08]
[null,null,null,null,null,null,null,null,null,null,1995,"1995-02-01",8.26,null,null,null,1995,"1995-02-01",8.85]
[null,null,null,null,null,null,null,null,null,null,1995,"1995-03-01",8.1199999999999992,null,null,null,1995,"1995-03-01",8.6999999999999993]
[null,null,null,null,null,null,null,null,null,null,1995,"1995-04-01",8.0299999999999994,null,null,null,1995,"1995-04-01",8.6]
[null,null,null,null,null,null,null,null,null,null,1995,"1995-05-01",7.65,null,null,null,1995,"1995-05-01",8.1999999999999993]
[null,null,null,null,null,null,null,null,null,null,1995,"1995-06-01",7.3,null,null,null,1995,"1995-06-01",7.9]
[null,null,null,null,null,null,null,null,null,null,1995,"1995-07-01",7.41,null,null,null,1995,"1995-07-01",8.0399999999999991]
[null,null,null,null,null,null,null,null,null,null,1995,"1995-08-01",7.57,null,null,null,1995,"1995-08-01",8.19]
[null,null,null,null,null,null,null,null,null,null,1995,"1995-09-01",7.32,null,null,null,1995,"1995-09-01",7.93]
[null,null,null,null,null,null,null,null,null,null,1995,"1995-10-01",7.12,null,null,null,1995,"1995-10-01",7.75]
[null,null,null,null,null,null,null,null,null,null,1995,"1995-11-01",7.02,null,null,null,1995,"1995-11-01",7.68]
[null,null,null,null,null,null,null,null,null,null,1995,"1995-12-01",6.82,null,null,null,1995,"1995-12-01",7.49]
[null,null,null,null,null,null,null,null,null,null,1996,"1996-01-01",6.81,null,null,null,1996,"1996-01-01",7.47]
[null,null,null,null,null,null,null,null,null,null,1996,"1996-02-01",6.99,null,null,null,1996,"1996-02-01",7.63]
[null,null,null,null,null,null,null,null,null,null,1996,"1996-03-01",7.35,null,null,null,1996,"1996-03-01",8.0299999999999994]
[null,null,null,null,null,null,null,null,null,null,1996,"1996-04-01",7.5,null,null,null,1996,"1996-04-01",8.19]
[null,null,null,null,null,null,null,null,null,null,1996,"1996-05-01",7.62,null,null,null,1996,"1996-05-01",8.3000000000000007]
[null,null,null,null,null,null,null,null,null,null,1996,"1996-06-01",7.71,null,null,null,1996,"1996-06-01",8.4]
[null,null,null,null,null,null,null,null,null,null,1996,"1996-07-01",7.65,null,null,null,1996,"1996-07-01",8.35]
[null,null,null,null,null,null,null,null,null,null,1996,"1996-08-01",7.46,null,null,null,1996,"1996-08-01",8.18]
[null,null,null,null,null,null,null,null,null,null,1996,"1996-09-01",7.66,null,null,null,1996,"1996-09-01",8.35]
[null,null,null,null,null,null,null,null,null,null,1996,"1996-10-01",7.39,null,null,null,1996,"1996-10-01",8.07]
[null,null,null,null,null,null,null,null,null,null,1996,"1996-11-01",7.1,null,null,null,1996,"1996-11-01",7.79]
[null,null,null,null,null,null,null,null,null,null,1996,"1996-12-01",7.2,null,null,null,1996,"1996-12-01",7.89]
[null,null,null,null,null,null,null,null,null,null,1997,"1997-01-01",7.42,null,null,null,1997,"1997-01-01",8.09]
[null,null,null,null,null,null,null,null,null,null,1997,"1997-02-01",7.31,null,null,null,1997,"1997-02-01",7.94]
[null,null,null,null,null,null,null,null,null,null,1997,"1997-03-01",7.55,null,null,null,1997,"1997-03-01",8.18]
[null,null,null,null,null,null,null,null,null,null,1997,"1997-04-01",7.73,null,null,null,1997,"1997-04-01",8.34]
[null,null,null,null,null,null,null,null,null,null,1997,"1997-05-01",7.58,null,null,null,1997,"1997-05-01",8.1999999999999993]
[null,null,null,null,null,null,null,null,null,null,1997,"1997-06-01",7.41,null,null,null,1997,"1997-06-01",8.02]
[null,null,null,null,null,null,null,null,null,null,1997,"1997-07-01",7.14,null,null,null,1997,"1997-07-01",7.75]
[null,null,null,null,null,null,null,null,null,null,1997,"1997-08-01",7.22,null,null,null,1997,"1997-08-01",7.82]
[null,null,null,null,null,null,null,null,null,null,1997,"1997-09-01",7.15,null,null,null,1997,"1997-09-01",7.7]
[null,null,null,null,null,null,null,null,null,null,1997,"1997-10-01",7,null,null,null,1997,"1997-10-01",7.57]
[null,null,null,null,null,null,null,null,null,null,1997,"1997-11-01",6.87,null,null,null,1997,"1997-11-01",7.42]
[null,null,null,null,null,null,null,null,null,null,1997,"1997-12-01",6.76,null,null,null,1997,"1997-12-01",7.32]
[null,null,null,null,null,null,null,null,null,null,1998,"1998-01-01",6.61,null,null,null,1998,"1998-01-01",7.19]
[null,null,null,null,null,null,null,null,null,null,1998,"1998-02-01",6.67,null,null,null,1998,"1998-02-01",7.25]
[null,null,null,null,null,null,null,null,null,null,1998,"1998-03-01",6.72,null,null,null,1998,"1998-03-01",7.32]
[null,null,null,null,null,null,null,null,null,null,1998,"1998-04-01",6.69,null,null,null,1998,"1998-04-01",7.33]
[null,null,null,null,null,null,null,null,null,null,1998,"1998-05-01",6.69,null,null,null,1998,"1998-05-01",7.3]
[null,null,null,null,null,null,null,null,null,null,1998,"1998-06-01",6.53,null,null,null,1998,"1998-06-01",7.13]
[null,null,null,null,null,null,null,null,null,null,1998,"1998-07-01",6.55,null,null,null,1998,"1998-07-01",7.15]
[null,null,null,null,null,null,null,null,null,null,1998,"1998-08-01",6.52,null,null,null,1998,"1998-08-01",7.14]
[null,null,null,null,null,null,null,null,null,null,1998,"1998-09-01",6.4,null,null,null,1998,"1998-09-01",7.09]
[null,null,null,null,null,null,null,null,null,null,1998,"1998-10-01",6.37,null,null,null,1998,"1998-10-01",7.18]
[null,null,null,null,null,null,null,null,null,null,1998,"1998-11-01",6.41,null,null,null,1998,"1998-11-01",7.34]
[null,null,null,null,null,null,null,null,null,null,1998,"1998-12-01",6.22,null,null,null,1998,"1998-12-01",7.23]
[null,null,null,null,null,null,null,null,null,null,{"$f":"YEAR(L968)","v":1999},"1999-01-01",6.24,null,null,null,1999,"1999-01-01",7.29]
[null,null,null,null,null,null,null,null,null,null,1999,"1999-02-01",6.4,null,null,null,{"$f":"YEAR(R969)","v":1999},"1999-02-01",7.39]
[null,null,null,null,null,null,null,null,null,null,1999,"1999-03-01",6.62,null,null,null,1999,"1999-03-01",7.53]
[null,null,null,null,null,null,null,null,null,null,1999,"1999-04-01",6.64,null,null,null,1999,"1999-04-01",7.48]
[null,null,null,null,null,null,null,null,null,null,1999,"1999-05-01",6.93,null,null,null,1999,"1999-05-01",7.72]
[null,null,null,null,null,null,null,null,null,null,1999,"1999-06-01",7.23,null,null,null,1999,"1999-06-01",8.02]
[null,null,null,null,null,null,null,null,null,null,1999,"1999-07-01",7.19,null,null,null,1999,"1999-07-01",7.95]
[null,null,null,null,null,null,null,null,null,null,1999,"1999-08-01",7.4,null,null,null,1999,"1999-08-01",8.15]
[null,null,null,null,null,null,null,null,null,null,1999,"1999-09-01",7.39,null,null,null,1999,"1999-09-01",8.1999999999999993]
[null,null,null,null,null,null,null,null,null,null,1999,"1999-10-01",7.55,null,null,null,1999,"1999-10-01",8.3800000000000008]
[null,null,null,null,null,null,null,null,null,null,1999,"1999-11-01",7.36,null,null,null,1999,"1999-11-01",8.15]
[null,null,null,null,null,null,null,null,null,null,1999,"1999-12-01",7.55,null,null,null,1999,"1999-12-01",8.19]
[null,null,null,null,null,null,null,null,null,null,2000,"2000-01-01",7.78,null,null,null,2000,"2000-01-01",8.33]
[null,null,null,null,null,null,null,null,null,null,2000,"2000-02-01",7.68,null,null,null,2000,"2000-02-01",8.2899999999999991]
[null,null,null,null,null,null,null,null,null,null,2000,"2000-03-01",7.68,null,null,null,2000,"2000-03-01",8.3699999999999992]
[null,null,null,null,null,null,null,null,null,null,2000,"2000-04-01",7.64,null,null,null,2000,"2000-04-01",8.4]
[null,null,null,null,null,null,null,null,null,null,2000,"2000-05-01",7.99,null,null,null,2000,"2000-05-01",8.9]
[null,null,null,null,null,null,null,null,null,null,2000,"2000-06-01",7.67,null,null,null,2000,"2000-06-01",8.48]
[null,null,null,null,null,null,null,null,null,null,2000,"2000-07-01",7.65,null,null,null,2000,"2000-07-01",8.35]
[null,null,null,null,null,null,null,null,null,null,2000,"2000-08-01",7.55,null,null,null,2000,"2000-08-01",8.26]
[null,null,null,null,null,null,null,null,null,null,2000,"2000-09-01",7.62,null,null,null,2000,"2000-09-01",8.35]
[null,null,null,null,null,null,null,null,null,null,2000,"2000-10-01",7.55,null,null,null,2000,"2000-10-01",8.34]
[null,null,null,null,null,null,null,null,null,null,2000,"2000-11-01",7.45,null,null,null,2000,"2000-11-01",8.2799999999999994]
[null,null,null,null,null,null,null,null,null,null,2000,"2000-12-01",7.21,null,null,null,2000,"2000-12-01",8.02]
[null,null,null,null,null,null,null,null,null,null,2001,"2001-01-01",7.15,null,null,null,2001,"2001-01-01",7.93]
[null,null,null,null,null,null,null,null,null,null,2001,"2001-02-01",7.1,null,null,null,2001,"2001-02-01",7.87]
[null,null,null,null,null,null,null,null,null,null,2001,"2001-03-01",6.98,null,null,null,2001,"2001-03-01",7.84]
[null,null,null,null,null,null,null,null,null,null,2001,"2001-04-01",7.2,null,null,null,2001,"2001-04-01",8.07]
[null,null,null,null,null,null,null,null,null,null,2001,"2001-05-01",7.29,null,null,null,2001,"2001-05-01",8.07]
[null,null,null,null,null,null,null,null,null,null,2001,"2001-06-01",7.18,null,null,null,2001,"2001-06-01",7.97]
[null,null,null,null,null,null,null,null,null,null,2001,"2001-07-01",7.13,null,null,null,2001,"2001-07-01",7.97]
[null,null,null,null,null,null,null,null,null,null,2001,"2001-08-01",7.02,null,null,null,2001,"2001-08-01",7.85]
[null,null,null,null,null,null,null,null,null,null,2001,"2001-09-01",7.17,null,null,null,2001,"2001-09-01",8.0299999999999994]
[null,null,null,null,null,null,null,null,null,null,2001,"2001-10-01",7.03,null,null,null,2001,"2001-10-01",7.91]
[null,null,null,null,null,null,null,null,null,null,2001,"2001-11-01",6.97,null,null,null,2001,"2001-11-01",7.81]
[null,null,null,null,null,null,null,null,null,null,2001,"2001-12-01",6.77,null,null,null,2001,"2001-12-01",8.0500000000000007]
[null,null,null,null,null,null,null,null,null,null,2002,"2002-01-01",6.55,null,null,null,2002,"2002-01-01",7.87]
[null,null,null,null,null,null,null,null,null,null,2002,"2002-02-01",6.51,null,null,null,2002,"2002-02-01",7.89]
[null,null,null,null,null,null,null,null,null,null,2002,"2002-03-01",6.81,null,null,null,2002,"2002-03-01",8.11]
[null,null,null,null,null,null,null,null,null,null,2002,"2002-04-01",6.76,null,null,null,2002,"2002-04-01",8.0299999999999994]
[null,null,null,null,null,null,null,null,null,null,2002,"2002-05-01",6.75,null,null,null,2002,"2002-05-01",8.09]
[null,null,null,null,null,null,null,null,null,null,2002,"2002-06-01",6.63,null,null,null,2002,"2002-06-01",7.95]
[null,null,null,null,null,null,null,null,null,null,2002,"2002-07-01",6.53,null,null,null,2002,"2002-07-01",7.9]
[null,null,null,null,null,null,null,null,null,null,2002,"2002-08-01",6.37,null,null,null,2002,"2002-08-01",7.58]
[null,null,null,null,null,null,null,null,null,null,2002,"2002-09-01",6.15,null,null,null,2002,"2002-09-01",7.4]
[null,null,null,null,null,null,null,null,null,null,2002,"2002-10-01",6.32,null,null,null,2002,"2002-10-01",7.73]
[null,null,null,null,null,null,null,null,null,null,2002,"2002-11-01",6.31,null,null,null,2002,"2002-11-01",7.62]
[null,null,null,null,null,null,null,null,null,null,2002,"2002-12-01",6.21,null,null,null,2002,"2002-12-01",7.45]
[null,null,null,null,null,null,null,null,null,null,2003,"2003-01-01",6.17,null,null,null,2003,"2003-01-01",7.35]
[null,null,null,null,null,null,null,null,null,null,2003,"2003-02-01",5.95,null,null,null,2003,"2003-02-01",7.06]
[null,null,null,null,null,null,null,null,null,null,2003,"2003-03-01",5.89,null,null,null,2003,"2003-03-01",6.95]
[null,null,null,null,null,null,null,null,null,null,2003,"2003-04-01",5.74,null,null,null,2003,"2003-04-01",6.85]
[null,null,null,null,null,null,null,null,null,null,2003,"2003-05-01",5.22,null,null,null,2003,"2003-05-01",6.38]
[null,null,null,null,null,null,null,null,null,null,2003,"2003-06-01",4.97,null,null,null,2003,"2003-06-01",6.19]
[null,null,null,null,null,null,null,null,null,null,2003,"2003-07-01",5.49,null,null,null,2003,"2003-07-01",6.62]
[null,null,null,null,null,null,null,null,null,null,2003,"2003-08-01",5.88,null,null,null,2003,"2003-08-01",7.01]
[null,null,null,null,null,null,null,null,null,null,2003,"2003-09-01",5.72,null,null,null,2003,"2003-09-01",6.79]
[null,null,null,null,null,null,null,null,null,null,2003,"2003-10-01",5.7,null,null,null,2003,"2003-10-01",6.73]
[null,null,null,null,null,null,null,null,null,null,2003,"2003-11-01",5.65,null,null,null,2003,"2003-11-01",6.66]
[null,null,null,null,null,null,null,null,null,null,2003,"2003-12-01",5.62,null,null,null,2003,"2003-12-01",6.6]
[null,null,null,null,null,null,null,null,null,null,2004,"2004-01-01",5.54,null,null,null,2004,"2004-01-01",6.44]
[null,null,null,null,null,null,null,null,null,null,2004,"2004-02-01",5.5,null,null,null,2004,"2004-02-01",6.27]
[null,null,null,null,null,null,null,null,null,null,2004,"2004-03-01",5.33,null,null,null,2004,"2004-03-01",6.11]
[null,null,null,null,null,null,null,null,null,null,2004,"2004-04-01",5.73,null,null,null,2004,"2004-04-01",6.46]
[null,null,null,null,null,null,null,null,null,null,{"$f":"YEAR(L1032)","v":2004},"2004-05-01",6.04,null,null,null,2004,"2004-05-01",6.75]
[null,null,null,null,null,null,null,null,null,null,2004,"2004-06-01",6.01,null,null,null,{"$f":"YEAR(R1033)","v":2004},"2004-06-01",6.78]
[null,null,null,null,null,null,null,null,null,null,2004,"2004-07-01",5.82,null,null,null,2004,"2004-07-01",6.62]
[null,null,null,null,null,null,null,null,null,null,2004,"2004-08-01",5.65,null,null,null,2004,"2004-08-01",6.46]
[null,null,null,null,null,null,null,null,null,null,2004,"2004-09-01",5.46,null,null,null,2004,"2004-09-01",6.27]
[null,null,null,null,null,null,null,null,null,null,2004,"2004-10-01",5.47,null,null,null,2004,"2004-10-01",6.21]
[null,null,null,null,null,null,null,null,null,null,2004,"2004-11-01",5.52,null,null,null,2004,"2004-11-01",6.2]
[null,null,null,null,null,null,null,null,null,null,2004,"2004-12-01",5.47,null,null,null,2004,"2004-12-01",6.15]
[null,null,null,null,null,null,null,null,null,null,2005,"2005-01-01",5.36,null,null,null,2005,"2005-01-01",6.02]
[null,null,null,null,null,null,null,null,null,null,2005,"2005-02-01",5.2,null,null,null,2005,"2005-02-01",5.82]
[null,null,null,null,null,null,null,null,null,null,2005,"2005-03-01",5.4,null,null,null,2005,"2005-03-01",6.06]
[null,null,null,null,null,null,null,null,null,null,2005,"2005-04-01",5.33,null,null,null,2005,"2005-04-01",6.05]
[null,null,null,null,null,null,null,null,null,null,2005,"2005-05-01",5.15,null,null,null,2005,"2005-05-01",6.01]
[null,null,null,null,null,null,null,null,null,null,2005,"2005-06-01",4.96,null,null,null,2005,"2005-06-01",5.86]
[null,null,null,null,null,null,null,null,null,null,2005,"2005-07-01",5.0599999999999996,null,null,null,2005,"2005-07-01",5.95]
[null,null,null,null,null,null,null,null,null,null,2005,"2005-08-01",5.09,null,null,null,2005,"2005-08-01",5.96]
[null,null,null,null,null,null,null,null,null,null,2005,"2005-09-01",5.13,null,null,null,2005,"2005-09-01",6.03]
[null,null,null,null,null,null,null,null,null,null,2005,"2005-10-01",5.35,null,null,null,2005,"2005-10-01",6.3]
[null,null,null,null,null,null,null,null,null,null,2005,"2005-11-01",5.42,null,null,null,2005,"2005-11-01",6.39]
[null,null,null,null,null,null,null,null,null,null,2005,"2005-12-01",5.37,null,null,null,2005,"2005-12-01",6.32]
[null,null,null,null,null,null,null,null,null,null,2006,"2006-01-01",5.29,null,null,null,2006,"2006-01-01",6.24]
[null,null,null,null,null,null,null,null,null,null,2006,"2006-02-01",5.35,null,null,null,2006,"2006-02-01",6.27]
[null,null,null,null,null,null,null,null,null,null,2006,"2006-03-01",5.53,null,null,null,2006,"2006-03-01",6.41]
[null,null,null,null,null,null,null,null,null,null,2006,"2006-04-01",5.84,null,null,null,2006,"2006-04-01",6.68]
[null,null,null,null,null,null,null,null,null,null,2006,"2006-05-01",5.95,null,null,null,2006,"2006-05-01",6.75]
[null,null,null,null,null,null,null,null,null,null,2006,"2006-06-01",5.89,null,null,null,2006,"2006-06-01",6.78]
[null,null,null,null,null,null,null,null,null,null,2006,"2006-07-01",5.85,null,null,null,2006,"2006-07-01",6.76]
[null,null,null,null,null,null,null,null,null,null,2006,"2006-08-01",5.68,null,null,null,2006,"2006-08-01",6.59]
[null,null,null,null,null,null,null,null,null,null,2006,"2006-09-01",5.51,null,null,null,2006,"2006-09-01",6.43]
[null,null,null,null,null,null,null,null,null,null,2006,"2006-10-01",5.51,null,null,null,2006,"2006-10-01",6.42]
[null,null,null,null,null,null,null,null,null,null,2006,"2006-11-01",5.33,null,null,null,2006,"2006-11-01",6.2]
[null,null,null,null,null,null,null,null,null,null,2006,"2006-12-01",5.32,null,null,null,2006,"2006-12-01",6.22]
[null,null,null,null,null,null,null,null,null,null,2007,"2007-01-01",5.4,null,null,null,2007,"2007-01-01",6.34]
[null,null,null,null,null,null,null,null,null,null,2007,"2007-02-01",5.39,null,null,null,2007,"2007-02-01",6.28]
[null,null,null,null,null,null,null,null,null,null,2007,"2007-03-01",5.3,null,null,null,2007,"2007-03-01",6.27]
[null,null,null,null,null,null,null,null,null,null,2007,"2007-04-01",5.47,null,null,null,2007,"2007-04-01",6.39]
[null,null,null,null,null,null,null,null,null,null,2007,"2007-05-01",5.47,null,null,null,2007,"2007-05-01",6.39]
[null,null,null,null,null,null,null,null,null,null,2007,"2007-06-01",5.79,null,null,null,2007,"2007-06-01",6.7]
[null,null,null,null,null,null,null,null,null,null,2007,"2007-07-01",5.73,null,null,null,2007,"2007-07-01",6.65]
[null,null,null,null,null,null,null,null,null,null,2007,"2007-08-01",5.79,null,null,null,2007,"2007-08-01",6.65]
[null,null,null,null,null,null,null,null,null,null,2007,"2007-09-01",5.74,null,null,null,2007,"2007-09-01",6.59]
[null,null,null,null,null,null,null,null,null,null,2007,"2007-10-01",5.66,null,null,null,2007,"2007-10-01",6.48]
[null,null,null,null,null,null,null,null,null,null,2007,"2007-11-01",5.44,null,null,null,2007,"2007-11-01",6.4]
[null,null,null,null,null,null,null,null,null,null,2007,"2007-12-01",5.49,null,null,null,2007,"2007-12-01",6.65]
[null,null,null,null,null,null,null,null,null,null,2008,"2008-01-01",5.33,null,null,null,2008,"2008-01-01",6.54]
[null,null,null,null,null,null,null,null,null,null,2008,"2008-02-01",5.53,null,null,null,2008,"2008-02-01",6.82]
[null,null,null,null,null,null,null,null,null,null,2008,"2008-03-01",5.51,null,null,null,2008,"2008-03-01",6.89]
[null,null,null,null,null,null,null,null,null,null,2008,"2008-04-01",5.55,null,null,null,2008,"2008-04-01",6.97]
[null,null,null,null,null,null,null,null,null,null,2008,"2008-05-01",5.57,null,null,null,2008,"2008-05-01",6.93]
[null,null,null,null,null,null,null,null,null,null,2008,"2008-06-01",5.68,null,null,null,2008,"2008-06-01",7.07]
[null,null,null,null,null,null,null,null,null,null,2008,"2008-07-01",5.67,null,null,null,2008,"2008-07-01",7.16]
[null,null,null,null,null,null,null,null,null,null,2008,"2008-08-01",5.64,null,null,null,2008,"2008-08-01",7.15]
[null,null,null,null,null,null,null,null,null,null,2008,"2008-09-01",5.65,null,null,null,2008,"2008-09-01",7.31]
[null,null,null,null,null,null,null,null,null,null,2008,"2008-10-01",6.28,null,null,null,2008,"2008-10-01",8.8800000000000008]
[null,null,null,null,null,null,null,null,null,null,2008,"2008-11-01",6.12,null,null,null,2008,"2008-11-01",9.2100000000000009]
[null,null,null,null,null,null,null,null,null,null,2008,"2008-12-01",5.05,null,null,null,2008,"2008-12-01",8.43]
[null,null,null,null,null,null,null,null,null,null,2009,"2009-01-01",5.05,null,null,null,2009,"2009-01-01",8.14]
[null,null,null,null,null,null,null,null,null,null,2009,"2009-02-01",5.27,null,null,null,2009,"2009-02-01",8.08]
[null,null,null,null,null,null,null,null,null,null,2009,"2009-03-01",5.5,null,null,null,2009,"2009-03-01",8.42]
[null,null,null,null,null,null,null,null,null,null,2009,"2009-04-01",5.39,null,null,null,2009,"2009-04-01",8.39]
[null,null,null,null,null,null,null,null,null,null,2009,"2009-05-01",5.54,null,null,null,2009,"2009-05-01",8.06]
[null,null,null,null,null,null,null,null,null,null,2009,"2009-06-01",5.61,null,null,null,2009,"2009-06-01",7.5]
[null,null,null,null,null,null,null,null,null,null,2009,"2009-07-01",5.41,null,null,null,2009,"2009-07-01",7.09]
[null,null,null,null,null,null,null,null,null,null,2009,"2009-08-01",5.26,null,null,null,2009,"2009-08-01",6.58]
[null,null,null,null,null,null,null,null,null,null,{"$f":"YEAR(L1096)","v":2009},"2009-09-01",5.13,null,null,null,2009,"2009-09-01",6.31]
[null,null,null,null,null,null,null,null,null,null,2009,"2009-10-01",5.15,null,null,null,{"$f":"YEAR(R1097)","v":2009},"2009-10-01",6.29]
[null,null,null,null,null,null,null,null,null,null,2009,"2009-11-01",5.19,null,null,null,2009,"2009-11-01",6.32]
[null,null,null,null,null,null,null,null,null,null,2009,"2009-12-01",5.26,null,null,null,2009,"2009-12-01",6.37]
[null,null,null,null,null,null,null,null,null,null,2010,"2010-01-01",5.26,null,null,null,2010,"2010-01-01",6.25]
[null,null,null,null,null,null,null,null,null,null,2010,"2010-02-01",5.35,null,null,null,2010,"2010-02-01",6.34]
[null,null,null,null,null,null,null,null,null,null,2010,"2010-03-01",5.27,null,null,null,2010,"2010-03-01",6.27]
[null,null,null,null,null,null,null,null,null,null,2010,"2010-04-01",5.29,null,null,null,2010,"2010-04-01",6.25]
[null,null,null,null,null,null,null,null,null,null,2010,"2010-05-01",4.96,null,null,null,2010,"2010-05-01",6.05]
[null,null,null,null,null,null,null,null,null,null,2010,"2010-06-01",4.88,null,null,null,2010,"2010-06-01",6.23]
[null,null,null,null,null,null,null,null,null,null,2010,"2010-07-01",4.72,null,null,null,2010,"2010-07-01",6.01]
[null,null,null,null,null,null,null,null,null,null,2010,"2010-08-01",4.49,null,null,null,2010,"2010-08-01",5.66]
[null,null,null,null,null,null,null,null,null,null,2010,"2010-09-01",4.53,null,null,null,2010,"2010-09-01",5.66]
[null,null,null,null,null,null,null,null,null,null,2010,"2010-10-01",4.68,null,null,null,2010,"2010-10-01",5.72]
[null,null,null,null,null,null,null,null,null,null,2010,"2010-11-01",4.87,null,null,null,2010,"2010-11-01",5.92]
[null,null,null,null,null,null,null,null,null,null,2010,"2010-12-01",5.0199999999999996,null,null,null,2010,"2010-12-01",6.1]
[null,null,null,null,null,null,null,null,null,null,2011,"2011-01-01",5.04,null,null,null,2011,"2011-01-01",6.09]
[null,null,null,null,null,null,null,null,null,null,2011,"2011-02-01",5.22,null,null,null,2011,"2011-02-01",6.15]
[null,null,null,null,null,null,null,null,null,null,2011,"2011-03-01",5.13,null,null,null,2011,"2011-03-01",6.03]
[null,null,null,null,null,null,null,null,null,null,2011,"2011-04-01",5.16,null,null,null,2011,"2011-04-01",6.02]
[null,null,null,null,null,null,null,null,null,null,2011,"2011-05-01",4.96,null,null,null,2011,"2011-05-01",5.78]
[null,null,null,null,null,null,null,null,null,null,2011,"2011-06-01",4.99,null,null,null,2011,"2011-06-01",5.75]
[null,null,null,null,null,null,null,null,null,null,2011,"2011-07-01",4.93,null,null,null,2011,"2011-07-01",5.76]
[null,null,null,null,null,null,null,null,null,null,2011,"2011-08-01",4.37,null,null,null,2011,"2011-08-01",5.36]
[null,null,null,null,null,null,null,null,null,null,2011,"2011-09-01",4.09,null,null,null,2011,"2011-09-01",5.27]
[null,null,null,null,null,null,null,null,null,null,2011,"2011-10-01",3.98,null,null,null,2011,"2011-10-01",5.37]
[null,null,null,null,null,null,null,null,null,null,2011,"2011-11-01",3.87,null,null,null,2011,"2011-11-01",5.14]
[null,null,null,null,null,null,null,null,null,null,2011,"2011-12-01",3.93,null,null,null,2011,"2011-12-01",5.25]
[null,null,null,null,null,null,null,null,null,null,2012,"2012-01-01",3.85,null,null,null,2012,"2012-01-01",5.23]
[null,null,null,null,null,null,null,null,null,null,2012,"2012-02-01",3.85,null,null,null,2012,"2012-02-01",5.14]
[null,null,null,null,null,null,null,null,null,null,2012,"2012-03-01",3.99,null,null,null,2012,"2012-03-01",5.23]
[null,null,null,null,null,null,null,null,null,null,2012,"2012-04-01",3.96,null,null,null,2012,"2012-04-01",5.19]
[null,null,null,null,null,null,null,null,null,null,2012,"2012-05-01",3.8,null,null,null,2012,"2012-05-01",5.07]
[null,null,null,null,null,null,null,null,null,null,2012,"2012-06-01",3.64,null,null,null,2012,"2012-06-01",5.0199999999999996]
[null,null,null,null,null,null,null,null,null,null,2012,"2012-07-01",3.4,null,null,null,2012,"2012-07-01",4.87]
[null,null,null,null,null,null,null,null,null,null,2012,"2012-08-01",3.48,null,null,null,2012,"2012-08-01",4.91]
[null,null,null,null,null,null,null,null,null,null,2012,"2012-09-01",3.49,null,null,null,2012,"2012-09-01",4.84]
[null,null,null,null,null,null,null,null,null,null,2012,"2012-10-01",3.47,null,null,null,2012,"2012-10-01",4.58]
[null,null,null,null,null,null,null,null,null,null,2012,"2012-11-01",3.5,null,null,null,2012,"2012-11-01",4.51]
[null,null,null,null,null,null,null,null,null,null,2012,"2012-12-01",3.65,null,null,null,2012,"2012-12-01",4.63]
[null,null,null,null,null,null,null,null,null,null,2013,"2013-01-01",3.8,null,null,null,2013,"2013-01-01",4.7300000000000004]
[null,null,null,null,null,null,null,null,null,null,2013,"2013-02-01",3.9,null,null,null,2013,"2013-02-01",4.8499999999999996]
[null,null,null,null,null,null,null,null,null,null,2013,"2013-03-01",3.93,null,null,null,2013,"2013-03-01",4.8499999999999996]
[null,null,null,null,null,null,null,null,null,null,2013,"2013-04-01",3.73,null,null,null,2013,"2013-04-01",4.59]
[null,null,null,null,null,null,null,null,null,null,2013,"2013-05-01",3.89,null,null,null,2013,"2013-05-01",4.7300000000000004]
[null,null,null,null,null,null,null,null,null,null,2013,"2013-06-01",4.2699999999999996,null,null,null,2013,"2013-06-01",5.19]
[null,null,null,null,null,null,null,null,null,null,2013,"2013-07-01",4.34,null,null,null,2013,"2013-07-01",5.32]
[null,null,null,null,null,null,null,null,null,null,2013,"2013-08-01",4.54,null,null,null,2013,"2013-08-01",5.42]
[null,null,null,null,null,null,null,null,null,null,2013,"2013-09-01",4.6399999999999997,null,null,null,2013,"2013-09-01",5.47]
[null,null,null,null,null,null,null,null,null,null,2013,"2013-10-01",4.53,null,null,null,2013,"2013-10-01",5.31]
[null,null,null,null,null,null,null,null,null,null,2013,"2013-11-01",4.63,null,null,null,2013,"2013-11-01",5.38]
[null,null,null,null,null,null,null,null,null,null,2013,"2013-12-01",4.62,null,null,null,2013,"2013-12-01",5.38]
[null,null,null,null,null,null,null,null,null,null,null,"2014-01-01",4.49,null,null,null,null,"2014-01-01",5.19]
[null,null,null,null,null,null,null,null,null,null,null,"2014-02-01",4.45,null,null,null,null,"2014-02-01",5.0999999999999996]

{"sheet":"Annual Yields (WP)","index":31,"n_rows":42,"n_cols":8,"rows_kept":42,"cut":false,"hidden":false,"merged":[[1,3,1,4],[1,6,1,7],[1,0,1,1]]}
[]
["30-Year T-Bills",null,null,"AAA Corporate Bonds",null,null,"BAA Corporate Bonds"]
["Year ","Annual Yield",null,"Year ","Annual Yield",null,"Year ","Annual Yield"]
[]
[]
[1977,{"$f":"AVERAGEIF('Monthly Yields (WP)'!$A$8:$A$715,'Annual Yields (WP)'!A6,'Monthly Yields (WP)'!$C$8:$C$322)/100","v":7.7490909090909096E-2},null,1977,{"$f":"VLOOKUP(D6,'Monthly Yields (WP)'!$N$8:$O$100,2)","v":8.0241666666666683E-2},null,{"$f":"+D6","v":1977},{"$f":"VLOOKUP(G6,'Monthly Yields (WP)'!$T$8:$U$100,2)","v":8.969166666666667E-2}]
[{"$f":"+A6+1","v":1978},{"$f":"AVERAGEIF('Monthly Yields (WP)'!$A$8:$A$715,'Annual Yields (WP)'!A7,'Monthly Yields (WP)'!$C$8:$C$322)/100","v":8.4849999999999995E-2},null,{"$f":"+D6+1","v":1978},{"$f":"VLOOKUP(D7,'Monthly Yields (WP)'!$N$8:$O$100,2)","v":8.7249999999999994E-2},null,1978,{"$f":"VLOOKUP(G7,'Monthly Yields (WP)'!$T$8:$U$100,2)","v":9.4883333333333333E-2}]
[{"$f":"+A9-1","v":1979},{"$f":"AVERAGEIF('Monthly Yields (WP)'!$A$8:$A$715,'Annual Yields (WP)'!A8,'Monthly Yields (WP)'!$C$8:$C$322)/100","v":9.292499999999998E-2},null,{"$f":"+D7+1","v":1979},{"$f":"VLOOKUP(D8,'Monthly Yields (WP)'!$N$8:$O$100,2)","v":9.6291666666666664E-2},null,1979,{"$f":"VLOOKUP(G8,'Monthly Yields (WP)'!$T$8:$U$100,2)","v":0.10689999999999998}]
[1980,{"$f":"AVERAGEIF('Monthly Yields (WP)'!$A$8:$A$715,'Annual Yields (WP)'!A9,'Monthly Yields (WP)'!$C$8:$C$322)/100","v":0.11298333333333334},null,1980,{"$f":"VLOOKUP(D9,'Monthly Yields (WP)'!$N$8:$O$100,2)","v":0.11938333333333334},null,{"$f":"+D9","v":1980},{"$f":"VLOOKUP(G9,'Monthly Yields (WP)'!$T$8:$U$100,2)","v":0.13668333333333332}]
[1981,{"$f":"AVERAGEIF('Monthly Yields (WP)'!$A$8:$A$715,'Annual Yields (WP)'!A10,'Monthly Yields (WP)'!$C$8:$C$322)/100","v":0.13441666666666666},null,{"$f":"+D9+1","v":1981},{"$f":"VLOOKUP(D10,'Monthly Yields (WP)'!$N$8:$O$100,2)","v":0.14170833333333333},null,{"$f":"+D10","v":1981},{"$f":"VLOOKUP(G10,'Monthly Yields (WP)'!$T$8:$U$100,2)","v":0.1604416666666667}]
[1982,{"$f":"AVERAGEIF('Monthly Yields (WP)'!$A$8:$A$715,'Annual Yields (WP)'!A11,'Monthly Yields (WP)'!$C$8:$C$322)/100","v":0.12761666666666663},null,{"$f":"+D10+1","v":1982},{"$f":"VLOOKUP(D11,'Monthly Yields (WP)'!$N$8:$O$100,2)","v":0.13787500000000003},null,1982,{"$f":"VLOOKUP(G11,'Monthly Yields (WP)'!$T$8:$U$100,2)","v":0.16113333333333332}]
[1983,{"$f":"AVERAGEIF('Monthly Yields (WP)'!$A$8:$A$715,'Annual Yields (WP)'!A12,'Monthly Yields (WP)'!$C$8:$C$322)/100","v":0.11178333333333335},null,1983,{"$f":"VLOOKUP(D12,'Monthly Yields (WP)'!$N$8:$O$100,2)","v":0.12041666666666666},null,1983,{"$f":"VLOOKUP(G12,'Monthly Yields (WP)'!$T$8:$U$100,2)","v":0.13554166666666664}]
[1984,{"$f":"AVERAGEIF('Monthly Yields (WP)'!$A$8:$A$715,'Annual Yields (WP)'!A13,'Monthly Yields (WP)'!$C$8:$C$322)/100","v":0.12391666666666666},null,1984,{"$f":"VLOOKUP(D13,'Monthly Yields (WP)'!$N$8:$O$100,2)","v":0.12709166666666666},null,1984,{"$f":"VLOOKUP(G13,'Monthly Yields (WP)'!$T$8:$U$100,2)","v":0.1419}]
[1985,{"$f":"AVERAGEIF('Monthly Yields (WP)'!$A$8:$A$715,'Annual Yields (WP)'!A14,'Monthly Yields (WP)'!$C$8:$C$322)/100","v":0.10789166666666666},null,1985,{"$f":"VLOOKUP(D14,'Monthly Yields (WP)'!$N$8:$O$100,2)","v":0.11373333333333333},null,1985,{"$f":"VLOOKUP(G14,'Monthly Yields (WP)'!$T$8:$U$100,2)","v":0.12715000000000004}]
[1986,{"$f":"AVERAGEIF('Monthly Yields (WP)'!$A$8:$A$715,'Annual Yields (WP)'!A15,'Monthly Yields (WP)'!$C$8:$C$322)/100","v":7.7983333333333349E-2},null,1986,{"$f":"VLOOKUP(D15,'Monthly Yields (WP)'!$N$8:$O$100,2)","v":9.0208333333333321E-2},null,1986,{"$f":"VLOOKUP(G15,'Monthly Yields (WP)'!$T$8:$U$100,2)","v":0.10390833333333331}]
[{"$f":"+A15+1","v":1987},{"$f":"AVERAGEIF('Monthly Yields (WP)'!$A$8:$A$715,'Annual Yields (WP)'!A16,'Monthly Yields (WP)'!$C$8:$C$322)/100","v":8.5800000000000001E-2},null,1987,{"$f":"VLOOKUP(D16,'Monthly Yields (WP)'!$N$8:$O$100,2)","v":9.3758333333333346E-2},null,1987,{"$f":"VLOOKUP(G16,'Monthly Yields (WP)'!$T$8:$U$100,2)","v":0.10575833333333334}]
[1988,{"$f":"AVERAGEIF('Monthly Yields (WP)'!$A$8:$A$715,'Annual Yields (WP)'!A17,'Monthly Yields (WP)'!$C$8:$C$322)/100","v":8.9591666666666667E-2},null,1988,{"$f":"VLOOKUP(D17,'Monthly Yields (WP)'!$N$8:$O$100,2)","v":9.7100000000000006E-2},null,1988,{"$f":"VLOOKUP(G17,'Monthly Yields (WP)'!$T$8:$U$100,2)","v":0.10829999999999998}]
[1989,{"$f":"AVERAGEIF('Monthly Yields (WP)'!$A$8:$A$715,'Annual Yields (WP)'!A18,'Monthly Yields (WP)'!$C$8:$C$322)/100","v":8.4491666666666687E-2},null,1989,{"$f":"VLOOKUP(D18,'Monthly Yields (WP)'!$N$8:$O$100,2)","v":9.2575000000000005E-2},null,1989,{"$f":"VLOOKUP(G18,'Monthly Yields (WP)'!$T$8:$U$100,2)","v":0.101775}]
[1990,{"$f":"AVERAGEIF('Monthly Yields (WP)'!$A$8:$A$715,'Annual Yields (WP)'!A19,'Monthly Yields (WP)'!$C$8:$C$322)/100","v":8.6083333333333331E-2},null,1990,{"$f":"VLOOKUP(D19,'Monthly Yields (WP)'!$N$8:$O$100,2)","v":9.3216666666666656E-2},null,1990,{"$f":"VLOOKUP(G19,'Monthly Yields (WP)'!$T$8:$U$100,2)","v":0.10354999999999999}]
[1991,{"$f":"AVERAGEIF('Monthly Yields (WP)'!$A$8:$A$715,'Annual Yields (WP)'!A20,'Monthly Yields (WP)'!$C$8:$C$322)/100","v":8.1358333333333324E-2},null,1991,{"$f":"VLOOKUP(D20,'Monthly Yields (WP)'!$N$8:$O$100,2)","v":8.7691666666666668E-2},null,1991,{"$f":"VLOOKUP(G20,'Monthly Yields (WP)'!$T$8:$U$100,2)","v":9.8016666666666682E-2}]
[1992,{"$f":"AVERAGEIF('Monthly Yields (WP)'!$A$8:$A$715,'Annual Yields (WP)'!A21,'Monthly Yields (WP)'!$C$8:$C$322)/100","v":7.6666666666666675E-2},null,1992,{"$f":"VLOOKUP(D21,'Monthly Yields (WP)'!$N$8:$O$100,2)","v":8.1399999999999986E-2},null,1992,{"$f":"VLOOKUP(G21,'Monthly Yields (WP)'!$T$8:$U$100,2)","v":8.9766666666666689E-2}]
[1993,{"$f":"AVERAGEIF('Monthly Yields (WP)'!$A$8:$A$715,'Annual Yields (WP)'!A22,'Monthly Yields (WP)'!$C$8:$C$322)/100","v":6.5983333333333338E-2},null,1993,{"$f":"VLOOKUP(D22,'Monthly Yields (WP)'!$N$8:$O$100,2)","v":7.2191666666666696E-2},null,1993,{"$f":"VLOOKUP(G22,'Monthly Yields (WP)'!$T$8:$U$100,2)","v":7.9299999999999995E-2}]
[1994,{"$f":"AVERAGEIF('Monthly Yields (WP)'!$A$8:$A$715,'Annual Yields (WP)'!A23,'Monthly Yields (WP)'!$C$8:$C$322)/100","v":7.3700000000000002E-2},null,1994,{"$f":"VLOOKUP(D23,'Monthly Yields (WP)'!$N$8:$O$100,2)","v":7.9625000000000015E-2},null,1994,{"$f":"VLOOKUP(G23,'Monthly Yields (WP)'!$T$8:$U$100,2)","v":8.622500000000001E-2}]
[1995,{"$f":"AVERAGEIF('Monthly Yields (WP)'!$A$8:$A$715,'Annual Yields (WP)'!A24,'Monthly Yields (WP)'!$C$8:$C$322)/100","v":6.8841666666666662E-2},null,1995,{"$f":"VLOOKUP(D24,'Monthly Yields (WP)'!$N$8:$O$100,2)","v":7.5899999999999995E-2},null,1995,{"$f":"VLOOKUP(G24,'Monthly Yields (WP)'!$T$8:$U$100,2)","v":8.2008333333333322E-2}]
[1996,{"$f":"AVERAGEIF('Monthly Yields (WP)'!$A$8:$A$715,'Annual Yields (WP)'!A25,'Monthly Yields (WP)'!$C$8:$C$322)/100","v":6.700833333333335E-2},null,1996,{"$f":"VLOOKUP(D25,'Monthly Yields (WP)'!$N$8:$O$100,2)","v":7.3700000000000002E-2},null,1996,{"$f":"VLOOKUP(G25,'Monthly Yields (WP)'!$T$8:$U$100,2)","v":8.0541666666666678E-2}]
[1997,{"$f":"AVERAGEIF('Monthly Yields (WP)'!$A$8:$A$715,'Annual Yields (WP)'!A26,'Monthly Yields (WP)'!$C$8:$C$322)/100","v":6.605833333333333E-2},null,1997,{"$f":"VLOOKUP(D26,'Monthly Yields (WP)'!$N$8:$O$100,2)","v":7.2616666666666677E-2},null,1997,{"$f":"VLOOKUP(G26,'Monthly Yields (WP)'!$T$8:$U$100,2)","v":7.8625000000000014E-2}]
[1998,{"$f":"AVERAGEIF('Monthly Yields (WP)'!$A$8:$A$715,'Annual Yields (WP)'!A27,'Monthly Yields (WP)'!$C$8:$C$322)/100","v":5.5783333333333331E-2},null,1998,{"$f":"VLOOKUP(D27,'Monthly Yields (WP)'!$N$8:$O$100,2)","v":6.5316666666666662E-2},null,1998,{"$f":"VLOOKUP(G27,'Monthly Yields (WP)'!$T$8:$U$100,2)","v":7.2208333333333347E-2}]
[1999,{"$f":"AVERAGEIF('Monthly Yields (WP)'!$A$8:$A$715,'Annual Yields (WP)'!A28,'Monthly Yields (WP)'!$C$8:$C$322)/100","v":5.8658333333333319E-2},null,1999,{"$f":"VLOOKUP(D28,'Monthly Yields (WP)'!$N$8:$O$100,2)","v":7.0416666666666669E-2},null,1999,{"$f":"VLOOKUP(G28,'Monthly Yields (WP)'!$T$8:$U$100,2)","v":7.8708333333333338E-2}]
[2000,{"$f":"AVERAGEIF('Monthly Yields (WP)'!$A$8:$A$715,'Annual Yields (WP)'!A29,'Monthly Yields (WP)'!$C$8:$C$322)/100","v":5.9424999999999992E-2},null,2000,{"$f":"VLOOKUP(D29,'Monthly Yields (WP)'!$N$8:$O$100,2)","v":7.6225000000000001E-2},null,2000,{"$f":"VLOOKUP(G29,'Monthly Yields (WP)'!$T$8:$U$100,2)","v":8.3641666666666656E-2}]
[2001,{"$f":"AVERAGEIF('Monthly Yields (WP)'!$A$8:$A$715,'Annual Yields (WP)'!A30,'Monthly Yields (WP)'!$C$8:$C$322)/100","v":5.4933333333333334E-2},null,2001,{"$f":"VLOOKUP(D30,'Monthly Yields (WP)'!$N$8:$O$100,2)","v":7.0824999999999999E-2},null,2001,{"$f":"VLOOKUP(G30,'Monthly Yields (WP)'!$T$8:$U$100,2)","v":7.947499999999999E-2}]
[2002,{"$f":"AVERAGEIF('Monthly Yields (WP)'!$F$8:$F$715,'Annual Yields (WP)'!A31,'Monthly Yields (WP)'!$H$8:$H$715)/100","v":5.4299999999999994E-2},null,2002,{"$f":"VLOOKUP(D31,'Monthly Yields (WP)'!$N$8:$O$100,2)","v":6.4916666666666664E-2},null,2002,{"$f":"VLOOKUP(G31,'Monthly Yields (WP)'!$T$8:$U$100,2)","v":7.8016666666666665E-2}]
[2003,{"$f":"AVERAGEIF('Monthly Yields (WP)'!$F$8:$F$715,'Annual Yields (WP)'!A32,'Monthly Yields (WP)'!$H$8:$H$715)/100","v":4.9575000000000008E-2},null,2003,{"$f":"VLOOKUP(D32,'Monthly Yields (WP)'!$N$8:$O$100,2)","v":5.6666666666666671E-2},null,2003,{"$f":"VLOOKUP(G32,'Monthly Yields (WP)'!$T$8:$U$100,2)","v":6.765833333333332E-2}]
[2004,{"$f":"AVERAGEIF('Monthly Yields (WP)'!$F$8:$F$715,'Annual Yields (WP)'!A33,'Monthly Yields (WP)'!$H$8:$H$715)/100","v":5.0466666666666667E-2},null,2004,{"$f":"VLOOKUP(D33,'Monthly Yields (WP)'!$N$8:$O$100,2)","v":5.6283333333333331E-2},null,2004,{"$f":"VLOOKUP(G33,'Monthly Yields (WP)'!$T$8:$U$100,2)","v":6.3933333333333342E-2}]
[2005,{"$f":"AVERAGEIF('Monthly Yields (WP)'!$F$8:$F$715,'Annual Yields (WP)'!A34,'Monthly Yields (WP)'!$H$8:$H$715)/100","v":4.6458333333333331E-2},null,2005,{"$f":"VLOOKUP(D34,'Monthly Yields (WP)'!$N$8:$O$100,2)","v":5.2350000000000001E-2},null,2005,{"$f":"VLOOKUP(G34,'Monthly Yields (WP)'!$T$8:$U$100,2)","v":6.0641666666666677E-2}]
[2006,{"$f":"AVERAGEIF('Monthly Yields (WP)'!$F$8:$F$715,'Annual Yields (WP)'!A35,'Monthly Yields (WP)'!$H$8:$H$715)/100","v":4.9924999999999997E-2},null,2006,{"$f":"VLOOKUP(D35,'Monthly Yields (WP)'!$N$8:$O$100,2)","v":5.5874999999999994E-2},null,2006,{"$f":"VLOOKUP(G35,'Monthly Yields (WP)'!$T$8:$U$100,2)","v":6.4791666666666664E-2}]
[2007,{"$f":"AVERAGEIF('Monthly Yields (WP)'!$A$8:$A$715,'Annual Yields (WP)'!A36,'Monthly Yields (WP)'!$C$8:$C$322)/100","v":4.8341666666666672E-2},null,2007,{"$f":"VLOOKUP(D36,'Monthly Yields (WP)'!$N$8:$O$100,2)","v":5.5558333333333321E-2},null,2007,{"$f":"VLOOKUP(G36,'Monthly Yields (WP)'!$T$8:$U$100,2)","v":6.4825000000000021E-2}]
[2008,{"$f":"AVERAGEIF('Monthly Yields (WP)'!$A$8:$A$715,'Annual Yields (WP)'!A37,'Monthly Yields (WP)'!$C$8:$C$322)/100","v":4.2791666666666665E-2},null,2008,{"$f":"VLOOKUP(D37,'Monthly Yields (WP)'!$N$8:$O$100,2)","v":5.6316666666666668E-2},null,2008,{"$f":"VLOOKUP(G37,'Monthly Yields (WP)'!$T$8:$U$100,2)","v":7.4466666666666681E-2}]
[2009,{"$f":"AVERAGEIF('Monthly Yields (WP)'!$A$8:$A$715,'Annual Yields (WP)'!A38,'Monthly Yields (WP)'!$C$8:$C$322)/100","v":4.0691666666666668E-2},null,2009,{"$f":"VLOOKUP(D38,'Monthly Yields (WP)'!$N$8:$O$100,2)","v":5.3133333333333324E-2},null,2009,{"$f":"VLOOKUP(G38,'Monthly Yields (WP)'!$T$8:$U$100,2)","v":7.2958333333333347E-2}]
[2010,{"$f":"AVERAGEIF('Monthly Yields (WP)'!$A$8:$A$715,'Annual Yields (WP)'!A39,'Monthly Yields (WP)'!$C$8:$C$322)/100","v":4.2508333333333335E-2},null,{"$f":"+D38+1","v":2010},{"$f":"VLOOKUP(D39,'Monthly Yields (WP)'!$N$8:$O$100,2)","v":4.9433333333333322E-2},null,2010,{"$f":"VLOOKUP(G39,'Monthly Yields (WP)'!$T$8:$U$100,2)","v":6.0383333333333331E-2}]
[2011,{"$f":"AVERAGEIF('Monthly Yields (WP)'!$A$8:$A$715,'Annual Yields (WP)'!A40,'Monthly Yields (WP)'!$C$8:$C$322)/100","v":3.9108333333333328E-2},null,2011,{"$f":"VLOOKUP(D40,'Monthly Yields (WP)'!$N$8:$O$100,2)","v":4.6391666666666664E-2},null,2011,{"$f":"VLOOKUP(G40,'Monthly Yields (WP)'!$T$8:$U$100,2)","v":5.6641666666666667E-2}]
[2012,{"$f":"AVERAGEIF('Monthly Yields (WP)'!$A$8:$A$7150,'Annual Yields (WP)'!A41,'Monthly Yields (WP)'!$C$8:$C$3220)/100","v":2.9208333333333329E-2},null,2012,{"$f":"VLOOKUP(D41,'Monthly Yields (WP)'!$N$8:$O$1000,2)","v":3.6733333333333333E-2},null,2012,{"$f":"VLOOKUP(G41,'Monthly Yields (WP)'!$T$8:$U$1000,2)","v":4.9349999999999998E-2}]
[2013,{"$f":"AVERAGEIF('Monthly Yields (WP)'!$A$8:$A$7150,'Annual Yields (WP)'!A42,'Monthly Yields (WP)'!$C$8:$C$3220)/100","v":3.4483333333333331E-2},null,2013,{"$f":"VLOOKUP(D42,'Monthly Yields (WP)'!$N$8:$O$1000,2)","v":4.2350000000000006E-2},null,{"$f":"+D42","v":2013},{"$f":"VLOOKUP(G42,'Monthly Yields (WP)'!$T$8:$U$1000,2)","v":5.1016666666666675E-2}]

{"sheet":"Bond Yields (WP)","index":32,"n_rows":32,"n_cols":4,"rows_kept":32,"cut":false,"hidden":false,"merged":[[0,0,0,3],[4,0,4,3]]}
[{"$f":"'FEA___(MPG-2)'!$A$1","v":"Rocky Mountain Power"}]
[]
[]
[]
["Treasury and Utility Bond Yields"]
[]
[]
[]
[null,null,"\"A\" Rated Utility","\"Baa\" Rated Utility"]
["Line","Date","Bond Yield1","Bond Yield1"]
[null,null,"(2)","(3)"]
[]
[{"$f":"MAX(A9:A12)+1","v":1},{"$f":"'Yields Table (WP)'!O6","v":"00:00:00"},{"$f":"'Yields Table (WP)'!Q6","v":0},{"$f":"'Yields Table (WP)'!T6","v":0}]
[{"$f":"MAX(A10:A13)+1","v":2},{"$f":"'Yields Table (WP)'!O7","v":"00:00:00"},{"$f":"'Yields Table (WP)'!Q7","v":0},{"$f":"'Yields Table (WP)'!T7","v":0}]
[3,{"$f":"'Yields Table (WP)'!O8","v":"00:00:00"},{"$f":"'Yields Table (WP)'!Q8","v":0},{"$f":"'Yields Table (WP)'!T8","v":0}]
[4,{"$f":"'Yields Table (WP)'!O9","v":"00:00:00"},{"$f":"'Yields Table (WP)'!Q9","v":0},{"$f":"'Yields Table (WP)'!T9","v":0}]
[5,{"$f":"'Yields Table (WP)'!O10","v":"00:00:00"},{"$f":"'Yields Table (WP)'!Q10","v":0},{"$f":"'Yields Table (WP)'!T10","v":0}]
[6,{"$f":"'Yields Table (WP)'!O11","v":"00:00:00"},{"$f":"'Yields Table (WP)'!Q11","v":0},{"$f":"'Yields Table (WP)'!T11","v":0}]
[7,{"$f":"'Yields Table (WP)'!O12","v":"00:00:00"},{"$f":"'Yields Table (WP)'!Q12","v":0},{"$f":"'Yields Table (WP)'!T12","v":0}]
[8,{"$f":"'Yields Table (WP)'!O13","v":"00:00:00"},{"$f":"'Yields Table (WP)'!Q13","v":0},{"$f":"'Yields Table (WP)'!T13","v":0}]
[9,{"$f":"'Yields Table (WP)'!O14","v":"00:00:00"},{"$f":"'Yields Table (WP)'!Q14","v":0},{"$f":"'Yields Table (WP)'!T14","v":0}]
[10,{"$f":"'Yields Table (WP)'!O15","v":"00:00:00"},{"$f":"'Yields Table (WP)'!Q15","v":0},{"$f":"'Yields Table (WP)'!T15","v":0}]
[11,{"$f":"'Yields Table (WP)'!O16","v":"00:00:00"},{"$f":"'Yields Table (WP)'!Q16","v":0},{"$f":"'Yields Table (WP)'!T16","v":0}]
[12,{"$f":"'Yields Table (WP)'!O17","v":"00:00:00"},{"$f":"'Yields Table (WP)'!Q17","v":0},{"$f":"'Yields Table (WP)'!T17","v":0}]
[13,{"$f":"'Yields Table (WP)'!O18","v":"00:00:00"},{"$f":"'Yields Table (WP)'!Q18","v":0},{"$f":"'Yields Table (WP)'!T18","v":0}]
[]
[14,"   Average",{"$f":"AVERAGE(C13:C25)","v":0},{"$f":"AVERAGE(D13:D25)","v":0}]
[]
[]
[]
[null,"Sources:"]
[null,"1 http://credittrends.moodys.com/."]

{"sheet":"GDP (WP)","index":33,"n_rows":13,"n_cols":87,"rows_kept":13,"cut":false,"hidden":false,"merged":[[0,0,0,86],[1,0,1,86],[2,0,2,86],[3,0,3,86],[5,0,5,0],[5,1,5,1],[5,2,5,2],[5,3,5,3],[5,4,5,4],[5,5,5,5],[5,6,5,6],[5,7,5,7],[5,8,5,8],[5,9,5,9],[5,10,5,10],[5,15,5,15],[5,16,5,16],[5,11,5,11],[5,12,5,12],[5,13,5,13],[5,14,5,14],[5,29,5,29],[5,18,5,18],[5,19,5,19],[5,20,5,20],[5,21,5,21],[5,22,5,22],[5,23,5,23],[5,24,5,24],[5,17,5,17],[5,25,5,25],[5,26,5,26],[5,27,5,27],[5,28,5,28],[5,30,5,30],[5,31,5,31],[5,32,5,32],[5,33,5,33],[5,34,5,34],[5,47,5,47],[5,48,5,48],[5,49,5,49],[5,50,5,50],[5,35,5,35],[5,36,5,36],[5,37,5,37],[5,38,5,38],[5,39,5,39],[5,40,5,40],[5,42,5,42],[5,43,5,43],[5,44,5,44],[5,45,5,45],[5,46,5,46],[5,41,5,41],[5,51,5,51],[5,52,5,52],[5,65,5,65],[5,54,5,54],[5,55,5,55],[5,56,5,56],[5,57,5,57],[5,58,5,58],[5,59,5,59],[5,60,5,60],[5,53,5,53],[5,61,5,61],[5,62,5,62],[5,63,5,63],[5,64,5,64],[5,77,5,77],[5,66,5,66],[5,67,5,67],[5,68,5,68],[5,69,5,69],[5,70,5,70],[5,76,5,76],[5,71,5,71],[5,72,5,72],[5,73,5,73],[5,74,5,74],[5,75,5,75],[5,84,5,84],[5,85,5,85],[5,86,5,86],[5,78,5,78],[5,79,5,79],[5,80,5,80],[5,81,5,81],[5,82,5,82],[5,83,5,83]]}
["Table 1.1.5. Gross Domestic Product"]
["[Billions of dollars]"]
["Bureau of Economic Analysis"]
["Last Revised on: March 27, 2014 - Next Release Date April 30, 2014"]
[]
["Line"," ","1929","1930","1931","1932","1933","1934","1935","1936","1937","1938","1939","1940","1941","1942","1943","1944","1945","1946","1947","1948","1949","1950","1951","1952","1953","1954","1955","1956","1957","1958","1959","1960","1961","1962","1963","1964","1965","1966","1967","1968","1969","1970","1971","1972","1973","1974","1975","1976","1977","1978","1979","1980","1981","1982","1983","1984","1985","1986","1987","1988","1989","1990","1991","1992","1993","1994","1995","1996","1997","1998","1999","2000","2001","2002","2003","2004","2005","2006","2007","2008","2009","2010","2011","2012","2013"]
["1","    Gross domestic product",104.6,92.2,77.400000000000006,59.5,57.2,66.8,74.3,84.9,93,87.4,93.5,102.9,129.4,166,203.1,224.6,228.2,227.8,249.9,274.8,272.8,300.2,347.3,367.7,389.7,391.1,426.2,450.1,474.9,482,522.5,543.29999999999995,563.29999999999995,605.1,638.6,685.8,743.7,815,861.7,942.5,1019.9,1075.9000000000001,1167.8,1282.4000000000001,1428.5,1548.8,1688.9,1877.6,2086,2356.6,2632.1,2862.5,3210.9,3345,3638.1,4040.7,4346.7,4590.1000000000004,4870.2,5252.6,5657.7,5979.6,6174,6539.3,6878.7,7308.7,7664,8100.2,8608.5,9089.1,9665.7000000000007,10289.700000000001,10625.3,10980.2,11512.2,12277,13095.4,13857.9,14480.3,14720.3,14417.9,14958.3,15533.8,16244.6,16799.7]
[]
[null,1929,{"$f":"+C7","v":104.6}]
[null,2013,{"$f":"+CI7","v":16799.7}]
[null,{"$f":"+B10-B9","v":84},{"$f":"+C10/C9","v":160.60898661567879}]
[]
[null,null,{"$f":"+C11^(1/B11)-1","v":6.2329312004866466E-2}]

{"sheet":"Company List","index":34,"n_rows":180,"n_cols":9,"rows_kept":180,"cut":false,"hidden":true,"merged":[]}
[null,"Source: SNL 11/12/2013"]
[null,"Operating US and Canadian Energy Companies trading on NASDAQ or NYSE"]
[]
[null,{"$f":"[4]!SNLTable(1,$C$9:$C$180,$D$6:$I$6,,,\"Options:Curr=,Mag=,ConvMethod=\")","v":{"$error":"#NAME?"}}]
[null,{"$f":"[4]!SNLLabel(1,130509,\"Options:Curr=,Mag=,ConvMethod=\")","v":{"$error":"#NAME?"}},{"$f":"[4]!SNLLabel(1,130992,\"Options:Curr=,Mag=,ConvMethod=\")","v":{"$error":"#NAME?"}},{"$f":"[4]!SNLLabel(1,$D$6,$D$7,$D$8,\"Options:Curr=,Mag=,ConvMethod=\")","v":{"$error":"#NAME?"}},{"$f":"[4]!SNLLabel(1,$E$6,$E$7,$E$8,\"Options:Curr=,Mag=,ConvMethod=\")","v":{"$error":"#NAME?"}},{"$f":"[4]!SNLLabel(1,$F$6,$F$7,$F$8,\"Options:Curr=,Mag=,ConvMethod=\")","v":{"$error":"#NAME?"}},{"$f":"[4]!SNLLabel(1,$G$6,$G$7,$G$8,\"Options:Curr=,Mag=,ConvMethod=\")","v":{"$error":"#NAME?"}},{"$f":"[4]!SNLLabel(1,$H$6,$H$7,$H$8,\"Options:Curr=,Mag=,ConvMethod=\")","v":{"$error":"#NAME?"}},{"$f":"[4]!SNLLabel(1,$I$6,$I$7,$I$8,\"Options:Curr=,Mag=,ConvMethod=\")","v":{"$error":"#NAME?"}}]
[null,null,null,131165,131166,131160,131159,131263,131264]
[]
[]
[{"$f":"E9","v":"ACMP"},"Access Midstream Partners, L.P.",4265087,"NYSE","ACMP","Access Midstream Partners LP","Access Midstream"]
[{"$f":"E10","v":"AES"},"AES Corporation",4055465,"NYSE","AES","AES Corp.","AES Corp"]
["GAS","AGL Resources Inc.",4057108,"NYSE","GAS","AGL Resources","AGL Rsrc Inc"]
["ALE","ALLETE, Inc.",4022309,"NYSE","ALE","ALLETE Inc.","ALLETE Inc"]
["AHGP","Alliance Holdings GP, L.P.",4109747,"NASDAQ","AHGP","Alliance Holdings GP LP","Alliance Hldgs GP"]
["ARLP","Alliance Resource Partners, L.P.",4098794,"NASDAQ","ARLP","Alliance Resource Partners LP","Alliance Resource"]
["LNT","Alliant Energy Corporation",4057038,"NYSE","LNT","Alliant Energy","Alliant Energy"]
["ANR","Alpha Natural Resources, Inc.",4100842,"NYSE","ANR","Alpha Natural Resources Inc","Alpha Natural Rsrc"]
["AEE","Ameren Corporation",4007308,"NYSE","AEE","Ameren Corp.","Ameren Corp"]
["AEP","American Electric Power Company, Inc.",4006321,"NYSE","AEP","American Electric Power Co.","AEP"]
["AMID","American Midstream Partners, LP",4245306,"NYSE","AMID","American Midstream Partners LP","American Midstream","High Point Infrastructure Partners, LLC","ArcLight Capital Holdings, LLC"]
["APU","AmeriGas Partners, L.P.",4082899,"NYSE","APU","AmeriGas Partners LP","AmeriGas Ptnrs LP"]
["ACI","Arch Coal, Inc.",4098789,"NYSE","ACI","Arch Coal Inc.","Arch Coal Inc"]
["ATLS","Atlas Energy, L.P.",4113131,"NYSE","ATLS","Atlas Energy LP","Atlas Energy LP"]
["APL","Atlas Pipeline Partners, L.P.",4057443,"NYSE","APL","Atlas Pipeline Partners LP","Atlas Pipln Ptnrs"]
["ATO","Atmos Energy Corporation",4057157,"NYSE","ATO","Atmos Energy Corp.","Atmos Energy Corp"]
["AVA","Avista Corporation",4057075,"NYSE","AVA","Avista Corp.","Avista Corp"]
["BKH","Black Hills Corporation",4010420,"NYSE","BKH","Black Hills Corp","Black Hills Corp"]
["BKEP","Blueknight Energy Partners, L.P.",4155779,"NASDAQ","BKEP","Blueknight Energy Partners LP","Blueknight Energy"]
["BWP","Boardwalk Pipeline Partners, LP",4104629,"NYSE","BWP","Boardwalk Pipeline Partners LP","Boardwalk Ppln","Boardwalk Pipelines Holding Corporation","Loews Corporation"]
["BBEP","BreitBurn Energy Partners L.P.",4135454,"NASDAQ","BBEP","BreitBurn Energy Partners LP","BreitBurn Energy"]
["BPL","Buckeye Partners, L.P.",4157383,"NYSE","BPL","Buckeye Partners LP","Buckeye Partners"]
["CPN","Calpine Corporation",4056958,"NYSE","CPN","Calpine Corp.","Calpine Corp"]
["CLMT","Calumet Specialty Products Partners, L.P.",4109349,"NASDAQ","CLMT","Calumet Specialty Products","Calumet Specialty"]
["CNP","CenterPoint Energy, Inc.",4074390,"NYSE","CNP","CenterPoint Energy Inc.","CenterPoint Energy"]
["CPK","Chesapeake Utilities Corporation",4057113,"NYSE","CPK","Chesapeake Utilities Corp.","Chespk Utilities"]
["CNL","Cleco Corporation",4056937,"NYSE","CNL","Cleco Corp.","Cleco Corp"]
["CLD","Cloud Peak Energy Inc.",4213860,"NYSE","CLD","Cloud Peak Energy Inc.","Cloud Peak Energy"]
["CMS","CMS Energy Corporation",4004172,"NYSE","CMS","CMS Energy Corp.","CMS Energy Corp"]
["CNX","CONSOL Energy Inc.",4072680,"NYSE","CNX","CONSOL Energy Inc.","CONSOL Energy"]
["ED","Consolidated Edison, Inc.",4057041,"NYSE","ED","Consolidated Edison Inc.","Consolidated Ed"]
["CVA","Covanta Holding Corporation",103347,"NYSE","CVA","Covanta Holding Corp.","Covanta Holding"]
["CEQP","Crestwood Equity Partners L.P.",4101945,"NYSE","CEQP","Crestwood Equity Partners LP","Crestwood Equity"]
["CMLP","Crestwood Midstream Partners LP",4213993,"NYSE","CMLP","Crestwood LP","Crestwood LP"]
["XTXI","Crosstex Energy, Inc.",4086818,"NASDAQ","XTXI","Crosstex Energy Inc.","Crosstex Energy"]
["XTEX","Crosstex Energy, L.P.",4079844,"NASDAQ","XTEX","Crosstex Energy L.P.","Crosstex Energy"]
["DPM","DCP Midstream Partners, LP",4105307,"NYSE","DPM","DCP Midstream Partners LP","DCP Midstream"]
["DGAS","Delta Natural Gas Company, Inc.",4057118,"NASDAQ","DGAS","Delta Natural Gas Co.","Delta Natural Gas"]
["D","Dominion Resources, Inc.",4001616,"NYSE","D","Dominion Resources Inc.","Dominion Rsrc Inc"]
["DMLP","Dorchester Minerals, L.P.",4166546,"NASDAQ","DMLP","Dorchester Minerals L.P.","Dorchester Mineral"]
["DTE","DTE Energy Company",4057044,"NYSE","DTE","DTE Energy Co.","DTE Energy Co"]
["DUK","Duke Energy Corporation",4121470,"NYSE","DUK","Duke Energy Corp","DukeEnergyCorp"]
["DYN","Dynegy Inc.",4057069,"NYSE","DYN","Dynegy Inc.","Dynegy"]
["EROC","Eagle Rock Energy Partners, L.P.",4135811,"NASDAQ","EROC","Eagle Rock Energy Partners LP","Eagle Rock Energy"]
["EIX","Edison International",4056943,"NYSE","EIX","Edison International","Edison Intl"]
["EE","El Paso Electric Company",4056994,"NYSE","EE","El Paso Electric Co.","El Paso Elctrc Co"]
["EPB","El Paso Pipeline Partners, L.P.",4170092,"NYSE","EPB","El Paso Pipeline Partners LP","El Paso Pipeline"]
["EDE","Empire District Electric Company",3005475,"NYSE","EDE","Empire District Electric Co.","Empire District"]
["EEQ","Enbridge Energy Management, L.L.C.",4145832,"NYSE","EEQ","Enbridge Energy Management LLC","Enbridge Energy"]
["EEP","Enbridge Energy Partners, L.P.",4087739,"NYSE","EEP","Enbridge Energy Partners LP","Enbridge Energy"]
["EGN","Energen Corporation",4004295,"NYSE","EGN","Energen Corp.","Energen Corp"]
["ETE","Energy Transfer Equity, L.P.",4111501,"NYSE","ETE","Energy Transfer Equity LP","Engy Trnsfr Eqty"]
["ETP","Energy Transfer Partners, L.P.",4055550,"NYSE","ETP","Energy Transfer Partners LP","Energy Transfer"]
["ETR","Entergy Corporation",4007889,"NYSE","ETR","Entergy Corp.","Entergy Corp"]
["EPD","Enterprise Products Partners L.P.",4059899,"NYSE","EPD","Enterprise Products Partners","EnterpriseProducts"]
["EQT","EQT Corporation",4004341,"NYSE","EQT","EQT Corp.","EQT Corp"]
["EQM","EQT Midstream Partners, LP",4313534,"NYSE","EQM","EQT Midstream Partners LP","EQT Midstream"]
["EVEP","EV Energy Partners, L.P.",4135452,"NASDAQ","EVEP","EV Energy Partners LP","EV Energy Partners"]
["EXC","Exelon Corporation",4057056,"NYSE","EXC","Exelon Corp.","Exelon Corp"]
["EXH","Exterran Holdings, Inc.",4121009,"NYSE","EXH","Exterran Holdings Inc.","Exterran Hldgs Inc"]
["EXLP","Exterran Partners, L.P.",4153620,"NASDAQ","EXLP","Exterran Partners LP","Exterran Ptnrs LP"]
["FGP","Ferrellgas Partners, L.P.",4095422,"NYSE","FGP","Ferrellgas Partners LP","Ferrellgas Partner"]
["FE","FirstEnergy Corp.",4056944,"NYSE","FE","FirstEnergy Corp.","FirstEnergy Corp"]
["GEL","Genesis Energy, L.P.",4104850,"NYSE","GEL","Genesis Energy LP","Genesis Energy LP"]
["GLP","Global Partners LP",4166549,"NYSE","GLP","Global Partners LP","Global Partners LP"]
[{"$f":"E74","v":"GXP"},"Great Plains Energy Inc.",4057005,"NYSE","GXP","Great Plains Energy","Great Plains"]
["HNRG","Hallador Energy Company",4187964,"NASDAQ","HNRG","Hallador Energy Co","Hallador Energy"]
["HE","Hawaiian Electric Industries, Inc.",1031123,"NYSE","HE","Hawaiian Electric Industries","Hawaiian Electric"]
["HEP","Holly Energy Partners, L.P.",4102285,"NYSE","HEP","Holly Energy Partners LP","Holly Energy Ptnr"]
["IDA","IDACORP, Inc.",4056949,"NYSE","IDA","IDACORP Inc.","IDACORP Inc"]
["TEG","Integrys Energy Group, Inc.",4057067,"NYSE","TEG","Integrys Energy Group Inc.","Integrys Energy"]
["ITC","ITC Holdings Corp.",4099990,"NYSE","ITC","ITC Holdings Corp.","ITC Holdings Corp"]
["JRCC","James River Coal Company",4099045,"NASDAQ","JRCC","James River Coal Co.","James River Coal"]
["KMP","Kinder Morgan Energy Partners, L.P.",4066360,"NYSE","KMP","Kinder Morgan Energy Partners","Kinder Morgan"]
["KMI","Kinder Morgan Inc.",4275772,"NYSE","KMI","Kinder Morgan Inc","Kinder Morgan Inc"]
["KMR","Kinder Morgan Management, LLC",4111521,"NYSE","KMR","Kinder Morgan Management LLC","Kinder Morgan Mana","Kinder Morgan Kansas, Inc.","Kinder Morgan Inc."]
["LG","Laclede Group, Inc. (The)",4002506,"NYSE","LG","Laclede Group Inc.","Laclede Group"]
["LGCY","Legacy Reserves LP",4135453,"NASDAQ","LGCY","Legacy Reserves LP","Legacy Reserves LP"]
["LINE","Linn Energy, LLC",4106544,"NASDAQ","LINE","Linn Energy LLC","Linn Energy"]
["MMP","Magellan Midstream Partners, L.P.",4093937,"NYSE","MMP","Magellan Midstream Partners LP","Magellan Midstream"]
["MWE","MarkWest Energy Partners, L.P.",4094806,"NYSE","MWE","MarkWest Energy Partners LP","MarkWest Energy"]
["FISH","Marlin Midstream Partners, LP",4397282,"NASDAQ","FISH","Marlin Midstream Partners LP","Marlin Midstream"]
["MMLP","Martin Midstream Partners L.P.",4141978,"NASDAQ","MMLP","Martin Midstream Partners LP","Martin Midstream"]
["MDU","MDU Resources Group, Inc.",4010692,"NYSE","MDU","MDU Resources Group Inc.","MDU Resources Grp"]
["MGEE","MGE Energy, Inc.",4072883,"NASDAQ","MGEE","MGE Energy Inc","MGE Energy Inc"]
["MEP","Midcoast Energy Partners, L.P.",4394348,"NYSE","MEP","Midcoast Energy Partners LP","Midcoast Energy","Enbridge Energy Partners, L.P.","Enbridge Energy Partners, L.P."]
["MPLX","MPLX LP",4334372,"NYSE","MPLX","MPLX LP","MPLX LP","Marathon Petroleum Corporation","Marathon Petroleum Corporation"]
["NFG","National Fuel Gas Company",4010821,"NYSE","NFG","National Fuel Gas Co.","Natl Fuel Gas Co"]
["NRP","Natural Resource Partners L.P.",4098968,"NYSE","NRP","Natural Resource Partners LP","Natural Resource"]
["NJR","New Jersey Resources Corporation",4057128,"NYSE","NJR","New Jersey Resources Corp.","NJ Resources Corp"]
["NSLP","New Source Energy Partners L.P.",4375871,"NYSE","NSLP","New Source Energy Partners LP","New Source Energy"]
["NEE","NextEra Energy, Inc.",3010401,"NYSE","NEE","NextEra Energy Inc.","NextEra Energy Inc"]
["NGL","NGL Energy Partners LP",4288485,"NYSE","NGL","NGL Energy Partners LP","NGL Energy"]
["NKA","Niska Gas Storage Partners LLC",4262258,"NYSE","NKA","Niska Gas Storage Partners LLC","Niska Gas Storage"]
["NI","NiSource Inc.",4057051,"NYSE","NI","NiSource Inc.","NiSource Inc"]
["NU","Northeast Utilities",4057052,"NYSE","NU","Northeast Utilities","NE Utilities"]
["NWN","Northwest Natural Gas Company",4057132,"NYSE","NWN","Northwest Natural Gas Co.","NW Natural Gas Co"]
["NWE","NorthWestern Corporation",4057053,"NYSE","NWE","NorthWestern Corp.","NorthWestern Corp"]
["NRG","NRG Energy, Inc.",4057436,"NYSE","NRG","NRG Energy Inc.","NRG Energy Inc"]
["NYLD","NRG Yield, Inc.",4393379,"NYSE","NYLD","NRG Yield","NRG Yield","NRG Energy, Inc.","NRG Energy, Inc."]
["NS","NuStar Energy L.P.",4096167,"NYSE","NS","NuStar Energy LP","NuStar Energy LP"]
["NSH","NuStar GP Holdings, LLC",4121461,"NYSE","NSH","NuStar GP Holdings","NuStar GP Holdings"]
["NVE","NV Energy, Inc.",4057063,"NYSE","NVE","NV Energy","NV Energy"]
["OGE","OGE Energy Corp.",4057055,"NYSE","OGE","OGE Energy Corp.","OGE Energy Corp"]
["OILT","Oiltanking Partners, L.P.",4293260,"NYSE","OILT","Oiltanking Partners LP","Oiltanking"]
["OKS","ONEOK Partners, L.P.",4065916,"NYSE","OKS","ONEOK Partners LP","ONEOK Partners"]
["OKE","ONEOK, Inc.",4010846,"NYSE","OKE","ONEOK Inc.","ONEOK Inc"]
["ORA","Ormat Technologies, Inc.",4087066,"NYSE","ORA","Ormat Technologies Inc.","Ormat Technologies","Ormat Industries Ltd.","Ormat Industries Ltd."]
["OTTR","Otter Tail Corporation",4057017,"NASDAQ","OTTR","Otter Tail Corp.","Otter Tail Corp"]
["OXF","Oxford Resource Partners, LP",4115048,"NYSE","OXF","Oxford Resource Partners LP","Oxford Rsc Ptnrs"]
["PNG","PAA Natural Gas Storage, L.P.",4258857,"NYSE","PNG","PAA Natural Gas Storage, L.P.","PAA Natural Gas St","Plains All American Pipeline, L.P.","Plains All American Pipeline, L.P."]
["PEGI","Pattern Energy Group Inc.",4404378,"NASDAQ","PEGI","Pattern Energy Group Inc","Pattern Energy","Pattern Energy Group LP","Pattern Energy Group LP"]
["BTU","Peabody Energy Corporation",4065857,"NYSE","BTU","Peabody Energy Corp.","Peabody Energy"]
["POM","Pepco Holdings, Inc.",4078763,"NYSE","POM","Pepco Holdings Inc.","Pepco Holdings"]
["PCG","PG&E Corporation",4057057,"NYSE","PCG","PG&E Corp.","PG&E Corp"]
["PSXP","Phillips 66 Partners LP",4404795,"NYSE","PSXP","Phillips 66 Partners LP","Phillips 66","Phillips 66 Company","Phillips 66 Company"]
["PNY","Piedmont Natural Gas Company, Inc.",4057136,"NYSE","PNY","Piedmont Natural Gas Co.","Piedmont Natural"]
["PNW","Pinnacle West Capital Corporation",4056951,"NYSE","PNW","Pinnacle West Capital Corp.","Pinnacle West Cap"]
["PAA","Plains All American Pipeline, L.P.",4095757,"NYSE","PAA","Plains All American Pipeline","Plains All America"]
["PAGP","Plains GP Holdings, L.P.",4217494,"NYSE","PAGP","Plains GP Holdings LP","Plains GP Holdings"]
["PNM","PNM Resources, Inc.",4006880,"NYSE","PNM","PNM Resources Inc.","PNM Rsrc Inc"]
["POR","Portland General Electric Company",4057019,"NYSE","POR","Portland General Electric Co.","Portland Genl Elec"]
["PSTR","PostRock Energy Corporation",4253074,"NASDAQ","PSTR","PostRock Energy Corp.","PostRock Energy"]
["PPL","PPL Corporation",4057058,"NYSE","PPL","PPL Corp.","PPL Corp"]
["PEG","Public Service Enterprise Group Incorporated",4050911,"NYSE","PEG","Public Svc Enterprise Group","Public Svc Entrprs"]
["PVR","PVR Partners, L.P.",4096587,"NYSE","PVR","PVR Partners LP","PVR Partners"]
["QEPM","QEP Midstream Partners, LP",4390982,"NYSE","QEPM","QEP Midstream Partners LP","QEP Midstream","QEP Resources, Inc.","QEP Resources, Inc."]
["QEP","QEP Resources, Inc.",4065744,"NYSE","QEP","QEP Resources, Inc.","QEP Resources"]
["QRE","QR Energy, LP",4277264,"NYSE","QRE","QR Energy LP","QR Energy"]
[{"$f":"E138","v":"STR"},"Questar Corporation",4007813,"NYSE","STR","Questar Corp.","Questar Corp"]
["RGP","Regency Energy Partners LP",4105265,"NYSE","RGP","Regency Energy Partners LP","Regency Engy Ptnrs"]
["RGCO","RGC Resources, Inc.",4057142,"NASDAQ","RGCO","RGC Resources Inc.","RGC Resources Inc"]
["RNO","Rhino Resource Partners LP",4270280,"NYSE","RNO","Rhino Resource Partners LP","Rhino Resource","Wexford Capital LP","Wexford Capital LP"]
["RRMS","Rose Rock Midstream, L.P.",4308013,"NYSE","RRMS","Rose Rock Midstream LP","Rose Rock","SemGroup Corporation","SemGroup Corporation"]
["SCG","SCANA Corporation",4057061,"NYSE","SCG","SCANA Corp.","SCANA Corp"]
["SEMG","SemGroup Corporation",4135511,"NYSE","SEMG","SemGroup Corp.","SemGroup"]
["SRE","Sempra Energy",4057062,"NYSE","SRE","Sempra Energy","Sempra Engy"]
["SJI","South Jersey Industries, Inc.",4057145,"NYSE","SJI","South Jersey Industries Inc.","S Jersey Indstrs"]
["SXE","Southcross Energy Partners, L.P.",4322016,"NYSE","SXE","Southcross Energy Ptnrs L.P.","Southcross Energy","Southcross Energy, LLC","Charlesbank Capital Partners, LLC"]
["SO","Southern Company",4004298,"NYSE","SO","Southern Co.","Southern Co"]
["SWX","Southwest Gas Corporation",4041957,"NYSE","SWX","Southwest Gas Corp.","Southwest Gas Corp"]
["SWN","Southwestern Energy Company",4011062,"NYSE","SWN","Southwestern Energy Co.","Sthwstrn Energy Co"]
["SE","Spectra Energy Corp",4143385,"NYSE","SE","Spectra Energy Corp","Spectra Energy"]
["SEP","Spectra Energy Partners, LP",4157178,"NYSE","SEP","Spectra Energy Partners LP","Spectra Energy","Spectra Energy Corp","Spectra Energy Corp"]
["SGU","Star Gas Partners, L.P.",4101099,"NYSE","SGU","Star Gas Partners LP","Star Gas Partners"]
["SPH","Suburban Propane Partners, L.P.",4084137,"NYSE","SPH","Suburban Propane","Suburban Propane"]
["SMLP","Summit Midstream Partners, LP",4333951,"NYSE","SMLP","Summit Midstream Partners LP","Summit Midstream","Summit Midstream Partners, LLC","Energy Capital Partners LLC"]
["SXL","Sunoco Logistics Partners L.P.",4112709,"NYSE","SXL","Sunoco Logistics Partners LP","Sunoco Logistics"]
["TEP","Tallgrass Energy Partners, LP",4334068,"NYSE","TEP","Tallgrass Energy Partners LP","Tallgrass Energy"]
["TRGP","Targa Resources Corp.",4276678,"NYSE","TRGP","Targa Resources Corp.","Targa Resources"]
["NGLS","Targa Resources Partners LP",4147538,"NYSE","NGLS","Targa Resources Partners LP","Targa Rsrc Ptnrs"]
["TCP","TC Pipelines, LP",4057541,"NYSE","TCP","TC Pipelines LP","TC Pipelines LP"]
["TE","TECO Energy, Inc.",3010780,"NYSE","TE","TECO Energy Inc.","TECO Energy Inc"]
["TLLP","Tesoro Logistics, L.P.",4329770,"NYSE","TLLP","Tesoro Logistics LP","Tesoro"]
["TLP","TransMontaigne Partners L.P.",4166548,"NYSE","TLP","TransMontaigne Partners LP","TransMontaigne Ptn"]
["UGI","UGI Corporation",4057537,"NYSE","UGI","UGI Corp.","UGI Corp"]
["UIL","UIL Holdings Corporation",4057523,"NYSE","UIL","UIL Holdings Corp.","UIL Hldgs Corp"]
["UTL","Unitil Corporation",4056953,"NYSE","UTL","Unitil Corp.","Unitil Corp"]
["UNS","UNS Energy Corporation",4056952,"NYSE","UNS","UNS Energy Corp.","UNS Energy"]
["VNR","Vanguard Natural Resources, LLC",4158572,"NASDAQ","VNR","Vanguard Natural Resources LLC","Vanguard Natural"]
["VVC","Vectren Corporation",4057065,"NYSE","VVC","Vectren Corp.","Vectren Corp"]
["WLT","Walter Energy, Inc.",4135656,"NYSE","WLT","Walter Energy","Walter"]
["WR","Westar Energy, Inc.",4057066,"NYSE","WR","Westar Energy Inc.","Westar Energy Inc"]
["WGP","Western Gas Equity Partners, LP",4344540,"NYSE","WGP","Western Gas Equity Partners LP","Western Gas Equity","Anadarko Petroleum Corporation","Anadarko Petroleum Corporation"]
[{"$f":"E173","v":"WES"},"Western Gas Partners, LP",4183473,"NYSE","WES","Western Gas Partners LP","Western Gas Ptnrs"]
[{"$f":"E174","v":"WNRL"},"Western Refining Logistics, LP",4401925,"NYSE","WNRL","Western Refining Logistics","WNRL","Western Refining, Inc.","Western Refining, Inc."]
["WLB","Westmoreland Coal Company",4063977,"NASDAQ","WLB","Westmoreland Coal Co.","Westmoreland Coal"]
["WGL","WGL Holdings, Inc.",4007261,"NYSE","WGL","WGL Holdings Inc.","WGL Holdings Inc"]
["WMB","Williams Companies, Inc.",4011165,"NYSE","WMB","Williams Cos. Inc.","Williams Cos Inc"]
["WPZ","Williams Partners L.P.",4102844,"NYSE","WPZ","Williams Partners LP","Williams Ptnrs LP","Williams Companies, Inc.","Williams Companies, Inc."]
["WEC","Wisconsin Energy Corporation",4009725,"NYSE","WEC","Wisconsin Energy Corp.","WI Energy Corp"]
["XEL","Xcel Energy Inc.",4025308,"NYSE","XEL","Xcel Energy Inc.","Xcel Energy Inc"]