Workbook
Name Discount_Rate: 'Table 1'!$I$50
Name Inflation: 'Table 1'!$J$52
Name Real_Discount_Rate: 'Table 1'!$J$54
Name Study_CF: 'Table 5'!$M$8
Name Study_MW: 'Table 5'!$M$6

Sheet Appendix B.3
B1: Appendix B.3
B3: Avoided Cost Prices $/MWh
B4: Utah 2026.Q1 Sch 38
C6: Thermal | D6: Solar Tracking | E6: Wind | F6: Thermal | G6: Solar Tracking | H6: Wind | I6: Thermal | J6: Solar Tracking | K6: Wind
B7: Year | C7: UT 2026.Q2 | D7: =C7 -> UT 2026.Q2 | E7: =C7 -> UT 2026.Q2 | F7: UT 2026.Q1 | G7: =F7 -> UT 2026.Q1 | H7: =F7 -> UT 2026.Q1
C8: 100% CF (2) | D8: 32.25% CF (2) | E8: 29.5% CF (2) | F8: 100% CF (2) | G8: 32.25% CF (2) | H8: 29.5% CF (2) | I8: Difference From 2024.Q4 Filing Filing | J8: =I8 -> Difference From 2024.Q4 Filing Filing | K8: =I8 -> Difference From 2024.Q4 Filing Filing
C9: 2025 IRP Update Preferred Portfolio | F9: 2025 IRP Update Preferred Portfolio
B10: 2026 | C10: =VLOOKUP($B10,'[1]Table 1'!$B$13:$G$38,6,FALSE) -> 17.277833 | D10: =VLOOKUP($B10,'[2]Table 1'!$B$13:$G$38,6,FALSE) -> 11.582875 | E10: =VLOOKUP($B10,'Table 1'!$B$13:$G$38,6,FALSE) -> 13.037516 | F10: =VLOOKUP($B10,'[3]Table 1'!$B$13:$G$38,6,FALSE) -> 18.2741 | G10: =VLOOKUP($B10,'[4]Table 1'!$B$13:$G$38,6,FALSE) -> 11.336293 | H10: =VLOOKUP($B10,'[5]Table 1'!$B$13:$G$38,6,FALSE) -> 13.456158 | I10: =C10-F10 -> -0.99626644 | J10: =D10-G10 -> 0.24658139 | K10: =E10-H10 -> -0.41864206
B11: =B10+1 -> 2027 | C11: =VLOOKUP($B11,'[1]Table 1'!$B$13:$G$38,6,FALSE) -> 25.20573 | D11: =VLOOKUP($B11,'[2]Table 1'!$B$13:$G$38,6,FALSE) -> 16.369263 | E11: =VLOOKUP($B11,'Table 1'!$B$13:$G$38,6,FALSE) -> 19.057262 | F11: =VLOOKUP($B11,'[3]Table 1'!$B$13:$G$38,6,FALSE) -> 26.664403 | G11: =VLOOKUP($B11,'[4]Table 1'!$B$13:$G$38,6,FALSE) -> 15.256906 | H11: =VLOOKUP($B11,'[5]Table 1'!$B$13:$G$38,6,FALSE) -> 19.113969 | I11: =C11-F11 -> -1.4586728 | J11: =D11-G11 -> 1.1123567 | K11: =E11-H11 -> -0.056706983
B12: =B11+1 -> 2028 | C12: =VLOOKUP($B12,'[1]Table 1'!$B$13:$G$38,6,FALSE) -> 29.543891 | D12: =VLOOKUP($B12,'[2]Table 1'!$B$13:$G$38,6,FALSE) -> 20.612135 | E12: =VLOOKUP($B12,'Table 1'!$B$13:$G$38,6,FALSE) -> 23.168734 | F12: =VLOOKUP($B12,'[3]Table 1'!$B$13:$G$38,6,FALSE) -> 29.698666 | G12: =VLOOKUP($B12,'[4]Table 1'!$B$13:$G$38,6,FALSE) -> 18.603805 | H12: =VLOOKUP($B12,'[5]Table 1'!$B$13:$G$38,6,FALSE) -> 22.196511 | I12: =C12-F12 -> -0.15477545 | J12: =D12-G12 -> 2.0083301 | K12: =E12-H12 -> 0.97222303
B13: =B12+1 -> 2029 | C13: =VLOOKUP($B13,'[1]Table 1'!$B$13:$G$38,6,FALSE) -> 32.864368 | D13: =VLOOKUP($B13,'[2]Table 1'!$B$13:$G$38,6,FALSE) -> 21.245572 | E13: =VLOOKUP($B13,'Table 1'!$B$13:$G$38,6,FALSE) -> 25.251297 | F13: =VLOOKUP($B13,'[3]Table 1'!$B$13:$G$38,6,FALSE) -> 35.917676 | G13: =VLOOKUP($B13,'[4]Table 1'!$B$13:$G$38,6,FALSE) -> 21.722009 | H13: =VLOOKUP($B13,'[5]Table 1'!$B$13:$G$38,6,FALSE) -> 25.971539 | I13: =C13-F13 -> -3.053308 | J13: =D13-G13 -> -0.47643719 | K13: =E13-H13 -> -0.7202419
B14: =B13+1 -> 2030 | C14: =VLOOKUP($B14,'[1]Table 1'!$B$13:$G$38,6,FALSE) -> 46.309797 | D14: =VLOOKUP($B14,'[2]Table 1'!$B$13:$G$38,6,FALSE) -> 31.231664 | E14: =VLOOKUP($B14,'Table 1'!$B$13:$G$38,6,FALSE) -> 38.005499 | F14: =VLOOKUP($B14,'[3]Table 1'!$B$13:$G$38,6,FALSE) -> 47.687553 | G14: =VLOOKUP($B14,'[4]Table 1'!$B$13:$G$38,6,FALSE) -> 30.390977 | H14: =VLOOKUP($B14,'[5]Table 1'!$B$13:$G$38,6,FALSE) -> 37.413761 | I14: =C14-F14 -> -1.377756 | J14: =D14-G14 -> 0.84068699 | K14: =E14-H14 -> 0.59173768
B15: =B14+1 -> 2031 | C15: =VLOOKUP($B15,'[1]Table 1'!$B$13:$G$38,6,FALSE) -> 60.683247 | D15: =VLOOKUP($B15,'[2]Table 1'!$B$13:$G$38,6,FALSE) -> 41.329739 | E15: =VLOOKUP($B15,'Table 1'!$B$13:$G$38,6,FALSE) -> 49.872836 | F15: =VLOOKUP($B15,'[3]Table 1'!$B$13:$G$38,6,FALSE) -> 58.90113 | G15: =VLOOKUP($B15,'[4]Table 1'!$B$13:$G$38,6,FALSE) -> 37.412714 | H15: =VLOOKUP($B15,'[5]Table 1'!$B$13:$G$38,6,FALSE) -> 47.727472 | I15: =C15-F15 -> 1.7821162 | J15: =D15-G15 -> 3.9170252 | K15: =E15-H15 -> 2.1453636
B16: =B15+1 -> 2032 | C16: =VLOOKUP($B16,'[1]Table 1'!$B$13:$G$38,6,FALSE) -> 61.580683 | D16: =VLOOKUP($B16,'[2]Table 1'!$B$13:$G$38,6,FALSE) -> 42.473031 | E16: =VLOOKUP($B16,'Table 1'!$B$13:$G$38,6,FALSE) -> 50.539774 | F16: =VLOOKUP($B16,'[3]Table 1'!$B$13:$G$38,6,FALSE) -> 59.796019 | G16: =VLOOKUP($B16,'[4]Table 1'!$B$13:$G$38,6,FALSE) -> 37.614122 | H16: =VLOOKUP($B16,'[5]Table 1'!$B$13:$G$38,6,FALSE) -> 47.42931 | I16: =C16-F16 -> 1.7846645 | J16: =D16-G16 -> 4.8589096 | K16: =E16-H16 -> 3.1104632
B17: =B16+1 -> 2033 | C17: =VLOOKUP($B17,'[1]Table 1'!$B$13:$G$38,6,FALSE) -> 62.420911 | D17: =VLOOKUP($B17,'[2]Table 1'!$B$13:$G$38,6,FALSE) -> 40.888477 | E17: =VLOOKUP($B17,'Table 1'!$B$13:$G$38,6,FALSE) -> 48.992485 | F17: =VLOOKUP($B17,'[3]Table 1'!$B$13:$G$38,6,FALSE) -> 60.85424 | G17: =VLOOKUP($B17,'[4]Table 1'!$B$13:$G$38,6,FALSE) -> 36.99444 | H17: =VLOOKUP($B17,'[5]Table 1'!$B$13:$G$38,6,FALSE) -> 46.732631 | I17: =C17-F17 -> 1.5666711 | J17: =D17-G17 -> 3.8940369 | K17: =E17-H17 -> 2.2598546
B18: =B17+1 -> 2034 | C18: =VLOOKUP($B18,'[1]Table 1'!$B$13:$G$38,6,FALSE) -> 64.006477 | D18: =VLOOKUP($B18,'[2]Table 1'!$B$13:$G$38,6,FALSE) -> 41.169947 | E18: =VLOOKUP($B18,'Table 1'!$B$13:$G$38,6,FALSE) -> 50.225192 | F18: =VLOOKUP($B18,'[3]Table 1'!$B$13:$G$38,6,FALSE) -> 64.220702 | G18: =VLOOKUP($B18,'[4]Table 1'!$B$13:$G$38,6,FALSE) -> 38.646079 | H18: =VLOOKUP($B18,'[5]Table 1'!$B$13:$G$38,6,FALSE) -> 49.842985 | I18: =C18-F18 -> -0.21422475 | J18: =D18-G18 -> 2.5238679 | K18: =E18-H18 -> 0.38220642
B19: =B18+1 -> 2035 | C19: =VLOOKUP($B19,'[1]Table 1'!$B$13:$G$38,6,FALSE) -> 65.450039 | D19: =VLOOKUP($B19,'[2]Table 1'!$B$13:$G$38,6,FALSE) -> 42.537942 | E19: =VLOOKUP($B19,'Table 1'!$B$13:$G$38,6,FALSE) -> 51.800649 | F19: =VLOOKUP($B19,'[3]Table 1'!$B$13:$G$38,6,FALSE) -> 68.075689 | G19: =VLOOKUP($B19,'[4]Table 1'!$B$13:$G$38,6,FALSE) -> 41.499222 | H19: =VLOOKUP($B19,'[5]Table 1'!$B$13:$G$38,6,FALSE) -> 52.583022 | I19: =C19-F19 -> -2.62565 | J19: =D19-G19 -> 1.03872 | K19: =E19-H19 -> -0.78237322
B20: =B19+1 -> 2036 | C20: =VLOOKUP($B20,'[1]Table 1'!$B$13:$G$38,6,FALSE) -> 67.804714 | D20: =VLOOKUP($B20,'[2]Table 1'!$B$13:$G$38,6,FALSE) -> 42.992611 | E20: =VLOOKUP($B20,'Table 1'!$B$13:$G$38,6,FALSE) -> 51.411607 | F20: =VLOOKUP($B20,'[3]Table 1'!$B$13:$G$38,6,FALSE) -> 67.191138 | G20: =VLOOKUP($B20,'[4]Table 1'!$B$13:$G$38,6,FALSE) -> 40.878429 | H20: =VLOOKUP($B20,'[5]Table 1'!$B$13:$G$38,6,FALSE) -> 50.517517 | I20: =C20-F20 -> 0.61357602 | J20: =D20-G20 -> 2.114181 | K20: =E20-H20 -> 0.89409061
B21: =B20+1 -> 2037 | C21: =VLOOKUP($B21,'[1]Table 1'!$B$13:$G$38,6,FALSE) -> 69.795172 | D21: =VLOOKUP($B21,'[2]Table 1'!$B$13:$G$38,6,FALSE) -> 46.230983 | E21: =VLOOKUP($B21,'Table 1'!$B$13:$G$38,6,FALSE) -> 53.860389 | F21: =VLOOKUP($B21,'[3]Table 1'!$B$13:$G$38,6,FALSE) -> 69.092561 | G21: =VLOOKUP($B21,'[4]Table 1'!$B$13:$G$38,6,FALSE) -> 43.789019 | H21: =VLOOKUP($B21,'[5]Table 1'!$B$13:$G$38,6,FALSE) -> 52.075936 | I21: =C21-F21 -> 0.70261052 | J21: =D21-G21 -> 2.4419637 | K21: =E21-H21 -> 1.7844526
B22: =B21+1 -> 2038 | C22: =VLOOKUP($B22,'[1]Table 1'!$B$13:$G$38,6,FALSE) -> 71.242247 | D22: =VLOOKUP($B22,'[2]Table 1'!$B$13:$G$38,6,FALSE) -> 46.92552 | E22: =VLOOKUP($B22,'Table 1'!$B$13:$G$38,6,FALSE) -> 54.365127 | F22: =VLOOKUP($B22,'[3]Table 1'!$B$13:$G$38,6,FALSE) -> 70.457433 | G22: =VLOOKUP($B22,'[4]Table 1'!$B$13:$G$38,6,FALSE) -> 43.813059 | H22: =VLOOKUP($B22,'[5]Table 1'!$B$13:$G$38,6,FALSE) -> 53.573505 | I22: =C22-F22 -> 0.78481434 | J22: =D22-G22 -> 3.1124607 | K22: =E22-H22 -> 0.79162198
... B26: =B25+1 -> 2042 | C26: =VLOOKUP($B26,'[1]Table 1'!$B$13:$G$38,6,FALSE) -> 79.725738 | D26: =VLOOKUP($B26,'[2]Table 1'!$B$13:$G$38,6,FALSE) -> 52.468035 | E26: =VLOOKUP($B26,'Table 1'!$B$13:$G$38,6,FALSE) -> 62.525543 | F26: =VLOOKUP($B26,'[3]Table 1'!$B$13:$G$38,6,FALSE) -> 78.979237 | G26: =VLOOKUP($B26,'[4]Table 1'!$B$13:$G$38,6,FALSE) -> 50.131385 | H26: =VLOOKUP($B26,'[5]Table 1'!$B$13:$G$38,6,FALSE) -> 61.262378 | I26: =C26-F26 -> 0.74650069 | J26: =D26-G26 -> 2.33665 | K26: =E26-H26 -> 1.2631653
B28: 15-Year Levelized Prices (Nominal) @ 6.33% Discount Rate (1) (3)
A30: 2027-2041 | B30: $/MWh | C30: =ROUND(PMT(Discount_Rate,COUNT(C11:C25),-NPV(Discount_Rate,C11:C25)),2) -> 54.69 | D30: =ROUND(PMT(Discount_Rate,COUNT(D11:D25),-NPV(Discount_Rate,D11:D25)),2) -> 36.02 | E30: =ROUND(PMT(Discount_Rate,COUNT(E11:E25),-NPV(Discount_Rate,E11:E25)),2) -> 42.91 | F30: =ROUND(PMT(Discount_Rate,COUNT(F11:F25),-NPV(Discount_Rate,F11:F25)),2) -> 54.81 | G30: =ROUND(PMT(Discount_Rate,COUNT(G11:G25),-NPV(Discount_Rate,G11:G25)),2) -> 33.85 | H30: =ROUND(PMT(Discount_Rate,COUNT(H11:H25),-NPV(Discount_Rate,H11:H25)),2) -> 41.96 | I30: =ROUND(PMT(Discount_Rate,COUNT(I11:I25),-NPV(Discount_Rate,I11:I25)),2) -> -0.13 | J30: =ROUND(PMT(Discount_Rate,COUNT(J11:J25),-NPV(Discount_Rate,J11:J25)),2) -> 2.17 | K30: =ROUND(PMT(Discount_Rate,COUNT(K11:K25),-NPV(Discount_Rate,K11:K25)),2) -> 0.95
I31: =I30/F30 -> -0.00237183 | J31: =J30/G30 -> 0.064106352 | K31: =K30/H30 -> 0.02264061
B36: Footnotes:
B37: (1) Discount Rate - 2025 IRP Update
B38: ="(2) Total Avoided Costs with Capacity, based on stated CF" -> (2) Total Avoided Costs with Capacity, based on stated CF
B39: ="(3) 15-Years: "&B10&" - "&B24&", levelized Annually" -> (3) 15-Years: 2026 - 2040, levelized Annually

Sheet Table 1
B1: Appendix B
B3: Table 1 | K3: =MATCH('Table 5'!K5,'Table 5'!$B$12:$B$264,FALSE)+ROW('Table 5'!B11) -> 13
B4: Avoided Cost Prices | K4: 348 | P4: Capacity Contribution
B5: ='Table 5'!M4& " - "&TEXT(Study_MW,"#.0")&" MW and "&TEXT(Study_CF,"#.0%")&" CF" -> QF - Sch38 - UT - Wind - 80.0 MW and 30.4% CF | P5: 0.72755656 | Q5: =1-'GCC.PX.UTS.2035'!D113 -> 0.975 | R5: =1-'GCC.PX.UTS.2036'!D113 -> 0.975 | S5: =1-'GCC.PX.UTS.2038'!D113 -> 0.975 | FE5: Transmission Deferral (MW)
N7: lookup | P7: =CH7 -> BAT.PX.BDG._.ITC.Li_ion_4hr | Q7: =CI7 -> GCC.PX.UTS._.DF_.H_2x1 | R7: =CJ7 -> GCC.PX.UTS._.DF_.H_2x1 | S7: =CK7 -> GCC.PX.UTS._.DF_.H_2x1 | AX7: =CH7 -> BAT.PX.BDG._.ITC.Li_ion_4hr | AY7: =CI7 -> GCC.PX.UTS._.DF_.H_2x1 | AZ7: =CJ7 -> GCC.PX.UTS._.DF_.H_2x1 | BA7: =CK7 -> GCC.PX.UTS._.DF_.H_2x1 | CG7: mapping to CC_LOLP | CH7: BAT.PX.BDG._.ITC.Li_ion_4hr | CI7: GCC.PX.UTS._.DF_.H_2x1 | CJ7: GCC.PX.UTS._.DF_.H_2x1 | CK7: GCC.PX.UTS._.DF_.H_2x1
G8: Total Price @ | P8: =AX8 -> BAT.PX.BDG._.ITC.Li_ion_4hr | Q8: =AY8 -> GCC.PX.UTS._.DF_.H_2x1 | R8: =AZ8 -> GCC.PX.UTS._.DF_.H_2x1 | S8: =BA8 -> GCC.PX.UTS._.DF_.H_2x1 | AX8: =CH8 -> BAT.PX.BDG._.ITC.Li_ion_4hr | AY8: =CI8 -> GCC.PX.UTS._.DF_.H_2x1 | AZ8: =CJ8 -> GCC.PX.UTS._.DF_.H_2x1 | BA8: =CK8 -> GCC.PX.UTS._.DF_.H_2x1 | CG8: Resource Cost ($/kw-year) | CH8: =CH7 -> BAT.PX.BDG._.ITC.Li_ion_4hr | CI8: =CI7 -> GCC.PX.UTS._.DF_.H_2x1 | CJ8: =CJ7 -> GCC.PX.UTS._.DF_.H_2x1 | CK8: =CK7 -> GCC.PX.UTS._.DF_.H_2x1 | DR8: Deferred Cost (Millions $/year) | FD8: Resource Cost ($/kw-year) | FE8: Deferred Cost (Millions $/year)
C9: Capacity | E9: Energy | G9: =Study_CF -> 0.3041 | P9: =AX9 -> BAT.PX.BDG._.ITC.Li_ion_4hr | Q9: =AY9 -> GCC.PX.UTS._.DF_.H_2x1 | R9: =AZ9 -> GCC.PX.UTS._.DF_.H_2x1 | S9: =BA9 -> GCC.PX.UTS._.DF_.H_2x1 | AX9: =CH9 -> BAT.PX.BDG._.ITC.Li_ion_4hr | AY9: =CI9 -> GCC.PX.UTS._.DF_.H_2x1 | AZ9: =CJ9 -> GCC.PX.UTS._.DF_.H_2x1 | BA9: =CK9 -> GCC.PX.UTS._.DF_.H_2x1 | BB9: =CL9 -> 0 | BC9: =CM9 -> 0 | BD9: =CN9 -> 0 | BE9: =CO9 -> 0 | ... BG9: =CQ9 -> 0 | CH9: =CH8 -> BAT.PX.BDG._.ITC.Li_ion_4hr | CI9: =CI8 -> GCC.PX.UTS._.DF_.H_2x1 | CJ9: =CJ8 -> GCC.PX.UTS._.DF_.H_2x1 | CK9: =CK8 -> GCC.PX.UTS._.DF_.H_2x1 | CL9: =CL8 -> 0 | CM9: =CM8 -> 0 | DR9: =CH9 -> BAT.PX.BDG._.ITC.Li_ion_4hr | DS9: =CI9 -> GCC.PX.UTS._.DF_.H_2x1 | DT9: =CJ9 -> GCC.PX.UTS._.DF_.H_2x1 | DU9: =CK9 -> GCC.PX.UTS._.DF_.H_2x1 | DV9: =CL9 -> 0 | DW9: =CM9 -> 0 | DX9: =CN9 -> 0 | DY9: =CO9 -> 0 | ... ET9: =DJ9 -> 0 | FA9: Total Capacity Deferral | FD9: Cluster 2/3 - Willamette Valley - Fry-Full Circle 230 kV | FE9: =FD9 -> Cluster 2/3 - Willamette Valley - Fry-Full Circle 230 kV
B10: Year | C10: ="Price"&IF(I8<>1," ","") -> Price | E10: Only Price | G10: Capacity Factor
C11: $/kW-yr | E11: $/MWh (2) | G11: $/MWh | P11: MW | Q11: MW | R11: MW | S11: MW | AX11: MW | AY11: MW | AZ11: MW | BA11: MW | CH11: $/kw-year | CI11: $/kw-year | CJ11: $/kw-year | CK11: $/kw-year | CL11: $/kw-year | CM11: $/kw-year | CN11: $/kw-year | CO11: $/kw-year | CP11: $/kw-year | CQ11: $/kw-year | DR11: Millions $/year | DS11: Millions $/year | DT11: Millions $/year | DU11: Millions $/year | DV11: Millions $/year | DW11: Millions $/year | DX11: Millions $/year | DY11: Millions $/year | DZ11: Millions $/year | EA11: Millions $/year | EB11: Millions $/year | EC11: Millions $/year | ED11: Millions $/year | EE11: Millions $/year | EF11: Millions $/year | EG11: Millions $/year | EH11: Millions $/year | EI11: Millions $/year | EJ11: Millions $/year | EK11: Millions $/year | EL11: Millions $/year | EM11: Millions $/year | EN11: Millions $/year | EO11: Millions $/year | EP11: Millions $/year | EQ11: Millions $/year | ER11: Millions $/year | ES11: Millions $/year | ET11: Millions $/year | FA11: Millions $/year | FD11: $/kw-year | FE11: Millions $/year
B13: ='Table 5'!J13 -> 2026 | C13: =(INDEX($FA:$FA,MATCH(B13,$O:$O,0),1)+INDEX($FE:$FE,MATCH(B13,$O:$O,0),1))*1000/Study_MW -> 0 | E13: =SUMIF(INDIRECT("'Table 5'!$J$"&$K$3&":$J$"&$K$4),B13,INDIRECT("'Table 5'!$c$"&$K$3&":$c$"&$K$4))/SUMIF(INDIRECT("'Table 5'!$J$"&$K$3&":$J$"&$K$4),B13,INDIRECT("'Table 5'!$f$"&$K$3&":$f$"&$K$4)) -> 13.037516 | G13: =SUMIF(INDIRECT("'Table 5'!$J$"&$K$3&":$J$"&$K$4),B13,INDIRECT("'Table 5'!$e$"&$K$3&":$e$"&$K$4))/SUMIF(INDIRECT("'Table 5'!$J$"&$K$3&":$J$"&$K$4),B13,INDIRECT("'Table 5'!$f$"&$K$3&":$f$"&$K$4)) -> 13.037516 | O13: =B13 -> 2026 | P13: 0 | Q13: 0 | R13: 0 | S13: 0 | AX13: =P13/P$5 -> 0 | AY13: =Q13/Q$5 -> 0 | AZ13: =R13/R$5 -> 0 | BA13: =S13/S$5 -> 0 | CG13: =O13 -> 2026 | CH13: =INDEX(Table3Compare!$E$6:$E$37,MATCH($CG13,Table3Compare!$A$6:$A$37,0),1) -> 0 | CI13: =INDEX(Table3Compare!$B$6:$B$37,MATCH($CG13,Table3Compare!$A$6:$A$37,0),1) -> 0 | CJ13: =INDEX(Table3Compare!$C$6:$C$37,MATCH($CG13,Table3Compare!$A$6:$A$37,0),MATCH(CJ$9,Table3Compare!$B$5:$K$5,0)) -> 0 | CK13: =INDEX(Table3Compare!$D$6:$D$37,MATCH($CG13,Table3Compare!$A$6:$A$37,0),MATCH(CK$9,Table3Compare!$B$5:$K$5,0)) -> 0 | DR13: =SUM(AX$13:AX13)*CH13/1000 -> 0 | DS13: =SUM(AY$13:AY13)*CI13/1000 -> 0 | DT13: =SUM(AZ$13:AZ13)*CJ13/1000 -> 0 | DU13: =SUM(BA$13:BA13)*CK13/1000 -> 0 | ED13: =SUM(BJ$13:BJ13)*CT13/1000 -> 0 | EE13: =SUM(BK$13:BK13)*CU13/1000 -> 0 | EF13: =SUM(BL$13:BL13)*CV13/1000 -> 0 | EG13: =SUM(BM$13:BM13)*CW13/1000 -> 0 | EH13: =SUM(BN$13:BN13)*CX13/1000 -> 0 | EI13: =SUM(BO$13:BO13)*CY13/1000 -> 0 | EJ13: =SUM(BP$13:BP13)*CZ13/1000 -> 0 | EK13: =SUM(BQ$13:BQ13)*DA13/1000 -> 0 | ... ET13: =SUM(BZ$13:BZ13)*DJ13/1000 -> 0 | FA13: =SUM(DR13:EZ13) -> 0 | FC13: =O13 -> 2026 | FE13: =$FD$5*FD13/1000 -> 0
B14: =B13+1 -> 2027 | C14: =(INDEX($FA:$FA,MATCH(B14,$O:$O,0),1)+INDEX($FE:$FE,MATCH(B14,$O:$O,0),1))*1000/Study_MW -> 0 | E14: =SUMIF(INDIRECT("'Table 5'!$J$"&$K$3&":$J$"&$K$4),B14,INDIRECT("'Table 5'!$c$"&$K$3&":$c$"&$K$4))/SUMIF(INDIRECT("'Table 5'!$J$"&$K$3&":$J$"&$K$4),B14,INDIRECT("'Table 5'!$f$"&$K$3&":$f$"&$K$4)) -> 19.057262 | G14: =SUMIF(INDIRECT("'Table 5'!$J$"&$K$3&":$J$"&$K$4),B14,INDIRECT("'Table 5'!$e$"&$K$3&":$e$"&$K$4))/SUMIF(INDIRECT("'Table 5'!$J$"&$K$3&":$J$"&$K$4),B14,INDIRECT("'Table 5'!$f$"&$K$3&":$f$"&$K$4)) -> 19.057262 | O14: =B14 -> 2027 | P14: 0 | Q14: 0 | R14: 0 | S14: 0 | AX14: =P14/P$5 -> 0 | AY14: =Q14/Q$5 -> 0 | AZ14: =R14/R$5 -> 0 | BA14: =S14/S$5 -> 0 | CG14: =O14 -> 2027 | CH14: =INDEX(Table3Compare!$E$6:$E$37,MATCH($CG14,Table3Compare!$A$6:$A$37,0),1) -> 0 | CI14: =INDEX(Table3Compare!$B$6:$B$37,MATCH($CG14,Table3Compare!$A$6:$A$37,0),1) -> 0 | CJ14: =INDEX(Table3Compare!$C$6:$C$37,MATCH($CG14,Table3Compare!$A$6:$A$37,0),MATCH(CJ$9,Table3Compare!$B$5:$K$5,0)) -> 0 | CK14: =INDEX(Table3Compare!$D$6:$D$37,MATCH($CG14,Table3Compare!$A$6:$A$37,0),MATCH(CK$9,Table3Compare!$B$5:$K$5,0)) -> 0 | DR14: =SUM(AX$13:AX14)*CH14/1000 -> 0 | DS14: =SUM(AY$13:AY14)*CI14/1000 -> 0 | DT14: =SUM(AZ$13:AZ14)*CJ14/1000 -> 0 | DU14: =SUM(BA$13:BA14)*CK14/1000 -> 0 | ED14: =SUM(BJ$13:BJ14)*CT14/1000 -> 0 | EE14: =SUM(BK$13:BK14)*CU14/1000 -> 0 | EF14: =SUM(BL$13:BL14)*CV14/1000 -> 0 | EG14: =SUM(BM$13:BM14)*CW14/1000 -> 0 | EH14: =SUM(BN$13:BN14)*CX14/1000 -> 0 | EI14: =SUM(BO$13:BO14)*CY14/1000 -> 0 | EJ14: =SUM(BP$13:BP14)*CZ14/1000 -> 0 | EK14: =SUM(BQ$13:BQ14)*DA14/1000 -> 0 | ... ET14: =SUM(BZ$13:BZ14)*DJ14/1000 -> 0 | FA14: =SUM(DR14:EZ14) -> 0 | FC14: =O14 -> 2027 | FE14: =$FD$5*FD14/1000 -> 0
B15: =B14+1 -> 2028 | C15: =(INDEX($FA:$FA,MATCH(B15,$O:$O,0),1)+INDEX($FE:$FE,MATCH(B15,$O:$O,0),1))*1000/Study_MW -> 0 | E15: =SUMIF(INDIRECT("'Table 5'!$J$"&$K$3&":$J$"&$K$4),B15,INDIRECT("'Table 5'!$c$"&$K$3&":$c$"&$K$4))/SUMIF(INDIRECT("'Table 5'!$J$"&$K$3&":$J$"&$K$4),B15,INDIRECT("'Table 5'!$f$"&$K$3&":$f$"&$K$4)) -> 23.168734 | G15: =SUMIF(INDIRECT("'Table 5'!$J$"&$K$3&":$J$"&$K$4),B15,INDIRECT("'Table 5'!$e$"&$K$3&":$e$"&$K$4))/SUMIF(INDIRECT("'Table 5'!$J$"&$K$3&":$J$"&$K$4),B15,INDIRECT("'Table 5'!$f$"&$K$3&":$f$"&$K$4)) -> 23.168734 | O15: =B15 -> 2028 | P15: 0 | Q15: 0 | R15: 0 | S15: 0 | AX15: =P15/P$5 -> 0 | AY15: =Q15/Q$5 -> 0 | AZ15: =R15/R$5 -> 0 | BA15: =S15/S$5 -> 0 | CG15: =O15 -> 2028 | CH15: =INDEX(Table3Compare!$E$6:$E$37,MATCH($CG15,Table3Compare!$A$6:$A$37,0),1) -> 0 | CI15: =INDEX(Table3Compare!$B$6:$B$37,MATCH($CG15,Table3Compare!$A$6:$A$37,0),1) -> 0 | CJ15: =INDEX(Table3Compare!$C$6:$C$37,MATCH($CG15,Table3Compare!$A$6:$A$37,0),MATCH(CJ$9,Table3Compare!$B$5:$K$5,0)) -> 0 | CK15: =INDEX(Table3Compare!$D$6:$D$37,MATCH($CG15,Table3Compare!$A$6:$A$37,0),MATCH(CK$9,Table3Compare!$B$5:$K$5,0)) -> 0 | DR15: =SUM(AX$13:AX15)*CH15/1000 -> 0 | DS15: =SUM(AY$13:AY15)*CI15/1000 -> 0 | DT15: =SUM(AZ$13:AZ15)*CJ15/1000 -> 0 | DU15: =SUM(BA$13:BA15)*CK15/1000 -> 0 | ED15: =SUM(BJ$13:BJ15)*CT15/1000 -> 0 | EE15: =SUM(BK$13:BK15)*CU15/1000 -> 0 | EF15: =SUM(BL$13:BL15)*CV15/1000 -> 0 | EG15: =SUM(BM$13:BM15)*CW15/1000 -> 0 | EH15: =SUM(BN$13:BN15)*CX15/1000 -> 0 | EI15: =SUM(BO$13:BO15)*CY15/1000 -> 0 | EJ15: =SUM(BP$13:BP15)*CZ15/1000 -> 0 | EK15: =SUM(BQ$13:BQ15)*DA15/1000 -> 0 | ... ET15: =SUM(BZ$13:BZ15)*DJ15/1000 -> 0 | FA15: =SUM(DR15:EZ15) -> 0 | FC15: =O15 -> 2028 | FE15: =$FD$5*FD15/1000 -> 0
B16: =B15+1 -> 2029 | C16: =(INDEX($FA:$FA,MATCH(B16,$O:$O,0),1)+INDEX($FE:$FE,MATCH(B16,$O:$O,0),1))*1000/Study_MW -> 0 | E16: =SUMIF(INDIRECT("'Table 5'!$J$"&$K$3&":$J$"&$K$4),B16,INDIRECT("'Table 5'!$c$"&$K$3&":$c$"&$K$4))/SUMIF(INDIRECT("'Table 5'!$J$"&$K$3&":$J$"&$K$4),B16,INDIRECT("'Table 5'!$f$"&$K$3&":$f$"&$K$4)) -> 25.251297 | G16: =SUMIF(INDIRECT("'Table 5'!$J$"&$K$3&":$J$"&$K$4),B16,INDIRECT("'Table 5'!$e$"&$K$3&":$e$"&$K$4))/SUMIF(INDIRECT("'Table 5'!$J$"&$K$3&":$J$"&$K$4),B16,INDIRECT("'Table 5'!$f$"&$K$3&":$f$"&$K$4)) -> 25.251297 | O16: =B16 -> 2029 | P16: 0 | Q16: 0 | R16: 0 | S16: 0 | AX16: =P16/P$5 -> 0 | AY16: =Q16/Q$5 -> 0 | AZ16: =R16/R$5 -> 0 | BA16: =S16/S$5 -> 0 | CG16: =O16 -> 2029 | CH16: =INDEX(Table3Compare!$E$6:$E$37,MATCH($CG16,Table3Compare!$A$6:$A$37,0),1) -> 0 | CI16: =INDEX(Table3Compare!$B$6:$B$37,MATCH($CG16,Table3Compare!$A$6:$A$37,0),1) -> 0 | CJ16: =INDEX(Table3Compare!$C$6:$C$37,MATCH($CG16,Table3Compare!$A$6:$A$37,0),MATCH(CJ$9,Table3Compare!$B$5:$K$5,0)) -> 0 | CK16: =INDEX(Table3Compare!$D$6:$D$37,MATCH($CG16,Table3Compare!$A$6:$A$37,0),MATCH(CK$9,Table3Compare!$B$5:$K$5,0)) -> 0 | DR16: =SUM(AX$13:AX16)*CH16/1000 -> 0 | DS16: =SUM(AY$13:AY16)*CI16/1000 -> 0 | DT16: =SUM(AZ$13:AZ16)*CJ16/1000 -> 0 | DU16: =SUM(BA$13:BA16)*CK16/1000 -> 0 | ED16: =SUM(BJ$13:BJ16)*CT16/1000 -> 0 | EE16: =SUM(BK$13:BK16)*CU16/1000 -> 0 | EF16: =SUM(BL$13:BL16)*CV16/1000 -> 0 | EG16: =SUM(BM$13:BM16)*CW16/1000 -> 0 | EH16: =SUM(BN$13:BN16)*CX16/1000 -> 0 | EI16: =SUM(BO$13:BO16)*CY16/1000 -> 0 | EJ16: =SUM(BP$13:BP16)*CZ16/1000 -> 0 | EK16: =SUM(BQ$13:BQ16)*DA16/1000 -> 0 | ... ET16: =SUM(BZ$13:BZ16)*DJ16/1000 -> 0 | FA16: =SUM(DR16:EZ16) -> 0 | FC16: =O16 -> 2029 | FE16: =$FD$5*FD16/1000 -> 0
B17: =B16+1 -> 2030 | C17: =(INDEX($FA:$FA,MATCH(B17,$O:$O,0),1)+INDEX($FE:$FE,MATCH(B17,$O:$O,0),1))*1000/Study_MW -> 0 | E17: =SUMIF(INDIRECT("'Table 5'!$J$"&$K$3&":$J$"&$K$4),B17,INDIRECT("'Table 5'!$c$"&$K$3&":$c$"&$K$4))/SUMIF(INDIRECT("'Table 5'!$J$"&$K$3&":$J$"&$K$4),B17,INDIRECT("'Table 5'!$f$"&$K$3&":$f$"&$K$4)) -> 38.005499 | G17: =SUMIF(INDIRECT("'Table 5'!$J$"&$K$3&":$J$"&$K$4),B17,INDIRECT("'Table 5'!$e$"&$K$3&":$e$"&$K$4))/SUMIF(INDIRECT("'Table 5'!$J$"&$K$3&":$J$"&$K$4),B17,INDIRECT("'Table 5'!$f$"&$K$3&":$f$"&$K$4)) -> 38.005499 | O17: =B17 -> 2030 | P17: 0 | Q17: 0 | R17: 0 | S17: 0 | AX17: =P17/P$5 -> 0 | AY17: =Q17/Q$5 -> 0 | AZ17: =R17/R$5 -> 0 | BA17: =S17/S$5 -> 0 | CG17: =O17 -> 2030 | CH17: =INDEX(Table3Compare!$E$6:$E$37,MATCH($CG17,Table3Compare!$A$6:$A$37,0),1) -> 0 | CI17: =INDEX(Table3Compare!$B$6:$B$37,MATCH($CG17,Table3Compare!$A$6:$A$37,0),1) -> 0 | CJ17: =INDEX(Table3Compare!$C$6:$C$37,MATCH($CG17,Table3Compare!$A$6:$A$37,0),MATCH(CJ$9,Table3Compare!$B$5:$K$5,0)) -> 0 | CK17: =INDEX(Table3Compare!$D$6:$D$37,MATCH($CG17,Table3Compare!$A$6:$A$37,0),MATCH(CK$9,Table3Compare!$B$5:$K$5,0)) -> 0 | DR17: =SUM(AX$13:AX17)*CH17/1000 -> 0 | DS17: =SUM(AY$13:AY17)*CI17/1000 -> 0 | DT17: =SUM(AZ$13:AZ17)*CJ17/1000 -> 0 | DU17: =SUM(BA$13:BA17)*CK17/1000 -> 0 | ED17: =SUM(BJ$13:BJ17)*CT17/1000 -> 0 | EE17: =SUM(BK$13:BK17)*CU17/1000 -> 0 | EF17: =SUM(BL$13:BL17)*CV17/1000 -> 0 | EG17: =SUM(BM$13:BM17)*CW17/1000 -> 0 | EH17: =SUM(BN$13:BN17)*CX17/1000 -> 0 | EI17: =SUM(BO$13:BO17)*CY17/1000 -> 0 | EJ17: =SUM(BP$13:BP17)*CZ17/1000 -> 0 | EK17: =SUM(BQ$13:BQ17)*DA17/1000 -> 0 | ... ET17: =SUM(BZ$13:BZ17)*DJ17/1000 -> 0 | FA17: =SUM(DR17:EZ17) -> 0 | FC17: =O17 -> 2030 | FE17: =$FD$5*FD17/1000 -> 0
B18: =B17+1 -> 2031 | C18: =(INDEX($FA:$FA,MATCH(B18,$O:$O,0),1)+INDEX($FE:$FE,MATCH(B18,$O:$O,0),1))*1000/Study_MW -> 0 | E18: =SUMIF(INDIRECT("'Table 5'!$J$"&$K$3&":$J$"&$K$4),B18,INDIRECT("'Table 5'!$c$"&$K$3&":$c$"&$K$4))/SUMIF(INDIRECT("'Table 5'!$J$"&$K$3&":$J$"&$K$4),B18,INDIRECT("'Table 5'!$f$"&$K$3&":$f$"&$K$4)) -> 49.872836 | G18: =SUMIF(INDIRECT("'Table 5'!$J$"&$K$3&":$J$"&$K$4),B18,INDIRECT("'Table 5'!$e$"&$K$3&":$e$"&$K$4))/SUMIF(INDIRECT("'Table 5'!$J$"&$K$3&":$J$"&$K$4),B18,INDIRECT("'Table 5'!$f$"&$K$3&":$f$"&$K$4)) -> 49.872836 | O18: =B18 -> 2031 | P18: 0 | Q18: 0 | R18: 0 | S18: 0 | AX18: =P18/P$5 -> 0 | AY18: =Q18/Q$5 -> 0 | AZ18: =R18/R$5 -> 0 | BA18: =S18/S$5 -> 0 | CG18: =O18 -> 2031 | CH18: =INDEX(Table3Compare!$E$6:$E$37,MATCH($CG18,Table3Compare!$A$6:$A$37,0),1) -> 123.16686 | CI18: =INDEX(Table3Compare!$B$6:$B$37,MATCH($CG18,Table3Compare!$A$6:$A$37,0),1) -> 0 | CJ18: =INDEX(Table3Compare!$C$6:$C$37,MATCH($CG18,Table3Compare!$A$6:$A$37,0),MATCH(CJ$9,Table3Compare!$B$5:$K$5,0)) -> 0 | CK18: =INDEX(Table3Compare!$D$6:$D$37,MATCH($CG18,Table3Compare!$A$6:$A$37,0),MATCH(CK$9,Table3Compare!$B$5:$K$5,0)) -> 0 | DR18: =SUM(AX$13:AX18)*CH18/1000 -> 0 | DS18: =SUM(AY$13:AY18)*CI18/1000 -> 0 | DT18: =SUM(AZ$13:AZ18)*CJ18/1000 -> 0 | DU18: =SUM(BA$13:BA18)*CK18/1000 -> 0 | ED18: =SUM(BJ$13:BJ18)*CT18/1000 -> 0 | EE18: =SUM(BK$13:BK18)*CU18/1000 -> 0 | EF18: =SUM(BL$13:BL18)*CV18/1000 -> 0 | EG18: =SUM(BM$13:BM18)*CW18/1000 -> 0 | EH18: =SUM(BN$13:BN18)*CX18/1000 -> 0 | EI18: =SUM(BO$13:BO18)*CY18/1000 -> 0 | EJ18: =SUM(BP$13:BP18)*CZ18/1000 -> 0 | EK18: =SUM(BQ$13:BQ18)*DA18/1000 -> 0 | ... ET18: =SUM(BZ$13:BZ18)*DJ18/1000 -> 0 | FA18: =SUM(DR18:EZ18) -> 0 | FC18: =O18 -> 2031 | FE18: =$FD$5*FD18/1000 -> 0
B19: =B18+1 -> 2032 | C19: =(INDEX($FA:$FA,MATCH(B19,$O:$O,0),1)+INDEX($FE:$FE,MATCH(B19,$O:$O,0),1))*1000/Study_MW -> 0 | E19: =SUMIF(INDIRECT("'Table 5'!$J$"&$K$3&":$J$"&$K$4),B19,INDIRECT("'Table 5'!$c$"&$K$3&":$c$"&$K$4))/SUMIF(INDIRECT("'Table 5'!$J$"&$K$3&":$J$"&$K$4),B19,INDIRECT("'Table 5'!$f$"&$K$3&":$f$"&$K$4)) -> 50.539774 | G19: =SUMIF(INDIRECT("'Table 5'!$J$"&$K$3&":$J$"&$K$4),B19,INDIRECT("'Table 5'!$e$"&$K$3&":$e$"&$K$4))/SUMIF(INDIRECT("'Table 5'!$J$"&$K$3&":$J$"&$K$4),B19,INDIRECT("'Table 5'!$f$"&$K$3&":$f$"&$K$4)) -> 50.539774 | O19: =B19 -> 2032 | P19: 0 | Q19: 0 | R19: 0 | S19: 0 | AX19: =P19/P$5 -> 0 | AY19: =Q19/Q$5 -> 0 | AZ19: =R19/R$5 -> 0 | BA19: =S19/S$5 -> 0 | CG19: =O19 -> 2032 | CH19: =INDEX(Table3Compare!$E$6:$E$37,MATCH($CG19,Table3Compare!$A$6:$A$37,0),1) -> 125.90116 | CI19: =INDEX(Table3Compare!$B$6:$B$37,MATCH($CG19,Table3Compare!$A$6:$A$37,0),1) -> 0 | CJ19: =INDEX(Table3Compare!$C$6:$C$37,MATCH($CG19,Table3Compare!$A$6:$A$37,0),MATCH(CJ$9,Table3Compare!$B$5:$K$5,0)) -> 0 | CK19: =INDEX(Table3Compare!$D$6:$D$37,MATCH($CG19,Table3Compare!$A$6:$A$37,0),MATCH(CK$9,Table3Compare!$B$5:$K$5,0)) -> 0 | DR19: =SUM(AX$13:AX19)*CH19/1000 -> 0 | DS19: =SUM(AY$13:AY19)*CI19/1000 -> 0 | DT19: =SUM(AZ$13:AZ19)*CJ19/1000 -> 0 | DU19: =SUM(BA$13:BA19)*CK19/1000 -> 0 | ED19: =SUM(BJ$13:BJ19)*CT19/1000 -> 0 | EE19: =SUM(BK$13:BK19)*CU19/1000 -> 0 | EF19: =SUM(BL$13:BL19)*CV19/1000 -> 0 | EG19: =SUM(BM$13:BM19)*CW19/1000 -> 0 | EH19: =SUM(BN$13:BN19)*CX19/1000 -> 0 | EI19: =SUM(BO$13:BO19)*CY19/1000 -> 0 | EJ19: =SUM(BP$13:BP19)*CZ19/1000 -> 0 | EK19: =SUM(BQ$13:BQ19)*DA19/1000 -> 0 | ... ET19: =SUM(BZ$13:BZ19)*DJ19/1000 -> 0 | FA19: =SUM(DR19:EZ19) -> 0 | FC19: =O19 -> 2032 | FE19: =$FD$5*FD19/1000 -> 0
B20: =B19+1 -> 2033 | C20: =(INDEX($FA:$FA,MATCH(B20,$O:$O,0),1)+INDEX($FE:$FE,MATCH(B20,$O:$O,0),1))*1000/Study_MW -> 0 | E20: =SUMIF(INDIRECT("'Table 5'!$J$"&$K$3&":$J$"&$K$4),B20,INDIRECT("'Table 5'!$c$"&$K$3&":$c$"&$K$4))/SUMIF(INDIRECT("'Table 5'!$J$"&$K$3&":$J$"&$K$4),B20,INDIRECT("'Table 5'!$f$"&$K$3&":$f$"&$K$4)) -> 48.992485 | G20: =SUMIF(INDIRECT("'Table 5'!$J$"&$K$3&":$J$"&$K$4),B20,INDIRECT("'Table 5'!$e$"&$K$3&":$e$"&$K$4))/SUMIF(INDIRECT("'Table 5'!$J$"&$K$3&":$J$"&$K$4),B20,INDIRECT("'Table 5'!$f$"&$K$3&":$f$"&$K$4)) -> 48.992485 | O20: =B20 -> 2033 | P20: 0 | Q20: 0 | R20: 0 | S20: 0 | AX20: =P20/P$5 -> 0 | AY20: =Q20/Q$5 -> 0 | AZ20: =R20/R$5 -> 0 | BA20: =S20/S$5 -> 0 | CG20: =O20 -> 2033 | CH20: =INDEX(Table3Compare!$E$6:$E$37,MATCH($CG20,Table3Compare!$A$6:$A$37,0),1) -> 128.69617 | CI20: =INDEX(Table3Compare!$B$6:$B$37,MATCH($CG20,Table3Compare!$A$6:$A$37,0),1) -> 0 | CJ20: =INDEX(Table3Compare!$C$6:$C$37,MATCH($CG20,Table3Compare!$A$6:$A$37,0),MATCH(CJ$9,Table3Compare!$B$5:$K$5,0)) -> 0 | CK20: =INDEX(Table3Compare!$D$6:$D$37,MATCH($CG20,Table3Compare!$A$6:$A$37,0),MATCH(CK$9,Table3Compare!$B$5:$K$5,0)) -> 0 | DR20: =SUM(AX$13:AX20)*CH20/1000 -> 0 | DS20: =SUM(AY$13:AY20)*CI20/1000 -> 0 | DT20: =SUM(AZ$13:AZ20)*CJ20/1000 -> 0 | DU20: =SUM(BA$13:BA20)*CK20/1000 -> 0 | ED20: =SUM(BJ$13:BJ20)*CT20/1000 -> 0 | EE20: =SUM(BK$13:BK20)*CU20/1000 -> 0 | EF20: =SUM(BL$13:BL20)*CV20/1000 -> 0 | EG20: =SUM(BM$13:BM20)*CW20/1000 -> 0 | EH20: =SUM(BN$13:BN20)*CX20/1000 -> 0 | EI20: =SUM(BO$13:BO20)*CY20/1000 -> 0 | EJ20: =SUM(BP$13:BP20)*CZ20/1000 -> 0 | EK20: =SUM(BQ$13:BQ20)*DA20/1000 -> 0 | ... ET20: =SUM(BZ$13:BZ20)*DJ20/1000 -> 0 | FA20: =SUM(DR20:EZ20) -> 0 | FC20: =O20 -> 2033 | FE20: =$FD$5*FD20/1000 -> 0
B21: =B20+1 -> 2034 | C21: =(INDEX($FA:$FA,MATCH(B21,$O:$O,0),1)+INDEX($FE:$FE,MATCH(B21,$O:$O,0),1))*1000/Study_MW -> 0 | E21: =SUMIF(INDIRECT("'Table 5'!$J$"&$K$3&":$J$"&$K$4),B21,INDIRECT("'Table 5'!$c$"&$K$3&":$c$"&$K$4))/SUMIF(INDIRECT("'Table 5'!$J$"&$K$3&":$J$"&$K$4),B21,INDIRECT("'Table 5'!$f$"&$K$3&":$f$"&$K$4)) -> 50.225192 | G21: =SUMIF(INDIRECT("'Table 5'!$J$"&$K$3&":$J$"&$K$4),B21,INDIRECT("'Table 5'!$e$"&$K$3&":$e$"&$K$4))/SUMIF(INDIRECT("'Table 5'!$J$"&$K$3&":$J$"&$K$4),B21,INDIRECT("'Table 5'!$f$"&$K$3&":$f$"&$K$4)) -> 50.225192 | O21: =B21 -> 2034 | P21: 0 | Q21: 0 | R21: 0 | S21: 0 | AX21: =P21/P$5 -> 0 | AY21: =Q21/Q$5 -> 0 | AZ21: =R21/R$5 -> 0 | BA21: =S21/S$5 -> 0 | CG21: =O21 -> 2034 | CH21: =INDEX(Table3Compare!$E$6:$E$37,MATCH($CG21,Table3Compare!$A$6:$A$37,0),1) -> 131.55322 | CI21: =INDEX(Table3Compare!$B$6:$B$37,MATCH($CG21,Table3Compare!$A$6:$A$37,0),1) -> 0 | CJ21: =INDEX(Table3Compare!$C$6:$C$37,MATCH($CG21,Table3Compare!$A$6:$A$37,0),MATCH(CJ$9,Table3Compare!$B$5:$K$5,0)) -> 0 | CK21: =INDEX(Table3Compare!$D$6:$D$37,MATCH($CG21,Table3Compare!$A$6:$A$37,0),MATCH(CK$9,Table3Compare!$B$5:$K$5,0)) -> 0 | DR21: =SUM(AX$13:AX21)*CH21/1000 -> 0 | DS21: =SUM(AY$13:AY21)*CI21/1000 -> 0 | DT21: =SUM(AZ$13:AZ21)*CJ21/1000 -> 0 | DU21: =SUM(BA$13:BA21)*CK21/1000 -> 0 | ED21: =SUM(BJ$13:BJ21)*CT21/1000 -> 0 | EE21: =SUM(BK$13:BK21)*CU21/1000 -> 0 | EF21: =SUM(BL$13:BL21)*CV21/1000 -> 0 | EG21: =SUM(BM$13:BM21)*CW21/1000 -> 0 | EH21: =SUM(BN$13:BN21)*CX21/1000 -> 0 | EI21: =SUM(BO$13:BO21)*CY21/1000 -> 0 | EJ21: =SUM(BP$13:BP21)*CZ21/1000 -> 0 | EK21: =SUM(BQ$13:BQ21)*DA21/1000 -> 0 | ... ET21: =SUM(BZ$13:BZ21)*DJ21/1000 -> 0 | FA21: =SUM(DR21:EZ21) -> 0 | FC21: =O21 -> 2034 | FE21: =$FD$5*FD21/1000 -> 0
B22: =B21+1 -> 2035 | C22: =(INDEX($FA:$FA,MATCH(B22,$O:$O,0),1)+INDEX($FE:$FE,MATCH(B22,$O:$O,0),1))*1000/Study_MW -> 0 | E22: =SUMIF(INDIRECT("'Table 5'!$J$"&$K$3&":$J$"&$K$4),B22,INDIRECT("'Table 5'!$c$"&$K$3&":$c$"&$K$4))/SUMIF(INDIRECT("'Table 5'!$J$"&$K$3&":$J$"&$K$4),B22,INDIRECT("'Table 5'!$f$"&$K$3&":$f$"&$K$4)) -> 51.800649 | G22: =SUMIF(INDIRECT("'Table 5'!$J$"&$K$3&":$J$"&$K$4),B22,INDIRECT("'Table 5'!$e$"&$K$3&":$e$"&$K$4))/SUMIF(INDIRECT("'Table 5'!$J$"&$K$3&":$J$"&$K$4),B22,INDIRECT("'Table 5'!$f$"&$K$3&":$f$"&$K$4)) -> 51.800649 | O22: =B22 -> 2035 | P22: 0 | Q22: 0 | R22: 0 | S22: 0 | AX22: =P22/P$5 -> 0 | AY22: =Q22/Q$5 -> 0 | AZ22: =R22/R$5 -> 0 | BA22: =S22/S$5 -> 0 | CG22: =O22 -> 2035 | CH22: =INDEX(Table3Compare!$E$6:$E$37,MATCH($CG22,Table3Compare!$A$6:$A$37,0),1) -> 134.4737 | CI22: =INDEX(Table3Compare!$B$6:$B$37,MATCH($CG22,Table3Compare!$A$6:$A$37,0),1) -> 199.88 | CJ22: =INDEX(Table3Compare!$C$6:$C$37,MATCH($CG22,Table3Compare!$A$6:$A$37,0),MATCH(CJ$9,Table3Compare!$B$5:$K$5,0)) -> 0 | CK22: =INDEX(Table3Compare!$D$6:$D$37,MATCH($CG22,Table3Compare!$A$6:$A$37,0),MATCH(CK$9,Table3Compare!$B$5:$K$5,0)) -> 0 | DR22: =SUM(AX$13:AX22)*CH22/1000 -> 0 | DS22: =SUM(AY$13:AY22)*CI22/1000 -> 0 | DT22: =SUM(AZ$13:AZ22)*CJ22/1000 -> 0 | DU22: =SUM(BA$13:BA22)*CK22/1000 -> 0 | ED22: =SUM(BJ$13:BJ22)*CT22/1000 -> 0 | EE22: =SUM(BK$13:BK22)*CU22/1000 -> 0 | EF22: =SUM(BL$13:BL22)*CV22/1000 -> 0 | EG22: =SUM(BM$13:BM22)*CW22/1000 -> 0 | EH22: =SUM(BN$13:BN22)*CX22/1000 -> 0 | EI22: =SUM(BO$13:BO22)*CY22/1000 -> 0 | EJ22: =SUM(BP$13:BP22)*CZ22/1000 -> 0 | EK22: =SUM(BQ$13:BQ22)*DA22/1000 -> 0 | ... ET22: =SUM(BZ$13:BZ22)*DJ22/1000 -> 0 | FA22: =SUM(DR22:EZ22) -> 0 | FC22: =O22 -> 2035 | FE22: =$FD$5*FD22/1000 -> 0
B23: =B22+1 -> 2036 | C23: =(INDEX($FA:$FA,MATCH(B23,$O:$O,0),1)+INDEX($FE:$FE,MATCH(B23,$O:$O,0),1))*1000/Study_MW -> 40.833333 | E23: =SUMIF(INDIRECT("'Table 5'!$J$"&$K$3&":$J$"&$K$4),B23,INDIRECT("'Table 5'!$c$"&$K$3&":$c$"&$K$4))/SUMIF(INDIRECT("'Table 5'!$J$"&$K$3&":$J$"&$K$4),B23,INDIRECT("'Table 5'!$f$"&$K$3&":$f$"&$K$4)) -> 36.078237 | G23: =SUMIF(INDIRECT("'Table 5'!$J$"&$K$3&":$J$"&$K$4),B23,INDIRECT("'Table 5'!$e$"&$K$3&":$e$"&$K$4))/SUMIF(INDIRECT("'Table 5'!$J$"&$K$3&":$J$"&$K$4),B23,INDIRECT("'Table 5'!$f$"&$K$3&":$f$"&$K$4)) -> 51.411607 | O23: =B23 -> 2036 | P23: 0 | Q23: 0 | R23: 14.56 | S23: 0 | AX23: =P23/P$5 -> 0 | AY23: =Q23/Q$5 -> 0 | AZ23: =R23/R$5 -> 14.933333 | BA23: =S23/S$5 -> 0 | CG23: =O23 -> 2036 | CH23: =INDEX(Table3Compare!$E$6:$E$37,MATCH($CG23,Table3Compare!$A$6:$A$37,0),1) -> 137.45902 | CI23: =INDEX(Table3Compare!$B$6:$B$37,MATCH($CG23,Table3Compare!$A$6:$A$37,0),1) -> 204.31 | CJ23: =INDEX(Table3Compare!$C$6:$C$37,MATCH($CG23,Table3Compare!$A$6:$A$37,0),MATCH(CJ$9,Table3Compare!$B$5:$K$5,0)) -> 218.75 | CK23: =INDEX(Table3Compare!$D$6:$D$37,MATCH($CG23,Table3Compare!$A$6:$A$37,0),MATCH(CK$9,Table3Compare!$B$5:$K$5,0)) -> 0 | DR23: =SUM(AX$13:AX23)*CH23/1000 -> 0 | DS23: =SUM(AY$13:AY23)*CI23/1000 -> 0 | DT23: =SUM(AZ$13:AZ23)*CJ23/1000 -> 3.2666667 | DU23: =SUM(BA$13:BA23)*CK23/1000 -> 0 | ED23: =SUM(BJ$13:BJ23)*CT23/1000 -> 0 | EE23: =SUM(BK$13:BK23)*CU23/1000 -> 0 | EF23: =SUM(BL$13:BL23)*CV23/1000 -> 0 | EG23: =SUM(BM$13:BM23)*CW23/1000 -> 0 | EH23: =SUM(BN$13:BN23)*CX23/1000 -> 0 | EI23: =SUM(BO$13:BO23)*CY23/1000 -> 0 | EJ23: =SUM(BP$13:BP23)*CZ23/1000 -> 0 | EK23: =SUM(BQ$13:BQ23)*DA23/1000 -> 0 | ... ET23: =SUM(BZ$13:BZ23)*DJ23/1000 -> 0 | FA23: =SUM(DR23:EZ23) -> 3.2666667 | FC23: =O23 -> 2036 | FE23: =$FD$5*FD23/1000 -> 0
B24: =B23+1 -> 2037 | C24: =(INDEX($FA:$FA,MATCH(B24,$O:$O,0),1)+INDEX($FE:$FE,MATCH(B24,$O:$O,0),1))*1000/Study_MW -> 41.738667 | E24: =SUMIF(INDIRECT("'Table 5'!$J$"&$K$3&":$J$"&$K$4),B24,INDIRECT("'Table 5'!$c$"&$K$3&":$c$"&$K$4))/SUMIF(INDIRECT("'Table 5'!$J$"&$K$3&":$J$"&$K$4),B24,INDIRECT("'Table 5'!$f$"&$K$3&":$f$"&$K$4)) -> 38.188836 | G24: =SUMIF(INDIRECT("'Table 5'!$J$"&$K$3&":$J$"&$K$4),B24,INDIRECT("'Table 5'!$e$"&$K$3&":$e$"&$K$4))/SUMIF(INDIRECT("'Table 5'!$J$"&$K$3&":$J$"&$K$4),B24,INDIRECT("'Table 5'!$f$"&$K$3&":$f$"&$K$4)) -> 53.860389 | O24: =B24 -> 2037 | P24: 0 | Q24: 0 | R24: 0 | S24: 0 | AX24: =P24/P$5 -> 0 | AY24: =Q24/Q$5 -> 0 | AZ24: =R24/R$5 -> 0 | BA24: =S24/S$5 -> 0 | CG24: =O24 -> 2037 | CH24: =INDEX(Table3Compare!$E$6:$E$37,MATCH($CG24,Table3Compare!$A$6:$A$37,0),1) -> 140.51061 | CI24: =INDEX(Table3Compare!$B$6:$B$37,MATCH($CG24,Table3Compare!$A$6:$A$37,0),1) -> 208.85 | CJ24: =INDEX(Table3Compare!$C$6:$C$37,MATCH($CG24,Table3Compare!$A$6:$A$37,0),MATCH(CJ$9,Table3Compare!$B$5:$K$5,0)) -> 223.6 | CK24: =INDEX(Table3Compare!$D$6:$D$37,MATCH($CG24,Table3Compare!$A$6:$A$37,0),MATCH(CK$9,Table3Compare!$B$5:$K$5,0)) -> 0 | DR24: =SUM(AX$13:AX24)*CH24/1000 -> 0 | DS24: =SUM(AY$13:AY24)*CI24/1000 -> 0 | DT24: =SUM(AZ$13:AZ24)*CJ24/1000 -> 3.3390933 | DU24: =SUM(BA$13:BA24)*CK24/1000 -> 0 | ED24: =SUM(BJ$13:BJ24)*CT24/1000 -> 0 | EE24: =SUM(BK$13:BK24)*CU24/1000 -> 0 | EF24: =SUM(BL$13:BL24)*CV24/1000 -> 0 | EG24: =SUM(BM$13:BM24)*CW24/1000 -> 0 | EH24: =SUM(BN$13:BN24)*CX24/1000 -> 0 | EI24: =SUM(BO$13:BO24)*CY24/1000 -> 0 | EJ24: =SUM(BP$13:BP24)*CZ24/1000 -> 0 | EK24: =SUM(BQ$13:BQ24)*DA24/1000 -> 0 | ... ET24: =SUM(BZ$13:BZ24)*DJ24/1000 -> 0 | FA24: =SUM(DR24:EZ24) -> 3.3390933 | FC24: =O24 -> 2037 | FE24: =$FD$5*FD24/1000 -> 0
B25: =B24+1 -> 2038 | C25: =(INDEX($FA:$FA,MATCH(B25,$O:$O,0),1)+INDEX($FE:$FE,MATCH(B25,$O:$O,0),1))*1000/Study_MW -> 42.6664 | E25: =SUMIF(INDIRECT("'Table 5'!$J$"&$K$3&":$J$"&$K$4),B25,INDIRECT("'Table 5'!$c$"&$K$3&":$c$"&$K$4))/SUMIF(INDIRECT("'Table 5'!$J$"&$K$3&":$J$"&$K$4),B25,INDIRECT("'Table 5'!$f$"&$K$3&":$f$"&$K$4)) -> 38.319468 | G25: =SUMIF(INDIRECT("'Table 5'!$J$"&$K$3&":$J$"&$K$4),B25,INDIRECT("'Table 5'!$e$"&$K$3&":$e$"&$K$4))/SUMIF(INDIRECT("'Table 5'!$J$"&$K$3&":$J$"&$K$4),B25,INDIRECT("'Table 5'!$f$"&$K$3&":$f$"&$K$4)) -> 54.365127 | O25: =B25 -> 2038 | P25: 0 | Q25: 0 | R25: 0 | S25: 0 | AX25: =P25/P$5 -> 0 | AY25: =Q25/Q$5 -> 0 | AZ25: =R25/R$5 -> 0 | BA25: =S25/S$5 -> 0 | CG25: =O25 -> 2038 | CH25: =INDEX(Table3Compare!$E$6:$E$37,MATCH($CG25,Table3Compare!$A$6:$A$37,0),1) -> 143.62995 | CI25: =INDEX(Table3Compare!$B$6:$B$37,MATCH($CG25,Table3Compare!$A$6:$A$37,0),1) -> 213.49 | CJ25: =INDEX(Table3Compare!$C$6:$C$37,MATCH($CG25,Table3Compare!$A$6:$A$37,0),MATCH(CJ$9,Table3Compare!$B$5:$K$5,0)) -> 228.57 | CK25: =INDEX(Table3Compare!$D$6:$D$37,MATCH($CG25,Table3Compare!$A$6:$A$37,0),MATCH(CK$9,Table3Compare!$B$5:$K$5,0)) -> 228.57 | DR25: =SUM(AX$13:AX25)*CH25/1000 -> 0 | DS25: =SUM(AY$13:AY25)*CI25/1000 -> 0 | DT25: =SUM(AZ$13:AZ25)*CJ25/1000 -> 3.413312 | DU25: =SUM(BA$13:BA25)*CK25/1000 -> 0 | ED25: =SUM(BJ$13:BJ25)*CT25/1000 -> 0 | EE25: =SUM(BK$13:BK25)*CU25/1000 -> 0 | EF25: =SUM(BL$13:BL25)*CV25/1000 -> 0 | EG25: =SUM(BM$13:BM25)*CW25/1000 -> 0 | EH25: =SUM(BN$13:BN25)*CX25/1000 -> 0 | EI25: =SUM(BO$13:BO25)*CY25/1000 -> 0 | EJ25: =SUM(BP$13:BP25)*CZ25/1000 -> 0 | EK25: =SUM(BQ$13:BQ25)*DA25/1000 -> 0 | ... ET25: =SUM(BZ$13:BZ25)*DJ25/1000 -> 0 | FA25: =SUM(DR25:EZ25) -> 3.413312 | FC25: =O25 -> 2038 | FE25: =$FD$5*FD25/1000 -> 0
... B32: =B31+1 -> 2045 | C32: =(INDEX($FA:$FA,MATCH(B32,$O:$O,0),1)+INDEX($FE:$FE,MATCH(B32,$O:$O,0),1))*1000/Study_MW -> 49.754133 | E32: =SUMIF(INDIRECT("'Table 5'!$J$"&$K$3&":$J$"&$K$4),B32,INDIRECT("'Table 5'!$c$"&$K$3&":$c$"&$K$4))/SUMIF(INDIRECT("'Table 5'!$J$"&$K$3&":$J$"&$K$4),B32,INDIRECT("'Table 5'!$f$"&$K$3&":$f$"&$K$4)) -> 51.163918 | G32: =SUMIF(INDIRECT("'Table 5'!$J$"&$K$3&":$J$"&$K$4),B32,INDIRECT("'Table 5'!$e$"&$K$3&":$e$"&$K$4))/SUMIF(INDIRECT("'Table 5'!$J$"&$K$3&":$J$"&$K$4),B32,INDIRECT("'Table 5'!$f$"&$K$3&":$f$"&$K$4)) -> 69.873167 | O32: =B32 -> 2045 | P32: 0 | Q32: 0 | R32: 0 | S32: 0 | AX32: =P32/P$5 -> 0 | AY32: =Q32/Q$5 -> 0 | AZ32: =R32/R$5 -> 0 | BA32: =S32/S$5 -> 0 | CG32: =O32 -> 2045 | CH32: =INDEX(Table3Compare!$E$6:$E$37,MATCH($CG32,Table3Compare!$A$6:$A$37,0),1) -> 167.4928 | CI32: =INDEX(Table3Compare!$B$6:$B$37,MATCH($CG32,Table3Compare!$A$6:$A$37,0),1) -> 248.95 | CJ32: =INDEX(Table3Compare!$C$6:$C$37,MATCH($CG32,Table3Compare!$A$6:$A$37,0),MATCH(CJ$9,Table3Compare!$B$5:$K$5,0)) -> 266.54 | CK32: =INDEX(Table3Compare!$D$6:$D$37,MATCH($CG32,Table3Compare!$A$6:$A$37,0),MATCH(CK$9,Table3Compare!$B$5:$K$5,0)) -> 266.55 | DR32: =SUM(AX$13:AX32)*CH32/1000 -> 0 | DS32: =SUM(AY$13:AY32)*CI32/1000 -> 0 | DT32: =SUM(AZ$13:AZ32)*CJ32/1000 -> 3.9803307 | DU32: =SUM(BA$13:BA32)*CK32/1000 -> 0 | ED32: =SUM(BJ$13:BJ32)*CT32/1000 -> 0 | EE32: =SUM(BK$13:BK32)*CU32/1000 -> 0 | EF32: =SUM(BL$13:BL32)*CV32/1000 -> 0 | EG32: =SUM(BM$13:BM32)*CW32/1000 -> 0 | EH32: =SUM(BN$13:BN32)*CX32/1000 -> 0 | EI32: =SUM(BO$13:BO32)*CY32/1000 -> 0 | EJ32: =SUM(BP$13:BP32)*CZ32/1000 -> 0 | EK32: =SUM(BQ$13:BQ32)*DA32/1000 -> 0 | ... ET32: =SUM(BZ$13:BZ32)*DJ32/1000 -> 0 | FA32: =SUM(DR32:EZ32) -> 3.9803307 | FC32: =O32 -> 2045 | FE32: =$FD$5*FD32/1000 -> 0
B33: =B32+1 -> 2046 | C33: =(INDEX($FA:$FA,MATCH(B33,$O:$O,0),1)+INDEX($FE:$FE,MATCH(B33,$O:$O,0),1))*1000/Study_MW -> 50.8592 | E33: =SUMIF(INDIRECT("'Table 5'!$J$"&$K$3&":$J$"&$K$4),B33,INDIRECT("'Table 5'!$c$"&$K$3&":$c$"&$K$4))/SUMIF(INDIRECT("'Table 5'!$J$"&$K$3&":$J$"&$K$4),B33,INDIRECT("'Table 5'!$f$"&$K$3&":$f$"&$K$4)) -> 52.299757 | G33: =SUMIF(INDIRECT("'Table 5'!$J$"&$K$3&":$J$"&$K$4),B33,INDIRECT("'Table 5'!$e$"&$K$3&":$e$"&$K$4))/SUMIF(INDIRECT("'Table 5'!$J$"&$K$3&":$J$"&$K$4),B33,INDIRECT("'Table 5'!$f$"&$K$3&":$f$"&$K$4)) -> 71.424549 | O33: =B33 -> 2046 | P33: 0 | Q33: 0 | R33: 0 | S33: 0 | AX33: =P33/P$5 -> 0 | AY33: =Q33/Q$5 -> 0 | AZ33: =R33/R$5 -> 0 | CG33: =O33 -> 2046 | CH33: =INDEX(Table3Compare!$E$6:$E$37,MATCH($CG33,Table3Compare!$A$6:$A$37,0),1) -> 171.21114 | CI33: =INDEX(Table3Compare!$B$6:$B$37,MATCH($CG33,Table3Compare!$A$6:$A$37,0),1) -> 254.48 | CJ33: =INDEX(Table3Compare!$C$6:$C$37,MATCH($CG33,Table3Compare!$A$6:$A$37,0),MATCH(CJ$9,Table3Compare!$B$5:$K$5,0)) -> 272.46 | CK33: =INDEX(Table3Compare!$D$6:$D$37,MATCH($CG33,Table3Compare!$A$6:$A$37,0),MATCH(CK$9,Table3Compare!$B$5:$K$5,0)) -> 272.46 | DR33: =SUM(AX$13:AX33)*CH33/1000 -> 0 | DS33: =SUM(AY$13:AY33)*CI33/1000 -> 0 | DT33: =SUM(AZ$13:AZ33)*CJ33/1000 -> 4.068736 | DU33: =SUM(BA$13:BA33)*CK33/1000 -> 0 | ED33: =SUM(BJ$13:BJ33)*CT33/1000 -> 0 | EE33: =SUM(BK$13:BK33)*CU33/1000 -> 0 | EF33: =SUM(BL$13:BL33)*CV33/1000 -> 0 | EG33: =SUM(BM$13:BM33)*CW33/1000 -> 0 | EH33: =SUM(BN$13:BN33)*CX33/1000 -> 0 | EI33: =SUM(BO$13:BO33)*CY33/1000 -> 0 | EJ33: =SUM(BP$13:BP33)*CZ33/1000 -> 0 | EK33: =SUM(BQ$13:BQ33)*DA33/1000 -> 0 | ... ET33: =SUM(BZ$13:BZ33)*DJ33/1000 -> 0 | FA33: =SUM(DR33:EZ33) -> 4.068736 | FC33: =O33 -> 2046 | FE33: =$FD$5*FD33/1000 -> 0
B34: =B33+1 -> 2047 | C34: =(INDEX($FA:$FA,MATCH(B34,$O:$O,0),1)+INDEX($FE:$FE,MATCH(B34,$O:$O,0),1))*1000/Study_MW -> 51.988533 | E34: =SUMIF(INDIRECT("'Table 5'!$J$"&$K$3&":$J$"&$K$4),B34,INDIRECT("'Table 5'!$c$"&$K$3&":$c$"&$K$4))/SUMIF(INDIRECT("'Table 5'!$J$"&$K$3&":$J$"&$K$4),B34,INDIRECT("'Table 5'!$f$"&$K$3&":$f$"&$K$4)) -> 53.460812 | G34: =SUMIF(INDIRECT("'Table 5'!$J$"&$K$3&":$J$"&$K$4),B34,INDIRECT("'Table 5'!$e$"&$K$3&":$e$"&$K$4))/SUMIF(INDIRECT("'Table 5'!$J$"&$K$3&":$J$"&$K$4),B34,INDIRECT("'Table 5'!$f$"&$K$3&":$f$"&$K$4)) -> 73.010271 | O34: =B34 -> 2047 | P34: 0 | Q34: 0 | R34: 0 | S34: 0 | AX34: =P34/P$5 -> 0 | AY34: =Q34/Q$5 -> 0 | AZ34: =R34/R$5 -> 0 | CG34: =O34 -> 2047 | CH34: =INDEX(Table3Compare!$E$6:$E$37,MATCH($CG34,Table3Compare!$A$6:$A$37,0),1) -> 175.01202 | CI34: =INDEX(Table3Compare!$B$6:$B$37,MATCH($CG34,Table3Compare!$A$6:$A$37,0),1) -> 260.13 | CJ34: =INDEX(Table3Compare!$C$6:$C$37,MATCH($CG34,Table3Compare!$A$6:$A$37,0),MATCH(CJ$9,Table3Compare!$B$5:$K$5,0)) -> 278.51 | CK34: =INDEX(Table3Compare!$D$6:$D$37,MATCH($CG34,Table3Compare!$A$6:$A$37,0),MATCH(CK$9,Table3Compare!$B$5:$K$5,0)) -> 278.51 | DR34: =SUM(AX$13:AX34)*CH34/1000 -> 0 | DS34: =SUM(AY$13:AY34)*CI34/1000 -> 0 | DT34: =SUM(AZ$13:AZ34)*CJ34/1000 -> 4.1590827 | DU34: =SUM(BA$13:BA34)*CK34/1000 -> 0 | ED34: =SUM(BJ$13:BJ34)*CT34/1000 -> 0 | EE34: =SUM(BK$13:BK34)*CU34/1000 -> 0 | EF34: =SUM(BL$13:BL34)*CV34/1000 -> 0 | EG34: =SUM(BM$13:BM34)*CW34/1000 -> 0 | EH34: =SUM(BN$13:BN34)*CX34/1000 -> 0 | EI34: =SUM(BO$13:BO34)*CY34/1000 -> 0 | EJ34: =SUM(BP$13:BP34)*CZ34/1000 -> 0 | EK34: =SUM(BQ$13:BQ34)*DA34/1000 -> 0 | ... ET34: =SUM(BZ$13:BZ34)*DJ34/1000 -> 0 | FA34: =SUM(DR34:EZ34) -> 4.1590827 | FC34: =O34 -> 2047
B35: =B34+1 -> 2048 | C35: =(INDEX($FA:$FA,MATCH(B35,$O:$O,0),1)+INDEX($FE:$FE,MATCH(B35,$O:$O,0),1))*1000/Study_MW -> 53.142133 | E35: =SUMIF(INDIRECT("'Table 5'!$J$"&$K$3&":$J$"&$K$4),B35,INDIRECT("'Table 5'!$c$"&$K$3&":$c$"&$K$4))/SUMIF(INDIRECT("'Table 5'!$J$"&$K$3&":$J$"&$K$4),B35,INDIRECT("'Table 5'!$f$"&$K$3&":$f$"&$K$4)) -> 54.681298 | G35: =SUMIF(INDIRECT("'Table 5'!$J$"&$K$3&":$J$"&$K$4),B35,INDIRECT("'Table 5'!$e$"&$K$3&":$e$"&$K$4))/SUMIF(INDIRECT("'Table 5'!$J$"&$K$3&":$J$"&$K$4),B35,INDIRECT("'Table 5'!$f$"&$K$3&":$f$"&$K$4)) -> 74.603746 | O35: =B35 -> 2048 | P35: 0 | Q35: 0 | R35: 0 | S35: 0 | AX35: =P35/P$5 -> 0 | AY35: =Q35/Q$5 -> 0 | AZ35: =R35/R$5 -> 0 | BA35: =S35/S$5 -> 0 | BB35: =T35/T$5 -> #DIV/0! | BC35: =U35/U$5 -> #DIV/0! | BD35: =V35/V$5 -> #DIV/0! | BE35: =W35/W$5 -> #DIV/0! | ... BG35: =Y35/Y$5 -> #DIV/0! | CG35: =O35 -> 2048 | CH35: =INDEX(Table3Compare!$E$6:$E$37,MATCH($CG35,Table3Compare!$A$6:$A$37,0),1) -> 178.89729 | CI35: =INDEX(Table3Compare!$B$6:$B$37,MATCH($CG35,Table3Compare!$A$6:$A$37,0),1) -> 265.91 | CJ35: =INDEX(Table3Compare!$C$6:$C$37,MATCH($CG35,Table3Compare!$A$6:$A$37,0),MATCH(CJ$9,Table3Compare!$B$5:$K$5,0)) -> 284.69 | CK35: =INDEX(Table3Compare!$D$6:$D$37,MATCH($CG35,Table3Compare!$A$6:$A$37,0),MATCH(CK$9,Table3Compare!$B$5:$K$5,0)) -> 284.7 | DR35: =SUM(AX$13:AX35)*CH35/1000 -> 0 | DS35: =SUM(AY$13:AY35)*CI35/1000 -> 0 | DT35: =SUM(AZ$13:AZ35)*CJ35/1000 -> 4.2513707 | DU35: =SUM(BA$13:BA35)*CK35/1000 -> 0 | ED35: =SUM(BJ$13:BJ35)*CT35/1000 -> 0 | EE35: =SUM(BK$13:BK35)*CU35/1000 -> 0 | EF35: =SUM(BL$13:BL35)*CV35/1000 -> 0 | EG35: =SUM(BM$13:BM35)*CW35/1000 -> 0 | EH35: =SUM(BN$13:BN35)*CX35/1000 -> 0 | EI35: =SUM(BO$13:BO35)*CY35/1000 -> 0 | EJ35: =SUM(BP$13:BP35)*CZ35/1000 -> 0 | EK35: =SUM(BQ$13:BQ35)*DA35/1000 -> 0 | ... ET35: =SUM(BZ$13:BZ35)*DJ35/1000 -> 0 | FA35: =SUM(DR35:EZ35) -> 4.2513707 | FC35: =O35 -> 2048
B36: =B35+1 -> 2049 | C36: =(INDEX($FA:$FA,MATCH(B36,$O:$O,0),1)+INDEX($FE:$FE,MATCH(B36,$O:$O,0),1))*1000/Study_MW -> 54.321867 | E36: =SUMIF(INDIRECT("'Table 5'!$J$"&$K$3&":$J$"&$K$4),B36,INDIRECT("'Table 5'!$c$"&$K$3&":$c$"&$K$4))/SUMIF(INDIRECT("'Table 5'!$J$"&$K$3&":$J$"&$K$4),B36,INDIRECT("'Table 5'!$f$"&$K$3&":$f$"&$K$4)) -> 55.86082 | G36: =SUMIF(INDIRECT("'Table 5'!$J$"&$K$3&":$J$"&$K$4),B36,INDIRECT("'Table 5'!$e$"&$K$3&":$e$"&$K$4))/SUMIF(INDIRECT("'Table 5'!$J$"&$K$3&":$J$"&$K$4),B36,INDIRECT("'Table 5'!$f$"&$K$3&":$f$"&$K$4)) -> 76.287691 | O36: =B36 -> 2049 | P36: 0 | Q36: 0 | R36: 0 | S36: 0 | AX36: =P36/P$5 -> 0 | AY36: =Q36/Q$5 -> 0 | AZ36: =R36/R$5 -> 0 | BA36: =S36/S$5 -> 0 | BB36: =T36/T$5 -> #DIV/0! | BC36: =U36/U$5 -> #DIV/0! | BD36: =V36/V$5 -> #DIV/0! | BE36: =W36/W$5 -> #DIV/0! | ... BG36: =Y36/Y$5 -> #DIV/0! | CG36: =O36 -> 2049 | CH36: =INDEX(Table3Compare!$E$6:$E$37,MATCH($CG36,Table3Compare!$A$6:$A$37,0),1) -> 182.86881 | CI36: =INDEX(Table3Compare!$B$6:$B$37,MATCH($CG36,Table3Compare!$A$6:$A$37,0),1) -> 271.81 | CJ36: =INDEX(Table3Compare!$C$6:$C$37,MATCH($CG36,Table3Compare!$A$6:$A$37,0),MATCH(CJ$9,Table3Compare!$B$5:$K$5,0)) -> 291.01 | CK36: =INDEX(Table3Compare!$D$6:$D$37,MATCH($CG36,Table3Compare!$A$6:$A$37,0),MATCH(CK$9,Table3Compare!$B$5:$K$5,0)) -> 291.02 | DR36: =SUM(AX$13:AX36)*CH36/1000 -> 0 | DS36: =SUM(AY$13:AY36)*CI36/1000 -> 0 | DT36: =SUM(AZ$13:AZ36)*CJ36/1000 -> 4.3457493 | DU36: =SUM(BA$13:BA36)*CK36/1000 -> 0 | ED36: =SUM(BJ$13:BJ36)*CT36/1000 -> 0 | EE36: =SUM(BK$13:BK36)*CU36/1000 -> 0 | EF36: =SUM(BL$13:BL36)*CV36/1000 -> 0 | EG36: =SUM(BM$13:BM36)*CW36/1000 -> 0 | EH36: =SUM(BN$13:BN36)*CX36/1000 -> 0 | EI36: =SUM(BO$13:BO36)*CY36/1000 -> 0 | EJ36: =SUM(BP$13:BP36)*CZ36/1000 -> 0 | EK36: =SUM(BQ$13:BQ36)*DA36/1000 -> 0 | ... ET36: =SUM(BZ$13:BZ36)*DJ36/1000 -> 0 | FA36: =SUM(DR36:EZ36) -> 4.3457493 | FC36: =O36 -> 2049
B37: =B36+1 -> 2050 | C37: =(INDEX($FA:$FA,MATCH(B37,$O:$O,0),1)+INDEX($FE:$FE,MATCH(B37,$O:$O,0),1))*1000/Study_MW -> 55.527733 | E37: =SUMIF(INDIRECT("'Table 5'!$J$"&$K$3&":$J$"&$K$4),B37,INDIRECT("'Table 5'!$c$"&$K$3&":$c$"&$K$4))/SUMIF(INDIRECT("'Table 5'!$J$"&$K$3&":$J$"&$K$4),B37,INDIRECT("'Table 5'!$f$"&$K$3&":$f$"&$K$4)) -> 57.10093 | G37: =SUMIF(INDIRECT("'Table 5'!$J$"&$K$3&":$J$"&$K$4),B37,INDIRECT("'Table 5'!$e$"&$K$3&":$e$"&$K$4))/SUMIF(INDIRECT("'Table 5'!$J$"&$K$3&":$J$"&$K$4),B37,INDIRECT("'Table 5'!$f$"&$K$3&":$f$"&$K$4)) -> 77.981249 | O37: =B37 -> 2050 | P37: 0 | Q37: 0 | R37: 0 | S37: 0 | AX37: =P37/P$5 -> 0 | AY37: =Q37/Q$5 -> 0 | AZ37: =R37/R$5 -> 0 | BA37: =S37/S$5 -> 0 | BB37: =T37/T$5 -> #DIV/0! | BC37: =U37/U$5 -> #DIV/0! | BD37: =V37/V$5 -> #DIV/0! | BE37: =W37/W$5 -> #DIV/0! | ... BG37: =Y37/Y$5 -> #DIV/0! | CG37: =O37 -> 2050 | CH37: =INDEX(Table3Compare!$E$6:$E$37,MATCH($CG37,Table3Compare!$A$6:$A$37,0),1) -> 186.9285 | CI37: =INDEX(Table3Compare!$B$6:$B$37,MATCH($CG37,Table3Compare!$A$6:$A$37,0),1) -> 277.84 | CJ37: =INDEX(Table3Compare!$C$6:$C$37,MATCH($CG37,Table3Compare!$A$6:$A$37,0),MATCH(CJ$9,Table3Compare!$B$5:$K$5,0)) -> 297.47 | CK37: =INDEX(Table3Compare!$D$6:$D$37,MATCH($CG37,Table3Compare!$A$6:$A$37,0),MATCH(CK$9,Table3Compare!$B$5:$K$5,0)) -> 297.48 | DR37: =SUM(AX$13:AX37)*CH37/1000 -> 0 | DS37: =SUM(AY$13:AY37)*CI37/1000 -> 0 | DT37: =SUM(AZ$13:AZ37)*CJ37/1000 -> 4.4422187 | DU37: =SUM(BA$13:BA37)*CK37/1000 -> 0 | ED37: =SUM(BJ$13:BJ37)*CT37/1000 -> 0 | EE37: =SUM(BK$13:BK37)*CU37/1000 -> 0 | EF37: =SUM(BL$13:BL37)*CV37/1000 -> 0 | EG37: =SUM(BM$13:BM37)*CW37/1000 -> 0 | EH37: =SUM(BN$13:BN37)*CX37/1000 -> 0 | EI37: =SUM(BO$13:BO37)*CY37/1000 -> 0 | EJ37: =SUM(BP$13:BP37)*CZ37/1000 -> 0 | EK37: =SUM(BQ$13:BQ37)*DA37/1000 -> 0 | ... ET37: =SUM(BZ$13:BZ37)*DJ37/1000 -> 0 | FA37: =SUM(DR37:EZ37) -> 4.4422187 | FC37: =O37 -> 2050
B38: =B37+1 -> 2051 | C38: =(INDEX($FA:$FA,MATCH(B38,$O:$O,0),1)+INDEX($FE:$FE,MATCH(B38,$O:$O,0),1))*1000/Study_MW -> 56.7616 | E38: =SUMIF(INDIRECT("'Table 5'!$J$"&$K$3&":$J$"&$K$4),B38,INDIRECT("'Table 5'!$c$"&$K$3&":$c$"&$K$4))/SUMIF(INDIRECT("'Table 5'!$J$"&$K$3&":$J$"&$K$4),B38,INDIRECT("'Table 5'!$f$"&$K$3&":$f$"&$K$4)) -> 58.368571 | G38: =SUMIF(INDIRECT("'Table 5'!$J$"&$K$3&":$J$"&$K$4),B38,INDIRECT("'Table 5'!$e$"&$K$3&":$e$"&$K$4))/SUMIF(INDIRECT("'Table 5'!$J$"&$K$3&":$J$"&$K$4),B38,INDIRECT("'Table 5'!$f$"&$K$3&":$f$"&$K$4)) -> 79.712865 | O38: =B38 -> 2051 | P38: 0 | Q38: 0 | R38: 0 | S38: 0 | AX38: =P38/P$5 -> 0 | AY38: =Q38/Q$5 -> 0 | AZ38: =R38/R$5 -> 0 | BA38: =S38/S$5 -> 0 | BB38: =T38/T$5 -> #DIV/0! | BC38: =U38/U$5 -> #DIV/0! | BD38: =V38/V$5 -> #DIV/0! | BE38: =W38/W$5 -> #DIV/0! | ... BG38: =Y38/Y$5 -> #DIV/0! | CG38: =O38 -> 2051 | CH38: =INDEX(Table3Compare!$E$6:$E$37,MATCH($CG38,Table3Compare!$A$6:$A$37,0),1) -> 191.07831 | CI38: =INDEX(Table3Compare!$B$6:$B$37,MATCH($CG38,Table3Compare!$A$6:$A$37,0),1) -> 284.01 | CJ38: =INDEX(Table3Compare!$C$6:$C$37,MATCH($CG38,Table3Compare!$A$6:$A$37,0),MATCH(CJ$9,Table3Compare!$B$5:$K$5,0)) -> 304.08 | CK38: =INDEX(Table3Compare!$D$6:$D$37,MATCH($CG38,Table3Compare!$A$6:$A$37,0),MATCH(CK$9,Table3Compare!$B$5:$K$5,0)) -> 304.08 | DR38: =SUM(AX$13:AX38)*CH38/1000 -> 0 | DS38: =SUM(AY$13:AY38)*CI38/1000 -> 0 | DT38: =SUM(AZ$13:AZ38)*CJ38/1000 -> 4.540928 | DU38: =SUM(BA$13:BA38)*CK38/1000 -> 0 | ED38: =SUM(BJ$13:BJ38)*CT38/1000 -> 0 | EE38: =SUM(BK$13:BK38)*CU38/1000 -> 0 | EF38: =SUM(BL$13:BL38)*CV38/1000 -> 0 | EG38: =SUM(BM$13:BM38)*CW38/1000 -> 0 | EH38: =SUM(BN$13:BN38)*CX38/1000 -> 0 | EI38: =SUM(BO$13:BO38)*CY38/1000 -> 0 | EJ38: =SUM(BP$13:BP38)*CZ38/1000 -> 0 | EK38: =SUM(BQ$13:BQ38)*DA38/1000 -> 0 | ... ET38: =SUM(BZ$13:BZ38)*DJ38/1000 -> 0 | FA38: =SUM(DR38:EZ38) -> 4.540928 | FC38: =O38 -> 2051
N47: Year of deferral | P47: 2031 | Q47: 2035 | R47: 2036 | S47: 2038
N48: if Deferred 1 | P48: 0 | Q48: 0 | R48: 1 | S48: 0
I49: Discount Rate - 2025 IRP Upate
I50: =6.33/100 -> 0.0633
I52: Inflation rate | J52: 0.0222
A54: ='Table 5'!A10 -> 15 Year Starting 2026 | I54: Real Discount Rate | J54: =(1+Discount_Rate)/(1+Inflation)-1 -> 0.040207396
B55: =" Levelized Prices (Nominal) @ "&TEXT($I$50,"0.00%")&" Discount Rate (1) (3) " -> Levelized Prices (Nominal) @ 6.33% Discount Rate (1) (3)
B56: $/kW | C56: ='Table 5'!$D$10*(Study_CF*8.76)/'Table 5'!$F$10 -> 10.110731
B57: $/MWh | E57: ='Table 5'!$C$10/'Table 5'!$F$10 -> 35.419947 | G57: ='Table 5'!$G$10 -> 39.215386
A59: ='Table 5'!A8 -> 15 Year Starting 2027
B60: =" Levelized Prices (Nominal) @ "&TEXT($I$50,"0.00%")&" Discount Rate (1) (3) " -> Levelized Prices (Nominal) @ 6.33% Discount Rate (1) (3)
...

Sheet Table 2
B1: Appendix B
B3: Table 2
B4: Avoided Energy Costs - Scheduled Hours ($/MWh)
B5: ='Table 1'!B5 -> QF - Sch38 - UT - Wind - 80.0 MW and 30.4% CF
D8: Winter Season | I8: Summer Season | M8: Winter Season
B9: Year | C9: Annual | D9: Jan | E9: Feb | F9: Mar | G9: Apr | H9: May | I9: Jun | J9: Jul | K9: Aug | L9: Sep | M9: Oct | N9: Nov | O9: Dec
B11: Energy Only
B13: 2027 | C13: 19.039449 | D13: 27.70158 | E13: 23.680235 | F13: 11.154308 | G13: 8.845584 | H13: 10.756523 | I13: 12.512696 | J13: 40.378344 | K13: 25.26708 | L13: 20.611137 | M13: 13.98347 | N13: 23.103178 | O13: 26.858813
B14: 2028 | C14: 23.116517 | D14: 31.270884 | E14: 29.692174 | F14: 13.152625 | G14: 13.127934 | H14: 13.332526 | I14: 13.864492 | J14: 49.603465 | K14: 26.987782 | L14: 25.589383 | M14: 18.493034 | N14: 27.221714 | O14: 35.213959
B15: 2029 | C15: 25.222821 | D15: 31.847383 | E15: 29.768045 | F15: 15.980462 | G15: 10.299977 | H15: 14.018439 | I15: 15.768154 | J15: 46.537036 | K15: 33.300082 | L15: 30.111491 | M15: 25.121039 | N15: 34.720038 | O15: 39.010896
B16: 2030 | C16: 37.984446 | D16: 44.838819 | E16: 41.116302 | F16: 28.187109 | G16: 25.933068 | H16: 23.713798 | I16: 32.409844 | J16: 43.981979 | K16: 49.005079 | L16: 48.206644 | M16: 39.410621 | N16: 50.255229 | O16: 48.889628
B17: 2031 | C17: 49.797964 | D17: 53.245235 | E17: 48.556239 | F17: 37.365594 | G17: 30.201896 | H17: 33.853182 | I17: 35.528883 | J17: 99.159601 | K17: 61.533186 | L17: 51.788204 | M17: 41.764453 | N17: 52.246994 | O17: 81.577407
B18: 2032 | C18: 50.401288 | D18: 53.419875 | E18: 49.862671 | F18: 35.127621 | G18: 29.796541 | H18: 35.389298 | I18: 37.442206 | J18: 108.85815 | K18: 61.511824 | L18: 52.022363 | M18: 43.990705 | N18: 54.825926 | O18: 79.943979
B19: 2033 | C19: 48.927356 | D19: 50.475763 | E19: 52.650249 | F19: 33.420778 | G19: 34.479077 | H19: 32.708539 | I19: 34.904506 | J19: 99.259202 | K19: 60.934447 | L19: 49.896144 | M19: 41.749428 | N19: 53.90636 | O19: 78.819422
B20: 2034 | C20: 50.152657 | D20: 53.549925 | E20: 54.986208 | F20: 34.68587 | G20: 30.161744 | H20: 34.624075 | I20: 38.535374 | J20: 94.356195 | K20: 61.012326 | L20: 51.458237 | M20: 43.830727 | N20: 58.701601 | O20: 83.956025
B21: 2035 | C21: 51.722786 | D21: 54.912006 | E21: 55.980518 | F21: 35.807102 | G21: 31.12589 | H21: 32.345967 | I21: 40.359549 | J21: 96.542497 | K21: 61.196939 | L21: 57.922828 | M21: 45.5275 | N21: 64.651661 | O21: 89.424466
B22: 2036 | C22: 36.048271 | D22: 46.891734 | E22: 40.124737 | F22: 26.237777 | G22: 28.425331 | H22: 25.702538 | I22: 34.740989 | J22: 33.919551 | K22: 28.123994 | L22: 40.288363 | M22: 39.431134 | N22: 49.162123 | O22: 43.745496
B23: 2037 | C23: 38.164706 | D23: 48.266316 | E23: 48.460025 | F23: 30.684374 | G23: 27.941894 | H23: 33.625227 | I23: 35.736922 | J23: 38.915704 | K23: 21.960145 | L23: 34.319279 | M23: 41.969909 | N23: 46.258069 | O23: 48.572326
B24: 2038 | C24: 38.297022 | D24: 49.777126 | E24: 45.484469 | F24: 30.587561 | G24: 29.12021 | H24: 32.407819 | I24: 36.740005 | J24: 38.457933 | K24: 22.279639 | L24: 35.223072 | M24: 44.203497 | N24: 46.792933 | O24: 48.149972
... B30: 2044 | C30: 48.557354 | D30: 60.491382 | E30: 58.959623 | F30: 37.497646 | G30: 42.943627 | H30: 38.725498 | I30: 48.987133 | J30: 48.218511 | K30: 43.386451 | L30: 42.91198 | M30: 51.005248 | N30: 59.53838 | O30: 51.405698
D38: 31 | E38: 28 | F38: 31 | G38: 30 | H38: 31 | I38: 30 | J38: 31 | K38: 31 | L38: 30 | M38: 31 | N38: 30 | O38: 31

Sheet Table 4
B1: Appendix B
B3: Table 4
B4: Burnertip Natural Gas Price Forecast | H4: Quote Date
B5: ='Table 1'!$B$5 -> QF - Sch38 - UT - Wind - 80.0 MW and 30.4% CF | H5: 46203
C7: PacifiCorp
C8: Delivered | D8: Delivered | E8: Delivered | F8: Delivered
B9: Year | C9: =O16 -> IRP - Utah Greenfield | D9: =R16 -> Naughton | E9: =P15 -> IRP West Side | F9: =Q16 -> IRP - Wyo NE
C10: Fuel Cost | D10: Fuel Cost | E10: Fuel Cost | F10: Fuel Cost
I15: IRP - Utah Greenfield | K15: IRP West Side | L15: IRP - Wyo NE | P15: IRP West Side | R15: Burner tip
H16: Peak Type: | I16: Delivered | J16: Naughton | K16: Delivered | L16: Delivered | M16: Year | O16: IRP - Utah Greenfield | P16: West Side | Q16: IRP - Wyo NE | R16: Naughton
B17: 2026 | C17: =ROUND(SUMIF($M$17:$M$379,$B17,$I$17:$I$379)/COUNTIF($M$17:$M$379,$B17),2) -> 2.3 | D17: =ROUND(SUMIF($M$17:$M$379,$B17,$J$17:$J$379)/COUNTIF($M$17:$M$379,$B17),2) -> 2.25 | E17: =ROUND(SUMIF($M$17:$M$379,$B17,$K$17:$K$379)/COUNTIF($M$17:$M$379,$B17),2) -> 1.93 | F17: =ROUND(SUMIF($M$17:$M$379,$B17,$L$17:$L$379)/COUNTIF($M$17:$M$379,$B17),2) -> 2.2 | H17: 45658 | I17: 4.129746 | J17: 4.1012301 | K17: 3.6667414 | L17: 4.1264797 | M17: =YEAR(H17) -> 2025 | O17: 47 | P17: 43 | Q17: 46 | R17: 42
B18: =B17+1 -> 2027 | C18: =ROUND(SUMIF($M$17:$M$379,$B18,$I$17:$I$379)/COUNTIF($M$17:$M$379,$B18),2) -> 3.14 | D18: =ROUND(SUMIF($M$17:$M$379,$B18,$J$17:$J$379)/COUNTIF($M$17:$M$379,$B18),2) -> 3.12 | E18: =ROUND(SUMIF($M$17:$M$379,$B18,$K$17:$K$379)/COUNTIF($M$17:$M$379,$B18),2) -> 2.88 | F18: =ROUND(SUMIF($M$17:$M$379,$B18,$L$17:$L$379)/COUNTIF($M$17:$M$379,$B18),2) -> 2.89 | H18: 45689 | I18: 3.4434922 | J18: 3.419247 | K18: 3.2332464 | L18: 3.4316866 | M18: =YEAR(H18) -> 2025
B19: =B18+1 -> 2028 | C19: =ROUND(SUMIF($M$17:$M$379,$B19,$I$17:$I$379)/COUNTIF($M$17:$M$379,$B19),2) -> 3.55 | D19: =ROUND(SUMIF($M$17:$M$379,$B19,$J$17:$J$379)/COUNTIF($M$17:$M$379,$B19),2) -> 3.53 | E19: =ROUND(SUMIF($M$17:$M$379,$B19,$K$17:$K$379)/COUNTIF($M$17:$M$379,$B19),2) -> 3.33 | F19: =ROUND(SUMIF($M$17:$M$379,$B19,$L$17:$L$379)/COUNTIF($M$17:$M$379,$B19),2) -> 3.22 | H19: 45717 | I19: 2.6847822 | J19: 2.6654832 | K19: 2.0537251 | L19: 2.7210656 | M19: =YEAR(H19) -> 2025
B20: =B19+1 -> 2029 | C20: =ROUND(SUMIF($M$17:$M$379,$B20,$I$17:$I$379)/COUNTIF($M$17:$M$379,$B20),2) -> 4.13 | D20: =ROUND(SUMIF($M$17:$M$379,$B20,$J$17:$J$379)/COUNTIF($M$17:$M$379,$B20),2) -> 4.09 | E20: =ROUND(SUMIF($M$17:$M$379,$B20,$K$17:$K$379)/COUNTIF($M$17:$M$379,$B20),2) -> 4 | F20: =ROUND(SUMIF($M$17:$M$379,$B20,$L$17:$L$379)/COUNTIF($M$17:$M$379,$B20),2) -> 3.79 | H20: 45748 | I20: 1.9317603 | J20: 1.9170212 | K20: 1.5165075 | L20: 1.9378484 | M20: =YEAR(H20) -> 2025
B21: =B20+1 -> 2030 | C21: =ROUND(SUMIF($M$17:$M$379,$B21,$I$17:$I$379)/COUNTIF($M$17:$M$379,$B21),2) -> 5.54 | D21: =ROUND(SUMIF($M$17:$M$379,$B21,$J$17:$J$379)/COUNTIF($M$17:$M$379,$B21),2) -> 5.47 | E21: =ROUND(SUMIF($M$17:$M$379,$B21,$K$17:$K$379)/COUNTIF($M$17:$M$379,$B21),2) -> 5.42 | F21: =ROUND(SUMIF($M$17:$M$379,$B21,$L$17:$L$379)/COUNTIF($M$17:$M$379,$B21),2) -> 5.18 | H21: 45778 | I21: 2.174427 | J21: 2.1585423 | K21: 1.6603228 | L21: 2.1165916 | M21: =YEAR(H21) -> 2025
B22: =B21+1 -> 2031 | C22: =ROUND(SUMIF($M$17:$M$379,$B22,$I$17:$I$379)/COUNTIF($M$17:$M$379,$B22),2) -> 6.52 | D22: =ROUND(SUMIF($M$17:$M$379,$B22,$J$17:$J$379)/COUNTIF($M$17:$M$379,$B22),2) -> 6.44 | E22: =ROUND(SUMIF($M$17:$M$379,$B22,$K$17:$K$379)/COUNTIF($M$17:$M$379,$B22),2) -> 6.38 | F22: =ROUND(SUMIF($M$17:$M$379,$B22,$L$17:$L$379)/COUNTIF($M$17:$M$379,$B22),2) -> 6.15 | H22: 45809 | I22: 2.5624036 | J22: 2.5442136 | K22: 1.5135008 | L22: 2.5326558 | M22: =YEAR(H22) -> 2025
B23: =B22+1 -> 2032 | C23: =ROUND(SUMIF($M$17:$M$379,$B23,$I$17:$I$379)/COUNTIF($M$17:$M$379,$B23),2) -> 6.43 | D23: =ROUND(SUMIF($M$17:$M$379,$B23,$J$17:$J$379)/COUNTIF($M$17:$M$379,$B23),2) -> 6.35 | E23: =ROUND(SUMIF($M$17:$M$379,$B23,$K$17:$K$379)/COUNTIF($M$17:$M$379,$B23),2) -> 6.24 | F23: =ROUND(SUMIF($M$17:$M$379,$B23,$L$17:$L$379)/COUNTIF($M$17:$M$379,$B23),2) -> 6.05 | H23: 45839 | I23: 2.8296073 | J23: 2.8097875 | K23: 1.2723243 | L23: 2.760294 | M23: =YEAR(H23) -> 2025
B24: =B23+1 -> 2033 | C24: =ROUND(SUMIF($M$17:$M$379,$B24,$I$17:$I$379)/COUNTIF($M$17:$M$379,$B24),2) -> 6.29 | D24: =ROUND(SUMIF($M$17:$M$379,$B24,$J$17:$J$379)/COUNTIF($M$17:$M$379,$B24),2) -> 6.21 | E24: =ROUND(SUMIF($M$17:$M$379,$B24,$K$17:$K$379)/COUNTIF($M$17:$M$379,$B24),2) -> 6.06 | F24: =ROUND(SUMIF($M$17:$M$379,$B24,$L$17:$L$379)/COUNTIF($M$17:$M$379,$B24),2) -> 5.92 | H24: 45870 | I24: 2.5406131 | J24: 2.5223025 | K24: 1.8363229 | L24: 2.4552202 | M24: =YEAR(H24) -> 2025
B25: =B24+1 -> 2034 | C25: =ROUND(SUMIF($M$17:$M$379,$B25,$I$17:$I$379)/COUNTIF($M$17:$M$379,$B25),2) -> 6.58 | D25: =ROUND(SUMIF($M$17:$M$379,$B25,$J$17:$J$379)/COUNTIF($M$17:$M$379,$B25),2) -> 6.49 | E25: =ROUND(SUMIF($M$17:$M$379,$B25,$K$17:$K$379)/COUNTIF($M$17:$M$379,$B25),2) -> 6.31 | F25: =ROUND(SUMIF($M$17:$M$379,$B25,$L$17:$L$379)/COUNTIF($M$17:$M$379,$B25),2) -> 6.2 | H25: 45901 | I25: 2.6151394 | J25: 2.5965194 | K25: 1.5369536 | L25: 2.5551013 | M25: =YEAR(H25) -> 2025
B26: =B25+1 -> 2035 | C26: =ROUND(SUMIF($M$17:$M$379,$B26,$I$17:$I$379)/COUNTIF($M$17:$M$379,$B26),2) -> 6.88 | D26: =ROUND(SUMIF($M$17:$M$379,$B26,$J$17:$J$379)/COUNTIF($M$17:$M$379,$B26),2) -> 6.79 | E26: =ROUND(SUMIF($M$17:$M$379,$B26,$K$17:$K$379)/COUNTIF($M$17:$M$379,$B26),2) -> 6.54 | F26: =ROUND(SUMIF($M$17:$M$379,$B26,$L$17:$L$379)/COUNTIF($M$17:$M$379,$B26),2) -> 6.5 | H26: 45931 | I26: 2.2420763 | J26: 2.225548 | K26: 2.1810073 | L26: 2.2830691 | M26: =YEAR(H26) -> 2025
B27: =B26+1 -> 2036 | C27: =ROUND(SUMIF($M$17:$M$379,$B27,$I$17:$I$379)/COUNTIF($M$17:$M$379,$B27),2) -> 7.18 | D27: =ROUND(SUMIF($M$17:$M$379,$B27,$J$17:$J$379)/COUNTIF($M$17:$M$379,$B27),2) -> 7.09 | E27: =ROUND(SUMIF($M$17:$M$379,$B27,$K$17:$K$379)/COUNTIF($M$17:$M$379,$B27),2) -> 6.8 | F27: =ROUND(SUMIF($M$17:$M$379,$B27,$L$17:$L$379)/COUNTIF($M$17:$M$379,$B27),2) -> 6.8 | H27: 45962 | I27: 3.0975373 | J27: 3.0762167 | K27: 2.6906097 | L27: 3.0824045 | M27: =YEAR(H27) -> 2025
B28: =B27+1 -> 2037 | C28: =ROUND(SUMIF($M$17:$M$379,$B28,$I$17:$I$379)/COUNTIF($M$17:$M$379,$B28),2) -> 7.36 | D28: =ROUND(SUMIF($M$17:$M$379,$B28,$J$17:$J$379)/COUNTIF($M$17:$M$379,$B28),2) -> 7.26 | E28: =ROUND(SUMIF($M$17:$M$379,$B28,$K$17:$K$379)/COUNTIF($M$17:$M$379,$B28),2) -> 6.95 | F28: =ROUND(SUMIF($M$17:$M$379,$B28,$L$17:$L$379)/COUNTIF($M$17:$M$379,$B28),2) -> 6.98 | H28: 45992 | I28: 3.0588112 | J28: 3.0371016 | K28: 2.9402107 | L28: 3.0579111 | M28: =YEAR(H28) -> 2025
