Workbook

Sheet Rate Impact-GRC Incremental
A1: GRC Settlement Base Rate Impact - GRC Incremental
A2: Rocky Mountain Power
A3: Estimated Effect of Proposed Changes
A4: on Revenues from Electric Sales to Ultimate Consumers in Utah
A5: Base Period 12 Months Ending December 2023
A6: Forecast Period 12 Months Ending December 2025
G8: No. of | K8: Present 1 | M8: Proposed2
A9: Line | E9: Sch | G9: Customer | I9: MWh | K9: Base | M9: Base | O9: Change
A10: No. | C10: Description | E10: No. | G10: Forecast | I10: Forecast | K10: ($000) | M10: ($000) | O10: ($000) | Q10: (%) | S10: Monthly Average
C11: -1 | E11: =MIN($A11:D11)-1 -> -2 | G11: =MIN($A11:F11)-1 -> -3 | I11: =MIN($A11:H11)-1 -> -4 | K11: =MIN($A11:J11)-1 -> -5 | M11: =MIN($A11:L11)-1 -> -6 | O11: =MIN($A11:N11)-1 -> -7 | Q11: =MIN($A11:P11)-1 -> -8 | T11: Present | U11: Proposed
O12: ="(" & -M11 & ")-(" & -K11 & ")" -> (6)-(5) | Q12: ="(" & -O11 & ")/(" & -K11 & ")" -> (7)/(5) | S12: kWh | T12: $ | U12: $ | V12: ∆ | W12: %
C13: Residential
A14: 1 | C14: Residential | E14: 1/3 | G14: =ROUND(('Rate Design'!D11+'Rate Design'!D30+'Rate Design'!D85)/12,0) -> 955431 | I14: =('Rate Design'!D27+'Rate Design'!D48+'Rate Design'!D102)/1000 -> 8246234.6 | K14: 946585.31 | M14: =('Rate Design'!M27+'Rate Design'!M48+'Rate Design'!M102)/1000 -> 985965.07 | O14: =M14-K14 -> 39379.758 | Q14: =O14/K14 -> 0.041601911 | S14: =ROUND(I14/($G14*12)*1000,0) -> 719 | T14: =ROUND(K14/($G14*12)*1000,2) -> 82.56 | U14: =ROUND(M14/($G14*12)*1000,2) -> 86 | V14: =U14-T14 -> 3.44 | W14: =U14/T14-1 -> 0.041666667
A15: =MAX(A$13:A14)+1 -> 2 | C15: Res. Optional TOD | E15: 2/2E | G15: =ROUND(('Rate Design'!D51+'Rate Design'!D70)/12,0) -> 1029 | I15: =('Rate Design'!D67+'Rate Design'!D82)/1000 -> 13246.398 | K15: 1326.991 | M15: =('Rate Design'!M67+'Rate Design'!M82)/1000 -> 1383.878 | O15: =M15-K15 -> 56.887 | Q15: =O15/K15 -> 0.042869168 | S15: =ROUND(I15/($G15*12)*1000,0) -> 1073 | T15: =ROUND(K15/($G15*12)*1000,2) -> 107.47 | U15: =ROUND(M15/($G15*12)*1000,2) -> 112.07 | V15: =U15-T15 -> 4.6 | W15: =U15/T15-1 -> 0.042802643
A16: =MAX(A$13:A15)+1 -> 3 | C16: AGA/Revenue Credit | K16: 37.13672 | M16: ='Rate Design'!M1275/1000 -> 37.13672 | O16: =M16-K16 -> 0 | Q16: =O16/K16 -> 0
A17: =MAX(A$13:A16)+1 -> 4 | C17: Total Residential | G17: =SUM(G14:G16) -> 956460 | I17: =SUM(I14:I16) -> 8259481 | K17: 947949.44 | M17: =SUM(M14:M16) -> 987386.08 | O17: =SUM(O14:O16) -> 39436.645 | Q17: =O17/K17 -> 0.041602055 | S17: =ROUND(I17/($G17*12)*1000,0) -> 720 | T17: =ROUND(K17/($G17*12)*1000,2) -> 82.59 | U17: =ROUND(M17/($G17*12)*1000,2) -> 86.03 | V17: =U17-T17 -> 3.44 | W17: =U17/T17-1 -> 0.041651532
C18: Commercial & Industrial
A19: =MAX(A$13:A18)+1 -> 5 | C19: Gen. Svc. Dist. | E19: 6 | G19: =ROUND(('Rate Design'!D112+'Rate Design'!D168)/12,0) -> 14281 | I19: =('Rate Design'!D123+'Rate Design'!D179)/1000 -> 6403525.8 | K19: 549379.31 | M19: =('Rate Design'!M123+'Rate Design'!M179)/1000 -> 570479.98 | O19: =M19-K19 -> 21100.668 | Q19: =O19/K19 -> 0.038408196
A20: =MAX(A$13:A19)+1 -> 6 | C20: Gen. Svc. Dist. Energy TOD | E20: 6A | G20: =ROUND(('Rate Design'!D224+'Rate Design'!D284)/12,0) -> 2827 | I20: =('Rate Design'!D236+'Rate Design'!D296)/1000 -> 380064.31 | K20: 44191.168 | M20: =('Rate Design'!M236+'Rate Design'!M296)/1000 -> 45888.662 | O20: =M20-K20 -> 1697.494 | Q20: =O20/K20 -> 0.038412517
A21: =MAX(A$13:A20)+1 -> 7 | C21: Subtotal Schedule 6 | G21: =SUM(G19:G20) -> 17108 | I21: =SUM(I19:I20) -> 6783590.1 | K21: 593570.48 | M21: =SUM(M19:M20) -> 616368.64 | O21: =SUM(O19:O20) -> 22798.162 | Q21: =O21/K21 -> 0.038408517
A22: =MAX(A$13:A21)+1 -> 8 | C22: Gen. Svc. Dist. > 1,000 kW | E22: 8 | G22: =ROUND(('Rate Design'!D389+'Rate Design'!D445)/12,0) -> 223 | I22: =('Rate Design'!D400+'Rate Design'!D456)/1000 -> 2393014.3 | K22: 180100.29 | M22: =('Rate Design'!M400+'Rate Design'!M456)/1000 -> 186985.3 | O22: =M22-K22 -> 6885.016 | Q22: =O22/K22 -> 0.03822879
A23: =MAX(A$13:A22)+1 -> 9 | C23: Gen. Svc. High Voltage | E23: 9 | G23: =ROUND(('Rate Design'!D459)/12,0) -> 164 | I23: =('Rate Design'!D470)/1000 -> 5060524.4 | K23: 293629.89 | M23: =('Rate Design'!M470)/1000 -> 305776.22 | O23: =M23-K23 -> 12146.333 | Q23: =O23/K23 -> 0.041366133
A24: =MAX(A$13:A23)+1 -> 10 | C24: Gen. Svc. High Voltage, Former Contract 2 | E24: 9-C2 | G24: =ROUND(('Rate Design'!D1234)/12,0) -> 1 | I24: =('Rate Design'!D1242)/1000 -> 324160 | K24: 18717.984 | M24: =('Rate Design'!M1242)/1000 -> 19493.902 | O24: =M24-K24 -> 775.918 | Q24: =O24/K24 -> 0.041453075
A25: =MAX(A$13:A24)+1 -> 11 | C25: Gen. Svc. H.V. Energy TOD | E25: 9A | G25: =ROUND(('Rate Design'!D501)/12,0) -> 8 | I25: =('Rate Design'!D511)/1000 -> 45448.732 | K25: 3447.654 | M25: =('Rate Design'!M511)/1000 -> 3589.121 | O25: =M25-K25 -> 141.467 | Q25: =O25/K25 -> 0.04103283
A26: =MAX(A$13:A25)+1 -> 12 | C26: Subtotal Schedule 9 | G26: =SUM(G23:G25) -> 173 | I26: =SUM(I23:I25) -> 5430133.1 | K26: 315795.52 | M26: =SUM(M23:M25) -> 328859.24 | O26: =SUM(O23:O25) -> 13063.718 | Q26: =O26/K26 -> 0.041367648
A27: =MAX(A$13:A26)+1 -> 13 | C27: Irrigation | E27: 10 | G27: =ROUND('Rate Design'!D540+'Rate Design'!D541+'Rate Design'!D562+'Rate Design'!D563,0) -> 3540 | I27: =('Rate Design'!D559+'Rate Design'!D581)/1000 -> 242214.35 | K27: 19702.608 | M27: =('Rate Design'!M559+'Rate Design'!M581)/1000 -> 20455.028 | O27: =M27-K27 -> 752.42 | Q27: =O27/K27 -> 0.038188853
A28: =MAX(A$13:A27)+1 -> 14 | C28: Gen. Svc. Dist. Small | E28: 23 | G28: =ROUND(('Rate Design'!D754+'Rate Design'!D818)/12,0) -> 102995 | I28: =('Rate Design'!D767+'Rate Design'!D831)/1000 -> 1823052.4 | K28: 181756.15 | M28: =('Rate Design'!M767+'Rate Design'!M831)/1000 -> 188697.4 | O28: =M28-K28 -> 6941.244 | Q28: =O28/K28 -> 0.038189871
A29: =MAX(A$13:A28)+1 -> 15 | C29: Partial Req. Svc. >= 1,000 kW | E29: 31 | G29: =ROUND(('Rate Design'!D883+'Rate Design'!D897+'Rate Design'!D911)/12,0) -> 7 | I29: =('Rate Design'!D945)/1000 -> 319328.38 | K29: 19035.503 | M29: =('Rate Design'!M945)/1000 -> 19839.987 | O29: =M29-K29 -> 804.484 | Q29: =O29/K29 -> 0.042262293
A30: =MAX(A$13:A29)+1 -> 16 | C30: Svc. From Ren. Ene. Facilities | E30: 32-9 | G30: =ROUND(('Rate Design'!D1081+'Rate Design'!D1082+'Rate Design'!D1083)/12,0) -> 3 | I30: =('Rate Design'!D1124)/1000 -> 173984.21 | K30: 3855.027 | M30: =('Rate Design'!M1124-'Rate Design'!M1110-'Rate Design'!M1111)/1000 -> 4015.943 | O30: =M30-K30 -> 160.916 | Q30: =O30/K30 -> 0.041741861
A31: =MAX(A$13:A30)+1 -> 17 | C31: Svc. From Ren. Ene. Facilities | E31: 32-6 | G31: =ROUND(('Rate Design'!D1128+'Rate Design'!D1129+'Rate Design'!D1130)/12,0) -> 15 | I31: =('Rate Design'!D1170)/1000 -> 31450.823 | K31: 1618.457 | M31: =('Rate Design'!M1170-'Rate Design'!M1157)/1000 -> 1677.64 | O31: =M31-K31 -> 59.183 | Q31: =O31/K31 -> 0.036567546
A32: =MAX(A$13:A31)+1 -> 18 | C32: Svc. From Ren. Ene. Facilities | E32: 32-8 | G32: =ROUND(('Rate Design'!D1174+'Rate Design'!D1175+'Rate Design'!D1176)/12,0) -> 6 | I32: =('Rate Design'!D1217)/1000 -> 69497.999 | K32: 3583.744 | M32: =('Rate Design'!M1217-'Rate Design'!M1203)/1000 -> 3724.582 | O32: =M32-K32 -> 140.838 | Q32: =O32/K32 -> 0.039299124
A33: =MAX(A$13:A32)+1 -> 19 | C33: Subtotal Schedule 32 | G33: =SUM(G30:G32) -> 24 | I33: =SUM(I30:I32) -> 274933.04 | K33: 9057.228 | M33: =SUM(M30:M32) -> 9418.165 | O33: =SUM(O30:O32) -> 360.937 | Q33: =O33/K33 -> 0.039850714
A34: =MAX(A$13:A33)+1 -> 20 | C34: Ren. Ene. Pur. for Qlf. Cust, Option 2 | E34: 34 | G34: 1 | I34: =('Rate Design'!D1220)/1000 -> 1236762 | K34: 16875.428 | M34: =('Rate Design'!M1220)/1000 -> 16875.428 | O34: =M34-K34 -> 0 | Q34: =O34/K34 -> 0
A35: =MAX(A$13:A34)+1 -> 21 | C35: Contract 1 | G35: =ROUND(('Rate Design'!D1223)/12,0) -> 1 | I35: =('Rate Design'!D1231)/1000 -> 647000 | K35: 40829.443 | M35: =('Rate Design'!M1231)/1000 -> 42382.479 | O35: =M35-K35 -> 1553.036 | Q35: =O35/K35 -> 0.038037159
A36: =MAX(A$13:A35)+1 -> 22 | C36: Contract 3 | G36: 1 | I36: =('Rate Design'!D1248)/1000 -> 1339588 | K36: 104628.47 | M36: =('Rate Design'!M1248)/1000 -> 104628.47 | O36: =M36-K36 -> 0 | Q36: =O36/K36 -> 0
A37: =MAX(A$13:A36)+1 -> 23 | C37: AGA/Revenue Credit | K37: 7039.6781 | M37: =('Rate Design'!M1276+'Rate Design'!M1277+'Rate Design'!M1278)/1000 -> 7039.6781 | O37: =M37-K37 -> 0 | Q37: =O37/K37 -> 0
A38: =MAX(A$13:A37)+1 -> 24 | C38: Total Commercial & Industrial | G38: =SUM(G19:G20,G22:G25,G27:G32,G34:G37) -> 124073 | I38: =SUM(I19:I20,I22:I25,I27:I32,I34:I37) -> 20489616 | K38: 1488390.8 | M38: =SUM(M19:M20,M22:M25,M27:M32,M34:M37) -> 1541549.8 | O38: =SUM(O19:O20,O22:O25,O27:O32,O34:O37) -> 53159.017 | Q38: =O38/K38 -> 0.035715766
C39: Public Street Lighting
A40: =MAX(A$13:A39)+1 -> 25 | C40: Security Area Lighting | E40: 7 | G40: =ROUND(('Rate Design'!D353),0) -> 6333 | I40: =('Rate Design'!D359)/1000 -> 10030.592 | K40: 1372.352 | M40: =('Rate Design'!M359)/1000 -> 1426.482 | O40: =M40-K40 -> 54.13 | Q40: =O40/K40 -> 0.039443233
A41: =MAX(A$13:A40)+1 -> 26 | C41: Street Lighting - Company Owned | E41: 11 | G41: =ROUND(('Rate Design'!D589),0) -> 795 | I41: =('Rate Design'!D610)/1000 -> 13419.474 | K41: 3925.484 | M41: =('Rate Design'!M610)/1000 -> 4080.387 | O41: =M41-K41 -> 154.903 | Q41: =O41/K41 -> 0.039460866
...

Sheet Rate Impact-GRC Total
A1: GRC Settlement Base Rate Impact - GRC Total
A2: Rocky Mountain Power
A3: Estimated Effect of Proposed Changes
A4: on Revenues from Electric Sales to Ultimate Consumers in Utah
A5: Base Period 12 Months Ending December 2023
A6: Forecast Period 12 Months Ending December 2025
G8: No. of | K8: Present 1 | M8: Proposed2
A9: Line | E9: Sch | G9: Customer | I9: MWh | K9: Base | M9: Base | O9: Change
A10: No. | C10: Description | E10: No. | G10: Forecast | I10: Forecast | K10: ($000) | M10: ($000) | O10: ($000) | Q10: (%)
C11: -1 | E11: =MIN($A11:D11)-1 -> -2 | G11: =MIN($A11:F11)-1 -> -3 | I11: =MIN($A11:H11)-1 -> -4 | K11: =MIN($A11:J11)-1 -> -5 | M11: =MIN($A11:L11)-1 -> -6 | O11: =MIN($A11:N11)-1 -> -7 | Q11: =MIN($A11:P11)-1 -> -8
O12: ="(" & -M11 & ")-(" & -K11 & ")" -> (6)-(5) | Q12: ="(" & -O11 & ")/(" & -K11 & ")" -> (7)/(5)
C13: Residential
A14: 1 | C14: Residential | E14: 1/3 | G14: =ROUND(('Rate Design'!D11+'Rate Design'!D30+'Rate Design'!D85)/12,0) -> 955431 | I14: =('Rate Design'!D27+'Rate Design'!D48+'Rate Design'!D102)/1000 -> 8246234.6 | K14: =('Rate Design'!I27+'Rate Design'!I48+'Rate Design'!I102)/1000 -> 903796.53 | M14: =('Rate Design'!M27+'Rate Design'!M48+'Rate Design'!M102)/1000 -> 985965.07 | O14: =M14-K14 -> 82168.544 | Q14: =O14/K14 -> 0.09091487
A15: =MAX(A$13:A14)+1 -> 2 | C15: Res. Optional TOD | E15: 2/2E | G15: =ROUND(('Rate Design'!D51+'Rate Design'!D70)/12,0) -> 1029 | I15: =('Rate Design'!D67+'Rate Design'!D82)/1000 -> 13246.398 | K15: =('Rate Design'!I67+'Rate Design'!I82)/1000 -> 1271.495 | M15: =('Rate Design'!M67+'Rate Design'!M82)/1000 -> 1383.878 | O15: =M15-K15 -> 112.383 | Q15: =O15/K15 -> 0.088386506
A16: =MAX(A$13:A15)+1 -> 3 | C16: AGA/Revenue Credit | K16: ='Rate Design'!I1275/1000 -> 37.13672 | M16: ='Rate Design'!M1275/1000 -> 37.13672 | O16: =M16-K16 -> 0 | Q16: =O16/K16 -> 0
A17: =MAX(A$13:A16)+1 -> 4 | C17: Total Residential | G17: =SUM(G14:G16) -> 956460 | I17: =SUM(I14:I16) -> 8259481 | K17: =SUM(K14:K16) -> 905105.16 | M17: =SUM(M14:M16) -> 987386.08 | O17: =SUM(O14:O16) -> 82280.927 | Q17: =O17/K17 -> 0.090907588
C18: Commercial & Industrial
A19: =MAX(A$13:A18)+1 -> 5 | C19: Gen. Svc. Dist. | E19: 6 | G19: =ROUND(('Rate Design'!D112+'Rate Design'!D168)/12,0) -> 14281 | I19: =('Rate Design'!D123+'Rate Design'!D179)/1000 -> 6403525.8 | K19: =('Rate Design'!I123+'Rate Design'!I179)/1000 -> 534791.64 | M19: =('Rate Design'!M123+'Rate Design'!M179)/1000 -> 570479.98 | O19: =M19-K19 -> 35688.341 | Q19: =O19/K19 -> 0.06673317
A20: =MAX(A$13:A19)+1 -> 6 | C20: Gen. Svc. Dist. Energy TOD | E20: 6A | G20: =ROUND(('Rate Design'!D224+'Rate Design'!D284)/12,0) -> 2827 | I20: =('Rate Design'!D236+'Rate Design'!D296)/1000 -> 380064.31 | K20: =('Rate Design'!I236+'Rate Design'!I296)/1000 -> 43017.667 | M20: =('Rate Design'!M236+'Rate Design'!M296)/1000 -> 45888.662 | O20: =M20-K20 -> 2870.995 | Q20: =O20/K20 -> 0.066739905
A21: =MAX(A$13:A20)+1 -> 7 | C21: Subtotal Schedule 6 | G21: =SUM(G19:G20) -> 17108 | I21: =SUM(I19:I20) -> 6783590.1 | K21: =SUM(K19:K20) -> 577809.3 | M21: =SUM(M19:M20) -> 616368.64 | O21: =SUM(O19:O20) -> 38559.336 | Q21: =O21/K21 -> 0.066733671
A22: =MAX(A$13:A21)+1 -> 8 | C22: Gen. Svc. Dist. > 1,000 kW | E22: 8 | G22: =ROUND(('Rate Design'!D389+'Rate Design'!D445)/12,0) -> 223 | I22: =('Rate Design'!D400+'Rate Design'!D456)/1000 -> 2393014.3 | K22: =('Rate Design'!I400+'Rate Design'!I456)/1000 -> 174469.02 | M22: =('Rate Design'!M400+'Rate Design'!M456)/1000 -> 186985.3 | O22: =M22-K22 -> 12516.283 | Q22: =O22/K22 -> 0.071739286
A23: =MAX(A$13:A22)+1 -> 9 | C23: Gen. Svc. High Voltage | E23: 9 | G23: =ROUND(('Rate Design'!D459)/12,0) -> 164 | I23: =('Rate Design'!D470)/1000 -> 5060524.4 | K23: =('Rate Design'!I470)/1000 -> 281744.34 | M23: =('Rate Design'!M470)/1000 -> 305776.22 | O23: =M23-K23 -> 24031.877 | Q23: =O23/K23 -> 0.085296751
A24: =MAX(A$13:A23)+1 -> 10 | C24: Gen. Svc. High Voltage, Former Contract 2 | E24: 9-C2 | G24: =ROUND(('Rate Design'!D1234)/12,0) -> 1 | I24: =('Rate Design'!D1242)/1000 -> 324160 | K24: =('Rate Design'!I1242)/1000 -> 16067.134 | M24: =('Rate Design'!M1242)/1000 -> 19493.902 | O24: =M24-K24 -> 3426.768 | Q24: =O24/K24 -> 0.21327811
A25: =MAX(A$13:A24)+1 -> 11 | C25: Gen. Svc. H.V. Energy TOD | E25: 9A | G25: =ROUND(('Rate Design'!D501)/12,0) -> 8 | I25: =('Rate Design'!D511)/1000 -> 45448.732 | K25: =('Rate Design'!I511)/1000 -> 2817.835 | M25: =('Rate Design'!M511)/1000 -> 3589.121 | O25: =M25-K25 -> 771.286 | Q25: =O25/K25 -> 0.27371581
A26: =MAX(A$13:A25)+1 -> 12 | C26: Subtotal Schedule 9 | G26: =SUM(G23:G25) -> 173 | I26: =SUM(I23:I25) -> 5430133.1 | K26: =SUM(K23:K25) -> 300629.31 | M26: =SUM(M23:M25) -> 328859.24 | O26: =SUM(O23:O25) -> 28229.931 | Q26: =O26/K26 -> 0.09390279
A27: =MAX(A$13:A26)+1 -> 13 | C27: Irrigation | E27: 10 | G27: =ROUND('Rate Design'!D540+'Rate Design'!D541+'Rate Design'!D562+'Rate Design'!D563,0) -> 3540 | I27: =('Rate Design'!D559+'Rate Design'!D581)/1000 -> 242214.35 | K27: =('Rate Design'!I559+'Rate Design'!I581)/1000 -> 19068.065 | M27: =('Rate Design'!M559+'Rate Design'!M581)/1000 -> 20455.028 | O27: =M27-K27 -> 1386.963 | Q27: =O27/K27 -> 0.07273748
A28: =MAX(A$13:A27)+1 -> 14 | C28: Gen. Svc. Dist. Small | E28: 23 | G28: =ROUND(('Rate Design'!D754+'Rate Design'!D818)/12,0) -> 102995 | I28: =('Rate Design'!D767+'Rate Design'!D831)/1000 -> 1823052.4 | K28: =('Rate Design'!I767+'Rate Design'!I831)/1000 -> 175902.86 | M28: =('Rate Design'!M767+'Rate Design'!M831)/1000 -> 188697.4 | O28: =M28-K28 -> 12794.538 | Q28: =O28/K28 -> 0.072736384
A29: =MAX(A$13:A28)+1 -> 15 | C29: Partial Req. Svc. >= 1,000 kW | E29: 31 | G29: =ROUND(('Rate Design'!D883+'Rate Design'!D897+'Rate Design'!D911)/12,0) -> 7 | I29: =('Rate Design'!D945)/1000 -> 319328.38 | K29: =('Rate Design'!I945)/1000 -> 18496.418 | M29: =('Rate Design'!M945)/1000 -> 19839.987 | O29: =M29-K29 -> 1343.569 | Q29: =O29/K29 -> 0.072639416
A30: =MAX(A$13:A29)+1 -> 16 | C30: Svc. From Ren. Ene. Facilities | E30: 32-9 | G30: =ROUND(('Rate Design'!D1081+'Rate Design'!D1082+'Rate Design'!D1083)/12,0) -> 3 | I30: =('Rate Design'!D1124)/1000 -> 173984.21 | K30: =('Rate Design'!I1124-'Rate Design'!I1110-'Rate Design'!I1111)/1000 -> 3951.837 | M30: =('Rate Design'!M1124-'Rate Design'!M1110-'Rate Design'!M1111)/1000 -> 4015.943 | O30: =M30-K30 -> 64.106 | Q30: =O30/K30 -> 0.016221823
A31: =MAX(A$13:A30)+1 -> 17 | C31: Svc. From Ren. Ene. Facilities | E31: 32-6 | G31: =ROUND(('Rate Design'!D1128+'Rate Design'!D1129+'Rate Design'!D1130)/12,0) -> 15 | I31: =('Rate Design'!D1170)/1000 -> 31450.823 | K31: =('Rate Design'!I1170-'Rate Design'!I1157)/1000 -> 1661.093 | M31: =('Rate Design'!M1170-'Rate Design'!M1157)/1000 -> 1677.64 | O31: =M31-K31 -> 16.547 | Q31: =O31/K31 -> 0.0099615133
A32: =MAX(A$13:A31)+1 -> 18 | C32: Svc. From Ren. Ene. Facilities | E32: 32-8 | G32: =ROUND(('Rate Design'!D1174+'Rate Design'!D1175+'Rate Design'!D1176)/12,0) -> 6 | I32: =('Rate Design'!D1217)/1000 -> 69497.999 | K32: =('Rate Design'!I1217-'Rate Design'!I1203)/1000 -> 3588.193 | M32: =('Rate Design'!M1217-'Rate Design'!M1203)/1000 -> 3724.582 | O32: =M32-K32 -> 136.389 | Q32: =O32/K32 -> 0.038010497
A33: =MAX(A$13:A32)+1 -> 19 | C33: Subtotal Schedule 32 | G33: =SUM(G30:G32) -> 24 | I33: =SUM(I30:I32) -> 274933.04 | K33: =SUM(K30:K32) -> 9201.123 | M33: =SUM(M30:M32) -> 9418.165 | O33: =SUM(O30:O32) -> 217.042 | Q33: =O33/K33 -> 0.023588642
A34: =MAX(A$13:A33)+1 -> 20 | C34: Ren. Ene. Pur. for Qlf. Cust, Option 2 | E34: 34 | G34: 1 | I34: =('Rate Design'!D1220)/1000 -> 1236762 | K34: =('Rate Design'!I1220)/1000 -> 16875.428 | M34: =('Rate Design'!M1220)/1000 -> 16875.428 | O34: =M34-K34 -> 0 | Q34: =O34/K34 -> 0
A35: =MAX(A$13:A34)+1 -> 21 | C35: Contract 1 | G35: =ROUND(('Rate Design'!D1223)/12,0) -> 1 | I35: =('Rate Design'!D1231)/1000 -> 647000 | K35: =('Rate Design'!I1231)/1000 -> 39362.118 | M35: =('Rate Design'!M1231)/1000 -> 42382.479 | O35: =M35-K35 -> 3020.361 | Q35: =O35/K35 -> 0.076732685
A36: =MAX(A$13:A35)+1 -> 22 | C36: Contract 3 | G36: 1 | I36: =('Rate Design'!D1248)/1000 -> 1339588 | K36: =('Rate Design'!I1248)/1000 -> 104628.47 | M36: =('Rate Design'!M1248)/1000 -> 104628.47 | O36: =M36-K36 -> 0 | Q36: =O36/K36 -> 0
A37: =MAX(A$13:A36)+1 -> 23 | C37: AGA/Revenue Credit | K37: =('Rate Design'!I1276+'Rate Design'!I1277+'Rate Design'!I1278)/1000 -> 7039.6781 | M37: =('Rate Design'!M1276+'Rate Design'!M1277+'Rate Design'!M1278)/1000 -> 7039.6781 | O37: =M37-K37 -> 0 | Q37: =O37/K37 -> 0
A38: =MAX(A$13:A37)+1 -> 24 | C38: Total Commercial & Industrial | G38: =SUM(G19:G20,G22:G25,G27:G32,G34:G37) -> 124073 | I38: =SUM(I19:I20,I22:I25,I27:I32,I34:I37) -> 20489616 | K38: =SUM(K19:K20,K22:K25,K27:K32,K34:K37) -> 1443481.8 | M38: =SUM(M19:M20,M22:M25,M27:M32,M34:M37) -> 1541549.8 | O38: =SUM(O19:O20,O22:O25,O27:O32,O34:O37) -> 98068.023 | Q38: =O38/K38 -> 0.067938524
C39: Public Street Lighting
A40: =MAX(A$13:A39)+1 -> 25 | C40: Security Area Lighting | E40: 7 | G40: =ROUND(('Rate Design'!D353),0) -> 6333 | I40: =('Rate Design'!D359)/1000 -> 10030.592 | K40: =('Rate Design'!I359)/1000 -> 1362.222 | M40: =('Rate Design'!M359)/1000 -> 1426.482 | O40: =M40-K40 -> 64.26 | Q40: =O40/K40 -> 0.047172928
A41: =MAX(A$13:A40)+1 -> 26 | C41: Street Lighting - Company Owned | E41: 11 | G41: =ROUND(('Rate Design'!D589),0) -> 795 | I41: =('Rate Design'!D610)/1000 -> 13419.474 | K41: =('Rate Design'!I610)/1000 -> 3897.334 | M41: =('Rate Design'!M610)/1000 -> 4080.387 | O41: =M41-K41 -> 183.053 | Q41: =O41/K41 -> 0.046968774
...

Sheet Rate Spread
A1: GRC Settlement Rate Spread - GRC Total
A2: Rocky Mountain Power
A3: Estimated Effect of Proposed Changes
A4: on Revenues from Electric Sales to Ultimate Consumers in Utah
A5: Base Period 12 Months Ending December 2023
A6: Forecast Period 12 Months Ending December 2025
G8: No. of | K8: Present 1 | M8: Proposed Base2 | P8: Sch 92 Deferral
A9: Line | E9: Sch | G9: Customer | I9: MWh | K9: Base | M9: Base | N9: Change | P9: Present3 | R9: Proposed4
A10: No. | C10: Description | E10: No. | G10: Forecast | I10: Forecast | K10: ($000) | M10: ($000) | N10: ($000) | O10: (%) | P10: ($000) | Q10: Rate (%) | R10: ($000) | S10: Rate (%)
C11: -1 | E11: =MIN($A11:D11)-1 -> -2 | G11: =MIN($A11:F11)-1 -> -3 | I11: =MIN($A11:H11)-1 -> -4 | K11: =MIN($A11:J11)-1 -> -5 | M11: =MIN($A11:L11)-1 -> -6 | N11: =MIN($A11:M11)-1 -> -7 | O11: =MIN($A11:N11)-1 -> -8 | P11: =MIN($A11:O11)-1 -> -9 | Q11: =MIN($A11:P11)-1 -> -10 | R11: =MIN($A11:Q11)-1 -> -11 | S11: =MIN($A11:R11)-1 -> -12
N12: =CONCATENATE("(",-M11,")-(",-K11,")") -> (6)-(5) | O12: =CONCATENATE("(",-N11,")/(",-K11,")") -> (7)/(5) | Q12: =CONCATENATE("(",-P11,")/[(",-M11,")*4.7/12]") -> (9)/[(6)*4.7/12] | S12: =CONCATENATE("(",-R11,")/[(",-M11,")*3.2/12]") -> (11)/[(6)*3.2/12]
C13: Residential
A14: 1 | C14: Residential | E14: 1/3 | G14: =ROUND(('Rate Design'!D11+'Rate Design'!D30+'Rate Design'!D85)/12,0) -> 955431 | I14: =('Rate Design'!D27+'Rate Design'!D48+'Rate Design'!D102)/1000 -> 8246234.6 | K14: =('Rate Design'!I27+'Rate Design'!I48+'Rate Design'!I102)/1000 -> 903796.53 | M14: =K14+N14 -> 985957.38 | N14: =$K14*O14 -> 82160.855 | O14: =M$55 -> 0.090906363 | P14: =$N14/$N$49*P$52 -> 4542.6922 | Q14: =ROUND(P14/($M14*P$58/12),4) -> 0.0117 | R14: =$N14/$N$49*R$52 -> 4678.0396 | S14: =ROUND(R14/($M14*R$58/12),4) -> 0.0178 | U14: =N14/K14-O14 -> 0 | V14: =M14-'Rate Impact-GRC Total'!M14 -> -7.6888592 | W14: =Q14*M14/12*$P$58 -> 4527.4527 | X14: =S14*M14/12*$R$58 -> 4680.011
A15: =MAX(A$13:A14)+1 -> 2 | C15: Res. Optional TOD | E15: 2/2E | G15: =ROUND(('Rate Design'!D51+'Rate Design'!D70)/12,0) -> 1029 | I15: =('Rate Design'!D67+'Rate Design'!D82)/1000 -> 13246.398 | K15: =('Rate Design'!I67+'Rate Design'!I82)/1000 -> 1271.495 | M15: =K15+N15 -> 1387.082 | N15: =$K15*O15 -> 115.58699 | O15: =M$55 -> 0.090906363 | P15: =$N15/$N$49*P$52 -> 6.3908306 | Q15: =ROUND(P15/($M15*P$58/12),4) -> 0.0117 | R15: =$N15/$N$49*R$52 -> 6.5812423 | S15: =ROUND(R15/($M15*R$58/12),4) -> 0.0178 | U15: =N15/K15-O15 -> 0 | V15: =M15-'Rate Impact-GRC Total'!M15 -> 3.2039861 | W15: =Q15*M15/12*$P$58 -> 6.369391 | X15: =S15*M15/12*$R$58 -> 6.5840158
A16: =MAX(A$13:A15)+1 -> 3 | C16: AGA/Revenue Credit | K16: ='Rate Design'!I1275/1000 -> 37.13672 | M16: =K16+N16 -> 37.13672 | N16: =$K16*O16 -> 0 | O16: 0 | U16: =N16/K16-O16 -> 0 | V16: =M16-'Rate Impact-GRC Total'!M16 -> 0 | W16: =Q16*M16/12*$P$58 -> 0 | X16: =S16*M16/12*$R$58 -> 0
A17: =MAX(A$13:A16)+1 -> 4 | C17: Total Residential | G17: =SUM(G14:G16) -> 956460 | I17: =SUM(I14:I16) -> 8259481 | K17: =SUM(K14:K16) -> 905105.16 | M17: =SUM(M14:M16) -> 987381.6 | N17: =SUM(N14:N16) -> 82276.442 | O17: =N17/$K17 -> 0.090902633 | U17: =N17/K17-O17 -> 0 | V17: =M17-'Rate Impact-GRC Total'!M17 -> -4.484873
C18: Commercial & Industrial
A19: =MAX(A$13:A18)+1 -> 5 | C19: Gen. Svc. Dist. | E19: 6 | G19: =ROUND(('Rate Design'!D112+'Rate Design'!D168)/12,0) -> 14281 | I19: =('Rate Design'!D123+'Rate Design'!D179)/1000 -> 6403525.8 | K19: =('Rate Design'!I123+'Rate Design'!I179)/1000 -> 534791.64 | M19: =K19+N19 -> 570481.75 | N19: =$K19*O19 -> 35690.109 | O19: =M$56 -> 0.066736475 | P19: =($N$19+$N$31)/$N$49*P$52*$N19/($N$19+$N$31) -> 1973.3142 | Q19: =ROUND((P19+P31)/(($M19+$M31)*P$58/12),4) -> 0.0088 | R19: =($N$19+$N$31)/$N$49*R$52*$N19/($N$19+$N$31) -> 2032.1081 | S19: =ROUND((R19+R31)/(($M19+$M31)*R$58/12),4) -> 0.0134 | U19: =N19/K19-O19 -> 0 | V19: =M19-'Rate Impact-GRC Total'!M19 -> 1.7675386 | W19: =Q19*M19/12*$P$58 -> 1970.309 | X19: =S19*M19/12*$R$58 -> 2038.5214
A20: =MAX(A$13:A19)+1 -> 6 | C20: Gen. Svc. Dist. Energy TOD | E20: 6A | G20: =ROUND(('Rate Design'!D224+'Rate Design'!D284)/12,0) -> 2827 | I20: =('Rate Design'!D236+'Rate Design'!D296)/1000 -> 380064.31 | K20: =('Rate Design'!I236+'Rate Design'!I296)/1000 -> 43017.667 | M20: =K20+N20 -> 45888.514 | N20: =$K20*O20 -> 2870.8474 | O20: =M$56 -> 0.066736475 | P20: =$N20/$N$49*P$52 -> 158.7298 | Q20: =ROUND(P20/($M20*P$58/12),4) -> 0.0088 | R20: =$N20/$N$49*R$52 -> 163.45908 | S20: =ROUND(R20/($M20*R$58/12),4) -> 0.0134 | U20: =N20/K20-O20 -> 0 | V20: =M20-'Rate Impact-GRC Total'!M20 -> -0.14755571 | W20: =Q20*M20/12*$P$58 -> 158.48807 | X20: =S20*M20/12*$R$58 -> 163.97496
A21: =MAX(A$13:A20)+1 -> 7 | C21: Subtotal Schedule 6 | G21: =SUM(G19:G20) -> 17108 | I21: =SUM(I19:I20) -> 6783590.1 | K21: =SUM(K19:K20) -> 577809.3 | M21: =SUM(M19:M20) -> 616370.26 | N21: =SUM(N19:N20) -> 38560.956 | O21: =N21/$K21 -> 0.066736475 | U21: =N21/K21-O21 -> 0 | V21: =M21-'Rate Impact-GRC Total'!M21 -> 1.6199829
A22: =MAX(A$13:A21)+1 -> 8 | C22: Gen. Svc. Dist. > 1,000 kW | E22: 8 | G22: =ROUND(('Rate Design'!D389+'Rate Design'!D445)/12,0) -> 223 | I22: =('Rate Design'!D400+'Rate Design'!D456)/1000 -> 2393014.3 | K22: =('Rate Design'!I400+'Rate Design'!I456)/1000 -> 174469.02 | M22: =K22+N22 -> 186984.81 | N22: =$K22*O22 -> 12515.793 | O22: =M57 -> 0.071736475 | P22: =($N$22+$N$32)/$N$49*P$52*$N22/($N$22+$N$32) -> 692.00099 | Q22: =ROUND((P22+P32)/(($M22+$M32)*P$58/12),4) -> 0.0095 | R22: =($N$22+$N$32)/$N$49*R$52*$N22/($N$22+$N$32) -> 712.61883 | S22: =ROUND((R22+R32)/(($M22+$M32)*R$58/12),4) -> 0.0144 | U22: =N22/K22-O22 -> 0 | V22: =M22-'Rate Impact-GRC Total'!M22 -> -0.49049361 | W22: =Q22*M22/12*$P$58 -> 697.17187 | X22: =S22*M22/12*$R$58 -> 718.02168
A23: =MAX(A$13:A22)+1 -> 9 | C23: Gen. Svc. High Voltage | E23: 9 | G23: =ROUND(('Rate Design'!D459)/12,0) -> 164 | I23: =('Rate Design'!D470)/1000 -> 5060524.4 | K23: =('Rate Design'!I470)/1000 -> 281744.34 | M23: =K23+N23 -> 307356.69 | N23: =$K23*O23 -> 25612.353 | O23: =M$58 -> 0.090906363 | P23: =($N$23+$N$24+$N$30)/$N$49*P$52*$N23/($N$23+$N$24+$N$30) -> 1416.1128 | Q23: =ROUND((P23+P24+P30)/(($M23+$M24+$M30)*P$58/12),4) -> 0.0117 | R23: =($N$23+$N$24+$N$30)/$N$49*R$52*$N23/($N$23+$N$24+$N$30) -> 1458.3052 | S23: =ROUND((R23+R24+R30)/(($M23+$M24+$M30)*R$58/12),4) -> 0.0178 | U23: =N23/K23-O23 -> 0 | V23: =M23-'Rate Impact-GRC Total'!M23 -> 1580.4764 | W23: =Q23*M23/12*$P$58 -> 1411.3621 | X23: =S23*M23/12*$R$58 -> 1458.9198
A24: =MAX(A$13:A23)+1 -> 10 | C24: Gen. Svc. High Voltage, Former Contract 2 | E24: 9-C2 | G24: =ROUND(('Rate Design'!D1234)/12,0) -> 1 | I24: =('Rate Design'!D1242)/1000 -> 324160 | K24: =('Rate Design'!I1242)/1000 -> 16067.134 | M24: =K24+N24 -> 17527.739 | N24: =$K24*O24 -> 1460.6047 | O24: =M$58 -> 0.090906363 | P24: =($N$23+$N$24+$N$30)/$N$49*P$52*$N24/($N$23+$N$24+$N$30) -> 80.757165 | Q24: =Q23 -> 0.0117 | R24: =($N$23+$N$24+$N$30)/$N$49*R$52*$N24/($N$23+$N$24+$N$30) -> 83.163286 | S24: =S23 -> 0.0178 | U24: =N24/K24-O24 -> 0 | V24: =M24-'Rate Impact-GRC Total'!M24 -> -1966.1633 | W24: =Q24*M24/12*$P$58 -> 80.486245 | X24: =S24*M24/12*$R$58 -> 83.198333
A25: =MAX(A$13:A24)+1 -> 11 | C25: Gen. Svc. H.V. Energy TOD | E25: 9A | G25: =ROUND(('Rate Design'!D501)/12,0) -> 8 | I25: =('Rate Design'!D511)/1000 -> 45448.732 | K25: =('Rate Design'!I511)/1000 -> 2817.835 | M25: =K25+N25 -> 3073.9941 | N25: =$K25*O25 -> 256.15913 | O25: =M$58 -> 0.090906363 | P25: =$N25/$N$49*P$52 -> 14.163096 | Q25: =ROUND(P25/($M25*P$58/12),4) -> 0.0117 | R25: =$N25/$N$49*R$52 -> 14.585079 | S25: =ROUND(R25/($M25*R$58/12),4) -> 0.0178 | U25: =N25/K25-O25 -> 0 | V25: =M25-'Rate Impact-GRC Total'!M25 -> -515.12687 | W25: =Q25*M25/12*$P$58 -> 14.115583 | X25: =S25*M25/12*$R$58 -> 14.591225
A26: =MAX(A$13:A25)+1 -> 12 | C26: Subtotal Schedule 9 | G26: =SUM(G23:G25) -> 173 | I26: =SUM(I23:I25) -> 5430133.1 | K26: =SUM(K23:K25) -> 300629.31 | M26: =SUM(M23:M25) -> 327958.43 | N26: =SUM(N23:N25) -> 27329.117 | O26: =N26/$K26 -> 0.090906363 | U26: =N26/K26-O26 -> 0 | V26: =M26-'Rate Impact-GRC Total'!M26 -> -900.81379
A27: =MAX(A$13:A26)+1 -> 13 | C27: Irrigation | E27: 10 | G27: =ROUND('Rate Design'!D540+'Rate Design'!D541+'Rate Design'!D562+'Rate Design'!D563,0) -> 3540 | I27: =('Rate Design'!D559+'Rate Design'!D581)/1000 -> 242214.35 | K27: =('Rate Design'!I559+'Rate Design'!I581)/1000 -> 19068.065 | M27: =K27+N27 -> 20455.009 | N27: =$K27*O27 -> 1386.9438 | O27: =M59 -> 0.072736475 | P27: =$N27/$N$49*P$52 -> 76.684437 | Q27: =ROUND(P27/($M27*P$58/12),4) -> 0.0096 | R27: =$N27/$N$49*R$52 -> 78.969213 | S27: =ROUND(R27/($M27*R$58/12),4) -> 0.0145 | U27: =N27/K27-O27 -> 0 | V27: =M27-'Rate Impact-GRC Total'!M27 -> -0.019173043 | W27: =Q27*M27/12*$P$58 -> 77.069195 | X27: =S27*M27/12*$R$58 -> 79.092701
A28: =MAX(A$13:A27)+1 -> 14 | C28: Gen. Svc. Dist. Small | E28: 23 | G28: =ROUND(('Rate Design'!D754+'Rate Design'!D818)/12,0) -> 102995 | I28: =('Rate Design'!D767+'Rate Design'!D831)/1000 -> 1823052.4 | K28: =('Rate Design'!I767+'Rate Design'!I831)/1000 -> 175902.86 | M28: =K28+N28 -> 188697.41 | N28: =$K28*O28 -> 12794.554 | O28: =M60 -> 0.072736475 | P28: =$N28/$N$49*P$52 -> 707.41377 | Q28: =ROUND(P28/($M28*P$58/12),4) -> 0.0096 | R28: =$N28/$N$49*R$52 -> 728.49083 | S28: =ROUND(R28/($M28*R$58/12),4) -> 0.0145 | U28: =N28/K28-O28 -> 0 | V28: =M28-'Rate Impact-GRC Total'!M28 -> 0.015921499 | W28: =Q28*M28/12*$P$58 -> 710.96316 | X28: =S28*M28/12*$R$58 -> 729.63
A29: =MAX(A$13:A28)+1 -> 15 | C29: Partial Req. Svc. >= 1,000 kW | E29: 31 | G29: =ROUND(('Rate Design'!D883+'Rate Design'!D897+'Rate Design'!D911)/12,0) -> 7 | I29: =('Rate Design'!D945)/1000 -> 319328.38 | K29: =('Rate Design'!I945)/1000 -> 18496.418 | M29: =K29+N29 -> 20177.86 | N29: =$K29*O29 -> 1681.4421 | O29: =M$58 -> 0.090906363 | P29: =$N29/$N$49*P$52 -> 92.967313 | Q29: =ROUND(P29/($M29*P$58/12),4) -> 0.0117 | R29: =$N29/$N$49*R$52 -> 95.737229 | S29: =ROUND(R29/($M29*R$58/12),4) -> 0.0178 | U29: =N29/K29-O29 -> 0 | V29: =M29-'Rate Impact-GRC Total'!M29 -> 337.87309 | W29: =Q29*M29/12*$P$58 -> 92.655432 | X29: =S29*M29/12*$R$58 -> 95.777576
A30: =MAX(A$13:A29)+1 -> 16 | C30: Svc. From Ren. Ene. Facilities | E30: 32-9 | G30: =ROUND(('Rate Design'!D1081+'Rate Design'!D1082+'Rate Design'!D1083)/12,0) -> 3 | I30: =('Rate Design'!D1124)/1000 -> 173984.21 | K30: =('Rate Design'!I1124-'Rate Design'!I1110-'Rate Design'!I1111)/1000 -> 3951.837 | M30: =K30+N30 -> 4311.0841 | N30: =$K30*O30 -> 359.24713 | O30: =M$58 -> 0.090906363 | P30: =($N$23+$N$24+$N$30)/$N$49*P$52*$N30/($N$23+$N$24+$N$30) -> 19.862855 | Q30: =Q23 -> 0.0117 | R30: =($N$23+$N$24+$N$30)/$N$49*R$52*$N30/($N$23+$N$24+$N$30) -> 20.454659 | S30: =S23 -> 0.0178 | U30: =N30/K30-O30 -> 0 | V30: =M30-'Rate Impact-GRC Total'!M30 -> 295.14113 | W30: =Q30*M30/12*$P$58 -> 19.79622 | X30: =S30*M30/12*$R$58 -> 20.463279
A31: =MAX(A$13:A30)+1 -> 17 | C31: Svc. From Ren. Ene. Facilities | E31: 32-6 | G31: =ROUND(('Rate Design'!D1128+'Rate Design'!D1129+'Rate Design'!D1130)/12,0) -> 15 | I31: =('Rate Design'!D1170)/1000 -> 31450.823 | K31: =('Rate Design'!I1170-'Rate Design'!I1157)/1000 -> 1661.093 | M31: =K31+N31 -> 1812.0969 | N31: =$K31*O31 -> 151.00392 | O31: =M$58 -> 0.090906363 | P31: =($N$19+$N$31)/$N$49*P$52*$N31/($N$19+$N$31) -> 8.349041 | Q31: =Q19 -> 0.0088 | R31: =($N$19+$N$31)/$N$49*R$52*$N31/($N$19+$N$31) -> 8.5977967 | S31: =S19 -> 0.0134 | U31: =N31/K31-O31 -> 0 | V31: =M31-'Rate Impact-GRC Total'!M31 -> 134.45692 | W31: =Q31*M31/12*$P$58 -> 6.2585541 | X31: =S31*M31/12*$R$58 -> 6.4752263
A32: =MAX(A$13:A31)+1 -> 18 | C32: Svc. From Ren. Ene. Facilities | E32: 32-8 | G32: =ROUND(('Rate Design'!D1174+'Rate Design'!D1175+'Rate Design'!D1176)/12,0) -> 6 | I32: =('Rate Design'!D1217)/1000 -> 69497.999 | K32: =('Rate Design'!I1217-'Rate Design'!I1203)/1000 -> 3588.193 | M32: =K32+N32 -> 3914.3826 | N32: =$K32*O32 -> 326.18958 | O32: =M$58 -> 0.090906363 | P32: =($N$22+$N$32)/$N$49*P$52*$N32/($N$22+$N$32) -> 18.035095 | Q32: =Q22 -> 0.0095 | R32: =($N$22+$N$32)/$N$49*R$52*$N32/($N$22+$N$32) -> 18.572442 | S32: =S22 -> 0.0144 | U32: =N32/K32-O32 -> 0 | V32: =M32-'Rate Impact-GRC Total'!M32 -> 189.80058 | W32: =Q32*M32/12*$P$58 -> 14.594754 | X32: =S32*M32/12*$R$58 -> 15.031229
A33: =MAX(A$13:A32)+1 -> 19 | C33: Subtotal Schedule 32 | G33: =SUM(G30:G32) -> 24 | I33: =SUM(I30:I32) -> 274933.04 | K33: =SUM(K30:K32) -> 9201.123 | M33: =SUM(M30:M32) -> 10037.564 | N33: =SUM(N30:N32) -> 836.44063 | O33: =N33/$K33 -> 0.090906363 | U33: =N33/K33-O33 -> 0 | V33: =M33-'Rate Impact-GRC Total'!M33 -> 619.39863
A34: =MAX(A$13:A33)+1 -> 20 | C34: Ren. Ene. Pur. for Qlf. Cust, Option 2 | E34: 34 | G34: 1 | I34: =('Rate Design'!D1220)/1000 -> 1236762 | K34: =('Rate Design'!I1220)/1000 -> 16875.428 | M34: =K34+N34 -> 16875.428 | N34: =$K34*O34 -> 0 | O34: 0 | P34: =$N34/$N$49*P$52 -> 0 | Q34: =ROUND(P34/($M34*P$58/12),4) -> 0 | R34: =$N34/$N$49*R$52 -> 0 | S34: =ROUND(R34/($M34*R$58/12),4) -> 0 | U34: =N34/K34-O34 -> 0 | V34: =M34-'Rate Impact-GRC Total'!M34 -> 0 | W34: =Q34*M34/12*$P$58 -> 0 | X34: =S34*M34/12*$R$58 -> 0
A35: =MAX(A$13:A34)+1 -> 21 | C35: Contract 1 | G35: =ROUND(('Rate Design'!D1223)/12,0) -> 1 | I35: =('Rate Design'!D1231)/1000 -> 647000 | K35: =('Rate Design'!I1231)/1000 -> 39362.118 | M35: =K35+N35 -> 42382.628 | N35: =$K35*O35 -> 3020.5102 | O35: =M53 -> 0.076736475 | P35: =$N35/$N$49*P$52 -> 167.00469 | Q35: =ROUND(P35/($M35*P$58/12),4) -> 0.01 | R35: =$N35/$N$49*R$52 -> 171.98051 | S35: =ROUND(R35/($M35*R$58/12),4) -> 0.0152 | U35: =N35/K35-O35 -> 0 | V35: =M35-'Rate Impact-GRC Total'!M35 -> 0.14917103 | W35: =Q35*M35/12*$P$58 -> 166.34042 | X35: =S35*M35/12*$R$58 -> 171.79092
A36: =MAX(A$13:A35)+1 -> 22 | C36: Contract 3 | G36: 1 | I36: =('Rate Design'!D1248)/1000 -> 1339588 | K36: =('Rate Design'!I1248)/1000 -> 104628.47 | M36: =K36+N36 -> 104628.47 | N36: =$K36*O36 -> 0 | O36: 0 | P36: =$N36/$N$49*P$52 -> 0 | Q36: =ROUND(P36/($M36*P$58/12),4) -> 0 | R36: =$N36/$N$49*R$52 -> 0 | S36: =ROUND(R36/($M36*R$58/12),4) -> 0 | U36: =N36/K36-O36 -> 0 | V36: =M36-'Rate Impact-GRC Total'!M36 -> 0 | W36: =Q36*M36/12*$P$58 -> 0 | X36: =S36*M36/12*$R$58 -> 0
A37: =MAX(A$13:A36)+1 -> 23 | C37: AGA/Revenue Credit | K37: =('Rate Design'!I1276+'Rate Design'!I1277+'Rate Design'!I1278)/1000 -> 7039.6781 | M37: =K37+N37 -> 7039.6781 | N37: =$K37*O37 -> 0 | O37: 0 | U37: =N37/K37-O37 -> 0 | V37: =M37-'Rate Impact-GRC Total'!M37 -> 0
A38: =MAX(A$13:A37)+1 -> 24 | C38: Total Commercial & Industrial | G38: =SUM(G19:G20,G22:G25,G27:G32,G34:G37) -> 124073 | I38: =SUM(I19:I20,I22:I25,I27:I32,I34:I37) -> 20489616 | K38: =SUM(K19:K20,K22:K25,K27:K32,K34:K37) -> 1443481.8 | M38: =SUM(M19:M20,M22:M25,M27:M32,M34:M37) -> 1541607.6 | N38: =SUM(N19:N20,N22:N25,N27:N32,N34:N37) -> 98125.756 | O38: =N38/$K38 -> 0.06797852 | U38: =N38/K38-O38 -> 0 | V38: =M38-'Rate Impact-GRC Total'!M38 -> 57.733334
C39: Public Street Lighting
A40: =MAX(A$13:A39)+1 -> 25 | C40: Security Area Lighting | E40: 7 | G40: =ROUND(('Rate Design'!D353),0) -> 6333 | I40: =('Rate Design'!D359)/1000 -> 10030.592 | K40: =('Rate Design'!I359)/1000 -> 1362.222 | M40: =K40+N40 -> 1425.8875 | N40: =$K40*O40 -> 63.665454 | O40: =M63 -> 0.046736475 | P40: =$N40/$N$49*P$52 -> 3.5200773 | Q40: =ROUND(P40/($M40*P$58/12),4) -> 0.0063 | R40: =$N40/$N$49*R$52 -> 3.6249563 | S40: =ROUND(R40/($M40*R$58/12),4) -> 0.0095 | U40: =N40/K40-O40 -> 0 | V40: =M40-'Rate Impact-GRC Total'!M40 -> -0.594546 | W40: =Q40*M40/12*$P$58 -> 3.5256217 | X40: =S40*M40/12*$R$58 -> 3.6122482
A41: =MAX(A$13:A40)+1 -> 26 | C41: Street Lighting - Company Owned | E41: 11 | G41: =ROUND(('Rate Design'!D589),0) -> 795 | I41: =('Rate Design'!D610)/1000 -> 13419.474 | K41: =('Rate Design'!I610)/1000 -> 3897.334 | M41: =K41+N41 -> 4079.4817 | N41: =$K41*O41 -> 182.14765 | O41: =M64 -> 0.046736475 | P41: =$N41/$N$49*P$52 -> 10.070985 | Q41: =ROUND(P41/($M41*P$58/12),4) -> 0.0063 | R41: =$N41/$N$49*R$52 -> 10.371045 | S41: =ROUND(R41/($M41*R$58/12),4) -> 0.0095 | U41: =N41/K41-O41 -> 0 | V41: =M41-'Rate Impact-GRC Total'!M41 -> -0.90534821 | W41: =Q41*M41/12*$P$58 -> 10.086847 | X41: =S41*M41/12*$R$58 -> 10.334687
...

Sheet Rate Design
A1: GRC Settlement Rate Design
A2: Rocky Mountain Power - State of Utah
A3: Blocking Based on Adjusted Actuals and Forecasted Loads
A4: Base Period 12 Months Ending December 2023
A5: Forecast Period 12 Months Ending December 2025
F7: Present 1 | K7: Proposed2
C8: Units | H8: Revenue
C9: Base | D9: Forecast | F9: Price | H9: Base | I9: Forecast | K9: Price | M9: Revenue | O9: rounding | P9: 4
A10: Schedule 1
A11: Total Customer | C11: =SUM(C12:C15) -> 9912896.3 | D11: 10211689
A12: Single Family - 1 Phase | C12: 7541300.7 | D12: =ROUND($C12/$C$11*D$11,0) -> 7768609 | F12: 10 | H12: =ROUND($F12*C12,0) -> 75413007 | I12: =ROUND($F12*D12,0) -> 77686090 | K12: =F12+2 -> 12 | M12: =ROUND($K12*D12,0) -> 93223308 | O12: Res 1, 2, 2E, 3, 135, 136, 137
A13: Multi Family - 1 Phase | C13: 2355534.1 | D13: =ROUND($C13/$C$11*D$11,0) -> 2426534 | F13: 6 | H13: =ROUND($F13*C13,0) -> 14133204 | I13: =ROUND($F13*D13,0) -> 14559204 | K13: =F13+1 -> 7 | M13: =ROUND($K13*D13,0) -> 16985738 | O13: In Rate | P13: =M27+M48+M67+M82+M102 -> 987348948
A14: Single Family - 3 Phase | C14: 3639.398 | D14: =ROUND($C14/$C$11*D$11,0) -> 3749 | F14: 20 | H14: =ROUND($F14*C14,0) -> 72788 | I14: =ROUND($F14*D14,0) -> 74980 | K14: =K12+7.5 -> 19.5 | M14: =ROUND($K14*D14,0) -> 73106 | O14: Target | P14: =('Rate Spread'!M14+'Rate Spread'!M15)*1000 -> 9.8734446e+08
A15: Multi Family - 3 Phase | C15: 12422.133 | D15: =ROUND($C15/$C$11*D$11,0) -> 12797 | F15: 12 | H15: =ROUND($F15*C15,0) -> 149066 | I15: =ROUND($F15*D15,0) -> 153564 | K15: =K13+7.5 -> 14.5 | M15: =ROUND($K15*D15,0) -> 185557 | O15: D | P15: =P14-P13 -> -4484.873
A16: Aggregate Charge | C16: 0 | D16: =ROUND($C16/$C$11*D$11,0) -> 0 | F16: 2 | H16: =ROUND($F16*C16,0) -> 0 | I16: =ROUND($F16*D16,0) -> 0 | K16: =F16 -> 2 | M16: =ROUND($K16*D16,0) -> 0
A17: Non-Standard Meter Reading Fee | C17: 483.1 | D17: =ROUND($C17/$C$11*D$11,0) -> 498 | F17: 22 | H17: =ROUND($F17*C17,0) -> 10628 | I17: =ROUND($F17*D17,0) -> 10956 | K17: =F17 -> 22 | M17: =ROUND($K17*D17,0) -> 10956 | O17: In Rate Change | P17: =P13/($I$27+$I$48+$I$67+$I$82+$I$102)-1 -> 0.090911318
A18: Paperless Bill Credit | C18: 6120807 | D18: 7098075.7 | F18: -0.5 | H18: =ROUND($F18*C18,0) -> -3060404 | I18: =ROUND($F18*D18,0) -> -3549038 | K18: =F18 -> -0.5 | M18: =ROUND($K18*D18,0) -> -3549038 | O18: Target Change | P18: =P14/($I$27+$I$48+$I$67+$I$82+$I$102)-1 -> 0.090906363
A19: On-Peak kWh (Jun - Sept) | C19: 0 | D19: =ROUND($C19/SUM($C21:$C22)*SUM(D21:D22),0) -> 0 | F19: 4.356 | G19: ¢ | H19: =ROUND($F19*C19/100,0) -> 0 | I19: =ROUND($F19*D19/100,0) -> 0 | K19: =F19 -> 4.356 | L19: ¢ | M19: =ROUND($K19*D19/100,0) -> 0 | O19: Energy % | P19: =(P14-SUM(M12:M18,M31:M37,M52:M58,M71:M77,M86:M92))/SUM(I19:I25,I38:I46,I59:I65,I78:I80,I93:I99)-1 -> 0.0769322
A20: Off-Peak kWh (Jun - Sept) | C20: 0 | D20: =ROUND($C20/SUM($C21:$C22)*SUM(D21:D22),0) -> 0 | F20: -1.6334 | G20: ¢ | H20: =ROUND($F20*C20/100,0) -> 0 | I20: =ROUND($F20*D20/100,0) -> 0 | K20: =F20 -> -1.6334 | L20: ¢ | M20: =ROUND($K20*D20/100,0) -> 0 | O20: season | Q20: =K21/K23 -> 1.1299931 | R20: =K22/K24 -> 1.1300022
A21: First 400 kWh (Jun-Sept) | C21: 1184431973 | D21: 1280445808 | F21: 9.0279 | G21: ¢ | H21: =ROUND($F21*C21/100,0) -> 106929334 | I21: =ROUND($F21*D21/100,0) -> 115597367 | K21: =ROUND(($P$14-SUM(M12:M20,M25,M31:M41,M46,M52:M60,M65,M82,M86:M94,M99)-(F22-F21)/100*SUM(D22,D43,D62,D96)-(F24-F23)/100*SUM(D24,D45,D64,D98))/(SUM(D21:D22,D42:D43,D61:D62,D95:D96)+F23/F21*SUM(D23:D24,D44:D45,D63:D64,D97:D98))*100,$P$9) -> 9.8332 | L21: ¢ | M21: =ROUND($K21*D21/100,0) -> 125908797 | O21: tier | Q21: =K22-K21 -> 2.6931 | R21: =F22-F21 -> 2.6931
A22: All add'l kWh (Jun-Sept) | C22: 1.6835879e+09 | D22: 1820064906 | F22: 11.721 | G22: ¢ | H22: =ROUND($F22*C22/100,0) -> 197333338 | I22: =ROUND($F22*D22/100,0) -> 213329808 | K22: =K21+F22-F21 -> 12.5263 | L22: ¢ | M22: =ROUND($K22*D22/100,0) -> 227986790 | O22: Basic Charge | Q22: =K24-K23 -> 2.3832 | R22: =F24-F23 -> 2.3832
A23: First 400 kWh (Oct-May) | C23: 2282008538 | D23: 2250428111 | F23: 7.9893 | G23: ¢ | H23: =ROUND($F23*C23/100,0) -> 182316508 | I23: =ROUND($F23*D23/100,0) -> 179793453 | K23: =ROUND(K21*F23/F21,$P$9) -> 8.702 | L23: ¢ | M23: =ROUND($K23*D23/100,0) -> 195832254 | O23: tier | P23: 0
A24: All add'l kWh (Oct-May) | C24: 2.1294211e+09 | D24: 2099952291 | F24: 10.3725 | G24: ¢ | H24: =ROUND($F24*C24/100,0) -> 220874201 | I24: =ROUND($F24*D24/100,0) -> 217817551 | K24: =K23+F24-F23 -> 11.0852 | L24: ¢ | M24: =ROUND($K24*D24/100,0) -> 232783911 | O24: Avg Usage - A | P24: =ROUND(D27/D11,0) -> 731
A25: Subscriber Solar kWh | C25: 16475158 | D25: =ROUND($C25/$C$27*D$27,0) -> 16815241 | F25: 11.9126 | G25: ¢ | H25: =ROUND($F25*C25/100,0) -> 1962620 | I25: =ROUND($F25*D25/100,0) -> 2003132 | K25: 12.0525 | L25: ¢ | M25: =ROUND($K25*D25/100,0) -> 2026657 | O25: Avg Usage - S | P25: =ROUND(SUM(D21:D22,D25*4/12)/(D11*4/12),0) -> 913
A26: Unbilled | C26: 20749664 | H26: 2688568 | O26: Avg Usage - W | P26: =ROUND(SUM(D23:D24,D25*8/12)/(D11*8/12),0) -> 641
A27: Total | C27: =SUM(C21:C26) -> 7.3166743e+09 | D27: 7.4677064e+09 | H27: =SUM(H12:H26) -> 798822858 | I27: =SUM(I12:I26) -> 817477067 | M27: =SUM(M12:M26) -> 891468036 | O27: In Rate Change | P27: =M27/I27-1 -> 0.09051137
A29: Schedule 135-136-137
A30: Total Customer | C30: =SUM(C31:C34) -> 788997.92 | D30: 1040676 | O30: Sch73 | P30: Present | Q30: Proposed
A31: Single Family - 1 Phase | C31: 766112.18 | D31: =ROUND($C31/$C$30*D$30,0) -> 1010490 | F31: 10 | H31: =ROUND($F31*C31,0) -> 7661122 | I31: =ROUND($F31*D31,0) -> 10104900 | K31: =K12 -> 12 | M31: =ROUND($K31*D31,0) -> 12125880 | O31: D | P31: 4.1876 | Q31: =Q33-Q32 -> 4.3275
A32: Multi Family - 1 Phase | C32: 22471.233 | D32: =ROUND($C32/$C$30*D$30,0) -> 29639 | F32: 6 | H32: =ROUND($F32*C32,0) -> 134827 | I32: =ROUND($F32*D32,0) -> 177834 | K32: =K13 -> 7 | M32: =ROUND($K32*D32,0) -> 207473 | O32: G | P32: 7.725 | Q32: =P32 -> 7.725
A33: Single Family - 3 Phase | C33: 186.5005 | D33: =ROUND($C33/$C$30*D$30,0) -> 246 | F33: 20 | H33: =ROUND($F33*C33,0) -> 3730 | I33: =ROUND($F33*D33,0) -> 4920 | K33: =K14 -> 19.5 | M33: =ROUND($K33*D33,0) -> 4797 | O33: T | P33: =SUM(P31:P32) -> 11.9126 | Q33: =K25 -> 12.0525
A34: Multi Family - 3 Phase | C34: 228 | D34: =ROUND($C34/$C$30*D$30,0) -> 301 | F34: 12 | H34: =ROUND($F34*C34,0) -> 2736 | I34: =ROUND($F34*D34,0) -> 3612 | K34: =K15 -> 14.5 | M34: =ROUND($K34*D34,0) -> 4365
A35: Aggregate Charge | C35: 1232.955 | D35: =ROUND($C35/$C$30*D$30,0) -> 1626 | F35: 2 | H35: =ROUND($F35*C35,0) -> 2466 | I35: =ROUND($F35*D35,0) -> 3252 | K35: =K16 -> 2 | M35: =ROUND($K35*D35,0) -> 3252
A36: Non-Standard Meter Reading Fee | C36: 40 | D36: =ROUND($C36/$C$30*D$30,0) -> 53 | F36: 22 | H36: =ROUND($F36*C36,0) -> 880 | I36: =ROUND($F36*D36,0) -> 1166 | K36: =K17 -> 22 | M36: =ROUND($K36*D36,0) -> 1166
A37: Paperless Bill Credit | C37: 546761 | D37: 723366.83 | F37: -0.5 | H37: =ROUND($F37*C37,0) -> -273381 | I37: =ROUND($F37*D37,0) -> -361683 | K37: =K18 -> -0.5 | M37: =ROUND($K37*D37,0) -> -361683
A38: On-Peak kWh (Jun - Sept) | C38: 31440 | D38: =ROUND($C38/SUM($C42:$C43)*SUM(D42:D43),0) -> 45401 | F38: 4.356 | G38: ¢ | H38: =ROUND($F38*C38/100,0) -> 1370 | I38: =ROUND($F38*D38/100,0) -> 1978 | K38: =K19 -> 4.356 | L38: ¢ | M38: =ROUND($K38*D38/100,0) -> 1978
A39: Off-Peak kWh (Jun - Sept) | C39: 203190 | D39: =ROUND($C39/SUM($C42:$C43)*SUM(D42:D43),0) -> 293414 | F39: -1.6334 | G39: ¢ | H39: =ROUND($F39*C39/100,0) -> -3319 | I39: =ROUND($F39*D39/100,0) -> -4793 | K39: =K20 -> -1.6334 | L39: ¢ | M39: =ROUND($K39*D39/100,0) -> -4793
A40: On-Peak kWh | C40: 124577 | D40: =$C40/($C$48)*D$48 -> 168932.71 | F40: 25.3532 | G40: ¢ | H40: =ROUND($F40*C40/100,0) -> 31584 | I40: =ROUND($F40*D40/100,0) -> 42830 | K40: =K78 -> 27.3037 | L40: ¢ | M40: =ROUND($K40*D40/100,0) -> 46125
A41: Off-Peak kWh | C41: 1140971 | D41: =$C41/($C$48)*D$48 -> 1547214.4 | F41: 5.2004 | G41: ¢ | H41: =ROUND($F41*C41/100,0) -> 59335 | I41: =ROUND($F41*D41/100,0) -> 80461 | K41: =K79 -> 5.6005 | L41: ¢ | M41: =ROUND($K41*D41/100,0) -> 86652
A42: First 400 kWh (Jun-Sept) | C42: 76905411 | D42: 111054258 | F42: 9.0279 | G42: ¢ | H42: =ROUND($F42*C42/100,0) -> 6942944 | I42: =ROUND($F42*D42/100,0) -> 10025867 | K42: =K21 -> 9.8332 | L42: ¢ | M42: =ROUND($K42*D42/100,0) -> 10920187
...

Sheet Sch31-32 Rate
A1: Rocky Mountain Power - State of Utah
A2: Calculation of Proposed Schedule 31 and Schedule 32 Rates
A4: Schedule 6 - Distribution Voltage Full Requirements (<1 MW)
A5: Billing Component | B5: Present Price | D5: Proposed Price | F5: Change
A6: Customer Charge | B6: 53 | D6: ='Rate Design'!K112 -> 58 | F6: =D6-B6 -> 5
A7: Power Charge, Jun-Sept ($/kW) | B7: 13.27 | D7: ='Rate Design'!K116 -> 14.49
A8: Power Charge, Oct-May ($/kW) | B8: 11.74 | D8: ='Rate Design'!K117 -> 12.82
A9: Facilities Charge ($/kW) | B9: 3.99 | D9: ='Rate Design'!K115 -> 4.36
A10: Voltage Discount | B10: -0.96 | D10: ='Rate Design'!K120 -> -0.96
A12: Schedule 8 - Distribution Voltage Full Requirements (1 MW+)
A13: Billing Component | B13: Present Price | D13: Proposed Price | F13: Change
A14: Customer Charge | B14: 71 | D14: ='Rate Design'!K389 -> 76 | F14: =D14-B14 -> 5
A15: Power Charge, Jun-Sept ($/kW) | B15: 15.73 | D15: ='Rate Design'!K392 -> 16.84
A16: Power Charge, Oct-May ($/kW) | B16: 13.92 | D16: ='Rate Design'!K393 -> 14.9
A17: Facilities Charge ($/kW) | B17: 4.81 | D17: ='Rate Design'!K391 -> 5.15
A18: Voltage Discount | B18: -1.13 | D18: ='Rate Design'!K398 -> -1.13
A20: Schedule 9 - Transmission Voltage Full Requirements
A22: Billing Component | B22: Present Price | D22: Proposed Price | F22: Change
A23: Customer Charge | B23: 266 | D23: ='Rate Design'!K459 -> 399 | F23: =D23-B23 -> 133
A24: Power Charge, Jun-Sept ($/kW) | B24: 14.33 | D24: ='Rate Design'!K463 -> 15.54
A25: Power Charge, Oct-May ($/kW) | B25: 12.68 | D25: ='Rate Design'!K464 -> 13.75
A26: Facilities Charge ($/kW) | B26: 2.28 | D26: ='Rate Design'!K462 -> 2.47
A28: Schedule 31 - Partial Requirements
A30: Billing Component | B30: Present Price | D30: Full Requirements Customer Change | F30: Proposed Price
A31: Customer Charge, Secondary Voltage | B31: 137 | C31: + | D31: =$F$14 -> 5 | E31: = | F31: =B31+D31 -> 142
A32: Customer Charge, Primary Voltage | B32: 621 | C32: + | D32: =$F$14 -> 5 | E32: = | F32: =B32+D32 -> 626
A33: Customer Charge, Transmission Voltage | B33: 696 | C33: + | D33: =$F$23 -> 133 | E33: = | F33: =B33+D33 -> 829
A36: Billing Component | B36: Present Price | L36: Proposed Price
A37: Backup Facilities Charge, Secondary Voltage ($/kW) | B37: 5.75 | L37: =ROUND(B37*(1+'Rate Design'!$P$393),2) -> 6.16
A38: Backup Facilities Charge, Primary Voltage ($/kW) | B38: 4.58 | L38: =ROUND(B38*(1+'Rate Design'!$P$393),2) -> 4.91
A39: Backup Facilities Charge, Transmission Voltage ($/kW) | B39: 2.7 | L39: =ROUND(B39*(1+2*'Rate Design'!P467),2) -> 3.16
A41: Billing Component | B41: Present Price | D41: Full Requirements Demand-Related Charges | F41: Proposed Backup Facilities Charge | H41: Monthly Power Charge | J41: On-Peak Days in a Month | L41: Proposed Price
A42: Backup Power Charge, Secondary Voltage, Jun-Sept ($/kW/day) | B42: 0.9 | D42: =D15+D17 -> 21.99 | E42: - | F42: =L37 -> 6.16 | G42: = | H42: =D42-F42 -> 15.83 | I42: / | J42: =((5*52)-8)/12 -> 21 | K42: = | L42: =ROUND(H42/J42,2) -> 0.75
A43: Backup Power Charge, Secondary Voltage, Oct-May ($/kW/day) | B43: 0.8 | D43: =D16+D17 -> 20.05 | E43: - | F43: =F42 -> 6.16 | G43: = | H43: =D43-F43 -> 13.89 | I43: / | J43: =J42 -> 21 | K43: = | L43: =ROUND(H43/J43,2) -> 0.66
A44: Backup Power Charge, Primary Voltage, Jun-Sept ($/kW/day) | B44: 0.88 | D44: =D15+D17+D18 -> 20.86 | E44: - | F44: =L38 -> 4.91 | G44: = | H44: =D44-F44 -> 15.95 | I44: / | J44: =J43 -> 21 | K44: = | L44: =ROUND(H44/J44,2) -> 0.76
A45: Backup Power Charge, Primary Voltage, Oct-May ($/kW/day) | B45: 0.78 | D45: =D16+D17+D18 -> 18.92 | E45: - | F45: =F44 -> 4.91 | G45: = | H45: =D45-F45 -> 14.01 | I45: / | J45: =J44 -> 21 | K45: = | L45: =ROUND(H45/J45,2) -> 0.67
A46: Backup Power Charge, Transmission Voltage, Jun-Sept ($/kW/day) | B46: 0.78 | D46: =D24+D26 -> 18.01 | E46: - | F46: =L39 -> 3.16 | G46: = | H46: =D46-F46 -> 14.85 | I46: / | J46: =J45 -> 21 | K46: = | L46: =ROUND(H46/J46,2) -> 0.71
A47: Backup Power Charge, Transmission Voltage, Oct-May ($/kW/day) | B47: 0.69 | D47: =D25+D26 -> 16.22 | E47: - | F47: =F46 -> 3.16 | G47: = | H47: =D47-F47 -> 13.06 | I47: / | J47: =J46 -> 21 | K47: = | L47: =ROUND(H47/J47,2) -> 0.62
A50: Billing Component | B50: Present Price | D50: Full Requirements Demand-Related Charges | F50: Proposed Price
A51: Excess Power Charge, Secondary Voltage, Jun-Sept ($/kW) | B51: 41.89 | D51: =D42 -> 21.99 | E51: x 2 = | F51: =ROUND(D51*2,2) -> 43.98
...
