{"text_format":"1","workbook":"xlsx","n_sheets":43,"sheets":["Ex 1 HDD","Exhibit 1.1","Exhibit 1.2","Exhibit 1.3","Ex 2 Clay Basin","Ex 2 Aquifers","Ex 2 Spire Storage West","Exhibit 2.1","Exhibit 2.2","Exhibit 2.3","Exhibit 2.4","Exhibit 2.5","Exhibit 2.6","Exhibit Firm Sales Volume","Exhibit 3.1","Exhibit 3.2","Exhibit 3.3","Exhibit 3.4","Ex 4 Purchase Gas","Exhibit 4.1","Exhibit 4.2","Exhibit 4.3","Ex 5 Purchase Gas Cost","Exhibit 5.1","Exhibit 5.2","Exhibit 5.3","Ex 6 Purch Gas Unit Cost","Exhibit 6.1","Exhibit 6.2","Ex 7 Co. Owned Gas","Exhibit 7.1","Exhibit 7.2","Exhibit 7.3","Ex 8 New Drill","Exhibit 8.1","Exhibit 8.2","Exhibit 8.3","Company Nom Groups","Normal Purchase %","IRP Pruch Cover Sheet","Shut-In","Deleted Exhibit 2.5","Deleted Exhibit 2.6"],"not_rendered":{"charts":28,"images":0,"macros":1,"external_links":11,"defined_names":1378,"comments":4,"pivot_tables":0},"unopened":[],"bounds":{"document_bytes":16777216,"sheet_cells":100000,"rows_first":2000,"rows_last":500,"rows_between":2000,"halvings":0,"cell_chars":16384,"cell_head_chars":4096},"cells_cut":0,"cells_raw":0,"read":"whole","date_system":"1900"}

{"sheet":"Ex 1 HDD","index":0,"n_rows":36,"n_cols":9,"rows_kept":36,"cut":false,"hidden":false,"merged":[[0,0,0,5],[1,0,1,5],[1,8,1,9],[26,0,26,6],[4,0,4,6]]}
["Heating Degree Days",null,null,null,null,null,"Docket",null,"Dominion Energy Utah"]
[null,null,null,null,null,null,null,null,"Docket No. 20-057-02"]
[null,null,null,null,null,null,null,null,"IRP Variance Exhibit"]
[]
[]
[]
["Month/Year","Actual","Normal",null,null,"Actual","Normal"]
["2020-06-01",66,37.519999999999996,{"$f":"B8-C8","v":28.480000000000004},null,{"$f":"B8","v":66},37.519999999999996]
["2020-07-01",0,0,{"$f":"B9-C9","v":0},null,{"$f":"B9+F8","v":66},{"$f":"G8+C9","v":37.519999999999996}]
["2020-08-01",0,1.8699999999999903,-1.8699999999999903,null,66,{"$f":"G9+C10","v":39.389999999999986}]
["2020-09-01",54,61.409999999999989,-7.4099999999999895,null,120,100.79999999999998]
["2020-10-01",293,342.03,-49.029999999999973,null,413,442.82999999999993]
["2020-11-01",670,711.57999999999993,-41.579999999999927,null,1083,1154.4099999999999]
["2020-12-01",1077,1054.6899999999998,22.310000000000173,null,2160,2209.0999999999995]
["2021-01-01",985,1083.33,-98.329999999999927,null,3145,3292.4299999999994]
["2021-02-01",793,819.68000000000006,-26.680000000000064,null,3938,4112.1099999999997]
["2021-03-01",620,620.29999999999995,-0.29999999999995453,null,4558,4732.41]
["2021-04-01",407,423.68999999999983,-16.689999999999827,null,4965,5156.0999999999995]
["2021-05-01",126,196.79999999999998,-70.799999999999983,null,5091,5352.9]
[null,{"$f":"SUM(B8:B19)","v":5091},{"$f":"SUM(G8:G19)","v":26667.519999999997},{"$f":"SUM(D8:D19)","v":-261.89999999999947}]
[]
[]
[]
[]
[]
[]
[]
[]
[]
[]
[]
[]
[]
[]
[]
[null,null,null,null,null,null,{"$f":"4.08-3.28","v":0.80000000000000027},{"$f":"3.86-3.59","v":0.27}]

{"sheet":"Exhibit 1.1","index":1,"n_rows":32,"n_cols":17,"rows_kept":32,"cut":false,"hidden":false,"merged":[]}
[]
[]
[]
[]
[]
[]
[]
[]
[]
[]
[]
[]
[]
[]
[]
[]
[]
[]
[]
[]
[]
[]
[]
[]
[]
[]
[]
[]
[]
[]
[null,null,null,null,null,null,null,null,null,null,null,null,null,null,{"$f":"'Ex 1 HDD'!I3","v":"IRP Variance Exhibit"},{"$f":"'Ex 1 HDD'!I2","v":"Docket No. 20-057-02"},{"$f":"'Ex 1 HDD'!I1","v":"Dominion Energy Utah"}]
[null,null,null,null,null,null,null,null,null,null,null,null,null,null,1.1000000000000001]

{"sheet":"Exhibit 1.2","index":2,"n_rows":32,"n_cols":17,"rows_kept":32,"cut":false,"hidden":false,"merged":[]}
[]
[]
[]
[]
[]
[]
[]
[]
[]
[]
[]
[]
[]
[]
[]
[]
[]
[]
[]
[]
[]
[]
[]
[]
[]
[]
[]
[]
[]
[]
[null,null,null,null,null,null,null,null,null,null,null,null,null,null,{"$f":"'Ex 1 HDD'!I3","v":"IRP Variance Exhibit"},{"$f":"'Ex 1 HDD'!I2","v":"Docket No. 20-057-02"},{"$f":"'Ex 1 HDD'!I1","v":"Dominion Energy Utah"}]
[null,null,null,null,null,null,null,null,null,null,null,null,null,null,1.2]

{"sheet":"Exhibit 1.3","index":3,"n_rows":32,"n_cols":17,"rows_kept":32,"cut":false,"hidden":false,"merged":[]}
[]
[]
[]
[]
[]
[]
[]
[]
[]
[]
[]
[]
[]
[]
[]
[]
[]
[]
[]
[]
[]
[]
[]
[]
[]
[]
[]
[]
[]
[]
[null,null,null,null,null,null,null,null,null,null,null,null,null,null,{"$f":"'Ex 1 HDD'!I3","v":"IRP Variance Exhibit"},{"$f":"'Ex 1 HDD'!I2","v":"Docket No. 20-057-02"},{"$f":"'Ex 1 HDD'!I1","v":"Dominion Energy Utah"}]
[null,null,null,null,null,null,null,null,null,null,null,null,null,null,1.3]

{"sheet":"Ex 2 Clay Basin","index":4,"n_rows":76,"n_cols":21,"rows_kept":76,"cut":false,"hidden":false,"merged":[[3,0,3,8],[0,0,0,8],[4,0,4,8],[1,0,1,4],[2,0,2,5]]}
["Clay Basin Ending Inventory (MDths)"]
[]
[]
[]
[null,null,null,null,null,null,null,null,null,null,null,null,"Plan Year 1",1106]
[null,null,null,null,null,null,null,null,null,null,"Month/Year","Month","Inj","With","Total"]
["Month/Year","Actual","Normal",null,"Actual","Actual/1000",null,"Actual","Normal",null,null,null,null,null,3690]
[{"$f":"'Ex 1 HDD'!$A$8","v":"2020-06-01"},{"$f":"F8","v":5206.8140000000003},{"$f":"O8","v":5441.2},{"$f":"B8-C8","v":-234.38599999999951},5206814,{"$f":"E8/1000","v":5206.8140000000003},null,{"$f":"F8","v":5206.8140000000003},{"$f":"C8","v":5441.2},null,{"$f":"A8","v":"2020-06-01"},{"$f":"O7","v":3690},1751.2,0,{"$f":"L8+M8-N8","v":5441.2},null,123.428,null,{"$f":"M8/30","v":58.373333333333335},null,{"$f":"(M8-N8)/30","v":58.373333333333335}]
[{"$f":"'Ex 1 HDD'!$A$9","v":"2020-07-01"},{"$f":"F9","v":7129.4639999999999},{"$f":"O9","v":7662.1},-532.63600000000042,7129464,{"$f":"E9/1000","v":7129.4639999999999},null,{"$f":"H8+F9","v":12336.278},{"$f":"C9+I8","v":13103.3},null,{"$f":"A9","v":"2020-07-01"},{"$f":"O8","v":5441.2},2220.9,0,7662.1,null,66.779499999999999,null,{"$f":"M9/31","v":71.641935483870967},null,{"$f":"(M9-N9)/31","v":71.641935483870967}]
[{"$f":"'Ex 1 HDD'!$A$10","v":"2020-08-01"},8625.5290000000005,9769.1,-1143.5709999999999,8625529,8625.5290000000005,null,{"$f":"H9+F10","v":20961.807000000001},22872.400000000001,null,"2020-08-01",{"$f":"O9","v":7662.1},2107,0,9769.1,null,19.965599999999998,null,{"$f":"M10/31","v":67.967741935483872},null,{"$f":"(M10-N10)/31","v":67.967741935483872}]
[{"$f":"'Ex 1 HDD'!$A$11","v":"2020-09-01"},10271.245000000001,12169.1,-1897.8549999999996,10271245,10271.245000000001,null,31233.052000000003,{"$f":"C11+I10","v":35041.5},null,"2020-09-01",9769.1,2400,0,12169.1,null,0,null,77.41935483870968,null,77.41935483870968]
[{"$f":"'Ex 1 HDD'!$A12","v":"2020-10-01"},10280.678,12998.9,-2718.2219999999998,10280678,10280.678,null,41513.730000000003,48040.4,null,"2020-10-01",12169.1,829.8,0,12998.9,null,0,null,26.767741935483869,null,26.767741935483869]
[{"$f":"'Ex 1 HDD'!$A13","v":"2020-11-01"},11063.630999999999,12998.9,-1935.2690000000002,11063631,11063.630999999999,null,52577.361000000004,61039.3,null,"2020-11-01",12998.9,0,0,12998.9,null,0,null,0,null,0]
[{"$f":"'Ex 1 HDD'!$A14","v":"2020-12-01"},9503.4779999999992,12998.9,-3495.4220000000005,9503478,9503.4779999999992,null,62080.839000000007,74038.2,null,"2020-12-01",12998.9,0,0,12998.9,null,3417.48,null,0,null,0]
[{"$f":"'Ex 1 HDD'!$A15","v":"2021-01-01"},6997.7280000000001,{"$f":"O15","v":8901.9},-1904.1719999999996,6997728,6997.7280000000001,null,69078.56700000001,82940.099999999991,null,"2021-01-01",12998.9,0,4097,8901.9,null,5311.68,null,0,null,-132.16129032258064]
[{"$f":"'Ex 1 HDD'!$A16","v":"2021-02-01"},4224.9390000000003,{"$f":"O16","v":5794.5},-1569.5609999999997,4224939,4224.9390000000003,null,73303.506000000008,88734.599999999991,null,"2021-02-01",8901.9,0,3107.4,5794.5,null,3252.24,null,0,null,-100.23870967741935]
[{"$f":"'Ex 1 HDD'!$A17","v":"2021-03-01"},2947.7249999999999,{"$f":"O17","v":2389.6},558.125,2947725,2947.7249999999999,null,76251.231000000014,91124.2,null,"2021-03-01",5794.5,0,3404.9,2389.6,null,0,null,0,null,-109.83548387096775]
[{"$f":"'Ex 1 HDD'!$A18","v":"2021-04-01"},2495.5329999999999,{"$f":"O18","v":519},1976.5329999999999,2495533,2495.5329999999999,null,78746.76400000001,91643.199999999997,null,"2021-04-01",2389.6,0,1870.6,519,null,0,null,0,null,-60.341935483870962]
[{"$f":"'Ex 1 HDD'!$A19","v":"2021-05-01"},4043.0509999999999,{"$f":"O19","v":519},3524.0509999999999,4043051,4043.0509999999999,null,82789.815000000017,92162.2,null,"2021-05-01",519,0,0,519,null,0,null,0,null,0]
[]
[null,null,null,null,null,null,null,null,null,null,null,null,{"$f":"SUM(M8:M19)","v":9308.9},{"$f":"SUM(N8:N19)","v":12479.9},{"$f":"SUM(N8:N19)","v":12479.9}]
[]
[]
[]
[null,null,null,null,null,null,null,null,null,{"$f":"O15","v":8901.9},null,null,{"$f":"M18/30","v":0}]
[null,null,null,null,null,null,null,1,{"$f":"N16/29","v":107.15172413793104},{"$f":"J25-$I$26","v":8794.7482758620681},null,null,0.44444444444444442,{"$f":"M8*$M$26","v":778.31111111111113},{"$f":"M8*$M$27","v":486.44444444444446},{"$f":"O26","v":486.44444444444446}]
[null,null,null,null,null,null,null,2,null,{"$f":"J26-$I$26","v":8687.5965517241366},null,null,0.27777777777777779,{"$f":"M9*$M$26","v":987.06666666666661},{"$f":"M9*$M$27","v":616.91666666666674},{"$f":"O27","v":616.91666666666674}]
[null,null,null,null,null,null,null,3,null,8580.4448275862051,null,null,0.27777777777777779,936.44444444444434,585.27777777777783,585.27777777777783]
[null,null,null,null,null,null,null,4,null,{"$f":"J28-$I$26","v":8473.2931034482735},null,null,null,1066.6666666666665,666.66666666666674,666.66666666666674]
[null,null,null,null,null,null,null,5,null,8366.141379310342,null,null,null,368.79999999999995,230.5,230.5]
[null,null,null,null,null,null,null,6,null,8258.9896551724105,null,null,null,0,0,0]
[null,null,null,null,null,null,null,7,null,8151.8379310344799,null,null,null,0,0,0]
[null,null,null,null,null,null,null,8,null,8044.6862068965493]
[null,null,null,null,null,null,null,9,null,7937.5344827586187]
[null,null,null,null,null,null,null,10,null,7830.382758620688]
[null,null,null,null,null,null,null,11,null,7723.2310344827574]
[null,null,null,null,null,null,null,12,null,7616.0793103448268]
[null,null,null,null,null,null,null,13,null,7508.9275862068962]
[null,null,null,null,null,null,null,14,null,7401.7758620689656]
[null,null,null,null,null,null,null,15,null,7294.624137931035]
[null,null,null,null,null,null,null,16,null,{"$f":"J40-$I$26","v":7187.4724137931044}]
[null,null,null,null,null,null,null,17,null,7080.3206896551737]
[null,5626242,8026685,10622439,12607382,null,null,18,null,6973.1689655172431]
[null,null,null,null,12434437,null,null,19,null,6866.0172413793125]
[null,null,null,null,10491542,null,null,20,null,6758.8655172413819]
[null,null,null,null,null,null,null,21,null,6651.7137931034513]
[null,null,null,null,null,null,null,22,null,6544.5620689655207]
[null,null,null,null,null,null,null,23,null,6437.4103448275901]
[null,13419,null,null,null,null,null,24,null,6330.2586206896594]
[null,0.2276,null,null,null,null,null,25,null,6223.1068965517288]
[null,{"$f":"B49*B50","v":3054.1644000000001},null,null,null,null,null,26,null,6115.9551724137982]
[null,null,null,null,null,null,null,27,null,6008.8034482758676]
[null,null,null,null,null,null,null,28,null,5901.651724137937]
[null,null,null,null,null,null,null,29,null,5794.5000000000064]
[null,null,null,null,null,null,null,30]
[]
[]
[null,null,null,null,null,"June","July","August","September","October","November","December","January","February","March","April","May"]
[null,null,null,null,null,4587175,7350188,10347695,12594397,12186418,{"$f":"E13","v":11063631},{"$f":"E14","v":9503478},{"$f":"E15","v":6997728},{"$f":"E16","v":4224939}]
[null,null,null,null,0.44444440000000002,{"$f":"$E60*F$59/1000","v":2038.7442405700001},{"$f":"$E60*G$59/1000","v":3266.7498955472001},4598.975095658001,5597.5092180268002,5416.1852361592,4917.1688416164006,4223.7675776232009,3110.1010223232001,1877.7504788916001]
[null,null,null,null,0.27777780000000002,{"$f":"$E61*F$59/1000","v":1274.2153797150002},2041.7190522264002,2874.3599521710003,3498.4438909866003,3385.1163819204003,3073.2310791918003,2639.8552111884001,1943.8134888384002,1173.5942605542]
[null,null,null,null,0.27777780000000002,1274.2153797150002,2041.7190522264002,2874.3599521710003,3498.4438909866003,3385.1163819204003,3073.2310791918003,2639.8552111884001,1943.8134888384002,1173.5942605542]
[null,null,null,null,{"$f":"SUM(E60:E62)","v":1},{"$f":"SUM(F60:F62)","v":4587.1750000000002},{"$f":"SUM(G60:G62)","v":7350.1880000000001},10347.695000000002,12594.397000000001,12186.418000000001,11063.631000000001,9503.478000000001,6997.7280000000001,4224.9390000000003]
[]
[null,null,null,null,null,13419]
[null,null,null,null,null,{"$f":"F60/$F$65","v":0.15192966991355542},0.24344212650325658,0.3427211487933528,0.4171331111131083,0.40362063016314181,0.36643332898251735,0.31476023381945012,0.23176846429116923,0.13993222139441092]
[null,null,null,null,null,{"$f":"F61/$F$65","v":9.4956060788061722E-2},0.15215135645177735,0.21420075655197857,0.26070824137317239,0.25226293925928911,0.22902087183782699,0.19672518154768612,0.14485531625593562,8.7457654113883301E-2]
[null,null,null,null,null,{"$f":"F62/$F$65","v":9.4956060788061722E-2},0.15215135645177735,0.21420075655197857,0.26070824137317239,0.25226293925928911,0.22902087183782699,0.19672518154768612,0.14485531625593562,8.7457654113883301E-2]
[null,null,null,null,null,{"$f":"F63/$F$65","v":0.3418417914896788},0.54774483940681129,0.77112266189730994,0.93854959385945302,0.90814650868172009,0.82447507265817133,0.70821059691482235,0.5214790968030405,0.31484752962217755]
[]
[]
[null,null,null,null,null,13419]
[null,null,null,null,null,{"$f":"F60/$F$65*100","v":15.192966991355542},{"$f":"G60/$F$65*100","v":24.344212650325659},34.272114879335277,41.71331111131083,40.362063016314181,36.643332898251735,31.476023381945012,23.176846429116924,13.993222139441091]
[null,null,null,null,null,{"$f":"F61/$F$65*100","v":9.4956060788061727},15.215135645177735,21.420075655197856,26.070824137317238,25.226293925928911,22.902087183782697,19.672518154768611,14.485531625593563,8.7457654113883301]
[null,null,null,null,null,{"$f":"F62/$F$65*100","v":9.4956060788061727},15.215135645177735,21.420075655197856,26.070824137317238,25.226293925928911,22.902087183782697,19.672518154768611,14.485531625593563,8.7457654113883301]
[null,null,null,null,null,{"$f":"F70/$F$65","v":0},0,0,0,0,0,0,0,0]

{"sheet":"Ex 2 Aquifers","index":5,"n_rows":48,"n_cols":21,"rows_kept":48,"cut":false,"hidden":false,"merged":[[31,0,31,11],[2,0,2,14],[1,0,1,14],[3,0,3,9]]}
["Total Aquifer Storage Ending Inventory (MDths)"]
[]
[]
[null,null,null,null,null,null,null,null,null,null,null,null,null,null,1082,1106]
[]
[null,null,null,null,null,null,null,1.0549999999999999,null,null,null,null,"Month/Year","Month","Inj","With","Total"]
["Month/Year","Actual","Normal",null,"Actual","IRP",null,"MCF","DTH","MDTH",null,null,null,null,null,null,804,null,null,null,497.53800000000001]
[{"$f":"'Ex 1 HDD'!$A$8","v":"2020-06-01"},{"$f":"J8","v":735.70399999999995},{"$f":"Q8","v":804},{"$f":"B8-C8","v":-68.296000000000049},{"$f":"B8","v":735.70399999999995},{"$f":"C8","v":804},null,{"$f":"I8/$H$6","v":697349.76303317538},735704,{"$f":"I8/1000","v":735.70399999999995},null,null,{"$f":"A8","v":"2020-06-01"},{"$f":"Q7","v":804},0,0,{"$f":"N8+O8-P8","v":804},null,null,null,365]
[{"$f":"'Ex 1 HDD'!$A$9","v":"2020-07-01"},{"$f":"J9","v":735.70399999999995},{"$f":"Q9","v":804},{"$f":"B9-C9","v":-68.296000000000049},{"$f":"B9+E8","v":1471.4079999999999},{"$f":"C9+F8","v":1608},null,{"$f":"I9/$H$6","v":697349.76303317538},735704,{"$f":"I9/1000","v":735.70399999999995},null,null,{"$f":"A9","v":"2020-07-01"},{"$f":"Q8","v":804},0,0,{"$f":"N9+O9-P9","v":804},null,null,null,12]
[{"$f":"'Ex 1 HDD'!$A$10","v":"2020-08-01"},732.596,804,{"$f":"B10-C10","v":-71.403999999999996},{"$f":"B10+E9","v":2204.0039999999999},{"$f":"C10+F9","v":2412},null,694403.79146919434,732596,732.596,null,null,"2020-08-01",{"$f":"Q9","v":804},0,0,804,null,null,null,{"$f":"SUM(U7:U9)","v":874.53800000000001}]
[{"$f":"'Ex 1 HDD'!$A$11","v":"2020-09-01"},894.27200000000005,1224,{"$f":"B11-C11","v":-329.72799999999995},{"$f":"B11+E10","v":3098.2759999999998},3636,null,847651.18483412324,894272,894.27200000000005,null,null,"2020-09-01",804,420,0,{"$f":"N11+O11-P11","v":1224}]
[{"$f":"'Ex 1 HDD'!$A12","v":"2020-10-01"},1424.473,1807.3679999999999,-382.89499999999998,{"$f":"B12+E11","v":4522.7489999999998},5443.3680000000004,null,1350211.3744075829,1424473,1424.473,null,null,"2020-10-01",1224,583.36800000000005,0,{"$f":"N12+O12-P12","v":1807.3679999999999}]
[{"$f":"'Ex 1 HDD'!$A13","v":"2020-11-01"},1774.116,1927.3679999999999,-153.25199999999995,6296.8649999999998,7370.7360000000008,null,1681626.5402843603,1774116,1774.116,null,null,"2020-11-01",1807.3679999999999,120,0,{"$f":"N13+O13-P13","v":1927.3679999999999}]
[{"$f":"'Ex 1 HDD'!$A14","v":"2020-12-01"},1754.2190000000001,1928.3679999999999,-174.14899999999989,8051.0839999999998,9299.1040000000012,null,{"$f":"I14/$H$6","v":1662766.8246445497},1754219,1754.2190000000001,null,null,"2020-12-01",1927.3679999999999,1,0,{"$f":"N14+O14-P14","v":1928.3679999999999}]
[{"$f":"'Ex 1 HDD'!$A15","v":"2021-01-01"},1757.6320000000001,1928.3679999999999,-170.73599999999988,9808.7160000000003,11227.472000000002,null,1666001.8957345972,1757632,1757.6320000000001,null,null,"2021-01-01",1928.3679999999999,0,0,1928.3679999999999]
[{"$f":"'Ex 1 HDD'!$A16","v":"2021-02-01"},1248.5809999999999,1748.528,-499.94700000000012,11057.297,12976.000000000002,null,1183489.0995260663,1248581,{"$f":"I16/1000","v":1248.5809999999999},null,null,"2021-02-01",1928.3679999999999,0,179.84,1748.528]
[{"$f":"'Ex 1 HDD'!$A17","v":"2021-03-01"},954.49599999999998,869.02499999999998,85.471000000000004,12011.793,13845.025000000001,null,904735.54502369673,954496,{"$f":"I17/1000","v":954.49599999999998},null,null,"2021-03-01",1748.528,0,879.50300000000004,869.02499999999998]
[{"$f":"'Ex 1 HDD'!$A18","v":"2021-04-01"},719.81,828.98,-109.17000000000007,12731.602999999999,14674.005000000001,null,682284.36018957349,719810,{"$f":"I18/1000","v":719.81},null,null,"2021-04-01",869.02499999999998,0,40.045000000000002,828.98]
[{"$f":"'Ex 1 HDD'!$A19","v":"2021-05-01"},757.08199999999999,828.98,-71.898000000000025,13488.684999999999,15502.985000000001,null,717613.27014218015,757082,{"$f":"I19/1000","v":757.08199999999999},null,null,"2021-05-01",828.98,0,0,828.98]
[null,null,null,null,null,null,null,null,null,null,null,null,null,null,{"$f":"SUM(O8:O19)","v":1124.3679999999999},{"$f":"SUM(P8:P19)","v":1099.3880000000001}]
[]
[null,{"$f":"SUM(B14:B16)","v":4760.4319999999998},{"$f":"SUM(C14:C16)","v":5605.2640000000001},null,null,null,null,5,{"$f":"H22*$H$6","v":5.2749999999999995},null,null,null,null,null,"Inj","With"]
[null,null,null,null,null,null,null,6,{"$f":"H23*$H$6","v":6.33},null,null,null,null,null,0,0]
[null,null,null,null,null,null,null,7,{"$f":"H24*$H$6","v":7.3849999999999998},null,null,null,null,null,0,0]
[null,null,null,null,null,null,null,8,{"$f":"H25*$H$6","v":8.44},null,null,null,null,null,0,0]
[null,null,null,null,null,null,null,null,null,null,null,null,null,null,0,0]
[null,null,null,null,null,null,null,null,null,null,null,null,null,null,154.24600000000001,0]
[null,null,null,null,null,null,null,null,null,null,null,null,null,null,0,0]
[null,null,null,null,null,null,null,null,null,null,null,null,null,null,0,331.74400000000003]
[null,null,null,null,null,null,null,null,null,null,null,null,null,null,0,238.15100000000001]
[null,null,null,null,null,null,null,null,null,null,null,null,null,null,0,0]
[null,null,null,null,null,null,null,null,null,null,null,null,null,null,0,0]
[null,null,null,null,null,null,null,null,null,null,null,null,null,null,0,0]
[null,null,null,null,null,null,null,null,null,null,null,null,null,null,0,0]
[null,null,null,null,null,null,null,null,null,null,null,null,null,null,154.24600000000001,569.89499999999998]
["chalk",252153,252153,null,null,null,null,"Second",null,"First"]
["coal",648967,648967,null,null,null,null,1761005.0485872477,null,1761005.0485872477]
["leroy",774377,774377,null,null,null,null,1423780.0485872515,null,1423780.0485872515]
[null,{"$f":"SUM(B36:B38)","v":1675497},{"$f":"SUM(C36:C38)","v":1675497},null,null,null,null,851240.04858725052,null,851240.04858725052]
[null,null,null,null,null,null,null,1009513.0485872505,null,1009513.0485872505]
[null,null,null,null,null,null,null,750042.04858725145,null,750042.04858725145]
[null,null,null,null,null,"June",null,741193.04858725145,null,741193.04858725145]
[null,null,null,null,null,"July",null,742210.04858725145,null,742210.04858725145]
[null,null,null,null,null,"August",null,733274.04858724773,null,733274.04858724773]
[null,null,null,null,null,"September",null,779680.04858724773,null,824078.04858724773,null,{"$f":"J45-H45","v":44398}]
[null,null,null,null,null,"October",null,1488952.0485872477,null,1533352.0485872477,null,{"$f":"J46-H46","v":44400}]
[null,null,null,null,null,"November",null,1625943.0485872477,null,1681681.0485872477,null,{"$f":"J47-H47","v":55738}]
[null,null,null,null,null,"December",null,1627170.0485872477]

{"sheet":"Ex 2 Spire Storage West","index":6,"n_rows":21,"n_cols":17,"rows_kept":21,"cut":false,"hidden":false,"merged":[]}
[]
[]
[]
[]
[null,null,null,null,null,null,null,null,null,null,null,null,null,null,1082,1106]
[null,null,null,null,null,null,null,1000,null,null,null,null,null,"Month","Inj","With","Total"]
[{"$f":"'Ex 1 HDD'!A7","v":"Month/Year"},"Actual","Normal","Days","Daily Demand",null,"Actual Dth","MDth",null,"Actual","Normal",null,null,null,null,null,731]
[{"$f":"'Ex 1 HDD'!A8","v":"2020-06-01"},{"$f":"H8","v":843.03300000000002},{"$f":"Q8","v":1072.73},{"$f":"DAY(EOMONTH(A8,0))","v":30},{"$f":"C8/D8","v":35.757666666666665},null,843033,{"$f":"G8/$H$6","v":843.03300000000002},null,949.73599999999999,{"$f":"C8","v":1072.73},null,{"$f":"A8","v":"2020-06-01"},{"$f":"Q7","v":731},341.73,0,{"$f":"N8+O8-P8","v":1072.73}]
[{"$f":"'Ex 1 HDD'!A9","v":"2020-07-01"},{"$f":"H9","v":1195.162},{"$f":"Q9","v":1425.85},{"$f":"DAY(EOMONTH(A9,0))","v":31},{"$f":"C9/D9","v":45.995161290322578},null,1195162,{"$f":"G9/$H$6","v":1195.162},null,{"$f":"B9+J8","v":2144.8980000000001},{"$f":"C9+K8","v":2498.58},null,{"$f":"A9","v":"2020-07-01"},{"$f":"Q8","v":1072.73},353.12,0,1425.85]
[{"$f":"'Ex 1 HDD'!A10","v":"2020-08-01"},{"$f":"H10","v":1547.2909999999999},1778.9699999999998,31,57.386129032258061,null,1547291,1547.2909999999999,null,3692.1890000000003,4277.5499999999993,null,"2020-08-01",{"$f":"Q9","v":1425.85},353.12,0,1778.9699999999998]
[{"$f":"'Ex 1 HDD'!A11","v":"2020-09-01"},{"$f":"H11","v":1803.8150000000001},2120.6999999999998,30,70.69,null,1803815,1803.8150000000001,null,5496.0040000000008,6398.2499999999991,null,"2020-09-01",1778.9699999999998,341.73,0,2120.6999999999998]
[{"$f":"'Ex 1 HDD'!A12","v":"2020-10-01"},2072.413,2473.819,31,79.800612903225812,null,2072413,2072.413,null,7568.4170000000013,8872.0689999999995,null,"2020-10-01",2120.6999999999998,353.11900000000003,0,2473.819]
[{"$f":"'Ex 1 HDD'!A13","v":"2020-11-01"},1948.3620000000001,2511.0070000000001,30,83.70023333333333,null,1948362,1948.3620000000001,null,9516.7790000000023,11383.075999999999,null,"2020-11-01",2473.819,37.188000000000002,0,2511.0070000000001]
[{"$f":"'Ex 1 HDD'!A14","v":"2020-12-01"},1433.7619999999999,2003.0070000000001,31,64.613129032258072,null,1433762,1433.7619999999999,null,10950.541000000003,13386.082999999999,null,"2020-12-01",2511.0070000000001,0,508,2003.0070000000001]
[{"$f":"'Ex 1 HDD'!A15","v":"2021-01-01"},919.16200000000003,1488.4070000000002,31,48.013129032258071,null,919162,919.16200000000003,null,11869.703000000003,14874.489999999998,null,"2021-01-01",2003.0070000000001,0,514.6,1488.4070000000002]
[{"$f":"'Ex 1 HDD'!A16","v":"2021-02-01"},454.36200000000002,1023.6070000000002,28,36.557392857142865,null,454362,454.36200000000002,null,12324.065000000002,15898.096999999998,null,"2021-02-01",1488.4070000000002,0,464.8,1023.6070000000002]
[{"$f":"'Ex 1 HDD'!A17","v":"2021-03-01"},{"$f":"G17","v":0},509.00700000000018,31,16.419580645161297,null,0,0,null,12324.065000000002,16407.103999999999,null,"2021-03-01",1023.6070000000002,0,514.6,509.00700000000018]
[{"$f":"'Ex 1 HDD'!A18","v":"2021-04-01"},0,11.007000000000176,30,0.36690000000000583,null,0,0,null,12324.065000000002,16418.111000000001,null,"2021-04-01",509.00700000000018,0,498,11.007000000000176]
[{"$f":"'Ex 1 HDD'!A19","v":"2021-05-01"},0,11.007000000000176,31,0.35506451612903794,null,0,0,null,12324.065000000002,16429.118000000002,null,"2021-05-01",11.007000000000176,0,0,11.007000000000176]
[]
[null,null,null,null,null,null,null,null,null,null,null,null,null,null,{"$f":"SUM(O8:O20)","v":1780.0070000000001},{"$f":"SUM(O8:O19)","v":1780.0070000000001},{"$f":"SUM(P8:P19)","v":2500}]

{"sheet":"Exhibit 2.1","index":7,"n_rows":32,"n_cols":17,"rows_kept":32,"cut":false,"hidden":false,"merged":[]}
[]
[]
[]
[]
[]
[]
[]
[]
[]
[]
[]
[]
[]
[]
[]
[]
[]
[]
[]
[]
[]
[]
[]
[]
[]
[]
[]
[]
[]
[]
[null,null,null,null,null,null,null,null,null,null,null,null,null,null,{"$f":"'Exhibit 1.1'!O31","v":"IRP Variance Exhibit"},{"$f":"'Exhibit 1.1'!P31","v":"Docket No. 20-057-02"},{"$f":"'Exhibit 1.1'!Q31","v":"Dominion Energy Utah"}]
[null,null,null,null,null,null,null,null,null,null,null,null,null,null,2.1]

{"sheet":"Exhibit 2.2","index":8,"n_rows":32,"n_cols":17,"rows_kept":32,"cut":false,"hidden":false,"merged":[]}
[]
[]
[]
[]
[]
[]
[]
[]
[]
[]
[]
[]
[]
[]
[]
[]
[]
[]
[]
[]
[]
[]
[]
[]
[]
[]
[]
[]
[]
[]
[null,null,null,null,null,null,null,null,null,null,null,null,null,null,{"$f":"'Exhibit 1.1'!O31","v":"IRP Variance Exhibit"},{"$f":"'Exhibit 1.1'!P31","v":"Docket No. 20-057-02"},{"$f":"'Exhibit 1.1'!Q31","v":"Dominion Energy Utah"}]
[null,null,null,null,null,null,null,null,null,null,null,null,null,null,2.2000000000000002]

{"sheet":"Exhibit 2.3","index":9,"n_rows":32,"n_cols":17,"rows_kept":32,"cut":false,"hidden":false,"merged":[]}
[]
[]
[]
[]
[]
[]
[]
[]
[]
[]
[]
[]
[]
[]
[]
[]
[]
[]
[]
[]
[]
[]
[]
[]
[]
[]
[]
[]
[]
[]
[null,null,null,null,null,null,null,null,null,null,null,null,null,null,{"$f":"'Exhibit 1.1'!O31","v":"IRP Variance Exhibit"},{"$f":"'Exhibit 1.1'!P31","v":"Docket No. 20-057-02"},{"$f":"'Exhibit 1.1'!Q31","v":"Dominion Energy Utah"}]
[null,null,null,null,null,null,null,null,null,null,null,null,null,null,2.2999999999999998]

{"sheet":"Exhibit 2.4","index":10,"n_rows":32,"n_cols":17,"rows_kept":32,"cut":false,"hidden":false,"merged":[]}
[]
[]
[]
[]
[]
[]
[]
[]
[]
[]
[]
[]
[]
[]
[]
[]
[]
[]
[]
[]
[]
[]
[]
[]
[]
[]
[]
[]
[]
[]
[null,null,null,null,null,null,null,null,null,null,null,null,null,null,{"$f":"'Exhibit 1.1'!O31","v":"IRP Variance Exhibit"},{"$f":"'Exhibit 1.1'!P31","v":"Docket No. 20-057-02"},{"$f":"'Exhibit 1.1'!Q31","v":"Dominion Energy Utah"}]
[null,null,null,null,null,null,null,null,null,null,null,null,null,null,2.4]

{"sheet":"Exhibit 2.5","index":11,"n_rows":32,"n_cols":17,"rows_kept":32,"cut":false,"hidden":false,"merged":[]}
[]
[]
[]
[]
[]
[]
[]
[]
[]
[]
[]
[]
[]
[]
[]
[]
[]
[]
[]
[]
[]
[]
[]
[]
[]
[]
[]
[]
[]
[]
[null,null,null,null,null,null,null,null,null,null,null,null,null,null,{"$f":"'Exhibit 1.1'!O31","v":"IRP Variance Exhibit"},{"$f":"'Exhibit 1.1'!P31","v":"Docket No. 20-057-02"},{"$f":"'Exhibit 1.1'!Q31","v":"Dominion Energy Utah"}]
[null,null,null,null,null,null,null,null,null,null,null,null,null,null,2.5]

{"sheet":"Exhibit 2.6","index":12,"n_rows":32,"n_cols":17,"rows_kept":32,"cut":false,"hidden":false,"merged":[]}
[]
[]
[]
[]
[]
[]
[]
[]
[]
[]
[]
[]
[]
[]
[]
[]
[]
[]
[]
[]
[]
[]
[]
[]
[]
[]
[]
[]
[]
[]
[null,null,null,null,null,null,null,null,null,null,null,null,null,null,{"$f":"'Exhibit 1.1'!O31","v":"IRP Variance Exhibit"},{"$f":"'Exhibit 1.1'!P31","v":"Docket No. 20-057-02"},{"$f":"'Exhibit 1.1'!Q31","v":"Dominion Energy Utah"}]
[null,null,null,null,null,null,null,null,null,null,null,null,null,null,2.6]

{"sheet":"Exhibit Firm Sales Volume","index":13,"n_rows":20,"n_cols":9,"rows_kept":20,"cut":false,"hidden":false,"merged":[[1,0,1,9],[5,7,5,9]]}
["Demand"]
[]
[]
[]
[]
[null,null,null,null,null,null,null,"Cumulative"]
[{"$f":"'Ex 1 HDD'!A7","v":"Month/Year"},"From Jessica","IRP Demand","Days","Daily Demand",null,null,"Actual","Normal"]
[{"$f":"'Ex 1 HDD'!A8","v":"2020-06-01"},3122.2338189999996,2912.5320341587067,{"$f":"DAY(EOMONTH(A8,0))","v":30},{"$f":"C8/D8","v":97.084401138623562},null,null,{"$f":"B8","v":3122.2338189999996},{"$f":"C8","v":2912.5320341587067}]
[{"$f":"'Ex 1 HDD'!A9","v":"2020-07-01"},2480.6255289999999,2511.7846345901489,{"$f":"DAY(EOMONTH(A9,0))","v":31},{"$f":"C9/D9","v":81.025310793230616},null,null,{"$f":"H8+B9","v":5602.859348},{"$f":"I8+C9","v":5424.3166687488556}]
[{"$f":"'Ex 1 HDD'!A10","v":"2020-08-01"},2519.7824559999999,2542.8976519107819,31,82.028956513251032,null,null,{"$f":"H9+B10","v":8122.6418039999999},{"$f":"I9+C10","v":7967.2143206596375}]
[{"$f":"'Ex 1 HDD'!A11","v":"2020-09-01"},3071.3597839999998,3506.1185567378998,30,116.87061855792999,null,null,{"$f":"H10+B11","v":11194.001587999999},11473.332877397537]
[{"$f":"'Ex 1 HDD'!A12","v":"2020-10-01"},7709.8507099999997,6072.2110958099365,31,195.8777772841915,null,null,18903.852297999998,17545.543973207474]
[{"$f":"'Ex 1 HDD'!A13","v":"2020-11-01"},11107.596841,12020.234106063843,30,400.67447020212808,null,null,{"$f":"H12+B13","v":30011.449138999997},29565.778079271317]
[{"$f":"'Ex 1 HDD'!A14","v":"2020-12-01"},19900.015302,18849.078859329224,31,608.03480191384597,null,null,{"$f":"H13+B14","v":49911.464440999996},48414.85693860054]
[{"$f":"'Ex 1 HDD'!A15","v":"2021-01-01"},19774.188908,20597.347259521484,31,664.43055675875758,null,null,{"$f":"H14+B15","v":69685.653349},69012.204198122025]
[{"$f":"'Ex 1 HDD'!A16","v":"2021-02-01"},16097.61976,16831.34771156311,28,601.11956112725397,null,null,85783.273109000002,85843.551909685135]
[{"$f":"'Ex 1 HDD'!A17","v":"2021-03-01"},13253.354002,13097.416037559509,31,422.49729153417769,null,null,99036.627111000009,98940.967947244644]
[{"$f":"'Ex 1 HDD'!A18","v":"2021-04-01"},8284.4081779999997,9239.1393880844116,30,307.97131293614706,null,null,107321.03528900001,108180.10733532906]
[{"$f":"'Ex 1 HDD'!A19","v":"2021-05-01"},4275.3116620000001,5264.8308386802673,31,169.83325286065377,null,null,111596.34695100001,113444.93817400932]
[null,null,{"$f":"SUM(C8:C19)","v":113444.93817400932}]

{"sheet":"Exhibit 3.1","index":14,"n_rows":32,"n_cols":17,"rows_kept":32,"cut":false,"hidden":false,"merged":[]}
[]
[]
[]
[]
[]
[]
[]
[]
[]
[]
[]
[]
[]
[]
[]
[]
[]
[]
[]
[]
[]
[]
[]
[]
[]
[]
[]
[]
[]
[]
[null,null,null,null,null,null,null,null,null,null,null,null,null,null,"DEU Variance Exhibit ","Docket No. 19-057-01","Dominion Energy Utah"]
[null,null,null,null,null,null,null,null,null,null,null,null,null,null,3.1]

{"sheet":"Exhibit 3.2","index":15,"n_rows":32,"n_cols":17,"rows_kept":32,"cut":false,"hidden":false,"merged":[]}
[]
[]
[]
[]
[]
[]
[]
[]
[]
[]
[]
[]
[]
[]
[]
[]
[]
[]
[]
[]
[]
[]
[]
[]
[]
[]
[]
[]
[]
[]
[null,null,null,null,null,null,null,null,null,null,null,null,null,null,"DEU Variance Exhibit ","Docket No. 19-057-01","Dominion Energy Utah"]
[null,null,null,null,null,null,null,null,null,null,null,null,null,null,3.2]

{"sheet":"Exhibit 3.3","index":16,"n_rows":32,"n_cols":17,"rows_kept":32,"cut":false,"hidden":false,"merged":[]}
[]
[]
[]
[]
[]
[]
[]
[]
[]
[]
[]
[]
[]
[]
[]
[]
[]
[]
[]
[]
[]
[]
[]
[]
[]
[]
[]
[]
[]
[]
[null,null,null,null,null,null,null,null,null,null,null,null,null,null,"DEU Variance Exhibit ","Docket No. 19-057-01","Dominion Energy Utah"]
[null,null,null,null,null,null,null,null,null,null,null,null,null,null,3.3]

{"sheet":"Exhibit 3.4","index":17,"n_rows":54,"n_cols":8,"rows_kept":54,"cut":false,"hidden":false,"merged":[[8,2,8,3],[8,4,8,5],[8,6,8,7]]}
[null,null,null,null,null,null,null,"Dominion Energy Utah"]
[null,null,null,null,null,null,null,"Docket No. 20-057-02"]
[null,null,null,null,null,null,null,"DEU Variance Exhibit 3.4"]
[]
[]
[null,"IRP Variance"]
[]
[null,"Actual Results "]
[null,null,"2021-03-07",null,"2021-04-07",null,"2021-05-08"]
[null,"SUPPLY","Actual","IRP","Actual","IRP","Actual","IRP"]
[1,"Cost of Service Prod (Mbtu)",5390.5,5287.0655037239194,5177,5036.159981764853,5141,5127.0249104127288]
[{"$f":"A11+1","v":2},"Purchases (Mbtu)",5564.7,3402.4479999999999,2864.7460000000001,2103.9539999999997,702.90899999999999,390.15099999999995]
[3,"Clay Basin With (Mbtu)",1597.6379999999999,899.86199999999997,680.17700000000002,40.795999999999999,33.067999999999998,0]
[4,"Acquifers With (Mbtu)",289.13600000000002,3410.05,344.44499999999999,1873.38,4.7430000000000003,0]
[5,"Spire Storage West With (Mbtu)",454.36200000000002,514.5999755859375,0,498,0,0]
[6,"Off-System ",19.77947,41.338360786437988,20.531700000000001,39.784301757812479,22.016010000000001,40.88252925872807]
[]
[{"$f":"A16+1","v":7},"Total Supply",13316.115469999999,13555.363840096295,9086.8996999999999,9592.0742835226665,5903.7360100000005,5558.0584396714567]
[]
[null,"DEMAND"]
[{"$f":"A18+1","v":8},"Firm Sales (Mbtu)",13253.354002,13097.416037559509,8284.4081779999997,9239.1393880844116,4275.3116620000001,5264.8308386802673]
[{"$f":"A21+1","v":9},"Interruptible Sales (Mbtu)",59.228538999999998,33.458042800426483,36.291589000000002,26.091230191290379,32.457715999999998,20.32291042804718]
[10,"Clay Basin Inj (Mbtu)",320.45299999999997,0,228.11199999999999,0,1580.598,0]
[{"$f":"A23+1","v":11},"Acquifers Inj (Mbtu)",0.34699999999999998,0,114.709,0,44.274000000000001,0]
[{"$f":"A24+1","v":12},"Spire Storage West Inj (Mbtu)",0,0,0,0,0,0]
[13,"Off-System ",19.77947,38.233848571777344,20.531700000000001,36.796501159667969,22.016010000000001,37.812248229980469]
[14,"Fuel",534.46199999999999,312.06600000000003,74.793000000000006,237.69800000000001,73.983000000000004,205.23099999999999]
[15,"Company Use / L&U",-871.42100000000005,74.189439356327057,328.46100000000001,52.348553210496902,-125.14100000000001,29.861118718981743]
[]
[{"$f":"A28+1","v":16},"Total Demand",13316.203010999998,13555.363368288041,9087.3064669999985,9592.0736726458672,5903.4993880000011,5558.0581160572765]
[null," "]
[{"$f":"A30+1","v":17},"Clay Basin Fuel Usage Adjustment",-51.504000000000005,0,-0.127,0,-1.2E-2,0]
[{"$f":"A32+1","v":18},"Clay Basin Transfers",0,0,0,0,0,0]
[{"$f":"A33+1","v":19},"Acquifers Fuel Usage Adjustment",-13.992999999999999,0,-4.95,0,-2.2589999999999999,0]
[{"$f":"A34+1","v":20},"Acquifers Transfers",0,0,0,0,0,0]
[21,"Clay Basin Current Bal",2947.7250000000013,381,2495.5330000000013,1272,4043.0510000000008,3752]
[22,"Acquifers Current Bal",954.49600000000009,-1741.0500000000002,719.81000000000017,-3614.4300000000003,757.08200000000011,-3614.4300000000003]
[23,"Spire Storage West Current Bal",0,69,0,410,0,763]
[]
[{"$f":"+A38+1","v":24},"Purchases($/Dth)",2.626483548079861,2.89,2.518973409859024,2.75,2.6648997238618373,2.57]
[{"$f":"A40+1","v":25},"Purchases $ (000)",14615.593000000003,9833.0747200000005,7216.2190000000001,5785.8734999999997,1873.1820000000002,1002.6880699999998]
[]
[]
[null,"Variances"]
[{"$f":"A41+1","v":26},"Cost of service volumes",103.43449627608061,0,140.840018235147,0,13.975089587271214,0]
[{"$f":"A45+1","v":27},"Purchase volumes",2162.252,0,760.79200000000037,0,312.75800000000004,0]
[28,"Purchase $ Act over (under) IRP",4782.5182800000021,0,1430.3455000000004,0,870.49393000000043,0]
[29,"Purchase Variance",6248.9082800000006,0,2092.1780000000008,0,803.78806000000009,0]
[30,"$ Variance",-1466.3899999999985,0,-661.83250000000055,0,66.705870000000289,0]
[31,"Check",0,0,0,0,0,0]
[32,"Quarter Variance",null,null,null,null,7083.357710000003]
[33,"Purchase Variance",null,null,null,null,9144.8743400000021]
[34,"$ Variance",null,null,null,null,-2061.5166299999987]
[35,"Check",null,null,null,null,0]

{"sheet":"Ex 4 Purchase Gas","index":18,"n_rows":23,"n_cols":13,"rows_kept":23,"cut":false,"hidden":false,"merged":[[5,6,5,7]]}
["Purchase Gas Variance (Brady Included) MDths"]
[]
[]
[]
[]
[null,null,null,null,null,null,"Cumulative"]
["Month/Year","Actual","Normal",null,"Month/Year","Actual","Normal",null,"Month/Year","DTHS","MDTHS","$'S","$1,000'S"]
[{"$f":"'Ex 1 HDD'!A8","v":"2020-06-01"},{"$f":"K8","v":390},0,null,{"$f":"A8","v":"2020-06-01"},{"$f":"K8","v":390},{"$f":"C8","v":0},null,{"$f":"A8","v":"2020-06-01"},390000,{"$f":"J8/1000","v":390},565650,{"$f":"L8/1000","v":565.65}]
[{"$f":"'Ex 1 HDD'!A9","v":"2020-07-01"},{"$f":"K9","v":55},0,null,"2020-07-01",{"$f":"F8+K9","v":445},{"$f":"G8+C9","v":0},null,"2020-07-01",55000,{"$f":"J9/1000","v":55},74675,74.674999999999997]
[{"$f":"'Ex 1 HDD'!A10","v":"2020-08-01"},0,0,null,"2020-08-01",{"$f":"F9+K10","v":445},0,null,"2020-08-01",0,{"$f":"J10/1000","v":0},0,0]
[{"$f":"'Ex 1 HDD'!A11","v":"2020-09-01"},1111.7190000000001,1934.3,null,"2020-09-01",{"$f":"F10+K11","v":1556.7190000000001},1934.3,null,"2020-09-01",1111719,1111.7190000000001,1756001,1756.001]
[{"$f":"'Ex 1 HDD'!A12","v":"2020-10-01"},3307.2220000000002,2467.1999999999998,null,"2020-10-01",4863.9410000000007,4401.5,null,"2020-10-01",3307222,3307.2220000000002,9144823,9144.8230000000003]
[{"$f":"'Ex 1 HDD'!A13","v":"2020-11-01"},8832.3130000000001,7175.5,null,"2020-11-01",13696.254000000001,11577,null,"2020-11-01",8832313,8832.3130000000001,25649190,25649.19]
[{"$f":"'Ex 1 HDD'!A14","v":"2020-12-01"},13178.873,13238.1,null,"2020-12-01",26875.127,24815.1,null,"2020-12-01",13178873,13178.873,41664337,41664.337]
[{"$f":"'Ex 1 HDD'!A15","v":"2021-01-01"},11127.151,11026,null,"2021-01-01",38002.277999999998,{"$f":"G14+C15","v":35841.1},null,"2021-01-01",11127151,11127.151,32977315,32977.315000000002]
[{"$f":"'Ex 1 HDD'!A16","v":"2021-02-01"},7377.3029999999999,8816,null,"2021-02-01",45379.580999999998,44657.1,null,"2021-02-01",7377303,7377.3029999999999,84228936,84228.936000000002]
[{"$f":"'Ex 1 HDD'!A17","v":"2021-03-01"},5564.7,3402.4470000000001,null,"2021-03-01",50944.280999999995,48059.546999999999,null,"2021-03-01",5564700,5564.7,14615593,14615.593000000001]
[{"$f":"'Ex 1 HDD'!A18","v":"2021-04-01"},2864.7460000000001,2103.9,null,"2021-04-01",53809.026999999995,{"$f":"G17+C18","v":50163.447},null,"2021-04-01",2864746,2864.7460000000001,7216219,7216.2190000000001]
[{"$f":"'Ex 1 HDD'!A19","v":"2021-05-01"},702.90899999999999,390.15100000000001,null,"2021-05-01",54511.935999999994,50553.597999999998,null,"2021-05-01",702909,702.90899999999999,1873182,1873.182]
[]
[null,{"$f":"SUM(B8:B19)","v":54511.935999999994},{"$f":"SUM(C8:C20)","v":50553.597999999998}]
[]
[null,{"$f":"B16-B17","v":1812.6030000000001}]

{"sheet":"Exhibit 4.1","index":19,"n_rows":32,"n_cols":17,"rows_kept":32,"cut":false,"hidden":false,"merged":[]}
[]
[]
[]
[]
[]
[]
[]
[]
[]
[]
[]
[]
[]
[]
[]
[]
[]
[]
[]
[]
[]
[]
[]
[]
[]
[]
[]
[]
[]
[]
[null,null,null,null,null,null,null,null,null,null,null,null,null,null,{"$f":"'Exhibit 1.1'!O31","v":"IRP Variance Exhibit"},{"$f":"'Exhibit 1.1'!P31","v":"Docket No. 20-057-02"},{"$f":"'Exhibit 1.1'!Q31","v":"Dominion Energy Utah"}]
[null,null,null,null,null,null,null,null,null,null,null,null,null,null,4.0999999999999996]

{"sheet":"Exhibit 4.2","index":20,"n_rows":31,"n_cols":17,"rows_kept":31,"cut":false,"hidden":false,"merged":[]}
[]
[]
[]
[]
[]
[]
[]
[]
[]
[]
[]
[]
[]
[]
[]
[]
[]
[]
[]
[]
[]
[]
[]
[]
[]
[]
[]
[]
[]
[null,null,null,null,null,null,null,null,null,null,null,null,null,null,{"$f":"'Exhibit 1.1'!O31","v":"IRP Variance Exhibit"},{"$f":"'Exhibit 1.1'!P31","v":"Docket No. 20-057-02"},{"$f":"'Exhibit 1.1'!Q31","v":"Dominion Energy Utah"}]
[null,null,null,null,null,null,null,null,null,null,null,null,null,null,4.2]

{"sheet":"Exhibit 4.3","index":21,"n_rows":32,"n_cols":16,"rows_kept":32,"cut":false,"hidden":false,"merged":[]}
[]
[]
[]
[]
[]
[]
[]
[]
[]
[]
[]
[]
[]
[]
[]
[]
[]
[]
[]
[]
[]
[]
[]
[]
[]
[]
[]
[]
[]
[]
[null,null,null,null,null,null,null,null,null,null,null,null,null,{"$f":"'Exhibit 1.1'!O31","v":"IRP Variance Exhibit"},{"$f":"'Exhibit 1.1'!P31","v":"Docket No. 20-057-02"},{"$f":"'Exhibit 1.1'!Q31","v":"Dominion Energy Utah"}]
[null,null,null,null,null,null,null,null,null,null,null,null,null,null,4.3]

{"sheet":"Ex 5 Purchase Gas Cost","index":22,"n_rows":21,"n_cols":6,"rows_kept":21,"cut":false,"hidden":false,"merged":[[1,0,1,6],[0,0,0,6],[2,0,2,7],[5,4,5,5]]}
["Purchase Gas Cost Variance ($1,000's)"]
[]
[]
[]
[]
[null,null,null,null,"Cumulative"]
["Month/Year","Actual","Normal",null,"Actual","Normal"]
[{"$f":"'Ex 1 HDD'!A8","v":"2020-06-01"},{"$f":"'Ex 4 Purchase Gas'!M8","v":565.65},0,null,{"$f":"B8","v":565.65},{"$f":"C8","v":0}]
[{"$f":"'Ex 1 HDD'!A9","v":"2020-07-01"},{"$f":"'Ex 4 Purchase Gas'!M9","v":74.674999999999997},0,null,{"$f":"E8+B9","v":640.32499999999993},{"$f":"C9+F8","v":0}]
[{"$f":"'Ex 1 HDD'!A10","v":"2020-08-01"},{"$f":"'Ex 4 Purchase Gas'!M10","v":0},0,null,640.32499999999993,{"$f":"C10+F9","v":0}]
[{"$f":"'Ex 1 HDD'!A11","v":"2020-09-01"},{"$f":"'Ex 4 Purchase Gas'!M11","v":1756.001},2839.944,null,2396.326,2839.944]
[{"$f":"'Ex 1 HDD'!A12","v":"2020-10-01"},{"$f":"'Ex 4 Purchase Gas'!M12","v":9144.8230000000003},3890.0169999999998,null,11541.149000000001,6729.9609999999993]
[{"$f":"'Ex 1 HDD'!A13","v":"2020-11-01"},{"$f":"'Ex 4 Purchase Gas'!M13","v":25649.19},10886.54,null,{"$f":"E12+B13","v":37190.339},17616.501]
[{"$f":"'Ex 1 HDD'!A14","v":"2020-12-01"},{"$f":"'Ex 4 Purchase Gas'!M14","v":41664.337},27329.43,null,{"$f":"E13+B14","v":78854.676000000007},44945.930999999997]
[{"$f":"'Ex 1 HDD'!A15","v":"2021-01-01"},{"$f":"'Ex 4 Purchase Gas'!M15","v":32977.315000000002},24656.69,null,111831.99100000001,69602.620999999999]
[{"$f":"'Ex 1 HDD'!A16","v":"2021-02-01"},{"$f":"'Ex 4 Purchase Gas'!M16","v":84228.936000000002},19788.75,null,196060.92700000003,89391.370999999999]
[{"$f":"'Ex 1 HDD'!A17","v":"2021-03-01"},{"$f":"'Ex 4 Purchase Gas'!M17","v":14615.593000000001},9828.6010000000006,null,210676.52000000002,99219.971999999994]
[{"$f":"'Ex 1 HDD'!A18","v":"2021-04-01"},{"$f":"'Ex 4 Purchase Gas'!M18","v":7216.2190000000001},5783.8879999999999,null,217892.73900000003,105003.86]
[{"$f":"'Ex 1 HDD'!A19","v":"2021-05-01"},{"$f":"'Ex 4 Purchase Gas'!M19","v":1873.182},1004.215,null,219765.92100000003,106008.075]
[]
[null,null,{"$f":"SUM(C8:C19)","v":106008.075}]

{"sheet":"Exhibit 5.1","index":23,"n_rows":32,"n_cols":16,"rows_kept":32,"cut":false,"hidden":false,"merged":[]}
[]
[]
[]
[]
[]
[]
[]
[]
[]
[]
[]
[]
[]
[]
[]
[]
[]
[]
[]
[]
[]
[]
[]
[]
[]
[]
[]
[]
[]
[]
[null,null,null,null,null,null,null,null,null,null,null,null,null,{"$f":"'Exhibit 1.1'!O31","v":"IRP Variance Exhibit"},{"$f":"'Exhibit 1.1'!P31","v":"Docket No. 20-057-02"},{"$f":"'Exhibit 1.1'!Q31","v":"Dominion Energy Utah"}]
[null,null,null,null,null,null,null,null,null,null,null,null,null,5.0999999999999996]

{"sheet":"Exhibit 5.2","index":24,"n_rows":32,"n_cols":17,"rows_kept":32,"cut":false,"hidden":false,"merged":[]}
[]
[]
[]
[]
[]
[]
[]
[]
[]
[]
[]
[]
[]
[]
[]
[]
[]
[]
[]
[]
[]
[]
[]
[]
[]
[]
[]
[]
[]
[]
[null,null,null,null,null,null,null,null,null,null,null,null,null,null,{"$f":"'Exhibit 1.1'!O31","v":"IRP Variance Exhibit"},{"$f":"'Exhibit 1.1'!P31","v":"Docket No. 20-057-02"},{"$f":"'Exhibit 1.1'!Q31","v":"Dominion Energy Utah"}]
[null,null,null,null,null,null,null,null,null,null,null,null,null,null,5.2]

{"sheet":"Exhibit 5.3","index":25,"n_rows":32,"n_cols":17,"rows_kept":32,"cut":false,"hidden":false,"merged":[]}
[]
[]
[]
[]
[]
[]
[]
[]
[]
[]
[]
[]
[]
[]
[]
[]
[]
[]
[]
[]
[]
[]
[]
[]
[]
[]
[]
[]
[]
[]
[null,null,null,null,null,null,null,null,null,null,null,null,null,null,{"$f":"'Exhibit 1.1'!O31","v":"IRP Variance Exhibit"},{"$f":"'Exhibit 1.1'!P31","v":"Docket No. 20-057-02"},{"$f":"'Exhibit 1.1'!Q31","v":"Dominion Energy Utah"}]
[null,null,null,null,null,null,null,null,null,null,null,null,null,null,5.3]

{"sheet":"Ex 6 Purch Gas Unit Cost","index":26,"n_rows":47,"n_cols":13,"rows_kept":47,"cut":false,"hidden":false,"merged":[[0,0,0,5],[1,0,1,7],[2,0,2,7],[46,2,46,13]]}
["Purchase Gas Unit Cost Variance ($1,000's)"]
[]
[]
[]
[]
[null,null,null,null,"Actual","Actual","Actual",null,"Normal","Normal","Normal"]
["Month/Year","Actual $/Dth","Normal $/Dth",null,"Dth","Cost","$/Dth",null,"Dth","Cost","$/Dth",null,"May Forward Strip"]
[{"$f":"'Ex 1 HDD'!A8","v":"2020-06-01"},{"$f":"G8","v":1.4503846153846154},{"$f":"K8","v":0},null,{"$f":"'Ex 4 Purchase Gas'!B8","v":390},{"$f":"'Ex 4 Purchase Gas'!M8","v":565.65},{"$f":"IFERROR(F8/E8,0)","v":1.4503846153846154},null,{"$f":"'Ex 4 Purchase Gas'!C8","v":0},{"$f":"'Ex 5 Purchase Gas Cost'!C8","v":0},{"$f":"IFERROR(J8/I8,0)","v":0},null,1.57]
[{"$f":"'Ex 1 HDD'!A9","v":"2020-07-01"},1.3577272727272727,0,null,{"$f":"'Ex 4 Purchase Gas'!B9","v":55},{"$f":"'Ex 4 Purchase Gas'!M9","v":74.674999999999997},{"$f":"IFERROR(F9/E9,0)","v":1.3577272727272727},null,{"$f":"'Ex 4 Purchase Gas'!C9","v":0},{"$f":"'Ex 5 Purchase Gas Cost'!C9","v":0},{"$f":"IFERROR(J9/I9,0)","v":0},null,1.54]
[{"$f":"'Ex 1 HDD'!A10","v":"2020-08-01"},0,0,null,{"$f":"'Ex 4 Purchase Gas'!B10","v":0},{"$f":"'Ex 4 Purchase Gas'!M10","v":0},0,null,{"$f":"'Ex 4 Purchase Gas'!C10","v":0},{"$f":"'Ex 5 Purchase Gas Cost'!C10","v":0},0,null,1.53]
[{"$f":"'Ex 1 HDD'!A11","v":"2020-09-01"},1.579536735452034,{"$f":"K11","v":1.4682024504988884},null,{"$f":"'Ex 4 Purchase Gas'!B11","v":1111.7190000000001},{"$f":"'Ex 4 Purchase Gas'!M11","v":1756.001},1.579536735452034,null,{"$f":"'Ex 4 Purchase Gas'!C11","v":1934.3},{"$f":"'Ex 5 Purchase Gas Cost'!C11","v":2839.944},1.4682024504988884,null,1.49]
[{"$f":"'Ex 1 HDD'!A12","v":"2020-10-01"},2.7651070898778491,{"$f":"K12","v":1.5766930123216603},null,{"$f":"'Ex 4 Purchase Gas'!B12","v":3307.2220000000002},{"$f":"'Ex 4 Purchase Gas'!M12","v":9144.8230000000003},2.7651070898778491,null,{"$f":"'Ex 4 Purchase Gas'!C12","v":2467.1999999999998},{"$f":"'Ex 5 Purchase Gas Cost'!C12","v":3890.0169999999998},1.5766930123216603,null,1.53]
[{"$f":"'Ex 1 HDD'!A13","v":"2020-11-01"},2.9040173281902484,{"$f":"K13","v":1.5171820779039789},null,{"$f":"'Ex 4 Purchase Gas'!B13","v":8832.3130000000001},{"$f":"'Ex 4 Purchase Gas'!M13","v":25649.19},2.9040173281902484,null,{"$f":"'Ex 4 Purchase Gas'!C13","v":7175.5},{"$f":"'Ex 5 Purchase Gas Cost'!C13","v":10886.54},{"$f":"IFERROR(J13/I13,0)","v":1.5171820779039789},null,1.99]
[{"$f":"'Ex 1 HDD'!A14","v":"2020-12-01"},3.1614491618517002,2.0644526027148911,null,{"$f":"'Ex 4 Purchase Gas'!B14","v":13178.873},{"$f":"'Ex 4 Purchase Gas'!M14","v":41664.337},3.1614491618517002,null,{"$f":"'Ex 4 Purchase Gas'!C14","v":13238.1},{"$f":"'Ex 5 Purchase Gas Cost'!C14","v":27329.43},2.0644526027148911,null,2.57]
[{"$f":"'Ex 1 HDD'!A15","v":"2021-01-01"},2.9636800111726713,2.2362316343188824,null,{"$f":"'Ex 4 Purchase Gas'!B15","v":11127.151},{"$f":"'Ex 4 Purchase Gas'!M15","v":32977.315000000002},2.9636800111726713,null,{"$f":"'Ex 4 Purchase Gas'!C15","v":11026},{"$f":"'Ex 5 Purchase Gas Cost'!C15","v":24656.69},2.2362316343188824,null,2.94]
[{"$f":"'Ex 1 HDD'!A16","v":"2021-02-01"},11.417307381844015,2.2446404264972775,null,{"$f":"'Ex 4 Purchase Gas'!B16","v":7377.3029999999999},{"$f":"'Ex 4 Purchase Gas'!M16","v":84228.936000000002},11.417307381844015,null,{"$f":"'Ex 4 Purchase Gas'!C16","v":8816},{"$f":"'Ex 5 Purchase Gas Cost'!C16","v":19788.75},2.2446404264972775,null,3.09]
[{"$f":"'Ex 1 HDD'!A17","v":"2021-03-01"},2.626483548079861,2.8886859956966267,null,{"$f":"'Ex 4 Purchase Gas'!B17","v":5564.7},{"$f":"'Ex 4 Purchase Gas'!M17","v":14615.593000000001},2.626483548079861,null,{"$f":"'Ex 4 Purchase Gas'!C17","v":3402.4470000000001},{"$f":"'Ex 5 Purchase Gas Cost'!C17","v":9828.6010000000006},2.8886859956966267,null,2.89]
[{"$f":"'Ex 1 HDD'!A18","v":"2021-04-01"},2.518973409859024,2.7491268596416178,null,{"$f":"'Ex 4 Purchase Gas'!B18","v":2864.7460000000001},{"$f":"'Ex 4 Purchase Gas'!M18","v":7216.2190000000001},2.518973409859024,null,{"$f":"'Ex 4 Purchase Gas'!C18","v":2103.9},{"$f":"'Ex 5 Purchase Gas Cost'!C18","v":5783.8879999999999},2.7491268596416178,null,2.76]
[{"$f":"'Ex 1 HDD'!A19","v":"2021-05-01"},2.6648997238618373,2.5739136898277848,null,{"$f":"'Ex 4 Purchase Gas'!B19","v":702.90899999999999},{"$f":"'Ex 4 Purchase Gas'!M19","v":1873.182},2.6648997238618373,null,{"$f":"'Ex 4 Purchase Gas'!C19","v":390.15100000000001},{"$f":"'Ex 5 Purchase Gas Cost'!C19","v":1004.215},2.5739136898277848,null,2.68]
[]
[]
[]
[]
[]
[]
[]
[]
[]
[]
[]
[]
[]
[]
[]
[]
[]
[]
[]
[]
[]
[]
[]
[]
[]
[]
[]
["2017-10-26","Unit Cost per Decatherm","   The Purchase Gas Unit Cost is usually a calculated value.  That value is derived from purchase dollars divided by purchase decatherms.  Columns I - K show those decatherms, costs and calculated Unit costs.\n   In the unusual case of summer 2017 the model used no spot gas during the summer and so incurred zero purchased volumes and zero associated costs making the Unit cost also zero. \n   If purchase volumes had been incurred then the question arrises as to what value should be used as the \"model\" unit cost value.  \n- Zero could have been reasonably used because the model had no volumes or costs, even though the actual usage may have had volumes.  (In this case it did not.)\n- The May forward strip could have been used because that was the best guess for monthly prices at the time the model was created\n- Some actual value from each month could have also been used as a filler."]

{"sheet":"Exhibit 6.1","index":27,"n_rows":32,"n_cols":17,"rows_kept":32,"cut":false,"hidden":false,"merged":[]}
[]
[]
[]
[]
[]
[]
[]
[]
[]
[]
[]
[]
[]
[]
[]
[]
[]
[]
[]
[]
[]
[]
[]
[]
[]
[]
[]
[]
[]
[]
[null,null,null,null,null,null,null,null,null,null,null,null,null,null,{"$f":"'Exhibit 1.1'!O31","v":"IRP Variance Exhibit"},{"$f":"'Exhibit 1.1'!P31","v":"Docket No. 20-057-02"},{"$f":"'Exhibit 1.1'!Q31","v":"Dominion Energy Utah"}]
[null,null,null,null,null,null,null,null,null,null,null,null,null,null,6.1]

{"sheet":"Exhibit 6.2","index":28,"n_rows":32,"n_cols":17,"rows_kept":32,"cut":false,"hidden":false,"merged":[]}
[]
[]
[]
[]
[]
[]
[]
[]
[]
[]
[]
[]
[]
[]
[]
[]
[]
[]
[]
[]
[]
[]
[]
[]
[]
[]
[]
[]
[]
[]
[null,null,null,null,null,null,null,null,null,null,null,null,null,null,{"$f":"'Exhibit 1.1'!O31","v":"IRP Variance Exhibit"},{"$f":"'Exhibit 1.1'!P31","v":"Docket No. 20-057-02"},{"$f":"'Exhibit 1.1'!Q31","v":"Dominion Energy Utah"}]
[null,null,null,null,null,null,null,null,null,null,null,null,null,null,6.2]

{"sheet":"Ex 7 Co. Owned Gas","index":29,"n_rows":21,"n_cols":17,"rows_kept":21,"cut":false,"hidden":false,"merged":[[0,0,0,7],[2,14,2,19],[1,0,1,7],[2,0,2,10]]}
["Cost-of-Service Gas Variance (MDths)"]
[]
[]
[]
[]
[null,null,null,null,null,null,null,"Cumulative"]
["Month/Year","Actual","Normal","Full Production","Shut-in Est. Month","Shut-in Daily",null,"Actual","Normal",null,"Days in Mo.","Dthms","Dthms/Day"]
[{"$f":"'Ex 1 HDD'!A8","v":"2020-06-01"},5334.5609999999997,5278.6,5471,{"$f":"D8-C8","v":192.39999999999964},{"$f":"(E8/30)*1000","v":6413.3333333333212},null,{"$f":"B8","v":5334.5609999999997},{"$f":"C8","v":5278.6},null,{"$f":"DAY(EOMONTH(A8,0))","v":30},{"$f":"C8","v":5278.6},{"$f":"L8/K8","v":175.95333333333335},null,null,null,5754.4783839995334]
[{"$f":"'Ex 1 HDD'!A9","v":"2020-07-01"},5132.2060000000001,5360.98,5558,197.02000000000044,{"$f":"(E9/30)*1000","v":6567.3333333333485},null,{"$f":"H8+B9","v":10466.767},{"$f":"I8+C9","v":10639.58},null,{"$f":"DAY(EOMONTH(A9,0))","v":31},{"$f":"C9","v":5360.98},{"$f":"L9/K9","v":172.93483870967739},null,null,null,5867.4130191810464]
[{"$f":"'Ex 1 HDD'!A10","v":"2020-08-01"},4998.1340000000009,5274.7110000000002,5471,196.28899999999976,6542.966666666659,null,15464.901000000002,15914.291000000001,null,31,5274.7110000000002,170.15196774193549,null,null,null,5986.08520467781]
[{"$f":"'Ex 1 HDD'!A11","v":"2020-09-01"},4638.26,5026.5190000000002,5215,188.48099999999977,6282.6999999999925,null,20103.161,20940.810000000001,null,30,5026.5190000000002,167.55063333333334,null,null,null,5618.719148733463]
[{"$f":"'Ex 1 HDD'!A12","v":"2020-10-01"},4789.8500000000004,5716.15,5951,234.85000000000036,7828.3333333333458,null,{"$f":"H11+B12","v":24893.010999999999},26656.959999999999,null,31,5716.15,184.39193548387095,null,null,null,5665.4338021854201]
[{"$f":"'Ex 1 HDD'!A13","v":"2020-11-01"},5098.37,5401.8509999999997,5608,206.14900000000034,6871.633333333345,null,29991.380999999998,32058.810999999998,null,30,5401.8509999999997,180.0617,null,null,null,5366.2612820765262]
[{"$f":"'Ex 1 HDD'!A14","v":"2020-12-01"},5641.26,5627.61,5667,39.390000000000327,1313.0000000000109,null,35632.640999999996,37686.420999999995,null,31,5627.61,181.5358064516129,null,null,null,5567.8766430258429]
[{"$f":"'Ex 1 HDD'!A15","v":"2021-01-01"},5586.7,5517.3270000000002,5553,35.672999999999774,1189.0999999999924,null,41219.340999999993,43203.747999999992,null,31,5517.3270000000002,177.97829032258065,null,null,null,5438.795676378295]
[{"$f":"'Ex 1 HDD'!A16","v":"2021-02-01"},4967.8,4727.2250000000004,4728,0.7749999999996362,25.833333333321207,null,46187.140999999996,47930.972999999991,null,28,4727.2250000000004,168.82946428571429,null,null,null,5101.5900718666953]
[{"$f":"'Ex 1 HDD'!A17","v":"2021-03-01"},5390.5,5328.4040000000005,5360,31.595999999999549,1053.199999999985,null,51577.640999999996,53259.376999999993,null,31,5328.4040000000005,171.88400000000001,null,null,null,5326.091885868781]
[{"$f":"'Ex 1 HDD'!A18","v":"2021-04-01"},5177,5075.9440000000004,5105,29.055999999999585,968.53333333331943,null,56754.640999999996,58335.320999999996,null,30,5075.9440000000004,169.19813333333335,null,null,null,5051.585886710629]
[{"$f":"'Ex 1 HDD'!A19","v":"2021-05-01"},5141,5167.8999999999996,5196,28.100000000000364,{"$f":"(E19/30)*1000","v":936.66666666667879},null,61895.640999999996,63503.220999999998,null,31,5167.8999999999996,166.70645161290321,null,null,null,5126.3058280721052]
[]
[null,{"$f":"SUM(B8:B19)","v":61895.640999999996},{"$f":"SUM(C8:C19)","v":63503.220999999998},{"$f":"SUM(D8:D19)","v":64883}]

{"sheet":"Exhibit 7.1","index":30,"n_rows":33,"n_cols":17,"rows_kept":33,"cut":false,"hidden":false,"merged":[]}
[]
[]
[]
[]
[]
[]
[]
[]
[]
[]
[]
[]
[]
[]
[]
[]
[]
[]
[]
[]
[]
[]
[]
[]
[]
[]
[]
[]
[]
[]
[]
[null,null,null,null,null,null,null,null,null,null,null,null,null,null,{"$f":"'Exhibit 1.1'!O31","v":"IRP Variance Exhibit"},{"$f":"'Exhibit 1.1'!P31","v":"Docket No. 20-057-02"},{"$f":"'Exhibit 1.1'!Q31","v":"Dominion Energy Utah"}]
[null,null,null,null,null,null,null,null,null,null,null,null,null,null,7.1]

{"sheet":"Exhibit 7.2","index":31,"n_rows":32,"n_cols":17,"rows_kept":32,"cut":false,"hidden":false,"merged":[]}
[]
[]
[]
[]
[]
[]
[]
[]
[]
[]
[]
[]
[]
[]
[]
[]
[]
[]
[]
[]
[]
[]
[]
[]
[]
[]
[]
[]
[]
[]
[null,null,null,null,null,null,null,null,null,null,null,null,null,null,{"$f":"'Exhibit 1.1'!O31","v":"IRP Variance Exhibit"},{"$f":"'Exhibit 1.1'!P31","v":"Docket No. 20-057-02"},{"$f":"'Exhibit 1.1'!Q31","v":"Dominion Energy Utah"}]
[null,null,null,null,null,null,null,null,null,null,null,null,null,null,7.2]

{"sheet":"Exhibit 7.3","index":32,"n_rows":32,"n_cols":17,"rows_kept":32,"cut":false,"hidden":false,"merged":[]}
[]
[]
[]
[]
[]
[]
[]
[]
[]
[]
[]
[]
[]
[]
[]
[]
[]
[]
[]
[]
[]
[]
[]
[]
[]
[]
[]
[]
[]
[]
[null,null,null,null,null,null,null,null,null,null,null,null,null,null,{"$f":"'Exhibit 1.1'!O31","v":"IRP Variance Exhibit"},{"$f":"'Exhibit 1.1'!P31","v":"Docket No. 20-057-02"},{"$f":"'Exhibit 1.1'!Q31","v":"Dominion Energy Utah"}]
[null,null,null,null,null,null,null,null,null,null,null,null,null,null,7.3]

{"sheet":"Ex 8 New Drill","index":33,"n_rows":19,"n_cols":13,"rows_kept":19,"cut":false,"hidden":false,"merged":[[0,0,0,9],[1,0,1,9],[2,0,2,9]]}
["Isolated New Drill Component (MDths)"]
[]
[]
[]
[]
[null,null,null,null,null,null,null,null,null,"Cumulative",null,"Cumulative"]
["Month/Year","ND Actual","ND Normal","Legacy Actual","Legacy Normal",null,null,"Prod Actual","Prod Normal","ND Actual","ND Normal",{"$f":"D7","v":"Legacy Actual"},{"$f":"E7","v":"Legacy Normal"}]
[{"$f":"'Ex 1 HDD'!A8","v":"2020-06-01"},0,{"$f":"'Company Nom Groups'!B129","v":0},{"$f":"H8-B8","v":5334.5609999999997},{"$f":"I8-C8","v":5278.6},null,null,{"$f":"'Ex 7 Co. Owned Gas'!B8","v":5334.5609999999997},{"$f":"'Ex 7 Co. Owned Gas'!C8","v":5278.6},{"$f":"B8","v":0},{"$f":"C8","v":0},{"$f":"D8","v":5334.5609999999997},{"$f":"E8","v":5278.6}]
[{"$f":"'Ex 1 HDD'!A9","v":"2020-07-01"},0,{"$f":"'Company Nom Groups'!C129","v":0},5132.2060000000001,5360.98,null,null,{"$f":"'Ex 7 Co. Owned Gas'!B9","v":5132.2060000000001},{"$f":"'Ex 7 Co. Owned Gas'!C9","v":5360.98},{"$f":"B8+B9","v":0},{"$f":"K8+C9","v":0},10466.767,10639.58]
[{"$f":"'Ex 1 HDD'!A10","v":"2020-08-01"},0,{"$f":"'Company Nom Groups'!D129","v":0},4998.1340000000009,5274.7110000000002,null,null,{"$f":"'Ex 7 Co. Owned Gas'!B10","v":4998.1340000000009},{"$f":"'Ex 7 Co. Owned Gas'!C10","v":5274.7110000000002},{"$f":"J9+B10","v":0},0,15464.901000000002,15914.291000000001]
[{"$f":"'Ex 1 HDD'!A11","v":"2020-09-01"},0,{"$f":"'Company Nom Groups'!E129","v":0},4638.26,5026.5190000000002,null,null,{"$f":"'Ex 7 Co. Owned Gas'!B11","v":4638.26},{"$f":"'Ex 7 Co. Owned Gas'!C11","v":5026.5190000000002},0,{"$f":"K10+C11","v":0},{"$f":"L10+D11","v":20103.161},{"$f":"M10+E11","v":20940.810000000001}]
[{"$f":"'Ex 1 HDD'!A12","v":"2020-10-01"},0,{"$f":"'Company Nom Groups'!F129","v":599.45631408691406},4789.8500000000004,5116.6936859130856,null,null,{"$f":"'Ex 7 Co. Owned Gas'!B12","v":4789.8500000000004},{"$f":"'Ex 7 Co. Owned Gas'!C12","v":5716.15},0,599.45631408691406,{"$f":"L11+D12","v":24893.010999999999},26057.503685913085]
[{"$f":"'Ex 1 HDD'!A13","v":"2020-11-01"},0,{"$f":"'Company Nom Groups'!G129","v":510.0059814453125},5098.37,4891.8450185546872,null,null,{"$f":"'Ex 7 Co. Owned Gas'!B13","v":5098.37},{"$f":"'Ex 7 Co. Owned Gas'!C13","v":5401.8509999999997},0,1109.4622955322266,29991.380999999998,30949.348704467771]
[{"$f":"'Ex 1 HDD'!A14","v":"2020-12-01"},634,{"$f":"'Company Nom Groups'!H129","v":474.25349426269531},{"$f":"H14-B14","v":5007.26},5153.3565057373044,null,null,{"$f":"'Ex 7 Co. Owned Gas'!B14","v":5641.26},{"$f":"'Ex 7 Co. Owned Gas'!C14","v":5627.61},634,1583.7157897949219,34998.640999999996,36102.705210205073]
[{"$f":"'Ex 1 HDD'!A15","v":"2021-01-01"},619,{"$f":"'Company Nom Groups'!I129","v":433.72100830078125},4967.7,5083.605991699219,null,null,{"$f":"'Ex 7 Co. Owned Gas'!B15","v":5586.7},{"$f":"'Ex 7 Co. Owned Gas'!C15","v":5517.3270000000002},1253,2017.4367980957031,39966.340999999993,41186.311201904289]
[{"$f":"'Ex 1 HDD'!A16","v":"2021-02-01"},527,{"$f":"'Company Nom Groups'!J129","v":350.03079986572266},4440.8,4377.1942001342777,null,null,{"$f":"'Ex 7 Co. Owned Gas'!B16","v":4967.8},{"$f":"'Ex 7 Co. Owned Gas'!C16","v":4727.2250000000004},1780,2367.4675979614258,44407.140999999996,45563.505402038565]
[{"$f":"'Ex 1 HDD'!A17","v":"2021-03-01"},561,{"$f":"'Company Nom Groups'!K129","v":374.81790924072266},{"$f":"H17-B17","v":4829.5},4953.5860907592778,null,null,{"$f":"'Ex 7 Co. Owned Gas'!B17","v":5390.5},{"$f":"'Ex 7 Co. Owned Gas'!C17","v":5328.4040000000005},2341,2742.2855072021484,49236.640999999996,50517.091492797845]
[{"$f":"'Ex 1 HDD'!A18","v":"2021-04-01"},509,{"$f":"'Company Nom Groups'!L129","v":341.16000366210937},4668,4734.783996337891,null,null,{"$f":"'Ex 7 Co. Owned Gas'!B18","v":5177},{"$f":"'Ex 7 Co. Owned Gas'!C18","v":5075.9440000000004},2850,3083.4455108642578,53904.640999999996,55251.875489135738]
[{"$f":"'Ex 1 HDD'!A19","v":"2021-05-01"},429,{"$f":"'Company Nom Groups'!M129","v":333.5010986328125},4712,4834.3989013671871,null,null,{"$f":"'Ex 7 Co. Owned Gas'!B19","v":5141},{"$f":"'Ex 7 Co. Owned Gas'!C19","v":5167.8999999999996},3279,3416.9466094970703,58616.640999999996,60086.274390502927]

{"sheet":"Exhibit 8.1","index":34,"n_rows":32,"n_cols":17,"rows_kept":32,"cut":false,"hidden":false,"merged":[]}
[]
[]
[]
[]
[]
[]
[]
[]
[]
[]
[]
[]
[]
[]
[]
[]
[]
[]
[]
[]
[]
[]
[]
[]
[]
[]
[]
[]
[]
[]
[null,null,null,null,null,null,null,null,null,null,null,null,null,null,{"$f":"'Exhibit 1.1'!O31","v":"IRP Variance Exhibit"},{"$f":"'Exhibit 1.1'!P31","v":"Docket No. 20-057-02"},{"$f":"'Exhibit 1.1'!Q31","v":"Dominion Energy Utah"}]
[null,null,null,null,null,null,null,null,null,null,null,null,null,null,8.1]

{"sheet":"Exhibit 8.2","index":35,"n_rows":32,"n_cols":17,"rows_kept":32,"cut":false,"hidden":false,"merged":[]}
[]
[]
[]
[]
[]
[]
[]
[]
[]
[]
[]
[]
[]
[]
[]
[]
[]
[]
[]
[]
[]
[]
[]
[]
[]
[]
[]
[]
[]
[]
[null,null,null,null,null,null,null,null,null,null,null,null,null,null,{"$f":"'Exhibit 1.1'!O31","v":"IRP Variance Exhibit"},{"$f":"'Exhibit 1.1'!P31","v":"Docket No. 20-057-02"},{"$f":"'Exhibit 1.1'!Q31","v":"Dominion Energy Utah"}]
[null,null,null,null,null,null,null,null,null,null,null,null,null,null,8.1999999999999993]

{"sheet":"Exhibit 8.3","index":36,"n_rows":32,"n_cols":17,"rows_kept":32,"cut":false,"hidden":false,"merged":[]}
[]
[]
[]
[]
[]
[]
[]
[]
[]
[]
[]
[]
[]
[]
[]
[]
[]
[]
[]
[]
[]
[]
[]
[]
[]
[]
[]
[]
[]
[]
[null,null,null,null,null,null,null,null,null,null,null,null,null,null,{"$f":"'Exhibit 1.1'!O31","v":"IRP Variance Exhibit"},{"$f":"'Exhibit 1.1'!P31","v":"Docket No. 20-057-02"},{"$f":"'Exhibit 1.1'!Q31","v":"Dominion Energy Utah"}]
[null,null,null,null,null,null,null,null,null,null,null,null,null,null,8.3000000000000007]

{"sheet":"Company Nom Groups","index":37,"n_rows":211,"n_cols":96,"rows_kept":211,"cut":false,"hidden":true,"merged":[[1,29,1,31],[2,29,2,31],[1,41,1,43],[2,41,2,43],[1,45,1,47],[1,17,1,19],[2,17,2,19],[1,25,1,27],[2,25,2,27],[1,21,1,23],[2,21,2,23],[51,75,59,75],[1,49,1,51],[2,49,2,51],[58,33,59,33],[1,37,1,39],[2,37,2,39],[2,45,2,47],[50,35,56,35],[50,34,56,34],[50,33,56,33],[48,53,54,53],[48,54,54,54],[48,55,54,55],[56,53,57,53],[1,70,1,72],[111,74,112,74],[51,74,59,74],[51,73,59,73],[60,74,61,74],[1,58,1,60],[2,58,2,60],[1,62,1,64],[1,93,1,95],[2,93,2,95],[2,62,2,64],[1,66,1,68],[2,66,2,68],[2,70,2,72],[2,81,2,83],[2,85,2,87],[1,81,1,83],[1,85,1,87],[1,89,1,91],[2,89,2,91]]}
["Company Nom Groups"]
["Withdrawn Gross Volume (MDths)",null,null,1106,null,null,null,null,null,null,null,null,null,null,null,null,null,"June 2020 Cost-of-Service",null,null,null,"July 2020 Cost-of-Service",null,null,null,"August 2020 Cost-of-Service",null,null,null,"First Quarter Cost-of-Service",null,null,null,null,null,null,null,"September 2020 Cost-of-Service",null,null,null,"October 2020 Cost-of-Service",null,null,null,"November 2020 Cost-of-Service",null,null,null,"Second Quarter Cost-of-Service",null,null,null,null,null,null,null,null,"December 2020 Cost-of-Service",null,null,null,"January 2021 Cost-of-Service",null,null,null,"February 2021 Cost-of-Service",null,null,null,"Third Quarter Cost-of-Service",null,null,null,null,null,null,null,null,null,null,"March 2021 Cost-of-Service",null,null,null,"April 2021 Cost-of-Service",null,null,null,"May 2021 Cost-of-Service",null,null,null,"Fourth Quarter Cost-of-Service"]
["Source: IRP Base Case, Monthly Custom Report Writer",null,null,null,null,null,null,null,null,null,null,null,null,null,null,null,null,"Variance   Mdth",null,null,null,"Variance   Mdth",null,null,null,"Variance   Mdth",null,null,null,"Variance   Mdth",null,null,null,null,null,null,null,"Variance   Mdth",null,null,null,"Variance   Mdth",null,null,null,"Variance   Mdth",null,null,null,"Variance   Mdth",null,null,null,null,null,null,null,null,"Variance   Mdth",null,null,null,"Variance   Mdth",null,null,null,"Variance   Mdth",null,null,null,"Variance   Mdth",null,null,null,null,null,null,null,null,null,null,"Variance   Mdth",null,null,null,"Variance   Mdth",null,null,null,"Variance   Mdth",null,null,null,"Variance   Mdth"]
[null,2,3,4,5,6,7,8,9,10,11,12,13]
["Nomination Group Production","2020-06-01","2020-07-01","2020-08-01","2020-09-01","2020-10-01","2020-11-01","2020-12-01","2021-01-01","2021-02-01","2021-03-01","2021-04-01","2021-05-01","Total",null,null,null,"Nomination Group","Actual ","Normal",null,"Nomination Group","Actual ","Normal",null,"Nomination Group","Actual ","Normal",null,"Nomination Group","Actual ","Normal",null,null,null,null,null,"Nomination Group","Actual ","Normal",null,"Nomination Group","Actual ","Normal",null,{"$f":"AP5","v":"Nomination Group"},{"$f":"AQ5","v":"Actual "},"Normal",null,{"$f":"AT5","v":"Nomination Group"},{"$f":"AU5","v":"Actual "},{"$f":"AV5","v":"Normal"},null,null,null,null,null,null,"Nomination Group","Actual ","Normal",null,"Nomination Group","Actual ","Normal",null,"Nomination Group","Actual ","Normal",null,{"$f":"BO5","v":"Nomination Group"},{"$f":"BP5","v":"Actual "},{"$f":"BQ5","v":"Normal"},null,null,null,null,null,null,null,null,"Nomination Group","Actual ","Normal",null,"Nomination Group","Actual ","Normal",null,"Nomination Group","Actual ","Normal",null,"Nomination Group","Actual ","Normal"]
["BIRCH CREEK",116.93699645996094,120.09089660644531,119.35310363769531,114.79499816894531,117.89299774169922,113.39099884033203,116.45149993896484,115.41300201416016,100.03279876708984,114.00250244140625,109.65000152587891,112.61060333251953,{"$f":"SUM(B6:M6)","v":1370.6203994750977},null,null,null,{"$f":"A6","v":"BIRCH CREEK"},{"$f":"IFERROR(VLOOKUP(R6,$R$116:$S$210,2,FALSE),0)+S120","v":133.524},{"$f":"IFERROR(VLOOKUP(R6,$A$6:$M$119,2,FALSE),\"\")","v":116.93699645996094},null,{"$f":"R6","v":"BIRCH CREEK"},{"$f":"IFERROR(VLOOKUP(V6,$V$116:$W$210,2,FALSE),0)","v":134.36600000000001},{"$f":"IFERROR(VLOOKUP(V6,$A$6:$M$119,3,FALSE),\"\")","v":120.09089660644531},null,{"$f":"R6","v":"BIRCH CREEK"},{"$f":"IFERROR(VLOOKUP(A6,$Z$116:$AA$210,2,FALSE),0)","v":133.61600000000001},{"$f":"IFERROR(VLOOKUP(Z6,$A$6:$M$119,4,FALSE),\"\")","v":119.35310363769531},null,{"$f":"R6","v":"BIRCH CREEK"},{"$f":"SUM(S6,W6,AA6)","v":401.50599999999997},{"$f":"SUM(T6,X6,AB6)","v":356.38099670410156},null,null,null,null,null,{"$f":"AD6","v":"BIRCH CREEK"},{"$f":"IFERROR(VLOOKUP(AL6,$AL$116:$AM$206,2,FALSE),0)","v":122.6},{"$f":"IFERROR(VLOOKUP(AL6,$A$6:$M$119,5,FALSE),\"\")","v":114.79499816894531},null,{"$f":"AL6","v":"BIRCH CREEK"},{"$f":"IFERROR(VLOOKUP(AP6,$AP$116:$AQ$215,2,FALSE),0)","v":125.215},{"$f":"IFERROR(VLOOKUP($AP6,$A$6:$M$119,6,FALSE),\"\")","v":117.89299774169922},null,{"$f":"AP6","v":"BIRCH CREEK"},{"$f":"IFERROR(VLOOKUP(AT6,$AT$116:$AU$208,2,FALSE),0)","v":111.911},{"$f":"IFERROR(VLOOKUP($AT6,$A$6:$M$119,7,FALSE),\"\")","v":113.39099884033203},null,{"$f":"AT6","v":"BIRCH CREEK"},{"$f":"SUM(AM6,AQ6,AU6)","v":359.726},{"$f":"SUM(AN6,AR6,AV6)","v":346.07899475097656},null,null,null,null,null,null,{"$f":"R6","v":"BIRCH CREEK"},{"$f":"IFERROR(VLOOKUP($BG6,$BG$114:$BH$209,2,FALSE),0)","v":119.70699999999999},{"$f":"IFERROR(VLOOKUP($BG6,$A$6:$M$119,8,FALSE),\"\")","v":116.45149993896484},null,{"$f":"R6","v":"BIRCH CREEK"},{"$f":"IFERROR(VLOOKUP($BK6,$BK$114:$BL$209,2,FALSE),0)","v":121.929},{"$f":"IFERROR(VLOOKUP($BK6,$A$6:$M$119,9,FALSE),\"\")","v":115.41300201416016},null,{"$f":"A6","v":"BIRCH CREEK"},{"$f":"IFERROR(VLOOKUP($BO6,$BO$114:$BP$209,2,FALSE),0)","v":112.86799999999999},{"$f":"IFERROR(VLOOKUP($BO6,$A$6:$M$119,10,FALSE),0)","v":100.03279876708984},null,{"$f":"A6","v":"BIRCH CREEK"},{"$f":"SUM(BH6,BL6,BP6)","v":354.50400000000002},{"$f":"SUM(BI6,BM6,BQ6)","v":331.89730072021484},null,null,null,null,null,null,null,null,{"$f":"A6","v":"BIRCH CREEK"},{"$f":"IFERROR(VLOOKUP(CD6,$CD$115:$CF$202,2,FALSE),0)","v":124.459},{"$f":"IFERROR(VLOOKUP($A6,$A$6:$M$119,11,FALSE),\"\")","v":114.00250244140625},null,{"$f":"A6","v":"BIRCH CREEK"},{"$f":"IFERROR(VLOOKUP(CH6,$CH$115:$CJ$202,2,FALSE),0)","v":127.815},{"$f":"IFERROR(VLOOKUP($A6,$A$6:$M$119,12,FALSE),\"\")","v":109.65000152587891},null,{"$f":"A6","v":"BIRCH CREEK"},{"$f":"IFERROR(VLOOKUP(CL6,$CL$115:$CN$205,2,FALSE),0)","v":133.047},{"$f":"IFERROR(VLOOKUP($A6,$A$6:$M$119,13,FALSE),\"\")","v":112.61060333251953},null,"BIRCH CREEK",{"$f":"CM6+CI6+CE6","v":385.32099999999997},{"$f":"CN6+CJ6+CF6","v":336.26310729980469}]
["ACEJDMT D24",8.3339996337890625,8.5404996871948242,8.466099739074707,8.1239995956420898,8.3234996795654297,7.9889998435974121,8.1840000152587891,8.1157999038696289,7.0167999267578125,7.9794001579284668,7.6560001373291016,7.8429999351501465,{"$f":"SUM(B7:M7)","v":96.572098255157471},null,null,null,{"$f":"A7","v":"ACEJDMT D24"},{"$f":"IFERROR(VLOOKUP(R7,$R$116:$S$210,2,FALSE),0)","v":11.616},8.3339996337890625,null,{"$f":"R7","v":"ACEJDMT D24"},9.4320000000000004,8.5404996871948242,null,{"$f":"R7","v":"ACEJDMT D24"},11.519,8.466099739074707,null,{"$f":"R7","v":"ACEJDMT D24"},{"$f":"SUM(S7,W7,AA7)","v":32.567},{"$f":"SUM(T7,X7,AB7)","v":25.340599060058594},null,null,null,null,null,{"$f":"AD7","v":"ACEJDMT D24"},{"$f":"IFERROR(VLOOKUP(AL7,$AL$116:$AM$206,2,FALSE),0)","v":11.474},{"$f":"IFERROR(VLOOKUP(AL7,$A$6:$M$119,5,FALSE),\"\")","v":8.1239995956420898},null,{"$f":"AL7","v":"ACEJDMT D24"},{"$f":"IFERROR(VLOOKUP(AP7,$AP$116:$AQ$215,2,FALSE),0)","v":11.962999999999999},8.3234996795654297,null,{"$f":"AP7","v":"ACEJDMT D24"},13.746,7.9889998435974121,null,{"$f":"AT7","v":"ACEJDMT D24"},{"$f":"SUM(AM7,AQ7,AU7)","v":37.183},{"$f":"SUM(AN7,AR7,AV7)","v":24.436499118804932},null,null,null,null,null,null,{"$f":"R7","v":"ACEJDMT D24"},7.1420000000000003,8.1840000152587891,null,{"$f":"R7","v":"ACEJDMT D24"},11.334,8.1157999038696289,null,"ACEJDMT D24",10.888999999999999,7.0167999267578125,null,"ACEJDMT D24",29.364999999999998,23.31659984588623,null,null,null,null,null,null,null,null,"ACEJDMT D24",{"$f":"IFERROR(VLOOKUP(CD7,$CD$115:$CF$202,2,FALSE),0)","v":10.448},{"$f":"IFERROR(VLOOKUP($A7,$A$6:$M$119,11,FALSE),\"\")","v":7.9794001579284668},null,"ACEJDMT D24",{"$f":"IFERROR(VLOOKUP(CH7,$CH$115:$CJ$202,2,FALSE),0)","v":10.425000000000001},7.6560001373291016,null,"ACEJDMT D24",{"$f":"IFERROR(VLOOKUP(CL7,$CL$115:$CN$205,2,FALSE),0)","v":10.750999999999999},7.8429999351501465,null,"ACEJDMT D24",31.624000000000002,23.478400230407715]
["BRFM D24",1.8539999723434448,1.906499981880188,1.8940999507904053,1.8209999799728394,1.8724000453948975,1.7999999523162842,1.847599983215332,1.8382999897003174,1.5931999683380127,1.81659996509552,1.7460000514984131,1.7948999404907227,21.784599781036377,null,null,null,"BRFM D24",1.996,1.8539999723434448,null,"BRFM D24",2.298,1.906499981880188,null,"BRFM D24",2.242,1.8940999507904053,null,"BRFM D24",{"$f":"SUM(S8,W8,AA8)","v":6.5360000000000005},{"$f":"SUM(T8,X8,AB8)","v":5.6545999050140381},null,null,null,null,null,"BRFM D24",2.0830000000000002,1.8209999799728394,null,"BRFM D24",2.2709999999999999,1.8724000453948975,null,"BRFM D24",1.85,1.7999999523162842,null,"BRFM D24",{"$f":"SUM(AM8,AQ8,AU8)","v":6.2040000000000006},{"$f":"SUM(AN8,AR8,AV8)","v":5.493399977684021},null,null,null,null,null,null,"BRFM D24",2.16,1.847599983215332,null,{"$f":"R8","v":"BRFM D24"},1.8819999999999999,1.8382999897003174,null,"BRFM D24",1.869,1.5931999683380127,null,"BRFM D24",5.9109999999999996,5.2790999412536621,null,null,null,null,null,null,null,null,"BRFM D24",2.1669999999999998,1.81659996509552,null,"BRFM D24",1.6080000000000001,1.7460000514984131,null,"BRFM D24",1.94,1.7948999404907227,null,"BRFM D24",5.7149999999999999,5.3574999570846558]
["BRFQ D24",0,0,0,0,0,0,138.29409790039062,137.30830383300781,118.89080047607422,135.36459350585937,130.0679931640625,133.451904296875,793.37769317626953,null,null,null,"BRFQ D24",149.78100000000001,0,null,"BRFQ D24",153.81800000000001,0,null,"BRFQ D24",147.947,0,null,"BRFQ D24",451.54600000000005,0,null,null,null,null,null,"BRFQ D24",140.03,0,null,"BRFQ D24",151.22300000000001,0,null,"BRFQ D24",136.55000000000001,0,null,"BRFQ D24",427.80300000000005,0,null,null,null,null,null,null,"BRFQ D24",135.864,138.29409790039062,null,{"$f":"R9","v":"BRFQ D24"},138.411,137.30830383300781,null,"BRFQ D24",124.107,118.89080047607422,null,"BRFQ D24",398.38199999999995,394.49320220947266,null,null,null,null,null,null,null,null,"BRFQ D24",139.70599999999999,135.36459350585937,null,"BRFQ D24",140.10300000000001,130.0679931640625,null,"BRFQ D24",147.61699999999999,133.451904296875,null,"BRFQ D24",427.42600000000004,398.88449096679687]
["BRFQMT D24",4.6739997863769531,4.804999828338623,4.7771000862121582,4.5989999771118164,4.7244000434875488,4.5479998588562012,4.6717000007629395,4.6469001770019531,4.0292000770568848,4.5973000526428223,4.4219999313354492,4.5446000099182129,55.039199829101563,null,null,null,"BRFQMT D24",2.0259999999999998,4.6739997863769531,null,"BRFQMT D24",1.1990000000000001,4.804999828338623,null,"BRFQMT D24",4.9279999999999999,4.7771000862121582,null,"BRFQMT D24",8.1529999999999987,14.256099700927734,null,null,null,null,null,"BRFQMT D24",2.3E-2,4.5989999771118164,null,"BRFQMT D24",6.63,4.7244000434875488,null,"BRFQMT D24",1.2829999999999999,4.5479998588562012,null,"BRFQMT D24",7.9359999999999999,13.871399879455566,null,null,null,null,null,null,"BRFQMT D24",7.617,4.6717000007629395,null,{"$f":"R10","v":"BRFQMT D24"},{"$f":"IFERROR(VLOOKUP($BK10,$BK$114:$BL$209,2,FALSE),0)","v":0},4.6469001770019531,null,"BRFQMT D24",7.6079999999999997,4.0292000770568848,null,"BRFQMT D24",15.225,13.347800254821777,null,null,null,null,null,null,null,null,"BRFQMT D24",1.49,4.5973000526428223,null,"BRFQMT D24",5.4290000000000003,4.4219999313354492,null,"BRFQMT D24",2.3929999999999998,4.5446000099182129,null,"BRFQMT D24",9.3119999999999994,13.563899993896484]
["BRFW D24",55.535999298095703,56.965599060058594,56.550201416015625,54.324001312255859,55.722499847412109,53.390998840332031,54.7677001953125,54.370899200439453,47.07080078125,53.583499908447266,51.477001190185547,52.805400848388672,646.56460189819336,null,null,null,"BRFW D24",63.576999999999998,55.535999298095703,null,"BRFW D24",71.722999999999999,56.965599060058594,null,"BRFW D24",70.355000000000004,56.550201416015625,null,"BRFW D24",205.65500000000003,169.05179977416992,null,null,null,null,null,"BRFW D24",68.076999999999998,54.324001312255859,null,"BRFW D24",71.415000000000006,55.722499847412109,null,"BRFW D24",61.314999999999998,53.390998840332031,null,"BRFW D24",200.80700000000002,163.4375,null,null,null,null,null,null,"BRFW D24",67.218000000000004,54.7677001953125,null,{"$f":"BG11","v":"BRFW D24"},64.078000000000003,54.370899200439453,null,"BRFW D24",52.557000000000002,47.07080078125,null,"BRFW D24",183.85300000000001,156.20940017700195,null,null,null,null,null,null,null,null,"BRFW D24",57.48,53.583499908447266,null,"BRFW D24",57.978000000000002,51.477001190185547,null,"BRFW D24",60.511000000000003,52.805400848388672,null,"BRFW D24",175.96899999999999,157.86590194702148]
["CBFR D24",15.626999855041504,16.002199172973633,15.859600067138672,15.210000038146973,15.574399948120117,14.937000274658203,15.298500061035156,15.162099838256836,13.104000091552734,14.889300346374512,14.279999732971191,14.625800132751465,180.569899559021,null,null,null,"CBFR D24",12.064,15.626999855041504,null,"CBFR D24",4.681,16.002199172973633,null,"CBFR D24",0,15.859600067138672,null,"CBFR D24",16.745000000000001,47.488799095153809,null,null,null,null,null,"CBFR D24",0,15.210000038146973,null,"CBFR D24",2.1000000000000001E-2,15.574399948120117,null,"CBFR D24",27.673999999999999,14.937000274658203,null,"CBFR D24",27.695,45.721400260925293,null,null,null,null,null,null,"CBFR D24",13.047000000000001,15.298500061035156,null,{"$f":"R12","v":"CBFR D24"},19.646000000000001,15.162099838256836,null,"CBFR D24",17.951000000000001,13.104000091552734,null,"CBFR D24",50.643999999999998,43.564599990844727,null,null,null,null,null,null,null,null,"CBFR D24",19.196000000000002,14.889300346374512,null,"CBFR D24",17.981999999999999,14.279999732971191,null,"CBFR D24",11.255000000000001,14.625800132751465,null,"CBFR D24",48.433000000000007,43.795100212097168]
["CCRUNIT D24",497.45999145507812,509.1781005859375,504.42889404296875,483.66000366210937,495.231201171875,474.93600463867187,486.38690185546875,482.08718872070312,416.73239135742187,473.70169067382812,454.4639892578125,465.5889892578125,5743.8553466796875,null,null,null,"CCRUNIT D24",457.37299999999999,497.45999145507812,null,"CCRUNIT D24",481.66699999999997,509.1781005859375,null,"CCRUNIT D24",487.875,504.42889404296875,null,"CCRUNIT D24",1426.915,1511.0669860839844,null,null,null,null,null,"CCRUNIT D24",461.125,483.66000366210937,null,"CCRUNIT D24",444.63600000000002,495.231201171875,null,"CCRUNIT D24",443.24799999999999,474.93600463867187,null,"CCRUNIT D24",1349.009,1453.8272094726562,null,null,null,null,null,null,"CCRUNIT D24",441.75099999999998,486.38690185546875,null,"CCRUNIT D24",464.32799999999997,482.08718872070312,null,"CCRUNIT D24",439.608,416.73239135742187,null,"CCRUNIT D24",1345.6869999999999,1385.2064819335937,null,null,null,null,null,null,null,null,"CCRUNIT D24",469.24900000000002,473.70169067382812,null,"CCRUNIT D24",449.733,454.4639892578125,null,"CCRUNIT D24",470.87700000000001,465.5889892578125,null,"CCRUNIT D24",1389.8589999999999,1393.7546691894531]
["CCRUNITMTD24",42.117000579833984,43.189201354980469,42.860599517822266,41.162998199462891,42.212699890136719,40.037998199462891,41.065700531005859,40.764999389648438,35.288398742675781,40.166698455810547,38.589000701904297,39.583900451660156,487.0391960144043,null,null,null,"CCRUNITMTD24",38.790999999999997,42.117000579833984,null,"CCRUNITMTD24",40.24,43.189201354980469,null,"CCRUNITMTD24",40.298000000000002,42.860599517822266,null,"CCRUNITMTD24",119.32900000000001,128.16680145263672,null,null,null,null,null,"CCRUNITMTD24",39.768000000000001,41.162998199462891,null,"CCRUNITMTD24",40.331000000000003,42.212699890136719,null,"CCRUNITMTD24",40.734000000000002,40.037998199462891,null,"CCRUNITMTD24",120.833,123.4136962890625,null,null,null,null,null,null,"CCRUNITMTD24",38.15,41.065700531005859,null,"CCRUNITMTD24",39.786999999999999,40.764999389648438,null,"CCRUNITMTD24",36.747999999999998,35.288398742675781,null,"CCRUNITMTD24",114.685,117.11909866333008,null,null,null,null,null,null,null,null,"CCRUNITMTD24",40.619,40.166698455810547,null,"CCRUNITMTD24",39.152000000000001,38.589000701904297,null,"CCRUNITMTD24",41.865000000000002,39.583900451660156,null,"CCRUNITMTD24",121.636,118.339599609375]
["CHBT MT",15.251999855041504,15.670499801635742,15.580599784851074,14.994000434875488,15.403900146484375,14.822999954223633,15.230299949645996,15.143500328063965,13.131999969482422,14.969900131225586,14.406000137329102,14.802499771118164,179.40820026397705,null,null,null,"CHBT MT",15.358000000000001,15.251999855041504,null,"CHBT MT",15.189,15.670499801635742,null,"CHBT MT",16.21,15.580599784851074,null,"CHBT MT",46.757000000000005,46.50309944152832,null,null,null,null,null,"CHBT MT",14.737,14.994000434875488,null,"CHBT MT",15.209,15.403900146484375,null,"CHBT MT",14.087,14.822999954223633,null,"CHBT MT",44.033000000000001,45.220900535583496,null,null,null,null,null,null,"CHBT MT",14.4,15.230299949645996,null,"CHBT MT",14.531000000000001,15.143500328063965,null,"CHBT MT",13.089,13.131999969482422,null,"CHBT MT",42.02,43.505800247192383,null,null,null,null,null,null,null,null,"CHBT MT",14.827999999999999,14.969900131225586,null,"CHBT MT",14.348000000000001,14.406000137329102,null,"CHBT MT",14.928000000000001,14.802499771118164,null,"CHBT MT",44.103999999999999,44.178400039672852]
["CHBTBUFF D24",0,0,0,0,0,0.71700000762939453,0.73470002412796021,0.73159998655319214,0.63559997081756592,0.72229999303817749,0.69599997997283936,0.71609997749328613,4.9532999396324158,null,null,null,"CHBTBUFF D24",0.83399999999999996,0,null,"CHBTBUFF D24",0.747,0,null,"CHBTBUFF D24",0.98299999999999998,0,null,"CHBTBUFF D24",2.5640000000000001,0,null,null,null,null,null,"CHBTBUFF D24",0.86299999999999999,0,null,"CHBTBUFF D24",1.024,0,null,"CHBTBUFF D24",0.81699999999999995,0.71700000762939453,null,"CHBTBUFF D24",2.7039999999999997,0.71700000762939453,null,null,null,null,null,null,"CHBTBUFF D24",0.89200000000000002,0.73470002412796021,null,"CHBTBUFF D24",0.89,0.73159998655319214,null,"CHBTBUFF D24",0.72099999999999997,0.63559997081756592,null,"CHBTBUFF D24",2.5030000000000001,2.1018999814987183,null,null,null,null,null,null,null,null,"CHBTBUFF D24",0.77700000000000002,0.72229999303817749,null,"CHBTBUFF D24",0.82299999999999995,0.69599997997283936,null,"CHBTBUFF D24",0.93500000000000005,0.71609997749328613,null,"CHBTBUFF D24",2.5350000000000001,2.134399950504303]
["CHBTCAT2 D24",93.464996337890625,95.938796997070312,95.300201416015625,91.613998413085938,94.038497924804687,90.402000427246094,92.79229736328125,92.178497314453125,79.853202819824219,90.960197448730469,87.441001892089844,89.757400512695313,1093.7410888671875,null,null,null,"CHBTCAT2 D24",78.819999999999993,93.464996337890625,null,"CHBTCAT2 D24",92.632999999999996,95.938796997070312,null,"CHBTCAT2 D24",108.02500000000001,95.300201416015625,null,"CHBTCAT2 D24",279.47799999999995,284.70399475097656,null,null,null,null,null,"CHBTCAT2 D24",99.700999999999993,91.613998413085938,null,"CHBTCAT2 D24",102.73,94.038497924804687,null,"CHBTCAT2 D24",95.924000000000007,90.402000427246094,null,"CHBTCAT2 D24",298.35500000000002,276.05449676513672,null,null,null,null,null,null,"CHBTCAT2 D24",96.379000000000005,92.79229736328125,null,"CHBTCAT2 D24",92.384,92.178497314453125,null,"CHBTCAT2 D24",83.762,79.853202819824219,null,"CHBTCAT2 D24",272.52499999999998,264.82399749755859,null,null,null,null,null,null,null,null,"CHBTCAT2 D24",99.221000000000004,90.960197448730469,null,"CHBTCAT2 D24",93.825999999999993,87.441001892089844,null,"CHBTCAT2 D24",92.394000000000005,89.757400512695313,null,"CHBTCAT2 D24",285.44100000000003,268.15859985351562]
["CHBTCAT3 D24",156.85200500488281,160.97059631347656,159.87010192871094,153.65699768066406,157.43040466308594,151.31700134277344,155.297607421875,154.2467041015625,133.60200500488281,151.81629943847656,145.90499877929687,149.41999816894531,1830.3847198486328,null,null,null,"CHBTCAT3 D24",146.81399999999999,156.85200500488281,null,"CHBTCAT3 D24",152.33600000000001,160.97059631347656,null,"CHBTCAT3 D24",162.03700000000001,159.87010192871094,null,"CHBTCAT3 D24",461.18700000000001,477.69270324707031,null,null,null,null,null,"CHBTCAT3 D24",155.05500000000001,153.65699768066406,null,"CHBTCAT3 D24",158.53899999999999,157.43040466308594,null,"CHBTCAT3 D24",151.68299999999999,151.31700134277344,null,"CHBTCAT3 D24",465.27699999999999,462.40440368652344,null,null,null,null,null,null,"CHBTCAT3 D24",154.91999999999999,155.297607421875,null,"CHBTCAT3 D24",147.05099999999999,154.2467041015625,null,"CHBTCAT3 D24",139.92099999999999,133.60200500488281,null,"CHBTCAT3 D24",441.892,443.14631652832031,null,null,null,null,null,null,null,null,"CHBTCAT3 D24",160.71299999999999,151.81629943847656,null,"CHBTCAT3 D24",150.518,145.90499877929687,null,"CHBTCAT3 D24",154.84299999999999,149.41999816894531,null,"CHBTCAT3 D24",466.07399999999996,447.14129638671875]
["DRY PINY MT",0,0,0,0,0,5.1059999465942383,5.2328000068664551,5.1894001960754395,4.4883999824523926,5.1057000160217285,4.9019999504089355,5.0251002311706543,35.049400329589844,null,null,null,"DRY PINY MT",4.242,0,null,"DRY PINY MT",4.202,0,null,"DRY PINY MT",4.3049999999999997,0,null,"DRY PINY MT",12.748999999999999,0,null,null,null,null,null,"DRY PINY MT",4.4189999999999996,0,null,"DRY PINY MT",4.4859999999999998,0,null,"DRY PINY MT",4.3550000000000004,5.1059999465942383,null,"DRY PINY MT",13.26,5.1059999465942383,null,null,null,null,null,null,"DRY PINY MT",4.5119999999999996,5.2328000068664551,null,"DRY PINY MT",4.0960000000000001,5.1894001960754395,null,"DRY PINY MT",3.2050000000000001,4.4883999824523926,null,"DRY PINY MT",11.813000000000001,14.910600185394287,null,null,null,null,null,null,null,null,"DRY PINY MT",4.2300000000000004,5.1057000160217285,null,"DRY PINY MT",4.2770000000000001,4.9019999504089355,null,"DRY PINY MT",4.101,5.0251002311706543,null,"DRY PINY MT",12.608000000000001,15.032800197601318]
["DRYPINY6 D24",1.0260000228881836,1.0508999824523926,1.0415999889373779,0.99900001287460327,1.0230000019073486,0.98100000619888306,1.0044000148773193,0.99510002136230469,0.8596000075340271,0.97649997472763062,0.93599998950958252,0.96100002527236938,11.854100048542023,null,null,null,"DRYPINY6 D24",0.80600000000000005,1.0260000228881836,null,"DRYPINY6 D24",0.72899999999999998,1.0508999824523926,null,"DRYPINY6 D24",0.82699999999999996,1.0415999889373779,null,"DRYPINY6 D24",2.3620000000000001,3.1184999942779541,null,null,null,null,null,"DRYPINY6 D24",0.74199999999999999,0.99900001287460327,null,"DRYPINY6 D24",0.78800000000000003,1.0230000019073486,null,"DRYPINY6 D24",0.84699999999999998,0.98100000619888306,null,"DRYPINY6 D24",2.3769999999999998,3.003000020980835,null,null,null,null,null,null,"DRYPINY6 D24",0.82599999999999996,1.0044000148773193,null,"DRYPINY6 D24",0.82199999999999995,0.99510002136230469,null,"DRYPINY6 D24",0.71199999999999997,0.8596000075340271,null,"DRYPINY6 D24",2.36,2.8591000437736511,null,null,null,null,null,null,null,null,"DRYPINY6 D24",0.69499999999999995,0.97649997472763062,null,"DRYPINY6 D24",0.32600000000000001,0.93599998950958252,null,"DRYPINY6 D24",0.85699999999999998,0.96100002527236938,null,"DRYPINY6 D24",1.8780000000000001,2.8734999895095825]
["DRYPINYU D24",1.8359999656677246,1.8878999948501587,1.878600001335144,1.8090000152587891,1.8600000143051147,1.7910000085830688,1.8414000272750854,1.8321000337600708,1.5903999805450439,1.81659996509552,1.7489999532699585,1.7979999780654907,21.689999938011169,null,null,null,"DRYPINYU D24",1.911,1.8359999656677246,null,"DRYPINYU D24",1.9670000000000001,1.8878999948501587,null,"DRYPINYU D24",1.9510000000000001,1.878600001335144,null,"DRYPINYU D24",5.8290000000000006,5.6024999618530273,null,null,null,null,null,"DRYPINYU D24",1.837,1.8090000152587891,null,"DRYPINYU D24",1.899,1.8600000143051147,null,"DRYPINYU D24",1.8109999999999999,1.7910000085830688,null,"DRYPINYU D24",5.5469999999999997,5.4600000381469727,null,null,null,null,null,null,"DRYPINYU D24",1.887,1.8414000272750854,null,"DRYPINYU D24",1.8169999999999999,1.8321000337600708,null,"DRYPINYU D24",1.601,1.5903999805450439,null,"DRYPINYU D24",5.3049999999999997,5.2639000415802002,null,null,null,null,null,null,null,null,"DRYPINYU D24",1.7549999999999999,1.81659996509552,null,"DRYPINYU D24",1.7370000000000001,1.7489999532699585,null,"DRYPINYU D24",1.7230000000000001,1.7979999780654907,null,"DRYPINYU D24",5.2149999999999999,5.3635998964309692]
["HWA DEEP D24",0.14100000262260437,0.13950000703334808,0.13330000638961792,0.12300000339746475,0.12399999797344208,0.11400000005960464,0.11469999700784683,0.10849999636411667,9.2399999499320984E-2,9.920000284910202E-2,9.3000002205371857E-2,9.3000002205371857E-2,1.3756000176072121,null,null,null,"HWA DEEP D24",0.46200000000000002,0.14100000262260437,null,"HWA DEEP D24",0.34399999999999997,0.13950000703334808,null,"HWA DEEP D24",0,0.13330000638961792,null,"HWA DEEP D24",0.80600000000000005,0.41380001604557037,null,null,null,null,null,"HWA DEEP D24",2.8000000000000001E-2,0.12300000339746475,null,"HWA DEEP D24",0.32400000000000001,0.12399999797344208,null,"HWA DEEP D24",0.46,0.11400000005960464,null,"HWA DEEP D24",0.81200000000000006,0.36100000143051147,null,null,null,null,null,null,"HWA DEEP D24",0.37,0.11469999700784683,null,"HWA DEEP D24",0.39800000000000002,0.10849999636411667,null,"HWA DEEP D24",0.33400000000000002,9.2399999499320984E-2,null,"HWA DEEP D24",1.1020000000000001,0.31559999287128448,null,null,null,null,null,null,null,null,"HWA DEEP D24",0.38200000000000001,9.920000284910202E-2,null,"HWA DEEP D24",0.36,9.3000002205371857E-2,null,"HWA DEEP D24",0.35199999999999998,9.3000002205371857E-2,null,"HWA DEEP D24",1.0939999999999999,0.28520000725984573]
["HWA MT",2.8110001087188721,2.8829998970031738,2.861299991607666,2.747999906539917,2.8178999423980713,2.7090001106262207,2.7776000499725342,2.7558999061584473,2.3856000900268555,2.7156000137329102,2.6070001125335693,2.6752998828887939,32.747200012207031,null,null,null,"HWA MT",2.9089999999999998,2.8110001087188721,null,"HWA MT",3.266,2.8829998970031738,null,"HWA MT",3.26,2.861299991607666,null,"HWA MT",9.4349999999999987,8.5552999973297119,null,null,null,null,null,"HWA MT",3.0579999999999998,2.747999906539917,null,"HWA MT",3.734,2.8178999423980713,null,"HWA MT",2.2799999999999998,2.7090001106262207,null,"HWA MT",9.0719999999999992,8.274899959564209,null,null,null,null,null,null,"HWA MT",2.76,2.7776000499725342,null,"HWA MT",1.7869999999999999,2.7558999061584473,null,"HWA MT",1.7869999999999999,2.3856000900268555,null,"HWA MT",6.3339999999999996,7.9191000461578369,null,null,null,null,null,null,null,null,"HWA MT",2.7189999999999999,2.7156000137329102,null,"HWA MT",1.226,2.6070001125335693,null,"HWA MT",1.133,2.6752998828887939,null,"HWA MT",5.0779999999999994,7.9979000091552734]
["HWADEEPMTD24",13.286999702453613,13.646200180053711,13.565600395202637,13.046999931335449,13.401300430297852,12.890999794006348,13.240099906921387,13.159500122070313,11.407199859619141,12.998299598693848,12.503999710083008,12.843299865722656,155.99049949645996,null,null,null,"HWADEEPMTD24",16.945,13.286999702453613,null,"HWADEEPMTD24",16.376000000000001,13.646200180053711,null,"HWADEEPMTD24",0,13.565600395202637,null,"HWADEEPMTD24",33.320999999999998,40.498800277709961,null,null,null,null,null,"HWADEEPMTD24",1.3149999999999999,13.046999931335449,null,"HWADEEPMTD24",9.4559999999999995,13.401300430297852,null,"HWADEEPMTD24",15.898,12.890999794006348,null,"HWADEEPMTD24",26.668999999999997,39.339300155639648,null,null,null,null,null,null,"HWADEEPMTD24",15.503,13.240099906921387,null,"HWADEEPMTD24",17.829000000000001,13.159500122070313,null,"HWADEEPMTD24",14.664999999999999,11.407199859619141,null,"HWADEEPMTD24",47.997,37.80679988861084,null,null,null,null,null,null,null,null,"HWADEEPMTD24",16.963999999999999,12.998299598693848,null,"HWADEEPMTD24",15.39,12.503999710083008,null,"HWADEEPMTD24",16.297000000000001,12.843299865722656,null,"HWADEEPMTD24",48.650999999999996,38.345599174499512]
["HWPL1&3MTD24",7.7100000381469727,7.9236001968383789,7.8801999092102051,7.5809998512268066,7.7902998924255371,7.4970002174377441,7.7034997940063477,7.660099983215332,6.6444001197814941,7.5763998031616211,7.2899999618530273,7.4927000999450684,90.749199867248535,null,null,null,"HWPL1&3MTD24",7.4690000000000003,7.7100000381469727,null,"HWPL1&3MTD24",8.7739999999999991,7.9236001968383789,null,"HWPL1&3MTD24",8.4930000000000003,7.8801999092102051,null,"HWPL1&3MTD24",24.735999999999997,23.513800144195557,null,null,null,null,null,"HWPL1&3MTD24",8.0820000000000007,7.5809998512268066,null,"HWPL1&3MTD24",8.2859999999999996,7.7902998924255371,null,"HWPL1&3MTD24",7.74,7.4970002174377441,null,"HWPL1&3MTD24",24.108000000000004,22.868299961090088,null,null,null,null,null,null,"HWPL1&3MTD24",8.8339999999999996,7.7034997940063477,null,"HWPL1&3MTD24",8.3179999999999996,7.660099983215332,null,"HWPL1&3MTD24",7.0339999999999998,6.6444001197814941,null,"HWPL1&3MTD24",24.186,22.007999897003174,null,null,null,null,null,null,null,null,{"$f":"A25","v":"HWPL1&3MTD24"},7.8140000000000001,{"$f":"IFERROR(VLOOKUP($A25,$A$6:$M$119,11,FALSE),\"\")","v":7.5763998031616211},null,{"$f":"A25","v":"HWPL1&3MTD24"},7.6379999999999999,{"$f":"IFERROR(VLOOKUP($A25,$A$6:$M$119,12,FALSE),\"\")","v":7.2899999618530273},null,{"$f":"A25","v":"HWPL1&3MTD24"},7.343,{"$f":"IFERROR(VLOOKUP($A25,$A$6:$M$119,13,FALSE),\"\")","v":7.4927000999450684},null,"HWPL1&3MTD24",22.795000000000002,22.359099864959717]
["HWPLT1&3 D24",77.903999328613281,79.611099243164063,78.730697631835938,75.350997924804688,77.000900268554688,73.697998046875,75.314498901367188,74.486801147460938,64.246002197265625,72.859298706054687,69.737998962402344,71.272102355957031,890.21239471435547,null,null,null,"HWPLT1&3 D24",77.468999999999994,77.903999328613281,null,"HWPLT1&3 D24",88.022000000000006,79.611099243164063,null,"HWPLT1&3 D24",87.575000000000003,78.730697631835938,null,"HWPLT1&3 D24",253.06599999999997,236.24579620361328,null,null,null,null,null,"HWPLT1&3 D24",77.638000000000005,75.350997924804688,null,"HWPLT1&3 D24",86.57,77.000900268554688,null,"HWPLT1&3 D24",73.438000000000002,73.697998046875,null,"HWPLT1&3 D24",237.64600000000002,226.04989624023437,null,null,null,null,null,null,"HWPLT1&3 D24",84.783000000000001,75.314498901367188,null,"HWPLT1&3 D24",79.843999999999994,74.486801147460938,null,"HWPLT1&3 D24",62.26,64.246002197265625,null,"HWPLT1&3 D24",226.887,214.04730224609375,null,null,null,null,null,null,null,null,"HWPLT1&3 D24",71.134,72.859298706054687,null,"HWPLT1&3 D24",68.909000000000006,69.737998962402344,null,"HWPLT1&3 D24",72.430000000000007,71.272102355957031,null,"HWPLT1&3 D24",212.47300000000001,213.86940002441406]
["HWPLT2 D24",4.9380002021789551,5.0685000419616699,5.0343999862670898,4.8420000076293945,4.9692997932434082,4.7760000228881836,4.9042000770568848,4.8701000213623047,4.2196002006530762,4.804999828338623,4.619999885559082,4.7430000305175781,57.79010009765625,null,null,null,"HWPLT2 D24",8.1669999999999998,4.9380002021789551,null,"HWPLT2 D24",8.3209999999999997,5.0685000419616699,null,"HWPLT2 D24",7.3689999999999998,5.0343999862670898,null,"HWPLT2 D24",23.856999999999999,15.040900230407715,null,null,null,null,null,"HWPLT2 D24",5.7320000000000002,4.8420000076293945,null,"HWPLT2 D24",6.6189999999999998,4.9692997932434082,null,"HWPLT2 D24",6.2789999999999999,4.7760000228881836,null,"HWPLT2 D24",18.63,14.587299823760986,null,null,null,null,null,null,"HWPLT2 D24",6.7130000000000001,4.9042000770568848,null,"HWPLT2 D24",6.335,4.8701000213623047,null,"HWPLT2 D24",5.6849999999999996,4.2196002006530762,null,"HWPLT2 D24",18.733000000000001,13.993900299072266,null,null,null,null,null,null,null,null,"HWPLT2 D24",5.46,4.804999828338623,null,"HWPLT2 D24",7.3109999999999999,4.619999885559082,null,"HWPLT2 D24",9.3279999999999994,4.7430000305175781,null,"HWPLT2 D24",22.099,14.167999744415283]
["HWPLT2MT D24",4.2150001525878906,4.3120999336242676,4.268700122833252,4.0890002250671387,4.1819000244140625,4.0079998970031738,4.0981998443603516,4.0578999519348145,3.5027999877929687,3.9772999286651611,3.812999963760376,3.8998000621795654,48.423700094223022,null,null,null,"HWPLT2MT D24",3.0289999999999999,4.2150001525878906,null,"HWPLT2MT D24",3.294,4.3120999336242676,null,"HWPLT2MT D24",3.1970000000000001,4.268700122833252,null,"HWPLT2MT D24",9.52,12.79580020904541,null,null,null,null,null,"HWPLT2MT D24",4.3,4.0890002250671387,null,"HWPLT2MT D24",5.6909999999999998,4.1819000244140625,null,"HWPLT2MT D24",4.266,4.0079998970031738,null,"HWPLT2MT D24",14.257,12.278900146484375,null,null,null,null,null,null,"HWPLT2MT D24",4.0229999999999997,4.0981998443603516,null,"HWPLT2MT D24",2.7210000000000001,4.0578999519348145,null,"HWPLT2MT D24",1.655,3.5027999877929687,null,"HWPLT2MT D24",8.3989999999999991,11.658899784088135,null,null,null,null,null,null,null,null,"HWPLT2MT D24",1.7090000000000001,3.9772999286651611,null,"HWPLT2MT D24",1.5469999999999999,3.812999963760376,null,"HWPLT2MT D24",1.5449999999999999,3.8998000621795654,null,"HWPLT2MT D24",4.8010000000000002,11.690099954605103]
["ISLAND D24",52.904998779296875,53.676498413085938,53.310699462890625,51.240001678466797,52.585300445556641,50.543998718261719,51.872299194335938,50.257198333740234,42.985599517822266,48.958301544189453,46.455001831054688,47.681098937988281,602.47099685668945,null,null,null,"ISLAND D24",48.96,52.904998779296875,null,"ISLAND D24",46.465000000000003,53.676498413085938,null,"ISLAND D24",46.34,53.310699462890625,null,"ISLAND D24",141.76500000000001,159.89219665527344,null,null,null,null,null,"ISLAND D24",42.093000000000004,51.240001678466797,null,"ISLAND D24",53.607999999999997,52.585300445556641,null,"ISLAND D24",59.625999999999998,50.543998718261719,null,"ISLAND D24",155.327,154.36930084228516,null,null,null,null,null,null,"ISLAND D24",62.51,51.872299194335938,null,"ISLAND D24",62.463999999999999,50.257198333740234,null,"ISLAND D24",52.529000000000003,42.985599517822266,null,"ISLAND D24",177.50299999999999,145.11509704589844,null,null,null,null,null,null,null,null,"ISLAND D24",47.874000000000002,48.958301544189453,null,"ISLAND D24",60.128,46.455001831054688,null,"ISLAND D24",52.344000000000001,47.681098937988281,null,"ISLAND D24",160.346,143.09440231323242]
["JNSNRDG D24",2.0969998836517334,2.157599925994873,2.1482999324798584,2.0729999542236328,2.1328001022338867,2.0550000667572021,2.1142001152038574,2.1080000400543213,1.8284000158309937,2.089400053024292,2.0130000114440918,2.0738999843597412,24.890600085258484,null,null,null,"JNSNRDG D24",5.5170000000000003,2.0969998836517334,null,"JNSNRDG D24",3.347,2.157599925994873,null,"JNSNRDG D24",2.8969999999999998,2.1482999324798584,null,"JNSNRDG D24",11.761000000000001,6.4028997421264648,null,null,null,null,null,"JNSNRDG D24",2.6179999999999999,2.0729999542236328,null,"JNSNRDG D24",2.72,2.1328001022338867,null,"JNSNRDG D24",2.3370000000000002,2.0550000667572021,null,"JNSNRDG D24",7.6750000000000007,6.2608001232147217,null,null,null,null,null,null,"JNSNRDG D24",2.0659999999999998,2.1142001152038574,null,"JNSNRDG D24",0.29899999999999999,2.1080000400543213,null,"JNSNRDG D24",0,1.8284000158309937,null,"JNSNRDG D24",2.3649999999999998,6.0506001710891724,null,null,null,null,null,null,null,null,"JNSNRDG D24",0,2.089400053024292,null,"JNSNRDG D24",0,2.0130000114440918,null,"JNSNRDG D24",0,2.0738999843597412,null,"JNSNRDG D24",0,6.176300048828125]
["JRDG WFS D24",2.7209999561309814,2.7962000370025635,2.7776000499725342,2.6730000972747803,2.7434999942779541,2.6400001049041748,2.709399938583374,2.6939001083374023,2.3352000713348389,2.6598000526428223,2.5590000152587891,2.6287999153137207,31.937400341033936,null,null,null,"JRDG WFS D24",6.9589999999999996,2.7209999561309814,null,"JRDG WFS D24",4.4240000000000004,2.7962000370025635,null,"JRDG WFS D24",3.786,2.7776000499725342,null,"JRDG WFS D24",15.168999999999999,8.2948000431060791,null,null,null,null,null,"JRDG WFS D24",3.3340000000000001,2.6730000972747803,null,"JRDG WFS D24",3.5070000000000001,2.7434999942779541,null,"JRDG WFS D24",2.887,2.6400001049041748,null,"JRDG WFS D24",9.7279999999999998,8.0565001964569092,null,null,null,null,null,null,"JRDG WFS D24",3.0350000000000001,2.709399938583374,null,"JRDG WFS D24",2.008,2.6939001083374023,null,"JRDG WFS D24",0,2.3352000713348389,null,"JRDG WFS D24",5.0430000000000001,7.7385001182556152,null,null,null,null,null,null,null,null,"JRDG WFS D24",0,2.6598000526428223,null,"JRDG WFS D24",0,2.5590000152587891,null,"JRDG WFS D24",0,2.6287999153137207,null,"JRDG WFS D24",0,7.847599983215332]
["KNY FLD D24",15.230999946594238,15.605400085449219,15.475199699401855,14.852999687194824,15.220999717712402,14.609999656677246,14.972999572753906,14.855199813842773,12.85200023651123,14.619600296020508,14.036999702453613,14.39330005645752,176.72569847106934,null,null,null,"KNY FLD D24",9.6820000000000004,15.230999946594238,null,"KNY FLD D24",7.4189999999999996,15.605400085449219,null,"KNY FLD D24",8.4410000000000007,15.475199699401855,null,"KNY FLD D24",{"$f":"SUM(S32,W32,AA32)","v":25.542000000000002},{"$f":"SUM(T32,X32,AB32)","v":46.311599731445313},null,null,null,null,null,"KNY FLD D24",2.0840000000000001,14.852999687194824,null,"KNY FLD D24",5.3650000000000002,15.220999717712402,null,"KNY FLD D24",4.4329999999999998,14.609999656677246,null,"KNY FLD D24",11.882,44.683999061584473,null,null,null,null,null,null,"KNY FLD D24",4.6539999999999999,14.972999572753906,null,"KNY FLD D24",5.9089999999999998,14.855199813842773,null,"KNY FLD D24",6.3780000000000001,12.85200023651123,null,"KNY FLD D24",16.940999999999999,42.68019962310791,null,null,null,null,null,null,null,null,"KNY FLD D24",4.133,14.619600296020508,null,"KNY FLD D24",4.0389999999999997,14.036999702453613,null,"KNY FLD D24",3.931,14.39330005645752,null,"KNY FLD D24",12.103,43.049900054931641]
["MESA D24",755.47802734375,772.9229736328125,765.31561279296875,733.38299560546875,750.4635009765625,719.23797607421875,736.07330322265625,729.04248046875,629.73681640625,713.95477294921875,684.41400146484375,700.5906982421875,8690.6131591796875,null,null,null,"MESA D24",706.50699999999995,755.47802734375,null,"MESA D24",736.87699999999995,772.9229736328125,null,"MESA D24",723.38099999999997,765.31561279296875,null,"MESA D24",2166.7649999999999,2293.7166137695312,null,null,null,null,null,"MESA D24",684.52499999999998,733.38299560546875,null,"MESA D24",690.51599999999996,750.4635009765625,null,"MESA D24",655.601,719.23797607421875,null,"MESA D24",2030.6419999999998,2203.08447265625,null,null,null,null,null,null,"MESA D24",668.24199999999996,736.07330322265625,null,"MESA D24",651.26499999999999,729.04248046875,null,"MESA D24",575.96500000000003,629.73681640625,null,"MESA D24",1895.4720000000002,2094.8526000976562,null,null,null,null,null,null,null,null,"MESA D24",625.66999999999996,713.95477294921875,null,"MESA D24",603.78200000000004,684.41400146484375,null,"MESA D24",607.17999999999995,700.5906982421875,null,"MESA D24",1836.6320000000001,2098.95947265625]
["MOSUMT D24",0,0,0,0,0,1.1640000343322754,1.1811000108718872,1.1593999862670898,0.99400001764297485,1.1190999746322632,1.062000036239624,1.0787999629974365,7.758400022983551,null,null,null,"MOSUMT D24",0.68300000000000005,0,null,"MOSUMT D24",1.149,0,null,"MOSUMT D24",1.119,0,null,"MOSUMT D24",2.9510000000000001,0,null,null,null,null,null,"MOSUMT D24",1.583,0,null,"MOSUMT D24",2.6970000000000001,0,null,"MOSUMT D24",1.423,1.1640000343322754,null,"MOSUMT D24",5.7030000000000003,1.1640000343322754,null,null,null,null,null,null,"MOSUMT D24",1.3049999999999999,1.1811000108718872,null,"MOSUMT D24",1.286,1.1593999862670898,null,"MOSUMT D24",0.82299999999999995,0.99400001764297485,null,"MOSUMT D24",3.4140000000000001,3.3345000147819519,null,null,null,null,null,null,null,null,"MOSUMT D24",0.9,1.1190999746322632,null,"MOSUMT D24",0.94199999999999995,1.062000036239624,null,"MOSUMT D24",0.88800000000000001,1.0787999629974365,null,"MOSUMT D24",2.73,3.2598999738693237]
["PDW MT",195.88800048828125,200.6134033203125,198.86500549316406,190.80000305175781,195.49839782714844,187.61700439453125,192.27749633789062,190.71510314941406,164.98159790039062,187.67399597167969,180.18299865722656,184.72900390625,2269.8420104980469,null,null,null,"PDW MT",187.392,195.88800048828125,null,"PDW MT",202.64699999999999,200.6134033203125,null,"PDW MT",198.19200000000001,198.86500549316406,null,"PDW MT",588.23099999999999,595.36640930175781,null,null,null,null,null,"PDW MT",188.93299999999999,190.80000305175781,null,"PDW MT",195.31100000000001,195.49839782714844,null,"PDW MT",173.89699999999999,187.61700439453125,null,"PDW MT",{"$f":"SUM(AM35,AQ35,AU35)","v":558.14100000000008},{"$f":"SUM(AN35,AR35,AV35)","v":573.9154052734375},null,null,null,null,null,null,"PDW MT",183.28800000000001,192.27749633789062,null,"PDW MT",179.40299999999999,190.71510314941406,null,"PDW MT",176.053,164.98159790039062,null,"PDW MT",538.74400000000003,547.97419738769531,null,null,null,null,null,null,null,null,"PDW MT",187.21700000000001,187.67399597167969,null,"PDW MT",184.68100000000001,180.18299865722656,null,"PDW MT",198.31299999999999,184.72900390625,null,"PDW MT",570.21100000000001,552.58599853515625]
["PDW1A1B D24",0.58799999952316284,0.60449999570846558,0.60140001773834229,0.57599997520446777,0.59210002422332764,0.56999999284744263,0.58279997110366821,0.57969999313354492,0.50120002031326294,0.57349997758865356,0.54900002479553223,0.56419998407363892,6.8823999762535095,null,null,null,"PDW1A1B D24",0.185,0.58799999952316284,null,"PDW1A1B D24",0.26700000000000002,0.60449999570846558,null,"PDW1A1B D24",0.19900000000000001,0.60140001773834229,null,"PDW1A1B D24",0.65100000000000002,1.7939000129699707,null,null,null,null,null,"PDW1A1B D24",0.17,0.57599997520446777,null,"PDW1A1B D24",0.17599999999999999,0.59210002422332764,null,"PDW1A1B D24",0.16600000000000001,0.56999999284744263,null,"PDW1A1B D24",0.51200000000000001,1.738099992275238,null,null,null,null,null,null,"PDW1A1B D24",0.16300000000000001,0.58279997110366821,null,"PDW1A1B D24",0.193,0.57969999313354492,null,"PDW1A1B D24",0.21,0.50120002031326294,null,"PDW1A1B D24",0.56599999999999995,1.6636999845504761,null,null,null,null,null,null,null,null,"PDW1A1B D24",0.61899999999999999,0.57349997758865356,null,"PDW1A1B D24",1.0980000000000001,0.54900002479553223,null,"PDW1A1B D24",0.873,0.56419998407363892,null,"PDW1A1B D24",2.59,1.6866999864578247]
["PDWCUT D24",0,0,0,0,0,1.440000057220459,1.4817999601364136,1.475600004196167,1.2796000242233276,1.4631999731063843,1.406999945640564,1.447700023651123,9.9948999881744385,null,null,null,"PDWCUT D24",0.79900000000000004,0,null,"PDWCUT D24",1.1220000000000001,0,null,"PDWCUT D24",0,0,null,"PDWCUT D24",1.9210000000000003,0,null,null,null,null,null,"PDWCUT D24",0,0,null,"PDWCUT D24",0,0,null,"PDWCUT D24",2.3170000000000002,1.440000057220459,null,"PDWCUT D24",2.3170000000000002,1.440000057220459,null,null,null,null,null,null,"PDWCUT D24",1.8460000000000001,1.4817999601364136,null,"PDWCUT D24",0.97799999999999998,1.475600004196167,null,"PDWCUT D24",0.60699999999999998,1.2796000242233276,null,"PDWCUT D24",3.431,4.2369999885559082,null,null,null,null,null,null,null,null,"PDWCUT D24",1.1719999999999999,1.4631999731063843,null,"PDWCUT D24",1.389,1.406999945640564,null,"PDWCUT D24",1.2070000000000001,1.447700023651123,null,"PDWCUT D24",3.7679999999999998,4.3178999423980713]
["PDWMT D24",27.228000640869141,27.878299713134766,27.630300521850586,26.504999160766602,27.149799346923828,26.048999786376953,26.690999984741211,26.467800140380859,22.889999389648437,26.03380012512207,24.989999771118164,25.615299224853516,315.12829780578613,null,null,null,"PDWMT D24",22.042000000000002,{"$f":"IFERROR(VLOOKUP(R38,$A$6:$M$119,2,FALSE),\"\")","v":27.228000640869141},null,"PDWMT D24",{"$f":"IFERROR(VLOOKUP(V38,$V$116:$W$210,2,FALSE),0)","v":19.510999999999999},{"$f":"IFERROR(VLOOKUP(V38,$A$6:$M$119,3,FALSE),\"\")","v":27.878299713134766},null,"PDWMT D24",{"$f":"IFERROR(VLOOKUP(A38,$Z$116:$AA$210,2,FALSE),0)","v":18.399000000000001},{"$f":"IFERROR(VLOOKUP(Z38,$A$6:$M$119,4,FALSE),\"\")","v":27.630300521850586},null,"PDWMT D24",59.951999999999998,82.736600875854492,null,null,null,null,null,"PDWMT D24",{"$f":"IFERROR(VLOOKUP(AL38,$AL$116:$AM$206,2,FALSE),0)","v":18.096},26.504999160766602,null,"PDWMT D24",{"$f":"IFERROR(VLOOKUP(AP38,$AP$116:$AQ$215,2,FALSE),0)","v":17.347999999999999},{"$f":"IFERROR(VLOOKUP($AP38,$A$6:$M$119,6,FALSE),\"\")","v":27.149799346923828},null,"PDWMT D24",{"$f":"IFERROR(VLOOKUP(AT38,$AT$116:$AU$208,2,FALSE),0)","v":16.425999999999998},{"$f":"IFERROR(VLOOKUP($AT38,$A$6:$M$119,7,FALSE),\"\")","v":26.048999786376953},null,"PDWMT D24",51.870000000000005,79.703798294067383,null,null,null,null,null,null,"PDWMT D24",{"$f":"IFERROR(VLOOKUP($BG38,$BG$114:$BH$209,2,FALSE),0)","v":21.428000000000001},{"$f":"IFERROR(VLOOKUP($BG38,$A$6:$M$119,8,FALSE),\"\")","v":26.690999984741211},null,"PDWMT D24",{"$f":"IFERROR(VLOOKUP($BK38,$BK$114:$BL$209,2,FALSE),0)","v":20.709},{"$f":"IFERROR(VLOOKUP($BK38,$A$6:$M$119,9,FALSE),\"\")","v":26.467800140380859},null,{"$f":"A38","v":"PDWMT D24"},{"$f":"IFERROR(VLOOKUP($BO38,$BO$114:$BP$209,2,FALSE),0)","v":17.716999999999999},{"$f":"IFERROR(VLOOKUP($BO38,$A$6:$M$119,10,FALSE),0)","v":22.889999389648437},null,{"$f":"A38","v":"PDWMT D24"},{"$f":"SUM(BH38,BL38,BP38)","v":59.853999999999999},{"$f":"SUM(BI38,BM38,BQ38)","v":76.048799514770508},null,null,null,null,null,null,null,null,"PDWMT D24",18.82,26.03380012512207,null,"PDWMT D24",17.254999999999999,24.989999771118164,null,"PDWMT D24",16.902999999999999,25.615299224853516,null,"PDWMT D24",52.978000000000002,76.63909912109375]
["PDWPLT2 D24",4.6529998779296875,4.7802000045776367,4.7491998672485352,4.5689997673034668,4.6902999877929687,4.5120000839233398,4.6345000267028809,4.6065998077392578,3.9927999973297119,4.5507998466491699,4.3769998550415039,4.494999885559082,54.610399007797241,null,null,null,"PDWPLT2 D24",{"$f":"IFERROR(VLOOKUP(R39,$R$116:$S$210,2,FALSE),0)","v":4.2},4.6529998779296875,null,"PDWPLT2 D24",5.157,4.7802000045776367,null,"PDWPLT2 D24",4.9139999999999997,4.7491998672485352,null,"PDWPLT2 D24",14.270999999999999,14.182399749755859,null,null,null,null,null,"PDWPLT2 D24",4.9189999999999996,4.5689997673034668,null,"PDWPLT2 D24",5.6139999999999999,4.6902999877929687,null,"PDWPLT2 D24",4.7439999999999998,4.5120000839233398,null,"PDWPLT2 D24",15.276999999999999,13.771299839019775,null,null,null,null,null,null,"PDWPLT2 D24",4.9249999999999998,4.6345000267028809,null,"PDWPLT2 D24",4.2409999999999997,4.6065998077392578,null,"PDWPLT2 D24",4.5579999999999998,3.9927999973297119,null,"PDWPLT2 D24",13.724,13.233899831771851,null,null,null,null,null,null,null,null,"PDWPLT2 D24",4.8209999999999997,4.5507998466491699,null,"PDWPLT2 D24",4.6130000000000004,4.3769998550415039,null,"PDWPLT2 D24",5.0970000000000004,4.494999885559082,null,"PDWPLT2 D24",14.531000000000001,13.422799587249756]
["SGRLF D24",1.6920000314712524,1.7359999418258667,1.7236000299453735,1.656000018119812,1.6987999677658081,1.6349999904632568,1.6770999431610107,1.6647000312805176,1.4420000314712524,1.6430000066757202,1.5779999494552612,1.6181999444961548,19.764399886131287,null,null,null,"SGRLF D24",1.115,1.6920000314712524,null,"SGRLF D24",1.351,1.7359999418258667,null,"SGRLF D24",0,1.7236000299453735,null,"SGRLF D24",2.4660000000000002,5.1516000032424927,null,null,null,null,null,"SGRLF D24",0,1.656000018119812,null,"SGRLF D24",0.73599999999999999,1.6987999677658081,null,"SGRLF D24",2.585,1.6349999904632568,null,"SGRLF D24",3.3209999999999997,4.989799976348877,null,null,null,null,null,null,"SGRLF D24",1.978,1.6770999431610107,null,"SGRLF D24",1.9610000000000001,1.6647000312805176,null,"SGRLF D24",1.4650000000000001,1.4420000314712524,null,"SGRLF D24",5.4039999999999999,4.7838000059127808,null,null,null,null,null,null,null,null,"SGRLF D24",1.3640000000000001,1.6430000066757202,null,"SGRLF D24",1.2210000000000001,1.5779999494552612,null,"SGRLF D24",1.2849999999999999,1.6181999444961548,null,"SGRLF D24",3.87,4.8391999006271362]
["SGRLFMT D24",10.383000373840332,10.65470027923584,10.580300331115723,10.170000076293945,10.434599876403809,10.029000282287598,10.291999816894531,10.220700263977051,8.850799560546875,10.078100204467773,9.6870002746582031,9.9385995864868164,121.3188009262085,null,null,null,"SGRLFMT D24",21.869,10.383000373840332,null,"SGRLFMT D24",16.974,10.65470027923584,null,"SGRLFMT D24",0,10.580300331115723,null,"SGRLFMT D24",38.843000000000004,31.618000984191895,null,null,null,null,null,"SGRLFMT D24",9.9060000000000006,10.170000076293945,null,"SGRLFMT D24",21.78,10.434599876403809,null,"SGRLFMT D24",18.956,10.029000282287598,null,"SGRLFMT D24",50.641999999999996,30.633600234985352,null,null,null,null,null,null,"SGRLFMT D24",19.748000000000001,10.291999816894531,null,"SGRLFMT D24",17.384,10.220700263977051,null,"SGRLFMT D24",15.481,8.850799560546875,null,"SGRLFMT D24",52.613000000000007,29.363499641418457,null,null,null,null,null,null,null,null,"SGRLFMT D24",16.978999999999999,10.078100204467773,null,"SGRLFMT D24",15.602,9.6870002746582031,null,"SGRLFMT D24",12.303000000000001,9.9385995864868164,null,"SGRLFMT D24",44.884,29.703700065612793]
["TRAIL D24",370.32901000976562,375.43170166015625,368.68301391601562,350.6669921875,356.39459228515625,339.43499755859375,345.3927001953125,340.29010009765625,292.51321411132812,330.75759887695312,315.76199340820312,321.99081420898437,4107.646728515625,null,null,null,"TRAIL D24",403.745,370.32901000976562,null,"TRAIL D24",295.40699999999998,375.43170166015625,null,{"$f":"R42","v":"TRAIL D24"},299.98,368.68301391601562,null,"TRAIL D24",999.13200000000006,1114.4437255859375,null,null,null,null,null,"TRAIL D24",265.983,350.6669921875,null,"TRAIL D24",268.69200000000001,356.39459228515625,null,"TRAIL D24",355.33499999999998,339.43499755859375,null,"TRAIL D24",890.01,1046.49658203125,null,null,null,null,null,null,"TRAIL D24",335.88799999999998,345.3927001953125,null,"TRAIL D24",341.06599999999997,340.29010009765625,null,"TRAIL D24",298.02600000000001,292.51321411132812,null,"TRAIL D24",974.98,978.19601440429687,null,null,null,null,null,null,null,null,"TRAIL D24",322.73599999999999,330.75759887695312,null,"TRAIL D24",320.06099999999998,315.76199340820312,null,"TRAIL D24",323.75700000000001,321.99081420898437,null,"TRAIL D24",966.55399999999997,968.51040649414062]
["TRAILMT D24",56.687999725341797,57.663101196289063,56.801300048828125,54.182998657226563,55.214099884033203,52.719001770019531,53.766399383544922,53.087501525878906,45.726799011230469,51.807201385498047,49.544998168945313,50.610599517822266,637.8120002746582,null,null,null,"TRAILMT D24",51.381999999999998,56.687999725341797,null,"TRAILMT D24",51.207999999999998,57.663101196289063,null,"TRAILMT D24",51.99,56.801300048828125,null,"TRAILMT D24",154.58000000000001,171.15240097045898,null,null,null,null,null,"TRAILMT D24",49.38,54.182998657226563,null,"TRAILMT D24",49.088000000000001,55.214099884033203,null,"TRAILMT D24",49.323,52.719001770019531,null,"TRAILMT D24",147.791,162.1161003112793,null,null,null,null,null,null,"TRAILMT D24",48.996000000000002,53.766399383544922,null,"TRAILMT D24",47.716000000000001,53.087501525878906,null,"TRAILMT D24",41.067,45.726799011230469,null,"TRAILMT D24",137.779,152.5806999206543,null,null,null,null,null,null,null,null,"TRAILMT D24",50.878999999999998,51.807201385498047,null,"TRAILMT D24",51.752000000000002,49.544998168945313,null,"TRAILMT D24",45.933,50.610599517822266,null,"TRAILMT D24",148.56399999999999,151.96279907226562]
["WHLA D24",0,0,0,0,0,0,30.544300079345703,30.318000793457031,26.244400024414063,29.871599197387695,28.691999435424805,29.431400299072266,175.10169982910156,null,null,null,"WHLA D24",40.487000000000002,0,null,"WHLA D24",43.625999999999998,0,null,"WHLA D24",41.534999999999997,0,null,"WHLA D24",125.648,0,null,null,null,null,null,"WHLA D24",39.569000000000003,0,null,"WHLA D24",34.634,0,null,"WHLA D24",35.101999999999997,0,null,"WHLA D24",109.30500000000001,0,null,null,null,null,null,null,"WHLA D24",28.204999999999998,30.544300079345703,null,{"$f":"R44","v":"WHLA D24"},39.926000000000002,30.318000793457031,null,"WHLA D24",35.478999999999999,26.244400024414063,null,"WHLA D24",103.61,87.106700897216797,null,null,null,null,null,null,null,null,"WHLA D24",34.014000000000003,29.871599197387695,null,"WHLA D24",32.256,28.691999435424805,null,"WHLA D24",40.307000000000002,29.431400299072266,null,"WHLA D24",106.577,87.994998931884766]
["WWILSON D24",0,0,0,0,0,3.2880001068115234,3.3759000301361084,3.3541998863220215,2.9063999652862549,3.3108000755310059,3.1830000877380371,3.2674000263214111,22.685700178146362,null,null,null,"WWILSON D24",3.395,0,null,"WWILSON D24",3.742,0,null,"WWILSON D24",3.4929999999999999,0,null,"WWILSON D24",10.63,0,null,null,null,null,null,"WWILSON D24",2.8839999999999999,0,null,"WWILSON D24",3.94,0,null,"WWILSON D24",3.0910000000000002,3.2880001068115234,null,"WWILSON D24",9.9149999999999991,3.2880001068115234,null,null,null,null,null,null,"WWILSON D24",3.5590000000000002,3.3759000301361084,null,"WWILSON D24",4.01,3.3541998863220215,null,"WWILSON D24",2.9430000000000001,2.9063999652862549,null,"WWILSON D24",10.512,9.6364998817443848,null,null,null,null,null,null,null,null,"WWILSON D24",3.2480000000000002,3.3108000755310059,null,"WWILSON D24",3.056,3.1830000877380371,null,"WWILSON D24",2.7109999999999999,3.2674000263214111,null,"WWILSON D24",9.0150000000000006,9.7612001895904541]
["ACEJDMT PC",3.6689999103546143,3.7757999897003174,3.7572000026702881,3.6180000305175781,3.723099946975708,3.5850000381469727,3.6889998912811279,3.6703999042510986,3.1863999366760254,3.6363000869750977,3.500999927520752,3.6022000312805176,43.413399696350098,null,null,null,"ACEJDMT PC",3.4430000000000001,3.6689999103546143,null,"ACEJDMT PC",3.93,3.7757999897003174,null,"ACEJDMT PC",2.512,3.7572000026702881,null,"ACEJDMT PC",9.8849999999999998,11.20199990272522,null,null,null,null,null,"ACEJDMT PC",3.395,3.6180000305175781,null,"ACEJDMT PC",3.6680000000000001,3.723099946975708,null,"ACEJDMT PC",3.6789999999999998,3.5850000381469727,null,"ACEJDMT PC",10.742000000000001,10.926100015640259,null,null,null,null,null,null,"ACEJDMT PC",3.8919999999999999,3.6889998912811279,null,"ACEJDMT PC",3.7589999999999999,3.6703999042510986,null,"ACEJDMT PC",3.452,3.1863999366760254,null,"ACEJDMT PC",11.103,10.545799732208252,null,null,null,null,null,null,null,null,"ACEJDMT PC",3.306,3.6363000869750977,null,"ACEJDMT PC",2.1680000000000001,3.500999927520752,null,"ACEJDMT PC",3.51,3.6022000312805176,null,"ACEJDMT PC",8.984,10.739500045776367]
["BKSPUNT6MTPC",2.7149999141693115,2.793100118637085,2.7806999683380127,2.6789999008178711,2.7558999061584473,2.6549999713897705,2.7311000823974609,2.7156000137329102,2.3575999736785889,2.6907999515533447,2.5920000076293945,2.6659998893737793,32.131799697875977,null,null,null,"BKSPUNT6MTPC",5.84,2.7149999141693115,null,"BKSPUNT6MTPC",3.016,2.793100118637085,null,"BKSPUNT6MTPC",2.403,2.7806999683380127,null,"BKSPUNT6MTPC",11.259,8.2888000011444092,null,null,null,null,null,"BKSPUNT6MTPC",0,2.6789999008178711,null,"BKSPUNT6MTPC",0,2.7558999061584473,null,"BKSPUNT6MTPC",0,2.6549999713897705,null,"BKSPUNT6MTPC",0,8.0898997783660889,null,null,null,null,null,null,"BKSPUNT6MTPC",0,2.7311000823974609,null,"BKSPUNT6MTPC",0,2.7156000137329102,null,"BKSPUNT6MTPC",0,2.3575999736785889,null,"BKSPUNT6MTPC",0,7.80430006980896,null,null,null,null,null,null,null,null,"BKSPUNT6MTPC",0,2.6907999515533447,null,"BKSPUNT6MTPC",0,2.5920000076293945,null,"BKSPUNT6MTPC",0,2.6659998893737793,null,"BKSPUNT6MTPC",0,7.9487998485565186]
["BRFM PC",0.14100000262260437,0.14569999277591705,0.14569999277591705,0.1379999965429306,0.14259999990463257,0.1379999965429306,0.13950000703334808,0.13950000703334808,0.12039999663829803,0.1363999992609024,0.13199999928474426,0.1363999992609024,1.6551999896764755,null,null,null,"BRFM PC",0.161,0.14100000262260437,null,"BRFM PC",0.16500000000000001,0.14569999277591705,null,"BRFM PC",0.154,0.14569999277591705,null,"BRFM PC",0.48,0.43239998817443848,null,null,null,null,null,"BRFM PC",0.13600000000000001,0.1379999965429306,null,"BRFM PC",0.17199999999999999,0.14259999990463257,null,"BRFM PC",0.14000000000000001,0.1379999965429306,null,"BRFM PC",0.44800000000000001,0.41859999299049377,null,null,null,null,null,null,"BRFM PC",0.154,0.13950000703334808,null,"BRFM PC",0.17,0.13950000703334808,null,"BRFM PC",0.14599999999999999,0.12039999663829803,null,"BRFM PC",0.47,0.3994000107049942,null,null,null,null,null,null,null,null,"BRFM PC",0.159,0.1363999992609024,null,"BRFM PC",0.13200000000000001,0.13199999928474426,null,"BRFM PC",0.157,0.1363999992609024,null,"BRFM PC",0.44800000000000006,0.40479999780654907]
["BRFQ PC",9.6870002746582031,9.9540996551513672,9.8983001708984375,9.5279998779296875,9.7929000854492187,9.425999641418457,9.6875,9.6347999572753906,8.3579998016357422,9.5325002670288086,9.1770000457763672,9.4333000183105469,114.10939979553223,null,null,null,"BRFQ PC",10.736000000000001,9.6870002746582031,null,"BRFQ PC",12.339,9.9540996551513672,null,"BRFQ PC",9.3079999999999998,9.8983001708984375,null,"BRFQ PC",32.383000000000003,29.539400100708008,null,null,null,null,null,"BRFQ PC",13.003,9.5279998779296875,null,"BRFQ PC",10.132999999999999,9.7929000854492187,null,"BRFQ PC",11.385,9.425999641418457,null,"BRFQ PC",34.521000000000001,28.746899604797363,null,"IRP Variance","Docket No. 17-057-12","Dominion Energy Utah",null,null,"BRFQ PC",9.7669999999999995,9.6875,null,"BRFQ PC",8.82,9.6347999572753906,null,"BRFQ PC",8.3339999999999996,8.3579998016357422,null,"BRFQ PC",26.920999999999999,27.680299758911133,null,null,null,null,null,null,null,null,"BRFQ PC",9.8249999999999993,9.5325002670288086,null,"BRFQ PC",12.161,9.1770000457763672,null,"BRFQ PC",11.952999999999999,9.4333000183105469,null,"BRFQ PC",33.938999999999993,28.142800331115723]
["BRFQMT PC",3.2850000858306885,3.3696999549865723,3.3480000495910645,3.2160000801086426,3.3015000820159912,3.1740000247955322,3.255000114440918,3.2332999706268311,2.7999999523162842,3.1898999214172363,3.0659999847412109,3.1433999538421631,38.381800174713135,null,null,null,"BRFQMT PC",6.5490000000000004,3.2850000858306885,null,"BRFQMT PC",6.742,3.3696999549865723,null,"BRFQMT PC",7.0940000000000003,3.3480000495910645,null,"BRFQMT PC",20.385000000000002,10.002700090408325,null,null,null,null,null,"BRFQMT PC",2.173,3.2160000801086426,null,"BRFQMT PC",3.85,3.3015000820159912,null,"BRFQMT PC",2.5190000000000001,3.1740000247955322,null,"BRFQMT PC",8.5419999999999998,9.691500186920166,null,null,0,0,null,null,"BRFQMT PC",2.9870000000000001,3.255000114440918,null,"BRFQMT PC",3.1619999999999999,3.2332999706268311,null,"BRFQMT PC",4.0519999999999996,2.7999999523162842,null,"BRFQMT PC",10.201000000000001,9.2883000373840332,null,null,null,null,null,null,null,null,"BRFQMT PC",4.2380000000000004,3.1898999214172363,null,"BRFQMT PC",4.1900000000000004,3.0659999847412109,null,"BRFQMT PC",4.452,3.1433999538421631,null,"BRFQMT PC",12.879999999999999,9.3992998600006104]
["BRFW PC",9.75,10.019200325012207,9.9633998870849609,9.5909996032714844,9.8549003601074219,9.4860000610351562,9.7463998794555664,9.693699836730957,8.4083995819091797,9.5882997512817383,9.2279996871948242,9.4828996658325195,114.81219863891602,null,null,null,"BRFW PC",10.183999999999999,9.75,null,"BRFW PC",11.794,10.019200325012207,null,"BRFW PC",11.536,9.9633998870849609,null,"BRFW PC",33.514000000000003,29.732600212097168,null,{"$f":"'Ex 1 HDD'!I3","v":"IRP Variance Exhibit"},{"$f":"'Ex 1 HDD'!I2","v":"Docket No. 20-057-02"},{"$f":"'Ex 1 HDD'!I1","v":"Dominion Energy Utah"},null,"BRFW PC",10.526,9.5909996032714844,null,"BRFW PC",10.788,9.8549003601074219,null,"BRFW PC",9.83,9.4860000610351562,null,"BRFW PC",31.143999999999998,28.931900024414063,null,null,0,0,null,null,"BRFW PC",9.6509999999999998,9.7463998794555664,null,"BRFW PC",9.4920000000000009,9.693699836730957,null,"BRFW PC",8.1159999999999997,8.4083995819091797,null,"BRFW PC",27.259,27.848499298095703,null,null,null,null,null,null,null,null,"BRFW PC",8.9979999999999993,9.5882997512817383,null,"BRFW PC",11.069000000000001,9.2279996871948242,null,"BRFW PC",10.920999999999999,9.4828996658325195,null,"BRFW PC",30.988,28.299199104309082]
["BRUFF MT",4.8359999656677246,4.9661998748779297,4.9352002143859863,4.745999813079834,4.8731999397277832,4.689000129699707,4.8143000602722168,4.7832999229431152,4.1468000411987305,4.7244000434875488,4.5450000762939453,4.6655001640319824,56.724900245666504,null,null,null,"BRUFF MT",9.1229999999999993,4.8359999656677246,null,"BRUFF MT",9.6470000000000002,4.9661998748779297,null,"BRUFF MT",8.8819999999999997,4.9352002143859863,null,"BRUFF MT",27.652000000000001,14.737400054931641,null,null,null,null,null,"BRUFF MT",8.8520000000000003,4.745999813079834,null,"BRUFF MT",8.5609999999999999,4.8731999397277832,null,"BRUFF MT",8.5640000000000001,4.689000129699707,null,"BRUFF MT",25.977,14.308199882507324,null,null,0,0,null,null,"BRUFF MT",8.3680000000000003,4.8143000602722168,null,"BRUFF MT",7.9710000000000001,4.7832999229431152,null,"BRUFF MT",8.3219999999999992,4.1468000411987305,null,"BRUFF MT",24.660999999999998,13.744400024414063,"QGC Variance Exhibit","Docket No. 15-057-07","Questar Gas Company",null,null,null,null,null,"BRUFF MT",8.7170000000000005,4.7244000434875488,null,"BRUFF MT",7.7229999999999999,4.5450000762939453,null,"BRUFF MT",8.218,4.6655001640319824,null,"BRUFF MT",24.658000000000001,13.934900283813477]
["CBFR PC",57.915000915527344,59.312301635742188,58.788398742675781,56.394001007080078,57.768501281738281,55.424999237060547,56.782699584960938,56.299098968505859,48.683601379394531,55.356700897216797,53.120998382568359,54.436000823974609,670.28230285644531,null,null,null,"CBFR PC",59.744,57.915000915527344,null,"CBFR PC",62.122999999999998,59.312301635742188,null,"CBFR PC",61.664999999999999,58.788398742675781,null,"CBFR PC",183.53199999999998,176.01570129394531,null,null,null,null,null,"CBFR PC",55.5,56.394001007080078,null,"CBFR PC",67.191000000000003,57.768501281738281,null,"CBFR PC",58.116,55.424999237060547,null,"CBFR PC",180.80700000000002,169.58750152587891,null,null,0,0,null,null,"CBFR PC",57.929000000000002,56.782699584960938,null,"CBFR PC",60.341000000000001,56.299098968505859,null,"CBFR PC",56.548000000000002,48.683601379394531,null,"CBFR PC",174.81800000000001,161.76539993286133,null,null,null,null,null,null,null,null,"CBFR PC",61.235999999999997,55.356700897216797,null,"CBFR PC",59.396000000000001,53.120998382568359,null,"CBFR PC",37.701000000000001,54.436000823974609,null,"CBFR PC",158.333,162.91370010375977]
["CCRUNIT PC",50.976001739501953,52.281501770019531,51.894001007080078,49.845001220703125,51.128299713134766,49.112998962402344,50.378101348876953,50.009201049804688,43.293598175048828,49.283798217773437,47.3489990234375,48.576999664306641,594.12850189208984,null,null,null,"CCRUNIT PC",49.076999999999998,50.976001739501953,null,"CCRUNIT PC",51.610999999999997,52.281501770019531,null,"CCRUNIT PC",47.936,51.894001007080078,null,"CCRUNIT PC",148.624,155.15150451660156,null,null,null,null,null,"CCRUNIT PC",48.207000000000001,49.845001220703125,null,"CCRUNIT PC",45.945999999999998,51.128299713134766,null,"CCRUNIT PC",47.795999999999999,49.112998962402344,null,"CCRUNIT PC",141.94899999999998,150.08629989624023,null,null,0,0,null,null,"CCRUNIT PC",44.122,50.378101348876953,null,"CCRUNIT PC",46.356999999999999,50.009201049804688,null,"CCRUNIT PC",40.671999999999997,43.293598175048828,null,"CCRUNIT PC",131.15100000000001,143.68090057373047,null,null,null,null,null,null,null,null,"CCRUNIT PC",46.197000000000003,49.283798217773437,null,"CCRUNIT PC",46.552,47.3489990234375,null,"CCRUNIT PC",49.463000000000001,48.576999664306641,null,"CCRUNIT PC",142.21199999999999,145.20979690551758]
["CCRUNITMT PC",16.562999725341797,17.003499984741211,16.888799667358398,16.236000061035156,16.668699264526367,16.023000717163086,16.448600769042969,16.340099334716797,14.156800270080566,16.126199722290039,15.50100040435791,15.912300109863281,193.86800003051758,null,null,null,"CCRUNITMT PC",13.840999999999999,16.562999725341797,null,"CCRUNITMT PC",14.451000000000001,17.003499984741211,null,"CCRUNITMT PC",16.350999999999999,16.888799667358398,null,"CCRUNITMT PC",44.643000000000001,50.455299377441406,null,null,null,null,null,"CCRUNITMT PC",{"$f":"IFERROR(VLOOKUP(AL55,$AL$116:$AM$206,2,FALSE),0)","v":15.943},16.236000061035156,null,"CCRUNITMT PC",{"$f":"IFERROR(VLOOKUP(AP55,$AP$116:$AQ$215,2,FALSE),0)","v":14.006},16.668699264526367,null,"CCRUNITMT PC",{"$f":"IFERROR(VLOOKUP(AT55,$AT$116:$AU$208,2,FALSE),0)","v":15.621},16.023000717163086,null,"CCRUNITMT PC",45.57,48.927700042724609,null,null,0,0,null,null,"CCRUNITMT PC",{"$f":"IFERROR(VLOOKUP($BG55,$BG$114:$BH$209,2,FALSE),0)","v":13.731999999999999},16.448600769042969,null,"CCRUNITMT PC",{"$f":"IFERROR(VLOOKUP($BK55,$BK$114:$BL$209,2,FALSE),0)","v":14.766},16.340099334716797,null,"CCRUNITMT PC",{"$f":"IFERROR(VLOOKUP($BO55,$BO$114:$BP$209,2,FALSE),0)","v":14.263999999999999},14.156800270080566,null,"CCRUNITMT PC",42.762,46.945500373840332,null,null,null,null,null,null,null,null,"CCRUNITMT PC",15.891,16.126199722290039,null,"CCRUNITMT PC",14.978999999999999,15.50100040435791,null,"CCRUNITMT PC",16.652999999999999,15.912300109863281,null,"CCRUNITMT PC",47.522999999999996,47.53950023651123]
["CHBTC1 MT PC",19.688999176025391,19.880300521850586,19.43079948425293,18.375,18.559700012207031,17.555999755859375,17.732000350952148,17.335199356079102,14.778400421142578,16.569499969482422,15.678000450134277,15.840999603271484,211.42489910125732,null,null,null,"CHBTC1 MT PC",19.571999999999999,19.688999176025391,null,"CHBTC1 MT PC",13.359,19.880300521850586,null,"CHBTC1 MT PC",25.3,19.43079948425293,null,"CHBTC1 MT PC",58.230999999999995,59.000099182128906,null,null,null,null,null,"CHBTC1 MT PC",{"$f":"IFERROR(VLOOKUP(AL56,$AL$116:$AM$206,2,FALSE),0)","v":20.82},18.375,null,"CHBTC1 MT PC",{"$f":"IFERROR(VLOOKUP(AP56,$AP$116:$AQ$215,2,FALSE),0)","v":22.003},18.559700012207031,null,"CHBTC1 MT PC",{"$f":"IFERROR(VLOOKUP(AT56,$AT$116:$AU$208,2,FALSE),0)","v":20.712},17.555999755859375,null,"CHBTC1 MT PC",63.534999999999997,54.490699768066406,null,null,null,null,null,null,"CHBTC1 MT PC",{"$f":"IFERROR(VLOOKUP($BG56,$BG$114:$BH$209,2,FALSE),0)","v":23.457999999999998},17.732000350952148,null,"CHBTC1 MT PC",{"$f":"IFERROR(VLOOKUP($BK56,$BK$114:$BL$209,2,FALSE),0)","v":22.693000000000001},17.335199356079102,null,"CHBTC1 MT PC",{"$f":"IFERROR(VLOOKUP($BO56,$BO$114:$BP$209,2,FALSE),0)","v":19.571999999999999},14.778400421142578,null,"CHBTC1 MT PC",65.722999999999999,49.845600128173828,null,null,null,null,null,null,null,null,"CHBTC1 MT PC",21.739000000000001,16.569499969482422,null,"CHBTC1 MT PC",20.155000000000001,15.678000450134277,null,"CHBTC1 MT PC",19.84,15.840999603271484,null,"CHBTC1 MT PC",61.734000000000009,48.088500022888184]
["CHBTCAT1 PC",46.020000457763672,47.169601440429687,46.791400909423828,44.918998718261719,46.044300079345703,44.201999664306641,45.309600830078125,44.950000762939453,38.889198303222656,44.240100860595703,42.4739990234375,43.545700073242188,534.55490112304687,null,null,null,"CHBTCAT1 PC",36.561999999999998,46.020000457763672,null,"CHBTCAT1 PC",41.835999999999999,47.169601440429687,null,"CHBTCAT1 PC",31.399000000000001,46.791400909423828,null,"CHBTCAT1 PC",109.797,139.98100280761719,null,null,null,null,null,"CHBTCAT1 PC",30.81,44.918998718261719,null,"CHBTCAT1 PC",31.559000000000001,46.044300079345703,null,"CHBTCAT1 PC",40.976999999999997,44.201999664306641,null,"CHBTCAT1 PC",103.346,135.16529846191406,null,9.1,null,null,null,null,"CHBTCAT1 PC",41.235999999999997,45.309600830078125,null,"CHBTCAT1 PC",40.917999999999999,44.950000762939453,null,"CHBTCAT1 PC",41.624000000000002,38.889198303222656,null,"CHBTCAT1 PC",123.77799999999999,129.14879989624023,null,null,null,null,null,null,null,null,{"$f":"A57","v":"CHBTCAT1 PC"},35.674999999999997,{"$f":"IFERROR(VLOOKUP($A57,$A$6:$M$119,11,FALSE),\"\")","v":44.240100860595703},null,{"$f":"A57","v":"CHBTCAT1 PC"},34.963000000000001,42.4739990234375,null,{"$f":"A57","v":"CHBTCAT1 PC"},37.314,{"$f":"IFERROR(VLOOKUP($A57,$A$6:$M$119,13,FALSE),\"\")","v":43.545700073242188},null,"CHBTCAT1 PC",107.952,130.25979995727539]
["CHBTCAT2 PC",2.4030001163482666,2.461400032043457,2.4396998882293701,2.3429999351501465,2.399399995803833,2.3010001182556152,2.3591001033782959,2.337399959564209,2.0216000080108643,2.2971000671386719,2.2049999237060547,2.2567999362945557,27.82450008392334,null,null,null,"CHBTCAT2 PC",2.0409999999999999,2.4030001163482666,null,"CHBTCAT2 PC",2.363,2.461400032043457,null,"CHBTCAT2 PC",2.4350000000000001,2.4396998882293701,null,"CHBTCAT2 PC",6.8390000000000004,7.3041000366210937,null,null,null,null,null,"CHBTCAT2 PC",2.2650000000000001,2.3429999351501465,null,"CHBTCAT2 PC",2.073,2.399399995803833,null,"CHBTCAT2 PC",1.9159999999999999,2.3010001182556152,null,"CHBTCAT2 PC",6.2539999999999996,7.0434000492095947,null,null,null,null,null,null,"CHBTCAT2 PC",1.7589999999999999,2.3591001033782959,null,"CHBTCAT2 PC",1.7769999999999999,2.337399959564209,null,"CHBTCAT2 PC",1.6080000000000001,2.0216000080108643,null,"CHBTCAT2 PC",5.1440000000000001,6.7181000709533691,null,null,null,null,null,null,null,null,"CHBTCAT2 PC",1.9079999999999999,2.2971000671386719,null,"CHBTCAT2 PC",1.835,2.2049999237060547,null,"CHBTCAT2 PC",1.97,2.2567999362945557,null,"CHBTCAT2 PC",5.7129999999999992,6.7588999271392822]
["DRYPINY6 PC",1.0829999446868896,1.1160000562667847,1.1097999811172485,1.0709999799728394,1.1004999876022339,1.062000036239624,1.0911999940872192,1.0880999565124512,0.94359999895095825,1.0787999629974365,1.0379999876022339,1.0694999694824219,12.851499855518341,null,null,null,"DRYPINY6 PC",1.1339999999999999,1.0829999446868896,null,"DRYPINY6 PC",1.1080000000000001,1.1160000562667847,null,"DRYPINY6 PC",1.137,1.1097999811172485,null,"DRYPINY6 PC",3.379,3.3087999820709229,null,9.1,null,null,null,"DRYPINY6 PC",1.1080000000000001,1.0709999799728394,null,"DRYPINY6 PC",1.173,1.1004999876022339,null,"DRYPINY6 PC",0.98699999999999999,1.062000036239624,null,"DRYPINY6 PC",3.2680000000000002,3.2335000038146973,null,null,null,null,null,null,"DRYPINY6 PC",1.056,1.0911999940872192,null,"DRYPINY6 PC",0.93400000000000005,1.0880999565124512,null,"DRYPINY6 PC",0.71,0.94359999895095825,null,"DRYPINY6 PC",2.7,3.1228999495506287,null,null,null,null,null,null,null,null,"DRYPINY6 PC",0.90700000000000003,1.0787999629974365,null,"DRYPINY6 PC",0.94899999999999995,1.0379999876022339,null,"DRYPINY6 PC",0.98599999999999999,1.0694999694824219,null,"DRYPINY6 PC",2.8420000000000001,3.1862999200820923]
["DRYPINYU PC",12.263999938964844,12.59220027923584,12.514699935913086,12.03600025177002,12.359700202941895,11.88599967956543,12.207799911499023,12.13029956817627,10.513999938964844,11.981499671936035,11.52299976348877,11.832699775695801,143.84189891815186,null,null,null,"DRYPINYU PC",9.202,12.263999938964844,null,"DRYPINYU PC",10.166,12.59220027923584,null,"DRYPINYU PC",9.8290000000000006,12.514699935913086,null,"DRYPINYU PC",29.197000000000003,37.37090015411377,null,null,null,null,null,"DRYPINYU PC",9.8759999999999994,12.03600025177002,null,"DRYPINYU PC",9.3680000000000003,12.359700202941895,null,"DRYPINYU PC",9.9450000000000003,11.88599967956543,null,"DRYPINYU PC",29.189,36.281700134277344,null,null,null,null,null,null,"DRYPINYU PC",10.01,12.207799911499023,null,"DRYPINYU PC",9.8810000000000002,12.13029956817627,null,"DRYPINYU PC",7.835,10.513999938964844,null,"DRYPINYU PC",27.725999999999999,34.852099418640137,null,null,null,null,null,null,null,null,"DRYPINYU PC",9.0820000000000007,11.981499671936035,null,"DRYPINYU PC",9.9589999999999996,11.52299976348877,null,"DRYPINYU PC",10.561999999999999,11.832699775695801,null,"DRYPINYU PC",29.603000000000002,35.337199211120605]
["FOGARTY PC",0.47400000691413879,0.48669999837875366,0.48050001263618469,0.46200001239776611,0.47429999709129333,0.45300000905990601,0.46500000357627869,0.46189999580383301,0.39759999513626099,0.45260000228881836,0.43500000238418579,0.446399986743927,5.4890000224113464,null,null,null,"FOGARTY PC",0,0.47400000691413879,null,"FOGARTY PC",1.2490000000000001,0.48669999837875366,null,"FOGARTY PC",1.1080000000000001,0.48050001263618469,null,"FOGARTY PC",2.3570000000000002,1.4412000179290771,null,null,null,null,null,"FOGARTY PC",0.82799999999999996,0.46200001239776611,null,"FOGARTY PC",0.90400000000000003,0.47429999709129333,null,"FOGARTY PC",0,0.45300000905990601,null,"FOGARTY PC",1.732,1.3893000185489655,null,null,null,null,null,null,"FOGARTY PC",0,0.46500000357627869,null,"FOGARTY PC",0,0.46189999580383301,null,"FOGARTY PC",0,0.39759999513626099,null,"FOGARTY PC",0,1.3244999945163727,null,9.1,null,null,null,null,null,null,"FOGARTY PC",0,0.45260000228881836,null,"FOGARTY PC",0,0.43500000238418579,null,"FOGARTY PC",0.88400000000000001,0.446399986743927,null,"FOGARTY PC",0.88400000000000001,1.3339999914169312]
["HWA DEEP PC",1.121999979019165,1.1500999927520752,1.1439000368118286,1.0980000495910645,1.1283999681472778,1.0859999656677246,1.1129000186920166,1.1066999435424805,0.95759999752044678,1.0911999940872192,1.0499999523162842,1.0787999629974365,13.12559986114502,null,null,null,"HWA DEEP PC",0.19700000000000001,1.121999979019165,null,"HWA DEEP PC",0.13300000000000001,1.1500999927520752,null,"HWA DEEP PC",0,1.1439000368118286,null,"HWA DEEP PC",0.33,3.4160000085830688,null,null,null,null,null,"HWA DEEP PC",0.108,1.0980000495910645,null,"HWA DEEP PC",0.26800000000000002,1.1283999681472778,null,"HWA DEEP PC",0.3,1.0859999656677246,null,"HWA DEEP PC",0.67599999999999993,3.3123999834060669,null,null,null,null,null,null,"HWA DEEP PC",0.43,1.1129000186920166,null,"HWA DEEP PC",0.113,1.1066999435424805,null,"HWA DEEP PC",9.5000000000000001E-2,0.95759999752044678,null,"HWA DEEP PC",0.63800000000000001,3.1771999597549438,null,null,null,null,null,null,null,null,"HWA DEEP PC",0.222,1.0911999940872192,null,"HWA DEEP PC",0.14000000000000001,1.0499999523162842,null,"HWA DEEP PC",0.21199999999999999,1.0787999629974365,null,"HWA DEEP PC",0.57399999999999995,3.2199999094009399]
["HWPL1&3MTPC",6.4140000343322754,6.5781998634338379,6.5286002159118652,6.2699999809265137,6.4293999671936035,6.1739997863769531,6.3302001953125,6.2836999893188477,5.4376001358032227,6.1876001358032227,5.9429998397827148,6.0946002006530762,74.670900344848633,null,null,null,"HWPL1&3MTPC",4.4119999999999999,6.4140000343322754,null,"HWPL1&3MTPC",8.2100000000000009,6.5781998634338379,null,"HWPL1&3MTPC",6.1230000000000002,6.5286002159118652,null,"HWPL1&3MTPC",18.745000000000001,19.520800113677979,null,null,null,null,null,"HWPL1&3MTPC",6.5679999999999996,6.2699999809265137,null,"HWPL1&3MTPC",7.2750000000000004,6.4293999671936035,null,"HWPL1&3MTPC",6.867,6.1739997863769531,null,"HWPL1&3MTPC",20.71,18.87339973449707,null,null,null,null,null,null,"HWPL1&3MTPC",7.61,6.3302001953125,null,"HWPL1&3MTPC",7.2430000000000003,6.2836999893188477,null,"HWPL1&3MTPC",6.4649999999999999,5.4376001358032227,null,"HWPL1&3MTPC",21.318000000000001,18.05150032043457,null,null,null,null,null,null,null,null,"HWPL1&3MTPC",6.9009999999999998,6.1876001358032227,null,"HWPL1&3MTPC",6.702,5.9429998397827148,null,"HWPL1&3MTPC",6.3490000000000002,6.0946002006530762,null,"HWPL1&3MTPC",19.951999999999998,18.225200176239014]
["HWPLT1&3 PC",55.722000122070313,57.182598114013672,56.788898468017578,54.582000732421875,56.016998291015625,53.840999603271484,55.257499694824219,54.882400512695313,47.538398742675781,54.144599914550781,52.043998718261719,53.419200897216797,651.41959381103516,null,null,null,"HWPLT1&3 PC",56.234000000000002,55.722000122070313,null,"HWPLT1&3 PC",25.878,57.182598114013672,null,{"$f":"R64","v":"HWPLT1&3 PC"},14.04,56.788898468017578,null,"HWPLT1&3 PC",96.151999999999987,169.69349670410156,null,null,null,null,null,"HWPLT1&3 PC",13.754,54.582000732421875,null,"HWPLT1&3 PC",17.86,56.016998291015625,null,"HWPLT1&3 PC",66.180999999999997,53.840999603271484,null,"HWPLT1&3 PC",97.794999999999987,164.43999862670898,null,null,null,null,null,null,"HWPLT1&3 PC",70.792000000000002,55.257499694824219,null,"HWPLT1&3 PC",68.179000000000002,54.882400512695313,null,"HWPLT1&3 PC",58.408999999999999,47.538398742675781,null,"HWPLT1&3 PC",197.38,157.67829895019531,null,null,null,null,null,null,null,null,"HWPLT1&3 PC",57.177999999999997,54.144599914550781,null,"HWPLT1&3 PC",49.180999999999997,52.043998718261719,null,"HWPLT1&3 PC",59.79,53.419200897216797,null,"HWPLT1&3 PC",166.149,159.6077995300293]
["HWPLT2 PC",0.85199999809265137,0.87110000848770142,0.86489999294281006,0.82800000905990601,0.84939998388290405,0.81599998474121094,0.80290001630783081,0.79670000076293945,0.68879997730255127,0.78430002927780151,0.75300002098083496,0.77499997615814209,9.6820999979972839,null,null,null,"HWPLT2 PC",0.61699999999999999,0.85199999809265137,null,"HWPLT2 PC",1.079,0.87110000848770142,null,"HWPLT2 PC",0.98799999999999999,0.86489999294281006,null,"HWPLT2 PC",2.6840000000000002,2.5879999995231628,null,null,null,null,null,"HWPLT2 PC",1.427,0.82800000905990601,null,"HWPLT2 PC",1.383,0.84939998388290405,null,"HWPLT2 PC",0.77100000000000002,0.81599998474121094,null,"HWPLT2 PC",3.581,2.493399977684021,null,null,null,null,null,null,"HWPLT2 PC",2.2770000000000001,0.80290001630783081,null,"HWPLT2 PC",0.73099999999999998,0.79670000076293945,null,"HWPLT2 PC",0.69199999999999995,0.68879997730255127,null,"HWPLT2 PC",3.7,2.2883999943733215,null,null,null,null,null,null,null,null,"HWPLT2 PC",0.84599999999999997,0.78430002927780151,null,"HWPLT2 PC",0.81100000000000005,0.75300002098083496,null,"HWPLT2 PC",0.85299999999999998,0.77499997615814209,null,"HWPLT2 PC",2.5100000000000002,2.3123000264167786]
["ISLAND PC",0.67799997329711914,0.69749999046325684,0.69129997491836548,0.66600000858306885,0.6851000189781189,0.65700000524520874,0.67580002546310425,0.67269998788833618,0.58240002393722534,0.66339999437332153,0.63899999856948853,0.65410000085830688,7.9623000025749207,null,null,null,"ISLAND PC",0.57899999999999996,0.67799997329711914,null,"ISLAND PC",0.56000000000000005,0.69749999046325684,null,"ISLAND PC",0.60699999999999998,0.69129997491836548,null,"ISLAND PC",1.746,2.0667999386787415,null,null,null,null,null,"ISLAND PC",0.58299999999999996,0.66600000858306885,null,"ISLAND PC",0.73199999999999998,0.6851000189781189,null,"ISLAND PC",0.72399999999999998,0.65700000524520874,null,"ISLAND PC",2.0389999999999997,2.0081000328063965,null,null,null,null,null,null,"ISLAND PC",0.65900000000000003,0.67580002546310425,null,"ISLAND PC",0.64200000000000002,0.67269998788833618,null,"ISLAND PC",0.61099999999999999,0.58240002393722534,null,"ISLAND PC",1.9120000000000001,1.9309000372886658,null,null,null,null,null,null,null,null,"ISLAND PC",0.58899999999999997,0.66339999437332153,null,"ISLAND PC",0.80400000000000005,0.63899999856948853,null,"ISLAND PC",0.66200000000000003,0.65410000085830688,null,"ISLAND PC",2.0550000000000002,1.9564999938011169]
["JNSNRDG PC",2.4360001087188721,2.5078999996185303,2.4955000877380371,2.4059998989105225,2.4769001007080078,2.3849999904632568,2.4551999568939209,2.4458999633789062,2.1224000453948975,2.4242000579833984,2.3369998931884766,2.4024999141693115,28.894500017166138,null,null,null,"JNSNRDG PC",4.0410000000000004,2.4360001087188721,null,"JNSNRDG PC",2.9820000000000002,2.5078999996185303,null,"JNSNRDG PC",2.556,2.4955000877380371,null,"JNSNRDG PC",9.5790000000000006,7.4394001960754395,null,null,null,null,null,"JNSNRDG PC",2.5990000000000002,2.4059998989105225,null,"JNSNRDG PC",2.5750000000000002,2.4769001007080078,null,"JNSNRDG PC",2.1680000000000001,2.3849999904632568,null,"JNSNRDG PC",7.3420000000000005,7.2678999900817871,null,null,null,null,null,null,"JNSNRDG PC",2.3130000000000002,2.4551999568939209,null,"JNSNRDG PC",0.44500000000000001,2.4458999633789062,null,"JNSNRDG PC",0,2.1224000453948975,null,"JNSNRDG PC",2.758,7.0234999656677246,null,null,null,null,null,null,null,null,"JNSNRDG PC",0,2.4242000579833984,null,"JNSNRDG PC",0,2.3369998931884766,null,"JNSNRDG PC",0,2.4024999141693115,null,"JNSNRDG PC",0,7.1636998653411865]
["KNY FLD PC",2.9430000782012939,3.0287001132965088,3.019399881362915,2.9100000858306885,2.9946000576019287,2.8859999179840088,2.9697999954223633,2.9605000019073486,2.5703999996185303,2.9356999397277832,2.8289999961853027,2.9140000343322754,34.961100101470947,null,null,null,"KNY FLD PC",4.3550000000000004,2.9430000782012939,null,"KNY FLD PC",8.6999999999999994E-2,3.0287001132965088,null,"KNY FLD PC",1.8520000000000001,3.019399881362915,null,"KNY FLD PC",6.2940000000000005,8.9911000728607178,null,null,null,null,null,"KNY FLD PC",3.33,2.9100000858306885,null,"KNY FLD PC",3.7559999999999998,2.9946000576019287,null,"KNY FLD PC",3.06,2.8859999179840088,null,"KNY FLD PC",10.146000000000001,8.790600061416626,null,null,null,null,null,null,"KNY FLD PC",3.577,2.9697999954223633,null,"KNY FLD PC",3.5259999999999998,2.9605000019073486,null,"KNY FLD PC",2.8090000000000002,2.5703999996185303,null,"KNY FLD PC",9.911999999999999,8.5006999969482422,null,null,null,null,null,null,null,null,"KNY FLD PC",3.391,2.9356999397277832,null,"KNY FLD PC",2.387,2.8289999961853027,null,"KNY FLD PC",4.1289999999999996,2.9140000343322754,null,"KNY FLD PC",9.907,8.6786999702453613]
["MOSUMT PC",11.925000190734863,12.232600212097168,12.1427001953125,11.666999816894531,11.965999603271484,11.496000289916992,11.792400360107422,11.705599784851074,10.13599967956543,11.538200378417969,11.085000038146973,11.370800018310547,139.05730056762695,null,null,null,"MOSUMT PC",7.4279999999999999,11.925000190734863,null,"MOSUMT PC",9.6989999999999998,12.232600212097168,null,"MOSUMT PC",9.2710000000000008,12.1427001953125,null,"MOSUMT PC",26.398,36.300300598144531,null,null,null,null,null,"MOSUMT PC",7.9669999999999996,11.666999816894531,null,"MOSUMT PC",8.3840000000000003,11.965999603271484,null,"MOSUMT PC",6.6609999999999996,11.496000289916992,null,"MOSUMT PC",23.012,35.128999710083008,null,null,null,null,null,null,"MOSUMT PC",7.319,11.792400360107422,null,"MOSUMT PC",6.8319999999999999,11.705599784851074,null,"MOSUMT PC",6.3529999999999998,10.13599967956543,null,"MOSUMT PC",20.503999999999998,33.633999824523926,null,null,null,null,null,null,null,null,"MOSUMT PC",8.4060000000000006,11.538200378417969,null,"MOSUMT PC",7.0979999999999999,{"$f":"IFERROR(VLOOKUP($A69,$A$6:$M$119,12,FALSE),\"\")","v":11.085000038146973},null,"MOSUMT PC",7.2110000000000003,11.370800018310547,null,"MOSUMT PC",22.715000000000003,33.994000434875488]
["PDW1A1B PC",0,0,0,0,0,0.9779999852180481,1.0044000148773193,0.99819999933242798,0.86239999532699585,0.98269999027252197,0.74099999666213989,0.75950002670288086,6.326200008392334,null,null,null,"PDW1A1B PC",0.96199999999999997,{"$f":"IFERROR(VLOOKUP(R70,$A$6:$M$119,2,FALSE),\"\")","v":0},null,"PDW1A1B PC",{"$f":"IFERROR(VLOOKUP(V70,$V$116:$W$210,2,FALSE),0)","v":0.96399999999999997},{"$f":"IFERROR(VLOOKUP(V70,$A$6:$M$119,3,FALSE),\"\")","v":0},null,"PDW1A1B PC",{"$f":"IFERROR(VLOOKUP(A70,$Z$116:$AA$210,2,FALSE),0)","v":1.1879999999999999},{"$f":"IFERROR(VLOOKUP(Z70,$A$6:$M$119,4,FALSE),\"\")","v":0},null,"PDW1A1B PC",3.1139999999999999,0,null,null,null,null,null,"PDW1A1B PC",1.1870000000000001,0,null,"PDW1A1B PC",1.39,{"$f":"IFERROR(VLOOKUP($AP70,$A$6:$M$119,6,FALSE),\"\")","v":0},null,"PDW1A1B PC",1.1279999999999999,{"$f":"IFERROR(VLOOKUP($AT70,$A$6:$M$119,7,FALSE),\"\")","v":0.9779999852180481},null,"PDW1A1B PC",3.7050000000000001,0.9779999852180481,null,null,null,null,null,null,"PDW1A1B PC",1.288,{"$f":"IFERROR(VLOOKUP($BG70,$A$6:$M$119,8,FALSE),\"\")","v":1.0044000148773193},null,"PDW1A1B PC",0.40300000000000002,{"$f":"IFERROR(VLOOKUP($BK70,$A$6:$M$119,9,FALSE),\"\")","v":0.99819999933242798},null,{"$f":"A70","v":"PDW1A1B PC"},0.60799999999999998,{"$f":"IFERROR(VLOOKUP($BO70,$A$6:$M$119,10,FALSE),0)","v":0.86239999532699585},null,{"$f":"A70","v":"PDW1A1B PC"},{"$f":"SUM(BH70,BL70,BP70)","v":2.2989999999999999},{"$f":"SUM(BI70,BM70,BQ70)","v":2.8650000095367432},null,null,null,null,null,null,null,null,"PDW1A1B PC",0.26500000000000001,0.98269999027252197,null,"PDW1A1B PC",1.083,0.74099999666213989,null,"PDW1A1B PC",1.0369999999999999,0.75950002670288086,null,"PDW1A1B PC",{"$f":"CM70+CI70+CE70","v":2.3850000000000002},{"$f":"CN70+CJ70+CF70","v":2.4832000136375427}]
["PDW1AB MT PC",3.5130000114440918,3.6115000247955322,3.5929000377655029,3.4619998931884766,3.5587999820709229,3.4289999008178711,3.5246999263763428,3.5092000961303711,3.0436000823974609,3.475100040435791,3.3450000286102295,3.4409999847412109,{"$f":"SUM(B71:M71)","v":41.505800008773804},null,null,null,"PDW1AB MT PC",{"$f":"IFERROR(VLOOKUP(R71,$R$116:$S$210,2,FALSE),0)","v":4.7809999999999997},3.5130000114440918,null,"PDW1AB MT PC",5.5709999999999997,3.6115000247955322,null,"PDW1AB MT PC",5.3460000000000001,3.5929000377655029,null,"PDW1AB MT PC",{"$f":"SUM(S71,W71,AA71)","v":15.698},{"$f":"SUM(T71,X71,AB71)","v":10.717400074005127},null,null,null,null,null,{"$f":"AD71","v":"PDW1AB MT PC"},4.0880000000000001,{"$f":"IFERROR(VLOOKUP(AL71,$A$6:$M$119,5,FALSE),\"\")","v":3.4619998931884766},null,{"$f":"AL71","v":"PDW1AB MT PC"},4.7549999999999999,3.5587999820709229,null,"PDW1AB MT PC",4.1449999999999996,3.4289999008178711,null,"PDW1AB MT PC",12.988,10.449799776077271,null,null,null,null,null,null,"PDW1AB MT PC",4.4050000000000002,3.5246999263763428,null,"PDW1AB MT PC",5.077,3.5092000961303711,null,"PDW1AB MT PC",4.3929999999999998,3.0436000823974609,null,"PDW1AB MT PC",13.875,10.077500104904175,null,null,null,null,null,null,null,null,"PDW1AB MT PC",{"$f":"IFERROR(VLOOKUP(CD71,$CD$115:$CF$202,2,FALSE),0)","v":4.3280000000000003},3.475100040435791,null,"PDW1AB MT PC",{"$f":"IFERROR(VLOOKUP(CH71,$CH$115:$CJ$202,2,FALSE),0)","v":3.7610000000000001},3.3450000286102295,null,"PDW1AB MT PC",{"$f":"IFERROR(VLOOKUP(CL71,$CL$115:$CN$205,2,FALSE),0)","v":5.1059999999999999},3.4409999847412109,null,"PDW1AB MT PC",13.195,10.261100053787231]
["PDWCUT PC",0.61500000953674316,0.63550001382827759,0.63239997625350952,0.60900002717971802,0.62620002031326294,0.60600000619888306,0.62309998273849487,0.62000000476837158,0.54040002822875977,0.61690002679824829,0.59399998188018799,0.61070001125335693,7.3292000889778137,null,null,null,"PDWCUT PC",0.60199999999999998,0.61500000953674316,null,"PDWCUT PC",1.034,0.63550001382827759,null,"PDWCUT PC",1.294,0.63239997625350952,null,"PDWCUT PC",2.93,1.8828999996185303,null,null,null,null,null,"PDWCUT PC",1.044,0.60900002717971802,null,"PDWCUT PC",1.333,0.62620002031326294,null,{"$f":"AP72","v":"PDWCUT PC"},0.48299999999999998,0.60600000619888306,null,{"$f":"AT72","v":"PDWCUT PC"},{"$f":"SUM(AM72,AQ72,AU72)","v":2.86},{"$f":"SUM(AN72,AR72,AV72)","v":1.841200053691864},null,null,null,null,null,null,"PDWCUT PC",1.1439999999999999,0.62309998273849487,null,"PDWCUT PC",0.80900000000000005,0.62000000476837158,null,"PDWCUT PC",0.36499999999999999,0.54040002822875977,null,"PDWCUT PC",2.3179999999999996,1.7835000157356262,null,null,null,null,null,null,null,null,"PDWCUT PC",0.20699999999999999,0.61690002679824829,null,"PDWCUT PC",0.96699999999999997,0.59399998188018799,null,"PDWCUT PC",0.121,0.61070001125335693,null,"PDWCUT PC",1.2950000000000002,1.8216000199317932]
["PDWPLT2 PC",4.2179999351501465,4.3369002342224121,4.3182997703552246,4.1579999923706055,4.274899959564209,4.1189999580383301,4.2346000671386719,4.2160000801086426,3.6596000194549561,4.1757001876831055,4.0199999809265137,4.1353998184204102,49.866400003433228,null,null,null,{"$f":"A73","v":"PDWPLT2 PC"},6.3869999999999996,4.2179999351501465,null,{"$f":"R73","v":"PDWPLT2 PC"},5.3390000000000004,4.3369002342224121,null,{"$f":"R73","v":"PDWPLT2 PC"},1E-3,4.3182997703552246,null,{"$f":"R73","v":"PDWPLT2 PC"},11.726999999999999,12.873199939727783,null,null,null,null,null,"PDWPLT2 PC",0,4.1579999923706055,null,"PDWPLT2 PC",3.0000000000000001E-3,4.274899959564209,null,"PDWPLT2 PC",8.8089999999999993,4.1189999580383301,null,"PDWPLT2 PC",8.8119999999999994,12.551899909973145,null,null,null,null,null,null,{"$f":"R73","v":"PDWPLT2 PC"},6.8470000000000004,4.2346000671386719,null,"PDWPLT2 PC",6.2210000000000001,4.2160000801086426,null,"PDWPLT2 PC",5.8479999999999999,3.6596000194549561,null,"PDWPLT2 PC",18.916,12.110200166702271,null,null,null,null,null,null,null,null,"PDWPLT2 PC",6.0730000000000004,4.1757001876831055,null,"PDWPLT2 PC",5.335,4.0199999809265137,null,"PDWPLT2 PC",4.6239999999999997,4.1353998184204102,null,"PDWPLT2 PC",16.032,12.331099987030029]
["PDWPLT3 PC",5.2379999160766602,5.384699821472168,5.3598999977111816,5.1630001068115234,5.3071999549865723,5.1119999885559082,5.2575998306274414,5.2328000068664551,4.541600227355957,5.1831998825073242,4.9920001029968262,5.1336002349853516,61.905600070953369,null,null,null,"PDWPLT3 PC",5.3120000000000003,5.2379999160766602,null,"PDWPLT3 PC",6.6859999999999999,5.384699821472168,null,"PDWPLT3 PC",6.2089999999999996,5.3598999977111816,null,"PDWPLT3 PC",18.207000000000001,15.98259973526001,null,null,null,null,null,"PDWPLT3 PC",5.4,5.1630001068115234,null,"PDWPLT3 PC",5.46,5.3071999549865723,null,"PDWPLT3 PC",3.8460000000000001,5.1119999885559082,null,"PDWPLT3 PC",14.706,15.582200050354004,null,null,null,null,null,null,"PDWPLT3 PC",3.63,5.2575998306274414,null,"PDWPLT3 PC",3.38,5.2328000068664551,null,"PDWPLT3 PC",3.6930000000000001,4.541600227355957,null,"PDWPLT3 PC",10.702999999999999,15.032000064849854,null,null,null,null,null,null,null,null,"PDWPLT3 PC",5.6440000000000001,5.1831998825073242,null,"PDWPLT3 PC",5.6619999999999999,4.9920001029968262,null,"PDWPLT3 PC",6.0529999999999999,5.1336002349853516,null,"PDWPLT3 PC",17.359000000000002,15.308800220489502]
["SGRLF PC",36.582000732421875,37.52239990234375,37.249599456787109,35.786998748779297,36.713298797607422,35.273998260498047,36.189399719238281,35.932098388671875,31.116399765014648,35.429901123046875,34.047000885009766,34.937000274658203,426.78009605407715,null,null,null,"SGRLF PC",41.143000000000001,36.582000732421875,null,"SGRLF PC",41.033000000000001,37.52239990234375,null,"SGRLF PC",0,37.249599456787109,null,"SGRLF PC",82.176000000000002,111.35400009155273,null,null,null,null,null,"SGRLF PC",13.484999999999999,35.786998748779297,null,"SGRLF PC",32.813000000000002,36.713298797607422,null,"SGRLF PC",52.406999999999996,35.273998260498047,null,"SGRLF PC",98.704999999999998,107.77429580688477,null,null,null,null,null,null,"SGRLF PC",49.606000000000002,36.189399719238281,null,"SGRLF PC",47.789000000000001,35.932098388671875,null,"SGRLF PC",38.811999999999998,31.116399765014648,null,"SGRLF PC",136.20699999999999,103.2378978729248,null,null,null,null,null,null,null,null,"SGRLF PC",41.77,35.429901123046875,null,"SGRLF PC",40.853000000000002,{"$f":"IFERROR(VLOOKUP($A75,$A$6:$M$119,12,FALSE),\"\")","v":34.047000885009766},null,"SGRLF PC",28.838999999999999,34.937000274658203,null,"SGRLF PC",111.46200000000002,104.41390228271484]
["TRAIL PC",1.218000054359436,1.2524000406265259,1.2431000471115112,1.1940000057220459,1.2244999408721924,1.1759999990463257,1.2089999914169312,1.1996999979019165,1.0388000011444092,1.1842000484466553,1.1369999647140503,1.1655999422073364,14.242300033569336,null,null,null,"TRAIL PC",1.3169999999999999,1.218000054359436,null,"TRAIL PC",1.3879999999999999,1.2524000406265259,null,"TRAIL PC",1.2370000000000001,1.2431000471115112,null,"TRAIL PC",3.9420000000000002,3.7135001420974731,null,null,null,null,null,"TRAIL PC",1.08,1.1940000057220459,null,"TRAIL PC",1.1319999999999999,1.2244999408721924,null,"TRAIL PC",0.98299999999999998,1.1759999990463257,null,"TRAIL PC",3.1949999999999998,3.594499945640564,null,null,null,null,null,null,"TRAIL PC",0.84399999999999997,1.2089999914169312,null,{"$f":"R76","v":"TRAIL PC"},0.91100000000000003,1.1996999979019165,null,"TRAIL PC",0.8,1.0388000011444092,null,"TRAIL PC",2.5549999999999997,3.4474999904632568,null,null,null,null,null,null,null,null,"TRAIL PC",0.93700000000000006,1.1842000484466553,null,"TRAIL PC",0.84899999999999998,1.1369999647140503,null,"TRAIL PC",1.091,1.1655999422073364,null,"TRAIL PC",2.8769999999999998,3.486799955368042]
["WHLA PC",8.1059999465942383,8.3049001693725586,8.2335996627807617,7.9019999504089355,8.0940999984741211,7.7699999809265137,7.9608001708984375,7.8956999778747559,6.8263998031616211,7.7655000686645508,7.4520001411437988,7.6384000778198242,93.949399948120117,null,null,null,"WHLA PC",3.8679999999999999,8.1059999465942383,null,"WHLA PC",6.9619999999999997,8.3049001693725586,null,"WHLA PC",3.694,8.2335996627807617,null,"WHLA PC",14.524000000000001,24.644499778747559,null,null,null,null,null,"WHLA PC",6.7450000000000001,7.9019999504089355,null,"WHLA PC",5.9489999999999998,8.0940999984741211,null,"WHLA PC",6.9340000000000002,7.7699999809265137,null,"WHLA PC",19.628,23.76609992980957,null,null,null,null,null,null,"WHLA PC",5.2080000000000002,7.9608001708984375,null,"WHLA PC",8.6539999999999999,7.8956999778747559,null,"WHLA PC",5.069,6.8263998031616211,null,"WHLA PC",18.931000000000001,22.682899951934814,null,null,null,null,null,null,null,null,"WHLA PC",4.7,7.7655000686645508,null,"WHLA PC",5.5460000000000003,7.4520001411437988,null,"WHLA PC",5.6970000000000001,7.6384000778198242,null,"WHLA PC",15.943000000000001,22.855900287628174]
["WWILSON PC",12.708000183105469,13.050999641418457,12.97350025177002,12.479999542236328,12.818499565124512,12.329999923706055,12.66349983215332,12.586000442504883,10.911600112915039,12.434100151062012,11.961000442504883,12.285300254821777,149.20250034332275,null,null,null,"WWILSON PC",8.1709999999999994,12.708000183105469,null,"WWILSON PC",14.019,13.050999641418457,null,"WWILSON PC",12.108000000000001,12.97350025177002,null,"WWILSON PC",34.298000000000002,38.732500076293945,null,null,null,null,null,"WWILSON PC",9.1489999999999991,12.479999542236328,null,"WWILSON PC",11.731999999999999,12.818499565124512,null,"WWILSON PC",11.744,12.329999923706055,null,"WWILSON PC",32.625,37.628499031066895,null,null,null,null,null,null,"WWILSON PC",11.497999999999999,12.66349983215332,null,"WWILSON PC",8.7629999999999999,12.586000442504883,null,"WWILSON PC",10.179,10.911600112915039,null,"WWILSON PC",30.439999999999998,36.161100387573242,null,null,null,null,null,null,null,null,"WWILSON PC",11.68,12.434100151062012,null,"WWILSON PC",8.1129999999999995,11.961000442504883,null,"WWILSON PC",7.6840000000000002,12.285300254821777,null,"WWILSON PC",27.477,36.680400848388672]
["MOSU MT",0,0,0,0,0,0,0,0,0,0,0,0,0,null,null,null,"MOSU MT",1.4999999999999999E-2,0,null,"MOSU MT",0.36199999999999999,0,null,"MOSU MT",0.51,0,null,"MOSU MT",0.88700000000000001,0,null,null,null,null,null,"MOSU MT",0.53400000000000003,0,null,"MOSU MT",0.50900000000000001,0,null,"MOSU MT",0.83299999999999996,0,null,"MOSU MT",1.8760000000000001,0,null,null,null,null,null,null,"MOSU MT",0.90400000000000003,0,null,"MOSU MT",0.52900000000000003,0,null,"MOSU MT",0.38200000000000001,0,null,"MOSU MT",1.8149999999999999,0,null,null,null,null,null,null,null,null,"MOSU MT",0.378,0,null,"MOSU MT",0.315,0,null,"MOSU MT",0.27100000000000002,0,null,"MOSU MT",0.96400000000000008,0]
["PDW1A1B D21",null,null,null,null,null,null,null,null,null,null,null,null,null,null,null,null,"PDW1A1B D21",0.437,0,null,"PDW1A1B D21",0.88600000000000001,0,null,"PDW1A1B D21",{"$f":"AA175","v":0.63},0,null,"PDW1A1B D21",{"$f":"SUM(S80,W80,AA80)","v":1.9529999999999998},{"$f":"SUM(T80,X80,AB80)","v":0},null,null,null,null,null,"PDW1A1B D21",0.60099999999999998,0,null,"PDW1A1B D21",0.496,0,null,"PDW1A1B D21",0.29699999999999999,0,null,"PDW1A1B D21",1.3939999999999999,0,null,null,null,null,null,null,"PDW1A1B D21",{"$f":"IFERROR(VLOOKUP($BG80,$BG$114:$BH$209,2,FALSE),0)","v":0.23100000000000001},0,null,{"$f":"BG80","v":"PDW1A1B D21"},{"$f":"IFERROR(VLOOKUP($BK80,$BK$114:$BL$209,2,FALSE),0)","v":0.19400000000000001},0,null,{"$f":"BK80","v":"PDW1A1B D21"},8.1000000000000003E-2,0,null,{"$f":"BO80","v":"PDW1A1B D21"},0.50600000000000001,0,null,null,null,null,null,null,null,null,"PDW1A1B D21",0.56799999999999995,0,null,"PDW1A1B D21",0.93500000000000005,0,null,"PDW1A1B D21",1.1499999999999999,0,null,"PDW1A1B D21",{"$f":"CM80+CI80+CE80","v":2.653},{"$f":"CN80+CJ80+CF80","v":0}]
["Legacy Total",{"$f":"SUM(B6:B79)","v":3013.6170282661915},{"$f":"SUM(C6:C79)","v":3081.9765708446503},3051.4416297525167,2924.2769845947623,2992.5260889679193,2880.7139744982123,3117.7940043732524,3087.8851783648133,2668.1088230907917,3030.5661522224545,2906.0789742842317,2976.3658141717315,35731.351223431528,null,null,null,{"$f":"A81","v":"Legacy Total"},{"$f":"SUM(S6:S80)","v":3138.9690000000001},{"$f":"SUM(T6:T79)","v":3013.6170282661915},null,{"$f":"R81","v":"Legacy Total"},{"$f":"SUM(W6:W80)","v":3115.0879999999997},{"$f":"SUM(X6:X79)","v":3081.9765708446503},null,"Legacy Total",{"$f":"SUM(AA6:AA80)","v":3014.3810000000008},{"$f":"SUM(AB6:AB79)","v":3051.4416297525167},null,"Legacy Total",{"$f":"SUM(AE6:AE79)","v":9266.4849999999969},{"$f":"SUM(AF6:AF79)","v":9147.0352288633585},null,null,null,null,null,{"$f":"AD81","v":"Legacy Total"},{"$f":"SUM(AM6:AM80)","v":2841.8550000000014},{"$f":"SUM(AN6:AN79)","v":2924.2769845947623},null,{"$f":"AL81","v":"Legacy Total"},{"$f":"SUM(AQ6:AQ80)","v":2953.9919999999997},{"$f":"SUM(AR6:AR79)","v":2992.5260889679193},null,{"$f":"AP81","v":"Legacy Total"},{"$f":"SUM(AU6:AU80)","v":3016.9730000000022},{"$f":"SUM(AV6:AV79)","v":2880.7139744982123},null,{"$f":"AT81","v":"Legacy Total"},{"$f":"SUM(AM81,AQ81,AU81)","v":8812.8200000000033},8797.517048060894,null,null,null,null,null,{"$f":"(AY81-AZ81)/AZ81","v":1.7394626069502572E-3},{"$f":"R81","v":"Legacy Total"},{"$f":"SUM(BH6:BH80)","v":3029.9970000000012},{"$f":"SUM(BI6:BI79)","v":3117.7940043732524},null,{"$f":"R81","v":"Legacy Total"},{"$f":"SUM(BL6:BL80)","v":3022.5180000000005},{"$f":"SUM(BM6:BM79)","v":3087.8851783648133},null,{"$f":"A81","v":"Legacy Total"},{"$f":"SUM(BP6:BP79)","v":2730.7750000000019},{"$f":"SUM(BQ6:BQ79)","v":2668.1088230907917},null,{"$f":"A81","v":"Legacy Total"},{"$f":"SUM(BH81,BL81,BP81)","v":8783.2900000000027},{"$f":"SUM(BI81,BM81,BQ81)","v":8873.7880058288574},null,null,null,null,null,null,null,null,"Legacy Total",{"$f":"SUM(CE6:CE80)","v":2955.6219999999998},{"$f":"SUM(CF6:CF80)","v":3030.5661522224545},null,"Legacy Total",{"$f":"SUM(CI6:CI80)","v":2887.1090000000013},{"$f":"SUM(CJ6:CJ80)","v":2906.0789742842317},null,"Legacy Total",{"$f":"SUM(CM6:CM80)","v":2926.9599999999996},{"$f":"SUM(CN6:CN80)","v":2976.3658141717315},null,"Legacy Total",{"$f":"CE81+CI81+CM81","v":8769.6910000000007},{"$f":"CF81+CJ81+CN81","v":8913.0109406784177}]
[null,null,null,null,null,null,null,null,null,null,null,null,null,null,null,null,null,null,null,null,null,null,null,{"$f":"IFERROR(VLOOKUP(V82,$A$6:$M$119,3,FALSE),\"\")","v":""},null,null,null,{"$f":"IFERROR(VLOOKUP(Z82,$A$6:$M$119,4,FALSE),\"\")","v":""},null,null,null,null,null,null,null,null,null,null,null,null,null,null,null,{"$f":"IFERROR(VLOOKUP($AP82,$A$6:$M$119,6,FALSE),\"\")","v":""},null,null,null,{"$f":"IFERROR(VLOOKUP($AT82,$A$6:$M$119,7,FALSE),\"\")","v":""},null,null,null,null,null,null,null,null,null,null,null,null,null,null,null,null,{"$f":"IFERROR(VLOOKUP($BK82,$A$6:$M$119,9,FALSE),\"\")","v":""},null,null,null,null,null,null,null,null,null,null,null,null,null,null,null,null,null,null,null,null,null,null,null,null,null,null,{"$f":"IFERROR(VLOOKUP($A82,$A$6:$M$119,13,FALSE),\"\")","v":""},null,null,null,""]
["Wexpro I",{"$f":"B5","v":"2020-06-01"},"2020-07-01","2020-08-01","2020-09-01","2020-10-01","2020-11-01","2020-12-01","2021-01-01","2021-02-01","2021-03-01","2021-04-01","2021-05-01","Total",null,null,null,{"$f":"A83","v":"Wexpro I"},null,null,null,{"$f":"R83","v":"Wexpro I"},null,null,null,{"$f":"R83","v":"Wexpro I"},null,null,null,{"$f":"R83","v":"Wexpro I"},null,null,null,null,null,null,null,{"$f":"AD83","v":"Wexpro I"},null,null,null,{"$f":"AL83","v":"Wexpro I"},null,null,null,{"$f":"AL83","v":"Wexpro I"},null,null,null,{"$f":"AL83","v":"Wexpro I"},null,null,null,null,null,null,null,null,{"$f":"AT83","v":"Wexpro I"},null,null,null,{"$f":"AX83","v":"Wexpro I"},null,null,null,"Wexpro I",null,null,null,{"$f":"A83","v":"Wexpro I"},null,null,null,null,null,null,null,null,null,null,"Wexpro I",null,null,null,"Wexpro I",null,{"$f":"IFERROR(VLOOKUP($A82,$A$6:$M$119,12,FALSE),\"\")","v":""},null,"Wexpro I",null,{"$f":"IFERROR(VLOOKUP($A82,$A$6:$M$119,12,FALSE),\"\")","v":""},null,"Wexpro I",null,""]
["CCRUNIT MT",52.4010009765625,53.013099670410156,51.937400817871094,49.275001525878906,49.944099426269531,47.436000823974609,48.133701324462891,47.290500640869141,40.535598754882812,45.703300476074219,43.508998870849609,44.246299743652344,{"$f":"SUM(B84:M84)","v":573.42500305175781},null,null,null,"CCRUNIT MT",{"$f":"IFERROR(VLOOKUP(R84,$R$116:$S$210,2,FALSE),0)*O139","v":53.485845841459181},{"$f":"IFERROR(VLOOKUP(R84,$A$6:$M$119,2,FALSE),\"\")","v":52.4010009765625},null,"CCRUNIT MT",{"$f":"IFERROR(VLOOKUP(V84,$V$116:$W$210,2,FALSE),0)*O140","v":56.259125805466212},{"$f":"IFERROR(VLOOKUP(V84,$A$6:$M$119,3,FALSE),\"\")","v":53.013099670410156},null,"CCRUNIT MT",{"$f":"AA135*O141","v":54.85785523006416},{"$f":"IFERROR(VLOOKUP(Z84,$A$6:$M$119,4,FALSE),\"\")","v":51.937400817871094},null,"CCRUNIT MT",{"$f":"SUM(S84,W84,AA84)","v":164.60282687698955},{"$f":"SUM(T84,X84,AB84)","v":157.35150146484375},null,null,null,null,null,"CCRUNIT MT",{"$f":"IFERROR(VLOOKUP(AL84,$AL$116:$AM$206,2,FALSE),0)","v":75.495000000000005},{"$f":"IFERROR(VLOOKUP(AL84,$A$6:$M$119,5,FALSE),\"\")","v":49.275001525878906},null,"CCRUNIT MT",{"$f":"IFERROR(VLOOKUP(AP84,$AP$116:$AQ$215,2,FALSE),0)","v":72.771000000000001},{"$f":"IFERROR(VLOOKUP($AP84,$A$6:$M$119,6,FALSE),\"\")","v":49.944099426269531},null,"CCRUNIT MT",{"$f":"IFERROR(VLOOKUP(AT84,$AT$116:$AU$208,2,FALSE),0)","v":67.718999999999994},{"$f":"IFERROR(VLOOKUP($AT84,$A$6:$M$119,7,FALSE),\"\")","v":47.436000823974609},null,"CCRUNIT MT",{"$f":"SUM(AM84,AQ84,AU84)","v":215.98500000000001},{"$f":"SUM(AN84,AR84,AV84)","v":146.65510177612305},null,null,null,null,null,null,{"$f":"R84","v":"CCRUNIT MT"},{"$f":"IFERROR(VLOOKUP($BG84,$BG$114:$BH$209,2,FALSE),0)*O145","v":49.156120038494912},{"$f":"IFERROR(VLOOKUP($BG84,$A$6:$M$119,8,FALSE),\"\")","v":48.133701324462891},null,{"$f":"R84","v":"CCRUNIT MT"},{"$f":"IFERROR(VLOOKUP($BK84,$BK$118:$BL$207,2,FALSE),0)*O146","v":46.866852517474676},{"$f":"IFERROR(VLOOKUP($BK84,$A$6:$M$119,9,FALSE),\"\")","v":47.290500640869141},null,{"$f":"A84","v":"CCRUNIT MT"},{"$f":"IFERROR(VLOOKUP($BO84,$BO$117:$BP$204,2,FALSE),0)*O147","v":41.706218074760194},{"$f":"IFERROR(VLOOKUP($BO84,$A$6:$M$119,10,FALSE),0)","v":40.535598754882812},null,"CCRUNIT MT",{"$f":"SUM(BH84,BL84,BP84)","v":137.72919063072979},135.95980072021484,null,null,null,null,null,null,null,null,{"$f":"A84","v":"CCRUNIT MT"},{"$f":"IFERROR(VLOOKUP(CD84,$CD$115:$CF$202,2,FALSE),0)*O148","v":46.961618306495694},{"$f":"IFERROR(VLOOKUP($A84,$A$6:$M$119,11,FALSE),\"\")","v":45.703300476074219},null,{"$f":"A84","v":"CCRUNIT MT"},{"$f":"IFERROR(VLOOKUP(CH84,$CH$115:$CJ$202,2,FALSE),0)*O149","v":45.427288431448325},{"$f":"IFERROR(VLOOKUP($A84,$A$6:$M$119,12,FALSE),\"\")","v":43.508998870849609},null,{"$f":"A84","v":"CCRUNIT MT"},{"$f":"IFERROR(VLOOKUP(CL84,$CL$115:$CN$205,2,FALSE),0)*O150","v":45.491655579083336},{"$f":"IFERROR(VLOOKUP($A84,$A$6:$M$119,13,FALSE),\"\")","v":44.246299743652344},null,"CCRUNIT MT",{"$f":"CM84+CI84+CE84","v":137.88056231702734},{"$f":"CN84+CJ84+CF84","v":133.45859909057617}]
["CCRUNIT D8",246.84599304199219,247.41409301757813,240.54139709472656,226.76400756835937,227.81590270996094,213.92100524902344,214.83929443359375,209.1011962890625,177.71600341796875,198.83399963378906,187.94400024414062,189.875,{"$f":"SUM(B85:M85)","v":2581.6118927001953},null,null,null,"CCRUNIT D8",{"$f":"IFERROR(VLOOKUP(R85,$R$116:$S$210,2,FALSE),0)","v":252.393},246.84599304199219,null,"CCRUNIT D8",{"$f":"IFERROR(VLOOKUP(V85,$V$116:$W$210,2,FALSE),0)","v":267.97500000000002},247.41409301757813,null,"CCRUNIT D8",{"$f":"IFERROR(VLOOKUP(Z85,$Z$116:$AA$210,2,FALSE),0)","v":254.27699999999999},240.54139709472656,null,"CCRUNIT D8",{"$f":"SUM(S85,W85,AA85)","v":774.64499999999998},734.80148315429687,null,null,null,null,null,"CCRUNIT D8",213.767,226.76400756835937,null,"CCRUNIT D8",208.179,227.81590270996094,null,"CCRUNIT D8",202.017,213.92100524902344,null,"CCRUNIT D8",{"$f":"SUM(AM85,AQ85,AU85)","v":623.96299999999997},{"$f":"SUM(AN85,AR85,AV85)","v":668.50091552734375},null,null,null,null,null,null,"CCRUNIT D8",{"$f":"IFERROR(VLOOKUP($BG85,$BG$114:$BH$209,2,FALSE),0)","v":203.297},214.83929443359375,null,"CCRUNIT D8",{"$f":"IFERROR(VLOOKUP($BK85,$BK$118:$BL$207,2,FALSE),0)","v":198.98},209.1011962890625,null,"CCRUNIT D8",{"$f":"IFERROR(VLOOKUP($BO85,$BO$117:$BP$204,2,FALSE),0)","v":172.56399999999999},177.71600341796875,null,"CCRUNIT D8",574.84100000000001,601.656494140625,null,null,null,null,null,null,null,null,{"$f":"A85","v":"CCRUNIT D8"},189.273,{"$f":"IFERROR(VLOOKUP($A85,$A$6:$M$119,11,FALSE),\"\")","v":198.83399963378906},null,{"$f":"A85","v":"CCRUNIT D8"},{"$f":"IFERROR(VLOOKUP(CH85,$CH$115:$CJ$202,2,FALSE),0)","v":178.60599999999999},{"$f":"IFERROR(VLOOKUP($A85,$A$6:$M$119,12,FALSE),\"\")","v":187.94400024414062},null,"CCRUNIT D8",{"$f":"IFERROR(VLOOKUP(CL85,$CL$115:$CN$205,2,FALSE),0)","v":187.45500000000001},189.875,null,"CCRUNIT D8",{"$f":"CM85+CI85+CE85","v":555.33400000000006},{"$f":"CN85+CJ85+CF85","v":576.65299987792969}]
["KNY FLD D8",20.472000122070313,20.875400543212891,20.608800888061523,19.691999435424805,20.097299575805664,19.215000152587891,19.619899749755859,19.393600463867188,16.718799591064453,18.959600448608398,18.146999359130859,18.550399780273437,232.34980010986328,null,null,null,"KNY FLD D8",0,20.472000122070313,null,"KNY FLD D8",0,20.875400543212891,null,"KNY FLD D8",15.391,20.608800888061523,null,"KNY FLD D8",{"$f":"SUM(S86,W86,AA86)","v":15.391},{"$f":"SUM(T86,X86,AB86)","v":61.956201553344727},null,null,null,null,null,"KNY FLD D8",21.88,19.691999435424805,null,"KNY FLD D8",23.021999999999998,20.097299575805664,null,"KNY FLD D8",20.762,19.215000152587891,null,"KNY FLD D8",{"$f":"SUM(AM86,AQ86,AU86)","v":65.664000000000001},{"$f":"SUM(AN86,AR86,AV86)","v":59.004299163818359},null,null,null,null,null,null,"KNY FLD D8",20.277999999999999,19.619899749755859,null,"KNY FLD D8",22.239000000000001,19.393600463867188,null,"KNY FLD D8",21.611000000000001,16.718799591064453,null,"KNY FLD D8",64.128,55.7322998046875,null,null,null,null,null,null,null,null,{"$f":"A86","v":"KNY FLD D8"},24.576000000000001,{"$f":"IFERROR(VLOOKUP($A86,$A$6:$M$119,11,FALSE),\"\")","v":18.959600448608398},null,"KNY FLD D8",23.574000000000002,18.146999359130859,null,"KNY FLD D8",1.7649999999999999,18.550399780273437,null,"KNY FLD D8",49.915000000000006,55.656999588012695]
["MESA D8",681.74700927734375,677.35308837890625,653.40557861328125,611.60400390625,612.64990234375,575.8380126953125,578.872314453125,563.967529296875,479.768798828125,537.27032470703125,508.29000854492187,513.939697265625,6994.7062683105469,null,null,null,"MESA D8",442.108,681.74700927734375,null,"MESA D8",436.10300000000001,677.35308837890625,null,"MESA D8",415.62700000000001,653.40557861328125,null,"MESA D8",1293.838,2012.5056762695312,null,null,null,null,null,"MESA D8",348.10399999999998,611.60400390625,null,"MESA D8",395.88799999999998,612.64990234375,null,"MESA D8",372.12,575.8380126953125,null,"MESA D8",1116.1120000000001,1800.0919189453125,null,null,null,null,null,null,"MESA D8",371.45100000000002,578.872314453125,null,"MESA D8",359.74400000000003,563.967529296875,null,"MESA D8",311.12400000000002,479.768798828125,null,"MESA D8",1042.319,1622.608642578125,null,null,null,null,null,null,null,null,{"$f":"A87","v":"MESA D8"},344.87099999999998,{"$f":"IFERROR(VLOOKUP($A87,$A$6:$M$119,11,FALSE),\"\")","v":537.27032470703125},null,"MESA D8",302.87299999999999,508.29000854492187,null,"MESA D8",326.86099999999999,513.939697265625,null,"MESA D8",974.6049999999999,1559.5000305175781]
["TRAIL D8",100.44899749755859,101.0010986328125,98.421897888183594,92.94000244140625,93.818397521972656,88.788002014160156,89.806999206542969,87.984199523925781,75.233200073242188,84.645500183105469,80.427001953125,81.650901794433594,1075.1661987304687,null,null,null,"TRAIL D8",105.489,100.44899749755859,null,"TRAIL D8",52.921999999999997,101.0010986328125,null,"TRAIL D8",52.911999999999999,98.421897888183594,null,"TRAIL D8",211.32300000000001,299.87199401855469,null,null,null,null,null,"TRAIL D8",46.451999999999998,92.94000244140625,null,"TRAIL D8",49.411999999999999,93.818397521972656,null,"TRAIL D8",146.21799999999999,88.788002014160156,null,"TRAIL D8",242.08199999999999,275.54640197753906,null,null,null,null,null,null,"TRAIL D8",111.583,89.806999206542969,null,"TRAIL D8",96.284999999999997,87.984199523925781,null,"TRAIL D8",81.864000000000004,75.233200073242188,null,"TRAIL D8",289.73199999999997,253.02439880371094,null,null,null,null,null,null,null,null,{"$f":"A88","v":"TRAIL D8"},85.376000000000005,{"$f":"IFERROR(VLOOKUP($A88,$A$6:$M$119,11,FALSE),\"\")","v":84.645500183105469},null,"TRAIL D8",82.602000000000004,80.427001953125,null,"TRAIL D8",79.5,81.650901794433594,null,"TRAIL D8",247.47800000000001,246.72340393066406]
["z20 MESA D8",null,null,null,null,null,null,null,null,null,null,null,null,null,null,null,null,"z20 MESA D8",253.09700000000001,0,null,{"$f":"R89","v":"z20 MESA D8"},250.73599999999999,0,null,{"$f":"R89","v":"z20 MESA D8"},235.04599999999999,0,null,{"$f":"R89","v":"z20 MESA D8"},{"$f":"SUM(S89,W89,AA89)","v":738.87899999999991},{"$f":"SUM(T89,X89,AB89)","v":0},null,null,null,null,null,"z20 MESA D8",215.46700000000001,0,null,{"$f":"AL89","v":"z20 MESA D8"},214.75399999999999,0,null,{"$f":"AP89","v":"z20 MESA D8"},202.501,0,null,{"$f":"AT89","v":"z20 MESA D8"},{"$f":"SUM(AM89,AQ89,AU89)","v":632.72199999999998},{"$f":"SUM(AN89,AR89,AV89)","v":0},null,null,null,null,null,null,"z20 MESA D8",{"$f":"IFERROR(VLOOKUP($BG89,$BG$114:$BH$209,2,FALSE),0)","v":199.375},{"$f":"IFERROR(VLOOKUP($BG89,$A$6:$M$119,8,FALSE),\"\")","v":0},null,"z20 MESA D8",191.65799999999999,0,null,"z20 MESA D8",167.655,0,null,"z20 MESA D8",{"$f":"SUM(BH89,BL89,BP89)","v":558.68799999999999},{"$f":"SUM(BI89,BM89,BQ89)","v":0},null,null,null,null,null,null,null,null,{"$f":"BS89","v":"z20 MESA D8"},180.261,{"$f":"IFERROR(VLOOKUP($A89,$A$6:$M$119,11,FALSE),\"\")","v":0},null,"z20 MESA D8",169.96199999999999,0,null,"z20 MESA D8",168.74700000000001,0,null,"z20 MESA D8",518.97,0]
["z20 TRAIL D8",0,0,0,0,204.83250427246094,174.218994140625,161.97810363769531,148.11489868164062,119.52359771728516,127.97730255126953,116.47799682617187,113.85679626464844,1166.9801940917969,null,null,null,{"$f":"A90","v":"z20 TRAIL D8"},0,0,null,{"$f":"R90","v":"z20 TRAIL D8"},0,0,null,{"$f":"R90","v":"z20 TRAIL D8"},0,0,null,{"$f":"R90","v":"z20 TRAIL D8"},{"$f":"SUM(S90,W90,AA90)","v":0},{"$f":"SUM(T90,X90,AB90)","v":0},null,null,null,null,null,"z20 TRAIL D8",0,0,null,{"$f":"AL90","v":"z20 TRAIL D8"},0,204.83250427246094,null,{"$f":"AP90","v":"z20 TRAIL D8"},0,174.218994140625,null,{"$f":"AT90","v":"z20 TRAIL D8"},{"$f":"SUM(AM90,AQ90,AU90)","v":0},{"$f":"SUM(AN90,AR90,AV90)","v":379.05149841308594},null,null,null,null,null,null,{"$f":"R90","v":"z20 TRAIL D8"},{"$f":"IFERROR(VLOOKUP($BG90,$BG$114:$BH$209,2,FALSE),0)","v":223.06299999999999},{"$f":"IFERROR(VLOOKUP($BG90,$A$6:$M$119,8,FALSE),\"\")","v":161.97810363769531},null,"z20 TRAIL D8",220.661,148.11489868164062,null,"z20 TRAIL D8",196.60499999999999,119.52359771728516,null,"z20 TRAIL D8",{"$f":"SUM(BH90,BL90,BP90)","v":640.32899999999995},{"$f":"SUM(BI90,BM90,BQ90)","v":429.61660003662109},null,null,null,null,null,null,null,null,{"$f":"BS90","v":"z20 TRAIL D8"},215.63200000000001,127.97730255126953,null,"z20 TRAIL D8",199.91,116.47799682617187,null,"z20 TRAIL D8",166.035,113.85679626464844,null,"z20 TRAIL D8",581.577,358.31209564208984]
["z21 CCRK D8",0,0,0,0,0,0,0,0,0,0,0,0,0,null,null,null,"z21 CCRK D8",0,0,null,"z21 CCRK D8",0,0,null,"z21 CCRK D8",0,0,null,"z21 CCRK D8",0,0,null,null,null,null,null,"z21 CCRK D8",0,0,null,"z21 CCRK D8",0,0,null,"z21 CCRK D8",0,0,null,"z21 CCRK D8",0,0,null,null,null,null,null,null,{"$f":"R91","v":"z21 CCRK D8"},{"$f":"IFERROR(VLOOKUP($BG91,$BG$114:$BH$209,2,FALSE),0)","v":0},{"$f":"IFERROR(VLOOKUP($BG91,$A$6:$M$119,8,FALSE),\"\")","v":0},null,"z21 CCRK D8",0,0,null,"z21 CCRK D8",0,0,null,"z21 CCRK D8",0,0,null,null,null,null,null,null,null,null,"z21 CCRK D8",0,0,null,"z21 CCRK D8",0,0,null,"z21 CCRK D8",0,0,null,"z21 CCRK D8",0,0]
["z21 CHBT D8",0,0,0,0,0,0,0,0,0,0,0,0,0,null,null,null,"z21 CHBT D8",0,0,null,"z21 CHBT D8",0,0,null,"z21 CHBT D8",0,0,null,"z21 CHBT D8",0,0,null,null,null,null,null,"z21 CHBT D8",0,0,null,"z21 CHBT D8",0,0,null,"z21 CHBT D8",0,0,null,"z21 CHBT D8",0,0,null,null,null,null,null,null,{"$f":"R92","v":"z21 CHBT D8"},0,0,null,"z21 CHBT D8",0,0,null,"z21 CHBT D8",0,0,null,"z21 CHBT D8",0,0,null,null,null,null,null,null,null,null,"z21 CHBT D8",0,0,null,"z21 CHBT D8",0,0,null,"z21 CHBT D8",0,0,null,"z21 CHBT D8",0,0]
["z21 TRAIL D8",0,0,0,0,0,0,0,0,0,0,0,0,0,null,null,null,"z21 TRAIL D8",0,0,null,{"$f":"R93","v":"z21 TRAIL D8"},0,0,null,"z21 TRAIL D8",0,0,null,"z21 TRAIL D8",0,0,null,null,null,null,null,"z21 TRAIL D8",0,0,null,"z21 TRAIL D8",0,0,null,"z21 TRAIL D8",0,0,null,"z21 TRAIL D8",0,0,null,null,null,null,null,null,{"$f":"R93","v":"z21 TRAIL D8"},{"$f":"IFERROR(VLOOKUP($BG93,$BG$114:$BH$209,2,FALSE),0)","v":0},{"$f":"IFERROR(VLOOKUP($BG93,$A$6:$M$119,8,FALSE),\"\")","v":0},null,"z21 TRAIL D8",0,0,null,"z21 TRAIL D8",0,0,null,"z21 TRAIL D8",0,0,null,null,null,null,null,null,null,null,"z21 TRAIL D8",0,0,null,"z21 TRAIL D8",0,0,null,"z21 TRAIL D8",0,0,null,"z21 TRAIL D8",0,0]
["Wexpro I Total",{"$f":"SUM(B84:B93)","v":1101.9150009155273},1099.6567802429199,1064.915075302124,1000.2750148773193,1209.1581058502197,1119.4170150756836,1113.2503128051758,1075.8519248962402,909.49599838256836,1013.3900279998779,954.79500579833984,962.11909484863281,12624.239356994629,null,null,null,"Wexpro l Total",{"$f":"SUM(S84:S93)","v":1106.5728458414592},{"$f":"SUM(T84:T93)","v":1101.9150009155273},null,"Wexpro l Total",{"$f":"SUM(W84:W93)","v":1063.9951258054662},{"$f":"SUM(X84:X93)","v":1099.6567802429199},null,"Wexpro l Total",{"$f":"SUM(AA84:AA93)","v":1028.1108552300643},{"$f":"SUM(AB84:AB93)","v":1064.915075302124},null,"Wexpro l Total",582.76300000000003,840.7417049407959,null,null,null,null,null,{"$f":"Z94","v":"Wexpro l Total"},{"$f":"SUM(AM84:AM93)","v":921.16499999999996},{"$f":"SUM(AN84:AN93)","v":1000.2750148773193},null,{"$f":"AD94","v":"Wexpro l Total"},{"$f":"SUM(AQ84:AQ93)","v":964.02599999999995},{"$f":"SUM(AR84:AR93)","v":1209.1581058502197},null,"Wexpro l Total",{"$f":"SUM(AU84:AU93)","v":1011.3369999999999},{"$f":"SUM(AV84:AV93)","v":1119.4170150756836},null,"Wexpro l Total",{"$f":"SUM(AM94,AQ94,AU94)","v":2896.5279999999998},{"$f":"SUM(AN94,AR94,AV94)","v":3328.8501358032227},null,null,null,null,null,{"$f":"(AY94-AZ94)/AZ94","v":-0.12987131236501498},"Wexpro l Total",{"$f":"SUM(BH84:BH93)","v":1178.2031200384949},{"$f":"SUM(BI84:BI93)","v":1113.2503128051758},null,"Wexpro l Total",{"$f":"SUM(BL84:BL93)","v":1136.4338525174746},{"$f":"SUM(BM84:BM93)","v":1075.8519248962402},null,"Wexpro l Total",{"$f":"SUM(BP84:BP93)","v":993.12921807476027},{"$f":"SUM(BQ84:BQ93)","v":909.49599838256836},null,"Wexpro l Total",{"$f":"SUM(BH94,BL94,BP94)","v":3307.7661906307303},{"$f":"SUM(BI94,BM94,BQ94)","v":3098.5982360839844},null,null,null,null,null,null,null,null,"Wexpro I Total",{"$f":"SUM(CE84:CE93)","v":1086.9506183064957},{"$f":"SUM(CF84:CF93)","v":1013.3900279998779},null,null,{"$f":"SUM(CI84:CI93)","v":1002.9542884314483},{"$f":"SUM(CJ84:CJ93)","v":954.79500579833984},null,null,{"$f":"SUM(CM84:CM93)","v":975.85465557908321},{"$f":"SUM(CN84:CN93)","v":962.11909484863281},null,null,{"$f":"CM94+CI94+CE94","v":3065.7595623170273},{"$f":"CN94+CJ94+CF94","v":2930.3041286468506}]
[null,null,null,null,null,null,null,null,null,null,null,null,null,null,null,null,null,null,null,{"$f":"IFERROR(VLOOKUP(R95,$A$6:$M$119,2,FALSE),\"\")","v":""},null,null,null,{"$f":"IFERROR(VLOOKUP(V95,$A$6:$M$119,3,FALSE),\"\")","v":""},null,null,null,{"$f":"IFERROR(VLOOKUP(Z95,$A$6:$M$119,4,FALSE),\"\")","v":""},null,null,null,null,null,null,null,null,null,null,null,{"$f":"IFERROR(VLOOKUP(AL95,$A$6:$M$119,5,FALSE),\"\")","v":""},null,null,null,{"$f":"IFERROR(VLOOKUP($AP95,$A$6:$M$119,6,FALSE),\"\")","v":""},null,null,null,{"$f":"IFERROR(VLOOKUP($AT95,$A$6:$M$119,7,FALSE),\"\")","v":""},null,null,null,null,null,"IRP Variance",{"$f":"'Ex 1 HDD'!I2","v":"Docket No. 20-057-02"},"Dominion Energy Utah",null,null,null,null,{"$f":"IFERROR(VLOOKUP($BG95,$A$6:$M$119,8,FALSE),\"\")","v":""},null,null,null,{"$f":"IFERROR(VLOOKUP($BK95,$A$6:$M$119,9,FALSE),\"\")","v":""},null,null,null,null,null,null,null,null,null,null,null,null,null,null,null,null,null,null,{"$f":"IFERROR(VLOOKUP($A95,$A$6:$M$119,11,FALSE),\"\")","v":""},null,null,null,{"$f":"IFERROR(VLOOKUP($A95,$A$6:$M$119,12,FALSE),\"\")","v":""},null,null,null,{"$f":"IFERROR(VLOOKUP($A95,$A$6:$M$119,13,FALSE),\"\")","v":""},null,null,null,""]
["Wexpro II",{"$f":"B5","v":"2020-06-01"},"2020-07-01","2020-08-01","2020-09-01","2020-10-01","2020-11-01","2020-12-01","2021-01-01","2021-02-01","2021-03-01","2021-04-01","2021-05-01",{"$f":"N83","v":"Total"},null,null,null,{"$f":"A96","v":"Wexpro II"},null,null,null,"Wexpro II",null,null,null,"Wexpro II",null,null,null,{"$f":"V96","v":"Wexpro II"},null,null,null,null,null,null,null,{"$f":"AD96","v":"Wexpro II"},null,null,null,"Wexpro II",null,null,null,"Wexpro II",null,null,null,"Wexpro II",null,null,null,null,null,null,null,null,"Wexpro II",null,null,null,{"$f":"BG96","v":"Wexpro II"},null,null,null,{"$f":"BK96","v":"Wexpro II"},null,null,null,{"$f":"BO96","v":"Wexpro II"},null,null,null,null,null,null,null,null,null,null,{"$f":"A96","v":"Wexpro II"},null,null,null,{"$f":"A96","v":"Wexpro II"},null,null,null,{"$f":"A96","v":"Wexpro II"},null,null,null,"Wexpro II"]
["CCOPA 2E",4.7820000648498535,4.9134998321533203,4.8856000900268555,4.7010002136230469,4.8298001289367676,4.6500000953674316,4.7771000862121582,4.7491998672485352,4.118800163269043,4.6964998245239258,4.5180001258850098,4.6406998634338379,{"$f":"SUM(B97:M97)","v":56.262200355529785},null,null,null,"CCOPA 2E",{"$f":"IFERROR(VLOOKUP(R97,$R$116:$S$210,2,FALSE),0)","v":4.4429999999999996},{"$f":"IFERROR(VLOOKUP(R97,$A$6:$M$119,2,FALSE),\"\")","v":4.7820000648498535},null,"CCOPA 2E",{"$f":"IFERROR(VLOOKUP(V97,$V$116:$W$210,2,FALSE),0)","v":4.1269999999999998},{"$f":"IFERROR(VLOOKUP(V97,$A$6:$M$119,3,FALSE),\"\")","v":4.9134998321533203},null,{"$f":"R97","v":"CCOPA 2E"},{"$f":"IFERROR(VLOOKUP(Z97,$Z$116:$AA$208,2,FALSE),0)","v":3.5230000000000001},{"$f":"IFERROR(VLOOKUP(Z97,$A$6:$M$119,4,FALSE),\"\")","v":4.8856000900268555},null,"CCOPA 2E",{"$f":"SUM(S97,W97,AA97)","v":12.093},{"$f":"SUM(T97,X97,AB97)","v":14.581099987030029},null,{"$f":"'Ex 1 HDD'!I3","v":"IRP Variance Exhibit"},{"$f":"'Ex 1 HDD'!I2","v":"Docket No. 20-057-02"},{"$f":"'Ex 1 HDD'!I1","v":"Dominion Energy Utah"},null,"CCOPA 2E",{"$f":"IFERROR(VLOOKUP(AL97,$AL$116:$AM$206,2,FALSE),0)","v":2.88},{"$f":"IFERROR(VLOOKUP(AL97,$A$6:$M$119,5,FALSE),\"\")","v":4.7010002136230469},null,"CCOPA 2E",{"$f":"IFERROR(VLOOKUP(AP97,$AP$116:$AQ$215,2,FALSE),0)","v":5.5250000000000004},{"$f":"IFERROR(VLOOKUP($AP97,$A$6:$M$119,6,FALSE),\"\")","v":4.8298001289367676},null,"CCOPA 2E",{"$f":"IFERROR(VLOOKUP(AT97,$AT$116:$AU$208,2,FALSE),0)","v":3.6579999999999999},{"$f":"IFERROR(VLOOKUP($AT97,$A$6:$M$119,7,FALSE),\"\")","v":4.6500000953674316},null,"CCOPA 2E",{"$f":"SUM(AM97,AQ97,AU97)","v":12.063000000000001},{"$f":"SUM(AN97,AR97,AV97)","v":14.180800437927246},null,null,null,null,null,null,{"$f":"R97","v":"CCOPA 2E"},{"$f":"IFERROR(VLOOKUP($BG97,$BG$114:$BH$209,2,FALSE),0)","v":2.78},{"$f":"IFERROR(VLOOKUP($BG97,$A$6:$M$119,8,FALSE),\"\")","v":4.7771000862121582},null,{"$f":"R97","v":"CCOPA 2E"},{"$f":"IFERROR(VLOOKUP($BK97,$BK$117:$BL$207,2,FALSE),0)","v":2.8460000000000001},{"$f":"IFERROR(VLOOKUP($BK97,$A$6:$M$119,9,FALSE),\"\")","v":4.7491998672485352},null,{"$f":"A97","v":"CCOPA 2E"},{"$f":"IFERROR(VLOOKUP($BO97,$BO$117:$BP$207,2,FALSE),0)","v":2.8820000000000001},{"$f":"IFERROR(VLOOKUP($BO97,$A$6:$M$119,10,FALSE),0)","v":4.118800163269043},null,{"$f":"A97","v":"CCOPA 2E"},{"$f":"SUM(BH97,BL97,BP97)","v":8.5079999999999991},{"$f":"SUM(BI97,BM97,BQ97)","v":13.645100116729736},null,null,null,null,null,null,null,null,"CCOPA 2E",3.359,{"$f":"IFERROR(VLOOKUP($A97,$A$6:$M$119,11,FALSE),\"\")","v":4.6964998245239258},null,{"$f":"A97","v":"CCOPA 2E"},{"$f":"IFERROR(VLOOKUP(CH97,$CH$115:$CJ$202,2,FALSE),0)","v":3.5710000000000002},{"$f":"IFERROR(VLOOKUP($A97,$A$6:$M$119,12,FALSE),\"\")","v":4.5180001258850098},null,{"$f":"A97","v":"CCOPA 2E"},{"$f":"IFERROR(VLOOKUP(CL97,$CL$115:$CN$205,2,FALSE),0)","v":3.714},{"$f":"IFERROR(VLOOKUP($A97,$A$6:$M$119,13,FALSE),\"\")","v":4.6406998634338379},null,"CCOPA 2E",{"$f":"CM97+CI97+CE97","v":10.644},{"$f":"CN97+CJ97+CF97","v":13.855199813842773}]
["CCRUNIT2EMT",24.402000427246094,25.029399871826172,24.846500396728516,23.868000030517578,24.483800888061523,23.312999725341797,23.916500091552734,23.746000289916992,20.560400009155273,23.408100128173828,22.493999481201172,23.076400756835938,{"$f":"SUM(B98:M98)","v":283.14410209655762},null,null,null,"CCRUNIT2EMT",23.314,24.402000427246094,null,"CCRUNIT2EMT",26.321999999999999,25.029399871826172,null,"CCRUNIT2EMT",{"$f":"IFERROR(VLOOKUP(Z98,$Z$116:$AA$208,2,FALSE),0)","v":27.247},24.846500396728516,null,"CCRUNIT2EMT",{"$f":"SUM(S98,W98,AA98)","v":76.882999999999996},{"$f":"SUM(T98,X98,AB98)","v":74.277900695800781},null,null,null,null,null,"CCRUNIT2EMT",{"$f":"IFERROR(VLOOKUP(AL98,$AL$116:$AM$206,2,FALSE),0)","v":26.806000000000001},23.868000030517578,null,"CCRUNIT2EMT",{"$f":"IFERROR(VLOOKUP(AP98,$AP$116:$AQ$206,2,FALSE),0)","v":26.145},24.483800888061523,null,"CCRUNIT2EMT",{"$f":"IFERROR(VLOOKUP(AT98,$AT$116:$AU$208,2,FALSE),0)","v":27.111999999999998},23.312999725341797,null,"CCRUNIT2EMT",{"$f":"SUM(AM98,AQ98,AU98)","v":80.063000000000002},{"$f":"SUM(AN98,AR98,AV98)","v":71.664800643920898},null,null,null,null,null,null,"CCRUNIT2EMT",{"$f":"IFERROR(VLOOKUP($BG98,$BG$114:$BH$209,2,FALSE),0)","v":23.841999999999999},23.916500091552734,null,"CCRUNIT2EMT",{"$f":"IFERROR(VLOOKUP($BK98,$BK$117:$BL$207,2,FALSE),0)","v":25.071000000000002},23.746000289916992,null,"CCRUNIT2EMT",{"$f":"IFERROR(VLOOKUP($BO98,$BO$117:$BP$207,2,FALSE),0)","v":23.443000000000001},20.560400009155273,null,"CCRUNIT2EMT",72.355999999999995,68.222900390625,null,null,null,null,null,null,null,null,"CCRUNIT2EMT",27.193000000000001,23.408100128173828,null,{"$f":"A98","v":"CCRUNIT2EMT"},{"$f":"IFERROR(VLOOKUP(CH98,$CH$115:$CJ$202,2,FALSE),0)","v":26.042999999999999},22.493999481201172,null,{"$f":"A98","v":"CCRUNIT2EMT"},{"$f":"IFERROR(VLOOKUP(CL98,$CL$115:$CN$205,2,FALSE),0)","v":26.891999999999999},23.076400756835938,null,"CCRUNIT2EMT",{"$f":"CM98+CI98+CE98","v":80.128},{"$f":"CN98+CJ98+CF98","v":68.978500366210938}]
["CCRUNIT 2D8",100.25099945068359,100.4430980682373,97.622100830078125,92.000999450683594,92.395500183105469,86.718002319335937,87.054201126098633,84.701299667358398,71.962800025939941,80.48530101776123,76.053001403808594,76.808698654174805,1046.4960021972656,null,null,null,"CCRUNIT 2D8",95.177999999999997,100.25099945068359,null,"CCRUNIT 2D8",94.546000000000006,100.4430980682373,null,"CCRUNIT 2D8",91.213999999999999,97.622100830078125,null,"CCRUNIT 2D8",{"$f":"SUM(S99,W99,AA99)","v":280.93799999999999},{"$f":"SUM(T99,X99,AB99)","v":298.31619834899902},null,null,null,null,null,"CCRUNIT 2D8",{"$f":"IFERROR(VLOOKUP(AL99,$AL$116:$AM$206,2,FALSE),0)","v":101.05500000000001},92.000999450683594,null,"CCRUNIT 2D8",{"$f":"IFERROR(VLOOKUP(AP99,$AP$116:$AQ$215,2,FALSE),0)","v":98.412000000000006},92.395500183105469,null,"CCRUNIT 2D8",{"$f":"IFERROR(VLOOKUP(AT99,$AT$116:$AU$208,2,FALSE),0)","v":95.171999999999997},86.718002319335937,null,"CCRUNIT 2D8",{"$f":"SUM(AM99,AQ99,AU99)","v":294.63900000000001},{"$f":"SUM(AN99,AR99,AV99)","v":271.114501953125},null,null,null,null,null,null,"CCRUNIT 2D8",{"$f":"IFERROR(VLOOKUP($BG99,$BG$114:$BH$209,2,FALSE),0)","v":91.364000000000004},87.054201126098633,null,"CCRUNIT 2D8",{"$f":"IFERROR(VLOOKUP($BK99,$BK$117:$BL$207,2,FALSE),0)","v":89.218000000000004},84.701299667358398,null,"CCRUNIT 2D8",{"$f":"IFERROR(VLOOKUP($BO99,$BO$117:$BP$207,2,FALSE),0)","v":76.959000000000003},71.962800025939941,null,"CCRUNIT 2D8",257.541,243.71830081939697,"IRP Variance","Docket No. 19-057-01","Dominion Energy Utah",null,null,null,null,null,"CCRUNIT 2D8",88.751999999999995,80.48530101776123,null,"CCRUNIT 2D8",83.731999999999999,76.053001403808594,null,"CCRUNIT 2D8",83.998999999999995,76.808698654174805,null,"CCRUNIT 2D8",256.483,233.34700107574463]
["CCRUNIT 2E",284.98800659179687,290.49789428710937,286.7034912109375,273.947998046875,279.61068725585937,267.36599731445312,273.0697021484375,269.97589111328125,232.83120727539062,264.08590698242187,252.84599304199219,258.54620361328125,3234.4689788818359,null,null,null,"CCRUNIT 2E",262.572,284.98800659179687,null,"CCRUNIT 2E",277.73700000000002,290.49789428710937,null,"CCRUNIT 2E",278.27699999999999,286.7034912109375,null,"CCRUNIT 2E",818.58600000000001,862.18939208984375,null,null,null,null,null,"CCRUNIT 2E",{"$f":"IFERROR(VLOOKUP(AL100,$AL$116:$AM$206,2,FALSE),0)","v":262.00799999999998},273.947998046875,null,"CCRUNIT 2E",{"$f":"IFERROR(VLOOKUP(AP100,$AP$116:$AQ$215,2,FALSE),0)","v":256.33300000000003},279.61068725585937,null,"CCRUNIT 2E",{"$f":"IFERROR(VLOOKUP(AT100,$AT$116:$AU$208,2,FALSE),0)","v":253.88800000000001},267.36599731445312,null,"CCRUNIT 2E",772.22900000000004,820.9246826171875,null,null,null,null,null,null,"CCRUNIT 2E",239.89599999999999,273.0697021484375,null,"CCRUNIT 2E",250.46299999999999,269.97589111328125,null,"CCRUNIT 2E",235.64599999999999,232.83120727539062,null,"CCRUNIT 2E",726.005,775.87680053710938,null,null,null,null,null,null,null,null,"CCRUNIT 2E",264.22500000000002,264.08590698242187,null,"CCRUNIT 2E",254.24700000000001,252.84599304199219,null,"CCRUNIT 2E",254.286,258.54620361328125,null,"CCRUNIT 2E",772.75800000000004,775.47810363769531]
["TRAIL 2E",404.24398803710938,409.92849731445312,402.64968872070312,383.04598999023437,389.3599853515625,370.88101196289062,377.43121337890625,371.88839721679687,319.69839477539062,361.52200317382812,345.14700317382812,351.9739990234375,4487.7701721191406,null,null,null,"TRAIL 2E",433.41899999999998,404.24398803710938,null,"TRAIL 2E",326.70499999999998,409.92849731445312,null,"TRAIL 2E",330.971,402.64968872070312,null,"TRAIL 2E",1091.095,1216.8221740722656,null,null,null,null,null,"TRAIL 2E",293.20600000000002,383.04598999023437,null,"TRAIL 2E",{"$f":"IFERROR(VLOOKUP(AP101,$AP$116:$AQ$215,2,FALSE),0)","v":298.98200000000003},389.3599853515625,null,"TRAIL 2E",391.36,370.88101196289062,null,"TRAIL 2E",983.54800000000012,1143.2869873046875,null,null,null,null,null,null,"TRAIL 2E",369.779,377.43121337890625,null,"TRAIL 2E",372.14400000000001,371.88839721679687,null,"TRAIL 2E",325.37299999999999,319.69839477539062,null,"TRAIL 2E",1067.296,1069.0180053710937,null,null,null,null,null,null,null,null,"TRAIL 2E",350.59800000000001,361.52200317382812,null,"TRAIL 2E",349.88400000000001,345.14700317382812,null,"TRAIL 2E",353.06599999999997,351.9739990234375,null,"TRAIL 2E",1053.548,1058.6430053710937]
["TRAIL 2E MT",54.506999969482422,55.437301635742187,54.603401184082031,52.080001831054687,53.065799713134766,50.66400146484375,51.667701721191406,51.013599395751953,43.937599182128906,49.773601531982422,47.601001739501953,48.620399475097656,612.97140884399414,null,null,null,"TRAIL 2E MT",50.777000000000001,54.506999969482422,null,"TRAIL 2E MT",50.701999999999998,55.437301635742187,null,"TRAIL 2E MT",51.258000000000003,54.603401184082031,null,"TRAIL 2E MT",152.73699999999999,164.54770278930664,null,null,null,null,null,"TRAIL 2E MT",48.783000000000001,52.080001831054687,null,"TRAIL 2E MT",48.51,53.065799713134766,null,"TRAIL 2E MT",48.722000000000001,50.66400146484375,null,"TRAIL 2E MT",146.01500000000001,155.8098030090332,null,null,null,null,null,null,"TRAIL 2E MT",48.521999999999998,51.667701721191406,null,"TRAIL 2E MT",47.204999999999998,51.013599395751953,null,"TRAIL 2E MT",40.581000000000003,43.937599182128906,null,"TRAIL 2E MT",136.30799999999999,146.61890029907227,null,null,null,null,null,null,null,null,"TRAIL 2E MT",50.232999999999997,49.773601531982422,null,"TRAIL 2E MT",51.195,47.601001739501953,null,"TRAIL 2E MT",45.356999999999999,48.620399475097656,null,"TRAIL 2E MT",146.785,145.99500274658203]
["WHISKEYC 2E",98.28900146484375,99.742500305175781,98.012702941894531,93.261001586914063,94.80419921875,90.300003051757812,91.880897521972656,90.513801574707031,77.789596557617187,87.940803527832031,83.933998107910156,85.566200256347656,1092.0347061157227,null,null,null,"WHISKEYC 2E",99.989000000000004,98.28900146484375,null,"WHISKEYC 2E",99.754000000000005,99.742500305175781,null,"WHISKEYC 2E",97.158000000000001,98.012702941894531,null,"WHISKEYC 2E",296.90100000000001,296.04420471191406,null,null,null,null,null,"WHISKEYC 2E",92.760999999999996,93.261001586914063,null,"WHISKEYC 2E",92.356999999999999,94.80419921875,null,"WHISKEYC 2E",87.941000000000003,90.300003051757812,null,"WHISKEYC 2E",{"$f":"SUM(AM103,AQ103,AU103)","v":273.05899999999997},{"$f":"SUM(AN103,AR103,AV103)","v":278.36520385742187},null,null,null,null,null,null,"WHISKEYC 2E",80.010000000000005,91.880897521972656,null,"WHISKEYC 2E",93.441000000000003,90.513801574707031,null,"WHISKEYC 2E",78.290999999999997,77.789596557617187,null,"WHISKEYC 2E",251.74200000000002,260.18429565429687,null,null,null,null,null,null,null,null,"WHISKEYC 2E",83.891999999999996,87.940803527832031,null,"WHISKEYC 2E",82.988,83.933998107910156,null,"WHISKEYC 2E",83.007000000000005,85.566200256347656,null,"WHISKEYC 2E",249.887,257.44100189208984]
["WHISKEY MT",33.266998291015625,33.703201293945313,33.064601898193359,31.409999847412109,31.877300262451172,30.318000793457031,30.801599502563477,30.299400329589844,26.003599166870117,29.357000350952148,27.981000900268555,28.48900032043457,366.57170295715332,null,null,null,"WHISKEY MT",31.853999999999999,33.266998291015625,null,"WHISKEY MT",31.376999999999999,33.703201293945313,null,"WHISKEY MT",34.847999999999999,33.064601898193359,null,"WHISKEY MT",98.078999999999994,100.0348014831543,null,null,null,null,null,"WHISKEY MT",30.911999999999999,31.409999847412109,null,"WHISKEY MT",29.573,31.877300262451172,null,"WHISKEY MT",25.696999999999999,30.318000793457031,null,"WHISKEY MT",86.182000000000002,93.605300903320313,null,9.1999999999999993,null,null,null,null,"WHISKEY MT",{"$f":"IFERROR(VLOOKUP($BG104,$BG$115:$BH$209,2,FALSE),0)","v":24.797999999999998},30.801599502563477,null,"WHISKEY MT",23.721,30.299400329589844,null,"WHISKEY MT",24.928999999999998,26.003599166870117,null,"WHISKEY MT",73.447999999999993,87.104598999023438,null,null,null,null,null,null,null,null,"WHISKEY MT",25.145,29.357000350952148,null,"WHISKEY MT",25.751000000000001,27.981000900268555,null,"WHISKEY MT",29.946999999999999,28.48900032043457,null,"WHISKEY MT",80.843000000000004,85.827001571655273]
["TRAIL 2D8",94.527000427246094,94.394996643066406,91.406600952148438,85.805999755859375,86.145896911621094,81.111000061035156,81.653999328613281,79.638999938964844,67.810401916503906,75.993400573730469,71.936996459960937,72.775596618652344,983.20088958740234,null,null,null,"TRAIL 2D8",65.23,94.527000427246094,null,"TRAIL 2D8",18.459,94.394996643066406,null,"TRAIL 2D8",18.334,91.406600952148438,null,"TRAIL 2D8",102.02300000000001,280.32859802246094,null,null,null,null,null,"TRAIL 2D8",16.829000000000001,85.805999755859375,null,"TRAIL 2D8",15.992000000000001,86.145896911621094,null,"TRAIL 2D8",136.50800000000001,81.111000061035156,null,"TRAIL 2D8",169.32900000000001,253.06289672851562,null,null,null,null,null,null,"TRAIL 2D8",{"$f":"IFERROR(VLOOKUP($BG105,$BG$115:$BH$209,2,FALSE),0)","v":121.081},81.653999328613281,null,"TRAIL 2D8",106.065,79.638999938964844,null,"TRAIL 2D8",87.603999999999999,67.810401916503906,null,"TRAIL 2D8",314.75,229.10340118408203,null,null,null,null,null,null,null,null,"TRAIL 2D8",89.432000000000002,75.993400573730469,null,"TRAIL 2D8",81.093999999999994,71.936996459960937,null,"TRAIL 2D8",75.484999999999999,72.775596618652344,null,"TRAIL 2D8",246.01100000000002,220.70599365234375]
["CCRUNIT MT",21.791999816894531,22.044099807739258,21.597700119018555,20.489999771118164,20.770000457763672,19.725000381469727,20.016700744628906,19.663299560546875,16.856000900268555,19.006099700927734,18.093000411987305,18.398500442504883,238.45240211486816,null,null,null,"CCRUNIT MT",{"$f":"S137*P139","v":22.243154158540818},{"$f":"B106","v":21.791999816894531},null,{"$f":"R106","v":"CCRUNIT MT"},{"$f":"W137*P140","v":23.393874194533797},{"$f":"C106","v":22.044099807739258},null,{"$f":"R106","v":"CCRUNIT MT"},{"$f":"AA135*P141","v":22.812144769935838},{"$f":"D106","v":21.597700119018555},null,{"$f":"R106","v":"CCRUNIT MT"},{"$f":"SUM(S106,W106,AA106)","v":68.449173123010453},{"$f":"SUM(T106,X106,AB106)","v":65.433799743652344},null,null,null,null,null,{"$f":"AD106","v":"CCRUNIT MT"},null,null,null,null,null,null,null,null,null,null,null,null,null,null,null,null,null,null,null,null,"CCRUNIT MT",{"$f":"IFERROR(VLOOKUP($BG106,$BG$115:$BH$209,2,FALSE),0)*P145","v":20.441879961505091},{"$f":"IFERROR(VLOOKUP($BG106,$A$6:$M$119,8,FALSE),\"\")","v":48.133701324462891},null,"CCRUNIT MT",{"$f":"IFERROR(VLOOKUP($BK106,$BK$117:$BL$207,2,FALSE),0)*P146","v":19.487147482525319},47.290500640869141,null,"CCRUNIT MT",{"$f":"IFERROR(VLOOKUP($BO106,$BO$117:$BP$207,2,FALSE),0)*P147","v":17.342781925239798},40.535598754882812,null,"CCRUNIT MT",57.271809369270208,135.95980072021484,null,null,null,null,null,null,null,null,"CCRUNIT MT",{"$f":"IFERROR(VLOOKUP(CD106,$CD$115:$CF$202,2,FALSE),0)*P148","v":19.529381693504302},45.703300476074219,null,"CCRUNIT MT",{"$f":"IFERROR(VLOOKUP(CH106,$CH$115:$CJ$202,2,FALSE),0)*P149","v":18.890711568551676},43.508998870849609,null,"CCRUNIT MT",{"$f":"IFERROR(VLOOKUP(CL106,$CL$115:$CN$205,2,FALSE),0)*P150","v":18.916344420916666},44.246299743652344,null,"CCRUNIT MT",57.336437682972644,133.45859909057617]
["z20 TRAIL2D8",0,0,0,0,394.62380981445312,335.7869873046875,312.275390625,285.60610961914062,230.5072021484375,246.84060668945313,224.6820068359375,219.64430236816406,2249.9664154052734,null,null,null,"z20 TRAIL2D8",{"$f":"IFERROR(VLOOKUP(R107,$R$116:$S$210,2,FALSE),0)","v":0},{"$f":"IFERROR(VLOOKUP(R107,$A$6:$M$119,2,FALSE),\"\")","v":0},null,{"$f":"R107","v":"z20 TRAIL2D8"},{"$f":"IFERROR(VLOOKUP(V107,$V$116:$W$210,2,FALSE),0)","v":0},{"$f":"IFERROR(VLOOKUP(V107,$A$6:$M$119,3,FALSE),\"\")","v":0},null,{"$f":"R107","v":"z20 TRAIL2D8"},{"$f":"IFERROR(VLOOKUP(Z107,$Z$116:$AA$208,2,FALSE),0)","v":0},{"$f":"IFERROR(VLOOKUP(Z107,$A$6:$M$119,4,FALSE),\"\")","v":0},null,{"$f":"R107","v":"z20 TRAIL2D8"},{"$f":"SUM(S107,W107,AA107)","v":0},{"$f":"SUM(T107,X107,AB107)","v":0},null,null,null,null,null,{"$f":"AD107","v":"z20 TRAIL2D8"},null,null,null,null,null,null,null,null,null,null,null,null,null,null,null,null,null,null,null,null,"z20 TRAIL2D8",{"$f":"IFERROR(VLOOKUP($BG107,$BG$115:$BH$209,2,FALSE),0)","v":410.55099999999999},{"$f":"IFERROR(VLOOKUP($BG107,$A$6:$M$119,8,FALSE),\"\")","v":312.275390625},null,"z20 TRAIL2D8",398.14800000000002,285.60610961914062,null,"z20 TRAIL2D8",330.82799999999997,230.5072021484375,null,"z20 TRAIL2D8",1139.527,828.38870239257812,null,null,null,null,null,null,null,null,"z20 TRAIL2D8",345.589,246.84060668945313,null,"z20 TRAIL2D8",309.64800000000002,224.6820068359375,null,"z20 TRAIL2D8",263.61900000000003,219.64430236816406,null,"z20 TRAIL2D8",918.85599999999999,691.16691589355469]
["z21 CCRK 2D8",0,0,0,0,0,0,0,0,0,0,0,0,0,null,null,null,"z21 CCRK 2D8",{"$f":"IFERROR(VLOOKUP(R108,$R$116:$S$210,2,FALSE),0)","v":0},{"$f":"IFERROR(VLOOKUP(R108,$A$6:$M$119,2,FALSE),\"\")","v":0},null,"z21 CCRK 2D8",{"$f":"IFERROR(VLOOKUP(V108,$V$116:$W$210,2,FALSE),0)","v":0},{"$f":"IFERROR(VLOOKUP(V108,$A$6:$M$119,3,FALSE),\"\")","v":0},null,"z21 CCRK 2D8",{"$f":"IFERROR(VLOOKUP(Z108,$Z$116:$AA$208,2,FALSE),0)","v":0},{"$f":"IFERROR(VLOOKUP(Z108,$A$6:$M$119,4,FALSE),\"\")","v":0},null,"z21 CCRK 2D8",0,0,null,null,null,null,null,"z21 CCRK 2D8",null,null,null,null,null,null,null,null,null,null,null,null,null,null,null,null,null,null,null,null,"z21 CCRK 2D8",0,{"$f":"IFERROR(VLOOKUP($BG108,$A$6:$M$119,8,FALSE),\"\")","v":0},null,"z21 CCRK 2D8",0,0,null,"z21 CCRK 2D8",0,0,null,"z21 CCRK 2D8",0,0,null,null,null,null,null,null,null,null,"z21 CCRK 2D8",0,0,null,"z21 CCRK 2D8",0,0,null,"z21 CCRK 2D8",0,0,null,"z21 CCRK 2D8",0,0]
["z21 TRAIL2D8",0,0,0,0,0,0,0,0,0,0,0,0,0,null,null,null,"z21 TRAIL2D8",{"$f":"IFERROR(VLOOKUP(R109,$R$116:$S$210,2,FALSE),0)","v":0},{"$f":"IFERROR(VLOOKUP(R109,$A$6:$M$119,2,FALSE),\"\")","v":0},null,"z21 TRAIL2D8",{"$f":"IFERROR(VLOOKUP(V109,$V$116:$W$210,2,FALSE),0)","v":0},{"$f":"IFERROR(VLOOKUP(V109,$A$6:$M$119,3,FALSE),\"\")","v":0},null,"z21 TRAIL2D8",{"$f":"IFERROR(VLOOKUP(Z109,$Z$116:$AA$208,2,FALSE),0)","v":0},{"$f":"IFERROR(VLOOKUP(Z109,$A$6:$M$119,4,FALSE),\"\")","v":0},null,"z21 TRAIL2D8",0,0,null,null,null,null,null,"z21 TRAIL2D8",null,null,null,null,null,null,null,null,null,null,null,null,null,null,null,null,null,null,null,null,"z21 TRAIL2D8",0,{"$f":"IFERROR(VLOOKUP($BG109,$A$6:$M$119,8,FALSE),\"\")","v":0},null,"z21 TRAIL2D8",0,0,null,"z21 TRAIL2D8",0,0,null,"z21 TRAIL2D8",0,0,null,null,null,null,null,null,null,null,"z21 TRAIL2D8",0,0,null,"z21 TRAIL2D8",0,0,null,"z21 TRAIL2D8",0,0,null,"z21 TRAIL2D8",0,0]
["z21 WSKY 2D8",0,0,0,0,0,0,0,0,0,0,0,0,0,null,null,null,"z21 WSKY 2D8",{"$f":"IFERROR(VLOOKUP(R110,$R$116:$S$210,2,FALSE),0)","v":0},{"$f":"IFERROR(VLOOKUP(R110,$A$6:$M$119,2,FALSE),\"\")","v":0},null,"z21 WSKY 2D8",{"$f":"IFERROR(VLOOKUP(V110,$V$116:$W$210,2,FALSE),0)","v":0},{"$f":"IFERROR(VLOOKUP(V110,$A$6:$M$119,3,FALSE),\"\")","v":0},null,"z21 WSKY 2D8",{"$f":"IFERROR(VLOOKUP(Z110,$Z$116:$AA$208,2,FALSE),0)","v":0},{"$f":"IFERROR(VLOOKUP(Z110,$A$6:$M$119,4,FALSE),\"\")","v":0},null,"z21 WSKY 2D8",0,0,null,null,null,null,null,"z21 WSKY 2D8",null,null,null,null,null,null,null,null,null,null,null,null,null,null,null,null,null,null,null,null,"z21 WSKY 2D8",0,{"$f":"IFERROR(VLOOKUP($BG110,$A$6:$M$119,8,FALSE),\"\")","v":0},null,"z21 WSKY 2D8",0,0,null,"z21 WSKY 2D8",0,0,null,"z21 WSKY 2D8",0,0,null,null,null,null,null,null,null,null,"z21 WSKY 2D8",0,0,null,"z21 WSKY 2D8",0,0,null,"z21 WSKY 2D8",0,0,null,"z21 WSKY 2D8",0,0]
["Wexpro II Total",{"$f":"SUM(B97:B110)","v":1121.0489945411682},1136.1344890594482,1115.392388343811,1060.610990524292,1471.9667801856995,1360.8330044746399,1354.545006275177,1311.7959985733032,1112.0760021209717,1243.1093235015869,1175.2860016822815,1188.5400013923645,14651.338980674744,null,null,null,"Wexpro II Total",{"$f":"SUM(S97:S110)","v":1089.0191541585409},{"$f":"SUM(T97:T110)","v":1121.0489945411682},null,"Wexpro II Total",{"$f":"SUM(W97:W110)","v":953.12287419453378},{"$f":"SUM(X97:X110)","v":1136.1344890594482},null,"Wexpro II Total",{"$f":"SUM(AA97:AA110)","v":955.64214476993573},{"$f":"SUM(AB97:AB110)","v":1115.392388343811},null,"Wexpro II Total",{"$f":"SUM(AE97:AE110)","v":2997.784173123011},{"$f":"SUM(AF97:AF110)","v":3372.5758719444275},null,null,null,null,null,{"$f":"AD111","v":"Wexpro II Total"},{"$f":"SUM(AM97:AM110)","v":875.24},{"$f":"SUM(AN97:AN110)","v":1040.1209907531738},null,"New Drill Total",{"$f":"SUM(AQ97:AQ110)","v":871.82899999999995},{"$f":"SUM(AR97:AR110)","v":1056.5729699134827},null,"New Drill Total",{"$f":"SUM(AU97:AU110)","v":1070.058},{"$f":"SUM(AV97:AV110)","v":1005.3210167884827},null,"New Drill Total",2817.127,3102.0149774551392,null,null,null,null,null,null,{"$f":"R111","v":"Wexpro II Total"},{"$f":"SUM(BH97:BH110)","v":1433.0648799615051},{"$f":"SUM(BI97:BI110)","v":1382.662006855011},null,{"$f":"R111","v":"Wexpro II Total"},{"$f":"SUM(BL97:BL110)","v":1427.8091474825255},{"$f":"SUM(BM97:BM110)","v":1339.4231996536255},null,{"$f":"BK111","v":"Wexpro II Total"},{"$f":"SUM(BP97:BP110)","v":1243.8787819252398},{"$f":"SUM(BQ97:BQ110)","v":1135.7555999755859},null,null,{"$f":"SUM(BT97:BT110)","v":4104.7528093692708},{"$f":"SUM(BU97:BU110)","v":3857.8408064842224},null,null,null,null,null,null,null,null,null,{"$f":"SUM(CE97:CE110)","v":1347.9473816935042},{"$f":"SUM(CF97:CF110)","v":1269.8065242767334},null,null,{"$f":"SUM(CI97:CI110)","v":1287.0437115685518},{"$f":"SUM(CJ97:CJ110)","v":1200.7020001411438},null,null,{"$f":"SUM(CM97:CM110)","v":1238.2883444209165},{"$f":"SUM(CN97:CN110)","v":1214.387800693512},null,null,{"$f":"CM111+CI111+CE111","v":3873.2794376829725},{"$f":"CN111+CJ111+CF111","v":3684.8963251113892}]
[null,null,null,null,null,null,null,null,null,null,null,null,null,null,null,null,null,null,null,null,null,null,null,null,null,null,null,null,null,null,null,null,null,null,null,null,null,null,null,null,null,null,null,null,null,null,null,null,null,null,null,null,null,null,null,null,null,null,null,null,null,null,null,null,null,null,null,null,null,null,null,null,null,null,9.1999999999999993]
["Off System",{"$f":"B5","v":"2020-06-01"},"2020-07-01","2020-08-01","2020-09-01","2020-10-01","2020-11-01","2020-12-01","2021-01-01","2021-02-01","2021-03-01","2021-04-01","2021-05-01",{"$f":"N96","v":"Total"},null,null,null,"Total",{"$f":"SUM(S81,S94,S111)","v":5334.5609999999997},{"$f":"SUM(T81,T94,T111)","v":5236.581023722887},null,"Total",{"$f":"SUM(W81,W94,W111)","v":5132.2060000000001},{"$f":"SUM(X81,X94,X111)","v":5317.7678401470184},null,"Total",{"$f":"SUM(AA81,AA94,AA111)","v":4998.1340000000009},{"$f":"SUM(AB81,AB94,AB111)","v":5231.7490933984518},null,"Total",{"$f":"SUM(AE81,AE94,AE111)","v":12847.032173123009},{"$f":"SUM(AF81,AF94,AF111)","v":13360.352805748582},null,null,null,null,null,"Total",{"$f":"SUM(AM81,AM94,AM111)","v":4638.2600000000011},{"$f":"SUM(AN81,AN94,AN111)","v":4964.6729902252555},null,"Total",{"$f":"SUM(AQ81,AQ94,AQ111)","v":4789.8469999999998},{"$f":"SUM(AR81,AR94,AR111)","v":5258.2571647316217},null,"Total",{"$f":"SUM(AU81,AU94,AU111)","v":5098.3680000000022},{"$f":"SUM(AV81,AV94,AV111)","v":5005.4520063623786},null,"Total",{"$f":"SUM(AY81,AY94,AY111)","v":14526.475000000004},{"$f":"SUM(AZ81,AZ94,AZ111)","v":15228.382161319256},null,null,null,null,null,null,{"$f":"R113","v":"Total"},{"$f":"SUM(BH111,BH94,BH81)","v":5641.2650000000012},{"$f":"SUM(BI111,BI94,BI81)","v":5613.7063240334392},null,{"$f":"R113","v":"Total"},{"$f":"SUM(BL111,BL94,BL81)","v":5586.7610000000004},{"$f":"SUM(BM111,BM94,BM81)","v":5503.1603029146791},null,{"$f":"V113","v":"Total"},{"$f":"SUM(BP111,BP94,BP81)","v":4967.7830000000013},{"$f":"SUM(BQ111,BQ94,BQ81)","v":4713.360421448946},null,{"$f":"Z113","v":"Total"},{"$f":"SUM(BT111,BT94,BT81)","v":16195.809000000005},{"$f":"SUM(BU111,BU94,BU81)","v":15830.227048397064},null,null,null,null,null,null,null,null,"Total",{"$f":"SUM(CE97:CE110)+SUM(CE84:CE93)+SUM(CE6:CE80)","v":5390.52},{"$f":"SUM(CF97:CF110)+SUM(CF84:CF93)+SUM(CF6:CF80)","v":5313.7627044990659},null,"Total",{"$f":"SUM(CI111,CI94,CI81)","v":5177.1070000000018},{"$f":"SUM(CJ111,CJ94,CJ81)","v":5061.5759802237153},null,"Total",{"$f":"SUM(CM111,CM94,CM81)","v":5141.1029999999992},{"$f":"SUM(CN111,CN94,CN81)","v":5152.8727097138762},null,"Total",{"$f":"CE113+CI113+CM113","v":15708.730000000001},{"$f":"CF113+CJ113+CN113","v":15528.211394436657}]
["OFF SYS D24",33.633087158203097,34.563472747802699,34.344264984130902,33.051822662353501,33.962833404541001,32.655124664306598,33.552909851074197,33.362194061279297,30.221735000610401,32.9776611328125,31.729301452636701,32.596229553222699,{"$f":"SUM(B114:M114)","v":396.65063667297363}]
["OFF SYS PC",8.4119997024536097,8.6552000045776403,8.6180000305175799,8.3039999008178693,8.5436000823974592,8.2320003509521502,8.4692001342773402,8.4320001602172905,7.32200002670288,8.3606996536254901,8.0550003051757795,8.2862997055053693,{"$f":"SUM(B115:M115)","v":99.690000057220459},null,null,null,"nomgroup","value_6","month_tot",null,"nomgroup","value_7","month_tot",null,"nomgroup","value_8","month_tot",null,null,null,null,null,null,null,null,null,"nomgroup","value_9","month_tot",null,"nomgroup","value_10","month_tot",null,"nomgroup","value_11","month_tot",null,null,null,null,null,null,null,null,null,null,"nomgroup","value_12","month_tot",null,"nomgroup","value_1","month_tot",null,"nomgroup","value_2","month_tot",null,null,null,null,null,null,null,null,null,null,null,null,"nomgroup","value_3","month_tot",null,"nomgroup","value_4","month_tot",null,"nomgroup","value_5","month_tot"]
["OFF SYS PW",0,0,0,0,0,0,0,0,0,0,0,0,{"$f":"SUM(B116:M116)","v":0},null,null,null,"ACEJDMT D24",11.616,5334.56,null,"ACEJDMT D24",9.4320000000000004,5132.2,null,"ACEJDMT D24",11.519,4998.13,null,null,null,null,null,null,null,null,null,"ACEJDMT D24",11.474,4638.26,null,"ACEJDMT D24",11.962999999999999,4789.8500000000004,null,"ACEJDMT D24",13.746,5098.37,null,null,null,null,null,null,null,null,null,null,"ACEJDMT D24",7.1420000000000003,5641.26,null,"ACEJDMT D24",11.334,5586.76,null,"ACEJDMT D24",10.888999999999999,4967.8599999999997,null,null,null,null,null,null,null,null,null,null,null,null,"ACEJDMT D24",10.448,5390.52,null,"ACEJDMT D24",10.425000000000001,5177.1099999999997,null,"ACEJDMT D24",10.750999999999999,5141.1000000000004]
["Off System Total",{"$f":"SUM(B114:B116)","v":42.04508686065671},{"$f":"SUM(C114:C116)","v":43.218672752380343},42.96226501464848,41.355822563171373,42.506433486938462,40.887125015258746,42.022109985351534,41.794194221496589,37.543735027313282,41.338360786437988,39.784301757812479,40.88252925872807,{"$f":"SUM(B117:M117)","v":496.34063673019409},null,null,null,"ACEJDMT PC",3.4430000000000001,5334.56,null,"ACEJDMT PC",3.93,5132.2,null,"ACEJDMT PC",2.512,4998.13,null,null,null,null,null,null,null,null,null,"ACEJDMT PC",3.395,4638.26,null,"ACEJDMT PC",3.6680000000000001,4789.8500000000004,null,"ACEJDMT PC",3.6789999999999998,5098.37,null,null,null,null,null,null,null,null,null,null,"ACEJDMT PC",3.8919999999999999,5641.26,null,"ACEJDMT PC",3.7589999999999999,5586.76,null,"ACEJDMT PC",3.452,4967.8599999999997,null,null,null,null,null,null,null,null,null,null,null,null,"ACEJDMT PC",3.306,5390.52,null,"ACEJDMT PC",2.1680000000000001,5177.1099999999997,null,"ACEJDMT PC",3.51,5141.1000000000004]
[null,null,null,null,null,null,null,null,null,null,null,null,null,null,null,null,null,"BIRCH CREEK",132.93600000000001,5334.56,null,"BIRCH CREEK",134.36600000000001,5132.2,null,"BIRCH CREEK",133.61600000000001,4998.13,null,null,null,null,null,null,null,null,null,"BIRCH CREEK",122.6,4638.26,null,"BIRCH CREEK",125.215,4789.8500000000004,null,"BIRCH CREEK",111.911,5098.37,null,null,null,null,null,null,null,null,null,null,"BIRCH CREEK",119.70699999999999,5641.26,null,"BIRCH CREEK",121.929,5586.76,null,"BIRCH CREEK",112.86799999999999,4967.8599999999997,null,null,null,null,null,null,null,null,null,null,null,null,"BIRCH CREEK",124.459,5390.52,null,"BIRCH CREEK",127.815,5177.1099999999997,null,"BIRCH CREEK",133.047,5141.1000000000004]
["Total without Off System",{"$f":"SUM(B81,B94,B111)","v":5236.581023722887},5317.7678401470184,5231.7490933984518,4985.1629899963737,5673.6509750038385,5360.9639940485358,5585.5893234536052,5475.5331018343568,4689.6808235943317,5287.0655037239194,5036.159981764853,5127.0249104127288,63006.9295611009,null,null,null,"BKSPUNT6MTPC",5.84,5334.56,null,"BKSPUNT6MTPC",3.016,5132.2,null,"BKSPUNT6MTPC",2.403,4998.13,null,null,null,null,null,null,null,null,null,"BRFM D24",2.0830000000000002,4638.26,null,"BRFM D24",2.2709999999999999,4789.8500000000004,null,"BRFM D24",1.85,5098.37,null,null,null,null,null,null,null,null,null,null,"BRFM D24",2.16,5641.26,null,"BRFM D24",1.8819999999999999,5586.76,null,"BRFM D24",1.869,4967.8599999999997,null,null,null,null,null,null,null,null,null,null,null,null,"BRFM D24",2.1669999999999998,5390.52,null,"BRFM D24",1.6080000000000001,5177.1099999999997,null,"BRFM D24",1.94,5141.1000000000004]
["Days/Month",{"$f":"DAY(EOMONTH(B5,0))","v":30},31,31,30,31,30,31,31,28,31,30,31,null,null,null,null,"BRCH CRK D8",0.58799999999999997,5334.56,null,"BRCH CRK D8",0,5132.2,null,"BRFM D24",2.242,4998.13,null,null,null,null,null,null,null,null,null,"BRFM PC",0.13600000000000001,4638.26,null,"BRFM PC",0.17199999999999999,4789.8500000000004,null,"BRFM PC",0.14000000000000001,5098.37,null,null,null,null,null,null,null,null,null,null,"BRFM PC",0.154,5641.26,null,"BRFM PC",0.17,5586.76,null,"BRFM PC",0.14599999999999999,4967.8599999999997,null,null,null,null,null,null,null,null,null,null,null,null,"BRFM PC",0.159,5390.52,null,"BRFM PC",0.13200000000000001,5177.1099999999997,null,"BRFM PC",0.157,5141.1000000000004]
["Per day",{"$f":"B119/B120","v":174.55270079076291},{"$f":"C119/C120","v":171.54089806925865},168.76609978704684,166.17209966654579,183.02099919367222,178.69879980161787,180.1803007565679,176.6301000591728,167.48860084265471,170.55050012012643,167.87199939216177,165.38790033589447,null,null,null,null,"BRFM D24",1.996,5334.56,null,"BRFM D24",2.298,5132.2,null,"BRFM PC",0.154,4998.13,null,null,null,null,null,null,null,null,null,"BRFQ D24",140.03,4638.26,null,"BRFQ D24",151.22300000000001,4789.8500000000004,null,"BRFQ D24",136.55000000000001,5098.37,null,null,null,null,null,null,null,null,null,null,"BRFQ D24",135.864,5641.26,null,"BRFQ D24",138.411,5586.76,null,"BRFQ D24",124.107,4967.8599999999997,null,null,null,null,null,null,null,null,null,null,null,null,"BRFQ D24",139.70599999999999,5390.52,null,"BRFQ D24",140.10300000000001,5177.1099999999997,null,"BRFQ D24",147.61699999999999,5141.1000000000004]
[null,null,null,null,null,null,null,null,null,null,null,null,null,null,null,null,null,"BRFM PC",0.161,5334.56,null,"BRFM PC",0.16500000000000001,5132.2,null,"BRFQ D24",147.947,4998.13,null,null,null,null,null,null,null,null,null,"BRFQ PC",13.003,4638.26,null,"BRFQ PC",10.132999999999999,4789.8500000000004,null,"BRFQ PC",11.385,5098.37,null,null,null,null,null,null,null,null,null,null,"BRFQ PC",9.7669999999999995,5641.26,null,"BRFQ PC",8.82,5586.76,null,"BRFQ PC",8.3339999999999996,4967.8599999999997,null,null,null,null,null,null,null,null,null,null,null,null,"BRFQ PC",9.8249999999999993,5390.52,null,"BRFQ PC",12.161,5177.1099999999997,null,"BRFQ PC",11.952999999999999,5141.1000000000004]
["Total with Off System",{"$f":"SUM(B117,B119)","v":5278.6261105835438},{"$f":"SUM(C117,C119)","v":5360.9865128993988},5274.7113584131002,5026.518812559545,5716.157408490777,5401.8511190637946,5627.6114334389567,{"$f":"SUM(I117,I119)","v":5517.3272960558534},4727.224558621645,5328.4038645103574,5075.9442835226655,5167.9074396714568,63503.270197831094,null,null,null,"BRFQ D24",149.78100000000001,5334.56,null,"BRFQ D24",153.81800000000001,5132.2,null,"BRFQ PC",9.3079999999999998,4998.13,null,null,null,null,null,null,null,null,null,"BRFQMT D24",2.3E-2,4638.26,null,"BRFQMT D24",6.63,4789.8500000000004,null,"BRFQMT D24",1.2829999999999999,5098.37,null,null,null,null,null,null,null,null,null,null,"BRFQMT D24",7.617,5641.26,null,"BRFQMT PC",3.1619999999999999,5586.76,null,"BRFQMT D24",7.6079999999999997,4967.8599999999997,null,null,null,null,null,null,null,null,null,null,null,null,"BRFQMT D24",1.49,5390.52,null,"BRFQMT D24",5.4290000000000003,5177.1099999999997,null,"BRFQMT D24",2.3929999999999998,5141.1000000000004]
[null,null,null,null,null,null,null,null,null,null,null,null,null,null,null,null,null,"BRFQ PC",10.736000000000001,5334.56,null,"BRFQ PC",12.339,5132.2,null,"BRFQMT D24",4.9279999999999999,4998.13,null,null,null,null,null,null,null,null,null,"BRFQMT PC",2.173,4638.26,null,"BRFQMT PC",3.85,4789.8500000000004,null,"BRFQMT PC",2.5190000000000001,5098.37,null,null,null,null,null,null,null,null,null,null,"BRFQMT PC",2.9870000000000001,5641.26,null,"BRFW D24",64.078000000000003,5586.76,null,"BRFQMT PC",4.0519999999999996,4967.8599999999997,null,null,null,null,null,null,null,null,null,null,null,null,"BRFQMT PC",4.2380000000000004,5390.52,null,"BRFQMT PC",4.1900000000000004,5177.1099999999997,null,"BRFQMT PC",4.452,5141.1000000000004]
["Total Possible Prod. From SendOut",5421.189042,5507.1345080000001,5419.7423799999997,5165.7660500000002,5858.9193859999996,5526.2639749999998,5586.3395369999998,5476.2771210000001,4690.3276290000003,5287.8032940000003,5036.8710460000002,5127.7534290000003,{"$f":"SUM(B125:M125)","v":64104.387396999999},null,null,null,"BRFQMT D24",2.0259999999999998,5334.56,null,"BRFQMT D24",1.1990000000000001,5132.2,null,"BRFQMT PC",7.0940000000000003,4998.13,null,null,null,null,null,null,null,null,null,"BRFW D24",68.076999999999998,4638.26,null,"BRFW D24",71.415000000000006,4789.8500000000004,null,"BRFW D24",61.314999999999998,5098.37,null,null,null,null,null,null,null,null,null,null,"BRFW D24",67.218000000000004,5641.26,null,"BRFW PC",9.4920000000000009,5586.76,null,"BRFW D24",52.557000000000002,4967.8599999999997,null,null,null,null,null,null,null,null,null,null,null,null,"BRFW D24",57.48,5390.52,null,"BRFW D24",57.978000000000002,5177.1099999999997,null,"BRFW D24",60.511000000000003,5141.1000000000004]
[1000,null,null,null,null,null,null,null,null,null,null,null,null,null,null,null,null,"BRFQMT PC",6.5490000000000004,5334.56,null,"BRFQMT PC",6.742,5132.2,null,"BRFW D24",70.355000000000004,4998.13,null,null,null,null,null,null,null,null,null,"BRFW PC",10.526,4638.26,null,"BRFW PC",10.788,4789.8500000000004,null,"BRFW PC",9.83,5098.37,null,null,null,null,null,null,null,null,null,null,"BRFW PC",9.6509999999999998,5641.26,null,"BRUFF MT",7.9710000000000001,5586.76,null,"BRFW PC",8.1159999999999997,4967.8599999999997,null,null,null,null,null,null,null,null,null,null,null,null,"BRFW PC",8.9979999999999993,5390.52,null,"BRFW PC",11.069000000000001,5177.1099999999997,null,"BRFW PC",10.920999999999999,5141.1000000000004]
["Shut-In per Month/dth",{"$f":"(B125-B119)*$A$126","v":184608.01827711292},189366.66785298166,187993.28660154788,180603.06000362651,185268.41099616105,165299.98095146404,750.21354639466153,744.0191656432944,646.80540566860145,737.79027608088654,711.06423514720518,728.5185872715374,{"$f":"SUM(B127:M127)","v":1097457.8358990999},null,null,null,"BRFW D24",63.576999999999998,5334.56,null,"BRFW D24",71.722999999999999,5132.2,null,"BRFW PC",11.536,4998.13,null,null,null,null,null,null,null,null,null,"BRUFF MT",8.8520000000000003,4638.26,null,"BRUFF MT",8.5609999999999999,4789.8500000000004,null,"BRUFF MT",8.5640000000000001,5098.37,null,null,null,null,null,null,null,null,null,null,"BRUFF MT",8.3680000000000003,5641.26,null,"CBFR D24",19.646000000000001,5586.76,null,"BRUFF MT",8.3219999999999992,4967.8599999999997,null,null,null,null,null,null,null,null,null,null,null,null,"BRUFF MT",8.7170000000000005,5390.52,null,"BRUFF MT",7.7229999999999999,5177.1099999999997,null,"BRUFF MT",8.218,5141.1000000000004]
["Shut-In per Day/dth",{"$f":"B127/B120","v":6153.6006092370972},{"$f":"C127/C120","v":6108.6021888058594},6064.299567791867,6020.1020001208835,5976.4003547148723,5509.9993650488013,24.200436980472954,24.000618246557885,23.100193059592907,23.799686325189889,23.702141171573505,23.500599589404434,null,null,null,null,"BRFW PC",10.183999999999999,5334.56,null,"BRFW PC",11.794,5132.2,null,"BRUFF MT",8.8819999999999997,4998.13,null,null,null,null,null,null,null,null,null,"CBFR PC",55.5,4638.26,null,"CBFR D24",2.1000000000000001E-2,4789.8500000000004,null,"CBFR D24",27.673999999999999,5098.37,null,null,null,null,null,null,null,null,null,null,"CBFR D24",13.047000000000001,5641.26,null,"CBFR PC",60.341000000000001,5586.76,null,"CBFR D24",17.951000000000001,4967.8599999999997,null,null,null,null,null,null,null,null,null,null,null,null,"CBFR D24",19.196000000000002,5390.52,null,"CBFR D24",17.981999999999999,5177.1099999999997,null,"CBFR D24",11.255000000000001,5141.1000000000004]
["Total New Drill",{"$f":"SUM(B90:B93,B107:B110)","v":0},0,0,0,599.45631408691406,510.0059814453125,474.25349426269531,433.72100830078125,350.03079986572266,374.81790924072266,341.16000366210937,333.5010986328125,{"$f":"SUM(B129:M129)","v":3416.9466094970703},null,null,null,"BRUFF MT",9.1229999999999993,5334.56,null,"BRUFF MT",9.6470000000000002,5132.2,null,"CBFR PC",61.664999999999999,4998.13,null,null,null,null,null,null,null,null,null,"CCRUNIT 2D8",101.05500000000001,4638.26,null,"CBFR PC",67.191000000000003,4789.8500000000004,null,"CBFR PC",58.116,5098.37,null,null,null,null,null,null,null,null,null,null,"CBFR PC",57.929000000000002,5641.26,null,"CCRUNIT 2D8",89.218000000000004,5586.76,null,"CBFR PC",56.548000000000002,4967.8599999999997,null,null,null,null,null,null,null,null,null,null,null,null,"CBFR PC",61.235999999999997,5390.52,null,"CBFR PC",59.396000000000001,5177.1099999999997,null,"CBFR PC",37.701000000000001,5141.1000000000004]
[null,null,null,null,null,null,null,null,null,null,null,null,null,null,null,null,null,"CBFR D24",12.064,5334.56,null,"CBFR D24",4.681,5132.2,null,"CCRUNIT 2D8",91.213999999999999,4998.13,null,null,null,null,null,null,null,null,null,"CCRUNIT 2E",262.00799999999998,4638.26,null,"CCRUNIT 2D8",98.412000000000006,4789.8500000000004,null,"CCRUNIT 2D8",95.171999999999997,5098.37,null,null,null,null,null,null,null,null,null,null,"CCRUNIT 2D8",91.364000000000004,5641.26,null,"CCRUNIT 2E",250.46299999999999,5586.76,null,"CCRUNIT 2D8",76.959000000000003,4967.8599999999997,null,null,null,null,null,null,null,null,null,null,null,null,"CCRUNIT 2D8",88.751999999999995,5390.52,null,"CCRUNIT 2D8",83.731999999999999,5177.1099999999997,null,"CCRUNIT 2D8",83.998999999999995,5141.1000000000004]
[null,null,null,null,null,null,null,null,null,null,null,null,null,null,null,"Add into CCRUNIT 2E",null,"CBFR PC",59.744,5334.56,null,"CBFR PC",62.122999999999998,5132.2,null,"CCRUNIT 2E",278.27699999999999,4998.13,null,null,null,null,null,null,null,null,null,"CCRUNIT2EMT",26.806000000000001,4638.26,null,"CCRUNIT 2E",256.33300000000003,4789.8500000000004,null,"CCRUNIT 2E",253.88800000000001,5098.37,null,null,null,null,null,null,null,null,null,null,"CCRUNIT 2E",239.89599999999999,5641.26,null,"CCRUNIT2EMT",25.071000000000002,5586.76,null,"CCRUNIT 2E",235.64599999999999,4967.8599999999997,null,null,null,null,null,null,null,null,null,null,null,null,"CCRUNIT 2E",264.22500000000002,5390.52,null,"CCRUNIT 2E",254.24700000000001,5177.1099999999997,null,"CCRUNIT 2E",254.286,5141.1000000000004]
[null,81.638999938964844,81.464897155761719,78.86090087890625,74.027999877929688,74.33489990234375,70.011001586914063,70.506401062011719,68.801399230957031,58.612400054931641,65.720001220703125,62.247001647949219,63.004398345947266,null,null,null,null,"CCRUNIT 2D8",95.177999999999997,5334.56,null,"CCRUNIT 2D8",94.546000000000006,5132.2,null,"CCRUNIT2EMT",27.247,4998.13,null,null,null,null,null,null,null,null,null,"CCRUNIT D24",461.125,4638.26,null,"CCRUNIT2EMT",26.145,4789.8500000000004,null,"CCRUNIT2EMT",27.111999999999998,5098.37,null,null,null,null,null,null,null,null,null,null,"CCRUNIT2EMT",23.841999999999999,5641.26,null,"CCRUNIT D24",464.32799999999997,5586.76,null,"CCRUNIT2EMT",23.443000000000001,4967.8599999999997,null,null,null,null,null,null,null,null,null,null,null,null,"CCRUNIT2EMT",27.193000000000001,5390.52,null,"CCRUNIT2EMT",26.042999999999999,5177.1099999999997,null,"CCRUNIT2EMT",26.891999999999999,5141.1000000000004]
[null,18.61199951171875,18.978200912475586,18.761199951171875,17.972999572753906,18.060600280761719,16.707000732421875,16.547800064086914,15.899900436401367,13.350399971008301,14.765299797058105,13.805999755859375,13.804300308227539,null,null,null,null,"CCRUNIT 2E",262.572,5334.56,null,"CCRUNIT 2E",277.73700000000002,5132.2,null,"CCRUNIT D24",487.875,4998.13,null,null,null,null,null,null,null,null,null,"CCRUNIT D8",213.767,4638.26,null,"CCRUNIT D24",444.63600000000002,4789.8500000000004,null,"CCRUNIT D24",443.24799999999999,5098.37,null,null,null,null,null,null,null,null,null,null,"CCRUNIT D24",441.75099999999998,5641.26,null,"CCRUNIT D8",198.98,5586.76,null,"CCRUNIT D24",439.608,4967.8599999999997,null,null,null,null,null,null,null,null,null,null,null,null,"CCRUNIT D24",469.24900000000002,5390.52,null,"CCRUNIT D24",449.733,5177.1099999999997,null,"CCRUNIT D24",470.87700000000001,5141.1000000000004]
[null,100.25099945068359,100.4430980682373,97.622100830078125,92.000999450683594,92.395500183105469,86.718002319335937,87.054201126098633,84.701299667358398,71.962800025939941,80.48530101776123,76.053001403808594,76.808698654174805,null,null,null,null,"CCRUNIT2EMT",23.314,5334.56,null,"CCRUNIT2EMT",26.321999999999999,5132.2,null,"CCRUNIT D8",254.27699999999999,4998.13,null,null,null,null,null,null,null,null,null,"CCRUNIT MT",75.495000000000005,4638.26,null,"CCRUNIT D8",208.179,4789.8500000000004,null,"CCRUNIT D8",202.017,5098.37,null,null,null,null,null,null,null,null,null,null,"CCRUNIT D8",203.297,5641.26,null,"CCRUNIT MT",66.353999999999999,5586.76,null,"CCRUNIT D8",172.56399999999999,4967.8599999999997,null,null,null,null,null,null,null,null,null,null,null,null,"CCRUNIT D8",189.273,5390.52,null,"CCRUNIT D8",178.60599999999999,5177.1099999999997,null,"CCRUNIT D8",187.45500000000001,5141.1000000000004]
[null,null,null,null,null,null,null,null,null,null,null,null,null,null,null,null,null,"CCRUNIT D24",457.37299999999999,5334.56,null,"CCRUNIT D24",481.66699999999997,5132.2,null,"CCRUNIT MT",77.67,4998.13,null,null,null,null,null,null,null,null,null,"CCRUNIT PC",48.207000000000001,4638.26,null,"CCRUNIT MT",72.771000000000001,4789.8500000000004,null,"CCRUNIT MT",67.718999999999994,5098.37,null,null,null,null,null,null,null,null,null,null,"CCRUNIT MT",69.597999999999999,5641.26,null,"CCRUNIT PC",46.356999999999999,5586.76,null,"CCRUNIT MT",59.048999999999999,4967.8599999999997,null,null,null,null,null,null,null,null,null,null,null,null,"CCRUNIT MT",66.491,5390.52,null,"CCRUNIT MT",64.317999999999998,5177.1099999999997,null,"CCRUNIT MT",64.408000000000001,5141.1000000000004]
[null,null,null,null,null,null,null,null,null,null,null,null,"WE are now broken out between wexpro one and 2 based on y's ",null,null,null,null,"CCRUNIT D8",252.393,5334.56,null,"CCRUNIT D8",267.97500000000002,5132.2,null,"CCRUNIT PC",47.936,4998.13,null,null,null,null,null,null,null,null,null,"CCRUNITMT PC",15.943,4638.26,null,"CCRUNIT PC",45.945999999999998,4789.8500000000004,null,"CCRUNIT PC",47.795999999999999,5098.37,null,null,null,null,null,null,null,null,null,null,"CCRUNIT PC",44.122,5641.26,null,"CCRUNITMT PC",14.766,5586.76,null,"CCRUNIT PC",40.671999999999997,4967.8599999999997,null,null,null,null,null,null,null,null,null,null,null,null,"CCRUNIT PC",46.197000000000003,5390.52,null,"CCRUNIT PC",46.552,5177.1099999999997,null,"CCRUNIT PC",49.463000000000001,5141.1000000000004]
[null,null,null,null,null,null,null,null,null,null,null,null,"Divide CCRUNIT MT Between Legacy and Wexpro II",null,null,null,null,"CCRUNIT MT",75.728999999999999,5334.56,null,"CCRUNIT MT",79.653000000000006,5132.2,null,"CCRUNITMT PC",16.350999999999999,4998.13,null,null,null,null,null,null,null,null,null,"CCRUNITMTD24",39.768000000000001,4638.26,null,"CCRUNITMT PC",14.006,4789.8500000000004,null,"CCRUNITMT PC",15.621,5098.37,null,null,null,null,null,null,null,null,null,null,"CCRUNITMT PC",13.731999999999999,5641.26,null,"CCRUNITMTD24",39.786999999999999,5586.76,null,"CCRUNITMT PC",14.263999999999999,4967.8599999999997,null,null,null,null,null,null,null,null,null,null,null,null,"CCRUNITMT PC",15.891,5390.52,null,"CCRUNITMT PC",14.978999999999999,5177.1099999999997,null,"CCRUNITMT PC",16.652999999999999,5141.1000000000004]
[null,null,null,null,null,null,null,null,null,null,null,"Month","Legacy","Wexpro II","% Legacy","% Wexpro II",null,"CCRUNIT PC",49.076999999999998,5334.56,null,"CCRUNIT PC",51.610999999999997,5132.2,null,"CCRUNITMTD24",40.298000000000002,4998.13,null,null,null,null,null,null,null,null,null,"CCOPA 2E",2.88,4638.26,null,"CCRUNITMTD24",40.331000000000003,4789.8500000000004,null,"CCRUNITMTD24",40.734000000000002,5098.37,null,null,null,null,null,null,null,null,null,null,"CCRUNITMTD24",38.15,5641.26,null,"CCOPA 2E",2.8460000000000001,5586.76,null,"CCRUNITMTD24",36.747999999999998,4967.8599999999997,null,null,null,null,null,null,null,null,null,null,null,null,"CCRUNITMTD24",40.619,5390.52,null,"CCRUNITMTD24",39.152000000000001,5177.1099999999997,null,"CCRUNITMTD24",41.865000000000002,5141.1000000000004]
[null,null,null,null,null,null,null,null,null,null,null,"June",{"$f":"B84","v":52.4010009765625},{"$f":"B106","v":21.791999816894531},{"$f":"M139/SUM(M139:N139)","v":0.7062795737624844},{"$f":"N139/SUM(M139:N139)","v":0.2937204262375156},null,"CCRUNITMT PC",13.840999999999999,5334.56,null,"CCRUNITMT PC",14.451000000000001,5132.2,null,"CCOPA 2E",3.5230000000000001,4998.13,null,null,null,null,null,null,null,null,null,"CHBT MT",14.737,4638.26,null,"CCOPA 2E",5.5250000000000004,4789.8500000000004,null,"CCOPA 2E",3.6579999999999999,5098.37,null,null,null,null,null,null,null,null,null,null,"CCOPA 2E",2.78,5641.26,null,"CHBT MT",14.531000000000001,5586.76,null,"CCOPA 2E",2.8820000000000001,4967.8599999999997,null,null,null,null,null,null,null,null,null,null,null,null,"CCOPA 2E",3.359,5390.52,null,"CCOPA 2E",3.5710000000000002,5177.1099999999997,null,"CCOPA 2E",3.714,5141.1000000000004]
[null,null,null,null,null,null,null,null,null,null,null,"July",{"$f":"C84","v":53.013099670410156},{"$f":"C106","v":22.044099807739258},0.70630266035762879,{"$f":"N140/SUM(M140:N140)","v":0.29369733964237121},null,"CCRUNITMTD24",38.790999999999997,5334.56,null,"CCRUNITMTD24",40.24,5132.2,null,"CHBT MT",16.21,4998.13,null,null,null,null,null,null,null,null,null,"CHBTBUFF D24",0.86299999999999999,4638.26,null,"CHBT MT",15.209,4789.8500000000004,null,"CHBT MT",14.087,5098.37,null,null,null,null,null,null,null,null,null,null,"CHBT MT",14.4,5641.26,null,"CHBTBUFF D24",0.89,5586.76,null,"CHBT MT",13.089,4967.8599999999997,null,null,null,null,null,null,null,null,null,null,null,null,"CHBT MT",14.827999999999999,5390.52,null,"CHBT MT",14.348000000000001,5177.1099999999997,null,"CHBT MT",14.928000000000001,5141.1000000000004]
[null,null,null,null,null,null,null,null,null,null,null,"Aug",{"$f":"D84","v":51.937400817871094},{"$f":"D106","v":21.597700119018555},0.70629400321957203,0.29370599678042791,null,"CCOPA 2E",4.4429999999999996,5334.56,null,"CCOPA 2E",4.1269999999999998,5132.2,null,"CHBTBUFF D24",0.98299999999999998,4998.13,null,null,null,null,null,null,null,null,null,"CHBTC1 MT PC",20.82,4638.26,null,"CHBTBUFF D24",1.024,4789.8500000000004,null,"CHBTBUFF D24",0.81699999999999995,5098.37,null,null,null,null,null,null,null,null,null,null,"CHBTBUFF D24",0.89200000000000002,5641.26,null,"CHBTC1 MT PC",22.693000000000001,5586.76,null,"CHBTBUFF D24",0.72099999999999997,4967.8599999999997,null,null,null,null,null,null,null,null,null,null,null,null,"CHBTBUFF D24",0.77700000000000002,5390.52,null,"CHBTBUFF D24",0.82299999999999995,5177.1099999999997,null,"CHBTBUFF D24",0.93500000000000005,5141.1000000000004]
[null,null,null,null,null,null,null,null,null,null,null,"Sept",{"$f":"E84","v":49.275001525878906},{"$f":"E106","v":20.489999771118164},0.70629972923113638,0.29370027076886368,null,"CHBT MT",15.358000000000001,5334.56,null,"CHBT MT",15.189,5132.2,null,"CHBTC1 MT PC",25.3,4998.13,null,null,null,null,null,null,null,null,null,"CHBTCAT1 PC",30.81,4638.26,null,"CHBTC1 MT PC",22.003,4789.8500000000004,null,"CHBTC1 MT PC",20.712,5098.37,null,null,null,null,null,null,null,null,null,null,"CHBTC1 MT PC",23.457999999999998,5641.26,null,"CHBTCAT1 PC",40.917999999999999,5586.76,null,"CHBTC1 MT PC",19.571999999999999,4967.8599999999997,null,null,null,null,null,null,null,null,null,null,null,null,"CHBTC1 MT PC",21.739000000000001,5390.52,null,"CHBTC1 MT PC",20.155000000000001,5177.1099999999997,null,"CHBTC1 MT PC",19.84,5141.1000000000004]
[null,null,null,null,null,null,null,null,null,null,null,"Oct",{"$f":"F84","v":49.944099426269531},{"$f":"F106","v":20.770000457763672},0.70628204994724952,0.29371795005275048,null,"CHBTBUFF D24",0.83399999999999996,5334.56,null,"CHBTBUFF D24",0.747,5132.2,null,"CHBTCAT1 PC",31.399000000000001,4998.13,null,null,null,null,null,null,null,null,null,"CHBTCAT2 D24",99.700999999999993,4638.26,null,"CHBTCAT1 PC",31.559000000000001,4789.8500000000004,null,"CHBTCAT1 PC",40.976999999999997,5098.37,null,null,null,null,null,null,null,null,null,null,"CHBTCAT1 PC",41.235999999999997,5641.26,null,"CHBTCAT2 D24",92.384,5586.76,null,"CHBTCAT1 PC",41.624000000000002,4967.8599999999997,null,null,null,null,null,null,null,null,null,null,null,null,"CHBTCAT1 PC",35.674999999999997,5390.52,null,"CHBTCAT1 PC",34.963000000000001,5177.1099999999997,null,"CHBTCAT1 PC",37.314,5141.1000000000004]
[null,null,null,null,null,null,null,null,null,null,null,"Nov",{"$f":"G84","v":47.436000823974609},{"$f":"G106","v":19.725000381469727},0.70630276458906127,0.29369723541093873,null,"CHBTC1 MT PC",19.571999999999999,5334.56,null,"CHBTC1 MT PC",13.359,5132.2,null,"CHBTCAT2 D24",108.02500000000001,4998.13,null,null,null,null,null,null,null,null,null,"CHBTCAT2 PC",2.2650000000000001,4638.26,null,"CHBTCAT2 D24",102.73,4789.8500000000004,null,"CHBTCAT2 D24",95.924000000000007,5098.37,null,null,null,null,null,null,null,null,null,null,"CHBTCAT2 D24",96.379000000000005,5641.26,null,"CHBTCAT2 PC",1.7769999999999999,5586.76,null,"CHBTCAT2 D24",83.762,4967.8599999999997,null,null,null,null,null,null,null,null,null,null,null,null,"CHBTCAT2 D24",99.221000000000004,5390.52,null,"CHBTCAT2 D24",93.825999999999993,5177.1099999999997,null,"CHBTCAT2 D24",92.394000000000005,5141.1000000000004]
[null,null,null,null,null,null,null,null,null,null,null,"Dec",{"$f":"H84","v":48.133701324462891},{"$f":"H106","v":20.016700744628906},0.7062863880929755,{"$f":"N145/SUM(M145:N145)","v":0.2937136119070245},null,"CHBTCAT1 PC",36.561999999999998,5334.56,null,"CHBTCAT1 PC",41.835999999999999,5132.2,null,"CHBTCAT2 PC",2.4350000000000001,4998.13,null,null,null,null,null,null,null,null,null,"CHBTCAT3 D24",155.05500000000001,4638.26,null,"CHBTCAT2 PC",2.073,4789.8500000000004,null,"CHBTCAT2 PC",1.9159999999999999,5098.37,null,null,null,null,null,null,null,null,null,null,"CHBTCAT2 PC",1.7589999999999999,5641.26,null,"CHBTCAT3 D24",147.05099999999999,5586.76,null,"CHBTCAT2 PC",1.6080000000000001,4967.8599999999997,null,null,null,null,null,null,null,null,null,null,null,null,"CHBTCAT2 PC",1.9079999999999999,5390.52,null,"CHBTCAT2 PC",1.835,5177.1099999999997,null,"CHBTCAT2 PC",1.97,5141.1000000000004]
[null,null,null,null,null,null,null,null,null,null,null,"Jan",{"$f":"I84","v":47.290500640869141},{"$f":"I106","v":19.663299560546875},0.70631540702104889,0.29368459297895105,null,"CHBTCAT2 D24",78.819999999999993,5334.56,null,"CHBTCAT2 D24",92.632999999999996,5132.2,null,"CHBTCAT3 D24",162.03700000000001,4998.13,null,null,null,null,null,null,null,null,null,"DRY PINY MT",4.4189999999999996,4638.26,null,"CHBTCAT3 D24",158.53899999999999,4789.8500000000004,null,"CHBTCAT3 D24",151.68299999999999,5098.37,null,null,null,null,null,null,null,null,null,null,"CHBTCAT3 D24",154.91999999999999,5641.26,null,"DRY PINY MT",4.0960000000000001,5586.76,null,"CHBTCAT3 D24",139.92099999999999,4967.8599999999997,null,null,null,null,null,null,null,null,null,null,null,null,"CHBTCAT3 D24",160.71299999999999,5390.52,null,"CHBTCAT3 D24",150.518,5177.1099999999997,null,"CHBTCAT3 D24",154.84299999999999,5141.1000000000004]
[null,null,null,null,null,null,null,null,null,null,null,"Feb",{"$f":"J84","v":40.535598754882812},{"$f":"J106","v":16.856000900268555},0.70629846525360629,0.29370153474639366,null,"CHBTCAT2 PC",2.0409999999999999,5334.56,null,"CHBTCAT2 PC",2.363,5132.2,null,"DRY PINY MT",4.3049999999999997,4998.13,null,null,null,null,null,null,null,null,null,"DRYPINY6 D24",0.74199999999999999,4638.26,null,"DRY PINY MT",4.4859999999999998,4789.8500000000004,null,"DRY PINY MT",4.3550000000000004,5098.37,null,null,null,null,null,null,null,null,null,null,"DRY PINY MT",4.5119999999999996,5641.26,null,"DRYPINY6 D24",0.82199999999999995,5586.76,null,"DRY PINY MT",3.2050000000000001,4967.8599999999997,null,null,null,null,null,null,null,null,null,null,null,null,"DRY PINY MT",4.2300000000000004,5390.52,null,"DRY PINY MT",4.2770000000000001,5177.1099999999997,null,"DRY PINY MT",4.101,5141.1000000000004]
[null,null,null,null,null,null,null,null,null,null,null,"Mar",{"$f":"K84","v":45.703300476074219},{"$f":"K106","v":19.006099700927734},{"$f":"M148/SUM(M148:N148)","v":0.70628533645900493},0.29371466354099507,null,"CHBTCAT3 D24",146.81399999999999,5334.56,null,"CHBTCAT3 D24",152.33600000000001,5132.2,null,"DRYPINY6 D24",0.82699999999999996,4998.13,null,null,null,null,null,null,null,null,null,"DRYPINY6 PC",1.1080000000000001,4638.26,null,"DRYPINY6 D24",0.78800000000000003,4789.8500000000004,null,"DRYPINY6 D24",0.84699999999999998,5098.37,null,null,null,null,null,null,null,null,null,null,"DRYPINY6 D24",0.82599999999999996,5641.26,null,"DRYPINY6 PC",0.93400000000000005,5586.76,null,"DRYPINY6 D24",0.71199999999999997,4967.8599999999997,null,null,null,null,null,null,null,null,null,null,null,null,"DRYPINY6 D24",0.69499999999999995,5390.52,null,"DRYPINY6 D24",0.32600000000000001,5177.1099999999997,null,"DRYPINY6 D24",0.85699999999999998,5141.1000000000004]
[null,null,null,null,null,null,null,null,null,null,null,"Apr",{"$f":"L84","v":43.508998870849609},{"$f":"L106","v":18.093000411987305},{"$f":"M149/SUM(M149:N149)","v":0.70629199339917792},0.29370800660082214,null,"DRY PINY MT",4.242,5334.56,null,"DRY PINY MT",4.202,5132.2,null,"DRYPINY6 PC",1.137,4998.13,null,null,null,null,null,null,null,null,null,"DRYPINYU D24",1.837,4638.26,null,"DRYPINY6 PC",1.173,4789.8500000000004,null,"DRYPINY6 PC",0.98699999999999999,5098.37,null,null,null,null,null,null,null,null,null,null,"DRYPINY6 PC",1.056,5641.26,null,"DRYPINYU D24",1.8169999999999999,5586.76,null,"DRYPINY6 PC",0.71,4967.8599999999997,null,null,null,null,null,null,null,null,null,null,null,null,"DRYPINY6 PC",0.90700000000000003,5390.52,null,"DRYPINY6 PC",0.94899999999999995,5177.1099999999997,null,"DRYPINY6 PC",0.98599999999999999,5141.1000000000004]
[null,null,null,null,null,null,null,null,null,null,null,"May",{"$f":"M84","v":44.246299743652344},{"$f":"M106","v":18.398500442504883},0.70630442769661117,0.29369557230338877,null,"DRYPINY6 D24",0.80600000000000005,5334.56,null,"DRYPINY6 D24",0.72899999999999998,5132.2,null,"DRYPINYU D24",1.9510000000000001,4998.13,null,null,null,null,null,null,null,null,null,"DRYPINYU PC",9.8759999999999994,4638.26,null,"DRYPINYU D24",1.899,4789.8500000000004,null,"DRYPINYU D24",1.8109999999999999,5098.37,null,null,null,null,null,null,null,null,null,null,"DRYPINYU D24",1.887,5641.26,null,"DRYPINYU PC",9.8810000000000002,5586.76,null,"DRYPINYU D24",1.601,4967.8599999999997,null,null,null,null,null,null,null,null,null,null,null,null,"DRYPINYU D24",1.7549999999999999,5390.52,null,"DRYPINYU D24",1.7370000000000001,5177.1099999999997,null,"DRYPINYU D24",1.7230000000000001,5141.1000000000004]
[null,null,null,null,null,null,null,null,null,null,null,null,null,null,null,null,null,"DRYPINY6 PC",1.1339999999999999,5334.56,null,"DRYPINY6 PC",1.1080000000000001,5132.2,null,"DRYPINYU PC",9.8290000000000006,4998.13,null,null,null,null,null,null,null,null,null,"FOGARTY PC",0.82799999999999996,4638.26,null,"DRYPINYU PC",9.3680000000000003,4789.8500000000004,null,"DRYPINYU PC",9.9450000000000003,5098.37,null,null,null,null,null,null,null,null,null,null,"DRYPINYU PC",10.01,5641.26,null,"HWA DEEP D24",0.39800000000000002,5586.76,null,"DRYPINYU PC",7.835,4967.8599999999997,null,null,null,null,null,null,null,null,null,null,null,null,"DRYPINYU PC",9.0820000000000007,5390.52,null,"DRYPINYU PC",9.9589999999999996,5177.1099999999997,null,"DRYPINYU PC",10.561999999999999,5141.1000000000004]
[null,null,null,null,null,null,null,null,null,null,null,null,null,null,null,null,null,"DRYPINYU D24",1.911,5334.56,null,"DRYPINYU D24",1.9670000000000001,5132.2,null,"FOGARTY PC",1.1080000000000001,4998.13,null,null,null,null,null,null,null,null,null,"HWA DEEP D24",2.8000000000000001E-2,4638.26,null,"FOGARTY PC",0.90400000000000003,4789.8500000000004,null,"HWA DEEP D24",0.46,5098.37,null,null,null,null,null,null,null,null,null,null,"HWA DEEP D24",0.37,5641.26,null,"HWA DEEP PC",0.113,5586.76,null,"HWA DEEP D24",0.33400000000000002,4967.8599999999997,null,null,null,null,null,null,null,null,null,null,null,null,"HWA DEEP D24",0.38200000000000001,5390.52,null,"HWA DEEP D24",0.36,5177.1099999999997,null,"FOGARTY PC",0.88400000000000001,5141.1000000000004]
[null,null,null,null,null,null,null,null,null,null,null,null,null,null,null,null,null,"DRYPINYU PC",9.202,5334.56,null,"DRYPINYU PC",10.166,5132.2,null,"HWA MT",3.26,4998.13,null,null,null,null,null,null,null,null,null,"HWA DEEP PC",0.108,4638.26,null,"HWA DEEP D24",0.32400000000000001,4789.8500000000004,null,"HWA DEEP PC",0.3,5098.37,null,null,null,null,null,null,null,null,null,null,"HWA DEEP PC",0.43,5641.26,null,"HWA MT",1.7869999999999999,5586.76,null,"HWA DEEP PC",9.5000000000000001E-2,4967.8599999999997,null,null,null,null,null,null,null,null,null,null,null,null,"HWA DEEP PC",0.222,5390.52,null,"HWA DEEP PC",0.14000000000000001,5177.1099999999997,null,"HWA DEEP D24",0.35199999999999998,5141.1000000000004]
[null,null,null,null,null,null,null,null,null,null,null,null,null,null,null,null,null,"HWA DEEP D24",0.46200000000000002,5334.56,null,"FOGARTY PC",1.2490000000000001,5132.2,null,"HWPL1&3MTD24",8.4930000000000003,4998.13,null,null,null,null,null,null,null,null,null,"HWA MT",3.0579999999999998,4638.26,null,"HWA DEEP PC",0.26800000000000002,4789.8500000000004,null,"HWA MT",2.2799999999999998,5098.37,null,null,null,null,null,null,null,null,null,null,"HWA MT",2.76,5641.26,null,"HWADEEPMTD24",17.829000000000001,5586.76,null,"HWA MT",1.7869999999999999,4967.8599999999997,null,null,null,null,null,null,null,null,null,null,null,null,"HWA MT",2.7189999999999999,5390.52,null,"HWA MT",1.226,5177.1099999999997,null,"HWA DEEP PC",0.21199999999999999,5141.1000000000004]
[null,null,null,null,null,null,null,null,null,null,null,null,null,null,null,null,null,"HWA DEEP PC",0.19700000000000001,5334.56,null,"HWA DEEP D24",0.34399999999999997,5132.2,null,"HWPL1&3MTPC",6.1230000000000002,4998.13,null,null,null,null,null,null,null,null,null,"HWADEEPMTD24",1.3149999999999999,4638.26,null,"HWA MT",3.734,4789.8500000000004,null,"HWADEEPMTD24",15.898,5098.37,null,null,null,null,null,null,null,null,null,null,"HWADEEPMTD24",15.503,5641.26,null,"HWPL1&3MTD24",8.3179999999999996,5586.76,null,"HWADEEPMTD24",14.664999999999999,4967.8599999999997,null,null,null,null,null,null,null,null,null,null,null,null,"HWADEEPMTD24",16.963999999999999,5390.52,null,"HWADEEPMTD24",15.39,5177.1099999999997,null,"HWA MT",1.133,5141.1000000000004]
[null,null,null,null,null,null,null,null,null,null,null,null,null,null,null,null,null,"HWA MT",2.9089999999999998,5334.56,null,"HWA DEEP PC",0.13300000000000001,5132.2,null,"HWPLT1&3 D24",87.575000000000003,4998.13,null,null,null,null,null,null,null,null,null,"HWPL1&3MTD24",8.0820000000000007,4638.26,null,"HWADEEPMTD24",9.4559999999999995,4789.8500000000004,null,"HWPL1&3MTD24",7.74,5098.37,null,null,null,null,null,null,null,null,null,null,"HWPL1&3MTD24",8.8339999999999996,5641.26,null,"HWPL1&3MTPC",7.2430000000000003,5586.76,null,"HWPL1&3MTD24",7.0339999999999998,4967.8599999999997,null,null,null,null,null,null,null,null,null,null,null,null,"HWPL1&3MTD24",7.8140000000000001,5390.52,null,"HWPL1&3MTD24",7.6379999999999999,5177.1099999999997,null,"HWADEEPMTD24",16.297000000000001,5141.1000000000004]
[null,null,null,null,null,null,null,null,null,null,null,null,null,null,null,null,null,"HWADEEPMTD24",16.945,5334.56,null,"HWA MT",3.266,5132.2,null,"HWPLT1&3 PC",14.04,4998.13,null,null,null,null,null,null,null,null,null,"HWPL1&3MTPC",6.5679999999999996,4638.26,null,"HWPL1&3MTD24",8.2859999999999996,4789.8500000000004,null,"HWPL1&3MTPC",6.867,5098.37,null,null,null,null,null,null,null,null,null,null,"HWPL1&3MTPC",7.61,5641.26,null,"HWPLT1&3 D24",79.843999999999994,5586.76,null,"HWPL1&3MTPC",6.4649999999999999,4967.8599999999997,null,null,null,null,null,null,null,null,null,null,null,null,"HWPL1&3MTPC",6.9009999999999998,5390.52,null,"HWPL1&3MTPC",6.702,5177.1099999999997,null,"HWPL1&3MTD24",7.343,5141.1000000000004]
[null,null,null,null,null,null,null,null,null,null,null,null,null,null,null,null,null,"HWPL1&3MTD24",7.4690000000000003,5334.56,null,"HWADEEPMTD24",16.376000000000001,5132.2,null,"HWPLT2 D24",7.3689999999999998,4998.13,null,null,null,null,null,null,null,null,null,"HWPLT1&3 D24",77.638000000000005,4638.26,null,"HWPL1&3MTPC",7.2750000000000004,4789.8500000000004,null,"HWPLT1&3 D24",73.438000000000002,5098.37,null,null,null,null,null,null,null,null,null,null,"HWPLT1&3 D24",84.783000000000001,5641.26,null,"HWPLT1&3 PC",68.179000000000002,5586.76,null,"HWPLT1&3 D24",62.26,4967.8599999999997,null,null,null,null,null,null,null,null,null,null,null,null,"HWPLT1&3 D24",71.134,5390.52,null,"HWPLT1&3 D24",68.909000000000006,5177.1099999999997,null,"HWPL1&3MTPC",6.3490000000000002,5141.1000000000004]
[null,null,null,null,null,null,null,null,null,null,null,null,null,null,null,null,null,"HWPL1&3MTPC",4.4119999999999999,5334.56,null,"HWPL1&3MTD24",8.7739999999999991,5132.2,null,"HWPLT2 PC",0.98799999999999999,4998.13,null,null,null,null,null,null,null,null,null,"HWPLT1&3 PC",13.754,4638.26,null,"HWPLT1&3 D24",86.57,4789.8500000000004,null,"HWPLT1&3 PC",66.180999999999997,5098.37,null,null,null,null,null,null,null,null,null,null,"HWPLT1&3 PC",70.792000000000002,5641.26,null,"HWPLT2 D24",6.335,5586.76,null,"HWPLT1&3 PC",58.408999999999999,4967.8599999999997,null,null,null,null,null,null,null,null,null,null,null,null,"HWPLT1&3 PC",57.177999999999997,5390.52,null,"HWPLT1&3 PC",49.180999999999997,5177.1099999999997,null,"HWPLT1&3 D24",72.430000000000007,5141.1000000000004]
[null,null,null,null,null,null,null,null,null,null,null,null,null,null,null,null,null,"HWPLT1&3 D24",77.468999999999994,5334.56,null,"HWPL1&3MTPC",8.2100000000000009,5132.2,null,"HWPLT2MT D24",3.1970000000000001,4998.13,null,null,null,null,null,null,null,null,null,"HWPLT2 D24",5.7320000000000002,4638.26,null,"HWPLT1&3 PC",17.86,4789.8500000000004,null,"HWPLT2 D24",6.2789999999999999,5098.37,null,null,null,null,null,null,null,null,null,null,"HWPLT2 D24",6.7130000000000001,5641.26,null,"HWPLT2 PC",0.73099999999999998,5586.76,null,"HWPLT2 D24",5.6849999999999996,4967.8599999999997,null,null,null,null,null,null,null,null,null,null,null,null,"HWPLT2 D24",5.46,5390.52,null,"HWPLT2 D24",7.3109999999999999,5177.1099999999997,null,"HWPLT1&3 PC",59.79,5141.1000000000004]
[null,null,null,null,null,null,null,null,null,null,null,null,null,null,null,null,null,"HWPLT1&3 PC",56.234000000000002,5334.56,null,"HWPLT1&3 D24",88.022000000000006,5132.2,null,"ISLAND D24",46.34,4998.13,null,null,null,null,null,null,null,null,null,"HWPLT2 PC",1.427,4638.26,null,"HWPLT2 D24",6.6189999999999998,4789.8500000000004,null,"HWPLT2 PC",0.77100000000000002,5098.37,null,null,null,null,null,null,null,null,null,null,"HWPLT2 PC",2.2770000000000001,5641.26,null,"HWPLT2MT D24",2.7210000000000001,5586.76,null,"HWPLT2 PC",0.69199999999999995,4967.8599999999997,null,null,null,null,null,null,null,null,null,null,null,null,"HWPLT2 PC",0.84599999999999997,5390.52,null,"HWPLT2 PC",0.81100000000000005,5177.1099999999997,null,"HWPLT2 D24",9.3279999999999994,5141.1000000000004]
[null,null,null,null,null,null,null,null,null,null,null,null,null,null,null,null,null,"HWPLT2 D24",8.1669999999999998,5334.56,null,"HWPLT1&3 PC",25.878,5132.2,null,"ISLAND PC",0.60699999999999998,4998.13,null,null,null,null,null,null,null,null,null,"HWPLT2MT D24",4.3,4638.26,null,"HWPLT2 PC",1.383,4789.8500000000004,null,"HWPLT2MT D24",4.266,5098.37,null,null,null,null,null,null,null,null,null,null,"HWPLT2MT D24",4.0229999999999997,5641.26,null,"ISLAND D24",62.463999999999999,5586.76,null,"HWPLT2MT D24",1.655,4967.8599999999997,null,null,null,null,null,null,null,null,null,null,null,null,"HWPLT2MT D24",1.7090000000000001,5390.52,null,"HWPLT2MT D24",1.5469999999999999,5177.1099999999997,null,"HWPLT2 PC",0.85299999999999998,5141.1000000000004]
[null,null,null,null,null,null,null,null,null,null,null,null,null,null,null,null,null,"HWPLT2 PC",0.61699999999999999,5334.56,null,"HWPLT2 D24",8.3209999999999997,5132.2,null,"JNSNRDG D24",2.8969999999999998,4998.13,null,null,null,null,null,null,null,null,null,"ISLAND D24",42.093000000000004,4638.26,null,"HWPLT2MT D24",5.6909999999999998,4789.8500000000004,null,"ISLAND D24",59.625999999999998,5098.37,null,null,null,null,null,null,null,null,null,null,"ISLAND D24",62.51,5641.26,null,"ISLAND PC",0.64200000000000002,5586.76,null,"ISLAND D24",52.529000000000003,4967.8599999999997,null,null,null,null,null,null,null,null,null,null,null,null,"ISLAND D24",47.874000000000002,5390.52,null,"ISLAND D24",60.128,5177.1099999999997,null,"HWPLT2MT D24",1.5449999999999999,5141.1000000000004]
[null,null,null,null,null,null,null,null,null,null,null,null,null,null,null,null,null,"HWPLT2MT D24",3.0289999999999999,5334.56,null,"HWPLT2 PC",1.079,5132.2,null,"JNSNRDG PC",2.556,4998.13,null,null,null,null,null,null,null,null,null,"ISLAND PC",0.58299999999999996,4638.26,null,"ISLAND D24",53.607999999999997,4789.8500000000004,null,"ISLAND PC",0.72399999999999998,5098.37,null,null,null,null,null,null,null,null,null,null,"ISLAND PC",0.65900000000000003,5641.26,null,"JNSNRDG D24",0.29899999999999999,5586.76,null,"ISLAND PC",0.61099999999999999,4967.8599999999997,null,null,null,null,null,null,null,null,null,null,null,null,"ISLAND PC",0.58899999999999997,5390.52,null,"ISLAND PC",0.80400000000000005,5177.1099999999997,null,"ISLAND D24",52.344000000000001,5141.1000000000004]
[null,null,null,null,null,null,null,null,null,null,null,null,null,null,null,null,null,"ISLAND D24",48.96,5334.56,null,"HWPLT2MT D24",3.294,5132.2,null,"JRDG WFS D24",3.786,4998.13,null,null,null,null,null,null,null,null,null,"JNSNRDG D24",2.6179999999999999,4638.26,null,"ISLAND PC",0.73199999999999998,4789.8500000000004,null,"JNSNRDG D24",2.3370000000000002,5098.37,null,null,null,null,null,null,null,null,null,null,"JNSNRDG D24",2.0659999999999998,5641.26,null,"JNSNRDG PC",0.44500000000000001,5586.76,null,"KNY FLD D24",6.3780000000000001,4967.8599999999997,null,null,null,null,null,null,null,null,null,null,null,null,"KNY FLD D24",4.133,5390.52,null,"KNY FLD D24",4.0389999999999997,5177.1099999999997,null,"ISLAND PC",0.66200000000000003,5141.1000000000004]
[null,null,null,null,null,null,null,null,null,null,null,null,null,null,null,null,null,"ISLAND PC",0.57899999999999996,5334.56,null,"ISLAND D24",46.465000000000003,5132.2,null,"KNY FLD D24",8.4410000000000007,4998.13,null,null,null,null,null,null,null,null,null,"JNSNRDG PC",2.5990000000000002,4638.26,null,"JNSNRDG D24",2.72,4789.8500000000004,null,"JNSNRDG PC",2.1680000000000001,5098.37,null,null,null,null,null,null,null,null,null,null,"JNSNRDG PC",2.3130000000000002,5641.26,null,"JRDG WFS D24",2.008,5586.76,null,"KNY FLD D8",21.611000000000001,4967.8599999999997,null,null,null,null,null,null,null,null,null,null,null,null,"KNY FLD D8",24.576000000000001,5390.52,null,"KNY FLD D8",23.574000000000002,5177.1099999999997,null,"KNY FLD D24",3.931,5141.1000000000004]
[null,null,null,null,null,null,null,null,null,null,null,null,null,null,null,null,null,"JNSNRDG D24",5.5170000000000003,5334.56,null,"ISLAND PC",0.56000000000000005,5132.2,null,"KNY FLD D8",15.391,4998.13,null,null,null,null,null,null,null,null,null,"JRDG WFS D24",3.3340000000000001,4638.26,null,"JNSNRDG PC",2.5750000000000002,4789.8500000000004,null,"JRDG WFS D24",2.887,5098.37,null,null,null,null,null,null,null,null,null,null,"JRDG WFS D24",3.0350000000000001,5641.26,null,"KNY FLD D24",5.9089999999999998,5586.76,null,"KNY FLD PC",2.8090000000000002,4967.8599999999997,null,null,null,null,null,null,null,null,null,null,null,null,"KNY FLD PC",3.391,5390.52,null,"KNY FLD PC",2.387,5177.1099999999997,null,"KNY FLD D8",1.7649999999999999,5141.1000000000004]
[null,null,null,null,null,null,null,null,null,null,null,null,null,null,null,null,null,"JNSNRDG PC",4.0410000000000004,5334.56,null,"JNSNRDG D24",3.347,5132.2,null,"KNY FLD PC",1.8520000000000001,4998.13,null,null,null,null,null,null,null,null,null,"KNY FLD D24",2.0840000000000001,4638.26,null,"JRDG WFS D24",3.5070000000000001,4789.8500000000004,null,"KNY FLD D24",4.4329999999999998,5098.37,null,null,null,null,null,null,null,null,null,null,"KNY FLD D24",4.6539999999999999,5641.26,null,"KNY FLD D8",22.239000000000001,5586.76,null,"MESA D24",575.96500000000003,4967.8599999999997,null,null,null,null,null,null,null,null,null,null,null,null,"MESA D24",625.66999999999996,5390.52,null,"MESA D24",603.78200000000004,5177.1099999999997,null,"KNY FLD PC",4.1289999999999996,5141.1000000000004]
[null,null,null,null,null,null,null,null,null,null,null,null,null,null,null,null,null,"JRDG WFS D24",6.9589999999999996,5334.56,null,"JNSNRDG PC",2.9820000000000002,5132.2,null,"MESA D24",723.38099999999997,4998.13,null,null,null,null,null,null,null,null,null,"KNY FLD D8",21.88,4638.26,null,"KNY FLD D24",5.3650000000000002,4789.8500000000004,null,"KNY FLD D8",20.762,5098.37,null,null,null,null,null,null,null,null,null,null,"KNY FLD D8",20.277999999999999,5641.26,null,"KNY FLD PC",3.5259999999999998,5586.76,null,"MESA D8",311.12400000000002,4967.8599999999997,null,null,null,null,null,null,null,null,null,null,null,null,"MESA D8",344.87099999999998,5390.52,null,"MESA D8",302.87299999999999,5177.1099999999997,null,"MESA D24",607.17999999999995,5141.1000000000004]
[null,null,null,null,null,null,null,null,null,null,null,null,null,null,null,null,null,"KNY FLD D24",9.6820000000000004,5334.56,null,"JRDG WFS D24",4.4240000000000004,5132.2,null,"MESA D8",415.62700000000001,4998.13,null,null,null,null,null,null,null,null,null,"KNY FLD PC",3.33,4638.26,null,"KNY FLD D8",23.021999999999998,4789.8500000000004,null,"KNY FLD PC",3.06,5098.37,null,null,null,null,null,null,null,null,null,null,"KNY FLD PC",3.577,5641.26,null,"MESA D24",651.26499999999999,5586.76,null,"MOSU MT",0.38200000000000001,4967.8599999999997,null,null,null,null,null,null,null,null,null,null,null,null,"MOSU MT",0.378,5390.52,null,"MOSU MT",0.315,5177.1099999999997,null,"MESA D8",326.86099999999999,5141.1000000000004]
[null,null,null,null,null,null,null,null,null,null,null,null,null,null,null,null,null,"KNY FLD PC",4.3550000000000004,5334.56,null,"KNY FLD D24",7.4189999999999996,5132.2,null,"MOSU MT",0.51,4998.13,null,null,null,null,null,null,null,null,null,"MESA D24",684.52499999999998,4638.26,null,"KNY FLD PC",3.7559999999999998,4789.8500000000004,null,"MESA D24",655.601,5098.37,null,null,null,null,null,null,null,null,null,null,"MESA D24",668.24199999999996,5641.26,null,"MESA D8",359.74400000000003,5586.76,null,"MOSUMT D24",0.82299999999999995,4967.8599999999997,null,null,null,null,null,null,null,null,null,null,null,null,"MOSUMT D24",0.9,5390.52,null,"MOSUMT D24",0.94199999999999995,5177.1099999999997,null,"MOSU MT",0.27100000000000002,5141.1000000000004]
[null,null,null,null,null,null,null,null,null,null,null,null,null,null,null,null,null,"MESA D24",706.50699999999995,5334.56,null,"KNY FLD PC",8.6999999999999994E-2,5132.2,null,"MOSUMT D24",1.119,4998.13,null,null,null,null,null,null,null,null,null,"MESA D8",348.10399999999998,4638.26,null,"MESA D24",690.51599999999996,4789.8500000000004,null,"MESA D8",372.12,5098.37,null,null,null,null,null,null,null,null,null,null,"MESA D8",371.45100000000002,5641.26,null,"MOSU MT",0.52900000000000003,5586.76,null,"MOSUMT PC",6.3529999999999998,4967.8599999999997,null,null,null,null,null,null,null,null,null,null,null,null,"MOSUMT PC",8.4060000000000006,5390.52,null,"MOSUMT PC",7.0979999999999999,5177.1099999999997,null,"MOSUMT D24",0.88800000000000001,5141.1000000000004]
[null,null,null,null,null,null,null,null,null,null,null,null,null,null,null,null,null,"MESA D8",{"$f":"442.108","v":442.108},5334.56,null,"MESA D24",736.87699999999995,5132.2,null,"MOSUMT PC",9.2710000000000008,4998.13,null,null,null,null,null,null,null,null,null,"MOSU MT",0.53400000000000003,4638.26,null,"MESA D8",395.88799999999998,4789.8500000000004,null,"MOSU MT",0.83299999999999996,5098.37,null,null,null,null,null,null,null,null,null,null,"MOSU MT",0.90400000000000003,5641.26,null,"MOSUMT D24",1.286,5586.76,null,"PDW MT",176.053,4967.8599999999997,null,null,null,null,null,null,null,null,null,null,null,null,"PDW MT",187.21700000000001,5390.52,null,"PDW MT",184.68100000000001,5177.1099999999997,null,"MOSUMT PC",7.2110000000000003,5141.1000000000004]
[null,null,null,null,null,null,null,null,null,null,null,null,null,null,null,null,null,"MOSU MT",1.4999999999999999E-2,5334.56,null,"MESA D8",436.10300000000001,5132.2,null,"PDW MT",198.19200000000001,4998.13,null,null,null,null,null,null,null,null,null,"MOSUMT D24",1.583,4638.26,null,"MOSU MT",0.50900000000000001,4789.8500000000004,null,"MOSUMT D24",1.423,5098.37,null,null,null,null,null,null,null,null,null,null,"MOSUMT D24",1.3049999999999999,5641.26,null,"MOSUMT PC",6.8319999999999999,5586.76,null,"PDW1A1B D21",8.1000000000000003E-2,4967.8599999999997,null,null,null,null,null,null,null,null,null,null,null,null,"PDW1A1B D21",0.56799999999999995,5390.52,null,"PDW1A1B D21",0.93500000000000005,5177.1099999999997,null,"PDW MT",198.31299999999999,5141.1000000000004]
[null,null,null,null,null,null,null,null,null,null,null,null,null,null,null,null,null,"MOSUMT D24",0.68300000000000005,5334.56,null,"MOSU MT",0.36199999999999999,5132.2,null,"PDW1A1B D21",0.63,4998.13,null,null,null,null,null,null,null,null,null,"MOSUMT PC",7.9669999999999996,4638.26,null,"MOSUMT D24",2.6970000000000001,4789.8500000000004,null,"MOSUMT PC",6.6609999999999996,5098.37,null,null,null,null,null,null,null,null,null,null,"MOSUMT PC",7.319,5641.26,null,"PDW MT",179.40299999999999,5586.76,null,"PDW1A1B D24",0.21,4967.8599999999997,null,null,null,null,null,null,null,null,null,null,null,null,"PDW1A1B D24",0.61899999999999999,5390.52,null,"PDW1A1B D24",1.0980000000000001,5177.1099999999997,null,"PDW1A1B D21",1.1499999999999999,5141.1000000000004]
[null,null,null,null,null,null,null,null,null,null,null,null,null,null,null,null,null,"MOSUMT PC",7.4279999999999999,5334.56,null,"MOSUMT D24",1.149,5132.2,null,"PDW1A1B D24",0.19900000000000001,4998.13,null,null,null,null,null,null,null,null,null,"PDW MT",188.93299999999999,4638.26,null,"MOSUMT PC",8.3840000000000003,4789.8500000000004,null,"PDW MT",173.89699999999999,5098.37,null,null,null,null,null,null,null,null,null,null,"PDW MT",183.28800000000001,5641.26,null,"PDW1A1B D21",0.19400000000000001,5586.76,null,"PDW1AB MT PC",4.3929999999999998,4967.8599999999997,null,null,null,null,null,null,null,null,null,null,null,null,"PDW1AB MT PC",4.3280000000000003,5390.52,null,"PDW1AB MT PC",3.7610000000000001,5177.1099999999997,null,"PDW1A1B D24",0.873,5141.1000000000004]
[null,null,null,null,null,null,null,null,null,null,null,null,null,null,null,null,null,"PDW MT",187.392,5334.56,null,"MOSUMT PC",9.6989999999999998,5132.2,null,"PDW1AB MT PC",5.3460000000000001,4998.13,null,null,null,null,null,null,null,null,null,"PDW1A1B D21",0.60099999999999998,4638.26,null,"PDW MT",195.31100000000001,4789.8500000000004,null,"PDW1A1B D21",0.29699999999999999,5098.37,null,null,null,null,null,null,null,null,null,null,"PDW1A1B D21",0.23100000000000001,5641.26,null,"PDW1A1B D24",0.193,5586.76,null,"PDW1A1B PC",0.60799999999999998,4967.8599999999997,null,null,null,null,null,null,null,null,null,null,null,null,"PDW1A1B PC",0.26500000000000001,5390.52,null,"PDW1A1B PC",1.083,5177.1099999999997,null,"PDW1AB MT PC",5.1059999999999999,5141.1000000000004]
[null,null,null,null,null,null,null,null,null,null,null,null,null,null,null,null,null,"PDW1A1B D21",0.437,5334.56,null,"PDW MT",202.64699999999999,5132.2,null,"PDW1A1B PC",1.1879999999999999,4998.13,null,null,null,null,null,null,null,null,null,"PDW1A1B D24",0.17,4638.26,null,"PDW1A1B D21",0.496,4789.8500000000004,null,"PDW1A1B D24",0.16600000000000001,5098.37,null,null,null,null,null,null,null,null,null,null,"PDW1A1B D24",0.16300000000000001,5641.26,null,"PDW1AB MT PC",5.077,5586.76,null,"PDWCUT D24",0.60699999999999998,4967.8599999999997,null,null,null,null,null,null,null,null,null,null,null,null,"PDWCUT D24",1.1719999999999999,5390.52,null,"PDWCUT D24",1.389,5177.1099999999997,null,"PDW1A1B PC",1.0369999999999999,5141.1000000000004]
[null,null,null,null,null,null,null,null,null,null,null,null,null,null,null,null,null,"PDW1A1B D24",0.185,5334.56,null,"PDW1A1B D21",0.88600000000000001,5132.2,null,"PDWCUT PC",1.294,4998.13,null,null,null,null,null,null,null,null,null,"PDW1AB MT PC",4.0880000000000001,4638.26,null,"PDW1A1B D24",0.17599999999999999,4789.8500000000004,null,"PDW1AB MT PC",4.1449999999999996,5098.37,null,null,null,null,null,null,null,null,null,null,"PDW1AB MT PC",4.4050000000000002,5641.26,null,"PDW1A1B PC",0.40300000000000002,5586.76,null,"PDWCUT PC",0.36499999999999999,4967.8599999999997,null,null,null,null,null,null,null,null,null,null,null,null,"PDWCUT PC",0.20699999999999999,5390.52,null,"PDWCUT PC",0.96699999999999997,5177.1099999999997,null,"PDWCUT D24",1.2070000000000001,5141.1000000000004]
[null,null,null,null,null,null,null,null,null,null,null,null,null,null,null,null,null,"PDW1AB MT PC",4.7809999999999997,5334.56,null,"PDW1A1B D24",0.26700000000000002,5132.2,null,"PDWMT D24",18.399000000000001,4998.13,null,null,null,null,null,null,null,null,null,"PDW1A1B PC",1.1870000000000001,4638.26,null,"PDW1AB MT PC",4.7549999999999999,4789.8500000000004,null,"PDW1A1B PC",1.1279999999999999,5098.37,null,null,null,null,null,null,null,null,null,null,"PDW1A1B PC",1.288,5641.26,null,"PDWCUT D24",0.97799999999999998,5586.76,null,"PDWMT D24",17.716999999999999,4967.8599999999997,null,null,null,null,null,null,null,null,null,null,null,null,"PDWMT D24",18.82,5390.52,null,"PDWMT D24",17.254999999999999,5177.1099999999997,null,"PDWCUT PC",0.121,5141.1000000000004]
[null,null,null,null,null,null,null,null,null,null,null,null,null,null,null,null,null,"PDW1A1B PC",0.96199999999999997,5334.56,null,"PDW1AB MT PC",5.5709999999999997,5132.2,null,"PDWPLT2 D24",4.9139999999999997,4998.13,null,null,null,null,null,null,null,null,null,"PDWCUT PC",1.044,4638.26,null,"PDW1A1B PC",1.39,4789.8500000000004,null,"PDWCUT D24",2.3170000000000002,5098.37,null,null,null,null,null,null,null,null,null,null,"PDWCUT D24",1.8460000000000001,5641.26,null,"PDWCUT PC",0.80900000000000005,5586.76,null,"PDWPLT2 D24",4.5579999999999998,4967.8599999999997,null,null,null,null,null,null,null,null,null,null,null,null,"PDWPLT2 D24",4.8209999999999997,5390.52,null,"PDWPLT2 D24",4.6130000000000004,5177.1099999999997,null,"PDWMT D24",16.902999999999999,5141.1000000000004]
[null,null,null,null,null,null,null,null,null,null,null,null,null,null,null,null,null,"PDWCUT D24",0.79900000000000004,5334.56,null,"PDW1A1B PC",0.96399999999999997,5132.2,null,"PDWPLT2 PC",1E-3,4998.13,null,null,null,null,null,null,null,null,null,"PDWMT D24",18.096,4638.26,null,"PDWCUT PC",1.333,4789.8500000000004,null,"PDWCUT PC",0.48299999999999998,5098.37,null,null,null,null,null,null,null,null,null,null,"PDWCUT PC",1.1439999999999999,5641.26,null,"PDWMT D24",20.709,5586.76,null,"PDWPLT2 PC",5.8479999999999999,4967.8599999999997,null,null,null,null,null,null,null,null,null,null,null,null,"PDWPLT2 PC",6.0730000000000004,5390.52,null,"PDWPLT2 PC",5.335,5177.1099999999997,null,"PDWPLT2 D24",5.0970000000000004,5141.1000000000004]
[null,null,null,null,null,null,null,null,null,null,null,null,null,null,null,null,null,"PDWCUT PC",0.60199999999999998,5334.56,null,"PDWCUT D24",1.1220000000000001,5132.2,null,"PDWPLT3 PC",6.2089999999999996,4998.13,null,null,null,null,null,null,null,null,null,"PDWPLT2 D24",4.9189999999999996,4638.26,null,"PDWMT D24",17.347999999999999,4789.8500000000004,null,"PDWMT D24",16.425999999999998,5098.37,null,null,null,null,null,null,null,null,null,null,"PDWMT D24",21.428000000000001,5641.26,null,"PDWPLT2 D24",4.2409999999999997,5586.76,null,"PDWPLT3 PC",3.6930000000000001,4967.8599999999997,null,null,null,null,null,null,null,null,null,null,null,null,"PDWPLT3 PC",5.6440000000000001,5390.52,null,"PDWPLT3 PC",5.6619999999999999,5177.1099999999997,null,"PDWPLT2 PC",4.6239999999999997,5141.1000000000004]
[null,null,null,null,null,null,null,null,null,null,null,null,null,null,null,null,null,"PDWMT D24",22.042000000000002,5334.56,null,"PDWCUT PC",1.034,5132.2,null,"TRAIL 2D8",18.334,4998.13,null,null,null,null,null,null,null,null,null,"PDWPLT3 PC",5.4,4638.26,null,"PDWPLT2 D24",5.6139999999999999,4789.8500000000004,null,"PDWPLT2 D24",4.7439999999999998,5098.37,null,null,null,null,null,null,null,null,null,null,"PDWPLT2 D24",4.9249999999999998,5641.26,null,"PDWPLT2 PC",6.2210000000000001,5586.76,null,"SGRLF D24",1.4650000000000001,4967.8599999999997,null,null,null,null,null,null,null,null,null,null,null,null,"SGRLF D24",1.3640000000000001,5390.52,null,"SGRLF D24",1.2210000000000001,5177.1099999999997,null,"PDWPLT3 PC",6.0529999999999999,5141.1000000000004]
[null,null,null,null,null,null,null,null,null,null,null,null,null,null,null,null,null,"PDWPLT2 D24",4.2,5334.56,null,"PDWMT D24",19.510999999999999,5132.2,null,"TRAIL 2E",330.971,4998.13,null,null,null,null,null,null,null,null,null,"SGRLF PC",13.484999999999999,4638.26,null,"PDWPLT2 PC",3.0000000000000001E-3,4789.8500000000004,null,"PDWPLT2 PC",8.8089999999999993,5098.37,null,null,null,null,null,null,null,null,null,null,"PDWPLT2 PC",6.8470000000000004,5641.26,null,"PDWPLT3 PC",3.38,5586.76,null,"SGRLF PC",38.811999999999998,4967.8599999999997,null,null,null,null,null,null,null,null,null,null,null,null,"SGRLF PC",41.77,5390.52,null,"SGRLF PC",40.853000000000002,5177.1099999999997,null,"SGRLF D24",1.2849999999999999,5141.1000000000004]
[null,null,null,null,null,null,null,null,null,null,null,null,null,null,null,null,null,"PDWPLT2 PC",6.3869999999999996,5334.56,null,"PDWPLT2 D24",5.157,5132.2,null,"TRAIL 2E MT",51.258000000000003,4998.13,null,null,null,null,null,null,null,null,null,"SGRLFMT D24",9.9060000000000006,4638.26,null,"PDWPLT3 PC",5.46,4789.8500000000004,null,"PDWPLT3 PC",3.8460000000000001,5098.37,null,null,null,null,null,null,null,null,null,null,"PDWPLT3 PC",3.63,5641.26,null,"SGRLF D24",1.9610000000000001,5586.76,null,"SGRLFMT D24",15.481,4967.8599999999997,null,null,null,null,null,null,null,null,null,null,null,null,"SGRLFMT D24",16.978999999999999,5390.52,null,"SGRLFMT D24",15.602,5177.1099999999997,null,"SGRLF PC",28.838999999999999,5141.1000000000004]
[null,null,null,null,null,null,null,null,null,null,null,null,null,null,null,null,null,"PDWPLT3 PC",5.3120000000000003,5334.56,null,"PDWPLT2 PC",5.3390000000000004,5132.2,null,"TRAIL D24",299.98,4998.13,null,null,null,null,null,null,null,null,null,"TRAIL 2D8",16.829000000000001,4638.26,null,"SGRLF D24",0.73599999999999999,4789.8500000000004,null,"SGRLF D24",2.585,5098.37,null,null,null,null,null,null,null,null,null,null,"SGRLF D24",1.978,5641.26,null,"SGRLF PC",47.789000000000001,5586.76,null,"TRAIL 2D8",87.603999999999999,4967.8599999999997,null,null,null,null,null,null,null,null,null,null,null,null,"TRAIL 2D8",89.432000000000002,5390.52,null,"TRAIL 2D8",81.093999999999994,5177.1099999999997,null,"SGRLFMT D24",12.303000000000001,5141.1000000000004]
[null,null,null,null,null,null,null,null,null,null,null,null,null,null,null,null,null,"SGRLF D24",1.115,5334.56,null,"PDWPLT3 PC",6.6859999999999999,5132.2,null,"TRAIL D8",52.911999999999999,4998.13,null,null,null,null,null,null,null,null,null,"TRAIL 2E",293.20600000000002,4638.26,null,"SGRLF PC",32.813000000000002,4789.8500000000004,null,"SGRLF PC",52.406999999999996,5098.37,null,null,null,null,null,null,null,null,null,null,"SGRLF PC",49.606000000000002,5641.26,null,"SGRLFMT D24",17.384,5586.76,null,"TRAIL 2E",325.37299999999999,4967.8599999999997,null,null,null,null,null,null,null,null,null,null,null,null,"TRAIL 2E",350.59800000000001,5390.52,null,"TRAIL 2E",349.88400000000001,5177.1099999999997,null,"TRAIL 2D8",75.484999999999999,5141.1000000000004]
[null,null,null,null,null,null,null,null,null,null,null,null,null,null,null,null,null,"SGRLF PC",41.143000000000001,5334.56,null,"SGRLF D24",1.351,5132.2,null,"TRAIL PC",1.2370000000000001,4998.13,null,null,null,null,null,null,null,null,null,"TRAIL 2E MT",48.783000000000001,4638.26,null,"SGRLFMT D24",21.78,4789.8500000000004,null,"SGRLFMT D24",18.956,5098.37,null,null,null,null,null,null,null,null,null,null,"SGRLFMT D24",19.748000000000001,5641.26,null,"TRAIL 2D8",106.065,5586.76,null,"TRAIL 2E MT",40.581000000000003,4967.8599999999997,null,null,null,null,null,null,null,null,null,null,null,null,"TRAIL 2E MT",50.232999999999997,5390.52,null,"TRAIL 2E MT",51.195,5177.1099999999997,null,"TRAIL 2E",353.06599999999997,5141.1000000000004]
[null,null,null,null,null,null,null,null,null,null,null,null,null,null,null,null,null,"SGRLFMT D24",21.869,5334.56,null,"SGRLF PC",41.033000000000001,5132.2,null,"TRAILMT D24",51.99,4998.13,null,null,null,null,null,null,null,null,null,"TRAIL D24",265.983,4638.26,null,"TRAIL 2D8",15.992000000000001,4789.8500000000004,null,"TRAIL 2D8",136.50800000000001,5098.37,null,null,null,null,null,null,null,null,null,null,"TRAIL 2D8",121.081,5641.26,null,"TRAIL 2E",372.14400000000001,5586.76,null,"TRAIL D24",298.02600000000001,4967.8599999999997,null,null,null,null,null,null,null,null,null,null,null,null,"TRAIL D24",322.73599999999999,5390.52,null,"TRAIL D24",320.06099999999998,5177.1099999999997,null,"TRAIL 2E MT",45.356999999999999,5141.1000000000004]
[null,null,null,null,null,null,null,null,null,null,null,null,null,null,null,null,null,"TRAIL 2D8",65.23,5334.56,null,"SGRLFMT D24",16.974,5132.2,null,"WHISKEY MT",34.847999999999999,4998.13,null,null,null,null,null,null,null,null,null,"TRAIL D8",46.451999999999998,4638.26,null,"TRAIL 2E",298.98200000000003,4789.8500000000004,null,"TRAIL 2E",391.36,5098.37,null,null,null,null,null,null,null,null,null,null,"TRAIL 2E",369.779,5641.26,null,"TRAIL 2E MT",47.204999999999998,5586.76,null,"TRAIL D8",81.864000000000004,4967.8599999999997,null,null,null,null,null,null,null,null,null,null,null,null,"TRAIL D8",85.376000000000005,5390.52,null,"TRAIL D8",82.602000000000004,5177.1099999999997,null,"TRAIL D24",323.75700000000001,5141.1000000000004]
[null,null,null,null,null,null,null,null,null,null,null,null,null,null,null,null,null,"TRAIL 2E",433.41899999999998,5334.56,null,"TRAIL 2D8",18.459,5132.2,null,"WHISKEYC 2E",97.158000000000001,4998.13,null,null,null,null,null,null,null,null,null,"TRAIL PC",1.08,4638.26,null,"TRAIL 2E MT",48.51,4789.8500000000004,null,"TRAIL 2E MT",48.722000000000001,5098.37,null,null,null,null,null,null,null,null,null,null,"TRAIL 2E MT",48.521999999999998,5641.26,null,"TRAIL D24",341.06599999999997,5586.76,null,"TRAIL PC",0.8,4967.8599999999997,null,null,null,null,null,null,null,null,null,null,null,null,"TRAIL PC",0.93700000000000006,5390.52,null,"TRAIL PC",0.84899999999999998,5177.1099999999997,null,"TRAIL D8",79.5,5141.1000000000004]
[null,null,null,null,null,null,null,null,null,null,null,null,null,null,null,null,null,"TRAIL 2E MT",50.777000000000001,5334.56,null,"TRAIL 2E",326.70499999999998,5132.2,null,"WHLA D24",41.534999999999997,4998.13,null,null,null,null,null,null,null,null,null,"TRAILMT D24",49.38,4638.26,null,"TRAIL D24",268.69200000000001,4789.8500000000004,null,"TRAIL D24",355.33499999999998,5098.37,null,null,null,null,null,null,null,null,null,null,"TRAIL D24",335.88799999999998,5641.26,null,"TRAIL D8",96.284999999999997,5586.76,null,"TRAILMT D24",41.067,4967.8599999999997,null,null,null,null,null,null,null,null,null,null,null,null,"TRAILMT D24",50.878999999999998,5390.52,null,"TRAILMT D24",51.752000000000002,5177.1099999999997,null,"TRAIL PC",1.091,5141.1000000000004]
[null,null,null,null,null,null,null,null,null,null,null,null,null,null,null,null,null,"TRAIL D24",403.745,5334.56,null,"TRAIL 2E MT",50.701999999999998,5132.2,null,"WHLA PC",3.694,4998.13,null,null,null,null,null,null,null,null,null,"WHISKEY MT",30.911999999999999,4638.26,null,"TRAIL D8",49.411999999999999,4789.8500000000004,null,"TRAIL D8",146.21799999999999,5098.37,null,null,null,null,null,null,null,null,null,null,"TRAIL D8",111.583,5641.26,null,"TRAIL PC",0.91100000000000003,5586.76,null,"WHISKEY MT",24.928999999999998,4967.8599999999997,null,null,null,null,null,null,null,null,null,null,null,null,"WHISKEY MT",25.145,5390.52,null,"WHISKEY MT",25.751000000000001,5177.1099999999997,null,"TRAILMT D24",45.933,5141.1000000000004]
[null,null,null,null,null,null,null,null,null,null,null,null,null,null,null,null,null,"TRAIL D8",105.489,5334.56,null,"TRAIL D24",295.40699999999998,5132.2,null,"WWILSON D24",3.4929999999999999,4998.13,null,null,null,null,null,null,null,null,null,"WHISKEYC 2E",92.760999999999996,4638.26,null,"TRAIL PC",1.1319999999999999,4789.8500000000004,null,"TRAIL PC",0.98299999999999998,5098.37,null,null,null,null,null,null,null,null,null,null,"TRAIL PC",0.84399999999999997,5641.26,null,"TRAILMT D24",47.716000000000001,5586.76,null,"WHISKEYC 2E",78.290999999999997,4967.8599999999997,null,null,null,null,null,null,null,null,null,null,null,null,"WHISKEYC 2E",83.891999999999996,5390.52,null,"WHISKEYC 2E",82.988,5177.1099999999997,null,"WHISKEY MT",29.946999999999999,5141.1000000000004]
[null,null,null,null,null,null,null,null,null,null,null,null,null,null,null,null,null,"TRAIL PC",1.3169999999999999,5334.56,null,"TRAIL D8",52.921999999999997,5132.2,null,"WWILSON PC",12.108000000000001,4998.13,null,null,null,null,null,null,null,null,null,"WHLA D24",39.569000000000003,4638.26,null,"TRAILMT D24",49.088000000000001,4789.8500000000004,null,"TRAILMT D24",49.323,5098.37,null,null,null,null,null,null,null,null,null,null,"TRAILMT D24",48.996000000000002,5641.26,null,"WHISKEY MT",23.721,5586.76,null,"WHLA D24",35.478999999999999,4967.8599999999997,null,null,null,null,null,null,null,null,null,null,null,null,"WHLA D24",34.014000000000003,5390.52,null,"WHLA D24",32.256,5177.1099999999997,null,"WHISKEYC 2E",83.007000000000005,5141.1000000000004]
[null,null,null,null,null,null,null,null,null,null,null,null,null,null,null,null,null,"TRAILMT D24",51.381999999999998,5334.56,null,"TRAIL PC",1.3879999999999999,5132.2,null,"z20 MESA D8",235.04599999999999,4998.13,null,null,null,null,null,null,null,null,null,"WHLA PC",6.7450000000000001,4638.26,null,"WHISKEY MT",29.573,4789.8500000000004,null,"WHISKEY MT",25.696999999999999,5098.37,null,null,null,null,null,null,null,null,null,null,"WHISKEY MT",24.797999999999998,5641.26,null,"WHISKEYC 2E",93.441000000000003,5586.76,null,"WHLA PC",5.069,4967.8599999999997,null,null,null,null,null,null,null,null,null,null,null,null,"WHLA PC",4.7,5390.52,null,"WHLA PC",5.5460000000000003,5177.1099999999997,null,"WHLA D24",40.307000000000002,5141.1000000000004]
[null,null,null,null,null,null,null,null,null,null,null,null,null,null,null,null,null,"WHISKEY MT",31.853999999999999,5334.56,null,"TRAILMT D24",51.207999999999998,5132.2,null,null,null,null,null,null,null,null,null,null,null,null,null,"WWILSON D24",2.8839999999999999,4638.26,null,"WHISKEYC 2E",92.356999999999999,4789.8500000000004,null,"WHISKEYC 2E",87.941000000000003,5098.37,null,null,null,null,null,null,null,null,null,null,"WHISKEYC 2E",80.010000000000005,5641.26,null,"WHLA D24",39.926000000000002,5586.76,null,"WWILSON D24",2.9430000000000001,4967.8599999999997,null,null,null,null,null,null,null,null,null,null,null,null,"WWILSON D24",3.2480000000000002,5390.52,null,"WWILSON D24",3.056,5177.1099999999997,null,"WHLA PC",5.6970000000000001,5141.1000000000004]
[null,null,null,null,null,null,null,null,null,null,null,null,null,null,null,null,null,"WHISKEYC 2E",99.989000000000004,5334.56,null,"WHISKEY MT",31.376999999999999,5132.2,null,null,null,null,null,null,null,null,null,null,null,null,null,"WWILSON PC",9.1489999999999991,4638.26,null,"WHLA D24",34.634,4789.8500000000004,null,"WHLA D24",35.101999999999997,5098.37,null,null,null,null,null,null,null,null,null,null,"WHLA D24",28.204999999999998,5641.26,null,"WHLA PC",8.6539999999999999,5586.76,null,"WWILSON PC",10.179,4967.8599999999997,null,null,null,null,null,null,null,null,null,null,null,null,"WWILSON PC",11.68,5390.52,null,"WWILSON PC",8.1129999999999995,5177.1099999999997,null,"WWILSON D24",2.7109999999999999,5141.1000000000004]
[null,null,null,null,null,null,null,null,null,null,null,null,null,null,null,null,null,"WHLA D24",40.487000000000002,5334.56,null,"WHISKEYC 2E",99.754000000000005,5132.2,null,null,null,null,null,null,null,null,null,null,null,null,null,"z20 MESA D8",215.46700000000001,4638.26,null,"WHLA PC",5.9489999999999998,4789.8500000000004,null,"WHLA PC",6.9340000000000002,5098.37,null,null,null,null,null,null,null,null,null,null,"WHLA PC",5.2080000000000002,5641.26,null,"WWILSON D24",4.01,5586.76,null,"z20 TRAIL D8",196.60499999999999,4967.8599999999997,null,null,null,null,null,null,null,null,null,null,null,null,"z20 TRAIL D8",215.63200000000001,5390.52,null,"z20 TRAIL D8",199.91,5177.1099999999997,null,"WWILSON PC",7.6840000000000002,5141.1000000000004]
[null,null,null,null,null,null,null,null,null,null,null,null,null,null,null,null,null,"WHLA PC",3.8679999999999999,5334.56,null,"WHLA D24",43.625999999999998,5132.2,null,null,null,null,null,null,null,null,null,null,null,null,null,null,null,null,null,"WWILSON D24",3.94,4789.8500000000004,null,"WWILSON D24",3.0910000000000002,5098.37,null,null,null,null,null,null,null,null,null,null,"WWILSON D24",3.5590000000000002,5641.26,null,"WWILSON PC",8.7629999999999999,5586.76,null,"z20 TRAIL2D8",330.82799999999997,4967.8599999999997,null,null,null,null,null,null,null,null,null,null,null,null,"z20 TRAIL2D8",345.589,5390.52,null,"z20 TRAIL2D8",309.64800000000002,5177.1099999999997,null,"z20 TRAIL D8",166.035,5141.1000000000004]
[null,null,null,null,null,null,null,null,null,null,null,null,null,null,null,null,null,"WWILSON D24",3.395,5334.56,null,"WHLA PC",6.9619999999999997,5132.2,null,null,null,null,null,null,null,null,null,null,null,null,null,null,null,null,null,"WWILSON PC",11.731999999999999,4789.8500000000004,null,"WWILSON PC",11.744,5098.37,null,null,null,null,null,null,null,null,null,null,"WWILSON PC",11.497999999999999,5641.26,null,"z20 TRAIL D8",220.661,5586.76,null,"z20 MESA D8",167.655,4967.8599999999997,null,null,null,null,null,null,null,null,null,null,null,null,"z20 MESA D8",180.261,5390.52,null,"z20 MESA D8",169.96199999999999,5177.1099999999997,null,"z20 TRAIL2D8",263.61900000000003,5141.1000000000004]
[null,null,null,null,null,null,null,null,null,null,null,null,null,null,null,null,null,"WWILSON PC",8.1709999999999994,5334.56,null,"WWILSON D24",3.742,5132.2,null,null,null,null,null,null,null,null,null,null,null,null,null,null,null,null,null,"z20 MESA D8",214.75399999999999,4789.8500000000004,null,"z20 MESA D8",202.501,5098.37,null,null,null,null,null,null,null,null,null,null,"z20 TRAIL D8",223.06299999999999,5641.26,null,"z20 TRAIL2D8",398.14800000000002,5586.76,null,null,null,null,null,null,null,null,null,null,null,null,null,null,null,null,null,null,null,null,null,null,null,null,"z20 MESA D8",168.74700000000001,5141.1000000000004]
[null,null,null,null,null,null,null,null,null,null,null,null,null,null,null,null,null,"z20 MESA D8",253.09700000000001,5334.56,null,"WWILSON PC",14.019,5132.2,null,null,null,null,null,null,null,null,null,null,null,null,null,null,null,null,null,null,null,null,null,null,null,null,null,null,null,null,null,null,null,null,null,null,"z20 TRAIL2D8",410.55099999999999,5641.26,null,{"$f":"R204","v":"z20 MESA D8"},191.65799999999999,5586.76]
[null,null,null,null,null,null,null,null,null,null,null,null,null,null,null,null,null,null,null,null,null,"z20 MESA D8",250.73599999999999,5132.2,null,null,null,null,null,null,null,null,null,null,null,null,null,null,null,null,null,null,null,null,null,null,null,null,null,null,null,null,null,null,null,null,null,null,"z20 MESA D8",199.375,5641.26]
[]
[]
[]
[]
[]
[null,null,null,null,null,null,null,null,null,null,null,null,null,null,null,null,null,null,null,null,null,null,null,null,null,null,{"$f":"SUM(AA116:AA210)-AA131","v":4719.8570000000009}]

{"sheet":"Normal Purchase %","index":38,"n_rows":34,"n_cols":15,"rows_kept":34,"cut":false,"hidden":true,"merged":[[1,0,1,8]]}
[]
["Source:  The whole numbers come from Purchase Gas and Company Owned Gas sheets.  The percentages are then calculated from those numbers."]
[null,2,3,4,5,6,7,8,9]
["Month","Actual Purchase Mdth","Normal Purchase Mdth","Actual Company Mdth","Normal Company Mdths","Actual Purchase as Percent of Total","Normal Purchase as Percent of Total","Actual Cost-of-Service as Percent of Total","Normal Cost-of-Service as Percent of Total",null,"Check Should = 100%","Check Should = 100%"]
[{"$f":"'Ex 1 HDD'!A8","v":"2020-06-01"},{"$f":"'Ex 4 Purchase Gas'!B8","v":390},{"$f":"'Ex 4 Purchase Gas'!C8","v":0},{"$f":"'Ex 7 Co. Owned Gas'!B8","v":5334.5609999999997},{"$f":"'Ex 7 Co. Owned Gas'!C8","v":5278.6},{"$f":"IFERROR(B5/(B5+D5),0)","v":6.8127494841962552E-2},{"$f":"C5/(C5+E5)","v":0},{"$f":"IFERROR(D5/(D5+B5),0)","v":0.93187250515803743},{"$f":"E5/(E5+C5)","v":1},null,{"$f":"F5+H5","v":1},{"$f":"G5+I5","v":1}]
[{"$f":"'Ex 1 HDD'!A9","v":"2020-07-01"},{"$f":"'Ex 4 Purchase Gas'!B9","v":55},{"$f":"'Ex 4 Purchase Gas'!C9","v":0},{"$f":"'Ex 7 Co. Owned Gas'!B9","v":5132.2060000000001},{"$f":"'Ex 7 Co. Owned Gas'!C9","v":5360.98},{"$f":"IFERROR(B6/(B6+D6),0)","v":1.0603010560984083E-2},0,{"$f":"IFERROR(D6/(D6+B6),0)","v":0.98939698943901588},1,null,1,1]
[{"$f":"'Ex 1 HDD'!A10","v":"2020-08-01"},{"$f":"'Ex 4 Purchase Gas'!B10","v":0},{"$f":"'Ex 4 Purchase Gas'!C10","v":0},{"$f":"'Ex 7 Co. Owned Gas'!B10","v":4998.1340000000009},{"$f":"'Ex 7 Co. Owned Gas'!C10","v":5274.7110000000002},0,0,1,1,null,1,1]
[{"$f":"'Ex 1 HDD'!A11","v":"2020-09-01"},{"$f":"'Ex 4 Purchase Gas'!B11","v":1111.7190000000001},{"$f":"'Ex 4 Purchase Gas'!C11","v":1934.3},{"$f":"'Ex 7 Co. Owned Gas'!B11","v":4638.26},{"$f":"'Ex 7 Co. Owned Gas'!C11","v":5026.5190000000002},0.19334314090538418,0.27788396738946952,0.80665685909461582,0.72211603261053048,null,1,1]
[{"$f":"'Ex 1 HDD'!A12","v":"2020-10-01"},{"$f":"'Ex 4 Purchase Gas'!B12","v":3307.2220000000002},{"$f":"'Ex 4 Purchase Gas'!C12","v":2467.1999999999998},{"$f":"'Ex 7 Co. Owned Gas'!B12","v":4789.8500000000004},{"$f":"'Ex 7 Co. Owned Gas'!C12","v":5716.15},0.40844665824880899,0.30149022099751321,0.59155334175119112,0.69850977900248679,null,1,1]
[{"$f":"'Ex 1 HDD'!A13","v":"2020-11-01"},{"$f":"'Ex 4 Purchase Gas'!B13","v":8832.3130000000001},{"$f":"'Ex 4 Purchase Gas'!C13","v":7175.5},{"$f":"'Ex 7 Co. Owned Gas'!B13","v":5098.37},{"$f":"'Ex 7 Co. Owned Gas'!C13","v":5401.8509999999997},0.63401866225798109,0.57050964070256138,0.3659813377420188,0.42949035929743873,null,{"$f":"F10+H10","v":0.99999999999999989},1]
[{"$f":"'Ex 1 HDD'!A14","v":"2020-12-01"},{"$f":"'Ex 4 Purchase Gas'!B14","v":13178.873},{"$f":"'Ex 4 Purchase Gas'!C14","v":13238.1},{"$f":"'Ex 7 Co. Owned Gas'!B14","v":5641.26},{"$f":"'Ex 7 Co. Owned Gas'!C14","v":5627.61},0.70025397801386413,0.7017016587236844,0.29974602198613581,0.2982983412763156,null,1,1]
[{"$f":"'Ex 1 HDD'!A15","v":"2021-01-01"},{"$f":"'Ex 4 Purchase Gas'!B15","v":11127.151},{"$f":"'Ex 4 Purchase Gas'!C15","v":11026},{"$f":"'Ex 7 Co. Owned Gas'!B15","v":5586.7},{"$f":"'Ex 7 Co. Owned Gas'!C15","v":5517.3270000000002},0.66574429794785184,0.66649229625939199,0.33425570205214827,0.3335077037406079,null,1,0.99999999999999989]
[{"$f":"'Ex 1 HDD'!A16","v":"2021-02-01"},{"$f":"'Ex 4 Purchase Gas'!B16","v":7377.3029999999999},{"$f":"'Ex 4 Purchase Gas'!C16","v":8816},{"$f":"'Ex 7 Co. Owned Gas'!B16","v":4967.8},{"$f":"'Ex 7 Co. Owned Gas'!C16","v":4727.2250000000004},0.5975894247297896,0.65095278266439494,0.4024105752702104,0.34904721733560506,null,1,1]
[{"$f":"'Ex 1 HDD'!A17","v":"2021-03-01"},{"$f":"'Ex 4 Purchase Gas'!B17","v":5564.7},{"$f":"'Ex 4 Purchase Gas'!C17","v":3402.4470000000001},{"$f":"'Ex 7 Co. Owned Gas'!B17","v":5390.5},{"$f":"'Ex 7 Co. Owned Gas'!C17","v":5328.4040000000005},0.50795056229005398,0.38970393607679249,0.49204943770994591,0.61029606392320745,null,0.99999999999999989,1]
[{"$f":"'Ex 1 HDD'!A18","v":"2021-04-01"},{"$f":"'Ex 4 Purchase Gas'!B18","v":2864.7460000000001},{"$f":"'Ex 4 Purchase Gas'!C18","v":2103.9},{"$f":"'Ex 7 Co. Owned Gas'!B18","v":5177},{"$f":"'Ex 7 Co. Owned Gas'!C18","v":5075.9440000000004},0.35623433020640044,0.29302865076177143,0.6437656697935995,0.70697134923822857,null,1,1]
[{"$f":"'Ex 1 HDD'!A19","v":"2021-05-01"},{"$f":"'Ex 4 Purchase Gas'!B19","v":702.90899999999999},{"$f":"'Ex 4 Purchase Gas'!C19","v":390.15100000000001},{"$f":"'Ex 7 Co. Owned Gas'!B19","v":5141},{"$f":"'Ex 7 Co. Owned Gas'!C19","v":5167.8999999999996},0.12028062038611485,7.0195649518149453E-2,0.87971937961388524,0.92980435048185062,null,1,1]
[]
["Q1",{"$f":"SUM(B5:B7)","v":445},{"$f":"SUM(C5:C7)","v":0},{"$f":"SUM(D5:D7)","v":15464.901000000002},{"$f":"SUM(E5:E7)","v":15914.291000000001},{"$f":"IFERROR(B18/(B18+D18),0)","v":2.7970004338807638E-2},{"$f":"C18/(C18+E18)","v":0},{"$f":"IFERROR(D18/(D18+B18),0)","v":0.97202999566119241},{"$f":"E18/(E18+C18)","v":1},null,{"$f":"F18+H18","v":1},1]
["Q2",{"$f":"SUM(B8:B10)","v":13251.254000000001},{"$f":"SUM(C8:C10)","v":11577},{"$f":"SUM(D8:D10)","v":14526.48},{"$f":"SUM(E8:E10)","v":16144.52},{"$f":"IFERROR(B19/(B19+D19),0)","v":0.47704589582433182},{"$f":"C19/(C19+E19)","v":0.41761779296373358},{"$f":"IFERROR(D19/(D19+B19),0)","v":0.52295410417566812},{"$f":"E19/(E19+C19)","v":0.58238220703626642},null,1,1]
["Q3",{"$f":"SUM(B11:B13)","v":31683.326999999997},{"$f":"SUM(C11:C13)","v":33080.1},{"$f":"SUM(D11:D13)","v":16195.759999999998},{"$f":"SUM(E11:E13)","v":15872.162},0.66173623987441532,0.67576243974180394,0.33826376012558468,0.324237560258196,null,1,1]
["Q4",{"$f":"SUM(B14:B16)","v":9132.3549999999996},{"$f":"SUM(C14:C16)","v":5896.4979999999996},{"$f":"SUM(D14:D16)","v":15708.5},{"$f":"SUM(E14:E16)","v":15572.248000000001},0.36763448762129963,0.2746549798483805,0.63236551237870031,{"$f":"E21/(E21+C21)","v":0.72534502015161961},null,{"$f":"F21+H21","v":1},{"$f":"G21+I21","v":1}]
[null,"IRP","Actual","IRP","Actual",0,"Actual",0,"Actual"]
[]
[null,null,null,null,null,{"$f":"F4","v":"Actual Purchase as Percent of Total"},{"$f":"G4","v":"Normal Purchase as Percent of Total"},{"$f":"H4","v":"Actual Cost-of-Service as Percent of Total"},{"$f":"I4","v":"Normal Cost-of-Service as Percent of Total"}]
[null,null,null,null,{"$f":"A11","v":"2020-12-01"},{"$f":"VLOOKUP($E25,$A$5:$I$16,F$3,FALSE)","v":0.70025397801386413},{"$f":"VLOOKUP($E25,$A$5:$I$16,G$3,FALSE)","v":0.7017016587236844},0.29974602198613581,0.2982983412763156,null,{"$f":"F25+H25","v":1},1]
[null,null,null,null,{"$f":"A12","v":"2021-01-01"},{"$f":"VLOOKUP($E26,$A$5:$I$16,F$3,FALSE)","v":0.66574429794785184},0.66649229625939199,0.33425570205214827,0.3335077037406079,null,1,0.99999999999999989]
[null,null,null,null,{"$f":"A13","v":"2021-02-01"},{"$f":"VLOOKUP($E27,$A$5:$I$16,F$3,FALSE)","v":0.5975894247297896},0.65095278266439494,0.4024105752702104,0.34904721733560506,null,1,1]
[]
[null,null,null,null,{"$f":"A18","v":"Q1"},{"$f":"VLOOKUP($E29,$A$18:$I$21,F$3,FALSE)","v":2.7970004338807638E-2},{"$f":"VLOOKUP($E29,$A$18:$I$21,G$3,FALSE)","v":0},0.97202999566119241,1,null,{"$f":"F29+H29","v":1},1]
[null,null,null,null,{"$f":"A19","v":"Q2"},{"$f":"VLOOKUP($E30,$A$18:$I$21,F$3,FALSE)","v":0.47704589582433182},0.41761779296373358,0.52295410417566812,0.58238220703626642,null,1,1]
[null,null,null,null,{"$f":"A20","v":"Q3"},{"$f":"VLOOKUP($E31,$A$18:$I$21,F$3,FALSE)","v":0.66173623987441532},0.67576243974180394,0.33826376012558468,0.324237560258196,null,1,1]
[null,null,null,null,"Q4",{"$f":"VLOOKUP($E32,$A$18:$I$21,F$3,FALSE)","v":0.36763448762129963},0.2746549798483805,0.63236551237870031,0.72534502015161961,null,1,1,null,{"$f":"F32-G32","v":9.2979507772919134E-2},{"$f":"I32-H32","v":9.2979507772919301E-2}]
[]
[null,null,null,null,null,{"$f":"AVERAGE((F25:F27))","v":0.65452923356383519},{"$f":"AVERAGE((G25:G27))","v":0.67304891254915711},{"$f":"AVERAGE((H25:H27))","v":0.34547076643616476},{"$f":"AVERAGE((I25:I27))","v":0.32695108745084284}]

{"sheet":"IRP Pruch Cover Sheet","index":39,"n_rows":15,"n_cols":6,"rows_kept":15,"cut":false,"hidden":true,"merged":[]}
[null,null,2,3,4,5]
[null,null,{"$f":"'Normal Purchase %'!F24","v":"Actual Purchase as Percent of Total"},{"$f":"'Normal Purchase %'!G24","v":"Normal Purchase as Percent of Total"},{"$f":"'Normal Purchase %'!H24","v":"Actual Cost-of-Service as Percent of Total"},{"$f":"'Normal Purchase %'!I24","v":"Normal Cost-of-Service as Percent of Total"}]
[]
[null,{"$f":"'Normal Purchase %'!E25","v":"2020-12-01"},{"$f":"VLOOKUP($B4,'Normal Purchase %'!$E$25:$I$27,'IRP Pruch Cover Sheet'!C$1,FALSE)","v":0.70025397801386413},{"$f":"VLOOKUP($B4,'Normal Purchase %'!$E$25:$I$27,'IRP Pruch Cover Sheet'!D$1,FALSE)","v":0.7017016587236844},{"$f":"VLOOKUP($B4,'Normal Purchase %'!$E$25:$I$27,'IRP Pruch Cover Sheet'!E$1,FALSE)","v":0.29974602198613581},{"$f":"VLOOKUP($B4,'Normal Purchase %'!$E$25:$I$27,'IRP Pruch Cover Sheet'!F$1,FALSE)","v":0.2982983412763156}]
[null,{"$f":"'Normal Purchase %'!E26","v":"2021-01-01"},{"$f":"VLOOKUP($B5,'Normal Purchase %'!$E$25:$I$27,'IRP Pruch Cover Sheet'!C$1,FALSE)","v":0.66574429794785184},{"$f":"VLOOKUP($B5,'Normal Purchase %'!$E$25:$I$27,'IRP Pruch Cover Sheet'!D$1,FALSE)","v":0.66649229625939199},{"$f":"VLOOKUP($B5,'Normal Purchase %'!$E$25:$I$27,'IRP Pruch Cover Sheet'!E$1,FALSE)","v":0.33425570205214827},{"$f":"VLOOKUP($B5,'Normal Purchase %'!$E$25:$I$27,'IRP Pruch Cover Sheet'!F$1,FALSE)","v":0.3335077037406079}]
[null,{"$f":"'Normal Purchase %'!E27","v":"2021-02-01"},{"$f":"VLOOKUP($B6,'Normal Purchase %'!$E$25:$I$27,'IRP Pruch Cover Sheet'!C$1,FALSE)","v":0.5975894247297896},{"$f":"VLOOKUP($B6,'Normal Purchase %'!$E$25:$I$27,'IRP Pruch Cover Sheet'!D$1,FALSE)","v":0.65095278266439494},{"$f":"VLOOKUP($B6,'Normal Purchase %'!$E$25:$I$27,'IRP Pruch Cover Sheet'!E$1,FALSE)","v":0.4024105752702104},{"$f":"VLOOKUP($B6,'Normal Purchase %'!$E$25:$I$27,'IRP Pruch Cover Sheet'!F$1,FALSE)","v":0.34904721733560506}]
[]
[null,{"$f":"'Normal Purchase %'!E31","v":"Q3"},{"$f":"VLOOKUP($B$8,'Normal Purchase %'!$E$29:$I$32,'IRP Pruch Cover Sheet'!C$1,FALSE)","v":0.66173623987441532},{"$f":"VLOOKUP($B$8,'Normal Purchase %'!$E$29:$I$32,'IRP Pruch Cover Sheet'!D$1,FALSE)","v":0.67576243974180394},{"$f":"VLOOKUP($B$8,'Normal Purchase %'!$E$29:$I$32,'IRP Pruch Cover Sheet'!E$1,FALSE)","v":0.33826376012558468},{"$f":"VLOOKUP($B$8,'Normal Purchase %'!$E$29:$I$32,'IRP Pruch Cover Sheet'!F$1,FALSE)","v":0.324237560258196}]
[]
[]
[]
[]
[]
[]
[null,null,null,{"$f":"C8-D8","v":-1.4026199867388622E-2},{"$f":"F8-E8","v":-1.4026199867388678E-2}]

{"sheet":"Shut-In","index":40,"n_rows":75,"n_cols":19,"rows_kept":75,"cut":false,"hidden":true,"merged":[[0,0,0,1],[1,0,1,1]]}
["Actual Data from Jennifer Beasley"]
["Estimates…See Company Nom Groups herein"]
[]
[null,"June","July","August","Total Dth for Quarter",null,null,"December","January","February","Total Dth for Quarter",null,null,"Month/Year","Actual","Normal","Full Production","Shut-in Est. Month","Shut-in Daily"]
["Estimated Shut-in (dth/day)",{"$f":"'Company Nom Groups'!B128","v":6153.6006092370972},{"$f":"'Company Nom Groups'!C128","v":6108.6021888058594},{"$f":"'Company Nom Groups'!D128","v":6064.299567791867},{"$f":"SUM(B5:D5)","v":18326.502365834822},null,"Estimated Shut-in (dth/day)",{"$f":"'Company Nom Groups'!H128","v":24.200436980472954},{"$f":"'Company Nom Groups'!I128","v":24.000618246557885},{"$f":"'Company Nom Groups'!J128","v":23.100193059592907},{"$f":"H5*31+I5*31+J5*28","v":2141.0381177065574},null,null,44166,5641.26,5627.61,5667,39.390000000000327,1313.0000000000109]
["Actual Shut-in  (dth/day)",0,2323,5437,{"$f":"D6+C6","v":7760},null,"Acutal Shut-in  (dth/day)",0,0,0,0,null,null,44197,5586.7,5517.3270000000002,5553,35.672999999999774,1189.0999999999924]
[null,null,null,null,null,null,null,null,null,null,null,null,null,44228,4697.8,4727.2250000000004,4728,0.7749999999996362,25.833333333321207]
[]
[]
[1,59,{"$f":"C5","v":6108.6021888058594},0,null,null,{"$f":"A10","v":1}]
[2,59,780,0,null,null,{"$f":"A11","v":2}]
[3,59,780,0,null,null,3]
[4,59,780,0,null,null,4]
[5,59,780,0,null,null,5]
[6,59,780,0,null,null,6]
[7,59,{"$f":"C11","v":780},0,null,null,7]
[8,59,780,0,null,null,8]
[9,59,780,0,null,null,9]
[10,59,{"$f":"C14","v":780},0,null,null,10]
[11,59,780,0,null,null,11]
[12,59,780,0,null,null,12]
[13,59,{"$f":"C17","v":780},0,null,null,13]
[14,59,780,0,null,null,14]
[15,59,780,0,null,null,15]
[16,59,{"$f":"C20","v":780},0,null,null,16]
[17,59,780,0,null,null,17]
[18,59,780,0,null,null,18]
[19,59,{"$f":"C23","v":780},0,null,null,19]
[20,59,780,0,null,null,20]
[21,59,780,0,null,null,21]
[22,59,{"$f":"C26","v":780},0,null,null,22]
[23,59,780,0,null,null,23]
[24,59,780,0,null,null,24]
[25,59,{"$f":"C29","v":780},0,null,null,25]
[26,59,780,0,null,null,26]
[27,59,780,0,null,null,27]
[28,59,{"$f":"C32","v":780},0,null,null,28]
[29,59,780,0,null,null,29]
[30,59,780,0,null,null,30]
[31,0,{"$f":"C35","v":780},0,null,null,31]
[null,{"$f":"SUM(B10:B40)","v":1770},{"$f":"SUM(C10:C40)","v":29508.60218880586},{"$f":"SUM(D10:D40)","v":0},{"$f":"SUM(B41:D41)","v":31278.60218880586},null,null,0,0,0,{"$f":"SUM(H41:J41)","v":0}]
[]
[]
[1,0,0,0,null,null,1,0,0,0]
[2,0,0,0,null,null,2,0,0,0]
[3,0,0,0,null,null,3,0,0,0]
[4,0,0,5724,null,null,4,0,0,0]
[5,0,0,5724,null,null,5,0,0,0]
[6,0,0,5724,null,null,6,0,0,0]
[7,0,0,5724,null,null,7,0,0,0]
[8,0,0,5724,null,null,8,0,0,0]
[9,0,0,5724,null,null,9,0,0,0]
[10,0,0,5724,null,null,10,0,0,0]
[11,0,0,5724,null,null,11,0,0,0]
[12,0,0,5724,null,null,12,0,0,0]
[13,0,0,5724,null,null,13,0,0,0]
[14,0,0,5724,null,null,14,0,0,0]
[15,0,0,5724,null,null,15,0,0,0]
[16,0,0,5724,null,null,16,0,0,0]
[17,0,0,5724,null,null,17,0,0,0]
[18,0,0,5724,null,null,18,0,0,0]
[19,0,0,5724,null,null,19,0,0,0]
[20,0,0,5724,null,null,20,0,0,0]
[21,0,0,5724,null,null,21,0,0,0]
[22,0,0,5724,null,null,22,0,0,0]
[23,0,0,5724,null,null,23,0,0,0]
[24,0,0,5724,null,null,24,0,0,0]
[25,0,0,5724,null,null,25,0,0,0]
[26,0,0,5724,null,null,26,0,0,0]
[27,0,0,5724,null,null,27,0,0,0]
[28,0,0,5724,null,null,28,0,0,0]
[29,0,0,5724,null,null,29,0,0,0]
[30,0,0,5724,null,null,30,0,0,0]
[31,0,0,5724,null,null,31,null,0]
[null,{"$f":"SUM(B44:B74)","v":0},{"$f":"SUM(C44:C74)","v":0},{"$f":"SUM(D44:D74)","v":160272},{"$f":"SUM(B75:D75)","v":160272},null,null,{"$f":"SUM(H44:H74)","v":0},{"$f":"SUM(I44:I74)","v":0},{"$f":"SUM(J44:J74)","v":0},{"$f":"SUM(H75:J75)","v":0}]

{"sheet":"Deleted Exhibit 2.5","index":41,"n_rows":32,"n_cols":17,"rows_kept":32,"cut":false,"hidden":true,"merged":[]}
[]
[]
[]
[]
[]
[]
[]
[]
[]
[]
[]
[]
[]
[]
[]
[]
[]
[]
[]
[]
[]
[]
[]
[]
[]
[]
[]
[]
[]
[]
[null,null,null,null,null,null,null,null,null,null,null,null,null,null,{"$f":"'Exhibit 1.1'!O31","v":"IRP Variance Exhibit"},{"$f":"'Exhibit 1.1'!P31","v":"Docket No. 20-057-02"},{"$f":"'Exhibit 1.1'!Q31","v":"Dominion Energy Utah"}]
[null,null,null,null,null,null,null,null,null,null,null,null,null,null,2.5]

{"sheet":"Deleted Exhibit 2.6","index":42,"n_rows":32,"n_cols":17,"rows_kept":32,"cut":false,"hidden":true,"merged":[]}
[]
[]
[]
[]
[]
[]
[]
[]
[]
[]
[]
[]
[]
[]
[]
[]
[]
[]
[]
[]
[]
[]
[]
[]
[]
[]
[]
[]
[]
[]
[null,null,null,null,null,null,null,null,null,null,null,null,null,null,{"$f":"'Exhibit 1.1'!O31","v":"IRP Variance Exhibit"},{"$f":"'Exhibit 1.1'!P31","v":"Docket No. 20-057-02"},{"$f":"'Exhibit 1.1'!Q31","v":"Dominion Energy Utah"}]
[null,null,null,null,null,null,null,null,null,null,null,null,null,null,2.6]