{"text_format":"1","workbook":"xlsx","n_sheets":43,"sheets":["Ex 1 HDD","Exhibit 1.1","Exhibit 1.2","Exhibit 1.3","Ex 2 Clay Basin","Ex 2 Aquifers","Ex 2 Spire Storage West","Exhibit 2.1","Exhibit 2.3","Exhibit 2.2","Exhibit 2.3 ","Exhibit 2.4 ","Exhibit 2.6","Exhibit Firm Sales Volume","Exhibit 3.1","Exhibit 3.2","Exhibit 3.3","Exhibit 3.4","Ex 4 Purchase Gas","Exhibit 4.1","Exhibit 4.2","Exhibit 4.3","Ex 5 Purchase Gas Cost","Exhibit 5.1","Exhibit 5.2","Exhibit 5.3","Ex 6 Purch Gas Unit Cost","Exhibit 6.1","Exhibit 6.2","Ex 7 Co. Owned Gas","Exhibit 7.1","Exhibit 7.2","Exhibit 7.3","Ex 8 New Drill","Exhibit 8.1","Exhibit 8.2","Exhibit 8.3","Company Nom Groups","Normal Purchase %","IRP Pruch Cover Sheet","Shut-In","Deleted Exhibit 2.5","Deleted Exhibit 2.6"],"not_rendered":{"charts":28,"images":0,"macros":1,"external_links":11,"defined_names":1378,"comments":3,"pivot_tables":0},"unopened":[],"bounds":{"document_bytes":16777216,"sheet_cells":100000,"rows_first":2000,"rows_last":500,"rows_between":2000,"halvings":0,"cell_chars":16384,"cell_head_chars":4096},"cells_cut":0,"cells_raw":0,"read":"whole","date_system":"1900"}

{"sheet":"Ex 1 HDD","index":0,"n_rows":20,"n_cols":9,"rows_kept":20,"cut":false,"hidden":false,"merged":[[0,0,0,5],[1,0,1,5],[1,8,1,9],[26,0,26,6],[4,0,4,6]]}
["Heating Degree Days",null,null,null,null,null,"Docket",null,"Dominion Energy Utah"]
[null,null,null,null,null,null,null,null,"Docket No. 21-057-01"]
[null,null,null,null,null,null,null,null,"DEU Variance Exhibit"]
[]
[]
[]
["Month/Year","Actual","Normal",null,null,"Actual","Normal"]
["2021-06-01",2,37.520000000000003,{"$f":"B8-C8","v":-35.520000000000003},null,{"$f":"B8","v":2},{"$f":"C8","v":37.520000000000003}]
["2021-07-01",0,0,{"$f":"B9-C9","v":0},null,{"$f":"B9+F8","v":2},{"$f":"G8+C9","v":37.520000000000003}]
["2021-08-01",8,1.8699999999999903,6.1300000000000097,null,10,{"$f":"G9+C10","v":39.389999999999993}]
["2021-09-01",41,61.409999999999989,-20.409999999999989,null,51,100.79999999999998]
["2021-10-01",367,342.03,24.970000000000027,null,{"$f":"B12+F11","v":418},442.82999999999993]
["2021-11-01",596,711.57999999999993,-115.57999999999993,null,{"$f":"B13+F12","v":1014},1154.4099999999999]
["2021-12-01",929,1054.6899999999998,-125.68999999999983,null,1943,2209.0999999999995]
["2022-01-01",1019,1083.33,-64.329999999999927,null,2962,3292.4299999999994]
["2022-02-01",882,819.68000000000006,62.319999999999936,null,3844,4112.1099999999997]
["2022-03-01",577,620.29999999999995,-43.299999999999955,null,4421,4732.41]
["2022-04-01",419,423.68999999999983,-4.6899999999998272,null,4840,5156.0999999999995]
["2022-05-01",221,196.79999999999998,24.200000000000017,null,5061,5352.9]
[null,{"$f":"SUM(B8:B19)","v":5061},{"$f":"SUM(G8:G19)","v":26667.519999999997},{"$f":"SUM(D8:D19)","v":-291.89999999999941}]

{"sheet":"Exhibit 1.1","index":1,"n_rows":32,"n_cols":17,"rows_kept":32,"cut":false,"hidden":false,"merged":[]}
[]
[]
[]
[]
[]
[]
[]
[]
[]
[]
[]
[]
[]
[]
[]
[]
[]
[]
[]
[]
[]
[]
[]
[]
[]
[]
[]
[]
[]
[]
[null,null,null,null,null,null,null,null,null,null,null,null,null,null,{"$f":"'Ex 1 HDD'!I3","v":"DEU Variance Exhibit"},{"$f":"'Ex 1 HDD'!I2","v":"Docket No. 21-057-01"},{"$f":"'Ex 1 HDD'!I1","v":"Dominion Energy Utah"}]
[null,null,null,null,null,null,null,null,null,null,null,null,null,null,1.1000000000000001]

{"sheet":"Exhibit 1.2","index":2,"n_rows":32,"n_cols":17,"rows_kept":32,"cut":false,"hidden":false,"merged":[]}
[]
[]
[]
[]
[]
[]
[]
[]
[]
[]
[]
[]
[]
[]
[]
[]
[]
[]
[]
[]
[]
[]
[]
[]
[]
[]
[]
[]
[]
[]
[null,null,null,null,null,null,null,null,null,null,null,null,null,null,{"$f":"'Ex 1 HDD'!I3","v":"DEU Variance Exhibit"},{"$f":"'Ex 1 HDD'!I2","v":"Docket No. 21-057-01"},{"$f":"'Ex 1 HDD'!I1","v":"Dominion Energy Utah"}]
[null,null,null,null,null,null,null,null,null,null,null,null,null,null,1.2]

{"sheet":"Exhibit 1.3","index":3,"n_rows":32,"n_cols":17,"rows_kept":32,"cut":false,"hidden":false,"merged":[]}
[]
[]
[]
[]
[]
[]
[]
[]
[]
[]
[]
[]
[]
[]
[]
[]
[]
[]
[]
[]
[]
[]
[]
[]
[]
[]
[]
[]
[]
[]
[null,null,null,null,null,null,null,null,null,null,null,null,null,null,{"$f":"'Ex 1 HDD'!I3","v":"DEU Variance Exhibit"},{"$f":"'Ex 1 HDD'!I2","v":"Docket No. 21-057-01"},{"$f":"'Ex 1 HDD'!I1","v":"Dominion Energy Utah"}]
[null,null,null,null,null,null,null,null,null,null,null,null,null,null,1.3]

{"sheet":"Ex 2 Clay Basin","index":4,"n_rows":44,"n_cols":17,"rows_kept":44,"cut":false,"hidden":false,"merged":[[3,0,3,8],[0,0,0,8],[4,0,4,8],[1,0,1,4],[2,0,2,5]]}
["Clay Basin Ending Inventory (MDths)"]
[]
[]
[]
[null,null,null,null,null,null,null,null,null,null,null,null,"Plan Year 1",1106]
[null,null,null,null,null,null,null,null,null,null,"Month/Year","Month","Inj","With","Total"]
["Month/Year","Actual","Normal",null,"Actual","Actual/1000",null,"Actual","Normal",null,null,null,null,null,3200]
["2021-06-01",{"$f":"F8","v":5609.5739999999996},{"$f":"O8","v":5366.1810000000005},{"$f":"B8-C8","v":243.39299999999912},5609574,{"$f":"E8/1000","v":5609.5739999999996},null,{"$f":"F8","v":5609.5739999999996},{"$f":"C8","v":5366.1810000000005},null,{"$f":"A8","v":"2021-06-01"},{"$f":"O7","v":3200},2166.181,0,{"$f":"L8+M8-N8","v":5366.1810000000005}]
["2021-07-01",{"$f":"F9","v":7468.2479999999996},{"$f":"O9","v":7604.5670000000009},-136.31900000000132,7468248,{"$f":"E9/1000","v":7468.2479999999996},null,{"$f":"H8+F9","v":13077.822},{"$f":"C9+I8","v":12970.748000000001},null,{"$f":"A9","v":"2021-07-01"},{"$f":"O8","v":5366.1810000000005},2238.386,0,7604.5670000000009]
["2021-08-01",9143.92,9656.4260000000013,-512.50600000000122,9143920,9143.92,null,{"$f":"H9+F10","v":22221.741999999998},22627.174000000003,null,"2021-08-01",{"$f":"O9","v":7604.5670000000009},2051.8589999999999,0,9656.4260000000013]
["2021-09-01",10475.325000000001,11423.148000000001,-947.82300000000032,10475325,10475.325000000001,null,32697.066999999999,{"$f":"C11+I10","v":34050.322},null,"2021-09-01",9656.4260000000013,1766.722,0,11423.148000000001]
["2021-10-01",11809.094999999999,13000.002,-1190.9070000000011,11809095,11809.094999999999,null,44506.161999999997,47050.324000000001,null,"2021-10-01",11423.148000000001,1576.854,0,13000.002]
["2021-11-01",11196.438,12157.641,-961.20299999999952,11196438,11196.438,null,55702.6,59207.964999999997,null,"2021-11-01",13000.002,0,842.36099999999999,12157.641]
["2021-12-01",10114.311,8089.2019999999993,2025.1090000000004,10114311,10114.311,null,65816.910999999993,67297.167000000001,null,"2021-12-01",12157.641,0,4068.4390000000003,8089.2019999999993]
["2022-01-01",6135.31,{"$f":"O15","v":4679.152},1456.1580000000004,6135310,6135.31,null,71952.22099999999,71976.319000000003,null,"2022-01-01",8089.2019999999993,0,3410.0499999999997,4679.152]
["2022-02-01",4526.5879999999997,{"$f":"O16","v":1599.107},2927.4809999999998,4526588,4526.5879999999997,null,76478.808999999994,73575.426000000007,null,"2022-02-01",4679.152,0,3080.0450000000001,1599.107]
["2022-03-01",2012,{"$f":"O17","v":9.9999999974897946E-4},2011.9990000000003,2012172,2012.172,null,78490.981,73575.427000000011,null,"2022-03-01",1599.107,0,1599.1060000000002,9.9999999974897946E-4]
["2022-04-01",251,{"$f":"O18","v":945.00099999999975},-694.00099999999975,251176,251.17599999999999,null,78742.157000000007,74520.428000000014,null,"2022-04-01",9.9999999974897946E-4,945,0,945.00099999999975]
["2022-05-01",311,{"$f":"O19","v":3363.0019999999995},-3052.0019999999995,310564,310.56400000000002,null,79052.721000000005,77883.430000000008,null,"2022-05-01",945.00099999999975,2418.0009999999997,0,3363.0019999999995]
[]
[null,null,null,null,null,null,null,null,null,null,null,null,{"$f":"SUM(M8:M19)","v":13163.002999999999},{"$f":"SUM(N8:N19)","v":13000.001},{"$f":"SUM(N8:N19)","v":13000.001}]
[]
[]
[]
[]
[null,null,null,null,null,"June","July","August","September","October","November","December","January","February","March","April","May"]
[null,null,null,null,null,4587175,7350188,10347695,12594397,12186418,{"$f":"E13","v":11196438},{"$f":"E14","v":10114311},{"$f":"E15","v":6135310},{"$f":"E16","v":4526588}]
[null,null,null,null,0.44444440000000002,{"$f":"$E28*F$27/1000","v":2038.7442405700001},{"$f":"$E28*G$27/1000","v":3266.7498955472001},4598.975095658001,5597.5092180268002,5416.1852361592,4976.1941690472004,4495.2488838084009,2726.8041717640003,2011.8166877072001]
[null,null,null,null,0.27777780000000002,{"$f":"$E29*F$27/1000","v":1274.2153797150002},{"$f":"$E29*G$27/1000","v":2041.7190522264002},2874.3599521710003,3498.4438909866003,3385.1163819204003,3110.1219154764003,2809.5310580958003,1704.252914118,1257.3856561464002]
[null,null,null,null,0.27777780000000002,{"$f":"$E30*F$27/1000","v":1274.2153797150002},2041.7190522264002,2874.3599521710003,3498.4438909866003,3385.1163819204003,3110.1219154764003,2809.5310580958003,1704.252914118,1257.3856561464002]
[null,null,null,null,{"$f":"SUM(E28:E30)","v":1},{"$f":"SUM(F28:F30)","v":4587.1750000000002},{"$f":"SUM(G28:G30)","v":7350.1880000000001},10347.695000000002,12594.397000000001,12186.418000000001,11196.438000000002,10114.311000000002,6135.31,4526.5880000000006]
[]
[null,null,null,null,null,13419]
[null,null,null,null,null,{"$f":"F28/$F$33","v":0.15192966991355542},0.24344212650325658,0.3427211487933528,0.4171331111131083,0.40362063016314181,0.37083196728871004,0.33499134688191379,0.20320472253998065,0.14992299632664133]
[null,null,null,null,null,{"$f":"F29/$F$33","v":9.4956060788061722E-2},0.15215135645177735,0.21420075655197857,0.26070824137317239,0.25226293925928911,0.23177002127404428,0.20936962948772639,0.12700297444802147,9.370188957048961E-2]
[null,null,null,null,null,{"$f":"F30/$F$33","v":9.4956060788061722E-2},0.15215135645177735,0.21420075655197857,0.26070824137317239,0.25226293925928911,0.23177002127404428,0.20936962948772639,0.12700297444802147,9.370188957048961E-2]
[null,null,null,null,null,{"$f":"F31/$F$33","v":0.3418417914896788},0.54774483940681129,0.77112266189730994,0.93854959385945302,0.90814650868172009,0.83437200983679871,0.75373060585736651,0.45721067143602356,0.33732677546762058]
[]
[]
[null,null,null,null,null,13419]
[null,null,null,null,null,{"$f":"F28/$F$33*100","v":15.192966991355542},{"$f":"G28/$F$33*100","v":24.344212650325659},34.272114879335277,41.71331111131083,40.362063016314181,37.083196728871002,33.499134688191376,20.320472253998066,14.992299632664134]
[null,null,null,null,null,{"$f":"F29/$F$33*100","v":9.4956060788061727},15.215135645177735,21.420075655197856,26.070824137317238,25.226293925928911,23.177002127404428,20.936962948772639,12.700297444802148,9.3701889570489616]
[null,null,null,null,null,{"$f":"F30/$F$33*100","v":9.4956060788061727},15.215135645177735,21.420075655197856,26.070824137317238,25.226293925928911,23.177002127404428,20.936962948772639,12.700297444802148,9.3701889570489616]
[null,null,null,null,null,{"$f":"F38/$F$33","v":0},0,0,0,0,0,0,0,0]

{"sheet":"Ex 2 Aquifers","index":5,"n_rows":20,"n_cols":17,"rows_kept":20,"cut":false,"hidden":false,"merged":[[2,0,2,14],[1,0,1,14],[3,0,3,9]]}
["Total Aquifer Storage Ending Inventory (MDths)"]
[]
[]
[null,null,null,null,null,null,null,null,null,null,null,null,null,null,1082,1106]
[]
[null,null,null,null,null,null,null,1.0549999999999999,null,null,null,null,"Month/Year","Month","Inj","With","Total"]
["Month/Year","Actual","Normal",null,"Actual","IRP",null,"MCF","DTH","MDTH",null,null,null,null,null,null,724.50799393653904]
[{"$f":"'Ex 1 HDD'!$A$8","v":"2021-06-01"},{"$f":"J8","v":763.97699999999998},{"$f":"Q8","v":724.50799393653904},{"$f":"B8-C8","v":39.469006063460938},{"$f":"B8","v":763.97699999999998},{"$f":"C8","v":724.50799393653904},null,{"$f":"I8/$H$6","v":724148.81516587688},763977,{"$f":"I8/1000","v":763.97699999999998},null,null,{"$f":"A8","v":"2021-06-01"},{"$f":"Q7","v":724.50799393653904},0,0,{"$f":"N8+O8-P8","v":724.50799393653904}]
[{"$f":"'Ex 1 HDD'!$A$9","v":"2021-07-01"},{"$f":"J9","v":761.37400000000002},{"$f":"Q9","v":724.50799393653904},{"$f":"B9-C9","v":36.866006063460986},{"$f":"B9+E8","v":1525.3510000000001},{"$f":"C9+F8","v":1449.0159878730781},null,{"$f":"I9/$H$6","v":721681.51658767776},761374,{"$f":"I9/1000","v":761.37400000000002},null,null,{"$f":"A9","v":"2021-07-01"},{"$f":"Q8","v":724.50799393653904},0,0,724.50799393653904]
[{"$f":"'Ex 1 HDD'!$A$10","v":"2021-08-01"},759.649,724.50799393653904,{"$f":"B10-C10","v":35.141006063460964},{"$f":"B10+E9","v":2285},2173.523981809617,null,720046.4454976304,759649,759.649,null,null,"2021-08-01",{"$f":"Q9","v":724.50799393653904},0,0,724.50799393653904]
[{"$f":"'Ex 1 HDD'!$A$11","v":"2021-09-01"},1129.942,836.79399393653898,{"$f":"B11-C11","v":293.14800606346103},{"$f":"B11+E10","v":3414.942},3010.3179757461558,null,{"$f":"I11/$H$6","v":1071035.0710900475},1129942,{"$f":"I11/1000","v":1129.942},null,null,"2021-09-01",724.50799393653904,112.286,0,836.79399393653898]
[{"$f":"'Ex 1 HDD'!$A12","v":"2021-10-01"},1717.2919999999999,1307.993993936539,409.29800606346089,5132.2340000000004,4318.3119696826943,null,{"$f":"I12/$H$6","v":1627764.9289099528},1717292,{"$f":"I12/1000","v":1717.2919999999999},null,null,"2021-10-01",836.79399393653898,471.2,0,1307.993993936539]
[{"$f":"'Ex 1 HDD'!$A13","v":"2021-11-01"},1859.92,1788.1799939365392,71.740006063460896,6992.1540000000005,6106.4919636192335,null,1762957.3459715641,1859920,1859.92,null,null,"2021-11-01",1307.993993936539,480.18600000000004,0,1788.1799939365392]
[{"$f":"'Ex 1 HDD'!$A14","v":"2021-12-01"},1873.002,1928.3679939365393,-55.365993936539326,8865.1560000000009,8034.8599575557728,null,{"$f":"I14/$H$6","v":1775357.3459715641},1873002,1873.002,null,null,"2021-12-01",1788.1799939365392,140.18800000000002,0,1928.3679939365393]
[{"$f":"'Ex 1 HDD'!$A15","v":"2022-01-01"},1866.375,552.36999393653923,1314.0050060634608,10731.531000000001,8587.2299514923125,null,1769075.8293838864,1866375,1866.375,null,null,"2022-01-01",1928.3679939365393,0,1375.998,{"$f":"N15+O15-P15","v":552.36999393653923}]
[{"$f":"'Ex 1 HDD'!$A16","v":"2022-02-01"},1215.712,478.6839939365392,737.02800606346079,11947.243,9065.9139454288525,null,1152333.6492890995,1215712,{"$f":"I16/1000","v":1215.712},null,null,"2022-02-01",552.36999393653923,0,73.686000000000007,478.6839939365392]
[{"$f":"'Ex 1 HDD'!$A17","v":"2022-03-01"},1075.336,803.6839939365392,271.65200606346082,13022.579,9869.5979393653924,null,1019275.8293838863,1075336,{"$f":"I17/1000","v":1075.336},null,null,"2022-03-01",478.6839939365392,325,0,803.6839939365392]
[{"$f":"'Ex 1 HDD'!$A18","v":"2022-04-01"},770.899,803.6839939365392,-32.784993936539195,13793.477999999999,10673.281933301932,null,730709.95260663517,770899,{"$f":"I18/1000","v":770.899},null,null,"2022-04-01",803.6839939365392,0,0,803.6839939365392]
[{"$f":"'Ex 1 HDD'!$A19","v":"2022-05-01"},648.65700000000004,803.6839939365392,-155.02699393653916,14442.134999999998,11476.965927238472,null,614840.75829383894,648657,{"$f":"I19/1000","v":648.65700000000004},null,null,"2022-05-01",803.6839939365392,0,0,803.6839939365392]
[null,null,null,null,null,null,null,null,null,null,null,null,null,null,{"$f":"SUM(O8:O19)","v":1528.8600000000001},{"$f":"SUM(P8:P19)","v":1449.684}]

{"sheet":"Ex 2 Spire Storage West","index":6,"n_rows":21,"n_cols":17,"rows_kept":21,"cut":false,"hidden":true,"merged":[]}
[]
[]
[]
[]
[null,null,null,null,null,null,null,null,null,null,null,null,null,null,1082,1106]
[null,null,null,null,null,null,null,1000,null,null,null,null,null,"Month","Inj","With","Total"]
[{"$f":"'Ex 1 HDD'!A7","v":"Month/Year"},"Actual","Normal","Days","Daily Demand",null,"Actual Dth","MDth",null,"Actual","Normal",null,null,null,null,null,731]
[{"$f":"'Ex 1 HDD'!A8","v":"2021-06-01"},{"$f":"H8","v":799.21500000000003},{"$f":"Q8","v":1072.73},{"$f":"DAY(EOMONTH(A8,0))","v":30},{"$f":"C8/D8","v":35.757666666666665},null,799215,{"$f":"G8/$H$6","v":799.21500000000003},null,949.73599999999999,{"$f":"C8","v":1072.73},null,{"$f":"A8","v":"2021-06-01"},{"$f":"Q7","v":731},341.73,0,{"$f":"N8+O8-P8","v":1072.73}]
[{"$f":"'Ex 1 HDD'!A9","v":"2021-07-01"},{"$f":"H9","v":1151.3440000000001},{"$f":"Q9","v":1425.85},{"$f":"DAY(EOMONTH(A9,0))","v":31},{"$f":"C9/D9","v":45.995161290322578},null,1151344,{"$f":"G9/$H$6","v":1151.3440000000001},null,{"$f":"B9+J8","v":2101.08},{"$f":"C9+K8","v":2498.58},null,{"$f":"A9","v":"2021-07-01"},{"$f":"Q8","v":1072.73},353.12,0,1425.85]
[{"$f":"'Ex 1 HDD'!A10","v":"2021-08-01"},{"$f":"H10","v":1503.473},1778.9699999999998,31,57.386129032258061,null,1503473,1503.473,null,3604.5529999999999,4277.5499999999993,null,"2021-08-01",{"$f":"Q9","v":1425.85},353.12,0,1778.9699999999998]
[{"$f":"'Ex 1 HDD'!A11","v":"2021-09-01"},{"$f":"H11","v":1844.2429999999999},2120.6999999999998,30,70.69,null,1844243,1844.2429999999999,null,5448.7960000000003,6398.2499999999991,null,"2021-09-01",1778.9699999999998,341.73,0,2120.6999999999998]
[{"$f":"'Ex 1 HDD'!A12","v":"2021-10-01"},2052.4560000000001,2473.819,31,79.800612903225812,null,2052456,2052.4560000000001,null,7501.2520000000004,8872.0689999999995,null,"2021-10-01",2120.6999999999998,353.11900000000003,0,2473.819]
[{"$f":"'Ex 1 HDD'!A13","v":"2021-11-01"},1782.492,2511.0070000000001,30,83.70023333333333,null,1782492,1782.492,null,9283.7440000000006,11383.075999999999,null,"2021-11-01",2473.819,37.188000000000002,0,2511.0070000000001]
[{"$f":"'Ex 1 HDD'!A14","v":"2021-12-01"},1267.8920000000001,2003.0070000000001,31,64.613129032258072,null,1267892,1267.8920000000001,null,10551.636,13386.082999999999,null,"2021-12-01",2511.0070000000001,0,508,2003.0070000000001]
[{"$f":"'Ex 1 HDD'!A15","v":"2022-01-01"},763.66700000000003,1488.4070000000002,31,48.013129032258071,null,763667,763.66700000000003,null,11315.303,14874.489999999998,null,"2022-01-01",2003.0070000000001,0,514.6,1488.4070000000002]
[{"$f":"'Ex 1 HDD'!A16","v":"2022-02-01"},398.46699999999998,1023.6070000000002,28,36.557392857142865,null,398467,398.46699999999998,null,11713.77,15898.096999999998,null,"2022-02-01",1488.4070000000002,0,464.8,1023.6070000000002]
[{"$f":"'Ex 1 HDD'!A17","v":"2022-03-01"},{"$f":"G17","v":0},509.00700000000018,31,16.419580645161297,null,null,0,null,11713.77,16407.103999999999,null,"2022-03-01",1023.6070000000002,0,514.6,509.00700000000018]
[{"$f":"'Ex 1 HDD'!A18","v":"2022-04-01"},0,11.007000000000176,30,0.36690000000000583,null,null,0,null,11713.77,16418.111000000001,null,"2022-04-01",509.00700000000018,0,498,11.007000000000176]
[{"$f":"'Ex 1 HDD'!A19","v":"2022-05-01"},0,11.007000000000176,31,0.35506451612903794,null,null,0,null,11713.77,16429.118000000002,null,"2022-05-01",11.007000000000176,0,0,11.007000000000176]
[]
[null,null,null,null,null,null,null,null,null,null,null,null,null,null,{"$f":"SUM(O8:O20)","v":1780.0070000000001},{"$f":"SUM(O8:O19)","v":1780.0070000000001},{"$f":"SUM(P8:P19)","v":2500}]

{"sheet":"Exhibit 2.1","index":7,"n_rows":32,"n_cols":17,"rows_kept":32,"cut":false,"hidden":false,"merged":[]}
[]
[]
[]
[]
[]
[]
[]
[]
[]
[]
[]
[]
[]
[]
[]
[]
[]
[]
[]
[]
[]
[]
[]
[]
[]
[]
[]
[]
[]
[]
[null,null,null,null,null,null,null,null,null,null,null,null,null,null,{"$f":"'Exhibit 1.1'!O31","v":"DEU Variance Exhibit"},{"$f":"'Exhibit 1.1'!P31","v":"Docket No. 21-057-01"},{"$f":"'Exhibit 1.1'!Q31","v":"Dominion Energy Utah"}]
[null,null,null,null,null,null,null,null,null,null,null,null,null,null,2.1]

{"sheet":"Exhibit 2.3","index":8,"n_rows":32,"n_cols":17,"rows_kept":32,"cut":false,"hidden":true,"merged":[]}
[]
[]
[]
[]
[]
[]
[]
[]
[]
[]
[]
[]
[]
[]
[]
[]
[]
[]
[]
[]
[]
[]
[]
[]
[]
[]
[]
[]
[]
[]
[null,null,null,null,null,null,null,null,null,null,null,null,null,null,{"$f":"'Exhibit 1.1'!O31","v":"DEU Variance Exhibit"},{"$f":"'Exhibit 1.1'!P31","v":"Docket No. 21-057-01"},{"$f":"'Exhibit 1.1'!Q31","v":"Dominion Energy Utah"}]
[null,null,null,null,null,null,null,null,null,null,null,null,null,null,2.2999999999999998]

{"sheet":"Exhibit 2.2","index":9,"n_rows":32,"n_cols":17,"rows_kept":32,"cut":false,"hidden":false,"merged":[]}
[]
[]
[]
[]
[]
[]
[]
[]
[]
[]
[]
[]
[]
[]
[]
[]
[]
[]
[]
[]
[]
[]
[]
[]
[]
[]
[]
[]
[]
[]
[null,null,null,null,null,null,null,null,null,null,null,null,null,null,{"$f":"'Exhibit 1.1'!O31","v":"DEU Variance Exhibit"},{"$f":"'Exhibit 1.1'!P31","v":"Docket No. 21-057-01"},{"$f":"'Exhibit 1.1'!Q31","v":"Dominion Energy Utah"}]
[null,null,null,null,null,null,null,null,null,null,null,null,null,null,2.2000000000000002]

{"sheet":"Exhibit 2.3 ","index":10,"n_rows":32,"n_cols":17,"rows_kept":32,"cut":false,"hidden":false,"merged":[]}
[]
[]
[]
[]
[]
[]
[]
[]
[]
[]
[]
[]
[]
[]
[]
[]
[]
[]
[]
[]
[]
[]
[]
[]
[]
[]
[]
[]
[]
[]
[null,null,null,null,null,null,null,null,null,null,null,null,null,null,{"$f":"'Exhibit 1.1'!O31","v":"DEU Variance Exhibit"},{"$f":"'Exhibit 1.1'!P31","v":"Docket No. 21-057-01"},{"$f":"'Exhibit 1.1'!Q31","v":"Dominion Energy Utah"}]
[null,null,null,null,null,null,null,null,null,null,null,null,null,null,2.2999999999999998]

{"sheet":"Exhibit 2.4 ","index":11,"n_rows":32,"n_cols":17,"rows_kept":32,"cut":false,"hidden":false,"merged":[]}
[]
[]
[]
[]
[]
[]
[]
[]
[]
[]
[]
[]
[]
[]
[]
[]
[]
[]
[]
[]
[]
[]
[]
[]
[]
[]
[]
[]
[]
[]
[null,null,null,null,null,null,null,null,null,null,null,null,null,null,{"$f":"'Exhibit 1.1'!O31","v":"DEU Variance Exhibit"},{"$f":"'Exhibit 1.1'!P31","v":"Docket No. 21-057-01"},{"$f":"'Exhibit 1.1'!Q31","v":"Dominion Energy Utah"}]
[null,null,null,null,null,null,null,null,null,null,null,null,null,null,2.4]

{"sheet":"Exhibit 2.6","index":12,"n_rows":32,"n_cols":17,"rows_kept":32,"cut":false,"hidden":true,"merged":[]}
[]
[]
[]
[]
[]
[]
[]
[]
[]
[]
[]
[]
[]
[]
[]
[]
[]
[]
[]
[]
[]
[]
[]
[]
[]
[]
[]
[]
[]
[]
[null,null,null,null,null,null,null,null,null,null,null,null,null,null,{"$f":"'Exhibit 1.1'!O31","v":"DEU Variance Exhibit"},{"$f":"'Exhibit 1.1'!P31","v":"Docket No. 21-057-01"},{"$f":"'Exhibit 1.1'!Q31","v":"Dominion Energy Utah"}]
[null,null,null,null,null,null,null,null,null,null,null,null,null,null,2.6]

{"sheet":"Exhibit Firm Sales Volume","index":13,"n_rows":20,"n_cols":8,"rows_kept":20,"cut":false,"hidden":false,"merged":[[1,0,1,9],[5,6,5,8]]}
["Demand"]
[]
[]
[]
[]
[null,null,null,null,null,null,"Cumulative"]
[{"$f":"'Ex 1 HDD'!A7","v":"Month/Year"},"Actual","IRP Forecast (Normal)","Days","Daily Demand",null,"Actual","IRP Forecast (Normal)"]
["2021-06-01",2614.548315,3139.509,{"$f":"DAY(EOMONTH(A8,0))","v":30},{"$f":"C8/D8","v":104.6503},null,{"$f":"B8","v":2614.548315},{"$f":"C8","v":3139.509}]
["2021-07-01",2546.9650840000004,2551.1979999999999,{"$f":"DAY(EOMONTH(A9,0))","v":31},{"$f":"C9/D9","v":82.296709677419344},null,{"$f":"B9+G8","v":5161.5133990000004},{"$f":"C9+H8","v":5690.7070000000003}]
["2021-08-01",2446.7676179999999,2497.8389999999999,31,80.575451612903223,null,{"$f":"B10+G9","v":7608.2810170000002},{"$f":"C10+H9","v":8188.5460000000003}]
["2021-09-01",2864.8947590000002,2918.777,30,97.292566666666673,null,10473.175776,11107.323]
["2021-10-01",7660.8666240000002,7003.665,31,225.92467741935485,null,18134.042399999998,18110.988000000001]
["2021-11-01",10491.417799999999,12306.281999999999,30,410.20939999999996,null,28625.460199999998,30417.27]
["2021-12-01",17567.339741,18804.153999999999,31,606.58561290322575,null,46192.799940999997,49221.423999999999]
["2022-01-01",21608.894214,21282.723999999998,31,686.53948387096773,null,67801.694155000005,70504.148000000001]
["2022-02-01",17464.552957,17912.102999999999,28,639.71796428571429,null,85266.247112000012,88416.251000000004]
["2022-03-01",12878.237883,13824.278,31,445.94445161290321,null,98144.484995000006,102240.52900000001]
["2022-04-01",9551.6284619999988,9529.6550000000007,30,317.65516666666667,null,107696.113457,111770.18400000001]
["2022-05-01",5875.7930629999992,5590.9849999999997,31,180.35435483870967,null,113571.90652,117361.16900000001]
[null,null,{"$f":"SUM(C8:C19)","v":117361.16900000001}]

{"sheet":"Exhibit 3.1","index":14,"n_rows":32,"n_cols":17,"rows_kept":32,"cut":false,"hidden":false,"merged":[]}
[]
[]
[]
[]
[]
[]
[]
[]
[]
[]
[]
[]
[]
[]
[]
[]
[]
[]
[]
[]
[]
[]
[]
[]
[]
[]
[]
[]
[]
[]
[null,null,null,null,null,null,null,null,null,null,null,null,null,null,"DEU Variance Exhibit ","Docket No. 21-057-01","Dominion Energy Utah"]
[null,null,null,null,null,null,null,null,null,null,null,null,null,null,3.1]

{"sheet":"Exhibit 3.2","index":15,"n_rows":32,"n_cols":17,"rows_kept":32,"cut":false,"hidden":false,"merged":[]}
[]
[]
[]
[]
[]
[]
[]
[]
[]
[]
[]
[]
[]
[]
[]
[]
[]
[]
[]
[]
[]
[]
[]
[]
[]
[]
[]
[]
[]
[]
[null,null,null,null,null,null,null,null,null,null,null,null,null,null,"DEU Variance Exhibit ","Docket No. 21-057-01","Dominion Energy Utah"]
[null,null,null,null,null,null,null,null,null,null,null,null,null,null,3.2]

{"sheet":"Exhibit 3.3","index":16,"n_rows":32,"n_cols":17,"rows_kept":32,"cut":false,"hidden":false,"merged":[]}
[]
[]
[]
[]
[]
[]
[]
[]
[]
[]
[]
[]
[]
[]
[]
[]
[]
[]
[]
[]
[]
[]
[]
[]
[]
[]
[]
[]
[]
[]
[null,null,null,null,null,null,null,null,null,null,null,null,null,null,"DEU Variance Exhibit ","Docket No. 21-057-01","Dominion Energy Utah"]
[null,null,null,null,null,null,null,null,null,null,null,null,null,null,3.3]

{"sheet":"Exhibit 3.4","index":17,"n_rows":52,"n_cols":8,"rows_kept":52,"cut":false,"hidden":false,"merged":[[8,2,8,3],[8,4,8,5],[8,6,8,7]]}
[null,null,null,null,null,null,null,"Dominion Energy Utah"]
[null,null,null,null,null,null,null,"Docket No. 21-057-01"]
[null,null,null,null,null,null,null,"DEU Variance Exhibit 3.4"]
[]
[]
[null,"IRP Variance"]
[]
[null,"Actual Results "]
[null,null,"2022-03-07",null,"2022-04-07",null,"2022-05-08"]
[null,"SUPPLY","Actual","IRP","Actual","IRP","Actual","IRP"]
[1,"Cost of Service Prod (Mbtu)",4811,5155.9550000000008,4750,4714.3679999999995,4686,4794.9159999999993]
[{"$f":"A11+1","v":2},"Purchases (Mbtu)",5376,7286.4679999999998,2946,5658.2969999999996,1018,3102.498]
[{"$f":"A12+1","v":3},"Clay Basin With (Mbtu)",2683.85,0,1778.816,0,593.42200000000003,0]
[{"$f":"A13+1","v":4},"Acquifers With (Mbtu)",440.423,1599.106,373.20699999999999,0,131.821,0]
[5,"Off-System ",18.913250000000001,39.677,8.9479600000000001,38.396999999999998,32.133960000000002,39.677]
[]
[{"$f":"A15+1","v":6},"Total Supply",13330.186250000001,14081.206,9856.9709600000006,10411.062,6461.3769600000005,7937.0909999999985]
[]
[null,"DEMAND"]
[{"$f":"A17+1","v":7},"Firm Sales (Mbtu)",12878.237883,13386.887333869938,9551.6284619999988,9176.4202871322686,5875.7930629999992,5275.2556929588363]
[{"$f":"A20+1","v":8},"Interruptible Sales (Mbtu)",45.928728,43.19055557250978,34.376972000000002,34.18309783935554,29.255696,21.971067428588871]
[{"$f":"A21+1","v":9},"Clay Basin Inj (Mbtu)",212.39699999999999,0,17.844999999999999,945,652.82100000000003,2418]
[{"$f":"A22+1","v":10},"Acquifers Inj (Mbtu)",311.11700000000002,325,74.421000000000006,0,12.553000000000001,0]
[11,"Off-System ",18.913250000000001,37.601451873779297,8.9479600000000001,36.388500213622997,32.133960000000002,37.601451873779297]
[{"$f":"A24+1","v":12},"Fuel",92.025999999999996,215.733,74.296000000000006,169.149,76.375,155.55199999999999]
[{"$f":"A25+1","v":13},"Company Use / L&U",-228.80600000000001,72.791025489568725,95.191000000000003,49.921473816037221,-217.23400000000001,28.710968993604169]
[]
[{"$f":"A26+1","v":14},"Total Demand",13329.813861000001,14081.203366805796,9856.7063939999989,10411.062359001284,6461.6977189999989,7937.0911812548084]
[null," "]
[]
[{"$f":"A28+1","v":15},"Clay Basin Fuel Usage Adjustment",-2.9000000000000001E-2,0,-2.5000000000000001E-2,0,-1.0999999999999999E-2,0]
[{"$f":"A31+1","v":16},"Clay Basin Transfers",0,0,0,0,0,0]
[{"$f":"A32+1","v":17},"Acquifers Fuel Usage Adjustment",-11.07,0,-5.6509999999999998,0,-2.9740000000000002,0]
[{"$f":"A33+1","v":18},"Acquifers Transfers",0,0,0,0,0,0]
[{"$f":"A34+1","v":19},"Clay Basin Current Bal",2012.1719999999987,9.9999999974897946E-4,251.17599999999865,945.00099999999975,310.56399999999866,3363.0019999999995]
[{"$f":"A35+1","v":20},"Acquifers Current Bal",1075.336,0,770.89900000000011,0,648.65700000000004,0]
[]
[21,"Purchases($/Dth)",4.41,2.7720247999442256,5.83,2.3504793049922967,7.58,2.2895183171753857]
[{"$f":"A38+1","v":22},"Purchases $ (000)",23708.16,20198.27,17175.18,13299.709999999997,7716.4400000000005,7103.2259999999997]
[]
[]
[null,"Variances"]
[{"$f":"A39+1","v":23},"Cost of service volumes",0,0,35.632000000000517,0,0,0]
[{"$f":"A43+1","v":24},"Purchase volumes",0,0,0,0,0,0]
[25,"Purchase $ Act over (under) IRP",3509.8899999999994,0,3875.470000000003,0,613.21400000000085,0]
[26,"Purchase Variance",0,-5295.8646754998445,0,-6375.1979674926906,0,-4772.4963531154572]
[27,"$ Variance",0,8805.7546754998439,0,10250.667967492695,0,5385.7103531154571]
[28,"Check",3509.8899999999994,-3509.8899999999994,3875.470000000003,-3875.4700000000039,613.21400000000085,-613.21399999999994]
[29,"Quarter Variance",null,null,null,null,7998.5740000000033]
[30,"Purchase Variance",null,null,null,null,-16443.558996107993]
[31,"$ Variance",null,null,null,null,24442.132996107997]
[32,"Check",null,null,null,null,0]

{"sheet":"Ex 4 Purchase Gas","index":18,"n_rows":23,"n_cols":13,"rows_kept":23,"cut":false,"hidden":false,"merged":[[5,6,5,7]]}
["Purchase Gas Variance (Brady Included) MDths"]
[]
[]
[]
[]
[null,null,null,null,null,null,"Cumulative"]
["Month/Year","Actual","IRP Normal",null,"Month/Year","Actual","Normal",null,"Month/Year","DTHS","MDTHS","$'S","$1,000'S"]
[{"$f":"'Ex 1 HDD'!A8","v":"2021-06-01"},{"$f":"K8","v":0},528.77499999999998,null,{"$f":"A8","v":"2021-06-01"},{"$f":"K8","v":0},{"$f":"C8","v":528.77499999999998},null,{"$f":"A8","v":"2021-06-01"},0,{"$f":"J8/1000","v":0},0,{"$f":"L8/1000","v":0}]
[{"$f":"'Ex 1 HDD'!A9","v":"2021-07-01"},{"$f":"K9","v":0},58.161999999999999,null,"2021-07-01",{"$f":"F8+K9","v":0},{"$f":"G8+C9","v":586.93700000000001},null,"2021-07-01",0,{"$f":"J9/1000","v":0},0,0]
[{"$f":"'Ex 1 HDD'!A10","v":"2021-08-01"},70,91.244,null,"2021-08-01",70,678.18100000000004,null,"2021-08-01",70000,{"$f":"J10/1000","v":70},262800,262.8]
[{"$f":"'Ex 1 HDD'!A11","v":"2021-09-01"},558.69899999999996,1151.47,null,"2021-09-01",628.69899999999996,1829.6510000000001,null,"2021-09-01",558699,558.69899999999996,2666026,2666.0259999999998]
[{"$f":"'Ex 1 HDD'!A12","v":"2021-10-01"},5376.8059999999996,4409.59,null,"2021-10-01",6005.5049999999992,6239.241,null,"2021-10-01",5376806,5376.8059999999996,29004796,29004.795999999998]
[{"$f":"'Ex 1 HDD'!A13","v":"2021-11-01"},6573.12,6661.9250000000002,null,"2021-11-01",12578.625,12901.166000000001,null,"2021-11-01",6573120,6573.12,33754182,33754.182000000001]
[{"$f":"'Ex 1 HDD'!A14","v":"2021-12-01"},12438.054,9621.875,null,"2021-12-01",25016.679,22523.041000000001,null,"2021-12-01",12438054,12438.054,73704630,73704.63]
[{"$f":"'Ex 1 HDD'!A15","v":"2022-01-01"},12925.584999999999,11451.82,null,"2022-01-01",37942.263999999996,33974.861000000004,null,"2022-01-01",12925585,12925.584999999999,81524649,81524.649000000005]
[{"$f":"'Ex 1 HDD'!A16","v":"2022-02-01"},11200.611000000001,10038.776999999998,null,"2022-02-01",49142.875,44013.638000000006,null,"2022-02-01",11200611,11200.611000000001,58371761,58371.760999999999]
[{"$f":"'Ex 1 HDD'!A17","v":"2022-03-01"},5376.0389999999998,7286.4679999999998,null,"2022-03-01",54518.913999999997,51300.106000000007,null,"2022-03-01",5376039,5376.0389999999998,23719354.57,23719.35457]
[{"$f":"'Ex 1 HDD'!A18","v":"2022-04-01"},2945.8270000000002,5658.2970000000005,null,"2022-04-01",57464.740999999995,{"$f":"G17+C18","v":56958.403000000006},null,"2022-04-01",2945827,2945.8270000000002,17170484.189999998,17170.484189999999]
[{"$f":"'Ex 1 HDD'!A19","v":"2022-05-01"},1018.369,3102.498,null,"2022-05-01",58483.109999999993,60060.901000000005,null,"2022-05-01",1018369,1018.369,7718640.8300000001,7718.6408300000003]
[]
[null,{"$f":"SUM(B8:B19)","v":58483.109999999993},{"$f":"SUM(C8:C20)","v":60060.901000000005}]
[]
[null,{"$f":"B16-B17","v":5824.572000000001}]

{"sheet":"Exhibit 4.1","index":19,"n_rows":32,"n_cols":17,"rows_kept":32,"cut":false,"hidden":false,"merged":[]}
[]
[]
[]
[]
[]
[]
[]
[]
[]
[]
[]
[]
[]
[]
[]
[]
[]
[]
[]
[]
[]
[]
[]
[]
[]
[]
[]
[]
[]
[]
[null,null,null,null,null,null,null,null,null,null,null,null,null,null,{"$f":"'Exhibit 1.1'!O31","v":"DEU Variance Exhibit"},{"$f":"'Exhibit 1.1'!P31","v":"Docket No. 21-057-01"},{"$f":"'Exhibit 1.1'!Q31","v":"Dominion Energy Utah"}]
[null,null,null,null,null,null,null,null,null,null,null,null,null,null,4.0999999999999996]

{"sheet":"Exhibit 4.2","index":20,"n_rows":31,"n_cols":17,"rows_kept":31,"cut":false,"hidden":false,"merged":[]}
[]
[]
[]
[]
[]
[]
[]
[]
[]
[]
[]
[]
[]
[]
[]
[]
[]
[]
[]
[]
[]
[]
[]
[]
[]
[]
[]
[]
[]
[null,null,null,null,null,null,null,null,null,null,null,null,null,null,{"$f":"'Exhibit 1.1'!O31","v":"DEU Variance Exhibit"},{"$f":"'Exhibit 1.1'!P31","v":"Docket No. 21-057-01"},{"$f":"'Exhibit 1.1'!Q31","v":"Dominion Energy Utah"}]
[null,null,null,null,null,null,null,null,null,null,null,null,null,null,4.2]

{"sheet":"Exhibit 4.3","index":21,"n_rows":32,"n_cols":17,"rows_kept":32,"cut":false,"hidden":false,"merged":[]}
[]
[]
[]
[]
[]
[]
[]
[]
[]
[]
[]
[]
[]
[]
[]
[]
[]
[]
[]
[]
[]
[]
[]
[]
[]
[]
[]
[]
[]
[]
[null,null,null,null,null,null,null,null,null,null,null,null,null,null,{"$f":"'Exhibit 1.1'!O31","v":"DEU Variance Exhibit"},{"$f":"'Exhibit 1.1'!P31","v":"Docket No. 21-057-01"},{"$f":"'Exhibit 1.1'!Q31","v":"Dominion Energy Utah"}]
[null,null,null,null,null,null,null,null,null,null,null,null,null,null,4.3]

{"sheet":"Ex 5 Purchase Gas Cost","index":22,"n_rows":21,"n_cols":6,"rows_kept":21,"cut":false,"hidden":false,"merged":[[1,0,1,6],[0,0,0,6],[2,0,2,7],[5,4,5,5]]}
["Purchase Gas Cost Variance ($1,000's)"]
[]
[]
[]
[]
[null,null,null,null,"Cumulative"]
["Month/Year","Actual","Normal",null,"Actual","Normal"]
[{"$f":"'Ex 1 HDD'!A8","v":"2021-06-01"},{"$f":"'Ex 4 Purchase Gas'!M8","v":0},1302.127,null,{"$f":"B8","v":0},{"$f":"C8","v":1302.127}]
[{"$f":"'Ex 1 HDD'!A9","v":"2021-07-01"},{"$f":"'Ex 4 Purchase Gas'!M9","v":0},150.54400000000001,null,{"$f":"E8+B9","v":0},{"$f":"C9+F8","v":1452.671}]
[{"$f":"'Ex 1 HDD'!A10","v":"2021-08-01"},{"$f":"'Ex 4 Purchase Gas'!M10","v":262.8},242.49,null,262.8,{"$f":"C10+F9","v":1695.1610000000001}]
[{"$f":"'Ex 1 HDD'!A11","v":"2021-09-01"},{"$f":"'Ex 4 Purchase Gas'!M11","v":2666.0259999999998},2667.0160000000001,null,2928.826,4362.1769999999997]
[{"$f":"'Ex 1 HDD'!A12","v":"2021-10-01"},{"$f":"'Ex 4 Purchase Gas'!M12","v":29004.795999999998},11151.42,null,31933.621999999999,15513.597]
[{"$f":"'Ex 1 HDD'!A13","v":"2021-11-01"},{"$f":"'Ex 4 Purchase Gas'!M13","v":33754.182000000001},18111.22,null,65687.804000000004,33624.817000000003]
[{"$f":"'Ex 1 HDD'!A14","v":"2021-12-01"},73705,27774.06,null,139392.804,61398.877000000008]
[{"$f":"'Ex 1 HDD'!A15","v":"2022-01-01"},81524,39159.19,null,220916.804,100558.06700000001]
[{"$f":"'Ex 1 HDD'!A16","v":"2022-02-01"},58372,32165.38,null,279288.804,132723.44700000001]
[{"$f":"'Ex 1 HDD'!A17","v":"2022-03-01"},23719.35457,20198.27,null,303008.15857000003,152921.717]
[{"$f":"'Ex 1 HDD'!A18","v":"2022-04-01"},17170.484189999999,13299.71,null,320178.64276000002,166221.427]
[{"$f":"'Ex 1 HDD'!A19","v":"2022-05-01"},7718.6408300000003,7103.2259999999997,null,327897.28359000001,173324.65299999999]
[]
[null,null,{"$f":"SUM(C8:C19)","v":173324.65299999999}]

{"sheet":"Exhibit 5.1","index":23,"n_rows":32,"n_cols":16,"rows_kept":32,"cut":false,"hidden":false,"merged":[]}
[]
[]
[]
[]
[]
[]
[]
[]
[]
[]
[]
[]
[]
[]
[]
[]
[]
[]
[]
[]
[]
[]
[]
[]
[]
[]
[]
[]
[]
[]
[null,null,null,null,null,null,null,null,null,null,null,null,null,{"$f":"'Exhibit 1.1'!O31","v":"DEU Variance Exhibit"},{"$f":"'Exhibit 1.1'!P31","v":"Docket No. 21-057-01"},{"$f":"'Exhibit 1.1'!Q31","v":"Dominion Energy Utah"}]
[null,null,null,null,null,null,null,null,null,null,null,null,null,5.0999999999999996]

{"sheet":"Exhibit 5.2","index":24,"n_rows":32,"n_cols":17,"rows_kept":32,"cut":false,"hidden":false,"merged":[]}
[]
[]
[]
[]
[]
[]
[]
[]
[]
[]
[]
[]
[]
[]
[]
[]
[]
[]
[]
[]
[]
[]
[]
[]
[]
[]
[]
[]
[]
[]
[null,null,null,null,null,null,null,null,null,null,null,null,null,null,{"$f":"'Exhibit 1.1'!O31","v":"DEU Variance Exhibit"},{"$f":"'Exhibit 1.1'!P31","v":"Docket No. 21-057-01"},{"$f":"'Exhibit 1.1'!Q31","v":"Dominion Energy Utah"}]
[null,null,null,null,null,null,null,null,null,null,null,null,null,null,5.2]

{"sheet":"Exhibit 5.3","index":25,"n_rows":32,"n_cols":17,"rows_kept":32,"cut":false,"hidden":false,"merged":[]}
[]
[]
[]
[]
[]
[]
[]
[]
[]
[]
[]
[]
[]
[]
[]
[]
[]
[]
[]
[]
[]
[]
[]
[]
[]
[]
[]
[]
[]
[]
[null,null,null,null,null,null,null,null,null,null,null,null,null,null,{"$f":"'Exhibit 1.1'!O31","v":"DEU Variance Exhibit"},{"$f":"'Exhibit 1.1'!P31","v":"Docket No. 21-057-01"},{"$f":"'Exhibit 1.1'!Q31","v":"Dominion Energy Utah"}]
[null,null,null,null,null,null,null,null,null,null,null,null,null,null,5.3]

{"sheet":"Ex 6 Purch Gas Unit Cost","index":26,"n_rows":19,"n_cols":13,"rows_kept":19,"cut":false,"hidden":false,"merged":[[0,0,0,5],[1,0,1,7],[2,0,2,7],[46,2,46,13]]}
["Purchase Gas Unit Cost Variance ($1,000's)"]
[]
[]
[]
[]
[null,null,null,null,"Actual","Actual","Actual",null,"Normal","Normal","Normal"]
["Month/Year","Actual $/Dth","Normal $/Dth",null,"Dth","Cost","$/Dth",null,"Dth","Cost","$/Dth",null,"May Forward Strip"]
[{"$f":"'Ex 1 HDD'!A8","v":"2021-06-01"},{"$f":"G8","v":0},{"$f":"K8","v":2.4625351047231812},null,{"$f":"'Ex 4 Purchase Gas'!B8","v":0},{"$f":"'Ex 4 Purchase Gas'!M8","v":0},{"$f":"IFERROR(F8/E8,0)","v":0},null,{"$f":"'Ex 4 Purchase Gas'!C8","v":528.77499999999998},{"$f":"'Ex 5 Purchase Gas Cost'!C8","v":1302.127},{"$f":"IFERROR(J8/I8,0)","v":2.4625351047231812},null,2.5099999999999998]
[{"$f":"'Ex 1 HDD'!A9","v":"2021-07-01"},0,{"$f":"K9","v":2.5883566589869678},null,{"$f":"'Ex 4 Purchase Gas'!B9","v":0},{"$f":"'Ex 4 Purchase Gas'!M9","v":0},{"$f":"IFERROR(F9/E9,0)","v":0},null,{"$f":"'Ex 4 Purchase Gas'!C9","v":58.161999999999999},{"$f":"'Ex 5 Purchase Gas Cost'!C9","v":150.54400000000001},{"$f":"IFERROR(J9/I9,0)","v":2.5883566589869678},null,2.57]
[{"$f":"'Ex 1 HDD'!A10","v":"2021-08-01"},3.7542857142857144,2.6575994037964139,null,{"$f":"'Ex 4 Purchase Gas'!B10","v":70},{"$f":"'Ex 4 Purchase Gas'!M10","v":262.8},3.7542857142857144,null,{"$f":"'Ex 4 Purchase Gas'!C10","v":91.244},{"$f":"'Ex 5 Purchase Gas Cost'!C10","v":242.49},2.6575994037964139,null,2.54]
[{"$f":"'Ex 1 HDD'!A11","v":"2021-09-01"},4.7718467367938731,{"$f":"K11","v":2.3161836608856503},null,{"$f":"'Ex 4 Purchase Gas'!B11","v":558.69899999999996},{"$f":"'Ex 4 Purchase Gas'!M11","v":2666.0259999999998},4.7718467367938731,null,{"$f":"'Ex 4 Purchase Gas'!C11","v":1151.47},{"$f":"'Ex 5 Purchase Gas Cost'!C11","v":2667.0160000000001},2.3161836608856503,null,2.7]
[{"$f":"'Ex 1 HDD'!A12","v":"2021-10-01"},5.39442858827341,{"$f":"K12","v":2.5289017799840803},null,{"$f":"'Ex 4 Purchase Gas'!B12","v":5376.8059999999996},{"$f":"'Ex 4 Purchase Gas'!M12","v":29004.795999999998},5.39442858827341,null,{"$f":"'Ex 4 Purchase Gas'!C12","v":4409.59},{"$f":"'Ex 5 Purchase Gas Cost'!C12","v":11151.42},2.5289017799840803,null,2.83]
[{"$f":"'Ex 1 HDD'!A13","v":"2021-11-01"},5.1351842047612095,{"$f":"K13","v":2.7186166160681786},null,{"$f":"'Ex 4 Purchase Gas'!B13","v":6573.12},{"$f":"'Ex 4 Purchase Gas'!M13","v":33754.182000000001},5.1351842047612095,null,{"$f":"'Ex 4 Purchase Gas'!C13","v":6661.9250000000002},{"$f":"'Ex 5 Purchase Gas Cost'!C13","v":18111.22},{"$f":"IFERROR(J13/I13,0)","v":2.7186166160681786},null,2.79]
[{"$f":"'Ex 1 HDD'!A14","v":"2021-12-01"},5.9257364536285184,2.8865538161740827,null,{"$f":"'Ex 4 Purchase Gas'!B14","v":12438.054},{"$f":"'Ex 4 Purchase Gas'!M14","v":73704.63},5.9257364536285184,null,{"$f":"'Ex 4 Purchase Gas'!C14","v":9621.875},{"$f":"'Ex 5 Purchase Gas Cost'!C14","v":27774.06},2.8865538161740827,null,2.75]
[{"$f":"'Ex 1 HDD'!A15","v":"2022-01-01"},6.3072308912904145,3.4194730619237816,null,{"$f":"'Ex 4 Purchase Gas'!B15","v":12925.584999999999},{"$f":"'Ex 4 Purchase Gas'!M15","v":81524.649000000005},6.3072308912904145,null,{"$f":"'Ex 4 Purchase Gas'!C15","v":11451.82},{"$f":"'Ex 5 Purchase Gas Cost'!C15","v":39159.19},3.4194730619237816,null,3.12]
[{"$f":"'Ex 1 HDD'!A16","v":"2022-02-01"},5.2114800701497437,3.2041134094322454,null,{"$f":"'Ex 4 Purchase Gas'!B16","v":11200.611000000001},{"$f":"'Ex 4 Purchase Gas'!M16","v":58371.760999999999},5.2114800701497437,null,{"$f":"'Ex 4 Purchase Gas'!C16","v":10038.776999999998},{"$f":"'Ex 5 Purchase Gas Cost'!C16","v":32165.38},3.2041134094322454,null,3.5]
[{"$f":"'Ex 1 HDD'!A17","v":"2022-03-01"},4.4120503162272451,2.7720247999442256,null,{"$f":"'Ex 4 Purchase Gas'!B17","v":5376.0389999999998},{"$f":"'Ex 4 Purchase Gas'!M17","v":23719.35457},4.4120503162272451,null,{"$f":"'Ex 4 Purchase Gas'!C17","v":7286.4679999999998},{"$f":"'Ex 5 Purchase Gas Cost'!C17","v":20198.27},2.7720247999442256,null,3.66]
[{"$f":"'Ex 1 HDD'!A18","v":"2022-04-01"},5.8287483243245441,2.3504793049922967,null,{"$f":"'Ex 4 Purchase Gas'!B18","v":2945.8270000000002},{"$f":"'Ex 4 Purchase Gas'!M18","v":17170.484189999999},5.8287483243245441,null,{"$f":"'Ex 4 Purchase Gas'!C18","v":5658.2970000000005},{"$f":"'Ex 5 Purchase Gas Cost'!C18","v":13299.71},2.3504793049922967,null,3.43]
[{"$f":"'Ex 1 HDD'!A19","v":"2022-05-01"},7.579414563876159,2.2895183171753857,null,{"$f":"'Ex 4 Purchase Gas'!B19","v":1018.369},{"$f":"'Ex 4 Purchase Gas'!M19","v":7718.6408300000003},7.579414563876159,null,{"$f":"'Ex 4 Purchase Gas'!C19","v":3102.498},{"$f":"'Ex 5 Purchase Gas Cost'!C19","v":7103.2259999999997},2.2895183171753857,null,2.88]

{"sheet":"Exhibit 6.1","index":27,"n_rows":32,"n_cols":17,"rows_kept":32,"cut":false,"hidden":false,"merged":[]}
[]
[]
[]
[]
[]
[]
[]
[]
[]
[]
[]
[]
[]
[]
[]
[]
[]
[]
[]
[]
[]
[]
[]
[]
[]
[]
[]
[]
[]
[]
[null,null,null,null,null,null,null,null,null,null,null,null,null,null,{"$f":"'Exhibit 1.1'!O31","v":"DEU Variance Exhibit"},{"$f":"'Exhibit 1.1'!P31","v":"Docket No. 21-057-01"},{"$f":"'Exhibit 1.1'!Q31","v":"Dominion Energy Utah"}]
[null,null,null,null,null,null,null,null,null,null,null,null,null,null,6.1]

{"sheet":"Exhibit 6.2","index":28,"n_rows":32,"n_cols":17,"rows_kept":32,"cut":false,"hidden":false,"merged":[]}
[]
[]
[]
[]
[]
[]
[]
[]
[]
[]
[]
[]
[]
[]
[]
[]
[]
[]
[]
[]
[]
[]
[]
[]
[]
[]
[]
[]
[]
[]
[null,null,null,null,null,null,null,null,null,null,null,null,null,null,{"$f":"'Exhibit 1.1'!O31","v":"DEU Variance Exhibit"},{"$f":"'Exhibit 1.1'!P31","v":"Docket No. 21-057-01"},{"$f":"'Exhibit 1.1'!Q31","v":"Dominion Energy Utah"}]
[null,null,null,null,null,null,null,null,null,null,null,null,null,null,6.2]

{"sheet":"Ex 7 Co. Owned Gas","index":29,"n_rows":21,"n_cols":17,"rows_kept":21,"cut":false,"hidden":false,"merged":[[0,0,0,7],[2,14,2,19],[1,0,1,7],[2,0,2,10]]}
["Cost-of-Service Gas Variance (MDths)"]
[]
[]
[]
[]
[null,null,null,null,null,null,null,"Cumulative"]
["Month/Year","Actual","Normal","Full Production","Shut-in Est. Month","Shut-in Daily",null,"Actual","Normal",null,"Days in Mo.","Dthms","Dthms/Day"]
[{"$f":"'Ex 1 HDD'!A8","v":"2021-06-01"},{"$f":"'Company Nom Groups'!S115","v":4656.1660000000002},4722.1770000000006,4936.9083425907875,{"$f":"D8-C8","v":214.73134259078688},{"$f":"(E8/30)*1000","v":7157.711419692896},null,{"$f":"B8","v":4656.1660000000002},{"$f":"C8","v":4722.1770000000006},null,{"$f":"DAY(EOMONTH(A8,0))","v":30},{"$f":"C8","v":4722.1770000000006},{"$f":"L8/K8","v":157.40590000000003},null,null,null,5754.4783839995334]
[{"$f":"'Ex 1 HDD'!A9","v":"2021-07-01"},{"$f":"'Company Nom Groups'!W115","v":4613.5949999999993},4800.3310000000019,5020.9990155664709,220.66801556646897,{"$f":"(E9/30)*1000","v":7355.6005188822992},null,{"$f":"H8+B9","v":9269.7609999999986},{"$f":"I8+C9","v":9522.5080000000016},null,{"$f":"DAY(EOMONTH(A9,0))","v":31},{"$f":"C9","v":4800.3310000000019},{"$f":"L9/K9","v":154.84938709677425},null,null,null,5867.4130191810464]
[{"$f":"'Ex 1 HDD'!A10","v":"2021-08-01"},{"$f":"'Company Nom Groups'!AA115","v":4623.5680000000002},4608.7290000000012,4666.9528143327234,58.223814332722213,1940.7938110907403,null,13893.328999999998,14131.237000000003,null,31,4608.7290000000012,148.66867741935488,null,null,null,5986.08520467781]
[{"$f":"'Ex 1 HDD'!A11","v":"2021-09-01"},{"$f":"'Company Nom Groups'!AM115","v":4468.6420000000007},4373.6789999999992,4512.2859366094581,138.6069366094589,4620.231220315296,null,18361.970999999998,18504.916000000001,null,30,4373.6789999999992,145.78929999999997,null,null,null,5618.719148733463]
[{"$f":"'Ex 1 HDD'!A12","v":"2021-10-01"},{"$f":"'Company Nom Groups'!AQ115","v":4639.2529999999988},4516.2179999999998,4590.9290252481142,74.711025248114311,2490.3675082704767,null,23001.223999999995,23021.134000000002,null,31,4516.2179999999998,145.68445161290322,null,null,null,5665.4338021854201]
[{"$f":"'Ex 1 HDD'!A13","v":"2021-11-01"},{"$f":"'Company Nom Groups'!AU115","v":4516.208999999998},5297.3549999999977,5301.5501219673806,4.1951219673828746,139.83739891276247,null,27517.432999999994,28318.489000000001,null,30,5297.3549999999977,176.57849999999993,null,null,null,5366.2612820765262]
[{"$f":"'Ex 1 HDD'!A14","v":"2021-12-01"},4780,5402.6570000000002,5406.970878791989,4.3138787919888273,143.79595973296091,null,32297.432999999994,33721.146000000001,null,31,5402.6570000000002,174.27925806451614,null,null,null,5567.8766430258429]
[{"$f":"'Ex 1 HDD'!A15","v":"2022-01-01"},4638,5318.1109999999999,5322.3938842310417,4.2828842310418622,142.76280770139542,null,36935.43299999999,39039.256999999998,null,31,5318.1109999999999,171.55196774193547,null,null,null,5438.795676378295]
[{"$f":"'Ex 1 HDD'!A16","v":"2022-02-01"},4154,4734.4140000000007,4738.2532761775828,3.8392761775821782,127.9758725860726,null,41089.43299999999,43773.671000000002,null,28,4734.4140000000007,169.08621428571431,null,null,null,5101.5900718666953]
[{"$f":"'Ex 1 HDD'!A17","v":"2022-03-01"},4811.3589999999995,5155.9559999999992,5160.1883760006194,4.2323760006202065,141.07920002067357,null,45900.791999999987,48929.627,null,31,5155.9559999999992,166.32116129032255,null,null,null,5326.091885868781]
[{"$f":"'Ex 1 HDD'!A18","v":"2022-04-01"},4749.847999999999,4714.3680000000004,4914.0639030524126,{"$f":"D18-C18","v":199.69590305241218},6656.530101747072,null,50650.639999999985,53643.995000000003,null,30,4714.3680000000004,157.1456,null,null,null,5051.585886710629]
[{"$f":"'Ex 1 HDD'!A19","v":"2022-05-01"},4686.043999999999,4794.9159999999993,4999.4840492440735,204.56804924407425,{"$f":"(E19/30)*1000","v":6818.9349748024752},null,55336.683999999987,58438.911,null,31,4794.9159999999993,154.67470967741934,null,null,null,5126.3058280721052]
[]
[null,{"$f":"SUM(B8:B19)","v":55336.683999999987},{"$f":"SUM(C8:C19)","v":58438.911},{"$f":"SUM(D8:D19)","v":59570.979623812651}]

{"sheet":"Exhibit 7.1","index":30,"n_rows":33,"n_cols":17,"rows_kept":33,"cut":false,"hidden":false,"merged":[]}
[]
[]
[]
[]
[]
[]
[]
[]
[]
[]
[]
[]
[]
[]
[]
[]
[]
[]
[]
[]
[]
[]
[]
[]
[]
[]
[]
[]
[]
[]
[]
[null,null,null,null,null,null,null,null,null,null,null,null,null,null,{"$f":"'Exhibit 1.1'!O31","v":"DEU Variance Exhibit"},{"$f":"'Exhibit 1.1'!P31","v":"Docket No. 21-057-01"},{"$f":"'Exhibit 1.1'!Q31","v":"Dominion Energy Utah"}]
[null,null,null,null,null,null,null,null,null,null,null,null,null,null,7.1]

{"sheet":"Exhibit 7.2","index":31,"n_rows":32,"n_cols":17,"rows_kept":32,"cut":false,"hidden":false,"merged":[]}
[]
[]
[]
[]
[]
[]
[]
[]
[]
[]
[]
[]
[]
[]
[]
[]
[]
[]
[]
[]
[]
[]
[]
[]
[]
[]
[]
[]
[]
[]
[null,null,null,null,null,null,null,null,null,null,null,null,null,null,{"$f":"'Exhibit 1.1'!O31","v":"DEU Variance Exhibit"},{"$f":"'Exhibit 1.1'!P31","v":"Docket No. 21-057-01"},{"$f":"'Exhibit 1.1'!Q31","v":"Dominion Energy Utah"}]
[null,null,null,null,null,null,null,null,null,null,null,null,null,null,7.2]

{"sheet":"Exhibit 7.3","index":32,"n_rows":32,"n_cols":17,"rows_kept":32,"cut":false,"hidden":false,"merged":[]}
[]
[]
[]
[]
[]
[]
[]
[]
[]
[]
[]
[]
[]
[]
[]
[]
[]
[]
[]
[]
[]
[]
[]
[]
[]
[]
[]
[]
[]
[]
[null,null,null,null,null,null,null,null,null,null,null,null,null,null,{"$f":"'Exhibit 1.1'!O31","v":"DEU Variance Exhibit"},{"$f":"'Exhibit 1.1'!P31","v":"Docket No. 21-057-01"},{"$f":"'Exhibit 1.1'!Q31","v":"Dominion Energy Utah"}]
[null,null,null,null,null,null,null,null,null,null,null,null,null,null,7.3]

{"sheet":"Ex 8 New Drill","index":33,"n_rows":1489,"n_cols":28,"rows_kept":1489,"cut":false,"hidden":false,"merged":[[0,0,0,9],[1,0,1,9],[2,0,2,9],[22,0,25,4]]}
["Isolated New Drill Component (MDths)"]
[]
[]
[]
[]
[null,null,null,null,null,null,null,null,null,"Cumulative",null,"Cumulative"]
["Month/Year","ND Actual","ND Normal","Legacy Actual","Legacy Normal",null,null,"Prod Actual","Prod Normal","ND Actual","ND Normal",{"$f":"D7","v":"Legacy Actual"},{"$f":"E7","v":"Legacy Normal"}]
[{"$f":"'Ex 1 HDD'!A8","v":"2021-06-01"},0,{"$f":"'Company Nom Groups'!B133","v":0},{"$f":"H8-B8","v":4656.1660000000002},{"$f":"I8-C8","v":4722.1770000000006},null,null,{"$f":"'Ex 7 Co. Owned Gas'!B8","v":4656.1660000000002},{"$f":"'Ex 7 Co. Owned Gas'!C8","v":4722.1770000000006},{"$f":"B8","v":0},{"$f":"C8","v":0},{"$f":"D8","v":4656.1660000000002},{"$f":"E8","v":4722.1770000000006}]
[{"$f":"'Ex 1 HDD'!A9","v":"2021-07-01"},0,{"$f":"'Company Nom Groups'!C133","v":0},4613.5949999999993,4800.3310000000019,null,null,{"$f":"'Ex 7 Co. Owned Gas'!B9","v":4613.5949999999993},{"$f":"'Ex 7 Co. Owned Gas'!C9","v":4800.3310000000019},{"$f":"B8+B9","v":0},{"$f":"K8+C9","v":0},9269.7609999999986,9522.5080000000016]
[{"$f":"'Ex 1 HDD'!A10","v":"2021-08-01"},0,{"$f":"'Company Nom Groups'!D133","v":0},4623.5680000000002,4608.7290000000012,null,null,{"$f":"'Ex 7 Co. Owned Gas'!B10","v":4623.5680000000002},{"$f":"'Ex 7 Co. Owned Gas'!C10","v":4608.7290000000012},{"$f":"J9+B10","v":0},0,13893.328999999998,14131.237000000003]
[{"$f":"'Ex 1 HDD'!A11","v":"2021-09-01"},0,{"$f":"'Company Nom Groups'!E133","v":0},4468.6420000000007,4373.6789999999992,null,null,{"$f":"'Ex 7 Co. Owned Gas'!B11","v":4468.6420000000007},{"$f":"'Ex 7 Co. Owned Gas'!C11","v":4373.6789999999992},0,{"$f":"K10+C11","v":0},{"$f":"L10+D11","v":18361.970999999998},{"$f":"M10+E11","v":18504.916000000001}]
[{"$f":"'Ex 1 HDD'!A12","v":"2021-10-01"},0,{"$f":"'Company Nom Groups'!F133","v":0},4639.2529999999988,4516.2179999999998,null,null,{"$f":"'Ex 7 Co. Owned Gas'!B12","v":4639.2529999999988},{"$f":"'Ex 7 Co. Owned Gas'!C12","v":4516.2179999999998},0,0,{"$f":"L11+D12","v":23001.223999999995},23021.134000000002]
[{"$f":"'Ex 1 HDD'!A13","v":"2021-11-01"},177,{"$f":"'Company Nom Groups'!G133","v":470.04},4339.208999999998,4827.3149999999978,null,null,{"$f":"'Ex 7 Co. Owned Gas'!B13","v":4516.208999999998},{"$f":"'Ex 7 Co. Owned Gas'!C13","v":5297.3549999999977},177,470.04,27340.432999999994,27848.449000000001]
[{"$f":"'Ex 1 HDD'!A14","v":"2021-12-01"},476.685,0,4303.3149999999996,5402.6570000000002,null,null,{"$f":"'Ex 7 Co. Owned Gas'!B14","v":4780},{"$f":"'Ex 7 Co. Owned Gas'!C14","v":5402.6570000000002},653.68499999999995,470.04,31643.747999999992,33251.106]
[{"$f":"'Ex 1 HDD'!A15","v":"2022-01-01"},453.64800000000002,404,4184.3519999999999,4914.1109999999999,null,null,{"$f":"'Ex 7 Co. Owned Gas'!B15","v":4638},{"$f":"'Ex 7 Co. Owned Gas'!C15","v":5318.1109999999999},1107.3330000000001,874.04,35828.099999999991,38165.216999999997]
[{"$f":"'Ex 1 HDD'!A16","v":"2022-02-01"},401.54700000000003,379,3752.453,4355.4140000000007,null,null,{"$f":"'Ex 7 Co. Owned Gas'!B16","v":4154},{"$f":"'Ex 7 Co. Owned Gas'!C16","v":4734.4140000000007},1508.88,1253.04,39580.552999999993,42520.630999999994]
[{"$f":"'Ex 1 HDD'!A17","v":"2022-03-01"},414.58199999999999,345,4396.7769999999991,4810.9559999999992,null,null,{"$f":"'Ex 7 Co. Owned Gas'!B17","v":4811.3589999999995},{"$f":"'Ex 7 Co. Owned Gas'!C17","v":5155.9559999999992},1923.462,1598.04,43977.329999999994,47331.586999999992]
[{"$f":"'Ex 1 HDD'!A18","v":"2022-04-01"},344.13200000000001,{"$f":"'Company Nom Groups'!L133","v":388.16100000000006},4405.7159999999994,4326.2070000000003,null,null,{"$f":"'Ex 7 Co. Owned Gas'!B18","v":4749.847999999999},{"$f":"'Ex 7 Co. Owned Gas'!C18","v":4714.3680000000004},2267.5940000000001,1986.201,48383.045999999995,51657.793999999994]
[{"$f":"'Ex 1 HDD'!A19","v":"2022-05-01"},257.06799999999998,{"$f":"'Company Nom Groups'!M133","v":378.26099999999997},4428.9759999999987,4416.6549999999988,null,null,{"$f":"'Ex 7 Co. Owned Gas'!B19","v":4686.043999999999},{"$f":"'Ex 7 Co. Owned Gas'!C19","v":4794.9159999999993},2524.6620000000003,2364.462,52812.021999999997,56074.448999999993]
[]
[]
[]
[]
[]
[]
[null,null,null,null,null,null,"Total IRP Year","2021-06-30",{"$f":"EOMONTH(H26,1)","v":"2021-07-31"},{"$f":"EOMONTH(I26,1)","v":"2021-08-31"},"2021-09-30","2021-10-31","2021-11-30","2021-12-31","2022-01-31","2022-02-28","2022-03-31","2022-04-30","2022-05-31"]
[null,null,null,null,null,null,97642,0,0,0,0,0,0,20405,18838,14931,14606,14555,14307]
[null,null,null,null,null,null,162969,0,0,0,0,0,0,22400,26427,27218,27621,28696,30607]
[null,null,null,null,null,null,162787,0,0,0,0,0,0,22956,27899,28423,28040,26912,28557]
[null,null,null,null,null,null,125934,0,0,0,0,0,0,19152,23102,21786,21163,20378,20353]
[null,null,null,null,null,null,91296,0,0,0,0,0,0,16742,16821,14761,14439,14389,14144]
["2021-11-01",0,null,null,null,null,154793,0,0,0,0,0,0,18377,23597,26883,27308,28370,30258]
["2021-12-01",404,null,null,null,null,154371,0,0,0,0,0,0,18833,24910,28099,27720,26605,28204]
["2022-01-01",379,null,null,null,null,119065,0,0,0,0,0,0,15712,20627,21538,20923,20145,20120]
["2022-02-01",345]
[null,null,null,null,null,null,null,null,null,null,null,null,null,{"$f":"SUM(N27:N34)/1000","v":154.577},{"$f":"SUM(O27:O34)/1000","v":182.221},183.63900000000001,181.82,180.05,186.55]
[]
[]
[]
[]
[]
[]
[]
[]
[]
[]
[]
[]
[]
[]
[]
[]
[]
[]
[]
[]
[]
[]
[]
[]
[]
[]
[]
[]
[]
[]
[]
[]
[]
[]
[]
[]
[]
[]
[]
[]
[]
[]
[]
[]
[]
[]
[]
[]
[]
[]
[]
[]
[]
[]
[]
[]
[]
[]
[]
[]
[]
[]
[]
[]
[]
[]
[]
[]
[]
[]
[]
[]
[]
[]
[]
[]
[]
[]
[]
[]
[]
[]
[]
[]
[]
[]
[]
[]
[]
[]
[]
[]
[]
[]
[]
[]
[]
[]
[]
[]
[]
[]
[]
[]
[]
[]
[]
[]
[]
[]
[]
[]
[]
[]
[]
[]
[]
[]
[]
[]
[]
[]
[]
[]
[]
[]
[]
[]
[]
[]
[]
[]
[]
[]
[]
[]
[]
[]
[]
[]
[]
[]
[]
[]
[]
[]
[]
[]
[]
[]
[]
[]
[]
[]
[]
[]
[]
[]
[]
[]
[]
[]
[]
[]
[]
[]
[]
[]
[]
[]
[]
[]
[]
[]
[]
[]
[]
[]
[]
[]
[]
[]
[]
[]
[]
[]
[]
[]
[]
[]
[]
[]
[]
[]
[]
[]
[]
[]
[]
[]
[]
[]
[]
[]
[]
[]
[]
[]
[]
[]
[]
[]
[]
[]
[]
[]
[]
[]
[]
[]
[]
[]
[]
[]
[]
[]
[]
[]
[]
[]
[]
[]
[]
[]
[]
[]
[]
[]
[]
[]
[]
[]
[]
[]
[]
[]
[]
[]
[]
[]
[]
[]
[]
[]
[]
[]
[]
[]
[]
[]
[]
[]
[]
[]
[]
[]
[]
[]
[]
[]
[]
[]
[]
[]
[]
[]
[]
[]
[]
[]
[]
[]
[]
[]
[]
[]
[]
[]
[]
[]
[]
[]
[]
[]
[]
[]
[]
[]
[]
[]
[]
[]
[]
[]
[]
[]
[]
[]
[]
[]
[]
[]
[]
[]
[]
[]
[]
[]
[]
[]
[]
[]
[]
[]
[]
[]
[]
[]
[]
[]
[]
[]
[]
[]
[]
[]
[]
[]
[]
[]
[]
[]
[]
[]
[]
[]
[]
[]
[]
[]
[]
[]
[]
[]
[]
[]
[]
[]
[]
[]
[]
[]
[]
[]
[]
[]
[]
[]
[]
[]
[]
[]
[]
[]
[]
[]
[]
[]
[]
[]
[]
[]
[]
[]
[]
[]
[]
[]
[]
[]
[]
[]
[]
[]
[]
[]
[]
[]
[]
[]
[]
[]
[]
[]
[]
[]
[]
[]
[]
[]
[]
[]
[]
[]
[]
[]
[]
[]
[]
[]
[]
[]
[]
[]
[]
[]
[]
[]
[]
[]
[]
[]
[]
[]
[]
[]
[]
[]
[]
[]
[]
[]
[]
[]
[]
[]
[]
[]
[]
[]
[]
[]
[]
[]
[]
[]
[]
[]
[]
[]
[]
[]
[]
[]
[]
[]
[]
[]
[]
[]
[]
[]
[]
[]
[]
[]
[]
[]
[]
[]
[]
[]
[]
[]
[]
[]
[]
[]
[]
[]
[]
[]
[]
[]
[]
[]
[]
[]
[]
[]
[]
[]
[]
[]
[]
[]
[]
[]
[]
[]
[]
[]
[]
[]
[]
[]
[]
[]
[]
[]
[]
[]
[]
[]
[]
[]
[]
[]
[]
[]
[]
[]
[]
[]
[]
[]
[]
[]
[]
[]
[]
[]
[]
[]
[]
[]
[]
[]
[]
[]
[]
[]
[]
[]
[]
[]
[]
[]
[]
[]
[]
[]
[]
[]
[]
[]
[]
[]
[]
[]
[]
[]
[]
[]
[]
[]
[]
[]
[]
[]
[]
[]
[]
[]
[]
[]
[]
[]
[]
[]
[]
[]
[]
[]
[]
[]
[]
[]
[]
[]
[]
[]
[]
[]
[]
[]
[]
[]
[]
[]
[]
[]
[]
[]
[]
[]
[]
[]
[]
[]
[]
[]
[]
[]
[]
[]
[]
[]
[]
[]
[]
[]
[]
[]
[]
[]
[]
[]
[]
[]
[]
[]
[]
[]
[]
[]
[]
[]
[]
[]
[]
[]
[]
[]
[]
[]
[]
[]
[]
[]
[]
[]
[]
[]
[]
[]
[]
[]
[]
[]
[]
[]
[]
[]
[]
[]
[]
[]
[]
[]
[]
[]
[]
[]
[]
[]
[]
[]
[]
[]
[]
[]
[]
[]
[]
[]
[]
[]
[]
[]
[]
[]
[]
[]
[]
[]
[]
[]
[]
[]
[]
[]
[]
[]
[]
[]
[]
[]
[]
[]
[]
[]
[]
[]
[]
[]
[]
[]
[]
[]
[]
[]
[]
[]
[]
[]
[]
[]
[]
[]
[]
[]
[]
[]
[]
[]
[]
[]
[]
[]
[]
[]
[]
[]
[]
[]
[]
[]
[]
[]
[]
[]
[]
[]
[]
[]
[]
[]
[]
[]
[]
[]
[]
[]
[]
[]
[]
[]
[]
[]
[]
[]
[]
[]
[]
[]
[]
[]
[]
[]
[]
[]
[]
[]
[]
[]
[]
[]
[]
[]
[]
[]
[]
[]
[]
[]
[]
[]
[]
[]
[]
[]
[]
[]
[]
[]
[]
[]
[]
[]
[]
[]
[]
[]
[]
[]
[]
[]
[]
[]
[]
[]
[]
[]
[]
[]
[]
[]
[]
[]
[]
[]
[]
[]
[]
[]
[]
[]
[]
[]
[]
[]
[]
[]
[]
[]
[]
[]
[]
[]
[]
[]
[]
[]
[]
[]
[]
[]
[]
[]
[]
[]
[]
[]
[]
[]
[]
[]
[]
[]
[]
[]
[]
[]
[]
[]
[]
[]
[]
[]
[]
[]
[]
[]
[]
[]
[]
[]
[]
[]
[]
[]
[]
[]
[]
[]
[]
[]
[]
[]
[]
[]
[]
[]
[]
[]
[]
[]
[]
[]
[]
[]
[]
[]
[]
[]
[]
[]
[]
[]
[]
[]
[]
[]
[]
[]
[]
[]
[]
[]
[]
[]
[]
[]
[]
[]
[]
[]
[]
[]
[]
[]
[]
[]
[]
[]
[]
[]
[]
[]
[]
[]
[]
[]
[]
[]
[]
[]
[]
[]
[]
[]
[]
[]
[]
[]
[]
[]
[]
[]
[]
[]
[]
[]
[]
[]
[]
[]
[]
[]
[]
[]
[]
[]
[]
[]
[]
[]
[]
[]
[]
[]
[]
[]
[]
[]
[]
[]
[]
[]
[]
[]
[]
[]
[]
[]
[]
[]
[]
[]
[]
[]
[]
[]
[]
[]
[]
[]
[]
[]
[]
[]
[]
[]
[]
[]
[]
[]
[]
[]
[]
[]
[]
[]
[]
[]
[]
[]
[]
[]
[]
[]
[]
[]
[]
[]
[]
[]
[]
[]
[]
[]
[]
[]
[]
[]
[]
[]
[]
[]
[]
[]
[]
[]
[]
[]
[]
[]
[]
[]
[]
[]
[]
[]
[]
[]
[]
[]
[]
[]
[]
[]
[]
[]
[]
[]
[]
[]
[]
[]
[]
[]
[]
[]
[]
[]
[]
[]
[]
[]
[]
[]
[]
[]
[]
[]
[]
[]
[]
[]
[]
[]
[]
[]
[]
[]
[]
[]
[]
[]
[]
[]
[]
[]
[]
[]
[]
[]
[]
[]
[]
[]
[]
[]
[]
[]
[]
[]
[]
[]
[]
[]
[]
[]
[]
[]
[]
[]
[]
[]
[]
[]
[]
[]
[]
[]
[]
[]
[]
[]
[]
[]
[]
[]
[]
[]
[]
[]
[]
[]
[]
[]
[]
[]
[]
[]
[]
[]
[]
[]
[]
[]
[]
[]
[]
[]
[]
[]
[]
[]
[]
[]
[]
[]
[]
[]
[]
[]
[]
[]
[]
[]
[]
[]
[]
[]
[]
[]
[]
[]
[]
[]
[]
[]
[]
[]
[]
[]
[]
[]
[]
[]
[]
[]
[]
[]
[]
[]
[]
[]
[]
[]
[]
[]
[]
[]
[]
[]
[]
[]
[]
[]
[]
[]
[]
[]
[]
[]
[]
[]
[]
[]
[]
[]
[]
[]
[]
[]
[]
[]
[]
[]
[]
[]
[]
[]
[]
[]
[]
[]
[]
[]
[]
[]
[]
[]
[]
[]
[]
[]
[]
[]
[]
[]
[]
[]
[]
[]
[]
[]
[]
[]
[]
[]
[]
[]
[]
[]
[]
[]
[]
[]
[]
[]
[]
[]
[]
[]
[]
[]
[]
[]
[]
[]
[]
[]
[]
[]
[]
[]
[]
[]
[]
[]
[]
[]
[]
[]
[]
[]
[]
[]
[]
[]
[]
[]
[]
[]
[]
[]
[]
[]
[]
[]
[]
[]
[]
[]
[]
[]
[]
[]
[]
[]
[]
[]
[]
[]
[]
[]
[]
[]
[]
[]
[]
[]
[]
[]
[]
[]
[]
[]
[]
[]
[]
[]
[]
[]
[]
[]
[]
[]
[]
[]
[]
[]
[]
[]
[]
[]
[]
[]
[]
[]
[]
[]
[]
[]
[]
[]
[]
[]
[]
[]
[]
[]
[]
[]
[]
[]
[]
[]
[]
[]
[]
[]
[]
[]
[]
[]
[]
[]
[]
[]
[]
[]
[]
[]
[]
[]
[]
[]
[]
[]
[]
[]
[]
[]
[]
[]
[]
[]
[null,null,null,null,null,null,null,null,null,null,null,null,null,null,null,null,null,null,null,null,null,"Grand Total",32838388,5005150,4445609,4812634,4751061,4687350]

{"sheet":"Exhibit 8.1","index":34,"n_rows":32,"n_cols":17,"rows_kept":32,"cut":false,"hidden":false,"merged":[]}
[]
[]
[]
[]
[]
[]
[]
[]
[]
[]
[]
[]
[]
[]
[]
[]
[]
[]
[]
[]
[]
[]
[]
[]
[]
[]
[]
[]
[]
[]
[null,null,null,null,null,null,null,null,null,null,null,null,null,null,{"$f":"'Exhibit 1.1'!O31","v":"DEU Variance Exhibit"},{"$f":"'Exhibit 1.1'!P31","v":"Docket No. 21-057-01"},{"$f":"'Exhibit 1.1'!Q31","v":"Dominion Energy Utah"}]
[null,null,null,null,null,null,null,null,null,null,null,null,null,null,8.1]

{"sheet":"Exhibit 8.2","index":35,"n_rows":32,"n_cols":17,"rows_kept":32,"cut":false,"hidden":false,"merged":[]}
[]
[]
[]
[]
[]
[]
[]
[]
[]
[]
[]
[]
[]
[]
[]
[]
[]
[]
[]
[]
[]
[]
[]
[]
[]
[]
[]
[]
[]
[]
[null,null,null,null,null,null,null,null,null,null,null,null,null,null,{"$f":"'Exhibit 1.1'!O31","v":"DEU Variance Exhibit"},{"$f":"'Exhibit 1.1'!P31","v":"Docket No. 21-057-01"},{"$f":"'Exhibit 1.1'!Q31","v":"Dominion Energy Utah"}]
[null,null,null,null,null,null,null,null,null,null,null,null,null,null,8.1999999999999993]

{"sheet":"Exhibit 8.3","index":36,"n_rows":32,"n_cols":17,"rows_kept":32,"cut":false,"hidden":false,"merged":[]}
[]
[]
[]
[]
[]
[]
[]
[]
[]
[]
[]
[]
[]
[]
[]
[]
[]
[]
[]
[]
[]
[]
[]
[]
[]
[]
[]
[]
[]
[]
[null,null,null,null,null,null,null,null,null,null,null,null,null,null,{"$f":"'Exhibit 1.1'!O31","v":"DEU Variance Exhibit"},{"$f":"'Exhibit 1.1'!P31","v":"Docket No. 21-057-01"},{"$f":"'Exhibit 1.1'!Q31","v":"Dominion Energy Utah"}]
[null,null,null,null,null,null,null,null,null,null,null,null,null,null,8.3000000000000007]

{"sheet":"Company Nom Groups","index":37,"n_rows":214,"n_cols":96,"rows_kept":214,"cut":false,"hidden":true,"merged":[[1,93,1,95],[2,93,2,95],[2,62,2,64],[1,66,1,68],[2,66,2,68],[2,70,2,72],[2,81,2,83],[2,85,2,87],[1,81,1,83],[1,85,1,87],[1,89,1,91],[2,89,2,91],[95,35,101,35],[95,34,101,34],[95,33,101,33],[1,70,1,72],[124,74,125,74],[51,74,59,74],[51,73,59,73],[97,74,122,74],[97,73,122,73],[102,53,103,53],[94,53,99,53],[94,54,99,54],[60,74,61,74],[1,58,1,60],[2,58,2,60],[1,62,1,64],[51,75,59,75],[97,75,122,75],[1,49,1,51],[2,49,2,51],[58,33,59,33],[1,37,1,39],[2,37,2,39],[2,45,2,47],[50,35,56,35],[50,34,56,34],[50,33,56,33],[94,55,99,55],[48,53,54,53],[48,54,54,54],[48,55,54,55],[56,53,57,53],[1,17,1,19],[2,17,2,19],[1,25,1,27],[2,25,2,27],[1,21,1,23],[2,21,2,23],[1,29,1,31],[2,29,2,31],[1,41,1,43],[2,41,2,43],[1,45,1,47]]}
["Company Nom Groups"]
["Withdrawn Gross Volume (MDths)",null,null,1106,null,null,null,null,null,null,null,null,null,null,null,null,null,"June 2021 Cost-of-Service",null,null,null,"July 2021 Cost-of-Service",null,null,null,"August 2021 Cost-of-Service",null,null,null,"First Quarter Cost-of-Service",null,null,null,null,null,null,null,"September 2021 Cost-of-Service",null,null,null,"October 2021 Cost-of-Service",null,null,null,"November 2021 Cost-of-Service",null,null,null,"Second Quarter Cost-of-Service",null,null,null,null,null,null,null,null,"December 2021 Cost-of-Service",null,null,null,"January 2022 Cost-of-Service",null,null,null,"February 2022 Cost-of-Service",null,null,null,"Third Quarter Cost-of-Service",null,null,null,null,null,null,null,null,null,null,"March 2022 Cost-of-Service",null,null,null,"April 2022 Cost-of-Service",null,null,null,"May 2022 Cost-of-Service",null,null,null,"Fourth Quarter Cost-of-Service"]
["Source: IRP Base Case, Monthly Custom Report Writer",null,null,null,null,null,null,null,null,null,null,null,null,null,null,null,null,"Variance   Mdth",null,null,null,"Variance   Mdth",null,null,null,"Variance   Mdth",null,null,null,"Variance   Mdth",null,null,null,null,null,null,null,"Variance   Mdth",null,null,null,"Variance   Mdth",null,null,null,"Variance   Mdth",null,null,null,"Variance   Mdth",null,null,null,null,null,null,null,null,"Variance   Mdth",null,null,null,"Variance   Mdth",null,null,null,"Variance   Mdth",null,null,null,"Variance   Mdth",null,null,null,null,null,null,null,null,null,null,"Variance   Mdth",null,null,null,"Variance   Mdth",null,null,null,"Variance   Mdth",null,null,null,"Variance   Mdth"]
[null,2,3,4,5,6,7,8,9,10,11,12,13]
["Nomination Group Production","2021-06-01","2021-07-01","2021-08-01","2021-09-01","2021-10-01","2021-11-01","2021-12-01","2022-01-01","2022-02-01","2022-03-01","2022-04-01","2022-05-01","Total",null,null,null,"Nomination Group","Actual ","Normal",null,"Nomination Group","Actual ","Normal",null,"Nomination Group","Actual ","Normal",null,"Nomination Group","Actual ","Normal",null,null,null,null,null,"Nomination Group","Actual ","Normal",null,"Nomination Group","Actual ","Normal",null,{"$f":"AP5","v":"Nomination Group"},{"$f":"AQ5","v":"Actual "},"Normal",null,{"$f":"AT5","v":"Nomination Group"},{"$f":"AU5","v":"Actual "},{"$f":"AV5","v":"Normal"},null,null,null,null,null,null,{"$f":"AX5","v":"Nomination Group"},{"$f":"AY5","v":"Actual "},"Normal",null,"Nomination Group","Actual ","Normal",null,"Nomination Group","Actual ","Normal",null,{"$f":"BO5","v":"Nomination Group"},{"$f":"BP5","v":"Actual "},{"$f":"BQ5","v":"Normal"},null,null,null,null,null,null,null,null,"Nomination Group","Actual ","Normal",null,"Nomination Group","Actual ","Normal",null,"Nomination Group","Actual ","Normal",null,"Nomination Group","Actual ","Normal"]
["BIRCH CREEK",117.702,120.89400000000001,120.16800000000001,115.596,118.739,114.22799999999999,117.33799999999999,116.64400000000001,104.73699999999999,115.28,110.91,113.937,{"$f":"SUM(B6:M6)","v":1386.173},null,null,null,{"$f":"A6","v":"BIRCH CREEK"},{"$f":"IFERROR(VLOOKUP(R6,$R$119:$S$213,2,FALSE),0)","v":123.146},{"$f":"IFERROR(VLOOKUP(R6,$A$6:$M$123,2,FALSE),\"\")","v":117.702},null,{"$f":"R6","v":"BIRCH CREEK"},{"$f":"IFERROR(VLOOKUP(V6,$V$119:$W$213,2,FALSE),0)","v":127.01600000000001},{"$f":"IFERROR(VLOOKUP(V6,$A$6:$M$123,3,FALSE),\"\")","v":120.89400000000001},null,{"$f":"R6","v":"BIRCH CREEK"},{"$f":"IFERROR(VLOOKUP(A6,$Z$119:$AA$213,2,FALSE),0)","v":127.571},{"$f":"IFERROR(VLOOKUP(Z6,$A$6:$M$123,4,FALSE),\"\")","v":120.16800000000001},null,{"$f":"R6","v":"BIRCH CREEK"},{"$f":"SUM(S6,W6,AA6)","v":377.733},{"$f":"SUM(T6,X6,AB6)","v":358.76400000000001},null,null,null,null,null,{"$f":"AD6","v":"BIRCH CREEK"},{"$f":"IFERROR(VLOOKUP(AL6,$AL$119:$AM$209,2,FALSE),0)","v":122.727},{"$f":"IFERROR(VLOOKUP(AL6,$A$6:$M$123,5,FALSE),\"\")","v":115.596},null,{"$f":"AL6","v":"BIRCH CREEK"},{"$f":"IFERROR(VLOOKUP(AP6,$AP$119:$AQ$218,2,FALSE),0)","v":123.94799999999999},{"$f":"IFERROR(VLOOKUP($AP6,$A$6:$M$123,6,FALSE),\"\")","v":118.739},null,{"$f":"AP6","v":"BIRCH CREEK"},{"$f":"IFERROR(VLOOKUP(AT6,$AT$119:$AU$211,2,FALSE),0)","v":116.887},{"$f":"IFERROR(VLOOKUP($AT6,$A$6:$M$123,7,FALSE),\"\")","v":114.22799999999999},null,{"$f":"AT6","v":"BIRCH CREEK"},{"$f":"SUM(AM6,AQ6,AU6)","v":363.56200000000001},{"$f":"SUM(AN6,AR6,AV6)","v":348.56299999999999},null,null,null,null,null,null,{"$f":"AX6","v":"BIRCH CREEK"},{"$f":"IFERROR(VLOOKUP(BG6,$BG$119:$BH$211,2,FALSE),0)","v":120.91500000000001},{"$f":"IFERROR(VLOOKUP($BG6,$A$6:$M$123,8,FALSE),\"\")","v":117.33799999999999},null,{"$f":"BG6","v":"BIRCH CREEK"},{"$f":"IFERROR(VLOOKUP(BK6,$BK$119:$BL$211,2,FALSE),0)","v":124.309},{"$f":"IFERROR(VLOOKUP($BG6,$A$6:$M$123,9,FALSE),\"\")","v":116.64400000000001},null,{"$f":"A6","v":"BIRCH CREEK"},{"$f":"IFERROR(VLOOKUP($BO6,$BO$119:$BP$211,2,FALSE),0)","v":113.126},{"$f":"IFERROR(VLOOKUP($BO6,$A$6:$M$123,10,FALSE),0)","v":104.73699999999999},null,{"$f":"A6","v":"BIRCH CREEK"},{"$f":"SUM(BH6,BL6,BP6)","v":358.35},{"$f":"SUM(BI6,BM6,BQ6)","v":338.71899999999999},null,null,null,null,null,null,null,null,{"$f":"A6","v":"BIRCH CREEK"},{"$f":"VLOOKUP(CD6,CD$119:CE$203,2,FALSE)","v":122.512},{"$f":"IFERROR(VLOOKUP($A6,$A$6:$M$123,11,FALSE),\"\")","v":115.28},null,{"$f":"A6","v":"BIRCH CREEK"},{"$f":"VLOOKUP(CH6,CH$119:CI$203,2,FALSE)","v":113.696},{"$f":"IFERROR(VLOOKUP($A6,$A$6:$M$123,12,FALSE),\"\")","v":110.91},null,{"$f":"A6","v":"BIRCH CREEK"},{"$f":"VLOOKUP(CL6,CL$119:CM$203,2,FALSE)","v":134.923},{"$f":"IFERROR(VLOOKUP($A6,$A$6:$M$123,13,FALSE),\"\")","v":113.937},null,{"$f":"CL6","v":"BIRCH CREEK"},{"$f":"CE6+CI6+CM6","v":371.13099999999997},{"$f":"CF6+CJ6+CN6","v":340.12700000000001}]
["ACEJDMT D24",8.6129999999999995,8.8320000000000007,8.7639999999999993,8.4179999999999993,8.6340000000000003,8.2889999999999997,8.5,8.4350000000000005,7.5629999999999997,8.3079999999999998,7.98,8.1839999999999993,{"$f":"SUM(B7:M7)","v":100.52},null,null,null,{"$f":"A7","v":"ACEJDMT D24"},9.6280000000000001,8.6129999999999995,null,{"$f":"R7","v":"ACEJDMT D24"},9.7880000000000003,8.8320000000000007,null,{"$f":"R7","v":"ACEJDMT D24"},7.3579999999999997,8.7639999999999993,null,{"$f":"R7","v":"ACEJDMT D24"},{"$f":"SUM(S7,W7,AA7)","v":26.774000000000001},{"$f":"SUM(T7,X7,AB7)","v":26.209},null,null,null,null,null,{"$f":"AD7","v":"ACEJDMT D24"},{"$f":"IFERROR(VLOOKUP(AL7,$AL$119:$AM$209,2,FALSE),0)","v":5.6779999999999999},8.4179999999999993,null,{"$f":"AL7","v":"ACEJDMT D24"},{"$f":"IFERROR(VLOOKUP(AP7,$AP$119:$AQ$218,2,FALSE),0)","v":9.1},8.6340000000000003,null,{"$f":"AP7","v":"ACEJDMT D24"},{"$f":"IFERROR(VLOOKUP(AT7,$AT$119:$AU$211,2,FALSE),0)","v":7.9450000000000003},8.2889999999999997,null,{"$f":"AT7","v":"ACEJDMT D24"},{"$f":"SUM(AM7,AQ7,AU7)","v":22.722999999999999},{"$f":"SUM(AN7,AR7,AV7)","v":25.341000000000001},null,null,null,null,null,null,"ACEJDMT D24",{"$f":"IFERROR(VLOOKUP(BG7,$BG$119:$BH$211,2,FALSE),0)","v":10.644},{"$f":"IFERROR(VLOOKUP($BG7,$A$6:$M$123,8,FALSE),\"\")","v":8.5},null,{"$f":"BG7","v":"ACEJDMT D24"},{"$f":"IFERROR(VLOOKUP(BK7,$BK$119:$BL$211,2,FALSE),0)","v":10.186999999999999},{"$f":"IFERROR(VLOOKUP($BG7,$A$6:$M$123,9,FALSE),\"\")","v":8.4350000000000005},null,"ACEJDMT D24",{"$f":"IFERROR(VLOOKUP($BO7,$BO$119:$BP$211,2,FALSE),0)","v":8.7899999999999991},7.5629999999999997,null,"ACEJDMT D24",{"$f":"SUM(BH7,BL7,BP7)","v":29.620999999999999},{"$f":"SUM(BI7,BM7,BQ7)","v":24.498000000000001},null,null,null,null,null,null,null,null,"ACEJDMT D24",{"$f":"VLOOKUP(CD7,CD$119:CE$203,2,FALSE)","v":8.7460000000000004},{"$f":"IFERROR(VLOOKUP($A7,$A$6:$M$123,11,FALSE),\"\")","v":8.3079999999999998},null,"ACEJDMT D24",8.3840000000000003,7.98,null,"ACEJDMT D24",{"$f":"VLOOKUP(CL7,CL$119:CM$203,2,FALSE)","v":8.1739999999999995},8.1839999999999993,null,{"$f":"CL7","v":"ACEJDMT D24"},{"$f":"CE7+CI7+CM7","v":25.304000000000002},{"$f":"CF7+CJ7+CN7","v":24.472000000000001}]
["BRFM D24",2.1059999999999999,2.17,2.161,2.085,2.145,2.0699999999999998,2.133,2.1240000000000001,1.9119999999999999,2.1080000000000001,2.0339999999999998,2.0960000000000001,25.143999999999995,null,null,null,"BRFM D24",1.52,2.1059999999999999,null,"BRFM D24",1.8340000000000001,2.17,null,"BRFM D24",1.8280000000000001,2.161,null,"BRFM D24",{"$f":"SUM(S8,W8,AA8)","v":5.1820000000000004},{"$f":"SUM(T8,X8,AB8)","v":6.4369999999999994},null,null,null,null,null,"BRFM D24",1.3580000000000001,2.085,null,"BRFM D24",1.78,2.145,null,"BRFM D24",1.4590000000000001,2.0699999999999998,null,"BRFM D24",{"$f":"SUM(AM8,AQ8,AU8)","v":4.5969999999999995},{"$f":"SUM(AN8,AR8,AV8)","v":6.3000000000000007},null,null,null,null,null,null,"BRFM D24",1.875,2.133,null,"BRFM D24",2.1720000000000002,2.1240000000000001,null,"BRFM D24",2.2330000000000001,1.9119999999999999,null,"BRFM D24",6.2800000000000011,6.1689999999999996,null,null,null,null,null,null,null,null,"BRFM D24",2.1779999999999999,2.1080000000000001,null,"BRFM D24",2.077,2.0339999999999998,null,"BRFM D24",{"$f":"VLOOKUP(CL8,CL$119:CM$203,2,FALSE)","v":2.113},2.0960000000000001,null,{"$f":"CL8","v":"BRFM D24"},{"$f":"CE8+CI8+CM8","v":6.3680000000000003},6.2379999999999995]
["BRFQ D24",140.922,144.67400000000001,143.744,138.21600000000001,141.91800000000001,136.47,140.13499999999999,139.261,125,137.53800000000001,132.28200000000001,135.85400000000001,1656.0140000000001,null,null,null,"BRFQ D24",139.84100000000001,140.922,null,"BRFQ D24",141.41300000000001,144.67400000000001,null,"BRFQ D24",140.148,143.744,null,"BRFQ D24",421.40200000000004,429.34000000000003,null,null,null,null,null,"BRFQ D24",136.89099999999999,138.21600000000001,null,"BRFQ D24",143.67099999999999,141.91800000000001,null,"BRFQ D24",142.42699999999999,136.47,null,"BRFQ D24",422.98900000000003,416.60400000000004,null,null,null,null,null,null,"BRFQ D24",141.81899999999999,140.13499999999999,null,"BRFQ D24",129.523,139.261,null,"BRFQ D24",124.05,125,null,"BRFQ D24",395.392,404.39599999999996,null,null,null,null,null,null,null,null,"BRFQ D24",132.54599999999999,137.53800000000001,null,"BRFQ D24",149.46,132.28200000000001,null,"BRFQ D24",{"$f":"VLOOKUP(CL9,CL$119:CM$203,2,FALSE)","v":157.82499999999999},135.85400000000001,null,"BRFQ D24",439.83099999999996,405.67400000000009]
["BRFQMT D24",3.2850000000000001,3.3759999999999999,3.36,3.234,3.323,3.2010000000000001,3.2919999999999998,3.274,2.9430000000000001,3.2389999999999999,3.12,3.2090000000000001,38.856000000000002,null,null,null,"BRFQMT D24",5.5060000000000002,3.2850000000000001,null,"BRFQMT D24",0,3.3759999999999999,null,"BRFQMT D24",4.4249999999999998,3.36,null,"BRFQMT D24",9.9310000000000009,10.020999999999999,null,null,null,null,null,"BRFQMT D24",0,3.234,null,"BRFQMT D24",6.0359999999999996,3.323,null,"BRFQMT D24",0,3.2010000000000001,null,"BRFQMT D24",6.0359999999999996,9.7580000000000009,null,null,null,null,null,null,"BRFQMT D24",0,3.2919999999999998,null,"BRFQMT D24",0,3.274,null,"BRFQMT D24",0,2.9430000000000001,null,"BRFQMT D24",0,9.5090000000000003,null,null,null,null,null,null,null,null,"BRFQMT D24",0,3.2389999999999999,null,"BRFQMT D24",7.3719999999999999,3.12,null,"BRFQMT D24",0,3.2090000000000001,null,"BRFQMT D24",7.3719999999999999,9.5679999999999996]
["BRFW D24",56.529000000000003,58.054000000000002,57.697000000000003,55.494,56.994,54.822000000000003,56.311999999999998,55.976999999999997,50.26,55.316000000000003,53.216999999999999,54.668999999999997,665.34100000000001,null,null,null,"BRFW D24",64.286000000000001,56.529000000000003,null,"BRFW D24",64.664000000000001,58.054000000000002,null,"BRFW D24",64.168000000000006,57.697000000000003,null,"BRFW D24",193.11799999999999,172.28,null,null,null,null,null,"BRFW D24",59.587000000000003,55.494,null,"BRFW D24",63.579000000000001,56.994,null,"BRFW D24",58.128,54.822000000000003,null,"BRFW D24",181.29399999999998,167.31,null,null,null,null,null,null,"BRFW D24",59.03,56.311999999999998,null,"BRFW D24",59.043999999999997,55.976999999999997,null,"BRFW D24",52.579000000000001,50.26,null,"BRFW D24",170.65299999999999,162.54899999999998,null,null,null,null,null,null,null,null,"BRFW D24",55.97,55.316000000000003,null,"BRFW D24",59.087000000000003,53.216999999999999,null,"BRFW D24",{"$f":"VLOOKUP(CL11,CL$119:CM$203,2,FALSE)","v":49.854999999999997},54.668999999999997,null,"BRFW D24",164.91200000000001,163.202]
["CBFR D24",16.335000000000001,16.79,16.702999999999999,16.082999999999998,16.532,15.914999999999999,16.361999999999998,16.277999999999999,14.627000000000001,16.111000000000001,15.51,15.943,193.18899999999999,null,null,null,"CBFR D24",1.383,16.335000000000001,null,"CBFR D24",0,16.79,null,"CBFR D24",3.1320000000000001,16.702999999999999,null,"CBFR D24",4.5150000000000006,49.828000000000003,null,null,null,null,null,"CBFR D24",13.731,16.082999999999998,null,"CBFR D24",18.358000000000001,16.532,null,"CBFR D24",22.116,15.914999999999999,null,"CBFR D24",54.204999999999998,48.529999999999994,null,null,null,null,null,null,"CBFR D24",19.477,16.361999999999998,null,"CBFR D24",16.777000000000001,16.277999999999999,null,"CBFR D24",16.617999999999999,14.627000000000001,null,"CBFR D24",52.872,47.267000000000003,null,null,null,null,null,null,null,null,"CBFR D24",13.481,16.111000000000001,null,"CBFR D24",19.603000000000002,15.51,null,"CBFR D24",17.135999999999999,15.943,null,"CBFR D24",50.22,47.564]
["CCRUNIT D24",462.61200000000002,474.21899999999999,433.21899999999999,415.947,426.464,445.57499999999999,456.91800000000001,453.46499999999997,406.50700000000001,446.70699999999999,429.09899999999999,440.14100000000002,5290.8729999999996,null,null,null,"CCRUNIT D24",446.31299999999999,462.61200000000002,null,"CCRUNIT D24",454.24,474.21899999999999,null,"CCRUNIT D24",423.459,433.21899999999999,null,"CCRUNIT D24",1324.0119999999999,1370.05,null,null,null,null,null,"CCRUNIT D24",406.11,415.947,null,"CCRUNIT D24",414.149,426.464,null,"CCRUNIT D24",355.62200000000001,445.57499999999999,null,"CCRUNIT D24",1175.8810000000001,1287.9860000000001,null,null,null,null,null,null,"CCRUNIT D24",376.351,456.91800000000001,null,"CCRUNIT D24",380.02699999999999,453.46499999999997,null,"CCRUNIT D24",332.3,406.50700000000001,null,"CCRUNIT D24",1088.6779999999999,1316.89,null,null,null,null,null,null,null,null,"CCRUNIT D24",381.02300000000002,446.70699999999999,null,"CCRUNIT D24",377.00299999999999,429.09899999999999,null,"CCRUNIT D24",385.99700000000001,440.14100000000002,null,"CCRUNIT D24",1144.0230000000001,1315.9470000000001]
["CCRUNITMTD24",40.872,41.973999999999997,28.849,27.747,28.498000000000001,39.869999999999997,40.948,40.700000000000003,36.536999999999999,40.204000000000001,38.673000000000002,39.716999999999999,444.589,null,null,null,"CCRUNITMTD24",35.405999999999999,40.872,null,"CCRUNITMTD24",35.585999999999999,41.973999999999997,null,"CCRUNITMTD24",32.072000000000003,28.849,null,"CCRUNITMTD24",103.06399999999999,111.69500000000001,null,null,null,null,null,"CCRUNITMTD24",31.818000000000001,27.747,null,"CCRUNITMTD24",29.745000000000001,28.498000000000001,null,"CCRUNITMTD24",27.489000000000001,39.869999999999997,null,"CCRUNITMTD24",89.052000000000007,96.115000000000009,null,null,null,null,null,null,"CCRUNITMTD24",37.771999999999998,40.948,null,"CCRUNITMTD24",38.865000000000002,40.700000000000003,null,"CCRUNITMTD24",30.881,36.536999999999999,null,"CCRUNITMTD24",107.518,118.185,null,null,null,null,null,null,null,null,"CCRUNITMTD24",33.768999999999998,40.204000000000001,null,"CCRUNITMTD24",33.465000000000003,38.673000000000002,null,"CCRUNITMTD24",36.088999999999999,39.716999999999999,null,"CCRUNITMTD24",103.32300000000001,118.59400000000001]
["CHBT MT",15.407999999999999,15.853,15.785,15.212999999999999,15.651999999999999,15.084,15.519,15.454000000000001,13.898999999999999,15.323,14.766,15.193,183.14900000000003,null,null,null,"CHBT MT",22.225999999999999,15.407999999999999,null,"CHBT MT",23.989000000000001,15.853,null,"CHBT MT",22.326000000000001,15.785,null,"CHBT MT",68.540999999999997,47.045999999999999,null,null,null,null,null,"CHBT MT",21.478999999999999,15.212999999999999,null,"CHBT MT",23.675999999999998,15.651999999999999,null,"CHBT MT",20.893999999999998,15.084,null,"CHBT MT",66.049000000000007,45.948999999999998,null,null,null,null,null,null,"CHBT MT",25.335000000000001,15.519,null,"CHBT MT",24.692,15.454000000000001,null,"CHBT MT",21.931000000000001,13.898999999999999,null,"CHBT MT",71.957999999999998,44.872,null,null,null,null,null,null,null,null,"CHBT MT",26.760999999999999,15.323,null,"CHBT MT",32.515999999999998,14.766,null,"CHBT MT",34.872,15.193,null,"CHBT MT",94.149000000000001,45.281999999999996]
["CHBTBUFF D24",0.86699999999999999,0.89300000000000002,0.88700000000000001,0.85499999999999998,0.877,0.84599999999999997,0.871,0.86499999999999999,0.77800000000000002,0.85599999999999998,0.82499999999999996,0.84899999999999998,10.269,null,null,null,"CHBTBUFF D24",0.89,0.86699999999999999,null,"CHBTBUFF D24",0.83099999999999996,0.89300000000000002,null,"CHBTBUFF D24",0.91800000000000004,0.88700000000000001,null,"CHBTBUFF D24",2.6390000000000002,2.6470000000000002,null,null,null,null,null,"CHBTBUFF D24",0.82099999999999995,0.85499999999999998,null,"CHBTBUFF D24",0.67,0.877,null,"CHBTBUFF D24",0.64800000000000002,0.84599999999999997,null,"CHBTBUFF D24",2.1390000000000002,2.5779999999999998,null,null,null,null,null,null,"CHBTBUFF D24",0.65500000000000003,0.871,null,"CHBTBUFF D24",0.71199999999999997,0.86499999999999999,null,"CHBTBUFF D24",0.63800000000000001,0.77800000000000002,null,"CHBTBUFF D24",2.0049999999999999,2.5140000000000002,null,null,null,null,null,null,null,null,"CHBTBUFF D24",0.75700000000000001,0.85599999999999998,null,"CHBTBUFF D24",0.79400000000000004,0.82499999999999996,null,"CHBTBUFF D24",0.80800000000000005,0.84899999999999998,null,"CHBTBUFF D24",2.359,2.5300000000000002]
["CHBTCAT2 D24",95.066999999999993,97.641000000000005,97.055000000000007,93.363,95.905000000000001,92.265000000000001,94.783000000000001,93.543000000000006,84,92.463999999999999,88.965000000000003,91.403999999999996,1116.4549999999999,null,null,null,"CHBTCAT2 D24",92.72,95.066999999999993,null,"CHBTCAT2 D24",85.2,97.641000000000005,null,"CHBTCAT2 D24",88.691999999999993,97.055000000000007,null,"CHBTCAT2 D24",266.61200000000002,289.76300000000003,null,null,null,null,null,"CHBTCAT2 D24",94.763999999999996,93.363,null,"CHBTCAT2 D24",89.641000000000005,95.905000000000001,null,"CHBTCAT2 D24",85.995000000000005,92.265000000000001,null,"CHBTCAT2 D24",270.39999999999998,281.53300000000002,null,null,null,null,null,null,"CHBTCAT2 D24",88.933999999999997,94.783000000000001,null,"CHBTCAT2 D24",87.424999999999997,93.543000000000006,null,"CHBTCAT2 D24",79.757000000000005,84,null,"CHBTCAT2 D24",256.11599999999999,272.32600000000002,null,null,null,null,null,null,null,null,"CHBTCAT2 D24",99.001999999999995,92.463999999999999,null,"CHBTCAT2 D24",132.80799999999999,88.965000000000003,null,"CHBTCAT2 D24",128.05000000000001,91.403999999999996,null,"CHBTCAT2 D24",359.86,272.83299999999997]
["CHBTCAT3 D24",0,0,160.87799999999999,72.275999999999996,142.08199999999999,153.273,157.55699999999999,156.739,140.83699999999999,155.11799999999999,0,0,1138.76,null,null,null,"CHBTCAT3 D24",147.553,0,null,"CHBTCAT3 D24",148.58799999999999,0,null,"CHBTCAT3 D24",153.06800000000001,160.87799999999999,null,"CHBTCAT3 D24",449.20899999999995,160.87799999999999,null,null,null,null,null,"CHBTCAT3 D24",149.892,72.275999999999996,null,"CHBTCAT3 D24",153.88499999999999,142.08199999999999,null,"CHBTCAT3 D24",144.857,153.273,null,"CHBTCAT3 D24",448.63400000000001,367.63099999999997,null,null,null,null,null,null,"CHBTCAT3 D24",165.52,157.55699999999999,null,"CHBTCAT3 D24",162.04,156.739,null,"CHBTCAT3 D24",136.60900000000001,140.83699999999999,null,"CHBTCAT3 D24",464.16899999999998,455.13299999999998,null,null,null,null,null,null,null,null,"CHBTCAT3 D24",178.32499999999999,155.11799999999999,null,"CHBTCAT3 D24",193.929,0,null,"CHBTCAT3 D24",200.58500000000001,0,null,"CHBTCAT3 D24",572.83900000000006,155.11799999999999]
["DRY PINY MT",5.3460000000000001,5.484,5.444,5.226,5.36,5.1509999999999998,5.282,5.242,4.7009999999999996,5.165,4.9619999999999997,5.09,62.452999999999989,null,null,null,"DRY PINY MT",4.069,5.3460000000000001,null,"DRY PINY MT",4.4279999999999999,5.484,null,"DRY PINY MT",3.4929999999999999,5.444,null,"DRY PINY MT",11.99,16.274000000000001,null,null,null,null,null,"DRY PINY MT",3.1859999999999999,5.226,null,"DRY PINY MT",3.5339999999999998,5.36,null,"DRY PINY MT",3.4140000000000001,5.1509999999999998,null,"DRY PINY MT",10.134,15.737,null,null,null,null,null,null,"DRY PINY MT",3.6789999999999998,5.282,null,"DRY PINY MT",3.8079999999999998,5.242,null,"DRY PINY MT",3.2149999999999999,4.7009999999999996,null,"DRY PINY MT",10.702,15.225000000000001,null,null,null,null,null,null,null,null,"DRY PINY MT",2.9449999999999998,5.165,null,"DRY PINY MT",3.4470000000000001,4.9619999999999997,null,"DRY PINY MT",2.3980000000000001,5.09,null,"DRY PINY MT",8.7899999999999991,15.216999999999999]
["DRYPINY6 D24",0.75600000000000001,0.77500000000000002,0.77200000000000002,0.74099999999999999,0.76300000000000001,0.51300000000000001,0.52700000000000002,0.52400000000000002,0.47,0.51800000000000002,0.498,0.51200000000000001,7.3689999999999998,null,null,null,"DRYPINY6 D24",0.57899999999999996,0.75600000000000001,null,"DRYPINY6 D24",1.2989999999999999,0.77500000000000002,null,"DRYPINY6 D24",2.4369999999999998,0.77200000000000002,null,"DRYPINY6 D24",4.3149999999999995,2.3029999999999999,null,null,null,null,null,"DRYPINY6 D24",1.734,0.74099999999999999,null,"DRYPINY6 D24",1.6020000000000001,0.76300000000000001,null,"DRYPINY6 D24",1.3340000000000001,0.51300000000000001,null,"DRYPINY6 D24",4.67,2.0169999999999999,null,null,null,null,null,null,"DRYPINY6 D24",1.9079999999999999,0.52700000000000002,null,"DRYPINY6 D24",1.8819999999999999,0.52400000000000002,null,"DRYPINY6 D24",1.54,0.47,null,"DRYPINY6 D24",5.33,1.5210000000000001,null,null,null,null,null,null,null,null,"DRYPINY6 D24",1.244,0.51800000000000002,null,"DRYPINY6 D24",1.2509999999999999,0.498,null,"DRYPINY6 D24",0.61,0.51200000000000001,null,"DRYPINY6 D24",3.105,1.528]
["DRYPINYU D24",1.776,1.823,1.8140000000000001,1.7430000000000001,1.792,1.7250000000000001,1.77,1.7609999999999999,1.5820000000000001,1.7390000000000001,1.6739999999999999,1.72,20.918999999999997,null,null,null,"DRYPINYU D24",1.8029999999999999,1.776,null,"DRYPINYU D24",1.944,1.823,null,"DRYPINYU D24",2.3809999999999998,1.8140000000000001,null,"DRYPINYU D24",6.1280000000000001,5.4130000000000003,null,null,null,null,null,"DRYPINYU D24",2.3530000000000002,1.7430000000000001,null,"DRYPINYU D24",2.3460000000000001,1.792,null,"DRYPINYU D24",2.2349999999999999,1.7250000000000001,null,"DRYPINYU D24",6.9339999999999993,5.26,null,null,null,null,null,null,"DRYPINYU D24",2.2389999999999999,1.77,null,"DRYPINYU D24",0.14000000000000001,1.7609999999999999,null,"DRYPINYU D24",0,1.5820000000000001,null,"DRYPINYU D24",2.379,5.1129999999999995,null,null,null,null,null,null,null,null,"DRYPINYU D24",0,1.7390000000000001,null,"DRYPINYU D24",0.78600000000000003,1.6739999999999999,null,"DRYPINYU D24",2.9649999999999999,1.72,null,"DRYPINYU D24",3.7509999999999999,5.133]
["HWA DEEP D24",0.111,0.112,0.112,0.108,0.109,0.105,0.109,0.109,9.5000000000000001E-2,0.105,0.10199999999999999,0.105,1.282,null,null,null,"HWA DEEP D24",0.214,0.111,null,"HWA DEEP D24",0.41599999999999998,0.112,null,"HWA DEEP D24",0.30199999999999999,0.112,null,"HWA DEEP D24",0.93199999999999994,0.33500000000000002,null,null,null,null,null,"HWA DEEP D24",0.29399999999999998,0.108,null,"HWA DEEP D24",0,0.109,null,"HWA DEEP D24",0.47399999999999998,0.105,null,"HWA DEEP D24",0.76800000000000002,0.32200000000000001,null,null,null,null,null,null,"HWA DEEP D24",0.252,0.109,null,"HWA DEEP D24",0.14799999999999999,0.109,null,"HWA DEEP D24",0.21199999999999999,9.5000000000000001E-2,null,"HWA DEEP D24",0.61199999999999999,0.313,null,null,null,null,null,null,null,null,"HWA DEEP D24",0.26,0.105,null,"HWA DEEP D24",6.4000000000000001E-2,0.10199999999999999,null,"HWA DEEP D24",0.436,0.105,null,"HWA DEEP D24",0.76,0.312]
["HWA MT",2.964,3.0470000000000002,3.032,2.919,3.0009999999999999,2.8889999999999998,2.97,2.9540000000000002,2.6539999999999999,2.923,2.8140000000000001,2.8919999999999999,35.059000000000005,null,null,null,"HWA MT",1.087,2.964,null,"HWA MT",1.514,3.0470000000000002,null,"HWA MT",1.3180000000000001,3.032,null,"HWA MT",3.919,9.0429999999999993,null,null,null,null,null,"HWA MT",0.437,2.919,null,"HWA MT",1.802,3.0009999999999999,null,"HWA MT",0.93400000000000005,2.8889999999999998,null,"HWA MT",3.173,8.8089999999999993,null,null,null,null,null,null,"HWA MT",0.85299999999999998,2.97,null,"HWA MT",0.46400000000000002,2.9540000000000002,null,"HWA MT",0.376,2.6539999999999999,null,"HWA MT",1.6930000000000001,8.5779999999999994,null,null,null,null,null,null,null,null,"HWA MT",0.79700000000000004,2.923,null,"HWA MT",0.58199999999999996,2.8140000000000001,null,"HWA MT",1.2350000000000001,2.8919999999999999,null,"HWA MT",2.6139999999999999,8.6289999999999996]
["HWADEEPMTD24",13.116,13.481999999999999,13.414,12.912000000000001,13.273999999999999,12.78,13.138,13.07,11.743,12.933,12.452999999999999,12.8,155.11500000000001,null,null,null,"HWADEEPMTD24",12.411,13.116,null,"HWADEEPMTD24",10.356999999999999,13.481999999999999,null,"HWADEEPMTD24",16.704000000000001,13.414,null,"HWADEEPMTD24",39.472000000000001,40.012,null,null,null,null,null,"HWADEEPMTD24",14.619,12.912000000000001,null,"HWADEEPMTD24",0,13.273999999999999,null,"HWADEEPMTD24",11.976000000000001,12.78,null,"HWADEEPMTD24",26.594999999999999,38.966000000000001,null,null,null,null,null,null,"HWADEEPMTD24",15.093999999999999,13.138,null,"HWADEEPMTD24",16.739999999999998,13.07,null,"HWADEEPMTD24",13.638,11.743,null,"HWADEEPMTD24",45.471999999999994,37.951000000000001,null,null,null,null,null,null,null,null,"HWADEEPMTD24",15.208,12.933,null,"HWADEEPMTD24",9.3330000000000002,12.452999999999999,null,"HWADEEPMTD24",13.785,12.8,null,"HWADEEPMTD24",38.326000000000001,38.186]
["HWPL1&3MTD24",7.5810000000000004,7.7960000000000003,7.7590000000000003,7.4729999999999999,7.6849999999999996,7.4009999999999998,7.61,7.5730000000000004,6.81,7.5019999999999998,7.2240000000000002,7.431,89.844999999999999,null,null,null,"HWPL1&3MTD24",7.899,7.5810000000000004,null,"HWPL1&3MTD24",4.5599999999999996,7.7960000000000003,null,"HWPL1&3MTD24",8.1029999999999998,7.7590000000000003,null,"HWPL1&3MTD24",20.561999999999998,23.136000000000003,null,null,null,null,null,"HWPL1&3MTD24",5.0579999999999998,7.4729999999999999,null,"HWPL1&3MTD24",6.2930000000000001,7.6849999999999996,null,"HWPL1&3MTD24",7.6829999999999998,7.4009999999999998,null,"HWPL1&3MTD24",19.033999999999999,22.558999999999997,null,null,null,null,null,null,"HWPL1&3MTD24",7.6719999999999997,7.61,null,"HWPL1&3MTD24",7.0759999999999996,7.5730000000000004,null,"HWPL1&3MTD24",7.2830000000000004,6.81,null,"HWPL1&3MTD24",22.030999999999999,21.992999999999999,null,null,null,null,null,null,null,null,"HWPL1&3MTD24",7.5590000000000002,7.5019999999999998,null,"HWPL1&3MTD24",7.2380000000000004,7.2240000000000002,null,"HWPL1&3MTD24",7.5279999999999996,7.431,null,"HWPL1&3MTD24",22.324999999999999,22.157]
["HWPLT1&3 D24",76.322999999999993,78.281000000000006,77.697999999999993,74.634,76.548000000000002,73.53,75.42,74.861999999999995,67.119,73.760999999999996,70.853999999999999,72.676000000000002,891.70600000000002,null,null,null,"HWPLT1&3 D24",60.701000000000001,76.322999999999993,null,"HWPLT1&3 D24",47.183999999999997,78.281000000000006,null,"HWPLT1&3 D24",74.793000000000006,77.697999999999993,null,"HWPLT1&3 D24",182.678,232.30199999999996,null,null,null,null,null,"HWPLT1&3 D24",60.012999999999998,74.634,null,"HWPLT1&3 D24",57.463999999999999,76.548000000000002,null,"HWPLT1&3 D24",71.155000000000001,73.53,null,"HWPLT1&3 D24",188.63200000000001,224.71200000000002,null,null,null,null,null,null,"HWPLT1&3 D24",73.554000000000002,75.42,null,"HWPLT1&3 D24",77.715000000000003,74.861999999999995,null,"HWPLT1&3 D24",74.822000000000003,67.119,null,"HWPLT1&3 D24",226.09100000000001,217.40099999999998,null,null,null,null,null,null,null,null,"HWPLT1&3 D24",79.463999999999999,73.760999999999996,null,"HWPLT1&3 D24",78.570999999999998,70.853999999999999,null,"HWPLT1&3 D24",72.361000000000004,72.676000000000002,null,"HWPLT1&3 D24",230.39600000000002,217.291]
["HWPLT2 D24",5.6820000000000004,5.7910000000000004,5.7160000000000002,5.46,5.5709999999999997,5.3250000000000002,5.4340000000000002,5.3719999999999999,4.7960000000000003,5.2480000000000002,5.0220000000000002,5.1340000000000003,64.550999999999988,null,null,null,"HWPLT2 D24",8.9410000000000007,5.6820000000000004,null,"HWPLT2 D24",5.6319999999999997,5.7910000000000004,null,"HWPLT2 D24",10.005000000000001,5.7160000000000002,null,"HWPLT2 D24",24.578000000000003,17.189,null,null,null,null,null,"HWPLT2 D24",6.1159999999999997,5.46,null,"HWPLT2 D24",4.1459999999999999,5.5709999999999997,null,"HWPLT2 D24",5.1710000000000003,5.3250000000000002,null,"HWPLT2 D24",15.433,16.355999999999998,null,null,null,null,null,null,"HWPLT2 D24",8.6199999999999992,5.4340000000000002,null,"HWPLT2 D24",7.02,5.3719999999999999,null,"HWPLT2 D24",4.694,4.7960000000000003,null,"HWPLT2 D24",20.334,15.602,null,null,null,null,null,null,null,null,"HWPLT2 D24",6.2160000000000002,5.2480000000000002,null,"HWPLT2 D24",1.9179999999999999,5.0220000000000002,null,"HWPLT2 D24",3.5880000000000001,5.1340000000000003,null,"HWPLT2 D24",11.722000000000001,15.404]
["HWPLT2MT D24",3.0569999999999999,3.137,3.1160000000000001,2.9940000000000002,3.0720000000000001,2.952,3.0289999999999999,3.0070000000000001,2.6989999999999998,2.9670000000000001,2.85,2.9260000000000002,35.806000000000004,null,null,null,"HWPLT2MT D24",1.256,3.0569999999999999,null,"HWPLT2MT D24",1.073,3.137,null,"HWPLT2MT D24",1.696,3.1160000000000001,null,"HWPLT2MT D24",4.0249999999999995,9.31,null,null,null,null,null,"HWPLT2MT D24",1.34,2.9940000000000002,null,"HWPLT2MT D24",1.08,3.0720000000000001,null,"HWPLT2MT D24",1.2829999999999999,2.952,null,"HWPLT2MT D24",3.7029999999999998,9.0180000000000007,null,null,null,null,null,null,"HWPLT2MT D24",1.2310000000000001,3.0289999999999999,null,"HWPLT2MT D24",1.343,3.0070000000000001,null,"HWPLT2MT D24",1.0589999999999999,2.6989999999999998,null,"HWPLT2MT D24",3.633,8.7349999999999994,null,null,null,null,null,null,null,null,"HWPLT2MT D24",0.73099999999999998,2.9670000000000001,null,"HWPLT2MT D24",1.296,2.85,null,"HWPLT2MT D24",1.298,2.9260000000000002,null,"HWPLT2MT D24",3.3250000000000002,8.7430000000000003]
["ISLAND D24",0,0,0,0,0,51.107999999999997,52.48,52.148000000000003,46.802,51.491,0,0,254.029,null,null,null,"ISLAND D24",49.442999999999998,0,null,"ISLAND D24",43.097000000000001,0,null,"ISLAND D24",28.861000000000001,0,null,"ISLAND D24",121.401,0,null,null,null,null,null,"ISLAND D24",42.639000000000003,0,null,"ISLAND D24",60.119,0,null,"ISLAND D24",53.585999999999999,51.107999999999997,null,"ISLAND D24",156.34399999999999,51.107999999999997,null,null,null,null,null,null,"ISLAND D24",64.45,52.48,null,"ISLAND D24",58.871000000000002,52.148000000000003,null,"ISLAND D24",50.634999999999998,46.802,null,"ISLAND D24",173.95599999999999,151.43,null,null,null,null,null,null,null,null,"ISLAND D24",52.23,51.491,null,"ISLAND D24",59.959000000000003,0,null,"ISLAND D24",60.652000000000001,0,null,"ISLAND D24",172.84100000000001,51.491]
["JNSNRDG D24",1.8540000000000001,1.9059999999999999,1.897,1.827,1.8819999999999999,1.8120000000000001,1.863,1.857,1.669,1.841,1.7729999999999999,1.823,22.003999999999998,null,null,null,"JNSNRDG D24",5.6360000000000001,1.8540000000000001,null,"JNSNRDG D24",3.181,1.9059999999999999,null,"JNSNRDG D24",2.7709999999999999,1.897,null,"JNSNRDG D24",11.588000000000001,5.657,null,null,null,null,null,"JNSNRDG D24",2.5790000000000002,1.827,null,"JNSNRDG D24",2.9830000000000001,1.8819999999999999,null,"JNSNRDG D24",2.2330000000000001,1.8120000000000001,null,"JNSNRDG D24",7.7949999999999999,5.5209999999999999,null,null,null,null,null,null,"JNSNRDG D24",0.41399999999999998,1.863,null,"JNSNRDG D24",0,1.857,null,"JNSNRDG D24",0,1.669,null,"JNSNRDG D24",0.41399999999999998,5.3889999999999993,null,null,null,null,null,null,null,null,"JNSNRDG D24",0,1.841,null,"JNSNRDG D24",0,1.7729999999999999,null,"JNSNRDG D24",0,1.823,null,"JNSNRDG D24",0,5.4369999999999994]
["JRDG WFS D24",2.5289999999999999,2.5979999999999999,2.5819999999999999,2.4809999999999999,2.548,2.4510000000000001,2.5169999999999999,2.5019999999999998,2.246,2.4740000000000002,2.379,2.4430000000000001,29.75,null,null,null,"JRDG WFS D24",6.3550000000000004,2.5289999999999999,null,"JRDG WFS D24",4.266,2.5979999999999999,null,"JRDG WFS D24",3.3340000000000001,2.5819999999999999,null,"JRDG WFS D24",13.955,7.7089999999999996,null,null,null,null,null,"JRDG WFS D24",3.6459999999999999,2.4809999999999999,null,"JRDG WFS D24",3.262,2.548,null,"JRDG WFS D24",2.5550000000000002,2.4510000000000001,null,"JRDG WFS D24",9.4629999999999992,7.48,null,null,null,null,null,null,"JRDG WFS D24",0.38200000000000001,2.5169999999999999,null,"JRDG WFS D24",0,2.5019999999999998,null,"JRDG WFS D24",0,2.246,null,"JRDG WFS D24",0.38200000000000001,7.2650000000000006,null,null,null,null,null,null,null,null,"JRDG WFS D24",0,2.4740000000000002,null,"JRDG WFS D24",{"$f":"VLOOKUP(CH31,CH$119:CI$203,2,FALSE)","v":0},2.379,null,"JRDG WFS D24",{"$f":"VLOOKUP(CL31,CL$119:CM$203,2,FALSE)","v":2.9000000000000001E-2},2.4430000000000001,null,"JRDG WFS D24",2.9000000000000001E-2,7.2959999999999994]
["KNY FLD D24",11.795999999999999,12.084,11.984999999999999,11.502000000000001,11.786,11.313000000000001,11.597,11.504,10.31,11.324,10.875,11.151,137.227,null,null,null,"KNY FLD D24",4.1050000000000004,11.795999999999999,null,"KNY FLD D24",10.305999999999999,12.084,null,"KNY FLD D24",17.815999999999999,11.984999999999999,null,"KNY FLD D24",{"$f":"SUM(S32,W32,AA32)","v":32.226999999999997},{"$f":"SUM(T32,X32,AB32)","v":35.864999999999995},null,null,null,null,null,"KNY FLD D24",13.936999999999999,11.502000000000001,null,"KNY FLD D24",13.446999999999999,11.786,null,"KNY FLD D24",4.33,11.313000000000001,null,"KNY FLD D24",31.713999999999999,34.600999999999999,null,null,null,null,null,null,{"$f":"AX32","v":"KNY FLD D24"},4.6429999999999998,11.597,null,"KNY FLD D24",3.7229999999999999,11.504,null,"KNY FLD D24",3.847,10.31,null,"KNY FLD D24",12.212999999999999,33.411000000000001,null,null,null,null,null,null,null,null,"KNY FLD D24",3.4569999999999999,11.324,null,"KNY FLD D24",5.2329999999999997,10.875,null,"KNY FLD D24",8.1210000000000004,11.151,null,"KNY FLD D24",16.811,33.349999999999994]
["MESA D24",622.45500000000004,635.95600000000002,628.83500000000004,601.77300000000002,614.95000000000005,588.56399999999996,601.524,594.97400000000005,531.572,582.17999999999995,557.35500000000002,569.78,7129.9180000000006,null,null,null,"MESA D24",602.34100000000001,622.45500000000004,null,"MESA D24",617.21100000000001,635.95600000000002,null,"MESA D24",602.447,628.83500000000004,null,"MESA D24",1821.9990000000003,1887.2460000000001,null,null,null,null,null,"MESA D24",570.71799999999996,601.77300000000002,null,"MESA D24",578.08299999999997,614.95000000000005,null,"MESA D24",542.85500000000002,588.56399999999996,null,"MESA D24",1691.6559999999999,1805.2869999999998,null,null,null,null,null,null,{"$f":"AX33","v":"MESA D24"},545.57899999999995,601.524,null,"MESA D24",500.28899999999999,594.97400000000005,null,"MESA D24",480.12200000000001,531.572,null,"MESA D24",1525.99,1728.0700000000002,null,null,null,null,null,null,null,null,"MESA D24",505.75400000000002,582.17999999999995,null,"MESA D24",481.13099999999997,557.35500000000002,null,"MESA D24",496.33,569.78,null,"MESA D24",1483.2149999999999,1709.3149999999998]
["MOSUMT D24",1.0620000000000001,1.091,1.085,1.044,1.073,1.032,1.0569999999999999,1.0509999999999999,0.94399999999999995,1.038,0.999,1.026,12.502000000000001,null,null,null,"MOSUMT D24",0.69,1.0620000000000001,null,"MOSUMT D24",0.98799999999999999,1.091,null,"MOSUMT D24",1.258,1.085,null,"MOSUMT D24",2.9359999999999999,3.238,null,null,null,null,null,"MOSUMT D24",1.046,1.044,null,"MOSUMT D24",1.9319999999999999,1.073,null,"MOSUMT D24",1.7390000000000001,1.032,null,"MOSUMT D24",4.7169999999999996,3.149,null,null,null,null,null,null,"MOSUMT D24",3.1819999999999999,1.0569999999999999,null,"MOSUMT D24",1.1739999999999999,1.0509999999999999,null,"MOSUMT D24",0.86599999999999999,0.94399999999999995,null,"MOSUMT D24",5.2219999999999995,3.0519999999999996,null,null,null,null,null,null,null,null,"MOSUMT D24",0.93700000000000006,1.038,null,"MOSUMT D24",0.92,0.999,null,"MOSUMT D24",1.0009999999999999,1.026,null,"MOSUMT D24",2.8580000000000001,3.0629999999999997]
["PDW MT",172.995,177.37,175.99600000000001,208.38900000000001,207.35599999999999,195.16800000000001,197.23400000000001,193.56100000000001,171.97300000000001,187.596,179.09399999999999,182.73599999999999,2249.4679999999994,null,null,null,"PDW MT",189.286,172.995,null,"PDW MT",169.673,177.37,null,"PDW MT",142.19999999999999,175.99600000000001,null,"PDW MT",501.15899999999999,526.36099999999999,null,null,null,null,null,"PDW MT",110.934,208.38900000000001,null,"PDW MT",153.37899999999999,207.35599999999999,null,"PDW MT",172.99199999999999,195.16800000000001,null,"PDW MT",{"$f":"SUM(AM35,AQ35,AU35)","v":437.30499999999995},{"$f":"SUM(AN35,AR35,AV35)","v":610.91300000000001},null,null,null,null,null,null,"PDW MT",174.595,197.23400000000001,null,"PDW MT",180.47499999999999,193.56100000000001,null,"PDW MT",157.39099999999999,171.97300000000001,null,"PDW MT",512.46100000000001,562.76800000000003,null,null,null,null,null,null,null,null,"PDW MT",167.77099999999999,187.596,null,"PDW MT",150.672,179.09399999999999,null,"PDW MT",149.64400000000001,182.73599999999999,null,"PDW MT",468.08699999999999,549.42599999999993]
["PDW1A1B D24",0.315,0.32600000000000001,0.32200000000000001,0.309,0.316,0.30599999999999999,0.313,0.31,0.28000000000000003,0.307,0.29399999999999998,0.30099999999999999,3.6990000000000007,null,null,null,"PDW1A1B D24",0.05,0.315,null,"PDW1A1B D24",0,0.32600000000000001,null,"PDW1A1B D24",0.94199999999999995,0.32200000000000001,null,"PDW1A1B D24",0.99199999999999999,0.96300000000000008,null,null,null,null,null,"PDW1A1B D24",0.76200000000000001,0.309,null,"PDW1A1B D24",0.76900000000000002,0.316,null,"PDW1A1B D24",0.69399999999999995,0.30599999999999999,null,"PDW1A1B D24",2.2250000000000001,0.93100000000000005,null,null,null,null,null,null,"PDW1A1B D24",0.60499999999999998,0.313,null,"PDW1A1B D24",0.56399999999999995,0.31,null,"PDW1A1B D24",0.433,0.28000000000000003,null,"PDW1A1B D24",1.6020000000000001,0.90300000000000002,null,null,null,null,null,null,null,null,"PDW1A1B D24",0.438,0.307,null,"PDW1A1B D24",0.54200000000000004,0.29399999999999998,null,"PDW1A1B D24",0.58099999999999996,0.30099999999999999,null,"PDW1A1B D24",1.5609999999999999,0.90199999999999991]
["PDWCUT D24",1.2450000000000001,1.28,1.274,1.2270000000000001,1.262,1.2150000000000001,1.2490000000000001,1.2430000000000001,1.117,1.234,1.1879999999999999,1.2210000000000001,14.755000000000003,null,null,null,"PDWCUT D24",9.9000000000000005E-2,1.2450000000000001,null,"PDWCUT D24",0,1.28,null,"PDWCUT D24",0,1.274,null,"PDWCUT D24",9.9000000000000005E-2,3.7990000000000004,null,null,null,null,null,"PDWCUT D24",0,1.2270000000000001,null,"PDWCUT D24",0,1.262,null,"PDWCUT D24",2.37,1.2150000000000001,null,"PDWCUT D24",2.37,3.7039999999999997,null,null,null,null,null,null,"PDWCUT D24",1.8520000000000001,1.2490000000000001,null,"PDWCUT D24",1.728,1.2430000000000001,null,"PDWCUT D24",1.38,1.117,null,"PDWCUT D24",4.96,3.609,null,null,null,null,null,null,null,null,"PDWCUT D24",1.181,1.234,null,"PDWCUT D24",6.5000000000000002E-2,1.1879999999999999,null,"PDWCUT D24",0.13100000000000001,1.2210000000000001,null,"PDWCUT D24",1.377,3.6429999999999998]
["PDWMT D24",22.326000000000001,22.902999999999999,22.734999999999999,21.84,22.404,21.524999999999999,22.077999999999999,21.917000000000002,19.652999999999999,21.600999999999999,20.751000000000001,21.288,261.02100000000002,null,null,null,"PDWMT D24",{"$f":"IFERROR(VLOOKUP(R38,$R$119:$S$213,2,FALSE),0)","v":21.538},{"$f":"IFERROR(VLOOKUP(R38,$A$6:$M$123,2,FALSE),\"\")","v":22.326000000000001},null,"PDWMT D24",{"$f":"IFERROR(VLOOKUP(V38,$V$119:$W$213,2,FALSE),0)","v":19.707000000000001},{"$f":"IFERROR(VLOOKUP(V38,$A$6:$M$123,3,FALSE),\"\")","v":22.902999999999999},null,"PDWMT D24",{"$f":"IFERROR(VLOOKUP(A38,$Z$119:$AA$213,2,FALSE),0)","v":13.53},{"$f":"IFERROR(VLOOKUP(Z38,$A$6:$M$123,4,FALSE),\"\")","v":22.734999999999999},null,"PDWMT D24",54.775000000000006,67.963999999999999,null,null,null,null,null,"PDWMT D24",15.73,21.84,null,"PDWMT D24",16.5,22.404,null,"PDWMT D24",18.518999999999998,21.524999999999999,null,"PDWMT D24",50.749000000000002,65.769000000000005,null,null,null,null,null,null,"PDWMT D24",19.297999999999998,22.077999999999999,null,"PDWMT D24",22.411999999999999,21.917000000000002,null,{"$f":"A38","v":"PDWMT D24"},19.864000000000001,{"$f":"IFERROR(VLOOKUP($BO38,$A$6:$M$123,10,FALSE),0)","v":19.652999999999999},null,{"$f":"A38","v":"PDWMT D24"},61.573999999999998,63.648000000000003,null,null,null,null,null,null,null,null,"PDWMT D24",23.367999999999999,21.600999999999999,null,"PDWMT D24",22.504999999999999,20.751000000000001,null,"PDWMT D24",20.456,21.288,null,"PDWMT D24",66.328999999999994,63.64]
["PDWPLT2 D24",0,0,0,0,0,0,0,0,0,0,0,0,0,null,null,null,"PDWPLT2 D24",4.9359999999999999,0,null,"PDWPLT2 D24",3.8769999999999998,0,null,"PDWPLT2 D24",3.7170000000000001,0,null,"PDWPLT2 D24",12.53,0,null,null,null,null,null,"PDWPLT2 D24",2.3969999999999998,0,null,"PDWPLT2 D24",3.3079999999999998,0,null,"PDWPLT2 D24",3.383,0,null,"PDWPLT2 D24",9.088000000000001,0,null,null,null,null,null,null,"PDWPLT2 D24",4.1340000000000003,0,null,"PDWPLT2 D24",4.1349999999999998,0,null,"PDWPLT2 D24",4.8810000000000002,0,null,"PDWPLT2 D24",13.15,0,null,null,null,null,null,null,null,null,"PDWPLT2 D24",4.3330000000000002,0,null,"PDWPLT2 D24",4.0579999999999998,0,null,"PDWPLT2 D24",4.1760000000000002,0,null,"PDWPLT2 D24",12.567,0]
["SGRLF D24",1.4279999999999999,1.466,1.454,1.3979999999999999,1.4350000000000001,1.38,1.4139999999999999,1.4039999999999999,1.26,1.3859999999999999,1.3320000000000001,1.367,16.724,null,null,null,"SGRLF D24",0.16200000000000001,1.4279999999999999,null,"SGRLF D24",0,1.466,null,"SGRLF D24",1.901,1.454,null,"SGRLF D24",2.0630000000000002,4.3479999999999999,null,null,null,null,null,"SGRLF D24",1.7749999999999999,1.3979999999999999,null,"SGRLF D24",1.657,1.4350000000000001,null,"SGRLF D24",1.234,1.38,null,"SGRLF D24",4.6660000000000004,4.2130000000000001,null,null,null,null,null,null,"SGRLF D24",1.89,1.4139999999999999,null,"SGRLF D24",1.7949999999999999,1.4039999999999999,null,"SGRLF D24",1.083,1.26,null,"SGRLF D24",4.7679999999999998,4.0779999999999994,null,null,null,null,null,null,null,null,"SGRLF D24",1.0189999999999999,1.3859999999999999,null,"SGRLF D24",1.5720000000000001,1.3320000000000001,null,"SGRLF D24",2.1589999999999998,1.367,null,"SGRLF D24",4.75,4.085]
["SGRLFMT D24",12.576000000000001,12.904999999999999,12.815,12.315,12.638999999999999,12.147,12.465,12.378,11.102,12.208,11.73,12.037000000000001,147.31700000000001,null,null,null,"SGRLFMT D24",1.329,12.576000000000001,null,"SGRLFMT D24",0,12.904999999999999,null,"SGRLFMT D24",9.0519999999999996,12.815,null,"SGRLFMT D24",10.381,38.295999999999999,null,null,null,null,null,"SGRLFMT D24",17.433,12.315,null,"SGRLFMT D24",20.207000000000001,12.638999999999999,null,"SGRLFMT D24",17.596,12.147,null,"SGRLFMT D24",55.236000000000004,37.100999999999999,null,null,null,null,null,null,"SGRLFMT D24",15.266999999999999,12.465,null,"SGRLFMT D24",15.37,12.378,null,"SGRLFMT D24",12.667,11.102,null,"SGRLFMT D24",43.304000000000002,35.945,null,null,null,null,null,null,null,null,"SGRLFMT D24",12.981999999999999,12.208,null,"SGRLFMT D24",13.638999999999999,11.73,null,"SGRLFMT D24",13.494999999999999,12.037000000000001,null,"SGRLFMT D24",40.116,35.975000000000001]
["TRAIL D24",310.42500000000001,315.81900000000002,250.50800000000001,239.10300000000001,243.79300000000001,315.17399999999998,321.62200000000001,317.738,282.38299999999998,306.76400000000001,291.85500000000002,296.90300000000002,3492.0870000000004,null,null,null,"TRAIL D24",310.99599999999998,310.42500000000001,null,"TRAIL D24",311.73,315.81900000000002,null,{"$f":"R42","v":"TRAIL D24"},297.25900000000001,250.50800000000001,null,"TRAIL D24",919.98500000000001,876.75200000000007,null,null,null,null,null,"TRAIL D24",275.29599999999999,239.10300000000001,null,"TRAIL D24",295.459,243.79300000000001,null,"TRAIL D24",292.786,315.17399999999998,null,"TRAIL D24",863.54099999999994,798.06999999999994,null,null,null,null,null,null,"TRAIL D24",271.25700000000001,321.62200000000001,null,"TRAIL D24",284.82799999999997,317.738,null,"TRAIL D24",252.858,282.38299999999998,null,"TRAIL D24",808.94299999999998,921.74299999999994,null,null,null,null,null,null,null,null,"TRAIL D24",268.07499999999999,306.76400000000001,null,"TRAIL D24",261.67399999999998,291.85500000000002,null,"TRAIL D24",243.62,296.90300000000002,null,"TRAIL D24",773.36900000000003,895.52200000000005]
["TRAILMT D24",47.357999999999997,48.292000000000002,47.677999999999997,45.57,46.524999999999999,44.499000000000002,45.460999999999999,44.959000000000003,40.165999999999997,43.997999999999998,42.134999999999998,43.093000000000004,539.73400000000004,null,null,null,"TRAILMT D24",46.652000000000001,47.357999999999997,null,"TRAILMT D24",48.633000000000003,48.292000000000002,null,"TRAILMT D24",46.975000000000001,47.677999999999997,null,"TRAILMT D24",142.26,143.328,null,null,null,null,null,"TRAILMT D24",44.634,45.57,null,"TRAILMT D24",47.05,46.524999999999999,null,"TRAILMT D24",43.503999999999998,44.499000000000002,null,"TRAILMT D24",135.18799999999999,136.59399999999999,null,null,null,null,null,null,"TRAILMT D24",35.835000000000001,45.460999999999999,null,"TRAILMT D24",46.682000000000002,44.959000000000003,null,"TRAILMT D24",42.061,40.165999999999997,null,"TRAILMT D24",124.578,130.58600000000001,null,null,null,null,null,null,null,null,"TRAILMT D24",43.345999999999997,43.997999999999998,null,"TRAILMT D24",41.773000000000003,42.134999999999998,null,"TRAILMT D24",37.466000000000001,43.093000000000004,null,"TRAILMT D24",122.58500000000001,129.226]
["WHLA D24",31.611000000000001,32.432000000000002,32.206000000000003,30.948,31.753,30.513000000000002,31.31,31.09,27.885000000000002,30.655999999999999,29.457000000000001,30.225000000000001,370.08600000000001,null,null,null,"WHLA D24",30.597999999999999,31.611000000000001,null,"WHLA D24",31.157,32.432000000000002,null,"WHLA D24",36.805999999999997,32.206000000000003,null,"WHLA D24",98.560999999999993,96.249000000000009,null,null,null,null,null,"WHLA D24",36.457999999999998,30.948,null,"WHLA D24",36.173000000000002,31.753,null,"WHLA D24",27.106999999999999,30.513000000000002,null,"WHLA D24",99.738,93.213999999999999,null,null,null,null,null,null,"WHLA D24",32.454999999999998,31.31,null,"WHLA D24",30.302,31.09,null,"WHLA D24",26.962,27.885000000000002,null,"WHLA D24",89.718999999999994,90.284999999999997,null,null,null,null,null,null,null,null,"WHLA D24",33.344000000000001,30.655999999999999,null,"WHLA D24",31.178999999999998,29.457000000000001,null,"WHLA D24",30.594999999999999,30.225000000000001,null,"WHLA D24",95.117999999999995,90.337999999999994]
["WWILSON D24",3.51,3.6080000000000001,3.59,3.4529999999999998,3.55,3.4169999999999998,3.512,3.4940000000000002,3.1389999999999998,3.4569999999999999,3.327,3.419,41.475999999999992,null,null,null,"WWILSON D24",2.359,3.51,null,"WWILSON D24",2.1869999999999998,3.6080000000000001,null,"WWILSON D24",2.6040000000000001,3.59,null,"WWILSON D24",7.1499999999999995,10.708,null,null,null,null,null,"WWILSON D24",1.6910000000000001,3.4529999999999998,null,"WWILSON D24",2.1019999999999999,3.55,null,"WWILSON D24",2.0310000000000001,3.4169999999999998,null,"WWILSON D24",5.8239999999999998,10.42,null,null,null,null,null,null,"WWILSON D24",2.4249999999999998,3.512,null,"WWILSON D24",0.751,3.4940000000000002,null,"WWILSON D24",0.248,3.1389999999999998,null,"WWILSON D24",3.4239999999999995,10.145,null,null,null,null,null,null,null,null,"WWILSON D24",0.27400000000000002,3.4569999999999999,null,"WWILSON D24",0.27800000000000002,3.327,null,"WWILSON D24",1.234,3.419,null,"WWILSON D24",1.786,10.202999999999999]
["ACEJDMT PC",3.4710000000000001,3.5680000000000001,3.5529999999999999,3.42,3.5190000000000001,3.39,3.484,3.4689999999999999,3.1190000000000002,3.4380000000000002,3.3119999999999998,3.4039999999999999,41.147000000000006,null,null,null,"ACEJDMT PC",3.5859999999999999,3.4710000000000001,null,"ACEJDMT PC",3.7320000000000002,3.5680000000000001,null,"ACEJDMT PC",4.367,3.5529999999999999,null,"ACEJDMT PC",11.684999999999999,10.591999999999999,null,null,null,null,null,"ACEJDMT PC",0,3.42,null,"ACEJDMT PC",0,3.5190000000000001,null,"ACEJDMT PC",0,3.39,null,"ACEJDMT PC",0,10.329000000000001,null,null,null,null,null,null,"ACEJDMT PC",0,3.484,null,"ACEJDMT PC",0,3.4689999999999999,null,"ACEJDMT PC",0,3.1190000000000002,null,"ACEJDMT PC",0,10.071999999999999,null,null,null,null,null,null,null,null,"ACEJDMT PC",0,3.4380000000000002,null,"ACEJDMT PC",0,3.3119999999999998,null,"ACEJDMT PC",0,3.4039999999999999,null,"ACEJDMT PC",0,10.154]
["BRFM PC",0.153,0.158,0.155,0.15,0.155,0.15,0.152,0.152,0.13700000000000001,0.152,0.14399999999999999,0.14899999999999999,1.8069999999999997,null,null,null,"BRFM PC",0.14699999999999999,0.153,null,"BRFM PC",0.14199999999999999,0.158,null,"BRFM PC",0.13600000000000001,0.155,null,"BRFM PC",0.42499999999999999,0.46599999999999997,null,null,null,null,null,"BRFM PC",0.13,0.15,null,"BRFM PC",0.13,0.155,null,"BRFM PC",0.127,0.15,null,"BRFM PC",0.38700000000000001,0.45499999999999996,null,null,null,null,null,null,"BRFM PC",0.152,0.152,null,"BRFM PC",0.14399999999999999,0.152,null,"BRFM PC",0.128,0.13700000000000001,null,"BRFM PC",0.42399999999999999,0.441,null,null,null,null,null,null,null,null,"BRFM PC",0.13400000000000001,0.152,null,"BRFM PC",{"$f":"VLOOKUP(CH47,CH$119:CI$203,2,FALSE)","v":0.13400000000000001},0.14399999999999999,null,"BRFM PC",{"$f":"VLOOKUP(CL47,CL$119:CM$203,2,FALSE)","v":0.14499999999999999},0.14899999999999999,null,"BRFM PC",0.41300000000000003,0.44499999999999995]
["BRFQ PC",10.625999999999999,10.928000000000001,10.878,10.478999999999999,10.779,10.382999999999999,10.679,10.632999999999999,9.5589999999999993,10.534000000000001,10.148999999999999,10.438000000000001,126.065,null,null,null,"BRFQ PC",11.42,10.625999999999999,null,"BRFQ PC",10.901,10.928000000000001,null,"BRFQ PC",11.492000000000001,10.878,null,"BRFQ PC",33.813000000000002,32.432000000000002,null,null,null,null,null,"BRFQ PC",12.063000000000001,10.478999999999999,null,"BRFQ PC",12.388,10.779,null,"BRFQ PC",11.153,10.382999999999999,null,"BRFQ PC",35.603999999999999,31.640999999999998,null,null,null,null,null,null,"BRFQ PC",11.789,10.679,null,"BRFQ PC",11.417,10.632999999999999,null,"BRFQ PC",10.115,9.5589999999999993,null,"BRFQ PC",33.320999999999998,30.870999999999995,null,null,null,null,null,null,null,null,"BRFQ PC",11.603999999999999,10.534000000000001,null,"BRFQ PC",12.116,10.148999999999999,null,"BRFQ PC",11.048,10.438000000000001,null,"BRFQ PC",34.768000000000001,31.121000000000002]
["BRFQMT PC",3.3,3.391,3.3759999999999999,3.2519999999999998,3.3450000000000002,3.2189999999999999,3.3109999999999999,3.2949999999999999,2.9620000000000002,3.2639999999999998,3.1440000000000001,3.23,39.088999999999992,null,null,null,"BRFQMT PC",4.3070000000000004,3.3,null,"BRFQMT PC",4.4009999999999998,3.391,null,"BRFQMT PC",4.2969999999999997,3.3759999999999999,null,"BRFQMT PC",13.004999999999999,10.067,null,null,null,null,null,"BRFQMT PC",4.0940000000000003,3.2519999999999998,null,"BRFQMT PC",3.8250000000000002,3.3450000000000002,null,"BRFQMT PC",3.6150000000000002,3.2189999999999999,null,"BRFQMT PC",11.534000000000001,9.8159999999999989,null,"IRP Variance","Docket No. 17-057-12","Dominion Energy Utah",null,null,"BRFQMT PC",3.1930000000000001,3.3109999999999999,null,"BRFQMT PC",2.4020000000000001,3.2949999999999999,null,"BRFQMT PC",3.7570000000000001,2.9620000000000002,null,"BRFQMT PC",9.3520000000000003,9.5679999999999996,null,null,null,null,null,null,null,null,"BRFQMT PC",4.0869999999999997,3.2639999999999998,null,"BRFQMT PC",3.9420000000000002,3.1440000000000001,null,"BRFQMT PC",3.7879999999999998,3.23,null,"BRFQMT PC",11.817,9.6379999999999999]
["BRFW PC",9.2309999999999999,9.4920000000000009,9.4489999999999998,9.0990000000000002,9.3559999999999999,9.0120000000000005,9.2690000000000001,9.2230000000000008,8.2910000000000004,9.1359999999999992,8.7989999999999995,9.0489999999999995,109.40600000000001,null,null,null,"BRFW PC",10.494999999999999,9.2309999999999999,null,"BRFW PC",6.9429999999999996,9.4920000000000009,null,"BRFW PC",5.1159999999999997,9.4489999999999998,null,"BRFW PC",22.553999999999998,28.171999999999997,null,null,null,null,null,"BRFW PC",4.2229999999999999,9.0990000000000002,null,"BRFW PC",4.7560000000000002,9.3559999999999999,null,"BRFW PC",11.804,9.0120000000000005,null,"BRFW PC",20.783000000000001,27.466999999999999,null,null,0,0,null,null,"BRFW PC",13.289,9.2690000000000001,null,"BRFW PC",14.366,9.2230000000000008,null,"BRFW PC",10.497,8.2910000000000004,null,"BRFW PC",38.152000000000001,26.783000000000001,null,null,null,null,null,null,null,null,"BRFW PC",10.887,9.1359999999999992,null,"BRFW PC",10.095000000000001,8.7989999999999995,null,"BRFW PC",9.3970000000000002,9.0489999999999995,null,"BRFW PC",30.378999999999998,26.983999999999998]
["BRUFF MT",4.806,4.9409999999999998,4.9130000000000003,4.7309999999999999,4.8609999999999998,4.68,4.8109999999999999,4.7830000000000004,4.298,4.734,4.5570000000000004,4.6840000000000002,56.798999999999999,null,null,null,"BRUFF MT",8.0090000000000003,4.806,null,"BRUFF MT",8.1240000000000006,4.9409999999999998,null,"BRUFF MT",8.4329999999999998,4.9130000000000003,null,"BRUFF MT",24.566000000000003,14.66,null,{"$f":"'Ex 1 HDD'!I3","v":"DEU Variance Exhibit"},{"$f":"'Ex 1 HDD'!I2","v":"Docket No. 21-057-01"},{"$f":"'Ex 1 HDD'!I1","v":"Dominion Energy Utah"},null,"BRUFF MT",8.32,4.7309999999999999,null,"BRUFF MT",7.69,4.8609999999999998,null,"BRUFF MT",4.8099999999999996,4.68,null,"BRUFF MT",20.82,14.271999999999998,null,null,0,0,null,null,"BRUFF MT",4.4470000000000001,4.8109999999999999,null,"BRUFF MT",4.5289999999999999,4.7830000000000004,null,"BRUFF MT",3.9529999999999998,4.298,null,"BRUFF MT",12.928999999999998,13.892000000000001,null,null,null,null,null,null,null,null,"BRUFF MT",8.6270000000000007,4.734,null,"BRUFF MT",6.2030000000000003,4.5570000000000004,null,"BRUFF MT",5.4870000000000001,4.6840000000000002,null,"BRUFF MT",20.317,13.975000000000001]
["CBFR PC",59.168999999999997,60.813000000000002,60.487000000000002,58.220999999999997,59.838999999999999,57.597000000000001,59.201000000000001,58.881,52.898000000000003,58.252000000000002,56.07,57.628999999999998,699.05700000000002,null,null,null,"CBFR PC",4.9720000000000004,59.168999999999997,null,"CBFR PC",0,60.813000000000002,null,"CBFR PC",18.273,60.487000000000002,null,"CBFR PC",23.245000000000001,180.46899999999999,null,null,null,null,null,"CBFR PC",85.466999999999999,58.220999999999997,null,"CBFR PC",70.484999999999999,59.838999999999999,null,"CBFR PC",73.561000000000007,57.597000000000001,null,"CBFR PC",229.51300000000001,175.65700000000001,null,null,0,0,null,null,"CBFR PC",67.323999999999998,59.201000000000001,null,"CBFR PC",63.820999999999998,58.881,null,"CBFR PC",58.140999999999998,52.898000000000003,null,"CBFR PC",189.28599999999997,170.98,"QGC Variance Exhibit","Docket No. 15-057-07","Questar Gas Company",null,null,null,null,null,"CBFR PC",43.835999999999999,58.252000000000002,null,"CBFR PC",64.14,56.07,null,"CBFR PC",65.495999999999995,57.628999999999998,null,"CBFR PC",173.47199999999998,171.95099999999999]
["CCRUNIT MT",44.337000000000003,45.167000000000002,32.348999999999997,30.879000000000001,31.486999999999998,41.877000000000002,42.712000000000003,42.171999999999997,37.615000000000002,41.137,39.33,40.161000000000001,469.22300000000001,null,null,null,"CCRUNIT MT",59.738,44.337000000000003,null,"CCRUNIT MT",56.072000000000003,45.167000000000002,null,"CCRUNIT MT",45.084000000000003,32.348999999999997,null,"CCRUNIT MT",160.89400000000001,121.85300000000001,null,null,null,null,null,"CCRUNIT MT",45.058999999999997,30.879000000000001,null,"CCRUNIT MT",46.273000000000003,31.486999999999998,null,"CCRUNIT MT",48.216000000000001,41.877000000000002,null,"CCRUNIT MT",139.548,104.24299999999999,null,null,0,0,null,null,"CCRUNIT MT",69.978999999999999,42.712000000000003,null,"CCRUNIT MT",60.625,42.171999999999997,null,"CCRUNIT MT",51.228999999999999,37.615000000000002,null,"CCRUNIT MT",181.83299999999997,122.499,null,null,null,null,null,null,null,null,"CCRUNIT MT",{"$f":"VLOOKUP(CD53,CD$119:CE$203,2,FALSE)*0.2","v":11.398400000000001},{"$f":"IFERROR(VLOOKUP($A53,$A$6:$M$123,11,FALSE),\"\")*0.2","v":8.2274000000000012},null,"CCRUNIT MT",{"$f":"VLOOKUP(CH53,CH$119:CI$203,2,FALSE)*0.2","v":11.458400000000001},{"$f":"IFERROR(VLOOKUP($A53,$A$6:$M$123,12,FALSE),\"\")*0.2","v":7.8659999999999997},null,"CCRUNIT MT",{"$f":"VLOOKUP(CL53,CL$119:CM$203,2,FALSE)*0.2","v":11.1614},{"$f":"IFERROR(VLOOKUP($A53,$A$6:$M$123,13,FALSE),\"\")*0.2","v":8.0322000000000013},null,"CCRUNIT MT",34.0182,24.125600000000006]
["CCRUNIT PC",48.978000000000002,50.356000000000002,50.101999999999997,48.243000000000002,49.6,47.76,49.106999999999999,48.859000000000002,43.91,48.372,46.578000000000003,47.892000000000003,579.75700000000006,null,null,null,"CCRUNIT PC",46.006999999999998,48.978000000000002,null,"CCRUNIT PC",49.343000000000004,50.356000000000002,null,"CCRUNIT PC",37.084000000000003,50.101999999999997,null,"CCRUNIT PC",132.434,149.43600000000001,null,null,null,null,null,"CCRUNIT PC",40.598999999999997,48.243000000000002,null,"CCRUNIT PC",34.588999999999999,49.6,null,"CCRUNIT PC",30.315999999999999,47.76,null,"CCRUNIT PC",105.50399999999999,145.60300000000001,null,null,0,0,null,null,"CCRUNIT PC",51.895000000000003,49.106999999999999,null,"CCRUNIT PC",47.978000000000002,48.859000000000002,null,"CCRUNIT PC",39.435000000000002,43.91,null,"CCRUNIT PC",139.30799999999999,141.876,null,null,null,null,null,null,null,null,"CCRUNIT PC",{"$f":"VLOOKUP(CD54,CD$119:CE$203,2,FALSE)","v":44.127000000000002},48.372,null,"CCRUNIT PC",{"$f":"VLOOKUP(CH54,CH$119:CI$203,2,FALSE)","v":47.271999999999998},46.578000000000003,null,"CCRUNIT PC",{"$f":"VLOOKUP(CL54,CL$119:CM$203,2,FALSE)","v":41.905000000000001},47.892000000000003,null,"CCRUNIT PC",133.304,142.84200000000001]
["CCRUNITMT PC",15.954000000000001,16.414000000000001,16.34,15.744,16.196999999999999,15.606,16.055,15.984,14.372,15.843999999999999,15.263999999999999,15.705,189.47900000000001,null,null,null,"CCRUNITMT PC",14.906000000000001,15.954000000000001,null,"CCRUNITMT PC",16.335999999999999,16.414000000000001,null,"CCRUNITMT PC",17.481999999999999,16.34,null,"CCRUNITMT PC",48.723999999999997,48.707999999999998,null,null,null,null,null,"CCRUNITMT PC",17.533000000000001,15.744,null,"CCRUNITMT PC",15.632999999999999,16.196999999999999,null,"CCRUNITMT PC",13.074999999999999,15.606,null,"CCRUNITMT PC",46.241,47.546999999999997,null,null,0,0,null,null,"CCRUNITMT PC",15.401999999999999,16.055,null,"CCRUNITMT PC",15.792,15.984,null,"CCRUNITMT PC",14.598000000000001,14.372,null,"CCRUNITMT PC",45.792000000000002,46.411000000000001,null,null,null,null,null,null,null,null,"CCRUNITMT PC",{"$f":"VLOOKUP(CD55,CD$119:CE$203,2,FALSE)","v":15.227},15.843999999999999,null,"CCRUNITMT PC",15.352,15.263999999999999,null,"CCRUNITMT PC",15.334,15.705,null,"CCRUNITMT PC",45.912999999999997,46.812999999999995]
["CHBTC1 MT PC",23.405999999999999,24.081,23.978000000000002,23.106000000000002,23.774000000000001,22.908000000000001,23.571999999999999,23.47,21.109000000000002,23.268999999999998,22.422000000000001,23.07,278.16500000000002,null,null,null,"CHBTC1 MT PC",19.21,23.405999999999999,null,"CHBTC1 MT PC",18.675999999999998,24.081,null,"CHBTC1 MT PC",18.323,23.978000000000002,null,"CHBTC1 MT PC",56.208999999999996,71.465000000000003,null,null,null,null,null,"CHBTC1 MT PC",17.693999999999999,23.106000000000002,null,"CHBTC1 MT PC",17.957000000000001,23.774000000000001,null,"CHBTC1 MT PC",16.946999999999999,22.908000000000001,null,"CHBTC1 MT PC",52.597999999999999,69.788000000000011,null,null,null,null,null,null,"CHBTC1 MT PC",19.061,23.571999999999999,null,"CHBTC1 MT PC",19.585999999999999,23.47,null,"CHBTC1 MT PC",15.31,21.109000000000002,null,"CHBTC1 MT PC",53.957000000000001,68.15100000000001,null,null,null,null,null,null,null,null,"CHBTC1 MT PC",21.527000000000001,23.268999999999998,null,"CHBTC1 MT PC",27.074000000000002,22.422000000000001,null,"CHBTC1 MT PC",27.545999999999999,23.07,null,"CHBTC1 MT PC",76.146999999999991,68.760999999999996]
["CHBTCAT1 PC",45.255000000000003,46.438000000000002,46.116,44.322000000000003,45.482999999999997,43.716000000000001,44.863,44.558999999999997,39.975999999999999,43.960999999999999,42.258000000000003,43.375,530.32200000000012,null,null,null,"CHBTCAT1 PC",24.702000000000002,45.255000000000003,null,"CHBTCAT1 PC",32.167000000000002,46.438000000000002,null,"CHBTCAT1 PC",32.612000000000002,46.116,null,"CHBTCAT1 PC",89.480999999999995,137.80900000000003,null,null,null,null,null,"CHBTCAT1 PC",29.501000000000001,44.322000000000003,null,"CHBTCAT1 PC",37.683,45.482999999999997,null,"CHBTCAT1 PC",32.281999999999996,43.716000000000001,null,"CHBTCAT1 PC",99.465999999999994,133.52100000000002,null,9.1,null,null,null,null,"CHBTCAT1 PC",30.547999999999998,44.863,null,"CHBTCAT1 PC",30.847000000000001,44.558999999999997,null,"CHBTCAT1 PC",27.986999999999998,39.975999999999999,null,"CHBTCAT1 PC",89.381999999999991,129.398,null,null,null,null,null,null,null,null,"CHBTCAT1 PC",38.363999999999997,43.960999999999999,null,"CHBTCAT1 PC",49.521999999999998,42.258000000000003,null,"CHBTCAT1 PC",49.115000000000002,43.375,null,"CHBTCAT1 PC",137.001,129.59399999999999]
["CHBTCAT2 PC",2.0190000000000001,2.0680000000000001,2.052,1.968,2.0150000000000001,1.9350000000000001,1.9810000000000001,1.962,1.758,1.9279999999999999,1.851,1.897,23.433999999999997,null,null,null,"CHBTCAT2 PC",2.044,2.0190000000000001,null,"CHBTCAT2 PC",2.0190000000000001,2.0680000000000001,null,"CHBTCAT2 PC",2.0289999999999999,2.052,null,"CHBTCAT2 PC",6.0920000000000005,6.1389999999999993,null,null,null,null,null,"CHBTCAT2 PC",1.9470000000000001,1.968,null,"CHBTCAT2 PC",1.8480000000000001,2.0150000000000001,null,"CHBTCAT2 PC",1.766,1.9350000000000001,null,"CHBTCAT2 PC",5.5609999999999999,5.9180000000000001,null,null,null,null,null,null,"CHBTCAT2 PC",1.758,1.9810000000000001,null,"CHBTCAT2 PC",1.7250000000000001,1.962,null,"CHBTCAT2 PC",1.879,1.758,null,"CHBTCAT2 PC",5.3620000000000001,5.7010000000000005,null,null,null,null,null,null,null,null,"CHBTCAT2 PC",2.2650000000000001,1.9279999999999999,null,"CHBTCAT2 PC",2.7509999999999999,1.851,null,"CHBTCAT2 PC",2.7559999999999998,1.897,null,"CHBTCAT2 PC",7.7720000000000002,5.6760000000000002]
["DRYPINY6 PC",1.05,1.079,1.0760000000000001,1.0349999999999999,1.0660000000000001,1.026,1.0569999999999999,1.0509999999999999,0.94599999999999995,1.042,1.0049999999999999,1.0349999999999999,12.468,null,null,null,"DRYPINY6 PC",0.93799999999999994,1.05,null,"DRYPINY6 PC",1.06,1.079,null,"DRYPINY6 PC",0.106,1.0760000000000001,null,"DRYPINY6 PC",2.1040000000000001,3.2050000000000001,null,9.1,null,null,null,"DRYPINY6 PC",0.104,1.0349999999999999,null,"DRYPINY6 PC",0.11899999999999999,1.0660000000000001,null,"DRYPINY6 PC",0.113,1.026,null,"DRYPINY6 PC",0.33599999999999997,3.1269999999999998,null,null,null,null,null,null,"DRYPINY6 PC",0.11,1.0569999999999999,null,"DRYPINY6 PC",0.114,1.0509999999999999,null,"DRYPINY6 PC",0.104,0.94599999999999995,null,"DRYPINY6 PC",0.32800000000000001,3.0539999999999994,null,null,null,null,null,null,null,null,"DRYPINY6 PC",0.115,1.042,null,"DRYPINY6 PC",0.109,1.0049999999999999,null,"DRYPINY6 PC",7.1999999999999995E-2,1.0349999999999999,null,"DRYPINY6 PC",0.29599999999999999,3.0819999999999999]
["DRYPINYU PC",10.557,10.840999999999999,10.772,10.359,10.635999999999999,10.227,10.5,10.435,9.3659999999999997,10.304,9.9090000000000007,10.173999999999999,124.08000000000001,null,null,null,"DRYPINYU PC",9.7379999999999995,10.557,null,"DRYPINYU PC",10.789,10.840999999999999,null,"DRYPINYU PC",8.7110000000000003,10.772,null,"DRYPINYU PC",29.238,32.17,null,null,null,null,null,"DRYPINYU PC",8.5679999999999996,10.359,null,"DRYPINYU PC",8.6140000000000008,10.635999999999999,null,"DRYPINYU PC",8.0229999999999997,10.227,null,"DRYPINYU PC",25.205000000000002,31.221999999999998,null,null,null,null,null,null,"DRYPINYU PC",9.5419999999999998,10.5,null,"DRYPINYU PC",8.0579999999999998,10.435,null,"DRYPINYU PC",7.58,9.3659999999999997,null,"DRYPINYU PC",25.18,30.301000000000002,null,null,null,null,null,null,null,null,"DRYPINYU PC",8.6470000000000002,10.304,null,"DRYPINYU PC",8.8390000000000004,9.9090000000000007,null,"DRYPINYU PC",7.0170000000000003,10.173999999999999,null,"DRYPINYU PC",24.503,30.387]
["FOGARTY PC",0.56399999999999995,0.57999999999999996,0.57699999999999996,0.55200000000000005,0.56699999999999995,0.54600000000000004,0.56100000000000005,0.55800000000000005,0.501,0.54900000000000004,0.52800000000000002,0.54300000000000004,6.6260000000000003,null,null,null,"FOGARTY PC",1.1439999999999999,0.56399999999999995,null,"FOGARTY PC",1.0069999999999999,0.57999999999999996,null,"FOGARTY PC",0.96099999999999997,0.57699999999999996,null,"FOGARTY PC",3.1119999999999997,1.7209999999999999,null,null,null,null,null,"FOGARTY PC",0.873,0.55200000000000005,null,"FOGARTY PC",0.86399999999999999,0.56699999999999995,null,"FOGARTY PC",0.24299999999999999,0.54600000000000004,null,"FOGARTY PC",1.98,1.665,null,null,null,null,null,null,"FOGARTY PC",0.21299999999999999,0.56100000000000005,null,"FOGARTY PC",0,0.55800000000000005,null,"FOGARTY PC",0,0.501,null,"FOGARTY PC",0.21299999999999999,1.62,null,9.1,null,null,null,null,null,null,"FOGARTY PC",0,0.54900000000000004,null,"FOGARTY PC",0,0.52800000000000002,null,"FOGARTY PC",0,0.54300000000000004,null,"FOGARTY PC",0,1.62]
["HWA DEEP PC",0.54600000000000004,0.56100000000000005,0.55500000000000005,0.53400000000000003,0.54900000000000004,0.52800000000000002,0.54300000000000004,0.53900000000000003,0.48399999999999999,0.53300000000000003,0.51,0.52400000000000002,6.4060000000000006,null,null,null,"HWA DEEP PC",0.125,0.54600000000000004,null,"HWA DEEP PC",6.0999999999999999E-2,0.56100000000000005,null,"HWA DEEP PC",0.122,0.55500000000000005,null,"HWA DEEP PC",0.308,1.6620000000000004,null,null,null,null,null,"HWA DEEP PC",0.18,0.53400000000000003,null,"HWA DEEP PC",0,0.54900000000000004,null,"HWA DEEP PC",0.192,0.52800000000000002,null,"HWA DEEP PC",0.372,1.6110000000000002,null,null,null,null,null,null,"HWA DEEP PC",0.18099999999999999,0.54300000000000004,null,"HWA DEEP PC",0.255,0.53900000000000003,null,"HWA DEEP PC",0.20200000000000001,0.48399999999999999,null,"HWA DEEP PC",0.63800000000000001,1.5660000000000001,null,null,null,null,null,null,null,null,"HWA DEEP PC",0.23899999999999999,0.53300000000000003,null,"HWA DEEP PC",{"$f":"VLOOKUP(CH62,CH$119:CI$203,2,FALSE)","v":3.3000000000000002E-2},0.51,null,"HWA DEEP PC",{"$f":"VLOOKUP(CL62,CL$119:CM$203,2,FALSE)","v":0.20100000000000001},0.52400000000000002,null,"HWA DEEP PC",0.47300000000000003,1.5670000000000002]
["HWPL1&3MTPC",6.2549999999999999,6.4290000000000003,6.3920000000000003,6.1529999999999996,6.3209999999999997,6.0839999999999996,6.25,6.2160000000000002,5.5830000000000002,6.1470000000000002,5.9160000000000004,6.0759999999999996,73.821999999999989,null,null,null,"HWPL1&3MTPC",7.72,6.2549999999999999,null,"HWPL1&3MTPC",5.84,6.4290000000000003,null,"HWPL1&3MTPC",7.5229999999999997,6.3920000000000003,null,"HWPL1&3MTPC",21.082999999999998,19.076000000000001,null,null,null,null,null,"HWPL1&3MTPC",4.3,6.1529999999999996,null,"HWPL1&3MTPC",6.58,6.3209999999999997,null,"HWPL1&3MTPC",8.0009999999999994,6.0839999999999996,null,"HWPL1&3MTPC",18.881,18.558,null,null,null,null,null,null,"HWPL1&3MTPC",7.2309999999999999,6.25,null,"HWPL1&3MTPC",8.4740000000000002,6.2160000000000002,null,"HWPL1&3MTPC",7.1340000000000003,5.5830000000000002,null,"HWPL1&3MTPC",22.838999999999999,18.048999999999999,null,null,null,null,null,null,null,null,"HWPL1&3MTPC",7.9429999999999996,6.1470000000000002,null,"HWPL1&3MTPC",{"$f":"VLOOKUP(CH63,CH$119:CI$203,2,FALSE)","v":7.6909999999999998},5.9160000000000004,null,"HWPL1&3MTPC",{"$f":"VLOOKUP(CL63,CL$119:CM$203,2,FALSE)","v":7.9029999999999996},6.0759999999999996,null,"HWPL1&3MTPC",23.536999999999999,18.138999999999999]
["HWPLT1&3 PC",53.25,54.718000000000004,54.417000000000002,52.371000000000002,53.816000000000003,51.792000000000002,53.223999999999997,52.929000000000002,47.543999999999997,52.347000000000001,50.378999999999998,51.77,628.55700000000002,null,null,null,"HWPLT1&3 PC",14.976000000000001,53.25,null,"HWPLT1&3 PC",5.1529999999999996,54.718000000000004,null,{"$f":"R64","v":"HWPLT1&3 PC"},35.28,54.417000000000002,null,"HWPLT1&3 PC",55.409000000000006,162.38499999999999,null,null,null,null,null,"HWPLT1&3 PC",48.61,52.371000000000002,null,"HWPLT1&3 PC",46.603000000000002,53.816000000000003,null,"HWPLT1&3 PC",52.655999999999999,51.792000000000002,null,"HWPLT1&3 PC",147.869,157.97900000000001,null,null,null,null,null,null,"HWPLT1&3 PC",53.567999999999998,53.223999999999997,null,"HWPLT1&3 PC",48.497999999999998,52.929000000000002,null,"HWPLT1&3 PC",40.808,47.543999999999997,null,"HWPLT1&3 PC",142.874,153.697,null,null,null,null,null,null,null,null,"HWPLT1&3 PC",46.085000000000001,52.347000000000001,null,"HWPLT1&3 PC",{"$f":"VLOOKUP(CH64,CH$119:CI$203,2,FALSE)","v":56.835999999999999},50.378999999999998,null,"HWPLT1&3 PC",{"$f":"VLOOKUP(CL64,CL$119:CM$203,2,FALSE)","v":57.554000000000002},51.77,null,"HWPLT1&3 PC",160.47499999999999,154.49600000000001]
["HWPLT2 PC",0.85499999999999998,0.88,0.874,0.84299999999999997,0.86499999999999999,0.83399999999999996,0.85599999999999998,0.85299999999999998,0.76400000000000001,0.84299999999999997,0.81,0.83399999999999996,10.110999999999999,null,null,null,"HWPLT2 PC",0.80900000000000005,0.85499999999999998,null,"HWPLT2 PC",0.78400000000000003,0.88,null,"HWPLT2 PC",0.90600000000000003,0.874,null,"HWPLT2 PC",2.4990000000000001,2.609,null,null,null,null,null,"HWPLT2 PC",0.61,0.84299999999999997,null,"HWPLT2 PC",0.94399999999999995,0.86499999999999999,null,"HWPLT2 PC",0.96,0.83399999999999996,null,"HWPLT2 PC",2.5139999999999998,2.5419999999999998,null,null,null,null,null,null,"HWPLT2 PC",0.87,0.85599999999999998,null,"HWPLT2 PC",0.70499999999999996,0.85299999999999998,null,"HWPLT2 PC",0.64200000000000002,0.76400000000000001,null,"HWPLT2 PC",2.2170000000000001,2.4729999999999999,null,null,null,null,null,null,null,null,"HWPLT2 PC",0.82499999999999996,0.84299999999999997,null,"HWPLT2 PC",{"$f":"VLOOKUP(CH65,CH$119:CI$203,2,FALSE)","v":0.77100000000000002},0.81,null,"HWPLT2 PC",{"$f":"VLOOKUP(CL65,CL$119:CM$203,2,FALSE)","v":0.752},0.83399999999999996,null,"HWPLT2 PC",2.3479999999999999,2.4870000000000001]
["ISLAND PC",0.56699999999999995,0.58299999999999996,0.57999999999999996,0.55800000000000005,0.56999999999999995,0.54900000000000004,0.56399999999999995,0.56100000000000005,0.504,0.55500000000000005,0.53400000000000003,0.54900000000000004,6.6739999999999995,null,null,null,"ISLAND PC",0.66600000000000004,0.56699999999999995,null,"ISLAND PC",0.497,0.58299999999999996,null,"ISLAND PC",0.41799999999999998,0.57999999999999996,null,"ISLAND PC",1.581,1.73,null,null,null,null,null,"ISLAND PC",0.65,0.55800000000000005,null,"ISLAND PC",9.9000000000000005E-2,0.56999999999999995,null,"ISLAND PC",0.70099999999999996,0.54900000000000004,null,"ISLAND PC",1.45,1.677,null,null,null,null,null,null,"ISLAND PC",0.49299999999999999,0.56399999999999995,null,"ISLAND PC",0.64100000000000001,0.56100000000000005,null,"ISLAND PC",0.55000000000000004,0.504,null,"ISLAND PC",1.6839999999999999,1.629,null,null,null,null,null,null,null,null,"ISLAND PC",0.623,0.55500000000000005,null,"ISLAND PC",{"$f":"VLOOKUP(CH66,CH$119:CI$203,2,FALSE)","v":0.627},0.53400000000000003,null,"ISLAND PC",{"$f":"VLOOKUP(CL66,CL$119:CM$203,2,FALSE)","v":0.63800000000000001},0.54900000000000004,null,"ISLAND PC",1.8879999999999999,1.6379999999999999]
["JNSNRDG PC",2.0099999999999998,2.0710000000000002,2.0619999999999998,1.986,2.0430000000000001,1.9710000000000001,2.0270000000000001,2.0179999999999998,1.8140000000000001,2.0030000000000001,1.929,1.984,23.917999999999999,null,null,null,"JNSNRDG PC",3.5609999999999999,2.0099999999999998,null,"JNSNRDG PC",3.0129999999999999,2.0710000000000002,null,"JNSNRDG PC",2.274,2.0619999999999998,null,"JNSNRDG PC",8.847999999999999,6.1429999999999989,null,null,null,null,null,"JNSNRDG PC",2.391,1.986,null,"JNSNRDG PC",2.39,2.0430000000000001,null,"JNSNRDG PC",2.2309999999999999,1.9710000000000001,null,"JNSNRDG PC",7.0120000000000005,6,null,null,null,null,null,null,"JNSNRDG PC",0.42199999999999999,2.0270000000000001,null,"JNSNRDG PC",0,2.0179999999999998,null,"JNSNRDG PC",0,1.8140000000000001,null,"JNSNRDG PC",0.42199999999999999,5.859,null,null,null,null,null,null,null,null,"JNSNRDG PC",0,2.0030000000000001,null,"JNSNRDG PC",0,1.929,null,"JNSNRDG PC",0,1.984,null,"JNSNRDG PC",0,5.9160000000000004]
["KNY FLD PC",3.246,3.3420000000000001,3.3290000000000002,3.2069999999999999,3.302,3.1829999999999998,3.2770000000000001,3.2639999999999998,2.9369999999999998,3.2360000000000002,3.12,3.2120000000000002,38.655000000000001,null,null,null,"KNY FLD PC",0.75,3.246,null,"KNY FLD PC",0,3.3420000000000001,null,"KNY FLD PC",2.468,3.3290000000000002,null,"KNY FLD PC",3.218,9.9169999999999998,null,null,null,null,null,"KNY FLD PC",3.4990000000000001,3.2069999999999999,null,"KNY FLD PC",3.7130000000000001,3.302,null,"KNY FLD PC",3.456,3.1829999999999998,null,"KNY FLD PC",10.667999999999999,9.6920000000000002,null,null,null,null,null,null,"KNY FLD PC",2.1760000000000002,3.2770000000000001,null,"KNY FLD PC",2.726,3.2639999999999998,null,"KNY FLD PC",2.33,2.9369999999999998,null,"KNY FLD PC",7.2320000000000002,9.4779999999999998,null,null,null,null,null,null,null,null,"KNY FLD PC",3.5609999999999999,3.2360000000000002,null,"KNY FLD PC",{"$f":"VLOOKUP(CH68,CH$119:CI$203,2,FALSE)","v":2.286},3.12,null,"KNY FLD PC",{"$f":"VLOOKUP(CL68,CL$119:CM$203,2,FALSE)","v":2.8479999999999999},3.2120000000000002,null,"KNY FLD PC",8.6950000000000003,9.5679999999999996]
["MOSUMT PC",11.028,11.318,11.241,10.805999999999999,11.089,10.659000000000001,10.94,10.865,9.75,10.72,10.305,10.577,129.298,null,null,null,"MOSUMT PC",7.02,11.028,null,"MOSUMT PC",2.7589999999999999,11.318,null,"MOSUMT PC",8.4169999999999998,11.241,null,"MOSUMT PC",18.195999999999998,33.587000000000003,null,null,null,null,null,"MOSUMT PC",4.4210000000000003,{"$f":"IFERROR(VLOOKUP(AL69,$A$6:$M$123,5,FALSE),\"\")","v":10.805999999999999},null,"MOSUMT PC",5.3449999999999998,11.089,null,"MOSUMT PC",8.0079999999999991,10.659000000000001,null,"MOSUMT PC",17.774000000000001,32.554000000000002,null,null,null,null,null,null,"MOSUMT PC",6.1660000000000004,10.94,null,"MOSUMT PC",5.7009999999999996,10.865,null,"MOSUMT PC",5.5439999999999996,9.75,null,"MOSUMT PC",17.411000000000001,31.555,null,null,null,null,null,null,null,null,"MOSUMT PC",7.4409999999999998,10.72,null,"MOSUMT PC",{"$f":"VLOOKUP(CH69,CH$119:CI$203,2,FALSE)","v":6.3369999999999997},10.305,null,"MOSUMT PC",{"$f":"VLOOKUP(CL69,CL$119:CM$203,2,FALSE)","v":7.0339999999999998},10.577,null,"MOSUMT PC",20.811999999999998,31.601999999999997]
["PDW1A1B PC",0.80100000000000005,0.82499999999999996,0.81799999999999995,0.78600000000000003,0.72799999999999998,0.77400000000000002,0.79400000000000004,0.79,0.70799999999999996,0.77800000000000002,0.747,0.76900000000000002,9.3179999999999996,null,null,null,"PDW1A1B PC",{"$f":"IFERROR(VLOOKUP(R70,$R$119:$S$213,2,FALSE),0)","v":0.19400000000000001},{"$f":"IFERROR(VLOOKUP(R70,$A$6:$M$123,2,FALSE),\"\")","v":0.80100000000000005},null,"PDW1A1B PC",{"$f":"IFERROR(VLOOKUP(V70,$V$119:$W$213,2,FALSE),0)","v":0},{"$f":"IFERROR(VLOOKUP(V70,$A$6:$M$123,3,FALSE),\"\")","v":0.82499999999999996},null,"PDW1A1B PC",{"$f":"IFERROR(VLOOKUP(A70,$Z$119:$AA$213,2,FALSE),0)","v":0},{"$f":"IFERROR(VLOOKUP(Z70,$A$6:$M$123,4,FALSE),\"\")","v":0.81799999999999995},null,"PDW1A1B PC",0.19400000000000001,2.444,null,null,null,null,null,"PDW1A1B PC",0,{"$f":"IFERROR(VLOOKUP(AL70,$A$6:$M$123,5,FALSE),\"\")","v":0.78600000000000003},null,"PDW1A1B PC",0,{"$f":"IFERROR(VLOOKUP($AP70,$A$6:$M$123,6,FALSE),\"\")","v":0.72799999999999998},null,"PDW1A1B PC",0.76900000000000002,{"$f":"IFERROR(VLOOKUP($AT70,$A$6:$M$123,7,FALSE),\"\")","v":0.77400000000000002},null,"PDW1A1B PC",0.76900000000000002,2.2880000000000003,null,null,null,null,null,null,"PDW1A1B PC",0.85599999999999998,0.79400000000000004,null,"PDW1A1B PC",1.9139999999999999,0.79,null,{"$f":"A70","v":"PDW1A1B PC"},0.39900000000000002,{"$f":"IFERROR(VLOOKUP($BO70,$A$6:$M$123,10,FALSE),0)","v":0.70799999999999996},null,{"$f":"A70","v":"PDW1A1B PC"},3.169,2.2919999999999998,null,null,null,null,null,null,null,null,{"$f":"A70","v":"PDW1A1B PC"},0.69299999999999995,0.77800000000000002,null,{"$f":"A70","v":"PDW1A1B PC"},{"$f":"VLOOKUP(CH70,CH$119:CI$203,2,FALSE)","v":0.10299999999999999},{"$f":"IFERROR(VLOOKUP($A70,$A$6:$M$123,12,FALSE),\"\")","v":0.747},null,{"$f":"A70","v":"PDW1A1B PC"},{"$f":"VLOOKUP(CL70,CL$119:CM$203,2,FALSE)","v":0.20599999999999999},{"$f":"IFERROR(VLOOKUP($A70,$A$6:$M$123,13,FALSE),\"\")","v":0.76900000000000002},null,"PDW1A1B PC",1.002,2.294]
["PDW1AB MT PC",3.3149999999999999,3.407,3.391,3.2669999999999999,3.36,3.234,3.3260000000000001,3.3109999999999999,2.976,3.28,3.1589999999999998,3.2490000000000001,{"$f":"SUM(B71:M71)","v":39.274999999999999},null,null,null,"PDW1AB MT PC",3.9940000000000002,3.3149999999999999,null,"PDW1AB MT PC",2.7490000000000001,3.407,null,"PDW1AB MT PC",4.5810000000000004,3.391,null,"PDW1AB MT PC",{"$f":"SUM(S71,W71,AA71)","v":11.324000000000002},{"$f":"SUM(T71,X71,AB71)","v":10.113},null,null,null,null,null,{"$f":"AD71","v":"PDW1AB MT PC"},{"$f":"IFERROR(VLOOKUP(AL71,$AL$119:$AM$209,2,FALSE),0)","v":3.1080000000000001},3.2669999999999999,null,{"$f":"AL71","v":"PDW1AB MT PC"},{"$f":"IFERROR(VLOOKUP(AP71,$AP$119:$AQ$218,2,FALSE),0)","v":4.7249999999999996},3.36,null,{"$f":"AP71","v":"PDW1AB MT PC"},{"$f":"IFERROR(VLOOKUP(AT71,$AT$119:$AU$211,2,FALSE),0)","v":4.843},3.234,null,"PDW1AB MT PC",12.676,9.8610000000000007,null,null,null,null,null,null,{"$f":"AX71","v":"PDW1AB MT PC"},{"$f":"IFERROR(VLOOKUP(BG71,$BG$119:$BH$211,2,FALSE),0)","v":3.85},{"$f":"IFERROR(VLOOKUP($BG71,$A$6:$M$123,8,FALSE),\"\")","v":3.3260000000000001},null,{"$f":"BG71","v":"PDW1AB MT PC"},{"$f":"IFERROR(VLOOKUP(BK71,$BK$119:$BL$211,2,FALSE),0)","v":3.9529999999999998},{"$f":"IFERROR(VLOOKUP($BG71,$A$6:$M$123,9,FALSE),\"\")","v":3.3109999999999999},null,"PDW1AB MT PC",{"$f":"IFERROR(VLOOKUP($BO71,$BO$119:$BP$211,2,FALSE),0)","v":1.8879999999999999},2.976,null,"PDW1AB MT PC",{"$f":"SUM(BH71,BL71,BP71)","v":9.6909999999999989},{"$f":"SUM(BI71,BM71,BQ71)","v":9.6129999999999995},null,null,null,null,null,null,null,null,"PDW1AB MT PC",1.4590000000000001,{"$f":"IFERROR(VLOOKUP($A71,$A$6:$M$123,11,FALSE),\"\")","v":3.28},null,"PDW1AB MT PC",{"$f":"VLOOKUP(CH71,CH$119:CI$203,2,FALSE)","v":0.22900000000000001},3.1589999999999998,null,"PDW1AB MT PC",{"$f":"VLOOKUP(CL71,CL$119:CM$203,2,FALSE)","v":0.96599999999999997},3.2490000000000001,null,"PDW1AB MT PC",2.6539999999999999,9.6880000000000006]
["PDWCUT PC",0.68400000000000005,0.70399999999999996,0.70399999999999996,0.67800000000000005,0.69799999999999995,0.67200000000000004,0.69099999999999995,0.68799999999999994,0.622,0.68500000000000005,0.66,0.67900000000000005,8.1649999999999991,null,null,null,"PDWCUT PC",0.68600000000000005,0.68400000000000005,null,"PDWCUT PC",3.4000000000000002E-2,0.70399999999999996,null,"PDWCUT PC",0,0.70399999999999996,null,"PDWCUT PC",0.72000000000000008,2.0919999999999996,null,null,null,null,null,"PDWCUT PC",0,0.67800000000000005,null,"PDWCUT PC",0,0.69799999999999995,null,"PDWCUT PC",1.288,0.67200000000000004,null,{"$f":"AT72","v":"PDWCUT PC"},{"$f":"SUM(AM72,AQ72,AU72)","v":1.288},{"$f":"SUM(AN72,AR72,AV72)","v":2.048},null,null,null,null,null,null,"PDWCUT PC",1.6040000000000001,0.69099999999999995,null,"PDWCUT PC",1.786,0.68799999999999994,null,"PDWCUT PC",0.24,0.622,null,"PDWCUT PC",3.63,2.0009999999999999,null,null,null,null,null,null,null,null,"PDWCUT PC",1.0169999999999999,0.68500000000000005,null,"PDWCUT PC",9.1999999999999998E-2,0.66,null,"PDWCUT PC",0,0.67900000000000005,null,{"$f":"CL72","v":"PDWCUT PC"},{"$f":"CE72+CI72+CM72","v":1.109},2.024]
["PDWPLT2 PC",5.1239999999999997,5.27,5.2450000000000001,5.0519999999999996,5.1959999999999997,5.0039999999999996,5.1459999999999999,5.1210000000000004,4.6059999999999999,5.0750000000000002,4.8869999999999996,5.0279999999999996,60.754000000000005,null,null,null,{"$f":"A73","v":"PDWPLT2 PC"},4.8120000000000003,5.1239999999999997,null,{"$f":"R73","v":"PDWPLT2 PC"},4.2990000000000004,5.27,null,{"$f":"R73","v":"PDWPLT2 PC"},4.3150000000000004,5.2450000000000001,null,{"$f":"R73","v":"PDWPLT2 PC"},13.426000000000002,15.638999999999999,null,null,null,null,null,"PDWPLT2 PC",3.9020000000000001,5.0519999999999996,null,"PDWPLT2 PC",3.875,5.1959999999999997,null,"PDWPLT2 PC",5.0789999999999997,5.0039999999999996,null,"PDWPLT2 PC",12.856,15.251999999999999,null,null,null,null,null,null,"PDWPLT2 PC",4.375,5.1459999999999999,null,"PDWPLT2 PC",3.5880000000000001,5.1210000000000004,null,"PDWPLT2 PC",3.7029999999999998,4.6059999999999999,null,"PDWPLT2 PC",11.666,14.872999999999999,null,null,null,null,null,null,null,null,"PDWPLT2 PC",5.15,5.0750000000000002,null,"PDWPLT2 PC",{"$f":"VLOOKUP(CH73,CH$119:CI$203,2,FALSE)","v":4.8819999999999997},4.8869999999999996,null,"PDWPLT2 PC",{"$f":"VLOOKUP(CL73,CL$119:CM$203,2,FALSE)","v":5.2039999999999997},5.0279999999999996,null,"PDWPLT2 PC",15.236000000000001,14.989999999999998]
["PDWPLT3 PC",5.82,5.298,5.2670000000000003,5.0670000000000002,5.2050000000000001,5.0069999999999997,5.1429999999999998,5.1120000000000001,4.5919999999999996,5.0529999999999999,4.8630000000000004,4.9939999999999998,61.420999999999999,null,null,null,"PDWPLT3 PC",5.4909999999999997,5.82,null,"PDWPLT3 PC",4.09,5.298,null,"PDWPLT3 PC",5.8280000000000003,5.2670000000000003,null,"PDWPLT3 PC",15.408999999999999,16.385000000000002,null,null,null,null,null,"PDWPLT3 PC",4.3259999999999996,5.0670000000000002,null,"PDWPLT3 PC",5.0019999999999998,5.2050000000000001,null,"PDWPLT3 PC",5.1379999999999999,5.0069999999999997,null,"PDWPLT3 PC",14.465999999999999,15.279,null,null,null,null,null,null,"PDWPLT3 PC",4.8419999999999996,5.1429999999999998,null,"PDWPLT3 PC",4.0270000000000001,5.1120000000000001,null,"PDWPLT3 PC",3.8370000000000002,4.5919999999999996,null,"PDWPLT3 PC",12.706,14.846999999999998,null,null,null,null,null,null,null,null,"PDWPLT3 PC",4.5179999999999998,5.0529999999999999,null,"PDWPLT3 PC",4.2450000000000001,4.8630000000000004,null,"PDWPLT3 PC",5.4020000000000001,4.9939999999999998,null,"PDWPLT3 PC",14.164999999999999,14.91]
["SGRLF PC",35.694000000000003,36.661000000000001,36.433999999999997,35.045999999999999,35.994,34.619999999999997,35.554000000000002,35.337000000000003,31.724,34.908999999999999,33.576000000000001,34.484000000000002,420.03300000000002,null,null,null,"SGRLF PC",3.5089999999999999,35.694000000000003,null,"SGRLF PC",0,36.661000000000001,null,"SGRLF PC",34.311999999999998,36.433999999999997,null,"SGRLF PC",37.820999999999998,108.789,null,null,null,null,null,"SGRLF PC",42.427999999999997,35.045999999999999,null,"SGRLF PC",40.835000000000001,35.994,null,"SGRLF PC",38.25,34.619999999999997,null,"SGRLF PC",121.51300000000001,105.66,null,null,null,null,null,null,"SGRLF PC",34.411999999999999,35.554000000000002,null,"SGRLF PC",37.165999999999997,35.337000000000003,null,"SGRLF PC",31.065999999999999,31.724,null,"SGRLF PC",102.64400000000001,102.61500000000001,null,null,null,null,null,null,null,null,"SGRLF PC",33.590000000000003,34.908999999999999,null,"SGRLF PC",34.68,33.576000000000001,null,"SGRLF PC",36.476999999999997,34.484000000000002,null,"SGRLF PC",104.74700000000001,102.96899999999999]
["TRAIL PC",1.2210000000000001,1.252,1.2430000000000001,1.1970000000000001,1.228,1.179,1.2090000000000001,1.2030000000000001,1.0780000000000001,1.1839999999999999,1.1399999999999999,1.169,14.302999999999999,null,null,null,"TRAIL PC",0.316,1.2210000000000001,null,"TRAIL PC",0,1.252,null,"TRAIL PC",1.3420000000000001,1.2430000000000001,null,"TRAIL PC",1.6580000000000001,3.7160000000000002,null,null,null,null,null,"TRAIL PC",1.089,1.1970000000000001,null,"TRAIL PC",1.0669999999999999,1.228,null,"TRAIL PC",1.04,1.179,null,"TRAIL PC",3.1959999999999997,3.6040000000000001,null,null,null,null,null,null,"TRAIL PC",0.73799999999999999,1.2090000000000001,null,"TRAIL PC",1.0029999999999999,1.2030000000000001,null,"TRAIL PC",0.83099999999999996,1.0780000000000001,null,"TRAIL PC",2.5720000000000001,3.49,null,null,null,null,null,null,null,null,"TRAIL PC",1.0640000000000001,1.1839999999999999,null,"TRAIL PC",0.88800000000000001,1.1399999999999999,null,"TRAIL PC",0.93100000000000005,1.169,null,"TRAIL PC",2.883,3.4929999999999999]
["WHLA PC",9.4860000000000007,9.7460000000000004,9.6880000000000006,9.3209999999999997,9.5760000000000005,9.2129999999999992,9.4640000000000004,9.4120000000000008,8.4499999999999993,9.3000000000000007,8.9489999999999998,9.1950000000000003,111.80000000000001,null,null,null,"WHLA PC",5.5010000000000003,9.4860000000000007,null,"WHLA PC",8.9079999999999995,9.7460000000000004,null,"WHLA PC",5.2779999999999996,9.6880000000000006,null,"WHLA PC",19.686999999999998,28.92,null,null,null,null,null,"WHLA PC",6.84,9.3209999999999997,null,"WHLA PC",3.98,9.5760000000000005,null,"WHLA PC",5.04,9.2129999999999992,null,"WHLA PC",15.86,28.11,null,null,null,null,null,null,"WHLA PC",5.4420000000000002,9.4640000000000004,null,"WHLA PC",7.0519999999999996,9.4120000000000008,null,"WHLA PC",1.302,8.4499999999999993,null,"WHLA PC",13.795999999999999,27.326000000000001,null,null,null,null,null,null,null,null,"WHLA PC",1.7509999999999999,9.3000000000000007,null,"WHLA PC",1.5680000000000001,8.9489999999999998,null,"WHLA PC",1.1399999999999999,9.1950000000000003,null,"WHLA PC",4.4589999999999996,27.444000000000003]
["WWILSON PC",10.461,10.741,10.67,10.257,10.531000000000001,10.125,10.394,10.326000000000001,9.2650000000000006,10.19,9.798,10.06,122.818,null,null,null,"WWILSON PC",2.7679999999999998,10.461,null,"WWILSON PC",0.88900000000000001,10.741,null,"WWILSON PC",7.4359999999999999,10.67,null,"WWILSON PC",11.093,31.872,null,null,null,null,null,"WWILSON PC",6.4980000000000002,10.257,null,"WWILSON PC",5.7549999999999999,10.531000000000001,null,"WWILSON PC",7.149,10.125,null,"WWILSON PC",19.402000000000001,30.913,null,null,null,null,null,null,"WWILSON PC",9.6760000000000002,10.394,null,"WWILSON PC",8.0229999999999997,10.326000000000001,null,"WWILSON PC",4.9610000000000003,9.2650000000000006,null,"WWILSON PC",22.659999999999997,29.984999999999999,null,null,null,null,null,null,null,null,"WWILSON PC",6,10.19,null,"WWILSON PC",8.4779999999999998,9.798,null,"WWILSON PC",7.5430000000000001,10.06,null,"WWILSON PC",22.021000000000001,30.048000000000002]
["MOSU MT",0.49199999999999999,0.505,0.502,20.498999999999999,17.853000000000002,15.159000000000001,14.093,12.893000000000001,10.786,11.163,10.173,9.9570000000000007,124.07499999999999,null,null,null,"MOSU MT",0.36199999999999999,0.49199999999999999,null,"MOSU MT",0.624,0.505,null,"MOSU MT",0.70299999999999996,0.502,null,"MOSU MT",1.6890000000000001,1.4990000000000001,null,null,null,null,null,"MOSU MT",0.78,20.498999999999999,null,"MOSU MT",1.2010000000000001,17.853000000000002,null,"MOSU MT",1.216,15.159000000000001,null,"MOSU MT",3.1970000000000001,53.511000000000003,null,null,null,null,null,null,"MOSU MT",0.52900000000000003,14.093,null,"MOSU MT",0.23499999999999999,12.893000000000001,null,"MOSU MT",0.47699999999999998,10.786,null,"MOSU MT",1.2410000000000001,37.771999999999998,null,null,null,null,null,null,null,null,"MOSU MT",0.41199999999999998,11.163,null,"MOSU MT",0.65200000000000002,10.173,null,"MOSU MT",0.33600000000000002,9.9570000000000007,null,"MOSU MT",1.4000000000000001,31.292999999999999]
["PDW1A1B D21",0.52500000000000002,0.53900000000000003,0.53600000000000003,0.51600000000000001,0.53,0.50700000000000001,0.52100000000000002,0.51800000000000002,0.46500000000000002,0.51200000000000001,0.49199999999999999,0.502,6.1630000000000003,null,null,null,"PDW1A1B D21",0.85499999999999998,0.52500000000000002,null,"PDW1A1B D21",0.108,{"$f":"IFERROR(VLOOKUP(V80,$A$6:$M$123,3,FALSE),\"\")","v":0.53900000000000003},null,"PDW1A1B D21",0.47699999999999998,0.53600000000000003,null,"PDW1A1B D21",1.44,{"$f":"SUM(T80,X81,AB80)","v":1.0609999999999999},null,null,null,null,null,"PDW1A1B D21",2.3E-2,0.51600000000000001,null,"PDW1A1B D21",0,0.53,null,"PDW1A1B D21",0.76900000000000002,0.50700000000000001,null,"PDW1A1B D21",{"$f":"SUM(AM80,AQ80,AU80)","v":0.79200000000000004},{"$f":"SUM(AN80,AR80,AV80)","v":1.5529999999999999},null,null,null,null,null,null,"PDW1A1B D21",0.54300000000000004,0.52100000000000002,null,"PDW1A1B D21",0.156,0.51800000000000002,null,{"$f":"A80","v":"PDW1A1B D21"},5.5E-2,0.46500000000000002,null,{"$f":"A80","v":"PDW1A1B D21"},0.75400000000000011,1.5040000000000002,null,null,null,null,null,null,null,null,"PDW1A1B D21",0.187,0.51200000000000001,null,"PDW1A1B D21",4.7E-2,0.49199999999999999,null,"PDW1A1B D21",3.5000000000000003E-2,0.502,null,"PDW1A1B D21",0.26900000000000002,1.506]
["NBXCAMP PC",null,null,null,null,null,null,null,null,null,null,null,null,null,null,null,null,"NBXCAMP PC",0,0,null,"NBXCAMP PC",0,0,null,"NBXCAMP PC",5.3760000000000003,0,null,"NBXCAMP PC",null,null,null,null,null,null,null,"NBXCAMP PC",4.2859999999999996,0,null,"NBXCAMP PC",4.2,0,null,"NBXCAMP PC",4.2009999999999996,0,null,"NBXCAMP PC",12.687000000000001,0,null,null,null,null,null,null,"NBXCAMP PC",3.4969999999999999,0,null,"NBXCAMP PC",0,0,null,"NBXCAMP PC",0,0,null,"NBXCAMP PC",3.4969999999999999,0,null,null,null,null,null,null,null,null,"NBXCAMP PC",0,0,null,"NBXCAMP PC",0,0,null,"NBXCAMP PC",0,0,null,"NBXCAMP PC",0,0]
["NOBXFLD PC",null,null,null,null,null,null,null,null,null,null,null,null,null,null,null,null,"NOBXFLD PC",0.14499999999999999,0,null,"NOBXFLD PC",0,{"$f":"IFERROR(VLOOKUP(V82,$A$6:$M$123,3,FALSE),\"\")","v":0},null,"NOBXFLD PC",5.4669999999999996,0,null,"NOBXFLD PC",null,null,null,null,null,null,null,"NOBXFLD PC",3.1,0,null,"NOBXFLD PC",4.7030000000000003,0,null,"NOBXFLD PC",3.8359999999999999,0,null,"NOBXFLD PC",11.639000000000001,0,null,null,null,null,null,null,"NOBXFLD PC",1.137,0,null,"NOBXFLD PC",0,0,null,"NOBXFLD PC",0,0,null,"NOBXFLD PC",1.137,0,null,null,null,null,null,null,null,null,"NOBXFLD PC",0,0,null,"NOBXFLD PC",{"$f":"VLOOKUP(CH82,CH$119:CI$203,2,FALSE)","v":0},0,null,"NOBXFLD PC",{"$f":"VLOOKUP(CL82,CL$119:CM$203,2,FALSE)","v":0},0,null,"NOBXFLD PC",0,0]
["Legacy Total",{"$f":"SUM(B6:B80)","v":2754.7710000000006},2820.2990000000013,2833.2300000000009,2695.6199999999994,2820.3429999999998,2911.0289999999982,2978.9839999999999,2950.8049999999998,2640.2390000000009,2895.4169999999995,2577.645,{"$f":"SUM(M6:M80)","v":2639.3419999999987},{"$f":"SUM(N6:N80)","v":33517.724000000009},null,null,null,{"$f":"A83","v":"Legacy Total"},{"$f":"SUM(S6:S82)","v":2751.576},{"$f":"SUM(T6:T79)","v":2754.2460000000005},null,{"$f":"R83","v":"Legacy Total"},{"$f":"SUM(W6:W79)","v":2698.9809999999993},{"$f":"SUM(X6:X82)","v":2820.2990000000013},null,"Legacy Total",{"$f":"SUM(AA6:AA82)","v":2748.8990000000003},{"$f":"SUM(AB6:AB79)","v":2832.6940000000009},null,"Legacy Total",{"$f":"SUM(AE6:AE82)","v":8188.5759999999991},{"$f":"SUM(AF6:AF79)","v":8406.7000000000007},null,null,null,null,null,"Legacy Total",{"$f":"SUM(AM6:AM82)","v":2698.8970000000008},{"$f":"SUM(AN6:AN82)","v":2695.6199999999994},null,"Legacy Total",{"$f":"SUM(AQ6:AQ82)","v":2796.8059999999991},{"$f":"SUM(AR6:AR82)","v":2820.3429999999998},null,"Legacy Total",{"$f":"SUM(AU6:AU82)","v":2690.5139999999983},{"$f":"SUM(AV6:AV82)","v":2911.0289999999982},null,{"$f":"AT83","v":"Legacy Total"},{"$f":"SUM(AM83,AQ83,AU83)","v":8186.2169999999978},8426.9919999999984,null,null,null,null,null,null,{"$f":"AX83","v":"Legacy Total"},{"$f":"SUM(BH6:BH82)","v":2783.0020000000013},{"$f":"SUM(BI6:BI82)","v":2978.9839999999999},null,"Legacy Total",{"$f":"SUM(BL6:BL82)","v":2722.5150000000012},{"$f":"SUM(BM6:BM82)","v":2950.8049999999998},null,{"$f":"BK83","v":"Legacy Total"},{"$f":"SUM(BP6:BP82)","v":2432.3309999999988},{"$f":"SUM(BQ6:BQ82)","v":2640.2390000000009},null,{"$f":"BO83","v":"Legacy Total"},{"$f":"SUM(BT6:BT82)","v":7937.8480000000009},{"$f":"SUM(BU6:BU82)","v":8570.0280000000002},null,null,null,null,null,null,null,null,"Legacy Total",{"$f":"SUM(CE6:CE82)","v":2631.4063999999989},{"$f":"SUM(CF6:CF82)","v":2862.5073999999995},null,"Legacy Total",{"$f":"SUM(CI6:CI82)","v":2699.3323999999993},{"$f":"SUM(CJ6:CJ82)","v":2546.181},null,"Legacy Total",{"$f":"SUM(CM6:CM82)","v":2717.7583999999983},{"$f":"SUM(CN6:CN82)","v":2607.2131999999988},null,"Legacy Total",8048.4971999999962,8015.9015999999974]
[null,null,null,null,null,null,null,null,null,null,null,null,null,null,null,null,null,null,null,null,null,null,null,{"$f":"IFERROR(VLOOKUP(V84,$A$6:$M$123,3,FALSE),\"\")","v":""},null,null,null,{"$f":"IFERROR(VLOOKUP(Z84,$A$6:$M$123,4,FALSE),\"\")","v":""},null,null,null,null,null,null,null,null,null,null,null,null,null,null,null,"",null,null,null,"",null,null,null,null,null,null,null,null,null,null,null,null,null,null,null,null,{"$f":"IFERROR(VLOOKUP($BK84,$A$6:$M$123,9,FALSE),\"\")","v":""},null,null,null,null,null,null,null,null,null,null,null,null,null,null,null,null,null,null,null,null,null,null,{"$f":"IFERROR(VLOOKUP($A84,$A$6:$M$123,12,FALSE),\"\")","v":""},null,null,null,{"$f":"IFERROR(VLOOKUP($A84,$A$6:$M$123,13,FALSE),\"\")","v":""}]
["Wexpro I",{"$f":"B5","v":"2021-06-01"},"2021-07-01","2021-08-01","2021-09-01","2021-10-01","2021-11-01","2021-12-01","2022-01-01","2022-02-01","2022-03-01","2022-04-01","2022-05-01","Total",null,null,null,{"$f":"A85","v":"Wexpro I"},null,null,null,{"$f":"R85","v":"Wexpro I"},null,null,null,{"$f":"R85","v":"Wexpro I"},null,null,null,{"$f":"R85","v":"Wexpro I"},null,null,null,null,null,null,null,"Wexpro I",null,null,null,"Wexpro I",null,null,null,"Wexpro I",null,null,null,{"$f":"AL85","v":"Wexpro I"},null,null,null,null,null,null,null,null,{"$f":"AX85","v":"Wexpro I"},null,null,null,{"$f":"BG85","v":"Wexpro I"},null,null,null,{"$f":"BK85","v":"Wexpro I"},null,null,null,{"$f":"BO85","v":"Wexpro I"},null,null,null,null,null,null,null,null,null,null,"Wexpro I",null,null,null,"Wexpro I",null,null,null,"Wexpro I",null,null,null,"Wexpro I"]
["CCRUNIT D8",183,185.346,181.79599999999999,172.68299999999999,175.25200000000001,166.66499999999999,169.33699999999999,166.58199999999999,148.084,161.43199999999999,153.89099999999999,156.70500000000001,{"$f":"SUM(B86:M86)","v":2020.7730000000001},null,null,null,"CCRUNIT D8",{"$f":"IFERROR(VLOOKUP(R86,$R$119:$S$213,2,FALSE),0)","v":177.07900000000001},{"$f":"IFERROR(VLOOKUP(R86,$A$6:$M$123,2,FALSE),\"\")","v":183},null,"CCRUNIT D8",{"$f":"IFERROR(VLOOKUP(V86,$V$119:$W$213,2,FALSE),0)","v":179.785},{"$f":"IFERROR(VLOOKUP(V86,$A$6:$M$123,3,FALSE),\"\")","v":185.346},null,"CCRUNIT D8",{"$f":"IFERROR(VLOOKUP(Z86,$Z$119:$AA$213,2,FALSE),0)","v":182.43},{"$f":"IFERROR(VLOOKUP(Z86,$A$6:$M$123,4,FALSE),\"\")","v":181.79599999999999},null,"CCRUNIT D8",{"$f":"SUM(S86,W86,AA86)","v":539.2940000000001},{"$f":"SUM(T86,X86,AB86)","v":550.14200000000005},null,null,null,null,null,"CCRUNIT D8",178.714,172.68299999999999,null,"CCRUNIT D8",166.93199999999999,175.25200000000001,null,"CCRUNIT D8",146.56,166.66499999999999,null,"CCRUNIT D8",{"$f":"SUM(AM86,AQ86,AU86)","v":492.20599999999996},{"$f":"SUM(AN86,AR86,AV86)","v":514.6},null,null,null,null,null,null,{"$f":"AX86","v":"CCRUNIT D8"},{"$f":"IFERROR(VLOOKUP(BG86,$BG$119:$BH$211,2,FALSE),0)","v":156.33500000000001},{"$f":"IFERROR(VLOOKUP($AT86,$A$6:$M$123,8,FALSE),\"\")","v":169.33699999999999},null,{"$f":"BG86","v":"CCRUNIT D8"},{"$f":"IFERROR(VLOOKUP($BK86,$BK$119:$BL$211,2,FALSE),0)","v":144.887},{"$f":"IFERROR(VLOOKUP($BK86,$A$6:$M$123,9,FALSE),\"\")","v":166.58199999999999},null,{"$f":"BK86","v":"CCRUNIT D8"},{"$f":"IFERROR(VLOOKUP($BO86,$BO$119:$BP$211,2,FALSE),0)","v":132.10599999999999},{"$f":"IFERROR(VLOOKUP($BO86,$A$6:$M$123,10,FALSE),0)","v":148.084},null,{"$f":"BO86","v":"CCRUNIT D8"},{"$f":"SUM(BH86,BL86,BP86)","v":433.32799999999997},{"$f":"SUM(BI86,BM86,BQ86)","v":484.00299999999999},null,null,null,null,null,null,null,null,"CCRUNIT D8",{"$f":"VLOOKUP(CD86,CD$119:CE$203,2,FALSE)","v":142.55699999999999},{"$f":"IFERROR(VLOOKUP($A86,$A$6:$M$123,11,FALSE),\"\")","v":161.43199999999999},null,"CCRUNIT D8",{"$f":"VLOOKUP(CH86,CH$119:CI$203,2,FALSE)","v":148.119},153.89099999999999,null,"CCRUNIT D8",{"$f":"VLOOKUP(CL86,CL$119:CM$203,2,FALSE)","v":139.357},156.70500000000001,null,"CCRUNIT D8",430.03300000000002,472.02800000000002]
["KNY FLD D8",26.991,26.992000000000001,26.158000000000001,24.564,24.664000000000001,23.213999999999999,23.358000000000001,22.765999999999998,20.059000000000001,21.681000000000001,20.498999999999999,20.713999999999999,{"$f":"SUM(B87:M87)","v":281.66000000000003},null,null,null,"KNY FLD D8",{"$f":"IFERROR(VLOOKUP(R87,$R$119:$S$213,2,FALSE),0)","v":22.486000000000001},{"$f":"IFERROR(VLOOKUP(R87,$A$6:$M$123,2,FALSE),\"\")","v":26.991},null,"KNY FLD D8",{"$f":"IFERROR(VLOOKUP(V87,$V$119:$W$213,2,FALSE),0)","v":23.905999999999999},{"$f":"IFERROR(VLOOKUP(V87,$A$6:$M$123,3,FALSE),\"\")","v":26.992000000000001},null,"KNY FLD D8",{"$f":"IFERROR(VLOOKUP(Z87,$Z$119:$AA$213,2,FALSE),0)","v":19.582000000000001},{"$f":"IFERROR(VLOOKUP(Z87,$A$6:$M$123,4,FALSE),\"\")","v":26.158000000000001},null,"KNY FLD D8",{"$f":"SUM(S87,W87,AA87)","v":65.97399999999999},{"$f":"SUM(T87,X87,AB87)","v":80.141000000000005},null,null,null,null,null,"KNY FLD D8",16.765000000000001,24.564,null,"KNY FLD D8",16.718,24.664000000000001,null,"KNY FLD D8",1.1040000000000001,23.213999999999999,null,"KNY FLD D8",{"$f":"SUM(AM87,AQ87,AU87)","v":34.587000000000003},{"$f":"SUM(AN87,AR87,AV87)","v":72.442000000000007},null,null,null,null,null,null,"KNY FLD D8",{"$f":"IFERROR(VLOOKUP(BG87,$BG$119:$BH$211,2,FALSE),0)","v":0},{"$f":"IFERROR(VLOOKUP($AT87,$A$6:$M$123,8,FALSE),\"\")","v":23.358000000000001},null,"KNY FLD D8",{"$f":"IFERROR(VLOOKUP($BK87,$BK$119:$BL$211,2,FALSE),0)","v":0},{"$f":"IFERROR(VLOOKUP($BK87,$A$6:$M$123,9,FALSE),\"\")","v":22.765999999999998},null,"KNY FLD D8",{"$f":"IFERROR(VLOOKUP($BO87,$BO$119:$BP$211,2,FALSE),0)","v":0},20.059000000000001,null,"KNY FLD D8",{"$f":"SUM(BH87,BL87,BP87)","v":0},{"$f":"SUM(BI87,BM87,BQ87)","v":66.182999999999993},null,null,null,null,null,null,null,null,"KNY FLD D8",0,{"$f":"IFERROR(VLOOKUP($A87,$A$6:$M$123,11,FALSE),\"\")","v":21.681000000000001},null,"KNY FLD D8",0,20.498999999999999,null,"KNY FLD D8",0,20.713999999999999,null,"KNY FLD D8",0,62.893999999999998]
["MESA D8",518.673,519.10699999999997,503.75599999999997,473.86799999999999,476.65,510.3,516.04499999999996,504.02,445.21100000000001,482.54899999999998,457.58699999999999,463.71,5871.4759999999997,null,null,null,"MESA D8",{"$f":"IFERROR(VLOOKUP(R88,$R$119:$S$213,2,FALSE),0)+S211","v":465.22899999999998},{"$f":"IFERROR(VLOOKUP(R88,$A$6:$M$123,2,FALSE),\"\")","v":518.673},null,"MESA D8",{"$f":"IFERROR(VLOOKUP(V88,$V$119:$W$213,2,FALSE),0)+W199","v":467.178},{"$f":"IFERROR(VLOOKUP(V88,$A$6:$M$123,3,FALSE),\"\")","v":519.10699999999997},null,"MESA D8",{"$f":"IFERROR(VLOOKUP(Z88,$Z$119:$AA$213,2,FALSE),0)+AA209","v":440.41999999999996},{"$f":"IFERROR(VLOOKUP(Z88,$A$6:$M$123,4,FALSE),\"\")","v":503.75599999999997},null,"MESA D8",{"$f":"SUM(S88,W88,AA88)","v":1372.8269999999998},1541.5360000000001,null,null,null,null,null,"MESA D8",{"$f":"IFERROR(VLOOKUP(AL88,$AL$119:$AM$209,2,FALSE),0)+AM207","v":426.01799999999997},473.86799999999999,null,"MESA D8",{"$f":"IFERROR(VLOOKUP(AP88,$AP$119:$AQ$218,2,FALSE),0)+AQ204","v":430.90999999999997},476.65,null,"MESA D8",{"$f":"IFERROR(VLOOKUP(AT88,$AT$119:$AU$211,2,FALSE),0)+AU210","v":412.71199999999999},510.3,null,"MESA D8",1269.6399999999999,1460.818,null,null,null,null,null,null,"MESA D8",409.73500000000001,516.04499999999996,null,"MESA D8",316.19600000000003,504.02,null,"MESA D8",287.47399999999999,445.21100000000001,null,"MESA D8",1013.405,1465.2759999999998,null,null,null,null,null,null,null,null,"MESA D8",{"$f":"VLOOKUP(CD88,CD$119:CE$203,2,FALSE)","v":305.798},482.54899999999998,null,"MESA D8",{"$f":"VLOOKUP(CH88,CH$119:CI$203,2,FALSE)","v":282.161},457.58699999999999,null,"MESA D8",{"$f":"VLOOKUP(CL88,CL$119:CM$203,2,FALSE)","v":285.13900000000001},463.71,null,"MESA D8",873.09800000000007,1403.846]
["CCRUNIT MT",18.434999999999999,18.783000000000001,13.451000000000001,12.84,13.093999999999999,17.414999999999999,17.763000000000002,17.536999999999999,15.641,17.106000000000002,16.356000000000002,16.7,195.12099999999998,null,null,null,{"$f":"A89","v":"CCRUNIT MT"},0,{"$f":"IFERROR(VLOOKUP(R89,$A$86:$M$123,2,FALSE),\"\")","v":18.434999999999999},null,"CCRUNIT MT",0,{"$f":"IFERROR(VLOOKUP(V89,$A$85:$M$123,3,FALSE),\"\")","v":18.783000000000001},null,"CCRUNIT MT",0,{"$f":"IFERROR(VLOOKUP(Z89,$A$85:$M$123,4,FALSE),\"\")","v":13.451000000000001},null,"CCRUNIT MT",0,50.669000000000004,null,null,null,null,null,"CCRUNIT MT",0,30.879000000000001,null,"CCRUNIT MT",0,31.486999999999998,null,"CCRUNIT MT",0,41.877000000000002,null,"CCRUNIT MT",0,104.24299999999999,null,null,null,null,null,null,"CCRUNIT MT",0,42.712000000000003,null,"CCRUNIT MT",0,42.171999999999997,null,"CCRUNIT MT",0,37.615000000000002,null,"CCRUNIT MT",0,122.499,null,null,null,null,null,null,null,null,"CCRUNIT MT",{"$f":"VLOOKUP(CD89,CD$119:CE$203,2,FALSE)*0.8","v":45.593600000000002},{"$f":"IFERROR(VLOOKUP($A89,$A$6:$M$123,11,FALSE),\"\")*0.8","v":32.909600000000005},null,"CCRUNIT MT",{"$f":"VLOOKUP(CH89,CH$119:CI$203,2,FALSE)*0.8","v":45.833600000000004},{"$f":"IFERROR(VLOOKUP($A89,$A$6:$M$123,12,FALSE),\"\")*0.8","v":31.463999999999999},null,"CCRUNIT MT",{"$f":"VLOOKUP(CL89,CL$119:CM$203,2,FALSE)*0.8","v":44.645600000000002},{"$f":"IFERROR(VLOOKUP($A89,$A$6:$M$123,13,FALSE),\"\")*0.2","v":8.0322000000000013},null,"CCRUNIT MT",136.0728,72.405800000000013]
["TRAIL D8",111.033,110.76900000000001,97.103999999999999,91.131,91.54,96.177000000000007,97.100999999999999,94.998999999999995,84.048000000000002,91.236000000000004,86.649000000000001,87.941000000000003,1139.7280000000001,null,null,null,"TRAIL D8",{"$f":"IFERROR(VLOOKUP(R90,$R$119:$S$213,2,FALSE),0)+S209","v":162.48700000000002},{"$f":"IFERROR(VLOOKUP(R90,$A$6:$M$123,2,FALSE),\"\")","v":111.033},null,"TRAIL D8",{"$f":"IFERROR(VLOOKUP(V90,$V$119:$W$213,2,FALSE),0)+W197","v":159.23099999999999},{"$f":"IFERROR(VLOOKUP(V90,$A$6:$M$123,3,FALSE),\"\")","v":110.76900000000001},null,"TRAIL D8",{"$f":"IFERROR(VLOOKUP(Z90,$Z$119:$AA$213,2,FALSE),0)+AA207","v":187.679},{"$f":"IFERROR(VLOOKUP(Z90,$A$6:$M$123,4,FALSE),\"\")","v":97.103999999999999},null,"TRAIL D8",509.39700000000005,318.90600000000001,null,null,null,null,null,"TRAIL D8",{"$f":"IFERROR(VLOOKUP(AL90,$AL$119:$AM$209,2,FALSE),0)+AM209+AM208+AM205","v":170.816},91.131,null,"TRAIL D8",{"$f":"IFERROR(VLOOKUP(AP90,$AP$119:$AQ$218,2,FALSE),0)+AQ205+AQ202","v":179.702},91.54,null,"TRAIL D8",{"$f":"IFERROR(VLOOKUP(AT90,$AT$119:$AU$211,2,FALSE),0)+AU211+AU208","v":172.44400000000002},96.177000000000007,null,"TRAIL D8",{"$f":"SUM(AM90,AQ90,AU90)","v":522.96199999999999},{"$f":"SUM(AN90,AR90,AV90)","v":278.84800000000001},null,null,null,null,null,null,"TRAIL D8",{"$f":"IFERROR(VLOOKUP(BG90,$BG$119:$BH$211,2,FALSE),0)+BH209","v":247.72},97.100999999999999,null,"TRAIL D8",{"$f":"IFERROR(VLOOKUP($BK90,$BK$119:$BL$211,2,FALSE),0)+BL209","v":241.70699999999999},94.998999999999995,null,"TRAIL D8",{"$f":"IFERROR(VLOOKUP($BO90,$BO$119:$BP$211,2,FALSE),0)+BP209","v":227.32},84.048000000000002,null,"TRAIL D8",716.74700000000007,276.14800000000002,null,null,null,null,null,null,null,null,"TRAIL D8",{"$f":"VLOOKUP(CD90,CD$119:CE$203,2,FALSE)","v":231.57499999999999},91.236000000000004,null,"TRAIL D8",{"$f":"VLOOKUP(CH90,CH$119:CI$203,2,FALSE)","v":221.67699999999999},86.649000000000001,null,"TRAIL D8",{"$f":"VLOOKUP(CL90,CL$119:CM$203,2,FALSE)","v":232.28100000000001},87.941000000000003,null,"TRAIL D8",685.5329999999999,265.82600000000002]
["z21 CCRK D8",0,0,0,0,0,55.965000000000003,57.831000000000003,57.831000000000003,52.234000000000002,50.927,43.988999999999997,41.238999999999997,360.01599999999996,null,null,null,"z21 CCRK D8",{"$f":"IFERROR(VLOOKUP(R91,$R$119:$S$213,2,FALSE),0)","v":0},{"$f":"IFERROR(VLOOKUP(R91,$A$6:$M$123,2,FALSE),\"\")","v":0},null,"z21 CCRK D8",0,{"$f":"IFERROR(VLOOKUP(V91,$A$6:$M$123,3,FALSE),\"\")","v":0},null,"z21 CCRK D8",{"$f":"IFERROR(VLOOKUP(Z91,$Z$119:$AA$213,2,FALSE),0)","v":0},{"$f":"IFERROR(VLOOKUP(Z91,$A$6:$M$123,4,FALSE),\"\")","v":0},null,"z21 CCRK D8",0,0,null,null,null,null,null,"z21 CCRK D8",0,0,null,"z21 CCRK D8",0,0,null,"z21 CCRK D8",0,55.965000000000003,null,"z21 CCRK D8",null,null,null,null,null,null,null,null,"z21 CCRK D8",0,57.831000000000003,null,"z21 CCRK D8",0,57.831000000000003,null,"z21 CCRK D8",0,52.234000000000002,null,"z21 CCRK D8",0,167.89600000000002,null,null,null,null,null,null,null,null,"z21 CCRK D8",{"$f":"VLOOKUP(CD91,CD$119:CE$210,2,FALSE)","v":81.712000000000003},50.927,null,"z21 CCRK D8",{"$f":"VLOOKUP(CH91,CH$119:CI$210,2,FALSE)","v":75.274000000000001},43.988999999999997,null,"z21 CCRK D8",{"$f":"VLOOKUP(CL91,CL$119:CM$210,2,FALSE)","v":76.587999999999994},41.238999999999997,null,"z21 CCRK D8",233.57399999999998,136.155]
["z21 TRAIL D8",0,0,0,0,0,91.052999999999997,94.087999999999994,94.087999999999994,84.983000000000004,91.912000000000006,87.278999999999996,88.858000000000004,632.26099999999997,null,null,null,"z21 TRAIL D8",{"$f":"IFERROR(VLOOKUP(R92,$R$119:$S$213,2,FALSE),0)","v":0},{"$f":"IFERROR(VLOOKUP(R92,$A$6:$M$123,2,FALSE),\"\")","v":0},null,"z21 TRAIL D8",0,{"$f":"IFERROR(VLOOKUP(V92,$A$6:$M$123,3,FALSE),\"\")","v":0},null,"z21 TRAIL D8",{"$f":"IFERROR(VLOOKUP(Z92,$Z$119:$AA$213,2,FALSE),0)","v":0},{"$f":"IFERROR(VLOOKUP(Z92,$A$6:$M$123,4,FALSE),\"\")","v":0},null,"z21 TRAIL D8",0,0,null,null,null,null,null,"z21 TRAIL D8",0,0,null,"z21 TRAIL D8",0,0,null,"z21 TRAIL D8",0,91.052999999999997,null,"z21 TRAIL D8",0,91.052999999999997,null,null,null,null,null,null,"z21 TRAIL D8",0,94.087999999999994,null,"z21 TRAIL D8",0,94.087999999999994,null,"z21 TRAIL D8",0,84.983000000000004,null,"z21 TRAIL D8",0,273.15899999999999,null,null,null,null,null,null,null,null,"z21 TRAIL D8",{"$f":"VLOOKUP(CD92,CD$119:CE$210,2,FALSE)","v":106.628},91.912000000000006,null,"z21 TRAIL D8",{"$f":"VLOOKUP(CH92,CH$119:CI$210,2,FALSE)","v":89.603999999999999},87.278999999999996,null,"z21 TRAIL D8",{"$f":"VLOOKUP(CL92,CL$119:CM$210,2,FALSE)","v":51.054000000000002},88.858000000000004,null,"z21 TRAIL D8",247.286,268.04899999999998]
["Wexpro I Total",{"$f":"SUM(B86:B92)","v":858.13199999999995},860.99699999999996,822.2650000000001,775.08600000000001,781.2,960.78899999999999,975.52300000000002,957.82299999999998,850.26,916.84300000000007,866.25,{"$f":"SUM(M86:M92)","v":875.86700000000019},{"$f":"SUM(N86:N92)","v":10501.034999999998},null,null,null,"Wexpro l Total",{"$f":"SUM(S86:S92)","v":827.28099999999995},{"$f":"SUM(T86:T92)","v":858.13199999999995},null,"Wexpro l Total",{"$f":"SUM(W86:W92)","v":830.1},{"$f":"SUM(X86:X92)","v":860.99699999999996},null,"Wexpro l Total",{"$f":"SUM(AA86:AA92)","v":830.11099999999999},{"$f":"SUM(AB86:AB92)","v":822.2650000000001},null,"Wexpro l Total",582.76300000000003,840.7417049407959,null,null,null,null,null,"Wexpro l Total",{"$f":"SUM(AM86:AM92)","v":792.31299999999999},{"$f":"SUM(AN86:AN92)","v":793.125},null,"Wexpro l Total",{"$f":"SUM(AQ86:AQ92)","v":794.26199999999994},{"$f":"SUM(AR86:AR92)","v":799.59299999999996},null,"Wexpro l Total",{"$f":"SUM(AU86:AU92)","v":732.81999999999994},{"$f":"SUM(AV86:AV92)","v":985.25099999999998},null,"Wexpro l Total",{"$f":"SUM(AM93,AQ93,AU93)","v":2319.3949999999995},{"$f":"SUM(AN93,AR93,AV93)","v":2577.9690000000001},null,null,null,null,null,null,"Wexpro l Total",{"$f":"SUM(BH86:BH92)","v":813.79000000000008},{"$f":"SUM(BI86:BI92)","v":1000.472},null,"Wexpro l Total",{"$f":"SUM(BL86:BL92)","v":702.79},{"$f":"SUM(BM86:BM92)","v":982.45799999999997},null,"Wexpro l Total",{"$f":"SUM(BP86:BP92)","v":646.9},{"$f":"SUM(BQ86:BQ92)","v":872.23400000000015},null,"Wexpro l Total",{"$f":"SUM(BH93,BL93,BP93)","v":2163.48},{"$f":"SUM(BI93,BM93,BQ93)","v":2855.1639999999998},null,null,null,null,null,null,null,null,"Wexpro I Total",{"$f":"SUM(CE86:CE92)","v":913.86360000000002},{"$f":"SUM(CF86:CF92)","v":932.64660000000003},null,"Wexpro I Total",{"$f":"SUM(CI86:CI92)","v":862.66859999999997},{"$f":"SUM(CJ86:CJ92)","v":881.35800000000006},null,"Wexpro I Total",{"$f":"SUM(CM86:CM92)","v":829.06459999999993},{"$f":"SUM(CN86:CN92)","v":867.19920000000002},null,"Wexpro I Total",2605.5968000000003,2681.2038000000002]
[null,null,null,null,null,null,null,null,null,null,null,null,null,null,null,null,null,null,null,null,null,null,null,null,null,null,null,null,null,null,null,null,null,null,null,null,null,null,null,null,null,null,null,null,null,null,null,null,null,null,null,null,null,null,null,null,null,null,null,null,null,null,null,null,null,null,null,null,null,null,null,null,null,null,null,null,null,null,null,null,null,null,null,null,null,null,null,"",null,null,null,""]
["Wexpro II",{"$f":"B5","v":"2021-06-01"},"2021-07-01","2021-08-01","2021-09-01","2021-10-01","2021-11-01","2021-12-01","2022-01-01","2022-02-01","2022-03-01","2022-04-01","2022-05-01",{"$f":"N85","v":"Total"},null,null,null,{"$f":"A95","v":"Wexpro II"},null,null,null,"Wexpro II",null,null,null,"Wexpro II",null,null,null,{"$f":"V95","v":"Wexpro II"},null,null,null,null,null,null,null,"Wexpro II",null,null,null,"Wexpro II",null,null,null,"Wexpro II",null,null,null,null,null,null,null,null,null,null,null,null,{"$f":"AT95","v":"Wexpro II"},null,null,null,{"$f":"BG95","v":"Wexpro II"},null,null,null,{"$f":"BK95","v":"Wexpro II"},null,null,null,null,null,null,null,null,null,null,null,null,null,null,"Wexpro II",null,null,null,"Wexpro II",null,null,null,"Wexpro II",null,null,null,"Wexpro II"]
["CCOPA 2E",3.8130000000000002,3.9220000000000002,3.903,3.7589999999999999,3.8660000000000001,3.7229999999999999,3.8290000000000002,3.81,3.427,3.7759999999999998,3.6360000000000001,3.7389999999999999,{"$f":"SUM(B96:M96)","v":45.203000000000003},null,null,null,{"$f":"A96","v":"CCOPA 2E"},{"$f":"IFERROR(VLOOKUP(R96,$R$119:$S$213,2,FALSE),0)","v":3.5609999999999999},{"$f":"IFERROR(VLOOKUP(R96,$A$6:$M$123,2,FALSE),\"\")","v":3.8130000000000002},null,"CCOPA 2E",{"$f":"IFERROR(VLOOKUP(V96,$V$119:$W$213,2,FALSE),0)","v":2.899},{"$f":"IFERROR(VLOOKUP(V96,$A$6:$M$123,3,FALSE),\"\")","v":3.9220000000000002},null,{"$f":"R96","v":"CCOPA 2E"},{"$f":"IFERROR(VLOOKUP(Z96,$Z$119:$AA$211,2,FALSE),0)","v":3.1080000000000001},{"$f":"IFERROR(VLOOKUP(Z96,$A$6:$M$123,4,FALSE),\"\")","v":3.903},null,"CCOPA 2E",{"$f":"SUM(S96,W96,AA96)","v":9.5679999999999996},{"$f":"SUM(T96,X96,AB96)","v":11.638},null,{"$f":"'Ex 1 HDD'!I3","v":"DEU Variance Exhibit"},{"$f":"'Ex 1 HDD'!I2","v":"Docket No. 21-057-01"},{"$f":"'Ex 1 HDD'!I1","v":"Dominion Energy Utah"},null,"CCOPA 2E",2.9159999999999999,3.7589999999999999,null,"CCOPA 2E",3.9820000000000002,3.8660000000000001,null,"CCOPA 2E",3.383,3.7229999999999999,null,null,null,null,null,null,null,null,null,null,{"$f":"AT96","v":"CCOPA 2E"},{"$f":"IFERROR(VLOOKUP(BG96,$BG$119:$BH$211,2,FALSE),0)","v":2.61},{"$f":"IFERROR(VLOOKUP($AT96,$A$6:$M$123,8,FALSE),\"\")","v":3.8290000000000002},null,"CCOPA 2E",{"$f":"IFERROR(VLOOKUP(BK96,$BK$119:$BL$218,2,FALSE),0)","v":2.72},{"$f":"IFERROR(VLOOKUP($AP96,$A$6:$M$123,9,FALSE),\"\")","v":3.81},null,"CCOPA 2E",{"$f":"IFERROR(VLOOKUP(BO96,$BO$119:$BP$211,2,FALSE),0)","v":4.8860000000000001},{"$f":"IFERROR(VLOOKUP($AT96,$A$6:$M$123,10,FALSE),\"\")","v":3.427},null,null,null,null,null,null,null,null,null,null,null,null,"CCOPA 2E",{"$f":"VLOOKUP(CD96,CD$119:CE$203,2,FALSE)","v":9.9269999999999996},{"$f":"IFERROR(VLOOKUP($A96,$A$6:$M$123,11,FALSE),\"\")","v":3.7759999999999998},null,"CCOPA 2E",{"$f":"VLOOKUP(CH96,CH$119:CI$203,2,FALSE)","v":9.7059999999999995},3.6360000000000001,null,"CCOPA 2E",{"$f":"VLOOKUP(CL96,CL$119:CM$203,2,FALSE)","v":4.6539999999999999},3.7389999999999999,null,"CCOPA 2E",24.286999999999999,11.151]
["CCRUNIT 2D8",74.195999999999998,75.125,73.668000000000006,69.956999999999994,70.977999999999994,67.484999999999999,68.55,67.418999999999997,59.92,65.308000000000007,62.244,63.37,{"$f":"SUM(B97:M97)","v":818.22},null,null,null,{"$f":"A97","v":"CCRUNIT 2D8"},{"$f":"IFERROR(VLOOKUP(R97,$R$119:$S$213,2,FALSE),0)","v":79.456999999999994},74.195999999999998,null,"CCRUNIT 2D8",{"$f":"IFERROR(VLOOKUP(V97,$V$119:$W$213,2,FALSE),0)","v":80.622},75.125,null,"CCRUNIT 2D8",{"$f":"IFERROR(VLOOKUP(Z97,$Z$119:$AA$211,2,FALSE),0)","v":81.814999999999998},73.668000000000006,null,"CCRUNIT 2D8",{"$f":"SUM(S97,W97,AA97)","v":241.89400000000001},{"$f":"SUM(T97,X97,AB97)","v":222.989},null,null,null,null,null,"CCRUNIT 2D8",80.227000000000004,69.956999999999994,null,"CCRUNIT 2D8",78.275000000000006,70.977999999999994,null,"CCRUNIT 2D8",68.575999999999993,67.484999999999999,null,null,null,null,null,null,null,null,null,null,{"$f":"AT97","v":"CCRUNIT 2D8"},{"$f":"IFERROR(VLOOKUP(BG97,$BG$119:$BH$211,2,FALSE),0)","v":73.007999999999996},{"$f":"IFERROR(VLOOKUP($AT97,$A$6:$M$123,8,FALSE),\"\")","v":68.55},null,"CCRUNIT 2D8",{"$f":"IFERROR(VLOOKUP(BK97,$BK$119:$BL$218,2,FALSE),0)","v":67.805000000000007},{"$f":"IFERROR(VLOOKUP($AP97,$A$6:$M$123,9,FALSE),\"\")","v":67.418999999999997},null,"CCRUNIT 2D8",{"$f":"IFERROR(VLOOKUP(BO97,$BO$119:$BP$211,2,FALSE),0)","v":61.792999999999999},{"$f":"IFERROR(VLOOKUP($AT97,$A$6:$M$123,10,FALSE),\"\")","v":59.92},null,null,null,null,null,null,null,null,null,null,null,null,"CCRUNIT 2D8",66.328000000000003,{"$f":"IFERROR(VLOOKUP($A97,$A$6:$M$123,11,FALSE),\"\")","v":65.308000000000007},null,"CCRUNIT 2D8",69.492000000000004,62.244,null,"CCRUNIT 2D8",65.366,63.37,null,"CCRUNIT 2D8",201.18599999999998,190.922]
["CCRUNIT 2E",253.572,259.613,228.892,219.60900000000001,225.00700000000001,256.86900000000003,262.27499999999998,259.327,231.714,253.89599999999999,243.25800000000001,248.93899999999999,2942.971,null,null,null,"CCRUNIT 2E",{"$f":"IFERROR(VLOOKUP(R98,$R$119:$S$213,2,FALSE),0)","v":238.03299999999999},253.572,null,"CCRUNIT 2E",246.036,259.613,null,"CCRUNIT 2E",{"$f":"IFERROR(VLOOKUP(Z98,$Z$119:$AA$211,2,FALSE),0)","v":221.953},228.892,null,"CCRUNIT 2E",{"$f":"SUM(S98,W98,AA98)","v":706.02199999999993},{"$f":"SUM(T98,X98,AB98)","v":742.077},null,null,null,null,null,"CCRUNIT 2E",214.22800000000001,219.60900000000001,null,"CCRUNIT 2E",230.905,225.00700000000001,null,"CCRUNIT 2E",302.40499999999997,256.86900000000003,null,null,null,null,null,null,null,null,null,null,"CCRUNIT 2E",334.82,262.27499999999998,null,"CCRUNIT 2E",326.38600000000002,259.327,null,"CCRUNIT 2E",283.51499999999999,231.714,null,null,null,null,null,null,null,null,null,null,null,null,"CCRUNIT 2E",317.92500000000001,253.89599999999999,null,"CCRUNIT 2E",310.91800000000001,243.25800000000001,null,"CCRUNIT 2E",308.11099999999999,248.93899999999999,null,"CCRUNIT 2E",936.95400000000006,746.09299999999996]
["CCRUNIT2EMT",23.631,24.279,18.792000000000002,18.084,18.588000000000001,23.067,23.702999999999999,23.568999999999999,21.170999999999999,23.306000000000001,22.428000000000001,23.045000000000002,263.66300000000001,null,null,null,"CCRUNIT2EMT",{"$f":"IFERROR(VLOOKUP(R99,$R$119:$S$213,2,FALSE),0)","v":23.12},23.631,null,"CCRUNIT2EMT",23.859000000000002,24.279,null,"CCRUNIT2EMT",{"$f":"IFERROR(VLOOKUP(Z99,$Z$119:$AA$211,2,FALSE),0)","v":22.771999999999998},18.792000000000002,null,"CCRUNIT2EMT",69.751000000000005,66.701999999999998,null,null,null,null,null,"CCRUNIT2EMT",22.683,18.084,null,"CCRUNIT2EMT",21.835000000000001,18.588000000000001,null,"CCRUNIT2EMT",19.52,23.067,null,null,null,null,null,null,null,null,null,null,"CCRUNIT2EMT",25.581,23.702999999999999,null,"CCRUNIT2EMT",26.295999999999999,23.568999999999999,null,"CCRUNIT2EMT",21.88,21.170999999999999,null,null,null,null,null,null,null,null,null,null,null,null,"CCRUNIT2EMT",23.579000000000001,23.306000000000001,null,"CCRUNIT2EMT",23.486000000000001,22.428000000000001,null,"CCRUNIT2EMT",24.741,23.045000000000002,null,"CCRUNIT2EMT",71.805999999999997,68.778999999999996]
["TRAIL 2D8",257.33999999999997,250.31,233.39599999999999,214.81200000000001,211.97800000000001,280.94099999999997,282.37599999999998,273.77300000000002,239.131,255.55500000000001,239.553,240.42400000000001,2979.5889999999995,null,null,null,"TRAIL 2D8",{"$f":"IFERROR(VLOOKUP(R100,$R$119:$S$213,2,FALSE),0)+S210","v":244.73399999999998},257.33999999999997,null,"TRAIL 2D8",{"$f":"IFERROR(VLOOKUP(V100,$V$119:$W$213,2,FALSE),0)+W198","v":238.005},250.31,null,"TRAIL 2D8",{"$f":"IFERROR(VLOOKUP(Z100,$Z$119:$AA$211,2,FALSE),0)+AA208","v":270.98099999999999},233.39599999999999,null,"TRAIL 2D8",753.72,741.04599999999994,null,null,null,null,null,"TRAIL 2D8",{"$f":"IFERROR(VLOOKUP(AL100,$AL$119:$AM$209,2,FALSE),0)+AM206","v":243.31},214.81200000000001,null,"TRAIL 2D8",{"$f":"IFERROR(VLOOKUP(AP100,$AP$119:$AQ$218,2,FALSE),0)+AQ203","v":239.38200000000001},211.97800000000001,null,"TRAIL 2D8",{"$f":"IFERROR(VLOOKUP(AT100,$AT$119:$AU$211,2,FALSE),0)+AU209","v":221.83},280.94099999999997,null,null,null,null,null,null,null,null,null,null,"TRAIL 2D8",{"$f":"IFERROR(VLOOKUP(BG100,$BG$119:$BH$211,2,FALSE),0)+BH208","v":267.31200000000001},282.37599999999998,null,"TRAIL 2D8",{"$f":"IFERROR(VLOOKUP(BK100,$BK$119:$BL$218,2,FALSE),0)+BL208","v":296.25900000000001},273.77300000000002,null,"TRAIL 2D8",{"$f":"IFERROR(VLOOKUP(BO100,$BO$119:$BP$211,2,FALSE),0)+BP208","v":267.87799999999999},239.131,null,null,null,null,null,null,null,null,null,null,null,null,"TRAIL 2D8",273.28699999999998,255.55500000000001,null,"TRAIL 2D8",257.50599999999997,239.553,null,"TRAIL 2D8",271.66199999999998,240.42400000000001,null,"TRAIL 2D8",802.45499999999993,735.53200000000004]
["TRAIL 2E",337.971,343.95400000000001,272.56400000000002,260.21100000000001,265.363,320.334,326.666,322.49900000000002,287.67500000000001,314.65300000000002,300.91500000000002,307.37099999999998,3660.1760000000004,null,null,null,"TRAIL 2E",{"$f":"IFERROR(VLOOKUP(R101,$R$119:$S$213,2,FALSE),0)","v":338.83600000000001},337.971,null,"TRAIL 2E",340.89699999999999,343.95400000000001,null,"TRAIL 2E",{"$f":"IFERROR(VLOOKUP(Z101,$Z$119:$AA$211,2,FALSE),0)","v":319.13299999999998},272.56400000000002,null,"TRAIL 2E",998.86599999999999,954.48900000000003,null,null,null,null,null,"TRAIL 2E",296.83999999999997,260.21100000000001,null,"TRAIL 2E",322.50200000000001,265.363,null,"TRAIL 2E",322.28699999999998,320.334,null,null,null,null,null,null,null,null,null,null,"TRAIL 2E",293.149,326.666,null,"TRAIL 2E",{"$f":"IFERROR(VLOOKUP(BK101,$BK$119:$BL$212,2,FALSE),0)","v":313.017},322.49900000000002,null,"TRAIL 2E",276.67500000000001,287.67500000000001,null,null,null,null,null,null,null,null,null,null,null,null,"TRAIL 2E",293.50700000000001,314.65300000000002,null,"TRAIL 2E",284.02100000000002,300.91500000000002,null,"TRAIL 2E",268.38400000000001,307.37099999999998,null,"TRAIL 2E",845.91200000000003,922.93899999999996]
["TRAIL 2E MT",45.204000000000001,46.1,45.517000000000003,43.506,44.423000000000002,42.488999999999997,43.408999999999999,42.929000000000002,38.353999999999999,42.014000000000003,40.235999999999997,41.152000000000001,515.33299999999997,null,null,null,"TRAIL 2E MT",46.085000000000001,45.204000000000001,null,"TRAIL 2E MT",48.061999999999998,46.1,null,"TRAIL 2E MT",{"$f":"IFERROR(VLOOKUP(Z102,$Z$119:$AA$211,2,FALSE),0)","v":46.435000000000002},45.517000000000003,null,"TRAIL 2E MT",140.58199999999999,136.821,null,null,null,null,null,"TRAIL 2E MT",44.125,43.506,null,"TRAIL 2E MT",46.5,44.423000000000002,null,"TRAIL 2E MT",42.956000000000003,42.488999999999997,null,null,null,null,null,null,null,null,null,null,"TRAIL 2E MT",40.779000000000003,43.408999999999999,null,"TRAIL 2E MT",{"$f":"IFERROR(VLOOKUP(BK102,$BK$119:$BL$212,2,FALSE),0)","v":46.137999999999998},42.929000000000002,null,"TRAIL 2E MT",41.573,38.353999999999999,null,null,null,null,null,null,null,null,null,null,null,null,"TRAIL 2E MT",42.844999999999999,42.014000000000003,null,"TRAIL 2E MT",41.29,40.235999999999997,null,"TRAIL 2E MT",37.030999999999999,41.152000000000001,null,"TRAIL 2E MT",121.166,123.402]
["WHISKEY MT",26.684999999999999,27.196000000000002,13.513,12.906000000000001,13.166,25.47,25.984000000000002,25.661999999999999,22.898,25.047999999999998,23.957999999999998,24.471,266.95699999999999,null,null,null,"WHISKEY MT",23.687999999999999,26.684999999999999,null,"WHISKEY MT",22.248999999999999,27.196000000000002,null,"WHISKEY MT",{"$f":"IFERROR(VLOOKUP(Z103,$Z$119:$AA$211,2,FALSE),0)","v":14.599},13.513,null,"WHISKEY MT",60.536000000000001,67.394000000000005,null,null,null,null,null,"WHISKEY MT",13.061999999999999,12.906000000000001,null,"WHISKEY MT",23.782,13.166,null,"WHISKEY MT",25.454999999999998,25.47,null,null,null,null,null,null,null,null,null,null,"WHISKEY MT",20.242000000000001,25.984000000000002,null,"WHISKEY MT",18.866,25.661999999999999,null,"WHISKEY MT",18.048999999999999,22.898,null,null,null,null,null,null,null,null,null,null,null,null,"WHISKEY MT",19.082999999999998,25.047999999999998,null,"WHISKEY MT",18.152000000000001,23.957999999999998,null,"WHISKEY MT",22.231000000000002,24.471,null,"WHISKEY MT",59.466000000000001,73.477000000000004]
["WHISKEYC 2E",83.516999999999996,85.132000000000005,59.640999999999998,56.94,58.06,79.040999999999997,80.668000000000006,79.694999999999993,71.128,77.834999999999994,74.465999999999994,76.09,882.21300000000008,null,null,null,"WHISKEYC 2E",79.679000000000002,83.516999999999996,null,"WHISKEYC 2E",81.043999999999997,85.132000000000005,null,"WHISKEYC 2E",{"$f":"IFERROR(VLOOKUP(Z104,$Z$119:$AA$211,2,FALSE),0)","v":60.963999999999999},59.640999999999998,null,"WHISKEYC 2E",221.68700000000001,228.29,null,null,null,null,null,"WHISKEYC 2E",57.470999999999997,56.94,null,"WHISKEYC 2E",78.826999999999998,58.06,null,"WHISKEYC 2E",84.555000000000007,79.040999999999997,null,null,null,null,null,null,null,null,null,null,"WHISKEYC 2E",123.947,80.668000000000006,null,"WHISKEYC 2E",113.398,79.694999999999993,null,"WHISKEYC 2E",96.572000000000003,71.128,null,null,null,null,null,null,null,null,null,null,null,null,"WHISKEYC 2E",102.77200000000001,77.834999999999994,null,"WHISKEYC 2E",72.353999999999999,74.465999999999994,null,"WHISKEYC 2E",74.322000000000003,76.09,null,"WHISKEYC 2E",249.44800000000001,228.39099999999999]
["z21 CCRK 2D8",0,0,0,0,0,197.40899999999999,199.44200000000001,185.00800000000001,158.24199999999999,165.12799999999999,150.08699999999999,140.77699999999999,1196.0930000000001,null,null,null,"z21 CCRK 2D8",0,0,null,"z21 CCRK 2D8",0,0,null,"z21 CCRK 2D8",{"$f":"IFERROR(VLOOKUP(Z105,$Z$119:$AA$211,2,FALSE),0)","v":0},0,null,"z21 CCRK 2D8",0,0,null,null,null,null,null,"z21 CCRK 2D8",0,0,null,"z21 CCRK 2D8",0,0,null,"z21 CCRK 2D8",0,197.40899999999999,null,null,null,null,null,null,null,null,null,null,"z21 CCRK 2D8",0,199.44200000000001,null,"z21 CCRK 2D8",0,185.00800000000001,null,"z21 CCRK 2D8",0,158.24199999999999,null,null,null,null,null,null,null,null,null,null,null,null,"z21 CCRK 2D8",{"$f":"VLOOKUP(CD105,CD$119:CE$210,2,FALSE)","v":10.798},165.12799999999999,null,"z21 CCRK 2D8",{"$f":"VLOOKUP(CH105,CH$119:CI$210,2,FALSE)","v":10.683999999999999},150.08699999999999,null,"z21 CCRK 2D8",{"$f":"VLOOKUP(CL105,CL$119:CM$210,2,FALSE)","v":10.816000000000001},140.77699999999999,null,"z21 CCRK 2D8",32.298000000000002,455.99199999999996]
["z21 TRAIL2D8",0,0,0,0,0,90.027000000000001,93.028000000000006,93.028000000000006,84.025000000000006,90.876999999999995,86.295000000000002,87.856999999999999,625.13700000000006,null,null,null,"z21 TRAIL2D8",0,0,null,"z21 TRAIL2D8",0,0,null,"z21 TRAIL2D8",0,0,null,"z21 TRAIL2D8",0,0,null,null,null,null,null,"z21 TRAIL2D8",0,0,null,"z21 TRAIL2D8",0,0,null,"z21 TRAIL2D8",0,90.027000000000001,null,null,null,null,null,null,null,null,null,null,"z21 TRAIL2D8",0,93.028000000000006,null,"z21 TRAIL2D8",0,93.028000000000006,null,"z21 TRAIL2D8",0,84.025000000000006,null,null,null,null,null,null,null,null,null,null,null,null,"z21 TRAIL2D8",{"$f":"VLOOKUP(CD106,CD$119:CE$210,2,FALSE)","v":105.413},90.876999999999995,null,"z21 TRAIL2D8",{"$f":"VLOOKUP(CH106,CH$119:CI$210,2,FALSE)","v":88.581999999999994},86.295000000000002,null,"z21 TRAIL2D8",{"$f":"VLOOKUP(CL106,CL$119:CM$210,2,FALSE)","v":50.436999999999998},87.856999999999999,null,"z21 TRAIL2D8",244.43200000000002,265.029]
["z21 WSKY 2D8",0,0,0,0,0,35.585999999999999,35.067,29.655000000000001,23.460999999999999,23.277999999999999,20.510999999999999,19.53,187.08799999999999,null,null,null,"z21 WSKY 2D8",0,0,null,"z21 WSKY 2D8",0,0,null,"z21 WSKY 2D8",0,0,null,"z21 WSKY 2D8",0,0,null,null,null,null,null,"z21 WSKY 2D8",0,0,null,"z21 WSKY 2D8",0,0,null,"z21 WSKY 2D8",0,35.585999999999999,null,null,null,null,null,null,null,null,null,null,"z21 WSKY 2D8",0,35.067,null,"z21 WSKY 2D8",0,29.655000000000001,null,"z21 WSKY 2D8",0,23.460999999999999,null,null,null,null,null,null,null,null,null,null,null,null,"z21 WSKY 2D8",0,23.277999999999999,null,"z21 WSKY 2D8",0,20.510999999999999,null,"z21 WSKY 2D8",0,19.53,null,"z21 WSKY 2D8",0,63.319000000000003]
["Wexpro II Total",{"$f":"SUM(B96:B107)","v":1105.9289999999999},1115.6310000000001,949.88599999999997,899.78399999999988,911.42900000000009,1422.441,1444.9970000000001,1406.374,1241.1460000000002,1340.674,1267.587,1276.7650000000001,{"$f":"SUM(N96:N107)","v":14382.643000000002},null,null,null,"Wexpro II Total",{"$f":"SUM(S96:S107)","v":1077.193},{"$f":"SUM(T96:T107)","v":1105.9289999999999},null,"Wexpro II Total",{"$f":"SUM(W96:W107)","v":1083.673},{"$f":"SUM(X96:X107)","v":1115.6310000000001},null,"Wexpro II Total",{"$f":"SUM(AA96:AA107)","v":1041.76},{"$f":"SUM(AB96:AB107)","v":949.88599999999997},null,"Wexpro II Total",{"$f":"SUM(AE96:AE107)","v":3202.6259999999997},{"$f":"SUM(AF96:AF107)","v":3171.4459999999999},null,null,null,null,null,"Wexpro II Total",{"$f":"SUM(AM96:AM107)","v":974.86199999999997},{"$f":"SUM(AN96:AN107)","v":899.78399999999988},null,"Wexpro II Total",1045.9900000000002,911.42900000000009,null,"Wexpro II Total",1090.9670000000001,{"$f":"SUM(AV96:AV107)","v":1422.441},null,null,null,null,null,null,null,null,null,null,{"$f":"AT108","v":"Wexpro II Total"},{"$f":"SUM(BH96:BH107)","v":1181.4479999999999},{"$f":"SUM(BI96:BI107)","v":1444.9970000000001},null,"Wexpro II Total",{"$f":"SUM(BL96:BL107)","v":1210.885},{"$f":"SUM(BM96:BM107)","v":1406.374},null,"Wexpro II Total",{"$f":"SUM(BP96:BP107)","v":1072.8209999999999},{"$f":"SUM(BQ96:BQ107)","v":1241.1460000000002},null,null,null,null,null,null,null,null,null,null,null,null,"Wexpro II Total",{"$f":"SUM(CE96:CE107)","v":1265.4640000000002},{"$f":"SUM(CF96:CF107)","v":1340.674},null,"Wexpro II Total",{"$f":"SUM(CI96:CI107)","v":1186.1909999999998},{"$f":"SUM(CJ96:CJ107)","v":1267.587},null,"Wexpro II Total",{"$f":"SUM(CM96:CM107)","v":1137.7549999999999},{"$f":"SUM(CN96:CN107)","v":1276.7650000000001},null,"Wexpro II Total",3589.41,3885.0259999999998]
[null,null,null,null,null,null,null,null,null,null,null,null,null,null,null,null,null,null,null,{"$f":"IFERROR(VLOOKUP(R109,$A$6:$M$123,2,FALSE),\"\")","v":""},null,null,null,{"$f":"IFERROR(VLOOKUP(V109,$A$6:$M$123,3,FALSE),\"\")","v":""},null,null,null,{"$f":"IFERROR(VLOOKUP(Z109,$A$6:$M$123,4,FALSE),\"\")","v":""},null,null,null,null,null,null,null,null,null,null,null,null,null,null,null,null,null,null,null,null,null,null,null,null,null,null,null,null,null,null,null,null,null,null,null,null,null,null,null,null,null,null,null,null,null,null,null,null,null,null,null,null,null,null,null,null,null,null,null,"",null,null,null,""]
["Q50",null,null,null,null,null,null,null,null,null,null,null,null,null,null,null,null,"Q50",null,null,null,"Q50",null,null,null,"Q50",null,null,null,"Q50",null,null,null,null,null,null,null,{"$f":"AD110","v":"Q50"},null,null,null,"Q50",null,null,null,"Q50",null,null,null,null,null,null,null,null,null,null,null,null,{"$f":"AT110","v":"Q50"},null,null,null,{"$f":"BG110","v":"Q50"},null,null,null,{"$f":"BK110","v":"Q50"},null,null,null,null,null,null,null,null,null,null,null,null,null,null,"Q50",null,null,null,"Q50",null,null,null,"Q50",null,null,null,"Q50"]
["BRCH CRK Q50",0.91800000000000004,0.92700000000000005,0.90500000000000003,0.85499999999999998,0.86499999999999999,0.81899999999999995,0.82799999999999996,0.80900000000000005,0.71699999999999997,0.77800000000000002,0.73799999999999999,0.747,9.9060000000000006,null,null,null,{"$f":"A111","v":"BRCH CRK Q50"},{"$f":"IFERROR(VLOOKUP(R111,$R$119:$S$213,2,FALSE),0)","v":0},{"$f":"IFERROR(VLOOKUP(R111,$A$6:$M$123,2,FALSE),\"\")","v":0.91800000000000004},null,{"$f":"R111","v":"BRCH CRK Q50"},{"$f":"IFERROR(VLOOKUP(V111,$V$119:$X$213,2,FALSE),0)","v":0},{"$f":"IFERROR(VLOOKUP(V111,$A$6:$M$123,3,FALSE),\"\")","v":0.92700000000000005},null,{"$f":"V111","v":"BRCH CRK Q50"},{"$f":"IFERROR(VLOOKUP(Z111,$Z$119:$AB$213,2,FALSE),0)","v":0},{"$f":"IFERROR(VLOOKUP(Z111,$A$6:$M$123,4,FALSE),\"\")","v":0.90500000000000003},null,{"$f":"Z111","v":"BRCH CRK Q50"},{"$f":"AA111+W111+S111","v":0},{"$f":"AB111+X111+T111","v":2.75},null,null,null,null,null,"BRCH CRK Q50",0,{"$f":"IFERROR(VLOOKUP(AL111,$A$6:$M$123,5,FALSE),\"\")","v":0.85499999999999998},null,"BRCH CRK Q50",0,0.86499999999999999,null,"BRCH CRK Q50",0,0.81899999999999995,null,null,null,null,null,null,null,null,null,null,{"$f":"AT111","v":"BRCH CRK Q50"},{"$f":"IFERROR(VLOOKUP(BG111,$BG$119:$BH$211,2,FALSE),0)","v":0},{"$f":"IFERROR(VLOOKUP($AT111,$A$6:$M$123,7,FALSE),\"\")","v":0.81899999999999995},null,"BRCH CRK Q50",{"$f":"IFERROR(VLOOKUP(BK111,$BK$119:$BL$218,2,FALSE),0)","v":0},{"$f":"IFERROR(VLOOKUP($AP111,$A$6:$M$123,6,FALSE),\"\")","v":0.86499999999999999},null,"BRCH CRK Q50",{"$f":"IFERROR(VLOOKUP(BO111,$BO$119:$BP$211,2,FALSE),0)","v":0},{"$f":"IFERROR(VLOOKUP($AT111,$A$6:$M$123,7,FALSE),\"\")","v":0.81899999999999995},null,null,null,null,null,null,null,null,null,null,null,null,"BRCH CRK Q50",0,{"$f":"IFERROR(VLOOKUP($A111,$A$6:$M$123,11,FALSE),\"\")","v":0.77800000000000002},null,"BRCH CRK Q50",0,0.73799999999999999,null,"BRCH CRK Q50",0,0.747,null,"BRCH CRK Q50",0,2.2629999999999999]
["TRAIL Q50",1.2210000000000001,1.246,1.228,1.173,1.1970000000000001,1.1459999999999999,1.169,1.1559999999999999,1.0329999999999999,1.1279999999999999,1.08,1.1040000000000001,13.881,null,null,null,{"$f":"A112","v":"TRAIL Q50"},{"$f":"IFERROR(VLOOKUP(R112,$R$119:$S$213,2,FALSE),0)","v":0.11600000000000001},{"$f":"IFERROR(VLOOKUP(R112,$A$6:$M$123,2,FALSE),\"\")","v":1.2210000000000001},null,{"$f":"R112","v":"TRAIL Q50"},{"$f":"IFERROR(VLOOKUP(V112,$V$119:$X$213,2,FALSE),0)","v":0.84099999999999997},{"$f":"IFERROR(VLOOKUP(V112,$A$6:$M$123,3,FALSE),\"\")","v":1.246},null,{"$f":"V112","v":"TRAIL Q50"},{"$f":"IFERROR(VLOOKUP(Z112,$Z$119:$AB$213,2,FALSE),0)","v":2.798},{"$f":"IFERROR(VLOOKUP(Z112,$A$6:$M$123,4,FALSE),\"\")","v":1.228},null,{"$f":"Z112","v":"TRAIL Q50"},{"$f":"AA112+W112+S112","v":3.7550000000000003},{"$f":"AB112+X112+T112","v":3.6950000000000003},null,null,null,null,null,"TRAIL Q50",2.57,1.173,null,"TRAIL Q50",2.1949999999999998,1.1970000000000001,null,"TRAIL Q50",1.9079999999999999,1.1459999999999999,null,null,null,null,null,null,null,null,null,null,{"$f":"AT112","v":"TRAIL Q50"},{"$f":"IFERROR(VLOOKUP(BG112,$BG$119:$BH$211,2,FALSE),0)","v":2.0790000000000002},1.1459999999999999,null,"TRAIL Q50",{"$f":"IFERROR(VLOOKUP(BK112,$BK$119:$BL$218,2,FALSE),0)","v":1.607},1.1970000000000001,null,"TRAIL Q50",{"$f":"IFERROR(VLOOKUP(BO112,$BO$119:$BP$211,2,FALSE),0)","v":1.627},1.1459999999999999,null,null,null,null,null,null,null,null,null,null,null,null,"TRAIL Q50",{"$f":"VLOOKUP(CD112,CD$119:CE$203,2,FALSE)","v":0.625},{"$f":"IFERROR(VLOOKUP($A112,$A$6:$M$123,11,FALSE),\"\")","v":1.1279999999999999},null,"TRAIL Q50",{"$f":"VLOOKUP(CH112,CH$119:CI$203,2,FALSE)","v":1.6559999999999999},1.08,null,"TRAIL Q50",{"$f":"VLOOKUP(CL112,CL$119:CM$203,2,FALSE)","v":1.466},1.1040000000000001,null,"TRAIL Q50",3.7469999999999999,3.3120000000000003]
["yTRAIL 2Q50",1.206,1.2310000000000001,1.2150000000000001,1.161,1.1839999999999999,1.131,1.1559999999999999,1.1439999999999999,1.0189999999999999,1.1160000000000001,1.0680000000000001,1.091,13.723000000000001,null,null,null,"yTRAIL 2Q50",{"$f":"IFERROR(VLOOKUP(R113,$R$119:$S$213,2,FALSE),0)","v":0},{"$f":"IFERROR(VLOOKUP(R113,$A$6:$M$123,2,FALSE),\"\")","v":1.206},null,"yTRAIL 2Q50",{"$f":"IFERROR(VLOOKUP(V113,$V$119:$X$213,2,FALSE),0)","v":0},{"$f":"IFERROR(VLOOKUP(V113,$A$6:$M$123,3,FALSE),\"\")","v":1.2310000000000001},null,"yTRAIL 2Q50",0,{"$f":"IFERROR(VLOOKUP(Z113,$A$6:$M$123,4,FALSE),\"\")","v":1.2150000000000001},null,"yTRAIL 2Q50",0,3.6520000000000001,null,null,null,null,null,"yTRAIL 2Q50",0,1.161,null,"yTRAIL 2Q50",0,1.1839999999999999,null,"yTRAIL 2Q50",0,1.131,null,null,null,null,null,null,null,null,null,null,"yTRAIL 2Q50",0,1.131,null,"yTRAIL 2Q50",0,1.1839999999999999,null,"yTRAIL 2Q50",0,1.131,null,null,null,null,null,null,null,null,null,null,null,null,"yTRAIL 2Q50",0,1.1160000000000001,null,"yTRAIL 2Q50",0,1.0680000000000001,null,"yTRAIL 2Q50",0,1.091,null,"yTRAIL 2Q50",0,3.2750000000000004]
[null,{"$f":"SUM(B111:B113)","v":3.3450000000000002},3.4039999999999999,3.3479999999999999,3.1890000000000001,3.2460000000000004,3.0960000000000001,3.1529999999999996,3.109,2.7690000000000001,3.0220000000000002,2.8860000000000001,2.9420000000000002,37.51,null,null,null,"Q50 Total",{"$f":"SUM(S111:S113)","v":0.11600000000000001},{"$f":"SUM(T111:T113)","v":3.3450000000000002},null,"Q50 Total",{"$f":"SUM(W111:W113)","v":0.84099999999999997},{"$f":"SUM(X110:X113)","v":3.4039999999999999},null,"Q50 Total",{"$f":"SUM(AA111:AA113)","v":2.798},{"$f":"SUM(AB110:AB113)","v":3.3479999999999999},null,"Q50 Total",3.7550000000000003,10.097,null,null,null,null,null,"Q50 Total",{"$f":"SUM(AM111:AM113)","v":2.57},{"$f":"SUM(AN111:AN113)","v":3.1890000000000001},null,"Q50 Total",{"$f":"SUM(AQ111:AQ113)","v":2.1949999999999998},{"$f":"SUM(AR111:AR113)","v":3.2460000000000004},null,"Q50 Total",{"$f":"SUM(AU111:AU113)","v":1.9079999999999999},{"$f":"SUM(AV111:AV113)","v":3.0960000000000001},null,null,null,null,null,null,null,null,null,null,"Q50 Total",{"$f":"SUM(BH111:BH113)","v":2.0790000000000002},{"$f":"SUM(BI111:BI113)","v":3.0960000000000001},null,"Q50 Total",{"$f":"SUM(BL111:BL113)","v":1.607},{"$f":"SUM(BM111:BM113)","v":3.2460000000000004},null,"Q50 Total",{"$f":"SUM(BP111:BP113)","v":1.627},{"$f":"SUM(BQ111:BQ113)","v":3.0960000000000001},null,null,null,null,null,null,null,null,null,null,null,null,"Q50 Total",{"$f":"SUM(CE111:CE113)","v":0.625},{"$f":"SUM(CF111:CF113)","v":3.0220000000000002},null,"Q50 Total",{"$f":"SUM(CI111:CI113)","v":1.6559999999999999},{"$f":"SUM(CJ111:CJ113)","v":2.8860000000000001},null,"Q50 Total",{"$f":"SUM(CM111:CM113)","v":1.466},{"$f":"SUM(CN111:CN113)","v":2.9420000000000002},null,"Q50 Total",3.7469999999999999,{"$f":"CF114+CJ114+CN114","v":8.8500000000000014}]
[null,null,null,null,null,null,null,null,null,null,null,null,null,null,null,null,null,"Total",{"$f":"SUM(S83,S93,S108,S114)","v":4656.1660000000002},{"$f":"SUM(T83,T93,T108,T114)","v":4721.652000000001},null,"Total",{"$f":"SUM(W83,W93,W108,W114)","v":4613.5949999999993},{"$f":"SUM(X83,X93,X108,X114)","v":4800.3310000000019},null,"Total",{"$f":"SUM(AA83,AA93,AA108,AA114)","v":4623.5680000000002},{"$f":"SUM(AB83,AB93,AB108)","v":4604.8450000000012},null,"Total",{"$f":"SUM(AE83,AE93,AE108)","v":11973.965},{"$f":"SUM(AF83,AF93,AF108)","v":12418.887704940797},null,null,null,null,null,"Total",{"$f":"AM114+AM108+AM93+AM83","v":4468.6420000000007},{"$f":"AN114+AN108+AN93+AN83","v":4391.7179999999989},null,"Total",{"$f":"SUM(AQ114+AQ108+AQ93+AQ83)","v":4639.2529999999988},{"$f":"SUM(AR114+AR108+AR93+AR83)","v":4534.6109999999999},null,"Total",{"$f":"AU114+AU108+AU93+AU83","v":4516.208999999998},{"$f":"AV114+AV108+AV93+AV83","v":5321.8169999999982},null,null,null,null,null,null,null,null,null,null,{"$f":"AT115","v":"Total"},{"$f":"BH114+BH108+BH93+BH83","v":4780.3190000000013},{"$f":"BI114+BI108+BI93+BI83","v":5427.549},null,"Total",{"$f":"SUM(BL114+BL108+BL93+BL83)","v":4637.7970000000014},{"$f":"SUM(BM114+BM108+BM93+BM83)","v":5342.8829999999998},null,"Total",{"$f":"BP114+BP108+BP93+BP83","v":4153.6789999999983},{"$f":"BQ114+BQ108+BQ93+BQ83","v":4756.715000000002},null,null,null,null,null,null,null,null,null,null,null,null,"Total",{"$f":"CE83+CE93+CE108+CE114","v":4811.3589999999995},{"$f":"CF83+CF93+CF108+CF114","v":5138.8499999999995},null,"Total",{"$f":"CI83+CI93+CI108+CI114","v":4749.847999999999},{"$f":"CJ83+CJ93+CJ108+CJ114","v":4698.0120000000006},null,"Total",{"$f":"CM83+CM93+CM108+CM114","v":4686.043999999999},{"$f":"CN83+CN93+CN108+CN114","v":4754.1193999999987},null,"Total",14247.250999999997,14590.981400000001]
[]
["Off System",{"$f":"B5","v":"2021-06-01"},"2021-07-01","2021-08-01","2021-09-01","2021-10-01","2021-11-01","2021-12-01","2022-01-01","2022-02-01","2022-03-01","2022-04-01","2022-05-01",{"$f":"N95","v":"Total"}]
["OFF SYS D24",30.658999999999999,31.715,31.751999999999999,30.760999999999999,31.824000000000002,30.832999999999998,31.895,31.933,28.873000000000001,32.000999999999998,31.001999999999999,32.07,{"$f":"SUM(B118:M118)","v":375.31799999999998},null,null,null,"nomgroup","value_6","month_tot",null,"nomgroup","value_7","month_tot",null,"nomgroup","value_8","month_tot",null,null,null,null,null,null,null,null,null,"nomgroup","value_9","month_tot",null,"nomgroup","value_10","month_tot",null,"nomgroup","value_11","month_tot",null,null,null,null,null,null,null,null,null,null,"nomgroup","value_12","month_tot",null,"nomgroup","value_1","month_tot",null,"nomgroup","value_2","month_tot",null,null,null,null,null,null,null,null,null,null,null,null,"nomgroup","value_03","month_tot",null,"nomgroup","value_04","month_tot",null,"nomgroup","value_05","month_tot"]
["OFF SYS PC",7.6619999999999999,7.883,7.8460000000000001,7.56,7.7750000000000004,7.4909999999999997,7.7069999999999999,7.6689999999999996,6.8959999999999999,7.601,7.3230000000000004,7.5330000000000004,{"$f":"SUM(B119:M119)","v":90.945999999999984},null,null,null,"ACEJDMT D24",9.6280000000000001,4656.16,null,"ACEJDMT D24",9.7880000000000003,4613.7,null,"ACEJDMT D24",7.3579999999999997,4623.57,null,null,null,null,null,null,null,null,null,"ACEJDMT D24",5.6779999999999999,4468.6400000000003,null,"ACEJDMT D24",9.1,4639.25,null,"ACEJDMT D24",7.9450000000000003,4516.21,null,null,null,null,null,null,null,null,null,null,"ACEJDMT D24",10.644,4780.3190000000004,null,"ACEJDMT D24",10.186999999999999,4637.7969999999987,null,"ACEJDMT D24",8.7899999999999991,4153.6789999999992,null,null,null,null,null,null,null,null,null,null,null,null,"ACEJDMT D24",8.7460000000000004,4811.3590000000004,null,"ACEJDMT D24",8.3840000000000003,4749.848,null,"ACEJDMT D24",8.1739999999999995,4686.0439999999999]
["OFF SYS PW",7.4999999999999997E-2,7.8E-2,7.8E-2,7.4999999999999997E-2,7.8E-2,7.1999999999999995E-2,7.3999999999999996E-2,7.3999999999999996E-2,6.7000000000000004E-2,7.3999999999999996E-2,7.1999999999999995E-2,7.3999999999999996E-2,{"$f":"SUM(B120:M120)","v":0.8909999999999999},null,null,null,"ACEJDMT PC",3.5859999999999999,4656.16,null,"ACEJDMT PC",3.7320000000000002,4613.7,null,"ACEJDMT PC",4.367,4623.57,null,null,null,null,null,null,null,null,null,"BIRCH CREEK",122.727,4468.6400000000003,null,"BIRCH CREEK",123.94799999999999,4639.25,null,"BIRCH CREEK",116.887,4516.21,null,null,null,null,null,null,null,null,null,null,"BIRCH CREEK",120.91500000000001,4780.3190000000004,null,"BIRCH CREEK",124.309,4637.7969999999987,null,"BIRCH CREEK",113.126,4153.6789999999992,null,null,null,null,null,null,null,null,null,null,null,null,"BIRCH CREEK",122.512,4811.3590000000004,null,"BIRCH CREEK",113.696,4749.848,null,"BIRCH CREEK",134.923,4686.0439999999999]
["Off System Total",{"$f":"SUM(B118:B120)","v":38.396000000000001},{"$f":"SUM(C118:C120)","v":39.676000000000002},39.676000000000002,38.396000000000001,39.677000000000007,38.396000000000001,39.675999999999995,39.675999999999995,35.835999999999999,39.675999999999995,38.397000000000006,39.677,{"$f":"SUM(B121:M121)","v":467.15500000000003},null,null,null,"BIRCH CREEK",123.146,4656.16,null,"BIRCH CREEK",127.01600000000001,4613.7,null,"BIRCH CREEK",127.571,4623.57,null,null,null,null,null,null,null,null,null,"BRFM D24",1.3580000000000001,4468.6400000000003,null,"BRFM D24",1.78,4639.25,null,"BRFM D24",1.4590000000000001,4516.21,null,null,null,null,null,null,null,null,null,null,"BRFM D24",1.875,4780.3190000000004,null,"BRFM D24",2.1720000000000002,4637.7969999999987,null,"BRFM D24",2.2330000000000001,4153.6789999999992,null,null,null,null,null,null,null,null,null,null,null,null,"BRFM D24",2.1779999999999999,4811.3590000000004,null,"BRFM D24",2.077,4749.848,null,"BRFM D24",2.113,4686.0439999999999]
[null,null,null,null,null,null,null,null,null,null,null,null,null,null,null,null,null,"BRFM D24",1.52,4656.16,null,"BRFM D24",1.8340000000000001,4613.7,null,"BRFM D24",1.8280000000000001,4623.57,null,null,null,null,null,null,null,null,null,"BRFM PC",0.13,4468.6400000000003,null,"BRFM PC",0.13,4639.25,null,"BRFM PC",0.127,4516.21,null,null,null,null,null,null,null,null,null,null,"BRFM PC",0.152,4780.3190000000004,null,"BRFM PC",0.14399999999999999,4637.7969999999987,null,"BRFM PC",0.128,4153.6789999999992,null,null,null,null,null,null,null,null,null,null,null,null,"BRFM PC",0.13400000000000001,4811.3590000000004,null,"BRFM PC",0.13400000000000001,4749.848,null,"BRFM PC",0.14499999999999999,4686.0439999999999]
["Total without Off System",{"$f":"SUM(B83,B93,B108,B114)","v":4722.1770000000006},{"$f":"SUM(C83,C93,C108,C114)","v":4800.3310000000019},{"$f":"SUM(D83,D93,D108,D114)","v":4608.7290000000012},4373.6789999999992,4516.2179999999998,5297.3549999999977,5402.6570000000002,5318.1109999999999,4734.4140000000007,5155.9559999999992,4714.3680000000004,4794.9159999999993,58438.912000000011,null,null,null,"BRFM PC",0.14699999999999999,4656.16,null,"BRFM PC",0.14199999999999999,4613.7,null,"BRFM PC",0.13600000000000001,4623.57,null,null,null,null,null,null,null,null,null,"BRFQ D24",136.89099999999999,4468.6400000000003,null,"BRFQ D24",143.67099999999999,4639.25,null,"BRFQ D24",142.42699999999999,4516.21,null,null,null,null,null,null,null,null,null,null,"BRFQ D24",141.81899999999999,4780.3190000000004,null,"BRFQ D24",129.523,4637.7969999999987,null,"BRFQ D24",124.05,4153.6789999999992,null,null,null,null,null,null,null,null,null,null,null,null,"BRFQ D24",132.54599999999999,4811.3590000000004,null,"BRFQ D24",149.46,4749.848,null,"BRFQ D24",157.82499999999999,4686.0439999999999]
["Days/Month",{"$f":"DAY(EOMONTH(B5,0))","v":30},31,31,30,31,30,31,31,28,31,30,31,null,null,null,null,"BRFQ D24",139.84100000000001,4656.16,null,"BRFQ D24",141.41300000000001,4613.7,null,"BRFQ D24",140.148,4623.57,null,null,null,null,null,null,null,null,null,"BRFQ PC",12.063000000000001,4468.6400000000003,null,"BRFQ PC",12.388,4639.25,null,"BRFQ PC",11.153,4516.21,null,null,null,null,null,null,null,null,null,null,"BRFQ PC",11.789,4780.3190000000004,null,"BRFQ PC",11.417,4637.7969999999987,null,"BRFQ PC",10.115,4153.6789999999992,null,null,null,null,null,null,null,null,null,null,null,null,"BRFQ PC",11.603999999999999,4811.3590000000004,null,"BRFQ PC",12.116,4749.848,null,"BRFQ PC",11.048,4686.0439999999999]
["Per day",{"$f":"B123/B124","v":157.40590000000003},{"$f":"C123/C124","v":154.84938709677425},148.66867741935488,145.78929999999997,145.68445161290322,176.57849999999993,174.27925806451614,171.55196774193547,169.08621428571431,166.32116129032255,157.1456,154.67470967741934,null,null,null,null,"BRFQ PC",11.42,4656.16,null,"BRFQ PC",10.901,4613.7,null,"BRFQ PC",11.492000000000001,4623.57,null,null,null,null,null,null,null,null,null,"BRFQMT PC",4.0940000000000003,4468.6400000000003,null,"BRFQMT D24",6.0359999999999996,4639.25,null,"BRFQMT PC",3.6150000000000002,4516.21,null,null,null,null,null,null,null,null,null,null,"BRFQMT PC",3.1930000000000001,4780.3190000000004,null,"BRFQMT PC",2.4020000000000001,4637.7969999999987,null,"BRFQMT PC",3.7570000000000001,4153.6789999999992,null,null,null,null,null,null,null,null,null,null,null,null,"BRFQMT D24",0,4811.3590000000004,null,"BRFQMT D24",7.3719999999999999,4749.848,null,"BRFQMT D24",0,4686.0439999999999]
[null,null,null,null,null,null,null,null,null,null,null,null,null,null,null,null,null,"BRFQMT D24",5.5060000000000002,4656.16,null,"BRFQMT PC",4.4009999999999998,4613.7,null,"BRFQMT D24",4.4249999999999998,4623.57,null,null,null,null,null,null,null,null,null,"BRFW D24",59.587000000000003,4468.6400000000003,null,"BRFQMT PC",3.8250000000000002,4639.25,null,"BRFW D24",58.128,4516.21,null,null,null,null,null,null,null,null,null,null,"BRFW D24",59.03,4780.3190000000004,null,"BRFW D24",59.043999999999997,4637.7969999999987,null,"BRFW D24",52.579000000000001,4153.6789999999992,null,null,null,null,null,null,null,null,null,null,null,null,"BRFQMT PC",4.0869999999999997,4811.3590000000004,null,"BRFQMT PC",3.9420000000000002,4749.848,null,"BRFQMT PC",3.7879999999999998,4686.0439999999999]
["Total with Off System",{"$f":"SUM(B121,B123)","v":4760.5730000000003},{"$f":"SUM(C121,C123)","v":4840.0070000000023},4648.4050000000016,4412.0749999999989,4555.8949999999995,5335.7509999999975,5442.3330000000005,{"$f":"SUM(I121,I123)","v":5357.7870000000003},4770.2500000000009,5195.6319999999996,4752.7650000000003,4834.5929999999989,58906.06700000001,null,null,null,"BRFQMT PC",4.3070000000000004,4656.16,null,"BRFW D24",64.664000000000001,4613.7,null,"BRFQMT PC",4.2969999999999997,4623.57,null,null,null,null,null,null,null,null,null,"BRFW PC",4.2229999999999999,4468.6400000000003,null,"BRFW D24",63.579000000000001,4639.25,null,"BRFW PC",11.804,4516.21,null,null,null,null,null,null,null,null,null,null,"BRFW PC",13.289,4780.3190000000004,null,"BRFW PC",14.366,4637.7969999999987,null,"BRFW PC",10.497,4153.6789999999992,null,null,null,null,null,null,null,null,null,null,null,null,"BRFW D24",55.97,4811.3590000000004,null,"BRFW D24",59.087000000000003,4749.848,null,"BRFW D24",49.854999999999997,4686.0439999999999]
[null,null,null,null,null,null,null,null,null,null,null,null,null,null,null,null,null,"BRFW D24",64.286000000000001,4656.16,null,"BRFW PC",6.9429999999999996,4613.7,null,"BRFW D24",64.168000000000006,4623.57,null,null,null,null,null,null,null,null,null,"BRUFF MT",8.32,4468.6400000000003,null,"BRFW PC",4.7560000000000002,4639.25,null,"BRUFF MT",4.8099999999999996,4516.21,null,null,null,null,null,null,null,null,null,null,"BRUFF MT",4.4470000000000001,4780.3190000000004,null,"BRUFF MT",4.5289999999999999,4637.7969999999987,null,"BRUFF MT",3.9529999999999998,4153.6789999999992,null,null,null,null,null,null,null,null,null,null,null,null,"BRFW PC",10.887,4811.3590000000004,null,"BRFW PC",10.095000000000001,4749.848,null,"BRFW PC",9.3970000000000002,4686.0439999999999]
["Total Possible Prod. From SendOut",4936.9083425907875,5020.9990155664709,4666.9528143327234,4512.2859366094581,4590.9290252481142,5301.5501219673806,5406.970878791989,5322.3938842310417,4738.2532761775828,5160.1883760006194,4914.0639030524126,4999.4840492440735,{"$f":"SUM(B129:M129)","v":59570.979623812651},null,null,null,"BRFW PC",10.494999999999999,4656.16,null,"BRUFF MT",8.1240000000000006,4613.7,null,"BRFW PC",5.1159999999999997,4623.57,null,null,null,null,null,null,null,null,null,"CBFR D24",13.731,4468.6400000000003,null,"BRUFF MT",7.69,4639.25,null,"CBFR D24",22.116,4516.21,null,null,null,null,null,null,null,null,null,null,"CBFR D24",19.477,4780.3190000000004,null,"CBFR D24",16.777000000000001,4637.7969999999987,null,"CBFR D24",16.617999999999999,4153.6789999999992,null,null,null,null,null,null,null,null,null,null,null,null,"BRUFF MT",8.6270000000000007,4811.3590000000004,null,"BRUFF MT",6.2030000000000003,4749.848,null,"BRUFF MT",5.4870000000000001,4686.0439999999999]
[1000,null,null,null,null,null,null,null,null,null,null,null,null,null,null,null,null,"BRUFF MT",8.0090000000000003,4656.16,null,"CCRUNIT 2D8",80.622,4613.7,null,"BRUFF MT",8.4329999999999998,4623.57,null,null,null,null,null,null,null,null,null,"CBFR PC",85.466999999999999,4468.6400000000003,null,"CBFR D24",18.358000000000001,4639.25,null,"CBFR PC",73.561000000000007,4516.21,null,null,null,null,null,null,null,null,null,null,"CBFR PC",67.323999999999998,4780.3190000000004,null,"CBFR PC",63.820999999999998,4637.7969999999987,null,"CBFR PC",58.140999999999998,4153.6789999999992,null,null,null,null,null,null,null,null,null,null,null,null,"CBFR D24",13.481,4811.3590000000004,null,"CBFR D24",19.603000000000002,4749.848,null,"CBFR D24",17.135999999999999,4686.0439999999999]
["Shut-In per Month/dth",{"$f":"(B129-B123)*$A$130","v":214731.34259078687},{"$f":"(C129-C123)*$A$130","v":220668.01556646897},58223.814332722213,138606.93660945891,{"$f":"(F129-F123)*$A$130","v":74711.025248114311},4195.1219673828746,4313.8787919888273,4282.8842310418622,3839.2761775821782,4232.3760006202065,199695.90305241218,204568.04924407424,null,null,null,null,"CBFR D24",1.383,4656.16,null,"CCRUNIT 2E",246.036,4613.7,null,"CBFR D24",3.1320000000000001,4623.57,null,null,null,null,null,null,null,null,null,"CCRUNIT 2D8",80.227000000000004,4468.6400000000003,null,"CBFR PC",70.484999999999999,4639.25,null,"CCRUNIT 2D8",68.575999999999993,4516.21,null,null,null,null,null,null,null,null,null,null,"CCRUNIT 2D8",73.007999999999996,4780.3190000000004,null,"CCRUNIT 2D8",67.805000000000007,4637.7969999999987,null,"CCRUNIT 2D8",61.792999999999999,4153.6789999999992,null,null,null,null,null,null,null,null,null,null,null,null,"CBFR PC",43.835999999999999,4811.3590000000004,null,"CBFR PC",64.14,4749.848,null,"CBFR PC",65.495999999999995,4686.0439999999999]
["Shut-In per Day/dth",{"$f":"B131/B124","v":7157.7114196928951},{"$f":"C131/C124","v":7118.3230827893212},1878.1875591200715,4620.2312203152969,2410.0330725198164,139.8373989127625,139.15738038673638,138.15755584006007,137.11700634222066,136.52825808452278,6656.5301017470729,6598.9693304540078,null,null,null,null,"CBFR PC",4.9720000000000004,4656.16,null,"CCRUNIT2EMT",23.859000000000002,4613.7,null,"CBFR PC",18.273,4623.57,null,null,null,null,null,null,null,null,null,"CCRUNIT 2E",214.22800000000001,4468.6400000000003,null,"CCRUNIT 2D8",78.275000000000006,4639.25,null,"CCRUNIT 2E",302.40499999999997,4516.21,null,null,null,null,null,null,null,null,null,null,"CCRUNIT 2E",334.82,4780.3190000000004,null,"CCRUNIT 2E",326.38600000000002,4637.7969999999987,null,"CCRUNIT 2E",283.51499999999999,4153.6789999999992,null,null,null,null,null,null,null,null,null,null,null,null,"CCOPA 2E",9.9269999999999996,4811.3590000000004,null,"CCOPA 2E",9.7059999999999995,4749.848,null,"CCOPA 2E",4.6539999999999999,4686.0439999999999]
["Total New Drill",{"$f":"SUM(B91:B92,B105:B107)","v":0},0,0,0,0,470.04,479.45600000000002,459.61,402.94500000000005,422.12200000000001,388.16100000000006,378.26099999999997,{"$f":"SUM(B133:M133)","v":3000.5950000000003},null,null,null,"CCRUNIT 2D8",79.456999999999994,4656.16,null,"CCRUNIT D24",454.24,4613.7,null,"CCRUNIT 2D8",81.814999999999998,4623.57,null,null,null,null,null,null,null,null,null,"CCRUNIT2EMT",22.683,4468.6400000000003,null,"CCRUNIT 2E",230.905,4639.25,null,"CCRUNIT2EMT",19.52,4516.21,null,null,null,null,null,null,null,null,null,null,"CCRUNIT2EMT",25.581,4780.3190000000004,null,"CCRUNIT2EMT",26.295999999999999,4637.7969999999987,null,"CCRUNIT2EMT",21.88,4153.6789999999992,null,null,null,null,null,null,null,null,null,null,null,null,"CCRUNIT 2D8",66.328000000000003,4811.3590000000004,null,"CCRUNIT 2D8",69.492000000000004,4749.848,null,"CCRUNIT 2D8",65.366,4686.0439999999999]
[null,null,null,null,null,null,null,null,null,null,null,null,null,null,null,null,null,"CCRUNIT 2E",238.03299999999999,4656.16,null,"CCRUNIT D8",179.785,4613.7,null,"CCRUNIT 2E",221.953,4623.57,null,null,null,null,null,null,null,null,null,"CCRUNIT D24",406.11,4468.6400000000003,null,"CCRUNIT2EMT",21.835000000000001,4639.25,null,"CCRUNIT D24",355.62200000000001,4516.21,null,null,null,null,null,null,null,null,null,null,"CCRUNIT D24",376.351,4780.3190000000004,null,"CCRUNIT D24",380.02699999999999,4637.7969999999987,null,"CCRUNIT D24",332.3,4153.6789999999992,null,null,null,null,null,null,null,null,null,null,null,null,"CCRUNIT 2E",317.92500000000001,4811.3590000000004,null,"CCRUNIT 2E",310.91800000000001,4749.848,null,"CCRUNIT 2E",308.11099999999999,4686.0439999999999]
[null,null,null,null,null,null,null,null,null,null,null,null,null,null,null,null,null,"CCRUNIT2EMT",23.12,4656.16,null,"CCRUNIT MT",56.072000000000003,4613.7,null,"CCRUNIT2EMT",22.771999999999998,4623.57,null,null,null,null,null,null,null,null,null,"CCRUNIT D8",178.714,4468.6400000000003,null,"CCRUNIT D24",414.149,4639.25,null,"CCRUNIT D8",146.56,4516.21,null,null,null,null,null,null,null,null,null,null,"CCRUNIT D8",156.33500000000001,4780.3190000000004,null,"CCRUNIT D8",144.887,4637.7969999999987,null,"CCRUNIT D8",132.10599999999999,4153.6789999999992,null,null,null,null,null,null,null,null,null,null,null,null,"CCRUNIT D24",381.02300000000002,4811.3590000000004,null,"CCRUNIT D24",377.00299999999999,4749.848,null,"CCRUNIT D24",385.99700000000001,4686.0439999999999]
[null,null,null,null,null,null,null,null,null,null,null,null,null,null,null,null,null,"CCRUNIT D24",446.31299999999999,4656.16,null,"CCRUNIT PC",49.343000000000004,4613.7,null,"CCRUNIT D24",423.459,4623.57,null,null,null,null,null,null,null,null,null,"CCRUNIT MT",45.058999999999997,4468.6400000000003,null,"CCRUNIT D8",166.93199999999999,4639.25,null,"CCRUNIT MT",48.216000000000001,4516.21,null,null,null,null,null,null,null,null,null,null,"CCRUNIT MT",69.978999999999999,4780.3190000000004,null,"CCRUNIT MT",60.625,4637.7969999999987,null,"CCRUNIT MT",51.228999999999999,4153.6789999999992,null,null,null,null,null,null,null,null,null,null,null,null,"CCRUNIT D8",142.55699999999999,4811.3590000000004,null,"CCRUNIT D8",148.119,4749.848,null,"CCRUNIT D8",139.357,4686.0439999999999]
[null,null,null,null,null,null,null,null,null,null,null,null,null,null,null,null,null,"CCRUNIT D8",177.07900000000001,4656.16,null,"CCRUNITMT PC",16.335999999999999,4613.7,null,"CCRUNIT D8",182.43,4623.57,null,null,null,null,null,null,null,null,null,"CCRUNIT PC",40.598999999999997,4468.6400000000003,null,"CCRUNIT MT",46.273000000000003,4639.25,null,"CCRUNIT PC",30.315999999999999,4516.21,null,null,null,null,null,null,null,null,null,null,"CCRUNIT PC",51.895000000000003,4780.3190000000004,null,"CCRUNIT PC",47.978000000000002,4637.7969999999987,null,"CCRUNIT PC",39.435000000000002,4153.6789999999992,null,null,null,null,null,null,null,null,null,null,null,null,"CCRUNIT MT",56.991999999999997,4811.3590000000004,null,"CCRUNIT MT",57.292000000000002,4749.848,null,"CCRUNIT MT",55.807000000000002,4686.0439999999999]
[null,null,null,null,null,null,null,null,null,null,null,null,null,null,null,null,null,"CCRUNIT MT",59.738,4656.16,null,"CCRUNITMTD24",35.585999999999999,4613.7,null,"CCRUNIT MT",45.084000000000003,4623.57,null,null,null,null,null,null,null,null,null,"CCRUNITMT PC",17.533000000000001,4468.6400000000003,null,"CCRUNIT PC",34.588999999999999,4639.25,null,"CCRUNITMT PC",13.074999999999999,4516.21,null,null,null,null,null,null,null,null,null,null,"CCRUNITMT PC",15.401999999999999,4780.3190000000004,null,"CCRUNITMT PC",15.792,4637.7969999999987,null,"CCRUNITMT PC",14.598000000000001,4153.6789999999992,null,null,null,null,null,null,null,null,null,null,null,null,"CCRUNIT PC",44.127000000000002,4811.3590000000004,null,"CCRUNIT PC",47.271999999999998,4749.848,null,"CCRUNIT PC",41.905000000000001,4686.0439999999999]
[null,null,null,null,null,null,null,null,null,null,null,null,null,null,null,null,null,"CCRUNIT PC",46.006999999999998,4656.16,null,"CCOPA 2E",2.899,4613.7,null,"CCRUNIT PC",37.084000000000003,4623.57,null,null,null,null,null,null,null,null,null,"CCRUNITMTD24",31.818000000000001,4468.6400000000003,null,"CCRUNITMT PC",15.632999999999999,4639.25,null,"CCRUNITMTD24",27.489000000000001,4516.21,null,null,null,null,null,null,null,null,null,null,"CCRUNITMTD24",37.771999999999998,4780.3190000000004,null,"CCRUNITMTD24",38.865000000000002,4637.7969999999987,null,"CCRUNITMTD24",30.881,4153.6789999999992,null,null,null,null,null,null,null,null,null,null,null,null,"CCRUNIT2EMT",23.579000000000001,4811.3590000000004,null,"CCRUNIT2EMT",23.486000000000001,4749.848,null,"CCRUNIT2EMT",24.741,4686.0439999999999]
[null,null,null,null,null,null,null,null,null,null,null,null,"WE are now broken out between wexpro one and 2 based on y's ",null,null,null,null,"CCRUNITMT PC",14.906000000000001,4656.16,null,"CHBT MT",23.989000000000001,4613.7,null,"CCRUNITMT PC",17.481999999999999,4623.57,null,null,null,null,null,null,null,null,null,"CCOPA 2E",2.9159999999999999,4468.6400000000003,null,"CCRUNITMTD24",29.745000000000001,4639.25,null,"CCOPA 2E",3.383,4516.21,null,null,null,null,null,null,null,null,null,null,"CCOPA 2E",2.61,4780.3190000000004,null,"CCOPA 2E",2.72,4637.7969999999987,null,"CCOPA 2E",4.8860000000000001,4153.6789999999992,null,null,null,null,null,null,null,null,null,null,null,null,"CCRUNITMT PC",15.227,4811.3590000000004,null,"CCRUNITMT PC",15.352,4749.848,null,"CCRUNITMT PC",15.334,4686.0439999999999]
[null,null,null,null,null,null,null,null,null,null,null,null,"Divide CCRUNIT MT Between Legacy and Wexpro II",null,null,null,null,"CCRUNITMTD24",35.405999999999999,4656.16,null,"CHBTBUFF D24",0.83099999999999996,4613.7,null,"CCRUNITMTD24",32.072000000000003,4623.57,null,null,null,null,null,null,null,null,null,"CHBT MT",21.478999999999999,4468.6400000000003,null,"CCOPA 2E",3.9820000000000002,4639.25,null,"CHBT MT",20.893999999999998,4516.21,null,null,null,null,null,null,null,null,null,null,"CHBT MT",25.335000000000001,4780.3190000000004,null,"CHBT MT",24.692,4637.7969999999987,null,"CHBT MT",21.931000000000001,4153.6789999999992,null,null,null,null,null,null,null,null,null,null,null,null,"CCRUNITMTD24",33.768999999999998,4811.3590000000004,null,"CCRUNITMTD24",33.465000000000003,4749.848,null,"CCRUNITMTD24",36.088999999999999,4686.0439999999999]
[null,null,null,null,null,null,null,null,null,null,null,"Month","Legacy","Wexpro II",null,null,null,"CCOPA 2E",3.5609999999999999,4656.16,null,"CHBTC1 MT PC",18.675999999999998,4613.7,null,"CCOPA 2E",3.1080000000000001,4623.57,null,null,null,null,null,null,null,null,null,"CHBTBUFF D24",0.82099999999999995,4468.6400000000003,null,"CHBT MT",23.675999999999998,4639.25,null,"CHBTBUFF D24",0.64800000000000002,4516.21,null,null,null,null,null,null,null,null,null,null,"CHBTBUFF D24",0.65500000000000003,4780.3190000000004,null,"CHBTBUFF D24",0.71199999999999997,4637.7969999999987,null,"CHBTBUFF D24",0.63800000000000001,4153.6789999999992,null,null,null,null,null,null,null,null,null,null,null,null,"CHBT MT",26.760999999999999,4811.3590000000004,null,"CHBT MT",32.515999999999998,4749.848,null,"CHBT MT",34.872,4686.0439999999999]
[null,null,null,null,null,null,null,null,null,null,null,"June",{"$f":"B55","v":15.954000000000001},{"$f":"B97","v":74.195999999999998},null,null,null,"CHBT MT",22.225999999999999,4656.16,null,"CHBTCAT1 PC",32.167000000000002,4613.7,null,"CHBT MT",22.326000000000001,4623.57,null,null,null,null,null,null,null,null,null,"CHBTC1 MT PC",17.693999999999999,4468.6400000000003,null,"CHBTBUFF D24",0.67,4639.25,null,"CHBTC1 MT PC",16.946999999999999,4516.21,null,null,null,null,null,null,null,null,null,null,"CHBTC1 MT PC",19.061,4780.3190000000004,null,"CHBTC1 MT PC",19.585999999999999,4637.7969999999987,null,"CHBTC1 MT PC",15.31,4153.6789999999992,null,null,null,null,null,null,null,null,null,null,null,null,"CHBTBUFF D24",0.75700000000000001,4811.3590000000004,null,"CHBTBUFF D24",0.79400000000000004,4749.848,null,"CHBTBUFF D24",0.80800000000000005,4686.0439999999999]
[null,null,null,null,null,null,null,null,null,null,null,"July",{"$f":"C55","v":16.414000000000001},{"$f":"C97","v":75.125},null,null,null,"CHBTBUFF D24",0.89,4656.16,null,"CHBTCAT2 D24",85.2,4613.7,null,"CHBTBUFF D24",0.91800000000000004,4623.57,null,null,null,null,null,null,null,null,null,"CHBTCAT1 PC",29.501000000000001,4468.6400000000003,null,"CHBTC1 MT PC",17.957000000000001,4639.25,null,"CHBTCAT1 PC",32.281999999999996,4516.21,null,null,null,null,null,null,null,null,null,null,"CHBTCAT1 PC",30.547999999999998,4780.3190000000004,null,"CHBTCAT1 PC",30.847000000000001,4637.7969999999987,null,"CHBTCAT1 PC",27.986999999999998,4153.6789999999992,null,null,null,null,null,null,null,null,null,null,null,null,"CHBTC1 MT PC",21.527000000000001,4811.3590000000004,null,"CHBTC1 MT PC",27.074000000000002,4749.848,null,"CHBTC1 MT PC",27.545999999999999,4686.0439999999999]
[null,null,null,null,null,null,null,null,null,null,null,"Aug",{"$f":"D55","v":16.34},{"$f":"D97","v":73.668000000000006},null,null,null,"CHBTC1 MT PC",19.21,4656.16,null,"CHBTCAT2 PC",2.0190000000000001,4613.7,null,"CHBTC1 MT PC",18.323,4623.57,null,null,null,null,null,null,null,null,null,"CHBTCAT2 D24",94.763999999999996,4468.6400000000003,null,"CHBTCAT1 PC",37.683,4639.25,null,"CHBTCAT2 D24",85.995000000000005,4516.21,null,null,null,null,null,null,null,null,null,null,"CHBTCAT2 D24",88.933999999999997,4780.3190000000004,null,"CHBTCAT2 D24",87.424999999999997,4637.7969999999987,null,"CHBTCAT2 D24",79.757000000000005,4153.6789999999992,null,null,null,null,null,null,null,null,null,null,null,null,"CHBTCAT1 PC",38.363999999999997,4811.3590000000004,null,"CHBTCAT1 PC",49.521999999999998,4749.848,null,"CHBTCAT1 PC",49.115000000000002,4686.0439999999999]
[null,null,null,null,null,null,null,null,null,null,null,"Sept",{"$f":"E55","v":15.744},{"$f":"E97","v":69.956999999999994},null,"Add into CCRUNIT 2E",null,"CHBTCAT1 PC",24.702000000000002,4656.16,null,"CHBTCAT3 D24",148.58799999999999,4613.7,null,"CHBTCAT1 PC",32.612000000000002,4623.57,null,null,null,null,null,null,null,null,null,"CHBTCAT2 PC",1.9470000000000001,4468.6400000000003,null,"CHBTCAT2 D24",89.641000000000005,4639.25,null,"CHBTCAT2 PC",1.766,4516.21,null,null,null,null,null,null,null,null,null,null,"CHBTCAT2 PC",1.758,4780.3190000000004,null,"CHBTCAT2 PC",1.7250000000000001,4637.7969999999987,null,"CHBTCAT2 PC",1.879,4153.6789999999992,null,null,null,null,null,null,null,null,null,null,null,null,"CHBTCAT2 D24",99.001999999999995,4811.3590000000004,null,"CHBTCAT2 D24",132.80799999999999,4749.848,null,"CHBTCAT2 D24",128.05000000000001,4686.0439999999999]
[null,null,null,null,null,null,null,null,null,null,null,"Oct",{"$f":"F55","v":16.196999999999999},{"$f":"F97","v":70.977999999999994},null,null,null,"CHBTCAT2 D24",92.72,4656.16,null,"DRY PINY MT",4.4279999999999999,4613.7,null,"CHBTCAT2 D24",88.691999999999993,4623.57,null,null,null,null,null,null,null,null,null,"CHBTCAT3 D24",149.892,4468.6400000000003,null,"CHBTCAT2 PC",1.8480000000000001,4639.25,null,"CHBTCAT3 D24",144.857,4516.21,null,null,null,null,null,null,null,null,null,null,"CHBTCAT3 D24",165.52,4780.3190000000004,null,"CHBTCAT3 D24",162.04,4637.7969999999987,null,"CHBTCAT3 D24",136.60900000000001,4153.6789999999992,null,null,null,null,null,null,null,null,null,null,null,null,"CHBTCAT2 PC",2.2650000000000001,4811.3590000000004,null,"CHBTCAT2 PC",2.7509999999999999,4749.848,null,"CHBTCAT2 PC",2.7559999999999998,4686.0439999999999]
[null,null,null,null,null,null,null,null,null,null,null,"Nov",{"$f":"G55","v":15.606},{"$f":"G97","v":67.484999999999999},null,null,null,"CHBTCAT2 PC",2.044,4656.16,null,"DRYPINY6 D24",1.2989999999999999,4613.7,null,"CHBTCAT2 PC",2.0289999999999999,4623.57,null,null,null,null,null,null,null,null,null,"DRY PINY MT",3.1859999999999999,4468.6400000000003,null,"CHBTCAT3 D24",153.88499999999999,4639.25,null,"DRY PINY MT",3.4140000000000001,4516.21,null,null,null,null,null,null,null,null,null,null,"DRY PINY MT",3.6789999999999998,4780.3190000000004,null,"DRY PINY MT",3.8079999999999998,4637.7969999999987,null,"DRY PINY MT",3.2149999999999999,4153.6789999999992,null,null,null,null,null,null,null,null,null,null,null,null,"CHBTCAT3 D24",178.32499999999999,4811.3590000000004,null,"CHBTCAT3 D24",193.929,4749.848,null,"CHBTCAT3 D24",200.58500000000001,4686.0439999999999]
[null,null,null,null,null,null,null,null,null,null,null,"Dec",{"$f":"H55","v":16.055},{"$f":"H97","v":68.55},null,null,null,"CHBTCAT3 D24",147.553,4656.16,null,"DRYPINY6 PC",1.06,4613.7,null,"CHBTCAT3 D24",153.06800000000001,4623.57,null,null,null,null,null,null,null,null,null,"DRYPINY6 D24",1.734,4468.6400000000003,null,"DRY PINY MT",3.5339999999999998,4639.25,null,"DRYPINY6 D24",1.3340000000000001,4516.21,null,null,null,null,null,null,null,null,null,null,"DRYPINY6 D24",1.9079999999999999,4780.3190000000004,null,"DRYPINY6 D24",1.8819999999999999,4637.7969999999987,null,"DRYPINY6 D24",1.54,4153.6789999999992,null,null,null,null,null,null,null,null,null,null,null,null,"DRY PINY MT",2.9449999999999998,4811.3590000000004,null,"DRY PINY MT",3.4470000000000001,4749.848,null,"DRY PINY MT",2.3980000000000001,4686.0439999999999]
[null,null,null,null,null,null,null,null,null,null,null,"Jan",{"$f":"I55","v":15.984},{"$f":"I97","v":67.418999999999997},null,null,null,"DRY PINY MT",4.069,4656.16,null,"DRYPINYU D24",1.944,4613.7,null,"DRY PINY MT",3.4929999999999999,4623.57,null,null,null,null,null,null,null,null,null,"DRYPINY6 PC",0.104,4468.6400000000003,null,"DRYPINY6 D24",1.6020000000000001,4639.25,null,"DRYPINY6 PC",0.113,4516.21,null,null,null,null,null,null,null,null,null,null,"DRYPINY6 PC",0.11,4780.3190000000004,null,"DRYPINY6 PC",0.114,4637.7969999999987,null,"DRYPINY6 PC",0.104,4153.6789999999992,null,null,null,null,null,null,null,null,null,null,null,null,"DRYPINY6 D24",1.244,4811.3590000000004,null,"DRYPINY6 D24",1.2509999999999999,4749.848,null,"DRYPINY6 D24",0.61,4686.0439999999999]
[null,null,null,null,null,null,null,null,null,null,null,"Feb",{"$f":"J55","v":14.372},{"$f":"J97","v":59.92},null,null,null,"DRYPINY6 D24",0.57899999999999996,4656.16,null,"DRYPINYU PC",10.789,4613.7,null,"DRYPINY6 D24",2.4369999999999998,4623.57,null,null,null,null,null,null,null,null,null,"DRYPINYU D24",2.3530000000000002,4468.6400000000003,null,"DRYPINY6 PC",0.11899999999999999,4639.25,null,"DRYPINYU D24",2.2349999999999999,4516.21,null,null,null,null,null,null,null,null,null,null,"DRYPINYU D24",2.2389999999999999,4780.3190000000004,null,"DRYPINYU D24",0.14000000000000001,4637.7969999999987,null,"DRYPINYU D24",0,4153.6789999999992,null,null,null,null,null,null,null,null,null,null,null,null,"DRYPINY6 PC",0.115,4811.3590000000004,null,"DRYPINY6 PC",0.109,4749.848,null,"DRYPINY6 PC",7.1999999999999995E-2,4686.0439999999999]
[null,null,null,null,null,null,null,null,null,null,null,"Mar",null,null,null,null,null,"DRYPINY6 PC",0.93799999999999994,4656.16,null,"FOGARTY PC",1.0069999999999999,4613.7,null,"DRYPINY6 PC",0.106,4623.57,null,null,null,null,null,null,null,null,null,"DRYPINYU PC",8.5679999999999996,4468.6400000000003,null,"DRYPINYU D24",2.3460000000000001,4639.25,null,"DRYPINYU PC",8.0229999999999997,4516.21,null,null,null,null,null,null,null,null,null,null,"DRYPINYU PC",9.5419999999999998,4780.3190000000004,null,"DRYPINYU PC",8.0579999999999998,4637.7969999999987,null,"DRYPINYU PC",7.58,4153.6789999999992,null,null,null,null,null,null,null,null,null,null,null,null,"DRYPINYU D24",0,4811.3590000000004,null,"DRYPINYU D24",0.78600000000000003,4749.848,null,"DRYPINYU D24",2.9649999999999999,4686.0439999999999]
[null,null,null,null,null,null,null,null,null,null,null,"Apr",null,null,"% Legacy","% Wexpro II",null,"DRYPINYU D24",1.8029999999999999,4656.16,null,"HWA DEEP D24",0.41599999999999998,4613.7,null,"DRYPINYU D24",2.3809999999999998,4623.57,null,null,null,null,null,null,null,null,null,"FOGARTY PC",0.873,4468.6400000000003,null,"DRYPINYU PC",8.6140000000000008,4639.25,null,"FOGARTY PC",0.24299999999999999,4516.21,null,null,null,null,null,null,null,null,null,null,"FOGARTY PC",0.21299999999999999,4780.3190000000004,null,"FOGARTY PC",0,4637.7969999999987,null,"FOGARTY PC",0,4153.6789999999992,null,null,null,null,null,null,null,null,null,null,null,null,"DRYPINYU PC",8.6470000000000002,4811.3590000000004,null,"DRYPINYU PC",8.8390000000000004,4749.848,null,"DRYPINYU PC",7.0170000000000003,4686.0439999999999]
[null,null,null,null,null,null,null,null,null,null,null,"May",null,null,{"$f":"M143/SUM(M143:N143)","v":0.17697171381031612},{"$f":"N143/SUM(M143:N143)","v":0.82302828618968382},null,"DRYPINYU PC",9.7379999999999995,4656.16,null,"HWA DEEP PC",6.0999999999999999E-2,4613.7,null,"DRYPINYU PC",8.7110000000000003,4623.57,null,null,null,null,null,null,null,null,null,"HWA DEEP D24",0.29399999999999998,4468.6400000000003,null,"FOGARTY PC",0.86399999999999999,4639.25,null,"HWA DEEP D24",0.47399999999999998,4516.21,null,null,null,null,null,null,null,null,null,null,"HWA DEEP D24",0.252,4780.3190000000004,null,"HWA DEEP D24",0.14799999999999999,4637.7969999999987,null,"HWA DEEP D24",0.21199999999999999,4153.6789999999992,null,null,null,null,null,null,null,null,null,null,null,null,"HWA DEEP D24",0.26,4811.3590000000004,null,"HWA DEEP D24",6.4000000000000001E-2,4749.848,null,"HWA DEEP D24",0.436,4686.0439999999999]
[null,null,null,null,null,null,null,null,null,null,null,null,null,null,0.17931155026819171,0.82068844973180832,null,"FOGARTY PC",1.1439999999999999,4656.16,null,"HWA MT",1.514,4613.7,null,"FOGARTY PC",0.96099999999999997,4623.57,null,null,null,null,null,null,null,null,null,"HWA DEEP PC",0.18,4468.6400000000003,null,"HWA MT",1.802,4639.25,null,"HWA DEEP PC",0.192,4516.21,null,null,null,null,null,null,null,null,null,null,"HWA DEEP PC",0.18099999999999999,4780.3190000000004,null,"HWA DEEP PC",0.255,4637.7969999999987,null,"HWA DEEP PC",0.20200000000000001,4153.6789999999992,null,null,null,null,null,null,null,null,null,null,null,null,"HWA DEEP PC",0.23899999999999999,4811.3590000000004,null,"HWA DEEP PC",3.3000000000000002E-2,4749.848,null,"HWA DEEP PC",0.20100000000000001,4686.0439999999999]
[null,null,null,null,null,null,null,null,null,null,null,null,null,null,0.18153941871833612,0.81846058128166388,null,"HWA DEEP D24",0.214,4656.16,null,"HWADEEPMTD24",10.356999999999999,4613.7,null,"HWA DEEP D24",0.30199999999999999,4623.57,null,null,null,null,null,null,null,null,null,"HWA MT",0.437,4468.6400000000003,null,"HWPL1&3MTD24",6.2930000000000001,4639.25,null,"HWA MT",0.93400000000000005,4516.21,null,null,null,null,null,null,null,null,null,null,"HWA MT",0.85299999999999998,4780.3190000000004,null,"HWA MT",0.46400000000000002,4637.7969999999987,null,"HWA MT",0.376,4153.6789999999992,null,null,null,null,null,null,null,null,null,null,null,null,"HWA MT",0.79700000000000004,4811.3590000000004,null,"HWA MT",0.58199999999999996,4749.848,null,"HWA MT",1.2350000000000001,4686.0439999999999]
[null,null,null,null,null,null,null,null,null,null,null,null,null,null,0.18370847481359612,0.81629152518640391,null,"HWA DEEP PC",0.125,4656.16,null,"HWPL1&3MTD24",4.5599999999999996,4613.7,null,"HWA DEEP PC",0.122,4623.57,null,null,null,null,null,null,null,null,null,"HWADEEPMTD24",14.619,4468.6400000000003,null,"HWPL1&3MTPC",6.58,4639.25,null,"HWADEEPMTD24",11.976000000000001,4516.21,null,null,null,null,null,null,null,null,null,null,"HWADEEPMTD24",15.093999999999999,4780.3190000000004,null,"HWADEEPMTD24",16.739999999999998,4637.7969999999987,null,"HWADEEPMTD24",13.638,4153.6789999999992,null,null,null,null,null,null,null,null,null,null,null,null,"HWADEEPMTD24",15.208,4811.3590000000004,null,"HWADEEPMTD24",9.3330000000000002,4749.848,null,"HWADEEPMTD24",13.785,4686.0439999999999]
[null,null,null,null,null,null,null,null,null,null,null,null,null,null,0.18579868081445369,0.81420131918554628,null,"HWA MT",1.087,4656.16,null,"HWPL1&3MTPC",5.84,4613.7,null,"HWA MT",1.3180000000000001,4623.57,null,null,null,null,null,null,null,null,null,"HWPL1&3MTD24",5.0579999999999998,4468.6400000000003,null,"HWPLT1&3 D24",57.463999999999999,4639.25,null,"HWPL1&3MTD24",7.6829999999999998,4516.21,null,null,null,null,null,null,null,null,null,null,"HWPL1&3MTD24",7.6719999999999997,4780.3190000000004,null,"HWPL1&3MTD24",7.0759999999999996,4637.7969999999987,null,"HWPL1&3MTD24",7.2830000000000004,4153.6789999999992,null,null,null,null,null,null,null,null,null,null,null,null,"HWPL1&3MTD24",7.5590000000000002,4811.3590000000004,null,"HWPL1&3MTD24",7.2380000000000004,4749.848,null,"HWPL1&3MTD24",7.5279999999999996,4686.0439999999999]
[null,null,null,null,null,null,null,null,null,null,null,null,null,null,0.18781817525363759,0.81218182474636247,null,"HWADEEPMTD24",12.411,4656.16,null,"HWPLT1&3 D24",47.183999999999997,4613.7,null,"HWADEEPMTD24",16.704000000000001,4623.57,null,null,null,null,null,null,null,null,null,"HWPL1&3MTPC",4.3,4468.6400000000003,null,"HWPLT1&3 PC",46.603000000000002,4639.25,null,"HWPL1&3MTPC",8.0009999999999994,4516.21,null,null,null,null,null,null,null,null,null,null,"HWPL1&3MTPC",7.2309999999999999,4780.3190000000004,null,"HWPL1&3MTPC",8.4740000000000002,4637.7969999999987,null,"HWPL1&3MTPC",7.1340000000000003,4153.6789999999992,null,null,null,null,null,null,null,null,null,null,null,null,"HWPL1&3MTPC",7.9429999999999996,4811.3590000000004,null,"HWPL1&3MTPC",7.6909999999999998,4749.848,null,"HWPL1&3MTPC",7.9029999999999996,4686.0439999999999]
[null,null,null,null,null,null,null,null,null,null,null,null,null,null,0.18976419833343186,0.81023580166656828,null,"HWPL1&3MTD24",7.899,4656.16,null,"HWPLT1&3 PC",5.1529999999999996,4613.7,null,"HWPL1&3MTD24",8.1029999999999998,4623.57,null,null,null,null,null,null,null,null,null,"HWPLT1&3 D24",60.012999999999998,4468.6400000000003,null,"HWPLT2 D24",4.1459999999999999,4639.25,null,"HWPLT1&3 D24",71.155000000000001,4516.21,null,null,null,null,null,null,null,null,null,null,"HWPLT1&3 D24",73.554000000000002,4780.3190000000004,null,"HWPLT1&3 D24",77.715000000000003,4637.7969999999987,null,"HWPLT1&3 D24",74.822000000000003,4153.6789999999992,null,null,null,null,null,null,null,null,null,null,null,null,"HWPLT1&3 D24",79.463999999999999,4811.3590000000004,null,"HWPLT1&3 D24",78.570999999999998,4749.848,null,"HWPLT1&3 D24",72.361000000000004,4686.0439999999999]
[null,null,null,null,null,null,null,null,null,null,null,null,null,null,0.1916477824538686,0.80835221754613151,null,"HWPL1&3MTPC",7.72,4656.16,null,"HWPLT2 D24",5.6319999999999997,4613.7,null,"HWPL1&3MTPC",7.5229999999999997,4623.57,null,null,null,null,null,null,null,null,null,"HWPLT1&3 PC",48.61,4468.6400000000003,null,"HWPLT2 PC",0.94399999999999995,4639.25,null,"HWPLT1&3 PC",52.655999999999999,4516.21,null,null,null,null,null,null,null,null,null,null,"HWPLT1&3 PC",53.567999999999998,4780.3190000000004,null,"HWPLT1&3 PC",48.497999999999998,4637.7969999999987,null,"HWPLT1&3 PC",40.808,4153.6789999999992,null,null,null,null,null,null,null,null,null,null,null,null,"HWPLT1&3 PC",46.085000000000001,4811.3590000000004,null,"HWPLT1&3 PC",56.835999999999999,4749.848,null,"HWPLT1&3 PC",57.554000000000002,4686.0439999999999]
[null,null,null,null,null,null,null,null,null,null,null,null,null,null,0.19345286168093467,0.80654713831906533,null,"HWPLT1&3 D24",60.701000000000001,4656.16,null,"HWPLT2 PC",0.78400000000000003,4613.7,null,"HWPLT1&3 D24",74.793000000000006,4623.57,null,null,null,null,null,null,null,null,null,"HWPLT2 D24",6.1159999999999997,4468.6400000000003,null,"HWPLT2MT D24",1.08,4639.25,null,"HWPLT2 D24",5.1710000000000003,4516.21,null,null,null,null,null,null,null,null,null,null,"HWPLT2 D24",8.6199999999999992,4780.3190000000004,null,"HWPLT2 D24",7.02,4637.7969999999987,null,"HWPLT2 D24",4.694,4153.6789999999992,null,null,null,null,null,null,null,null,null,null,null,null,"HWPLT2 D24",6.2160000000000002,4811.3590000000004,null,"HWPLT2 D24",1.9179999999999999,4749.848,null,"HWPLT2 D24",3.5880000000000001,4686.0439999999999]
[null,null,null,null,null,null,null,null,null,null,null,null,null,null,null,null,null,"HWPLT1&3 PC",14.976000000000001,4656.16,null,"HWPLT2MT D24",1.073,4613.7,null,"HWPLT1&3 PC",35.28,4623.57,null,null,null,null,null,null,null,null,null,"HWPLT2 PC",0.61,4468.6400000000003,null,"ISLAND D24",60.119,4639.25,null,"HWPLT2 PC",0.96,4516.21,null,null,null,null,null,null,null,null,null,null,"HWPLT2 PC",0.87,4780.3190000000004,null,"HWPLT2 PC",0.70499999999999996,4637.7969999999987,null,"HWPLT2 PC",0.64200000000000002,4153.6789999999992,null,null,null,null,null,null,null,null,null,null,null,null,"HWPLT2 PC",0.82499999999999996,4811.3590000000004,null,"HWPLT2 PC",0.77100000000000002,4749.848,null,"HWPLT2 PC",0.752,4686.0439999999999]
[null,null,null,null,null,null,null,null,null,null,null,null,null,null,null,null,null,"HWPLT2 D24",8.9410000000000007,4656.16,null,"ISLAND D24",43.097000000000001,4613.7,null,"HWPLT2 D24",10.005000000000001,4623.57,null,null,null,null,null,null,null,null,null,"HWPLT2MT D24",1.34,4468.6400000000003,null,"ISLAND PC",9.9000000000000005E-2,4639.25,null,"HWPLT2MT D24",1.2829999999999999,4516.21,null,null,null,null,null,null,null,null,null,null,"HWPLT2MT D24",1.2310000000000001,4780.3190000000004,null,"HWPLT2MT D24",1.343,4637.7969999999987,null,"HWPLT2MT D24",1.0589999999999999,4153.6789999999992,null,null,null,null,null,null,null,null,null,null,null,null,"HWPLT2MT D24",0.73099999999999998,4811.3590000000004,null,"HWPLT2MT D24",1.296,4749.848,null,"HWPLT2MT D24",1.298,4686.0439999999999]
[null,null,null,null,null,null,null,null,null,null,null,null,null,null,null,null,null,"HWPLT2 PC",0.80900000000000005,4656.16,null,"ISLAND PC",0.497,4613.7,null,"HWPLT2 PC",0.90600000000000003,4623.57,null,null,null,null,null,null,null,null,null,"ISLAND D24",42.639000000000003,4468.6400000000003,null,"JNSNRDG D24",2.9830000000000001,4639.25,null,"ISLAND D24",53.585999999999999,4516.21,null,null,null,null,null,null,null,null,null,null,"ISLAND D24",64.45,4780.3190000000004,null,"ISLAND D24",58.871000000000002,4637.7969999999987,null,"ISLAND D24",50.634999999999998,4153.6789999999992,null,null,null,null,null,null,null,null,null,null,null,null,"ISLAND D24",52.23,4811.3590000000004,null,"ISLAND D24",59.959000000000003,4749.848,null,"ISLAND D24",60.652000000000001,4686.0439999999999]
[null,null,null,null,null,null,null,null,null,null,null,null,null,null,null,null,null,"HWPLT2MT D24",1.256,4656.16,null,"JNSNRDG D24",3.181,4613.7,null,"HWPLT2MT D24",1.696,4623.57,null,null,null,null,null,null,null,null,null,"ISLAND PC",0.65,4468.6400000000003,null,"JNSNRDG PC",2.39,4639.25,null,"ISLAND PC",0.70099999999999996,4516.21,null,null,null,null,null,null,null,null,null,null,"ISLAND PC",0.49299999999999999,4780.3190000000004,null,"ISLAND PC",0.64100000000000001,4637.7969999999987,null,"ISLAND PC",0.55000000000000004,4153.6789999999992,null,null,null,null,null,null,null,null,null,null,null,null,"ISLAND PC",0.623,4811.3590000000004,null,"ISLAND PC",0.627,4749.848,null,"ISLAND PC",0.63800000000000001,4686.0439999999999]
[null,null,null,null,null,null,null,null,null,null,null,null,null,null,null,null,null,"ISLAND D24",49.442999999999998,4656.16,null,"JNSNRDG PC",3.0129999999999999,4613.7,null,"ISLAND D24",28.861000000000001,4623.57,null,null,null,null,null,null,null,null,null,"JNSNRDG D24",2.5790000000000002,4468.6400000000003,null,"JRDG WFS D24",3.262,4639.25,null,"JNSNRDG D24",2.2330000000000001,4516.21,null,null,null,null,null,null,null,null,null,null,"JNSNRDG D24",0.41399999999999998,4780.3190000000004,null,"JNSNRDG D24",0,4637.7969999999987,null,"JNSNRDG D24",0,4153.6789999999992,null,null,null,null,null,null,null,null,null,null,null,null,"JRDG WFS D24",0,4811.3590000000004,null,"JRDG WFS D24",0,4749.848,null,"JRDG WFS D24",2.9000000000000001E-2,4686.0439999999999]
[null,null,null,null,null,null,null,null,null,null,null,null,null,null,null,null,null,"ISLAND PC",0.66600000000000004,4656.16,null,"JRDG WFS D24",4.266,4613.7,null,"ISLAND PC",0.41799999999999998,4623.57,null,null,null,null,null,null,null,null,null,"JNSNRDG PC",2.391,4468.6400000000003,null,"KNY FLD D24",13.446999999999999,4639.25,null,"JNSNRDG PC",2.2309999999999999,4516.21,null,null,null,null,null,null,null,null,null,null,"JNSNRDG PC",0.42199999999999999,4780.3190000000004,null,"JNSNRDG PC",0,4637.7969999999987,null,"JNSNRDG PC",0,4153.6789999999992,null,null,null,null,null,null,null,null,null,null,null,null,"KNY FLD D24",3.4569999999999999,4811.3590000000004,null,"KNY FLD D24",5.2329999999999997,4749.848,null,"KNY FLD D24",8.1210000000000004,4686.0439999999999]
[null,null,null,null,null,null,null,null,null,null,null,null,null,null,null,null,null,"JNSNRDG D24",5.6360000000000001,4656.16,null,"KNY FLD D24",10.305999999999999,4613.7,null,"JNSNRDG D24",2.7709999999999999,4623.57,null,null,null,null,null,null,null,null,null,"JRDG WFS D24",3.6459999999999999,4468.6400000000003,null,"KNY FLD D8",16.718,4639.25,null,"JRDG WFS D24",2.5550000000000002,4516.21,null,null,null,null,null,null,null,null,null,null,"JRDG WFS D24",0.38200000000000001,4780.3190000000004,null,"JRDG WFS D24",0,4637.7969999999987,null,"JRDG WFS D24",0,4153.6789999999992,null,null,null,null,null,null,null,null,null,null,null,null,"KNY FLD PC",3.5609999999999999,4811.3590000000004,null,"KNY FLD PC",2.286,4749.848,null,"KNY FLD PC",2.8479999999999999,4686.0439999999999]
[null,null,null,null,null,null,null,null,null,null,null,null,null,null,null,null,null,"JNSNRDG PC",3.5609999999999999,4656.16,null,"KNY FLD D8",23.905999999999999,4613.7,null,"JNSNRDG PC",2.274,4623.57,null,null,null,null,null,null,null,null,null,"KNY FLD D24",13.936999999999999,4468.6400000000003,null,"KNY FLD PC",3.7130000000000001,4639.25,null,"KNY FLD D24",4.33,4516.21,null,null,null,null,null,null,null,null,null,null,"KNY FLD D24",4.6429999999999998,4780.3190000000004,null,"KNY FLD D24",3.7229999999999999,4637.7969999999987,null,"KNY FLD D24",3.847,4153.6789999999992,null,null,null,null,null,null,null,null,null,null,null,null,"MESA D24",505.75400000000002,4811.3590000000004,null,"MESA D24",481.13099999999997,4749.848,null,"MESA D24",496.33,4686.0439999999999]
[null,null,null,null,null,null,null,null,null,null,null,null,null,null,null,null,null,"JRDG WFS D24",6.3550000000000004,4656.16,null,"MESA D24",617.21100000000001,4613.7,null,"JRDG WFS D24",3.3340000000000001,4623.57,null,null,null,null,null,null,null,null,null,"KNY FLD D8",16.765000000000001,4468.6400000000003,null,"MESA D24",578.08299999999997,4639.25,null,"KNY FLD D8",1.1040000000000001,4516.21,null,null,null,null,null,null,null,null,null,null,"KNY FLD D8",0,4780.3190000000004,null,"KNY FLD D8",0,4637.7969999999987,null,"KNY FLD D8",0,4153.6789999999992,null,null,null,null,null,null,null,null,null,null,null,null,"MESA D8",305.798,4811.3590000000004,null,"MESA D8",282.161,4749.848,null,"MESA D8",285.13900000000001,4686.0439999999999]
[null,null,null,null,null,null,null,null,null,null,null,null,null,null,null,null,null,"KNY FLD D24",4.1050000000000004,4656.16,null,"MESA D8",313.03800000000001,4613.7,null,"KNY FLD D24",17.815999999999999,4623.57,null,null,null,null,null,null,null,null,null,"KNY FLD PC",3.4990000000000001,4468.6400000000003,null,"MESA D8",285.50700000000001,4639.25,null,"KNY FLD PC",3.456,4516.21,null,null,null,null,null,null,null,null,null,null,"KNY FLD PC",2.1760000000000002,4780.3190000000004,null,"KNY FLD PC",2.726,4637.7969999999987,null,"KNY FLD PC",2.33,4153.6789999999992,null,null,null,null,null,null,null,null,null,null,null,null,"MOSU MT",0.41199999999999998,4811.3590000000004,null,"MOSU MT",0.65200000000000002,4749.848,null,"MOSU MT",0.33600000000000002,4686.0439999999999]
[null,null,null,null,null,null,null,null,null,null,null,null,null,null,null,null,null,"KNY FLD D8",22.486000000000001,4656.16,null,"MOSU MT",0.624,4613.7,null,"KNY FLD D8",19.582000000000001,4623.57,null,null,null,null,null,null,null,null,null,"MESA D24",570.71799999999996,4468.6400000000003,null,"MOSU MT",1.2010000000000001,4639.25,null,"MESA D24",542.85500000000002,4516.21,null,null,null,null,null,null,null,null,null,null,"MESA D24",545.57899999999995,4780.3190000000004,null,"MESA D24",500.28899999999999,4637.7969999999987,null,"MESA D24",480.12200000000001,4153.6789999999992,null,null,null,null,null,null,null,null,null,null,null,null,"MOSUMT D24",0.93700000000000006,4811.3590000000004,null,"MOSUMT D24",0.92,4749.848,null,"MOSUMT D24",1.0009999999999999,4686.0439999999999]
[null,null,null,null,null,null,null,null,null,null,null,null,null,null,null,null,null,"KNY FLD PC",0.75,4656.16,null,"MOSUMT D24",0.98799999999999999,4613.7,null,"KNY FLD PC",2.468,4623.57,null,null,null,null,null,null,null,null,null,"MESA D8",280.18599999999998,4468.6400000000003,null,"MOSUMT D24",1.9319999999999999,4639.25,null,"MESA D8",274.71199999999999,4516.21,null,null,null,null,null,null,null,null,null,null,"MESA D8",409.73500000000001,4780.3190000000004,null,"MESA D8",316.19600000000003,4637.7969999999987,null,"MESA D8",287.47399999999999,4153.6789999999992,null,null,null,null,null,null,null,null,null,null,null,null,"MOSUMT PC",7.4409999999999998,4811.3590000000004,null,"MOSUMT PC",6.3369999999999997,4749.848,null,"MOSUMT PC",7.0339999999999998,4686.0439999999999]
[null,null,null,null,null,null,null,null,null,null,null,null,null,null,null,null,null,"MESA D24",602.34100000000001,4656.16,null,"MOSUMT PC",2.7589999999999999,4613.7,null,"MESA D24",602.447,4623.57,null,null,null,null,null,null,null,null,null,"MOSU MT",0.78,4468.6400000000003,null,"MOSUMT PC",5.3449999999999998,4639.25,null,"MOSU MT",1.216,4516.21,null,null,null,null,null,null,null,null,null,null,"MOSU MT",0.52900000000000003,4780.3190000000004,null,"MOSU MT",0.23499999999999999,4637.7969999999987,null,"MOSU MT",0.47699999999999998,4153.6789999999992,null,null,null,null,null,null,null,null,null,null,null,null,"NOBXFLD PC",0,4811.3590000000004,null,"NOBXFLD PC",0,4749.848,null,"NOBXFLD PC",0,4686.0439999999999]
[null,null,null,null,null,null,null,null,null,null,null,null,null,null,null,null,null,"MESA D8",309.13099999999997,4656.16,null,"PDW MT",169.673,4613.7,null,"MESA D8",292.53199999999998,4623.57,null,null,null,null,null,null,null,null,null,"MOSUMT D24",1.046,4468.6400000000003,null,"NBXCAMP PC",4.2,4639.25,null,"MOSUMT D24",1.7390000000000001,4516.21,null,null,null,null,null,null,null,null,null,null,"MOSUMT D24",3.1819999999999999,4780.3190000000004,null,"MOSUMT D24",1.1739999999999999,4637.7969999999987,null,"MOSUMT D24",0.86599999999999999,4153.6789999999992,null,null,null,null,null,null,null,null,null,null,null,null,"PDW MT",167.77099999999999,4811.3590000000004,null,"PDW MT",150.672,4749.848,null,"PDW MT",149.64400000000001,4686.0439999999999]
[null,null,null,null,null,null,null,null,null,null,null,null,null,null,null,null,null,"MOSU MT",0.36199999999999999,4656.16,null,"PDW1A1B D21",0.108,4613.7,null,"MOSU MT",0.70299999999999996,4623.57,null,null,null,null,null,null,null,null,null,"MOSUMT PC",4.4210000000000003,4468.6400000000003,null,"NOBXFLD PC",4.7030000000000003,4639.25,null,"MOSUMT PC",8.0079999999999991,4516.21,null,null,null,null,null,null,null,null,null,null,"MOSUMT PC",6.1660000000000004,4780.3190000000004,null,"MOSUMT PC",5.7009999999999996,4637.7969999999987,null,"MOSUMT PC",5.5439999999999996,4153.6789999999992,null,null,null,null,null,null,null,null,null,null,null,null,"PDW1A1B D21",0.187,4811.3590000000004,null,"PDW1A1B D21",4.7E-2,4749.848,null,"PDW1A1B D21",3.5000000000000003E-2,4686.0439999999999]
[null,null,null,null,null,null,null,null,null,null,null,null,null,null,null,null,null,"MOSUMT D24",0.69,4656.16,null,"PDW1AB MT PC",2.7490000000000001,4613.7,null,"MOSUMT D24",1.258,4623.57,null,null,null,null,null,null,null,null,null,"NBXCAMP PC",4.2859999999999996,4468.6400000000003,null,"PDW MT",153.37899999999999,4639.25,null,"NBXCAMP PC",4.2009999999999996,4516.21,null,null,null,null,null,null,null,null,null,null,"NBXCAMP PC",3.4969999999999999,4780.3190000000004,null,"NBXCAMP PC",0,4637.7969999999987,null,"NBXCAMP PC",0,4153.6789999999992,null,null,null,null,null,null,null,null,null,null,null,null,"PDW1A1B D24",0.438,4811.3590000000004,null,"PDW1A1B D24",0.54200000000000004,4749.848,null,"PDW1A1B D24",0.58099999999999996,4686.0439999999999]
[null,null,null,null,null,null,null,null,null,null,null,null,null,null,null,null,null,"MOSUMT PC",7.02,4656.16,null,"PDWCUT PC",3.4000000000000002E-2,4613.7,null,"MOSUMT PC",8.4169999999999998,4623.57,null,null,null,null,null,null,null,null,null,"NOBXFLD PC",3.1,4468.6400000000003,null,"PDW1A1B D24",0.76900000000000002,4639.25,null,"NOBXFLD PC",3.8359999999999999,4516.21,null,null,null,null,null,null,null,null,null,null,"NOBXFLD PC",1.137,4780.3190000000004,null,"NOBXFLD PC",0,4637.7969999999987,null,"NOBXFLD PC",0,4153.6789999999992,null,null,null,null,null,null,null,null,null,null,null,null,"PDW1AB MT PC",1.4590000000000001,4811.3590000000004,null,"PDW1AB MT PC",0.22900000000000001,4749.848,null,"PDW1AB MT PC",0.96599999999999997,4686.0439999999999]
[null,null,null,null,null,null,null,null,null,null,null,null,null,null,null,null,null,"NOBXFLD PC",0.14499999999999999,4656.16,null,"PDWMT D24",19.707000000000001,4613.7,null,"NBXCAMP PC",5.3760000000000003,4623.57,null,null,null,null,null,null,null,null,null,"PDW MT",110.934,4468.6400000000003,null,"PDW1AB MT PC",4.7249999999999996,4639.25,null,"PDW MT",172.99199999999999,4516.21,null,"NBXCAMP PC",null,null,null,null,null,null,null,null,"PDW MT",174.595,4780.3190000000004,null,"PDW MT",180.47499999999999,4637.7969999999987,null,"PDW MT",157.39099999999999,4153.6789999999992,null,null,null,null,null,null,null,null,null,null,null,null,"PDW1A1B PC",0.69299999999999995,4811.3590000000004,null,"PDW1A1B PC",0.10299999999999999,4749.848,null,"PDW1A1B PC",0.20599999999999999,4686.0439999999999]
[null,null,null,null,null,null,null,null,null,null,null,null,null,null,null,null,null,"PDW MT",189.286,4656.16,null,"PDWPLT2 D24",3.8769999999999998,4613.7,null,"NOBXFLD PC",5.4669999999999996,4623.57,null,null,null,null,null,null,null,null,null,"PDW1A1B D21",2.3E-2,4468.6400000000003,null,"PDWMT D24",16.5,4639.25,null,"PDW1A1B D21",0.76900000000000002,4516.21,null,"NOBXFLD PC",null,null,null,null,null,null,null,null,"PDW1A1B D21",0.54300000000000004,4780.3190000000004,null,"PDW1A1B D21",0.156,4637.7969999999987,null,"PDW1A1B D21",5.5E-2,4153.6789999999992,null,null,null,null,null,null,null,null,null,null,null,null,"PDWCUT D24",1.181,4811.3590000000004,null,"PDWCUT D24",6.5000000000000002E-2,4749.848,null,"PDWCUT D24",0.13100000000000001,4686.0439999999999]
[null,null,null,null,null,null,null,null,null,null,null,null,null,null,null,null,null,"PDW1A1B D21",0.85499999999999998,4656.16,null,"PDWPLT2 PC",4.2990000000000004,4613.7,null,"PDW MT",142.19999999999999,4623.57,null,null,null,null,null,null,null,null,null,"PDW1A1B D24",0.76200000000000001,4468.6400000000003,null,"PDWPLT2 D24",3.3079999999999998,4639.25,null,"PDW1A1B D24",0.69399999999999995,4516.21,null,"OFF SYS D24",null,null,null,null,null,null,null,null,"PDW1A1B D24",0.60499999999999998,4780.3190000000004,null,"PDW1A1B D24",0.56399999999999995,4637.7969999999987,null,"PDW1A1B D24",0.433,4153.6789999999992,null,null,null,null,null,null,null,null,null,null,null,null,"PDWCUT PC",1.0169999999999999,4811.3590000000004,null,"PDWCUT PC",9.1999999999999998E-2,4749.848,null,"PDWCUT PC",0,4686.0439999999999]
[null,null,null,null,null,null,null,null,null,null,null,null,null,null,null,null,null,"PDW1A1B D24",0.05,4656.16,null,"PDWPLT3 PC",4.09,4613.7,null,"PDW1A1B D21",0.47699999999999998,4623.57,null,null,null,null,null,null,null,null,null,"PDW1AB MT PC",3.1080000000000001,4468.6400000000003,null,"PDWPLT2 PC",3.875,4639.25,null,"PDW1AB MT PC",4.843,4516.21,null,"OFF SYS PC",null,null,null,null,null,null,null,null,"PDW1AB MT PC",3.85,4780.3190000000004,null,"PDW1AB MT PC",3.9529999999999998,4637.7969999999987,null,"PDW1AB MT PC",1.8879999999999999,4153.6789999999992,null,null,null,null,null,null,null,null,null,null,null,null,"PDWMT D24",23.367999999999999,4811.3590000000004,null,"PDWMT D24",22.504999999999999,4749.848,null,"PDWMT D24",20.456,4686.0439999999999]
[null,null,null,null,null,null,null,null,null,null,null,null,null,null,null,null,null,"PDW1AB MT PC",3.9940000000000002,4656.16,null,"TRAIL 2D8",66.444999999999993,4613.7,null,"PDW1A1B D24",0.94199999999999995,4623.57,null,null,null,null,null,null,null,null,null,"PDWMT D24",15.73,4468.6400000000003,null,"PDWPLT3 PC",5.0019999999999998,4639.25,null,"PDW1A1B PC",0.76900000000000002,4516.21,null,"OFF SYS PW",null,null,null,null,null,null,null,null,"PDW1A1B PC",0.85599999999999998,4780.3190000000004,null,"PDW1A1B PC",1.9139999999999999,4637.7969999999987,null,"PDW1A1B PC",0.39900000000000002,4153.6789999999992,null,null,null,null,null,null,null,null,null,null,null,null,"PDWPLT2 D24",4.3330000000000002,4811.3590000000004,null,"PDWPLT2 D24",4.0579999999999998,4749.848,null,"PDWPLT2 D24",4.1760000000000002,4686.0439999999999]
[null,null,null,null,null,null,null,null,null,null,null,null,null,null,null,null,null,"PDW1A1B PC",0.19400000000000001,4656.16,null,"TRAIL 2E",340.89699999999999,4613.7,null,"PDW1AB MT PC",4.5810000000000004,4623.57,null,null,null,null,null,null,null,null,null,"PDWPLT2 D24",2.3969999999999998,4468.6400000000003,null,"SGRLF D24",1.657,4639.25,null,"PDWCUT D24",2.37,4516.21,null,null,null,null,null,null,null,null,null,null,"PDWCUT D24",1.8520000000000001,4780.3190000000004,null,"PDWCUT D24",1.728,4637.7969999999987,null,"PDWCUT D24",1.38,4153.6789999999992,null,null,null,null,null,null,null,null,null,null,null,null,"PDWPLT2 PC",5.15,4811.3590000000004,null,"PDWPLT2 PC",4.8819999999999997,4749.848,null,"PDWPLT2 PC",5.2039999999999997,4686.0439999999999]
[null,null,null,null,null,null,null,null,null,null,null,null,null,null,null,null,null,"PDWCUT D24",9.9000000000000005E-2,4656.16,null,"TRAIL 2E MT",48.061999999999998,4613.7,null,"PDWMT D24",13.53,4623.57,null,null,null,null,null,null,null,null,null,"PDWPLT2 PC",3.9020000000000001,4468.6400000000003,null,"SGRLF PC",40.835000000000001,4639.25,null,"PDWCUT PC",1.288,4516.21,null,null,null,null,null,null,null,null,null,null,"PDWCUT PC",1.6040000000000001,4780.3190000000004,null,"PDWCUT PC",1.786,4637.7969999999987,null,"PDWCUT PC",0.24,4153.6789999999992,null,null,null,null,null,null,null,null,null,null,null,null,"PDWPLT3 PC",4.5179999999999998,4811.3590000000004,null,"PDWPLT3 PC",4.2450000000000001,4749.848,null,"PDWPLT3 PC",5.4020000000000001,4686.0439999999999]
[null,null,null,null,null,null,null,null,null,null,null,null,null,null,null,null,null,"PDWCUT PC",0.68600000000000005,4656.16,null,"TRAIL D24",311.73,4613.7,null,"PDWPLT2 D24",3.7170000000000001,4623.57,null,null,null,null,null,null,null,null,null,"PDWPLT3 PC",4.3259999999999996,4468.6400000000003,null,"SGRLFMT D24",20.207000000000001,4639.25,null,"PDWMT D24",18.518999999999998,4516.21,null,null,null,null,null,null,null,null,null,null,"PDWMT D24",19.297999999999998,4780.3190000000004,null,"PDWMT D24",22.411999999999999,4637.7969999999987,null,"PDWMT D24",19.864000000000001,4153.6789999999992,null,null,null,null,null,null,null,null,null,null,null,null,"SGRLF D24",1.0189999999999999,4811.3590000000004,null,"SGRLF D24",1.5720000000000001,4749.848,null,"SGRLF D24",2.1589999999999998,4686.0439999999999]
[null,null,null,null,null,null,null,null,null,null,null,null,null,null,null,null,null,"PDWMT D24",21.538,4656.16,null,"TRAIL D8",72.95,4613.7,null,"PDWPLT2 PC",4.3150000000000004,4623.57,null,null,null,null,null,null,null,null,null,"SGRLF D24",1.7749999999999999,4468.6400000000003,null,"TRAIL 2D8",78.106999999999999,4639.25,null,"PDWPLT2 D24",3.383,4516.21,null,null,null,null,null,null,null,null,null,null,"PDWPLT2 D24",4.1340000000000003,4780.3190000000004,null,"PDWPLT2 D24",4.1349999999999998,4637.7969999999987,null,"PDWPLT2 D24",4.8810000000000002,4153.6789999999992,null,null,null,null,null,null,null,null,null,null,null,null,"SGRLF PC",33.590000000000003,4811.3590000000004,null,"SGRLF PC",34.68,4749.848,null,"SGRLF PC",36.476999999999997,4686.0439999999999]
[null,null,null,null,null,null,null,null,null,null,null,null,null,null,null,null,null,"PDWPLT2 D24",4.9359999999999999,4656.16,null,"TRAIL Q50",0.84099999999999997,4613.7,null,"PDWPLT3 PC",5.8280000000000003,4623.57,null,null,null,null,null,null,null,null,null,"SGRLF PC",42.427999999999997,4468.6400000000003,null,"TRAIL 2E",322.50200000000001,4639.25,null,"PDWPLT2 PC",5.0789999999999997,4516.21,null,null,null,null,null,null,null,null,null,null,"PDWPLT2 PC",4.375,4780.3190000000004,null,"PDWPLT2 PC",3.5880000000000001,4637.7969999999987,null,"PDWPLT2 PC",3.7029999999999998,4153.6789999999992,null,null,null,null,null,null,null,null,null,null,null,null,"SGRLFMT D24",12.981999999999999,4811.3590000000004,null,"SGRLFMT D24",13.638999999999999,4749.848,null,"SGRLFMT D24",13.494999999999999,4686.0439999999999]
[null,null,null,null,null,null,null,null,null,null,null,null,null,null,null,null,null,"PDWPLT2 PC",4.8120000000000003,4656.16,null,"TRAILMT D24",48.633000000000003,4613.7,null,"SGRLF D24",1.901,4623.57,null,null,null,null,null,null,null,null,null,"SGRLFMT D24",17.433,4468.6400000000003,null,"TRAIL 2E MT",46.5,4639.25,null,"PDWPLT3 PC",5.1379999999999999,4516.21,null,null,null,null,null,null,null,null,null,null,"PDWPLT3 PC",4.8419999999999996,4780.3190000000004,null,"PDWPLT3 PC",4.0270000000000001,4637.7969999999987,null,"PDWPLT3 PC",3.8370000000000002,4153.6789999999992,null,null,null,null,null,null,null,null,null,null,null,null,"TRAIL 2D8",273.28699999999998,4811.3590000000004,null,"TRAIL 2D8",257.50599999999997,4749.848,null,"TRAIL 2D8",271.66199999999998,4686.0439999999999]
[null,null,null,null,null,null,null,null,null,null,null,null,null,null,null,null,null,"PDWPLT3 PC",5.4909999999999997,4656.16,null,"WHISKEY MT",22.248999999999999,4613.7,null,"SGRLF PC",34.311999999999998,4623.57,null,null,null,null,null,null,null,null,null,"TRAIL 2D8",78.091999999999999,4468.6400000000003,null,"TRAIL D24",295.459,4639.25,null,"SGRLF D24",1.234,4516.21,null,null,null,null,null,null,null,null,null,null,"SGRLF D24",1.89,4780.3190000000004,null,"SGRLF D24",1.7949999999999999,4637.7969999999987,null,"SGRLF D24",1.083,4153.6789999999992,null,null,null,null,null,null,null,null,null,null,null,null,"TRAIL 2E",293.50700000000001,4811.3590000000004,null,"TRAIL 2E",284.02100000000002,4749.848,null,"TRAIL 2E",268.38400000000001,4686.0439999999999]
[null,null,null,null,null,null,null,null,null,null,null,null,null,null,null,null,null,"SGRLF D24",0.16200000000000001,4656.16,null,"WHISKEYC 2E",81.043999999999997,4613.7,null,"SGRLFMT D24",9.0519999999999996,4623.57,null,null,null,null,null,null,null,null,null,"TRAIL 2E",296.83999999999997,4468.6400000000003,null,"TRAIL D8",89.78,4639.25,null,"SGRLF PC",38.25,4516.21,null,null,null,null,null,null,null,null,null,null,"SGRLF PC",34.411999999999999,4780.3190000000004,null,"SGRLF PC",37.165999999999997,4637.7969999999987,null,"SGRLF PC",31.065999999999999,4153.6789999999992,null,null,null,null,null,null,null,null,null,null,null,null,"TRAIL 2E MT",42.844999999999999,4811.3590000000004,null,"TRAIL 2E MT",41.29,4749.848,null,"TRAIL 2E MT",37.030999999999999,4686.0439999999999]
[null,null,null,null,null,null,null,null,null,null,null,null,null,null,null,null,null,"SGRLF PC",3.5089999999999999,4656.16,null,"WHLA D24",31.157,4613.7,null,"TRAIL 2D8",84.835999999999999,4623.57,null,null,null,null,null,null,null,null,null,"TRAIL 2E MT",44.125,4468.6400000000003,null,"TRAIL PC",1.0669999999999999,4639.25,null,"SGRLFMT D24",17.596,4516.21,null,null,null,null,null,null,null,null,null,null,"SGRLFMT D24",15.266999999999999,4780.3190000000004,null,"SGRLFMT D24",15.37,4637.7969999999987,null,"SGRLFMT D24",12.667,4153.6789999999992,null,null,null,null,null,null,null,null,null,null,null,null,"TRAIL D24",268.07499999999999,4811.3590000000004,null,"TRAIL D24",261.67399999999998,4749.848,null,"TRAIL D24",243.62,4686.0439999999999]
[null,null,null,null,null,null,null,null,null,null,null,null,null,null,null,null,null,"SGRLFMT D24",1.329,4656.16,null,"WHLA PC",8.9079999999999995,4613.7,null,"TRAIL 2E",319.13299999999998,4623.57,null,null,null,null,null,null,null,null,null,"TRAIL D24",275.29599999999999,4468.6400000000003,null,"TRAIL Q50",2.1949999999999998,4639.25,null,"TRAIL 2D8",73.305000000000007,4516.21,null,null,null,null,null,null,null,null,null,null,"TRAIL 2D8",67.069000000000003,4780.3190000000004,null,"TRAIL 2D8",66.902000000000001,4637.7969999999987,null,"TRAIL 2D8",57.805999999999997,4153.6789999999992,null,null,null,null,null,null,null,null,null,null,null,null,"TRAIL D8",231.57499999999999,4811.3590000000004,null,"TRAIL D8",221.67699999999999,4749.848,null,"TRAIL D8",232.28100000000001,4686.0439999999999]
[null,null,null,null,null,null,null,null,null,null,null,null,null,null,null,null,null,"TRAIL 2D8",64.460999999999999,4656.16,null,"WWILSON D24",2.1869999999999998,4613.7,null,"TRAIL 2E MT",46.435000000000002,4623.57,null,null,null,null,null,null,null,null,null,"TRAIL D8",79.548000000000002,4468.6400000000003,null,"TRAILMT D24",47.05,4639.25,null,"TRAIL 2E",322.28699999999998,4516.21,null,null,null,null,null,null,null,null,null,null,"TRAIL 2E",293.149,4780.3190000000004,null,"TRAIL 2E",313.017,4637.7969999999987,null,"TRAIL 2E",276.67500000000001,4153.6789999999992,null,null,null,null,null,null,null,null,null,null,null,null,"TRAIL PC",1.0640000000000001,4811.3590000000004,null,"TRAIL PC",0.88800000000000001,4749.848,null,"TRAIL PC",0.93100000000000005,4686.0439999999999]
[null,null,null,null,null,null,null,null,null,null,null,null,null,null,null,null,null,"TRAIL 2E",338.83600000000001,4656.16,null,"WWILSON PC",0.88900000000000001,4613.7,null,"TRAIL D24",297.25900000000001,4623.57,null,null,null,null,null,null,null,null,null,"TRAIL PC",1.089,4468.6400000000003,null,"WHISKEY MT",23.782,4639.25,null,"TRAIL 2E MT",42.956000000000003,4516.21,null,null,null,null,null,null,null,null,null,null,"TRAIL 2E MT",40.779000000000003,4780.3190000000004,null,"TRAIL 2E MT",46.137999999999998,4637.7969999999987,null,"TRAIL 2E MT",41.573,4153.6789999999992,null,null,null,null,null,null,null,null,null,null,null,null,"TRAIL Q50",0.625,4811.3590000000004,null,"TRAIL Q50",1.6559999999999999,4749.848,null,"TRAIL Q50",1.466,4686.0439999999999]
[null,null,null,null,null,null,null,null,null,null,null,null,null,null,null,null,null,"TRAIL 2E MT",46.085000000000001,4656.16,null,"TRAIL D8",86.281000000000006,4613.7,null,"TRAIL D8",85.603999999999999,4623.57,null,null,null,null,null,null,null,null,null,"TRAIL Q50",2.57,4468.6400000000003,null,"WHISKEYC 2E",78.826999999999998,4639.25,null,"TRAIL D24",292.786,4516.21,null,null,null,null,null,null,null,null,null,null,"TRAIL D24",271.25700000000001,4780.3190000000004,null,"TRAIL D24",284.82799999999997,4637.7969999999987,null,"TRAIL D24",252.858,4153.6789999999992,null,null,null,null,null,null,null,null,null,null,null,null,"TRAILMT D24",43.345999999999997,4811.3590000000004,null,"TRAILMT D24",41.773000000000003,4749.848,null,"TRAILMT D24",37.466000000000001,4686.0439999999999]
[null,null,null,null,null,null,null,null,null,null,null,null,null,null,null,null,null,"TRAIL D24",310.99599999999998,4656.16,null,"TRAIL 2D8",171.56,4613.7,null,"TRAIL PC",1.3420000000000001,4623.57,null,null,null,null,null,null,null,null,null,"TRAILMT D24",44.634,4468.6400000000003,null,"WHLA D24",36.173000000000002,4639.25,null,"TRAIL D8",85.388000000000005,4516.21,null,null,null,null,null,null,null,null,null,null,"TRAIL D8",191.339,4780.3190000000004,null,"TRAIL D8",189.851,4637.7969999999987,null,"TRAIL D8",182.21299999999999,4153.6789999999992,null,null,null,null,null,null,null,null,null,null,null,null,"WHISKEY MT",19.082999999999998,4811.3590000000004,null,"WHISKEY MT",18.152000000000001,4749.848,null,"WHISKEY MT",22.231000000000002,4686.0439999999999]
[null,null,null,null,null,null,null,null,null,null,null,null,null,null,null,null,null,"TRAIL D8",69.400000000000006,4656.16,null,"MESA D8",154.13999999999999,4613.7,null,"TRAIL Q50",2.798,4623.57,null,null,null,null,null,null,null,null,null,"WHISKEY MT",13.061999999999999,4468.6400000000003,null,"WHLA PC",3.98,4639.25,null,"TRAIL PC",1.04,4516.21,null,null,null,null,null,null,null,null,null,null,"TRAIL PC",0.73799999999999999,4780.3190000000004,null,"TRAIL PC",1.0029999999999999,4637.7969999999987,null,"TRAIL PC",0.83099999999999996,4153.6789999999992,null,null,null,null,null,null,null,null,null,null,null,null,"WHISKEYC 2E",102.77200000000001,4811.3590000000004,null,"WHISKEYC 2E",72.353999999999999,4749.848,null,"WHISKEYC 2E",74.322000000000003,4686.0439999999999]
[null,null,null,null,null,null,null,null,null,null,null,null,null,null,null,null,null,"TRAIL PC",0.316,4656.16,null,null,null,null,null,"TRAILMT D24",46.975000000000001,4623.57,null,null,null,null,null,null,null,null,null,"WHISKEYC 2E",57.470999999999997,4468.6400000000003,null,"WWILSON D24",2.1019999999999999,4639.25,null,"TRAIL Q50",1.9079999999999999,4516.21,null,null,null,null,null,null,null,null,null,null,"TRAIL Q50",2.0790000000000002,4780.3190000000004,null,"TRAIL Q50",1.607,4637.7969999999987,null,"TRAIL Q50",1.627,4153.6789999999992,null,null,null,null,null,null,null,null,null,null,null,null,"WHLA D24",33.344000000000001,4811.3590000000004,null,"WHLA D24",31.178999999999998,4749.848,null,"WHLA D24",30.594999999999999,4686.0439999999999]
[null,null,null,null,null,null,null,null,null,null,null,null,null,null,null,null,null,"TRAIL Q50",0.11600000000000001,4656.16,null,null,null,null,null,"WHISKEY MT",14.599,4623.57,null,null,null,null,null,null,null,null,null,"WHLA D24",36.457999999999998,4468.6400000000003,null,"WWILSON PC",5.7549999999999999,4639.25,null,"TRAILMT D24",43.503999999999998,4516.21,null,null,null,null,null,null,null,null,null,null,"TRAILMT D24",35.835000000000001,4780.3190000000004,null,"TRAILMT D24",46.682000000000002,4637.7969999999987,null,"TRAILMT D24",42.061,4153.6789999999992,null,null,null,null,null,null,null,null,null,null,null,null,"WHLA PC",1.7509999999999999,4811.3590000000004,null,"WHLA PC",1.5680000000000001,4749.848,null,"WHLA PC",1.1399999999999999,4686.0439999999999]
[null,null,null,null,null,null,null,null,null,null,null,null,null,null,null,null,null,"TRAILMT D24",46.652000000000001,4656.16,null,null,null,null,null,"WHISKEYC 2E",60.963999999999999,4623.57,null,null,null,null,null,null,null,null,null,"WHLA PC",6.84,4468.6400000000003,null,"z20 TRAIL D8",40.823,4639.25,null,"WHISKEY MT",25.454999999999998,4516.21,null,null,null,null,null,null,null,null,null,null,"WHISKEY MT",20.242000000000001,4780.3190000000004,null,"WHISKEY MT",18.866,4637.7969999999987,null,"WHISKEY MT",18.048999999999999,4153.6789999999992,null,null,null,null,null,null,null,null,null,null,null,null,"WWILSON D24",0.27400000000000002,4811.3590000000004,null,"WWILSON D24",0.27800000000000002,4749.848,null,"WWILSON D24",1.234,4686.0439999999999]
[null,null,null,null,null,null,null,null,null,null,null,null,null,null,null,null,null,"WHISKEY MT",23.687999999999999,4656.16,null,null,null,null,null,"WHLA D24",36.805999999999997,4623.57,null,null,null,null,null,null,null,null,null,"WWILSON D24",1.6910000000000001,4468.6400000000003,null,"z20 TRAIL2D8",161.27500000000001,4639.25,null,"WHISKEYC 2E",84.555000000000007,4516.21,null,null,null,null,null,null,null,null,null,null,"WHISKEYC 2E",123.947,4780.3190000000004,null,"WHISKEYC 2E",113.398,4637.7969999999987,null,"WHISKEYC 2E",96.572000000000003,4153.6789999999992,null,null,null,null,null,null,null,null,null,null,null,null,"WWILSON PC",6,4811.3590000000004,null,"WWILSON PC",8.4779999999999998,4749.848,null,"WWILSON PC",7.5430000000000001,4686.0439999999999]
[null,null,null,null,null,null,null,null,null,null,null,null,null,null,null,null,null,"WHISKEYC 2E",79.679000000000002,4656.16,null,null,null,null,null,"WHLA PC",5.2779999999999996,4623.57,null,null,null,null,null,null,null,null,null,"WWILSON PC",6.4980000000000002,4468.6400000000003,null,"z20MESAD8",145.40299999999999,4639.25,null,"WHLA D24",27.106999999999999,4516.21,null,null,null,null,null,null,null,null,null,null,"WHLA D24",32.454999999999998,4780.3190000000004,null,"WHLA D24",30.302,4637.7969999999987,null,"WHLA D24",26.962,4153.6789999999992,null,null,null,null,null,null,null,null,null,null,null,null,"z21 CCRK D8",81.712000000000003,4811.3590000000004,null,"z21 CCRK D8",75.274000000000001,4749.848,null,"z21 CCRK D8",76.587999999999994,4686.0439999999999]
[null,null,null,null,null,null,null,null,null,null,null,null,null,null,null,null,null,"WHLA D24",30.597999999999999,4656.16,null,null,null,null,null,"WWILSON D24",2.6040000000000001,4623.57,null,null,null,null,null,null,null,null,null,"z20 TRAIL D8",40.064,4468.6400000000003,null,"z20TRAID8",49.098999999999997,4639.25,null,"WHLA PC",5.04,4516.21,null,null,null,null,null,null,null,null,null,null,"WHLA PC",5.4420000000000002,4780.3190000000004,null,"WHLA PC",7.0519999999999996,4637.7969999999987,null,"WHLA PC",1.302,4153.6789999999992,null,null,null,null,null,null,null,null,null,null,null,null,"z21 TRAIL D8",106.628,4811.3590000000004,null,"z21 TRAIL D8",89.603999999999999,4749.848,null,"z21 TRAIL D8",51.054000000000002,4686.0439999999999]
[null,null,null,null,null,null,null,null,null,null,null,null,null,null,null,null,null,"WHLA PC",5.5010000000000003,4656.16,null,null,null,null,null,"WWILSON PC",7.4359999999999999,4623.57,null,null,null,null,null,null,null,null,null,"z20 TRAIL2D8",165.21799999999999,4468.6400000000003,null,null,null,null,null,"WWILSON D24",2.0310000000000001,4516.21,null,null,null,null,null,null,null,null,null,null,"WWILSON D24",2.4249999999999998,4780.3190000000004,null,"WWILSON D24",0.751,4637.7969999999987,null,"WWILSON D24",0.248,4153.6789999999992,null,null,null,null,null,null,null,null,null,null,null,null,"z21 CCRK 2D8",10.798,4811.3590000000004,null,"z21 CCRK 2D8",10.683999999999999,4749.848,null,"z21 CCRK 2D8",10.816000000000001,4686.0439999999999]
[null,null,null,null,null,null,null,null,null,null,null,null,null,null,null,null,null,"WWILSON D24",2.359,4656.16,null,null,null,null,null,"TRAIL D8",102.075,4623.57,null,null,null,null,null,null,null,null,null,"z20MESAD8",145.83199999999999,4468.6400000000003,null,null,null,null,null,"WWILSON PC",7.149,4516.21,null,null,null,null,null,null,null,null,null,null,"WWILSON PC",9.6760000000000002,4780.3190000000004,null,"WWILSON PC",8.0229999999999997,4637.7969999999987,null,"WWILSON PC",4.9610000000000003,4153.6789999999992,null,null,null,null,null,null,null,null,null,null,null,null,"z21 TRAIL2D8",105.413,4811.3590000000004,null,"z21 TRAIL2D8",88.581999999999994,4749.848,null,"z21 TRAIL2D8",50.436999999999998,4686.0439999999999]
[null,null,null,null,null,null,null,null,null,null,null,null,null,null,null,null,null,"WWILSON PC",2.7679999999999998,4656.16,null,null,null,null,null,"TRAIL 2D8",186.14500000000001,4623.57,null,null,null,null,null,null,null,null,null,"z20TRAID8",51.204000000000001,4468.6400000000003,null,null,null,null,null,"z20 TRAIL D8",38.156999999999996,4516.21,null,null,null,null,null,null,null,null,null,null,"z20 TRAIL2D8",200.24299999999999,4780.3190000000004,null,"z20 TRAIL2D8",229.357,4637.7969999999987,null,"z20 TRAIL2D8",210.072,4153.6789999999992]
[null,null,null,null,null,null,null,null,null,null,null,null,null,null,null,null,null,"TRAIL D8",93.087000000000003,4656.16,null,null,null,null,null,"MESA D8",147.88800000000001,4623.57,null,null,null,null,null,null,null,null,null,null,null,null,null,null,null,null,null,"z20 TRAIL2D8",148.52500000000001,4516.21,null,null,null,null,null,null,null,null,null,null,"z20 TRAIL D8",56.381,4780.3190000000004,null,"z20 TRAIL D8",51.856000000000002,4637.7969999999987,null,"z20 TRAIL D8",45.106999999999999,4153.6789999999992]
[null,null,null,null,null,null,null,null,null,null,null,null,null,null,null,null,null,"TRAIL 2D8",180.273,4656.16,null,null,null,null,null,null,null,null,null,null,null,null,null,null,null,null,null,null,null,null,null,null,null,null,null,"z20MESAD8",138,4516.21]
[null,null,null,null,null,null,null,null,null,null,null,null,null,null,null,null,null,"MESA D8",156.09800000000001,4656.16,null,null,null,null,null,null,null,null,null,null,null,null,null,null,null,null,null,null,null,null,null,null,null,null,null,"z20TRAID8",48.899000000000001,4516.21]
[]
[]
[null,null,null,null,null,null,null,null,null,null,null,null,null,null,null,null,null,null,{"$f":"SUM(S119:S213)-S134","v":4418.1330000000016},null,null,null,{"$f":"SUM(W119:W213)-W134","v":4433.9179999999997},null,null,null,{"$f":"SUM(AA119:AA213)-AA134","v":4401.6149999999998}]

{"sheet":"Normal Purchase %","index":38,"n_rows":34,"n_cols":15,"rows_kept":34,"cut":false,"hidden":true,"merged":[[1,0,1,8]]}
[]
["Source:  The whole numbers come from Purchase Gas and Company Owned Gas sheets.  The percentages are then calculated from those numbers."]
[null,2,3,4,5,6,7,8,9]
["Month","Actual Purchase Mdth","Normal Purchase Mdth","Actual Company Mdth","Normal Company Mdths","Actual Purchase as Percent of Total","Normal Purchase as Percent of Total","Actual Cost-of-Service as Percent of Total","Normal Cost-of-Service as Percent of Total",null,"Check Should = 100%","Check Should = 100%"]
[{"$f":"'Ex 1 HDD'!A8","v":"2021-06-01"},{"$f":"'Ex 4 Purchase Gas'!B8","v":0},{"$f":"'Ex 4 Purchase Gas'!C8","v":528.77499999999998},{"$f":"'Ex 7 Co. Owned Gas'!B8","v":4656.1660000000002},{"$f":"'Ex 7 Co. Owned Gas'!C8","v":4722.1770000000006},{"$f":"IFERROR(B5/(B5+D5),0)","v":0},{"$f":"C5/(C5+E5)","v":0.1007007872096336},{"$f":"IFERROR(D5/(D5+B5),0)","v":1},{"$f":"E5/(E5+C5)","v":0.89929921279036651},null,{"$f":"F5+H5","v":1},{"$f":"G5+I5","v":1}]
[{"$f":"'Ex 1 HDD'!A9","v":"2021-07-01"},{"$f":"'Ex 4 Purchase Gas'!B9","v":0},{"$f":"'Ex 4 Purchase Gas'!C9","v":58.161999999999999},{"$f":"'Ex 7 Co. Owned Gas'!B9","v":4613.5949999999993},{"$f":"'Ex 7 Co. Owned Gas'!C9","v":4800.3310000000019},{"$f":"IFERROR(B6/(B6+D6),0)","v":0},1.1971201769766874E-2,{"$f":"IFERROR(D6/(D6+B6),0)","v":1},0.98802879823023304,null,1,0.99999999999999989]
[{"$f":"'Ex 1 HDD'!A10","v":"2021-08-01"},{"$f":"'Ex 4 Purchase Gas'!B10","v":70},{"$f":"'Ex 4 Purchase Gas'!C10","v":91.244},{"$f":"'Ex 7 Co. Owned Gas'!B10","v":4623.5680000000002},{"$f":"'Ex 7 Co. Owned Gas'!C10","v":4608.7290000000012},1.491402702592143E-2,1.9413728546951222E-2,0.98508597297407852,0.98058627145304889,null,1,1]
[{"$f":"'Ex 1 HDD'!A11","v":"2021-09-01"},{"$f":"'Ex 4 Purchase Gas'!B11","v":558.69899999999996},{"$f":"'Ex 4 Purchase Gas'!C11","v":1151.47},{"$f":"'Ex 7 Co. Owned Gas'!B11","v":4468.6420000000007},{"$f":"'Ex 7 Co. Owned Gas'!C11","v":4373.6789999999992},0.11113210741025921,0.20840523938811426,0.88886789258974086,0.79159476061188572,null,1,1]
[{"$f":"'Ex 1 HDD'!A12","v":"2021-10-01"},{"$f":"'Ex 4 Purchase Gas'!B12","v":5376.8059999999996},{"$f":"'Ex 4 Purchase Gas'!C12","v":4409.59},{"$f":"'Ex 7 Co. Owned Gas'!B12","v":4639.2529999999988},{"$f":"'Ex 7 Co. Owned Gas'!C12","v":4516.2179999999998},0.53681852313369971,0.49402698332744777,0.4631814768663004,0.50597301667255212,null,1,0.99999999999999989]
[{"$f":"'Ex 1 HDD'!A13","v":"2021-11-01"},{"$f":"'Ex 4 Purchase Gas'!B13","v":6573.12},{"$f":"'Ex 4 Purchase Gas'!C13","v":6661.9250000000002},{"$f":"'Ex 7 Co. Owned Gas'!B13","v":4516.208999999998},{"$f":"'Ex 7 Co. Owned Gas'!C13","v":5297.3549999999977},0.59274280707155513,0.55705067529148922,0.40725719292844487,0.44294932470851073,null,{"$f":"F10+H10","v":1},1]
[{"$f":"'Ex 1 HDD'!A14","v":"2021-12-01"},{"$f":"'Ex 4 Purchase Gas'!B14","v":12438.054},{"$f":"'Ex 4 Purchase Gas'!C14","v":9621.875},{"$f":"'Ex 7 Co. Owned Gas'!B14","v":4780},{"$f":"'Ex 7 Co. Owned Gas'!C14","v":5402.6570000000002},0.72238442276926296,0.64041096255111307,0.27761557723073699,0.35958903744888693,null,1,1]
[{"$f":"'Ex 1 HDD'!A15","v":"2022-01-01"},{"$f":"'Ex 4 Purchase Gas'!B15","v":12925.584999999999},{"$f":"'Ex 4 Purchase Gas'!C15","v":11451.82},{"$f":"'Ex 7 Co. Owned Gas'!B15","v":4638},{"$f":"'Ex 7 Co. Owned Gas'!C15","v":5318.1109999999999},0.73593090476687983,0.68287818238488873,0.26406909523312011,0.31712181761511121,null,1,1]
[{"$f":"'Ex 1 HDD'!A16","v":"2022-02-01"},{"$f":"'Ex 4 Purchase Gas'!B16","v":11200.611000000001},{"$f":"'Ex 4 Purchase Gas'!C16","v":10038.776999999998},{"$f":"'Ex 7 Co. Owned Gas'!B16","v":4154},{"$f":"'Ex 7 Co. Owned Gas'!C16","v":4734.4140000000007},0.72946237452710461,0.67952665067418405,0.27053762547289539,0.320473349325816,null,1,1]
[{"$f":"'Ex 1 HDD'!A17","v":"2022-03-01"},{"$f":"'Ex 4 Purchase Gas'!B17","v":5376.0389999999998},{"$f":"'Ex 4 Purchase Gas'!C17","v":7286.4679999999998},{"$f":"'Ex 7 Co. Owned Gas'!B17","v":4811.3589999999995},{"$f":"'Ex 7 Co. Owned Gas'!C17","v":5155.9559999999992},0.52771463331461088,0.58561482875041071,0.47228536668538912,0.41438517124958929,null,1,1]
[{"$f":"'Ex 1 HDD'!A18","v":"2022-04-01"},{"$f":"'Ex 4 Purchase Gas'!B18","v":2945.8270000000002},{"$f":"'Ex 4 Purchase Gas'!C18","v":5658.2970000000005},{"$f":"'Ex 7 Co. Owned Gas'!B18","v":4749.847999999999},{"$f":"'Ex 7 Co. Owned Gas'!C18","v":4714.3680000000004},0.38278994370214448,0.54550079463667245,0.61721005629785552,0.45449920536332755,null,1,1]
[{"$f":"'Ex 1 HDD'!A19","v":"2022-05-01"},{"$f":"'Ex 4 Purchase Gas'!B19","v":1018.369},{"$f":"'Ex 4 Purchase Gas'!C19","v":3102.498},{"$f":"'Ex 7 Co. Owned Gas'!B19","v":4686.043999999999},{"$f":"'Ex 7 Co. Owned Gas'!C19","v":4794.9159999999993},0.17852301367379961,0.3928498619927992,0.82147698632620048,0.60715013800720086,null,1,1]
[]
["Q1",{"$f":"SUM(B5:B7)","v":70},{"$f":"SUM(C5:C7)","v":678.18100000000004},{"$f":"SUM(D5:D7)","v":13893.328999999998},{"$f":"SUM(E5:E7)","v":14131.237000000003},{"$f":"IFERROR(B18/(B18+D18),0)","v":5.013131180966946E-3},{"$f":"C18/(C18+E18)","v":4.5793899530690532E-2},{"$f":"IFERROR(D18/(D18+B18),0)","v":0.99498686881903309},{"$f":"E18/(E18+C18)","v":0.95420610046930943},null,{"$f":"F18+H18","v":1},1]
["Q2",{"$f":"SUM(B8:B10)","v":12508.625},{"$f":"SUM(C8:C10)","v":12222.985000000001},{"$f":"SUM(D8:D10)","v":13624.103999999999},{"$f":"SUM(E8:E10)","v":14187.251999999997},{"$f":"IFERROR(B19/(B19+D19),0)","v":0.47865743374907382},{"$f":"C19/(C19+E19)","v":0.46281239354270093},{"$f":"IFERROR(D19/(D19+B19),0)","v":0.52134256625092612},{"$f":"E19/(E19+C19)","v":0.53718760645729902},null,1,1]
["Q3",{"$f":"SUM(B11:B13)","v":36564.25},{"$f":"SUM(C11:C13)","v":31112.471999999998},{"$f":"SUM(D11:D13)","v":13572},{"$f":"SUM(E11:E13)","v":15455.182000000001},0.72929766386596528,0.66811336469730687,0.27070233613403477,0.33188663530269319,null,1,1]
["Q4",{"$f":"SUM(B14:B16)","v":9340.2350000000006},{"$f":"SUM(C14:C16)","v":16047.262999999999},{"$f":"SUM(D14:D16)","v":14247.250999999997},{"$f":"SUM(E14:E16)","v":14665.24},0.39598264096478963,0.52249935474161779,0.60401735903521037,{"$f":"E21/(E21+C21)","v":0.47750064525838226},null,{"$f":"F21+H21","v":1},{"$f":"G21+I21","v":1}]
[null,"IRP","Actual","IRP","Actual",0,"Actual",0,"Actual"]
[]
[null,null,null,null,null,{"$f":"F4","v":"Actual Purchase as Percent of Total"},{"$f":"G4","v":"Normal Purchase as Percent of Total"},{"$f":"H4","v":"Actual Cost-of-Service as Percent of Total"},{"$f":"I4","v":"Normal Cost-of-Service as Percent of Total"}]
[null,null,null,null,{"$f":"A14","v":"2022-03-01"},{"$f":"VLOOKUP($E25,$A$5:$I$16,F$3,FALSE)","v":0.52771463331461088},{"$f":"VLOOKUP($E25,$A$5:$I$16,G$3,FALSE)","v":0.58561482875041071},0.47228536668538912,0.41438517124958929,null,{"$f":"F25+H25","v":1},1]
[null,null,null,null,{"$f":"A15","v":"2022-04-01"},{"$f":"VLOOKUP($E26,$A$5:$I$16,F$3,FALSE)","v":0.38278994370214448},0.54550079463667245,0.61721005629785552,0.45449920536332755,null,1,1]
[null,null,null,null,"2022-05-01",{"$f":"VLOOKUP($E27,$A$5:$I$16,F$3,FALSE)","v":0.17852301367379961},0.3928498619927992,0.82147698632620048,0.60715013800720086,null,1,1]
[]
[null,null,null,null,{"$f":"A18","v":"Q1"},{"$f":"VLOOKUP($E29,$A$18:$I$21,F$3,FALSE)","v":5.013131180966946E-3},{"$f":"VLOOKUP($E29,$A$18:$I$21,G$3,FALSE)","v":4.5793899530690532E-2},0.99498686881903309,0.95420610046930943,null,{"$f":"F29+H29","v":1},1]
[null,null,null,null,{"$f":"A19","v":"Q2"},{"$f":"VLOOKUP($E30,$A$18:$I$21,F$3,FALSE)","v":0.47865743374907382},0.46281239354270093,0.52134256625092612,0.53718760645729902,null,1,1]
[null,null,null,null,{"$f":"A20","v":"Q3"},{"$f":"VLOOKUP($E31,$A$18:$I$21,F$3,FALSE)","v":0.72929766386596528},0.66811336469730687,0.27070233613403477,0.33188663530269319,null,1,1]
[null,null,null,null,"Q4",{"$f":"VLOOKUP($E32,$A$18:$I$21,F$3,FALSE)","v":0.39598264096478963},0.52249935474161779,0.60401735903521037,0.47750064525838226,null,1,1,null,{"$f":"F32-G32","v":-0.12651671377682816},{"$f":"I32-H32","v":-0.1265167137768281}]
[]
[null,null,null,null,null,{"$f":"AVERAGE((F25:F27))","v":0.36300919689685163},{"$f":"AVERAGE((G25:G27))","v":0.50798849512662747},{"$f":"AVERAGE((H25:H27))","v":0.63699080310314837},{"$f":"AVERAGE((I25:I27))","v":0.49201150487337258}]

{"sheet":"IRP Pruch Cover Sheet","index":39,"n_rows":15,"n_cols":6,"rows_kept":15,"cut":false,"hidden":true,"merged":[]}
[null,null,2,3,4,5]
[null,null,{"$f":"'Normal Purchase %'!F24","v":"Actual Purchase as Percent of Total"},{"$f":"'Normal Purchase %'!G24","v":"Normal Purchase as Percent of Total"},{"$f":"'Normal Purchase %'!H24","v":"Actual Cost-of-Service as Percent of Total"},{"$f":"'Normal Purchase %'!I24","v":"Normal Cost-of-Service as Percent of Total"}]
[]
[null,{"$f":"'Normal Purchase %'!E25","v":"2022-03-01"},{"$f":"VLOOKUP($B4,'Normal Purchase %'!$E$25:$I$27,'IRP Pruch Cover Sheet'!C$1,FALSE)","v":0.52771463331461088},{"$f":"VLOOKUP($B4,'Normal Purchase %'!$E$25:$I$27,'IRP Pruch Cover Sheet'!D$1,FALSE)","v":0.58561482875041071},{"$f":"VLOOKUP($B4,'Normal Purchase %'!$E$25:$I$27,'IRP Pruch Cover Sheet'!E$1,FALSE)","v":0.47228536668538912},{"$f":"VLOOKUP($B4,'Normal Purchase %'!$E$25:$I$27,'IRP Pruch Cover Sheet'!F$1,FALSE)","v":0.41438517124958929}]
[null,{"$f":"'Normal Purchase %'!E26","v":"2022-04-01"},{"$f":"VLOOKUP($B5,'Normal Purchase %'!$E$25:$I$27,'IRP Pruch Cover Sheet'!C$1,FALSE)","v":0.38278994370214448},{"$f":"VLOOKUP($B5,'Normal Purchase %'!$E$25:$I$27,'IRP Pruch Cover Sheet'!D$1,FALSE)","v":0.54550079463667245},{"$f":"VLOOKUP($B5,'Normal Purchase %'!$E$25:$I$27,'IRP Pruch Cover Sheet'!E$1,FALSE)","v":0.61721005629785552},{"$f":"VLOOKUP($B5,'Normal Purchase %'!$E$25:$I$27,'IRP Pruch Cover Sheet'!F$1,FALSE)","v":0.45449920536332755}]
[null,{"$f":"'Normal Purchase %'!E27","v":"2022-05-01"},{"$f":"VLOOKUP($B6,'Normal Purchase %'!$E$25:$I$27,'IRP Pruch Cover Sheet'!C$1,FALSE)","v":0.17852301367379961},{"$f":"VLOOKUP($B6,'Normal Purchase %'!$E$25:$I$27,'IRP Pruch Cover Sheet'!D$1,FALSE)","v":0.3928498619927992},{"$f":"VLOOKUP($B6,'Normal Purchase %'!$E$25:$I$27,'IRP Pruch Cover Sheet'!E$1,FALSE)","v":0.82147698632620048},{"$f":"VLOOKUP($B6,'Normal Purchase %'!$E$25:$I$27,'IRP Pruch Cover Sheet'!F$1,FALSE)","v":0.60715013800720086}]
[]
[null,{"$f":"'Normal Purchase %'!A21","v":"Q4"},{"$f":"VLOOKUP($B$8,'Normal Purchase %'!$E$29:$I$32,'IRP Pruch Cover Sheet'!C$1,FALSE)","v":0.39598264096478963},{"$f":"VLOOKUP($B$8,'Normal Purchase %'!$E$29:$I$32,'IRP Pruch Cover Sheet'!D$1,FALSE)","v":0.52249935474161779},{"$f":"VLOOKUP($B$8,'Normal Purchase %'!$E$29:$I$32,'IRP Pruch Cover Sheet'!E$1,FALSE)","v":0.60401735903521037},{"$f":"VLOOKUP($B$8,'Normal Purchase %'!$E$29:$I$32,'IRP Pruch Cover Sheet'!F$1,FALSE)","v":0.47750064525838226}]
[]
[]
[]
[]
[]
[]
[null,null,null,{"$f":"C8-D8","v":-0.12651671377682816},{"$f":"F8-E8","v":-0.1265167137768281}]

{"sheet":"Shut-In","index":40,"n_rows":75,"n_cols":18,"rows_kept":75,"cut":false,"hidden":true,"merged":[[0,1,0,2],[1,1,1,2]]}
[null,"Actual Data from Jennifer Beasley"]
[null,"Estimates…See Company Nom Groups herein"]
[]
[null,null,"September","October","November","Total Dth for Quarter",null,null,"December","January","February","Total Dth for Quarter",null,null,"March","April","May ","Total Dth for Quarter"]
[null,"Estimated Shut-in (dth/day)",{"$f":"'Company Nom Groups'!E132","v":4620.2312203152969},{"$f":"'Company Nom Groups'!F132","v":2410.0330725198164},{"$f":"'Company Nom Groups'!G132","v":139.8373989127625},{"$f":"C5*30+D5*31+E5*30","v":217513.08382495609},null,"Estimated Shut-in (dth/day)",{"$f":"'Company Nom Groups'!H132","v":139.15738038673638},{"$f":"'Company Nom Groups'!I132","v":138.15755584006007},{"$f":"'Company Nom Groups'!J132","v":137.11700634222066},{"$f":"I5*31+J5*31+K5*28","v":12436.039200612868},null,"Estimated Shut-in (dth/day)",{"$f":"'Company Nom Groups'!K132","v":136.52825808452278},{"$f":"'Company Nom Groups'!L132","v":6656.5301017470729},{"$f":"'Company Nom Groups'!M132","v":6598.9693304540078},{"$f":"O5*31+P5*30+Q5*31","v":408496.32829710667}]
[null,"Actual Shut-in  (dth/day)",0,0,0,{"$f":"C6*30+D6*31+E6*31","v":0},null,"Acutal Shut-in  (dth/day)",{"$f":"I75/30","v":0},{"$f":"J75/31","v":0},0,{"$f":"L75","v":0},null,"Actual Shut-in  (dth/day)",0,0,0,{"$f":"O6*30+P6*31+Q6*31","v":0}]
[]
[]
[]
[null,1,59,{"$f":"D5","v":2410.0330725198164},0,null,null,{"$f":"B10","v":1}]
[null,2,59,780,0,null,null,{"$f":"B11","v":2}]
[null,3,59,780,0,null,null,3]
[null,4,59,780,0,null,null,4]
[null,5,59,780,0,null,null,5]
[null,6,59,780,0,null,null,6]
[null,7,59,{"$f":"D11","v":780},0,null,null,7]
[null,8,59,780,0,null,null,8]
[null,9,59,780,0,null,null,9]
[null,10,59,{"$f":"D14","v":780},0,null,null,10]
[null,11,59,780,0,null,null,11]
[null,12,59,780,0,null,null,12]
[null,13,59,{"$f":"D17","v":780},0,null,null,13]
[null,14,59,780,0,null,null,14]
[null,15,59,780,0,null,null,15]
[null,16,59,{"$f":"D20","v":780},0,null,null,16]
[null,17,59,780,0,null,null,17]
[null,18,59,780,0,null,null,18]
[null,19,59,{"$f":"D23","v":780},0,null,null,19]
[null,20,59,780,0,null,null,20]
[null,21,59,780,0,null,null,21]
[null,22,59,{"$f":"D26","v":780},0,null,null,22]
[null,23,59,780,0,null,null,23]
[null,24,59,780,0,null,null,24]
[null,25,59,{"$f":"D29","v":780},0,null,null,25]
[null,26,59,780,0,null,null,26]
[null,27,59,780,0,null,null,27]
[null,28,59,{"$f":"D32","v":780},0,null,null,28]
[null,29,59,780,0,null,null,29]
[null,30,59,780,0,null,null,30]
[null,31,0,{"$f":"D35","v":780},0,null,null,31]
[null,null,{"$f":"SUM(C10:C40)","v":1770},{"$f":"SUM(D10:D40)","v":25810.033072519815},{"$f":"SUM(E10:E40)","v":0},{"$f":"SUM(C41:E41)","v":27580.033072519815},null,null,0,0,0,{"$f":"SUM(I41:K41)","v":0}]
[]
[]
[null,1,0,0,0,null,null,1,0,0,0]
[null,2,0,0,0,null,null,2,0,0,0]
[null,3,0,0,0,null,null,3,0,0,0]
[null,4,0,0,5724,null,null,4,0,0,0]
[null,5,0,0,5724,null,null,5,0,0,0]
[null,6,0,0,5724,null,null,6,0,0,0]
[null,7,0,0,5724,null,null,7,0,0,0]
[null,8,0,0,5724,null,null,8,0,0,0]
[null,9,0,0,5724,null,null,9,0,0,0]
[null,10,0,0,5724,null,null,10,0,0,0]
[null,11,0,0,5724,null,null,11,0,0,0]
[null,12,0,0,5724,null,null,12,0,0,0]
[null,13,0,0,5724,null,null,13,0,0,0]
[null,14,0,0,5724,null,null,14,0,0,0]
[null,15,0,0,5724,null,null,15,0,0,0]
[null,16,0,0,5724,null,null,16,0,0,0]
[null,17,0,0,5724,null,null,17,0,0,0]
[null,18,0,0,5724,null,null,18,0,0,0]
[null,19,0,0,5724,null,null,19,0,0,0]
[null,20,0,0,5724,null,null,20,0,0,0]
[null,21,0,0,5724,null,null,21,0,0,0]
[null,22,0,0,5724,null,null,22,0,0,0]
[null,23,0,0,5724,null,null,23,0,0,0]
[null,24,0,0,5724,null,null,24,0,0,0]
[null,25,0,0,5724,null,null,25,0,0,0]
[null,26,0,0,5724,null,null,26,0,0,0]
[null,27,0,0,5724,null,null,27,0,0,0]
[null,28,0,0,5724,null,null,28,0,0,0]
[null,29,0,0,5724,null,null,29,0,0,0]
[null,30,0,0,5724,null,null,30,0,0,0]
[null,31,0,0,5724,null,null,31,null,0]
[null,null,{"$f":"SUM(C44:C74)","v":0},{"$f":"SUM(D44:D74)","v":0},{"$f":"SUM(E44:E74)","v":160272},{"$f":"SUM(C75:E75)","v":160272},null,null,{"$f":"SUM(I44:I74)","v":0},{"$f":"SUM(J44:J74)","v":0},{"$f":"SUM(K44:K74)","v":0},{"$f":"SUM(I75:K75)","v":0}]

{"sheet":"Deleted Exhibit 2.5","index":41,"n_rows":32,"n_cols":17,"rows_kept":32,"cut":false,"hidden":true,"merged":[]}
[]
[]
[]
[]
[]
[]
[]
[]
[]
[]
[]
[]
[]
[]
[]
[]
[]
[]
[]
[]
[]
[]
[]
[]
[]
[]
[]
[]
[]
[]
[null,null,null,null,null,null,null,null,null,null,null,null,null,null,{"$f":"'Exhibit 1.1'!O31","v":"DEU Variance Exhibit"},{"$f":"'Exhibit 1.1'!P31","v":"Docket No. 21-057-01"},{"$f":"'Exhibit 1.1'!Q31","v":"Dominion Energy Utah"}]
[null,null,null,null,null,null,null,null,null,null,null,null,null,null,2.5]

{"sheet":"Deleted Exhibit 2.6","index":42,"n_rows":32,"n_cols":17,"rows_kept":32,"cut":false,"hidden":true,"merged":[]}
[]
[]
[]
[]
[]
[]
[]
[]
[]
[]
[]
[]
[]
[]
[]
[]
[]
[]
[]
[]
[]
[]
[]
[]
[]
[]
[]
[]
[]
[]
[null,null,null,null,null,null,null,null,null,null,null,null,null,null,{"$f":"'Exhibit 1.1'!O31","v":"DEU Variance Exhibit"},{"$f":"'Exhibit 1.1'!P31","v":"Docket No. 21-057-01"},{"$f":"'Exhibit 1.1'!Q31","v":"Dominion Energy Utah"}]
[null,null,null,null,null,null,null,null,null,null,null,null,null,null,2.6]