{"text_format":"1","workbook":"xlsx","n_sheets":13,"sheets":["Interpolating","Interpolate2","Sheet1","second_sample_data","Plant AB TS S&L","Plant AB GSR & C TS S&L","TS Meter Summary","Ex4.13p1","Ex4.13p2","Ex4.13p3","Ex4.13p4","Ex4.13p5","Ex4.13p6"],"not_rendered":{"charts":7,"images":1,"macros":1,"external_links":0,"defined_names":21,"comments":3,"pivot_tables":0},"unopened":[],"bounds":{"document_bytes":16777216,"sheet_cells":100000,"rows_first":2000,"rows_last":500,"rows_between":2000,"halvings":0,"cell_chars":16384,"cell_head_chars":4096},"cells_cut":0,"cells_raw":0,"read":"whole","date_system":"1900"}

{"sheet":"Interpolating","index":0,"n_rows":43,"n_cols":2,"rows_kept":43,"cut":false,"hidden":true,"merged":[]}
["Size","Price"]
[0,0]
[0.5,15.93]
[0.75,30.73]
[1.25,22.06]
[2,24.96]
[3,15.93]
[4,30.33]
[6,41.15]
[8,49.45]
[]
[]
[]
[]
[]
[]
[]
[]
[]
["Size","Price"]
[0,0]
[0.75,{"$f":"A22*51.5","v":38.625}]
[1,{"$f":"A23*51.5","v":51.5}]
[1.25,64.375]
[2,103]
[3,512]
[4,1496]
[6,1731]
[8,1647]
[]
[]
[]
[]
[]
["Size","Price"]
[0,0]
[0.5,37.24]
[0.75,39.17]
[1.25,44.14]
[2,44.22]
[3,23.35]
[4,51.63]
[6,63.53]

{"sheet":"Interpolate2","index":1,"n_rows":100,"n_cols":6,"rows_kept":100,"cut":false,"hidden":true,"merged":[]}
[]
[">=3000","<5000","H",25000,{"$f":"VALUE(MID(A2,3,7))","v":3000},"n/a"]
[">=5000","<7000","H",25000,{"$f":"VALUE(MID(A3,3,7))","v":5000},"n/a"]
[null,null,null,null,0,0]
[">=7000","<11000","H",30000,{"$f":"VALUE(MID(A5,3,7))","v":7000},85797]
[">=11000","<16000","H",30000,11000,137915]
[">=16000","<20000","H",30000,16000,{"$f":"AVERAGE(381075,161440)","v":271257.5}]
[">=20000","<24000","H",35000,20000,170578]
[">=30000","<45000","H",40000,30000,368573]
[">=50000","<100000","H",75000,50000,428222]
[">=1000000","<2000000","H",500000,1000000,2154020]
[]
[]
[]
[null,null,null,null,null,"8.6366+43576"]
[]
[null,null,null,null,null,"1.9962 + 169087"]
[]
[null,null,null,null,null,"1.8166 + 337391"]
[]
[]
[]
[]
["MeterAndReg2"]
["Meter Rating","F"]
[0,372.26]
[400,505.28]
[600,1094.4166666666667]
[900,1168.4399999999998]
[1400,2550.5675000000001]
[2000,3200.7849999999999]
[3000,3644.4066666666663]
[5000,4090.396666666667]
[7000,5308.1433333333334]
[11000,9644.2866666666669]
[16000,14073.035]
[20000,16983.885000000002]
[24000,0]
[30000,0]
[45000,0]
[50000,0]
[100000,0,null,"0.8167x+639.16"]
[150000,0]
[250000,0]
[500000,0]
[750000,0]
[1000000,0]
[2000000,0]
[]
[]
["Meter Rating","L"]
[0,0]
[400,9643.98]
[600,0]
[900,15921.1]
[1400,16398.2]
[2000,16935.100000000002]
[3000,17487.600000000002]
[5000,17572.100000000002]
[7000,19554.600000000002]
[11000,21336.9]
[16000,11664.28]
[20000,23385.7]
[24000,24583]
[30000,28936.7]
[45000,36384.400000000001]
[50000,36925.200000000004]
[100000,44772]
[150000,53695.200000000004,null,null,"0.2481x+17835"]
[250000,77286.3]
[500000,0]
[750000,0]
[1000000,0]
[2000000,0]
[]
[]
["Meter Rating","H"]
[0,0]
[400,0]
[600,0]
[900,0]
[1400,0]
[2000,0]
[3000,25000]
[5000,25000]
[7000,30000]
[11000,30000]
[16000,30000]
[20000,35000]
[24000,35000]
[30000,40000]
[45000,50000]
[50000,75000]
[100000,100000]
[150000,150000]
[250000,175000,null,"2.5x+12500",null,"1.25x+20417"]
[500000,200000]
[750000,250000]
[1000000,500000]
[2000000,1000000]

{"sheet":"Sheet1","index":2,"n_rows":140,"n_cols":2,"rows_kept":140,"cut":false,"hidden":true,"merged":[]}
["0031210778","Yes"]
["0241464769","Yes"]
["0383830455","Yes"]
["0395120973","Yes"]
["0572157730","Yes"]
["0584704326","Yes"]
["0614900774","Yes"]
["0643442565","Yes"]
["0671800391","Yes"]
["0732100024","Yes"]
["0765100059","Yes"]
["0922100056","Yes"]
["1015773777","Yes"]
["1117010530","Yes"]
["1122100015","Yes"]
["1331300429","Yes"]
["1463100054","Yes"]
["1671800351","Yes"]
["1732100004","Yes"]
["1824620317","Yes"]
["1904830021","Yes"]
["2016520061","Yes"]
["2358603164","Yes"]
["2480963977","Yes"]
["2545100078","Yes"]
["2728217969","Yes"]
["2967491635","Yes"]
["3013100043","Yes"]
["3016520360","Yes"]
["3193900226","Yes"]
["3198200701","Yes"]
["3304074793","Yes"]
["3476619271","Yes"]
["3487710382","Yes"]
["3522100039","Yes"]
["3549160122","Yes"]
["3571630570","Yes"]
["3693220931","Yes"]
["3732100005","Yes"]
["3747520533","Yes"]
["3791300629","Yes"]
["3836910895","Yes"]
["3914634874","Yes"]
["3919860099","Yes"]
["3960810875","Yes"]
["4172463555","Yes"]
["4238865118","Yes"]
["4388598179","Yes"]
["4467432006","Yes"]
["4518861518","Yes"]
["4680610881","Yes"]
["4693220334","Yes"]
["4723600137","Yes"]
["4732100006","Yes"]
["4746500385","Yes"]
["4752740850","Yes"]
["4778440959","Yes"]
["4822100026","Yes"]
["4842340542","Yes"]
["4867100003","Yes"]
["4912100006","Yes"]
["4919860600","Yes"]
["5060020637","Yes"]
["5190320640","Yes"]
["5222100024","Yes"]
["5280532143","Yes"]
["5332100023","Yes"]
["5371460820","Yes"]
["5432100069","Yes"]
["5525260398","Yes"]
["5534000021","Yes"]
["5616885537","Yes"]
["5791397905","Yes"]
["5843906776","Yes"]
["5887910817","Yes"]
["5905820010","Yes"]
["5912100061","Yes"]
["5972489615","Yes"]
["6056810497","Yes"]
["6058000089","Yes"]
["6190320229","Yes"]
["6222100084","Yes"]
["6226500310","Yes"]
["6286097922","Yes"]
["6469530735","Yes"]
["6571630200","Yes"]
["6571800181","Yes"]
["6617498731","Yes"]
["6668910021","Yes"]
["6685998804","Yes"]
["6815200455","Yes"]
["6870510219","Yes"]
["7122000092","Yes"]
["7149100398","Yes"]
["7222100082","Yes"]
["7281180746","Yes"]
["7306244961","Yes"]
["7364232254","Yes"]
["7424610127","Yes"]
["7464170892","Yes"]
["7571800463","Yes"]
["7599920388","Yes"]
["7677760589","Yes"]
["7699751581","Yes"]
["7701610489","Yes"]
["7822100028","Yes"]
["7822850543","Yes"]
["7958948993","Yes"]
["8001256926","Yes"]
["8060020419","Yes"]
["8093350739","Yes"]
["8122000042","Yes"]
["8133820092","Yes"]
["8165210323","Yes"]
["8198200616","Yes"]
["8209986446","Yes"]
["8473600368","Yes"]
["8510486677","Yes"]
["8549907873","Yes"]
["8571800178","Yes"]
["8608600362","Yes"]
["8622100080","Yes"]
["8632100002","Yes"]
["8675713806","Yes"]
["8822100083","Yes"]
["8885660077","Yes"]
["8952220900","Yes"]
["8988200771","Yes"]
["9022100013","Yes"]
["9184023916","Yes"]
["9243557077","Yes"]
["9277018935","Yes"]
["9290009058","Yes"]
["9290200567","Yes"]
["9474831578","Yes"]
["9525020697","Yes"]
["9551300951","Yes"]
["9631280992","Yes"]
["9632100003","Yes"]
["9724620406","Yes"]

{"sheet":"second_sample_data","index":3,"n_rows":4929,"n_cols":39,"rows_kept":2250,"cut":true,"hidden":true,"merged":[],"bounds":{"rows_first":1000,"rows_last":250,"rows_between":1000,"halvings":1}}
["ID","SERVICE_LINE_ID","SP_ID","TWIN","Serv_size_1","Serv_len_1","Serv_size_2","Serv_len_2","Serv_size_3","Serv_len_3","Serv_size_4","Serv_len_4","Main_size_1","Main_len_1","Main_size_2","Main_len_2","Main_size_3","Main_len_3","Main_size_4","Main_len_4","Main_size_5","Main_len_5","TOTAL_MAIN_FOOTAGE","TOTAL_SERVICE_FOOTAGE","NUMBER_OF_SERVICES","CIS_DIVISION","RS_CD","REV_CLASS","BADGE_NBR","PREFIX","PRESSURE","ccb_meter_class","nominal_rating","actual_capacity","connection_type","flow_computer","updated_pressure","updated_actual_capacity","plant_sample"]
["SL0000000826",1,"N","N",1.25,840,null,"NA",null,"NA","NA","NA",6,1000,null,"NA",null,"NA",null,"NA",null,"NA",1000,840,1,"UT","UTFS","NRES",36092484,360,0.25,1,250,320,"IHP","N",0.25,320,"Y"]
["SL0000001131",2,"N","Y",0.5,40,null,"NA",null,"NA","NA","NA",4,1000,null,"NA",null,"NA",null,"NA",null,"NA",1000,40,10,"UT","UTFS","NRES",16098279,160,0.25,1,250,320,"IHP","N",0.25,320,"Y"]
["SL0000001560",3,"N","N",0.75,165,null,"NA",null,"NA","NA","NA",2,971.11,6,28.89,null,"NA",null,"NA",null,"NA",1000,165,8,"UT","UTFS","NRES",36005371,360,2,1,250,550,"IHP","N",2,550,"Y"]
["SL0000003609",4,"N","N",0.75,165,null,"NA",null,"NA","NA","NA",2,971.11,6,28.89,null,"NA",null,"NA",null,"NA",1000,165,8,"UT","UTFS","NRES",25500912,255,2,2,1000,2400,"IHP","N",2,2400,"Y"]
["SL0000006377",5,"N","N",1.25,108,null,"NA",null,"NA","NA","NA",2,4,4,384.68,6,390.3,1.25,175.35,1.5,45.68,1000.01,108,9,"UT","UTFS","NRES",15100514,151,0.25,1,800,800,"IHP","N",0.25,800,"Y"]
["SL0000006403",6,"N","N",1.25,11,null,"NA",null,"NA","NA","NA",2,859,4,141,null,"NA",null,"NA",null,"NA",1000,11,4,"UT","UTFS","NRES",22000920,220,1,1,400,890,"IHP","N",1,890,"Y"]
["SL0000007068",7,"N","Y",2,157,0.5,11,null,"NA","NA","NA",2,173.2,16,826.79,null,"NA",null,"NA",null,"NA",999.99,168,7,"UT","UTTS","NRES",26098799,260,0.25,1,250,320,"IHP","N",0.25,320,"Y"]
["SL0000007204",8,"N","N",0.75,43,null,"NA",null,"NA","NA","NA",2,865,1.25,135,null,"NA",null,"NA",null,"NA",1000,43,14,"UT","UTFS","NRES",15101710,151,0.25,1,800,800,"IHP","N",0.25,800,"Y"]
["SL0000007341",9,"N","Y",1.25,115,null,"NA",null,"NA","NA","NA",2,70.12,3,549.26,6,212.36,1.25,168.26,null,"NA",1000,115,7,"UT","UTFS","NRES",23200016,232,0.25,2,5000,5000,"IHP","N",0.25,5000,"Y"]
["SL0000007585",10,"N","Y",1.25,115,null,"NA",null,"NA","NA","NA",2,70.12,3,549.26,6,212.36,1.25,168.26,null,"NA",1000,115,7,"UT","UTFS","NRES",36113473,361,0.25,1,250,320,"IHP","N",0.25,320,"Y"]
["SL0000007890",11,"Y","N",0.75,78,null,"NA",null,"NA","NA","NA",2,189,8,811,null,"NA",null,"NA",null,"NA",1000,78,8,"UT","UTFS","NRES",22003762,220,0.25,1,400,500,"IHP","N",0.25,500,"Y"]
["SL0000008084",12,"N","N",1.25,78,null,"NA",null,"NA","NA","NA",3,60.49,6,939.51,null,"NA",null,"NA",null,"NA",1000,78,4,"UT","UTFS","NRES",27400101,274,10,3,11000,18200,"IHP","N",10,18200,"Y"]
["SL0000008409",13,"N","N",1.25,78,null,"NA",null,"NA","NA","NA",3,60.49,6,939.51,null,"NA",null,"NA",null,"NA",1000,78,4,"UT","UTFS","NRES",36158990,361,0.25,1,250,320,"IHP","N",0.25,320,"Y"]
["SL0000008594",14,"N","N",3,106,null,"NA",null,"NA","NA","NA",2,108.11,4,891.89,null,"NA",null,"NA",null,"NA",1000,106,2,"UT","UTFS","NRES",26070327,260,0.25,1,250,320,"IHP","N",0.25,320,"Y"]
["SL0000008658",15,"N","N",3,106,null,"NA",null,"NA","NA","NA",2,108.11,4,891.89,null,"NA",null,"NA",null,"NA",1000,106,2,"UT","UTFS","NRES",23400102,234,45,4,11000,44352,"IHP","Y",25,29425,"Y"]
["SL0000009472",16,"N","Y",1.25,143,null,"NA",null,"NA","NA","NA",2,1000,null,"NA",null,"NA",null,"NA",null,"NA",1000,143,2,"UT","UTISFS","NRES",12745921,127,0.25,1,250,320,"IHP","N",0.25,320,"Y"]
["SL0000012074",17,"N","Y",1.25,143,null,"NA",null,"NA","NA","NA",2,1000,null,"NA",null,"NA",null,"NA",null,"NA",1000,143,2,"UT","UTISFS","NRES",27100442,271,0.25,2,3000,3000,"IHP","Y",0.25,3000,"Y"]
["SL0000012886",18,"N","Y",1.25,143,null,"NA",null,"NA","NA","NA",2,1000,null,"NA",null,"NA",null,"NA",null,"NA",1000,143,2,"UT","UTISFS","NRES",27101337,271,15,2,3000,6000,"IHP","Y",15,6000,"Y"]
["SL0000014298",19,"N","N",1.25,8,null,"NA",null,"NA","NA","NA",2,589.23,4,325.39,6,85.39,null,"NA",null,"NA",1000.01,8,2,"UT","UTFS","NRES",46116769,461,2,1,250,550,"IHP","N",2,550,"Y"]
["SL0000015871",20,"N","N",1.25,281,null,"NA",null,"NA","NA","NA",4,861.18,6,138.82,null,"NA",null,"NA",null,"NA",1000,281,4,"UT","UTFS","NRES",27101620,271,2,2,3000,3300,"IHP","N",2,3300,"Y"]
["SL0000016120",21,"N","N",1.25,426,null,"NA",null,"NA","NA","NA",4,1000,null,"NA",null,"NA",null,"NA",null,"NA",1000,426,6,"UT","UTFS","NRES",15100067,151,2,2,800,1847,"IHP","N",2,1847,"Y"]
["SL0000016826",22,"N","N",1.25,426,null,"NA",null,"NA","NA","NA",4,1000,null,"NA",null,"NA",null,"NA",null,"NA",1000,426,6,"UT","UTFS","NRES",22010764,220,2,2,400,930,"IHP","N",2,930,"Y"]
["SL0000018714",23,"N","N",1.25,426,null,"NA",null,"NA","NA","NA",4,1000,null,"NA",null,"NA",null,"NA",null,"NA",1000,426,6,"UT","UTFS","NRES",22002169,220,2,2,400,930,"IHP","N",2,930,"Y"]
["SL0000018907",24,"N","N",0.75,62,null,"NA",null,"NA","NA","NA",2,800.78,4,199.22,null,"NA",null,"NA",null,"NA",1000,62,9,"UT","UTFS","NRES",11500748,115,5,2,1000,2530,"IHP","N",5,2530,"Y"]
["SL0000019279",25,"Y","N",1.25,39,null,"NA",null,"NA","NA","NA",2,80.63,4,919.37,null,"NA",null,"NA",null,"NA",1000,39,3,"UT","UTTS","NRES",15700041,157,2,2,2300,5442,"IHP","Y",2,5442,"Y"]
["SL0000019372",26,"N","N",2,18,null,"NA",null,"NA","NA","NA",2,371,4,145.38999999999999,1.25,483.61,null,"NA",null,"NA",1000,18,10,"UT","UTFS","NRES",15800305,158,0.25,2,5000,5000,"IHP","N",0.25,5000,"Y"]
["SL0000019703",27,"N","N",1.25,239,null,"NA",null,"NA","NA","NA",2,1000,null,"NA",null,"NA",null,"NA",null,"NA",1000,239,19,"UT","UTFS","NRES",27101681,271,0.25,2,3000,3000,"IHP","N",0.25,3000,"Y"]
["SL0000020914",28,"N","Y",2,114,null,"NA",null,"NA","NA","NA",2,672.25,4,327.75,null,"NA",null,"NA",null,"NA",1000,114,13,"UT","UTFS","NRES",27100779,271,5,2,3000,4000,"IHP","N",5,4000,"Y"]
["SL0000021081",29,"N","N",1.25,113,null,"NA",null,"NA","NA","NA",3,153.32,6,846.68,null,"NA",null,"NA",null,"NA",1000,113,5,"UT","UTFS","NRES",15800225,158,0.25,2,5000,5000,"IHP","N",0.25,5000,"Y"]
["SL0000022363",30,"N","N",1.25,151,null,"NA",null,"NA","NA","NA",2,24.18,3,59.32,6,916.5,null,"NA",null,"NA",1000,151,11,"UT","UTFS","NRES",27200273,272,2,2,5000,5550,"IHP","N",2,5550,"Y"]
["SL0000022530",31,"N","N",1.25,163,null,"NA",null,"NA","NA","NA",2,161.41999999999999,4,211.72,6,489.14,10,32.72,1.25,105,1000,163,4,"UT","UTFS","NRES",11501351,115,0.25,2,1000,1000,"IHP","N",0.25,1000,"Y"]
["SL0000022711",32,"N","N",1.25,220,null,"NA",null,"NA","NA","NA",2,3.26,4,996.74,null,"NA",null,"NA",null,"NA",1000,220,3,"UT","UTFS","NRES",27101551,271,2,2,3000,3300,"IHP","N",2,3300,"Y"]
["SL0000023733",33,"N","Y",1.25,53,null,"NA",null,"NA","NA","NA",2,265.75,4,734.25,null,"NA",null,"NA",null,"NA",1000,53,4,"UT","UTFS","NRES",34601809,346,2,2,650,1390,"IHP","N",2,1390,"Y"]
["SL0000024567",34,"N","Y",1.25,53,null,"NA",null,"NA","NA","NA",2,265.75,4,734.25,null,"NA",null,"NA",null,"NA",1000,53,4,"UT","UTFS","NRES",34606379,346,2,2,650,1390,"IHP","N",2,1390,"Y"]
["SL0000024907",35,"N","N",1.25,45,null,"NA",null,"NA","NA","NA",2,248,4,244.87,1.25,507.13,null,"NA",null,"NA",1000,45,5,"UT","UTFS","NRES",11500785,115,0.25,2,1000,1000,"IHP","N",0.25,1000,"Y"]
["SL0000025835",36,"N","N",2,94,null,"NA",null,"NA","NA","NA",2,8,4,992,null,"NA",null,"NA",null,"NA",1000,94,21,"UT","UTFS","NRES",20800388,208,5,2,3000,5750,"IHP","N",5,5750,"Y"]
["SL0000026369",37,"N","N",2,129,null,"NA",null,"NA","NA","NA",2,29.26,4,450.65,6,124.09,8,66,1.25,330,1000,129,9,"UT","UTISFS","NRES",23200075,232,45,3,5000,20160,"IHP","Y",25,13375,"Y"]
["SL0000027842",38,"N","N",2,129,null,"NA",null,"NA","NA","NA",2,29.26,4,450.65,6,124.09,8,66,1.25,330,1000,129,9,"UT","UTISFS","NRES",27800925,278,2,2,2000,2225,"IHP","Y",2,2225,"Y"]
["SL0000028208",39,"N","N",2,129,null,"NA",null,"NA","NA","NA",2,29.26,4,450.65,6,124.09,8,66,1.25,330,1000,129,9,"UT","UTISFS","NRES",27800318,278,0.25,2,2000,2000,"IHP","Y",0.25,2000,"Y"]
["SL0000028417",40,"N","N",1.25,32,null,"NA",null,"NA","NA","NA",2,869.71,1.25,130.29,null,"NA",null,"NA",null,"NA",1000,32,2,"UT","UTFS","NRES",27100221,271,2,2,3000,3300,"IHP","N",2,3300,"Y"]
["SL0000029626",41,"N","N",1.25,185,null,"NA",null,"NA","NA","NA",2,0.16,4,999.84,null,"NA",null,"NA",null,"NA",1000,185,3,"UT","UTFS","NRES",27200490,272,0.25,2,5000,5000,"IHP","N",0.25,5000,"Y"]
["SL0000030398",42,"N","N",1.25,45,null,"NA",null,"NA","NA","NA",2,29,4,971,null,"NA",null,"NA",null,"NA",1000,45,6,"UT","UTFS","NRES",27201080,272,2,2,5000,5550,"IHP","N",2,5550,"Y"]
["SL0000030455",43,"N","N",1.25,57,null,"NA",null,"NA","NA","NA",2,161,4,52.5,10,786.5,null,"NA",null,"NA",1000,57,4,"UT","UTFS","NRES",27100127,271,0.25,2,3000,3000,"IHP","N",0.25,3000,"Y"]
["SL0000030530",44,"N","N",1.5,94,null,"NA",null,"NA","NA","NA",2,693.38,16,306.62,null,"NA",null,"NA",null,"NA",1000,94,5,"UT","UTFS","NRES",27100418,271,2,2,3000,3300,"IHP","N",2,3300,"Y"]
["SL0000030809",45,"N","N",1.25,268,null,"NA",null,"NA","NA","NA",2,12.51,4,223.23,6,604.51,8,54.74,1.25,105,999.99,268,3,"UT","UTFS","NRES",27800148,278,5,2,2000,2630,"IHP","N",5,2630,"Y"]
["SL0000030826",46,"N","N",1.25,111,null,"NA",null,"NA","NA","NA",4,1000,null,"NA",null,"NA",null,"NA",null,"NA",1000,111,5,"UT","UTFS","NRES",15601022,156,0.25,2,1400,1400,"IHP","N",0.25,1400,"Y"]
["SL0000030974",47,"N","N",1.25,311,null,"NA",null,"NA","NA","NA",2,928,3,72,null,"NA",null,"NA",null,"NA",1000,311,5,"UT","UTFS","NRES",15600570,156,0.25,2,1400,1400,"IHP","N",0.25,1400,"Y"]
["SL0000031587",48,"N","N",1.25,11,null,"NA",null,"NA","NA","NA",2,705.86,4,294.14,null,"NA",null,"NA",null,"NA",1000,11,7,"UT","UTTS","NRES",27201165,272,2,2,5000,5550,"IHP","Y",2,5550,"Y"]
["SL0000031816",49,"N","N",1.25,14,null,"NA",null,"NA","NA","NA",2,743.76,4,256.24,null,"NA",null,"NA",null,"NA",1000,14,3,"UT","UTFS","NRES",27101095,271,2,2,3000,3300,"IHP","N",2,3300,"Y"]
["SL0000031964",50,"N","N",1.25,284,null,"NA",null,"NA","NA","NA",2,1000,null,"NA",null,"NA",null,"NA",null,"NA",1000,284,7,"UT","UTFS","NRES",25504470,255,5,2,1000,2700,"IHP","N",5,2700,"Y"]
["SL0000031984",51,"N","N",1.25,25,null,"NA",null,"NA","NA","NA",4,1000.33,null,"NA",null,"NA",null,"NA",null,"NA",1000.33,25,4,"UT","UTFS","NRES",27200558,272,2,2,5000,5550,"IHP","N",2,5550,"Y"]
["SL0000033058",52,"N","N",1.25,394,null,"NA",null,"NA","NA","NA",2,26.99,4,973.01,null,"NA",null,"NA",null,"NA",1000,394,1,"UT","UTFS","NRES",27101452,271,0.25,2,3000,3000,"IHP","N",0.25,3000,"Y"]
["SL0000033114",53,"N","N",1.25,394,null,"NA",null,"NA","NA","NA",2,26.99,4,973.01,null,"NA",null,"NA",null,"NA",1000,394,1,"UT","UTFS","NRES",27100487,271,5,2,3000,4000,"IHP","N",5,4000,"Y"]
["SL0000033550",54,"N","N",1.25,24,null,"NA",null,"NA","NA","NA",2,214,4,726,1.25,60,null,"NA",null,"NA",1000,24,8,"UT","UTTS","NRES",27800014,278,0.25,2,2000,2000,"IHP","Y",0.25,2000,"Y"]
["SL0000034357",55,"N","N",1.25,24,null,"NA",null,"NA","NA","NA",2,214,4,726,1.25,60,null,"NA",null,"NA",1000,24,8,"UT","UTTS","NRES",27200037,272,0.25,2,5000,5000,"IHP","Y",0.25,5000,"Y"]
["SL0000034771",56,"N","Y",1.25,141,null,"NA",null,"NA","NA","NA",2,236.5,4,763.5,null,"NA",null,"NA",null,"NA",1000,141,14,"UT","UTFS","NRES",15700218,157,2,2,2300,5442,"IHP","N",2,5442,"Y"]
["SL0000035628",57,"N","N",0.75,33,null,"NA",null,"NA","NA","NA",2,905,14,46,0.75,49,null,"NA",null,"NA",1000,33,3,"UT","UTFS","NRES",27801170,278,0.25,2,2000,2000,"IHP","N",0.25,2000,"Y"]
["SL0000035631",58,"N","N",2,313,null,"NA",null,"NA","NA","NA",2,720.94,4,279.06,null,"NA",null,"NA",null,"NA",1000,313,3,"UT","UTFS","NRES",27200445,272,2,2,5000,5550,"IHP","N",2,5550,"Y"]
["SL0000036045",59,"N","N","Unknown",273,null,"NA",null,"NA","NA","NA",2,1000,null,"NA",null,"NA",null,"NA",null,"NA",1000,273,5,"UT","UTFS","NRES",50843351,508,0.25,2,3000,2500,"IHP","N",0.25,2500,"Y"]
["SL0000036586",60,"N","N",2,642,null,"NA",null,"NA","NA","NA",2,1000,null,"NA",null,"NA",null,"NA",null,"NA",1000,642,1,"UT","UTTS","NRES",27000062,270,45,2,1400,6050,"IHP","Y",25,4010,"Y"]
["SL0000036605",61,"Y","N",1.25,179,null,"NA",null,"NA","NA","NA",2,94.08,4,905.92,null,"NA",null,"NA",null,"NA",1000,179,13,"UT","UTFS","NRES",27100492,271,2,2,3000,3300,"IHP","N",2,3300,"Y"]
["SL0000037160",62,"N","N",2,343,null,"NA",null,"NA","NA","NA",2,33.200000000000003,4,923.8,0.75,43,null,"NA",null,"NA",1000,343,7,"UT","UTTS","NRES",27201166,272,5,2,5000,6600,"IHP","Y",5,6600,"Y"]
["SL0000037692",63,"N","N",1.25,12,null,"NA",null,"NA","NA","NA",2,254,8,746,null,"NA",null,"NA",null,"NA",1000,12,9,"UT","UTTS","NRES",20800366,208,2,2,3000,5276,"IHP","Y",2,5276,"Y"]
["SL0000037866",64,"N","N",1.25,70,null,"NA",null,"NA","NA","NA",2,764.41,4,235.59,null,"NA",null,"NA",null,"NA",1000,70,3,"UT","UTFS","NRES",27100153,271,2,2,3000,3300,"IHP","N",2,3300,"Y"]
["SL0000039238",65,"N","Y",2,346,null,"NA",null,"NA","NA","NA",2,369.75,4,479.5,0.75,150.75,null,"NA",null,"NA",1000,346,4,"UT","UTFS","NRES",27200167,272,2,2,5000,5550,"IHP","N",2,5550,"Y"]
["SL0000039354",66,"N","N",1.25,138,null,"NA",null,"NA","NA","NA",2,88.36,3,0.36,4,911.28,null,"NA",null,"NA",1000,138,11,"UT","UTFS","NRES",27101463,271,2,2,3000,3300,"IHP","N",2,3300,"Y"]
["SL0000039851",67,"N","N",0.75,14,null,"NA",null,"NA","NA","NA",2,1000,null,"NA",null,"NA",null,"NA",null,"NA",1000,14,5,"UT","UTFS","NRES",25502651,255,2,2,1000,2400,"IHP","N",2,2400,"Y"]
["SL0000040087",68,"N","N",0.75,29,null,"NA",null,"NA","NA","NA",2,1000,null,"NA",null,"NA",null,"NA",null,"NA",1000,29,8,"UT","UTFS","NRES",27200609,272,1,2,5000,5200,"IHP","N",1,5200,"Y"]
["SL0000040406",69,"N","N",1.25,145,null,"NA",null,"NA","NA","NA",2,193,4,651.23,6,155.77000000000001,null,"NA",null,"NA",1000,145,11,"UT","UTTS","NRES",27100274,271,2,2,3000,3300,"IHP","Y",2,3300,"Y"]
["SL0000040816",70,"N","N",1.25,115,null,"NA",null,"NA","NA","NA",2,1000,null,"NA",null,"NA",null,"NA",null,"NA",1000,115,8,"UT","UTFS","NRES",27100744,271,5,2,3000,4000,"IHP","N",5,4000,"Y"]
["SL0000040833",71,"N","N",0.75,33,null,"NA",null,"NA","NA","NA",4,1000,null,"NA",null,"NA",null,"NA",null,"NA",1000,33,8,"UT","UTFS","NRES",27201269,272,5,2,5000,6600,"IHP","N",5,6600,"Y"]
["SL0000041244",72,"N","Y",0.75,79,1.25,6,null,"NA","NA","NA",2,927.88,1.25,72.12,null,"NA",null,"NA",null,"NA",1000,85,4,"UT","UTFS","NRES",25904890,259,2,2,400,955,"IHP","N",2,955,"Y"]
["SL0000041474",73,"N","N",2,42,null,"NA",null,"NA","NA","NA",4,1000,null,"NA",null,"NA",null,"NA",null,"NA",1000,42,9,"UT","UTFS","NRES",20800261,208,5,2,3000,5750,"IHP","N",5,5750,"Y"]
["SL0000041687",74,"N","N",1.25,33,null,"NA",null,"NA","NA","NA",2,114,4,886,null,"NA",null,"NA",null,"NA",1000,33,5,"UT","UTFS","NRES",28100164,281,2,2,3500,3897,"IHP","N",2,3897,"Y"]
["SL0000042121",75,"N","Y",2,329,4,288,null,"NA","NA","NA",4,1000,null,"NA",null,"NA",null,"NA",null,"NA",1000,617,15,"UT","UTTS","NRES",27101733,271,5,2,3000,4000,"IHP","Y",5,4000,"Y"]
["SL0000042451",76,"N","N",1.25,171,null,"NA",null,"NA","NA","NA",2,93.66,4,906.34,null,"NA",null,"NA",null,"NA",1000,171,2,"UT","UTFS","NRES",34600105,346,2,2,650,1390,"IHP","N",2,1390,"Y"]
["SL0000042560",77,"N","N",2,123,null,"NA",null,"NA","NA","NA",2,961.15,4,38.85,null,"NA",null,"NA",null,"NA",1000,123,2,"UT","UTFS","NRES",25503956,255,2,2,1000,2400,"IHP","N",2,2400,"Y"]
["SL0000042648",78,"N","N",2,1,0.75,38,1.25,1,"NA","NA",2,845,6,155,null,"NA",null,"NA",null,"NA",1000,40,3,"UT","UTFS","NRES",15102717,151,2,2,800,1847,"IHP","N",2,1847,"Y"]
["SL0000042865",79,"N","N",0.75,19,null,"NA",null,"NA","NA","NA",3,1000,null,"NA",null,"NA",null,"NA",null,"NA",1000,19,2,"UT","UTFS","NRES",28200353,282,2,2,5000,6113,"IHP","N",2,6113,"Y"]
["SL0000043344",80,"N","N",1.25,88,null,"NA",null,"NA","NA","NA",2,26,4,974,null,"NA",null,"NA",null,"NA",1000,88,11,"UT","UTFS","NRES",27100505,271,0.25,2,3000,3000,"IHP","N",0.25,3000,"Y"]
["SL0000044053",81,"N","Y",2,318,1.25,86,null,"NA","NA","NA",2,800.64,1.25,199.36,null,"NA",null,"NA",null,"NA",1000,404,14,"UT","UTFS","NRES",15700285,157,1,2,2300,5189,"IHP","Y",1,5189,"Y"]
["SL0000044176",82,"N","N",2,126,null,"NA",null,"NA","NA","NA",3,502.29,4,497.71,null,"NA",null,"NA",null,"NA",1000,126,3,"UT","UTFS","NRES",27200593,272,5,2,5000,6600,"IHP","N",5,6600,"Y"]
["SL0000044834",83,"N","N",2,116,null,"NA",null,"NA","NA","NA",2,1000,null,"NA",null,"NA",null,"NA",null,"NA",1000,116,5,"UT","UTFS","NRES",27201248,272,2,2,5000,5550,"IHP","N",2,5550,"Y"]
["SL0000045005",84,"N","Y",3,4,4,347,6,1,"NA","NA",2,368.5,6,631.5,null,"NA",null,"NA",null,"NA",1000,352,3,"UT","UTTS","NRES",27000868,270,45,2,1400,6050,"IHP","Y",25,4010,"Y"]
["SL0000045098",85,"N","Y",3,4,4,347,6,1,"NA","NA",2,368.5,6,631.5,null,"NA",null,"NA",null,"NA",1000,352,3,"UT","UTTS","NRES",27500105,275,45,4,16000,64550,"IHP","Y",25,42800,"Y"]
["SL0000045190",86,"N","N",2,91,null,"NA",null,"NA","NA","NA",4,1000,null,"NA",null,"NA",null,"NA",null,"NA",1000,91,9,"UT","UTIS","NRES",15800075,158,45,3,5000,31000,"IHP","Y",25,23000,"Y"]
["SL0000046223",87,"Y","N",2,91,null,"NA",null,"NA","NA","NA",4,1000,null,"NA",null,"NA",null,"NA",null,"NA",1000,91,9,"UT","UTFS","NRES",20800337,208,1,2,3000,5118,"IHP","N",1,5118,"Y"]
["SL0000046310",88,"N","N",1.25,75,null,"NA",null,"NA","NA","NA",2,224.49,4,775.51,null,"NA",null,"NA",null,"NA",1000,75,7,"UT","UTFS","NRES",20800569,208,0.25,2,3000,2500,"IHP","N",0.25,2500,"Y"]
["SL0000046367",89,"N","N",4,1,1.25,217,null,"NA","NA","NA",2,421.24,4,578.76,null,"NA",null,"NA",null,"NA",1000,218,3,"UT","UTFS","NRES",27800822,278,2,2,2000,2225,"IHP","N",2,2225,"Y"]
["SL0000046597",90,"N","N",1.25,175,null,"NA",null,"NA","NA","NA",2,11,3,989,null,"NA",null,"NA",null,"NA",1000,175,7,"UT","UTFS","NRES",27000525,270,0.25,2,1400,1500,"IHP","N",0.25,1500,"Y"]
["SL0000047461",91,"N","N",1.25,84,null,"NA",null,"NA","NA","NA",2,782.51,4,217.49,null,"NA",null,"NA",null,"NA",1000,84,4,"UT","UTFS","NRES",15600978,156,2,2,1400,3265,"IHP","N",2,3265,"Y"]
["SL0000047856",92,"N","N",0.75,61,null,"NA",null,"NA","NA","NA",4,899.96,0.75,100.04,null,"NA",null,"NA",null,"NA",1000,61,6,"UT","UTFS","NRES",15600514,156,0.25,2,1400,1400,"IHP","N",0.25,1400,"Y"]
["SL0000048240",93,"N","N",1.25,112,null,"NA",null,"NA","NA","NA",2,1000,null,"NA",null,"NA",null,"NA",null,"NA",1000,112,3,"UT","UTFS","NRES",28100334,281,0.25,2,3500,3500,"IHP","N",0.25,3500,"Y"]
["SL0000048354",94,"N","N",1.25,15,null,"NA",null,"NA","NA","NA",2,973.73,1.25,26.27,null,"NA",null,"NA",null,"NA",1000,15,11,"UT","UTFS","NRES",27101311,271,2,2,3000,3300,"IHP","N",2,3300,"Y"]
["SL0000048695",95,"N","N",2,110,null,"NA",null,"NA","NA","NA",4,1000,null,"NA",null,"NA",null,"NA",null,"NA",1000,110,4,"UT","UTTS","NRES",28200198,282,1,2,5000,5740,"IHP","Y",1,5740,"Y"]
["SL0000048825",96,"N","N",2,115,null,"NA",null,"NA","NA","NA",3,97.09,6,902.91,null,"NA",null,"NA",null,"NA",1000,115,5,"UT","UTFS","NRES",27200136,272,5,2,5000,6600,"IHP","N",5,6600,"Y"]
["SL0000049039",97,"N","N",1.25,197,null,"NA",null,"NA","NA","NA",2,170.87,3,829.13,null,"NA",null,"NA",null,"NA",1000,197,2,"UT","UTFS","NRES",15103547,151,5,2,800,2100,"IHP","N",5,2100,"Y"]
["SL0000049059",98,"N","N",1.25,119,null,"NA",null,"NA","NA","NA",2,82.16,4,917.84,null,"NA",null,"NA",null,"NA",1000,119,6,"UT","UTFS","NRES",27800243,278,2,2,2000,2225,"IHP","N",2,2225,"Y"]
["SL0000049499",99,"N","N",1.25,57,null,"NA",null,"NA","NA","NA",2,1000,null,"NA",null,"NA",null,"NA",null,"NA",1000,57,3,"UT","UTFS","NRES",27000155,270,2,2,1400,1670,"IHP","N",2,1670,"Y"]
["SL0000050326",100,"N","N",1.25,228,null,"NA",null,"NA","NA","NA",2,16,4,984,null,"NA",null,"NA",null,"NA",1000,228,1,"UT","UTFS","NRES",27100967,271,5,2,3000,4000,"IHP","N",5,4000,"Y"]
["SL0000050360",101,"N","N",2,133,1.25,33,null,"NA","NA","NA",2,293.24,4,651.59,1.25,55.17,null,"NA",null,"NA",1000,166,10,"UT","UTFS","NRES",27100923,271,1,2,3000,3100,"IHP","N",1,3100,"Y"]
["SL0000051221",102,"N","N",1.25,33,null,"NA",null,"NA","NA","NA",2,1000,null,"NA",null,"NA",null,"NA",null,"NA",1000,33,3,"UT","UTFS","NRES",28200407,282,0.25,2,5000,5500,"IHP","N",0.25,5500,"Y"]
["SL0000051820",103,"N","N",1.25,64,null,"NA",null,"NA","NA","NA",2,971,0.75,29,null,"NA",null,"NA",null,"NA",1000,64,3,"UT","UTFS","NRES",28100277,281,2,2,3500,3897,"IHP","N",2,3897,"Y"]
["SL0000051961",104,"N","N",0.75,95,null,"NA",null,"NA","NA","NA",2,327.13,4,672.87,null,"NA",null,"NA",null,"NA",1000,95,5,"UT","UTFS","NRES",27100895,271,0.25,2,3000,3000,"IHP","N",0.25,3000,"Y"]
["SL0000052452",105,"N","Y",1.25,146,null,"NA",null,"NA","NA","NA",4,747.5,6,252.5,null,"NA",null,"NA",null,"NA",1000,146,4,"UT","UTFS","NRES",25502759,255,2,2,1000,2400,"IHP","N",2,2400,"Y"]
["SL0000053014",106,"N","N",1.25,229,null,"NA",null,"NA","NA","NA",4,918.11,6,81.89,null,"NA",null,"NA",null,"NA",1000,229,3,"UT","UTFS","NRES",27100353,271,0.25,2,3000,3000,"IHP","N",0.25,3000,"Y"]
["SL0000053660",107,"N","N",0.75,45,null,"NA",null,"NA","NA","NA",2,370,4,630,null,"NA",null,"NA",null,"NA",1000,45,12,"UT","UTFS","NRES",25500804,255,2,2,1000,2400,"IHP","N",2,2400,"Y"]
["SL0000053998",108,"N","N",2,298,null,"NA",null,"NA","NA","NA",2,98.93,4,901.07,null,"NA",null,"NA",null,"NA",1000,298,2,"UT","UTFS","NRES",15103733,151,2,2,800,1847,"IHP","N",2,1847,"Y"]
["SL0000054181",109,"N","N",2,258,null,"NA",null,"NA","NA","NA",2,119.54,4,129.47,8,751,null,"NA",null,"NA",1000.01,258,9,"UT","UTFS","NRES",20800012,208,0.25,2,3000,2500,"IHP","N",0.25,2500,"Y"]
["SL0000054284",110,"N","N",0.75,149,null,"NA",null,"NA","NA","NA",2,36.25,6,963.75,null,"NA",null,"NA",null,"NA",1000,149,2,"UT","UTFS","NRES",27000166,270,2,2,1400,1670,"IHP","N",2,1670,"Y"]
["SL0000054483",111,"N","N",0.75,63,null,"NA",null,"NA","NA","NA",2,516,1.25,55,null,"NA",null,"NA",null,"NA",571,63,4,"UT","UTFS","NRES",25502485,255,5,2,1000,2700,"IHP","N",5,2700,"Y"]
["SL0000055501",112,"N","N",2,288,null,"NA",null,"NA","NA","NA",2,1000,null,"NA",null,"NA",null,"NA",null,"NA",1000,288,6,"UT","UTFS","NRES",15800112,158,0.25,2,5000,5000,"IHP","N",0.25,5000,"Y"]
["SL0000055551",113,"N","N",1.25,146,null,"NA",null,"NA","NA","NA",2,40,4,960,null,"NA",null,"NA",null,"NA",1000,146,5,"UT","UTFS","NRES",751000211,751,2,2,0,1847,"IHP","N",2,1847,"Y"]
["SL0000055582",114,"N","N",1.25,118,null,"NA",null,"NA","NA","NA",2,363.52,4,636.48,null,"NA",null,"NA",null,"NA",1000,118,3,"UT","UTTS","NRES",20800753,208,0.25,2,3000,2500,"IHP","Y",0.25,2500,"Y"]
["SL0000055836",115,"N","N",1.25,385,null,"NA",null,"NA","NA","NA",4,1000,null,"NA",null,"NA",null,"NA",null,"NA",1000,385,2,"UT","UTFS","NRES",28200107,282,2,2,5000,6113,"IHP","N",2,6113,"Y"]
["SL0000056533",116,"N","N",1.25,139,null,"NA",null,"NA","NA","NA",4,863.4,6,61.4,8,75.2,null,"NA",null,"NA",1000,139,5,"UT","UTFS","NRES",27200073,272,5,2,5000,6600,"IHP","N",5,6600,"Y"]
["SL0000056980",117,"N","N",1.25,276,null,"NA",null,"NA","NA","NA",6,295.77999999999997,8,704.22,null,"NA",null,"NA",null,"NA",1000,276,1,"UT","UTFS","NRES",28100372,281,2,2,3500,3897,"IHP","N",2,3897,"Y"]
["SL0000057218",118,"N","Y",0.75,14,null,"NA",null,"NA","NA","NA",2,1000,null,"NA",null,"NA",null,"NA",null,"NA",1000,14,4,"UT","UTFS","NRES",28100205,281,2,2,3500,3897,"IHP","N",2,3897,"Y"]
["SL0000058038",119,"N","Y",1.25,112,null,"NA",null,"NA","NA","NA",4,817.1,8,182.9,null,"NA",null,"NA",null,"NA",1000,112,9,"UT","UTFS","NRES",27800781,278,0.25,2,2000,2000,"IHP","N",0.25,2000,"Y"]
["SL0000058249",120,"N","N",2,61,null,"NA",null,"NA","NA","NA",4,1000,null,"NA",null,"NA",null,"NA",null,"NA",1000,61,3,"UT","UTFS","NRES",27100508,271,5,2,3000,4000,"IHP","N",5,4000,"Y"]
["SL0000058476",121,"N","N",1.25,62,null,"NA",null,"NA","NA","NA",4,1000,null,"NA",null,"NA",null,"NA",null,"NA",1000,62,2,"UT","UTFS","NRES",23200068,232,5,2,5000,6585,"IHP","N",5,6585,"Y"]
["SL0000058603",122,"N","N",1.25,79,null,"NA",null,"NA","NA","NA",2,1000,null,"NA",null,"NA",null,"NA",null,"NA",1000,79,10,"UT","UTFS","NRES",20800427,208,5,2,3000,5750,"IHP","N",5,5750,"Y"]
["SL0000058858",123,"N","N",2,214,null,"NA",null,"NA","NA","NA",2,309.56,4,690.44,null,"NA",null,"NA",null,"NA",1000,214,11,"UT","UTIS","NRES",15102826,151,5,2,800,2100,"IHP","Y",5,2100,"Y"]
["SL0000058921",124,"N","N",1.25,95,null,"NA",null,"NA","NA","NA",2,694,10,217,1.25,89,null,"NA",null,"NA",1000,95,6,"UT","UTFS","NRES",25502555,255,2,2,1000,2400,"IHP","N",2,2400,"Y"]
["SL0000059512",125,"N","N",2,126,null,"NA",null,"NA","NA","NA",4,1000,null,"NA",null,"NA",null,"NA",null,"NA",1000,126,4,"UT","UTFS","NRES",28100443,281,2,2,3500,3897,"IHP","N",2,3897,"Y"]
["SL0000059672",126,"N","N",1.25,36,null,"NA",null,"NA","NA","NA",2,877.05,1.25,122.95,null,"NA",null,"NA",null,"NA",1000,36,3,"UT","UTFS","NRES",15700220,157,5,2,2300,6200,"IHP","N",5,6200,"Y"]
["SL0000059779",127,"N","N",2,243,null,"NA",null,"NA","NA","NA",2,234.54,4,765.46,null,"NA",null,"NA",null,"NA",1000,243,4,"UT","UTFS","NRES",15800306,158,0.25,2,5000,5000,"IHP","N",0.25,5000,"Y"]
["SL0000059859",128,"N","N",0.75,189,null,"NA",null,"NA","NA","NA",2,934.47,3,63.53,1.25,2,null,"NA",null,"NA",1000,189,2,"UT","UTFS","NRES",27800171,278,0.25,2,2000,2000,"IHP","N",0.25,2000,"Y"]
["SL0000060049",129,"N","N",4,11,null,"NA",null,"NA","NA","NA",4,1000,null,"NA",null,"NA",null,"NA",null,"NA",1000,11,4,"UT","UTTS","NRES",26900105,269,45,2,800,3230,"IHP","Y",25,2140,"Y"]
["SL0000060516",130,"N","N",4,11,null,"NA",null,"NA","NA","NA",4,1000,null,"NA",null,"NA",null,"NA",null,"NA",1000,11,4,"UT","UTTS","NRES",11400053,114,45,4,18000,72000,"IHP","Y",25,48000,"Y"]
["SL0000060724",131,"N","N",1.25,139,null,"NA",null,"NA","NA","NA",2,520,4,399,6,81,null,"NA",null,"NA",1000,139,6,"UT","UTTS","NRES",27101021,271,2,2,3000,3300,"IHP","Y",2,3300,"Y"]
["SL0000061553",132,"N","N",0.75,113,null,"NA",null,"NA","NA","NA",2,2.2000000000000002,4,997.8,null,"NA",null,"NA",null,"NA",1000,113,9,"UT","UTFS","NRES",34605639,346,2,2,650,1390,"IHP","N",2,1390,"Y"]
["SL0000061929",133,"N","N",1.25,26,null,"NA",null,"NA","NA","NA",4,335,6,665,null,"NA",null,"NA",null,"NA",1000,26,6,"UT","UTFS","NRES",27200854,272,0.25,2,5000,5000,"IHP","N",0.25,5000,"Y"]
["SL0000061951",134,"N","N",0.75,105,null,"NA",null,"NA","NA","NA",2,678,3,73.5,4,248.5,null,"NA",null,"NA",1000,105,10,"UT","UTFS","NRES",11500943,115,5,2,1000,2530,"IHP","N",5,2530,"Y"]
["SL0000062190",135,"N","N",1.25,39,null,"NA",null,"NA","NA","NA",4,102.19,6,897.81,null,"NA",null,"NA",null,"NA",1000,39,4,"UT","UTFS","NRES",27101051,271,2,2,3000,3300,"IHP","N",2,3300,"Y"]
["SL0000062768",136,"N","Y",2,106,3,314,null,"NA","NA","NA",3,197.2,4,802.8,null,"NA",null,"NA",null,"NA",1000,420,13,"UT","UTFS","NRES",15700089,157,1,2,2300,5189,"IHP","N",1,5189,"Y"]
["SL0000063426",137,"N","N",3,485,null,"NA",null,"NA","NA","NA",3,2.16,4,223.98,6,773.86,null,"NA",null,"NA",1000,485,1,"UT","UTFS","NRES",27200486,272,0.25,2,5000,5000,"IHP","N",0.25,5000,"Y"]
["SL0000063836",138,"N","N",2,60,null,"NA",null,"NA","NA","NA",4,1000,null,"NA",null,"NA",null,"NA",null,"NA",1000,60,8,"UT","UTTS","NRES",23800043,238,15,2,0,0,"IHP","Y",15,3990,"Y"]
["SL0000064351",139,"N","N",2,199,null,"NA",null,"NA","NA","NA",2,130.03,4,869.97,null,"NA",null,"NA",null,"NA",1000,199,6,"UT","UTFS","NRES",20800178,208,5,2,3000,5750,"IHP","N",5,5750,"Y"]
["SL0000064636",140,"N","N",2,395,null,"NA",null,"NA","NA","NA",2,10,4,927.74,6,62.26,null,"NA",null,"NA",1000,395,2,"UT","UTFS","NRES",25501172,255,5,2,1000,2700,"IHP","N",5,2700,"Y"]
["SL0000064733",141,"N","N",2,395,null,"NA",null,"NA","NA","NA",2,10,4,927.74,6,62.26,null,"NA",null,"NA",1000,395,2,"UT","UTFS","NRES",27200295,272,5,2,5000,6600,"IHP","N",5,6600,"Y"]
["SL0000064936",142,"N","Y",1.25,264,null,"NA",null,"NA","NA","NA",2,297,6,703,null,"NA",null,"NA",null,"NA",1000,264,7,"UT","UTFS","NRES",27101303,271,0.25,2,3000,3000,"IHP","N",0.25,3000,"Y"]
["SL0000064947",143,"N","N",2,205,null,"NA",null,"NA","NA","NA",2,1000,null,"NA",null,"NA",null,"NA",null,"NA",1000,205,2,"UT","UTFS","NRES",25502320,255,2,2,1000,2400,"IHP","N",2,2400,"Y"]
["SL0000064989",144,"N","N",2,205,null,"NA",null,"NA","NA","NA",2,1000,null,"NA",null,"NA",null,"NA",null,"NA",1000,205,2,"UT","UTFS","NRES",27200296,272,0.25,2,5000,5000,"IHP","N",0.25,5000,"Y"]
["SL0000065590",145,"N","N",0.75,111,null,"NA",null,"NA","NA","NA",4,1000,null,"NA",null,"NA",null,"NA",null,"NA",1000,111,16,"UT","UTFS","NRES",27100564,271,2,2,3000,3300,"IHP","N",2,3300,"Y"]
["SL0000065900",146,"N","N",1.25,638,null,"NA",null,"NA","NA","NA",2,1000,null,"NA",null,"NA",null,"NA",null,"NA",1000,638,8,"UT","UTFS","NRES",25504676,255,5,2,1000,2700,"IHP","N",5,2700,"Y"]
["SL0000065935",147,"N","N",1.25,165,null,"NA",null,"NA","NA","NA",2,770,1.25,230,null,"NA",null,"NA",null,"NA",1000,165,4,"UT","UTFS","NRES",27101129,271,0.25,2,3000,3000,"IHP","N",0.25,3000,"Y"]
["SL0000066139",148,"N","Y",1.25,214,null,"NA",null,"NA","NA","NA",2,166.64,4,833.36,null,"NA",null,"NA",null,"NA",1000,214,3,"UT","UTFS","NRES",27801124,278,0.25,2,2000,2000,"IHP","N",0.25,2000,"Y"]
["SL0000066453",149,"N","N",1.25,42,null,"NA",null,"NA","NA","NA",2,297.48,3,702.52,null,"NA",null,"NA",null,"NA",1000,42,3,"UT","UTFS","NRES",27100745,271,0.25,2,3000,3000,"IHP","N",0.25,3000,"Y"]
["SL0000066736",150,"N","N",2,2,null,"NA",null,"NA","NA","NA",2,849.45,4,150.55000000000001,null,"NA",null,"NA",null,"NA",1000,2,4,"UT","UTFS","NRES",28100563,281,2,2,3500,3897,"IHP","N",2,3897,"Y"]
["SL0000066941",151,"N","N",1.25,84,null,"NA",null,"NA","NA","NA",4,1000,null,"NA",null,"NA",null,"NA",null,"NA",1000,84,4,"UT","UTFS","NRES",28100250,281,2,2,3500,3897,"IHP","N",2,3897,"Y"]
["SL0000066987",152,"N","N",0.75,78,null,"NA",null,"NA","NA","NA",4,1000,null,"NA",null,"NA",null,"NA",null,"NA",1000,78,4,"UT","UTFS","NRES",25503857,255,2,2,1000,2400,"IHP","N",2,2400,"Y"]
["SL0000067512",153,"N","Y",1.25,321,null,"NA",null,"NA","NA","NA",2,33.979999999999997,4,870.02,6,96,null,"NA",null,"NA",1000,321,11,"UT","UTFS","NRES",27200458,272,0.25,2,5000,5000,"IHP","N",0.25,5000,"Y"]
["SL0000068193",154,"N","N",2,39,null,"NA",null,"NA","NA","NA",2,607.82000000000005,4,392.18,null,"NA",null,"NA",null,"NA",1000,39,12,"UT","UTFS","NRES",27101715,271,2,2,3000,3300,"IHP","N",2,3300,"Y"]
["SL0000068970",155,"N","N",2,39,null,"NA",null,"NA","NA","NA",2,607.82000000000005,4,392.18,null,"NA",null,"NA",null,"NA",1000,39,12,"UT","UTFS","NRES",27300009,273,45,3,7000,28250,"IHP","Y",25,18700,"Y"]
["SL0000069039",156,"N","N",1.25,99,null,"NA",null,"NA","NA","NA",4,742,6,216.24,8,41.76,null,"NA",null,"NA",1000,99,4,"UT","UTFS","NRES",27101019,271,2,2,3000,3300,"IHP","N",2,3300,"Y"]
["SL0000070060",157,"N","N",1.25,250,null,"NA",null,"NA","NA","NA",2,474.54,4,361.9,10,163.57,null,"NA",null,"NA",1000.01,250,2,"UT","UTFS","NRES",25502068,255,2,2,1000,2400,"IHP","N",2,2400,"Y"]
["SL0000070135",158,"N","Y",1.25,24,null,"NA",null,"NA","NA","NA",4,820.94,6,179.06,null,"NA",null,"NA",null,"NA",1000,24,6,"UT","UTFS","NRES",27100719,271,0.25,2,3000,3000,"IHP","N",0.25,3000,"Y"]
["SL0000070806",159,"N","N",2,2,1.25,103,null,"NA","NA","NA",2,1000,null,"NA",null,"NA",null,"NA",null,"NA",1000,105,2,"UT","UTFS","NRES",27000876,270,2,2,1400,1670,"IHP","N",2,1670,"Y"]
["SL0000070888",160,"N","N",1.25,54,null,"NA",null,"NA","NA","NA",2,198.78,4,801.22,null,"NA",null,"NA",null,"NA",1000,54,3,"UT","UTFS","NRES",27200413,272,5,2,5000,6600,"IHP","N",5,6600,"Y"]
["SL0000070994",161,"N","N",1.25,232,null,"NA",null,"NA","NA","NA",2,75.400000000000006,4,650.62,6,140.97999999999999,1.25,133,null,"NA",1000,232,5,"UT","UTFS","NRES",11501401,115,0.25,2,1000,1000,"IHP","N",0.25,1000,"Y"]
["SL0000071502",162,"N","N",1.25,19,null,"NA",null,"NA","NA","NA",2,913.73,4,86.27,null,"NA",null,"NA",null,"NA",1000,19,5,"UT","UTFS","NRES",27200378,272,5,2,5000,6600,"IHP","N",5,6600,"Y"]
["SL0000071697",163,"N","N",2,1,1.25,208,null,"NA","NA","NA",2,814.84,4,173.27,6,11.9,null,"NA",null,"NA",1000.01,209,8,"UT","UTFS","NRES",15600439,156,2,2,1400,3265,"IHP","N",2,3265,"Y"]
["SL0000072235",164,"N","N",1.25,56,null,"NA",null,"NA","NA","NA",2,90.96,3,191.91,4,717.13,null,"NA",null,"NA",1000,56,7,"UT","UTFS","NRES",15500840,155,1,2,1000,2300,"IHP","N",1,2300,"Y"]
["SL0000072958",165,"N","N",6,549,null,"NA",null,"NA","NA","NA",2,0.5,6,999.5,null,"NA",null,"NA",null,"NA",1000,549,1,"UT","UTIS","NRES",23800002,238,5,2,0,2630,"IHP","N",5,2630,"Y"]
["SL0000073163",166,"N","N",6,549,null,"NA",null,"NA","NA","NA",2,0.5,6,999.5,null,"NA",null,"NA",null,"NA",1000,549,1,"UT","UTIS","NRES",15301026,153,45,4,30000,142000,"IHP","Y",25,94000,"Y"]
["SL0000073199",167,"N","N",0.75,9,null,"NA",null,"NA","NA","NA",2,733.03,3,93.97,1.25,173,null,"NA",null,"NA",1000,9,7,"UT","UTFS","NRES",15103074,151,2,2,800,1847,"IHP","N",2,1847,"Y"]
["SL0000073359",168,"N","N",1.25,199,null,"NA",null,"NA","NA","NA",2,290,4,710,null,"NA",null,"NA",null,"NA",1000,199,1,"UT","UTFS","NRES",27201172,272,2,2,5000,5550,"IHP","N",2,5550,"Y"]
["SL0000073385",169,"N","N",1.25,157,null,"NA",null,"NA","NA","NA",3,114.21,4,885.79,null,"NA",null,"NA",null,"NA",1000,157,1,"UT","UTFS","NRES",25503558,255,5,2,1000,2700,"IHP","N",5,2700,"Y"]
["SL0000074052",170,"N","Y",2,277,1.25,119,null,"NA","NA","NA",2,172.5,3,827.5,null,"NA",null,"NA",null,"NA",1000,396,6,"UT","UTFS","NRES",11500346,115,0.25,2,1000,1000,"IHP","N",0.25,1000,"Y"]
["SL0000074188",171,"N","N",1.25,175,null,"NA",null,"NA","NA","NA",2,646,4,354,null,"NA",null,"NA",null,"NA",1000,175,12,"UT","UTFS","NRES",27100210,271,2,2,3000,3300,"IHP","N",2,3300,"Y"]
["SL0000074373",172,"N","N",1.25,175,null,"NA",null,"NA","NA","NA",2,646,4,354,null,"NA",null,"NA",null,"NA",1000,175,12,"UT","UTGS","NRES",27800149,278,0.25,2,2000,2000,"IHP","N",0.25,2000,"Y"]
["SL0000075253",173,"N","N",0.75,112,null,"NA",null,"NA","NA","NA",2,34.5,4,253.32,6,58.5,8,585.35,1.25,68.33,1000,112,4,"UT","UTFS","NRES",11500838,115,1,2,1000,2252,"IHP","N",1,2252,"Y"]
["SL0000075306",174,"N","N",1.25,29,null,"NA",null,"NA","NA","NA",2,1000,null,"NA",null,"NA",null,"NA",null,"NA",1000,29,5,"UT","UTFS","NRES",27100640,271,2,2,3000,3300,"IHP","N",2,3300,"Y"]
["SL0000076712",175,"N","N",1.25,72,null,"NA",null,"NA","NA","NA",2,258.95,4,741.05,null,"NA",null,"NA",null,"NA",1000,72,6,"UT","UTFS","NRES",28200216,282,2,2,5000,6113,"IHP","N",2,6113,"Y"]
["SL0000076724",176,"N","N",1.25,149,null,"NA",null,"NA","NA","NA",2,95.78,4,904.22,null,"NA",null,"NA",null,"NA",1000,149,11,"UT","UTFS","NRES",20800429,208,0.25,2,3000,2500,"IHP","N",0.25,2500,"Y"]
["SL0000077243",177,"N","N",1.25,161,null,"NA",null,"NA","NA","NA",3,611.38,6,388.62,null,"NA",null,"NA",null,"NA",1000,161,6,"UT","UTFS","NRES",27200382,272,0.25,2,5000,5000,"IHP","N",0.25,5000,"Y"]
["SL0000078356",178,"N","N",1.25,52,null,"NA",null,"NA","NA","NA",2,1000,null,"NA",null,"NA",null,"NA",null,"NA",1000,52,7,"UT","UTFS","NRES",25501572,255,5,2,1000,2700,"IHP","N",5,2700,"Y"]
["SL0000079159",179,"N","N",1.25,147,null,"NA",null,"NA","NA","NA",2,375.72,4,477.28,1.25,147,null,"NA",null,"NA",1000,147,1,"UT","UTFS","NRES",25503734,255,2,2,1000,2400,"IHP","N",2,2400,"Y"]
["SL0000079757",180,"N","N",1.25,169,null,"NA",null,"NA","NA","NA",2,140.56,4,859.44,null,"NA",null,"NA",null,"NA",1000,169,5,"UT","UTFS","NRES",27100288,271,2,2,3000,3300,"IHP","N",2,3300,"Y"]
["SL0000080253",181,"N","N",1.25,143,null,"NA",null,"NA","NA","NA",2,186.69,3,104.81,6,708.5,null,"NA",null,"NA",1000,143,1,"UT","UTFS","NRES",25500004,255,2,2,1000,2400,"IHP","N",2,2400,"Y"]
["SL0000080260",182,"N","N",1.25,34,null,"NA",null,"NA","NA","NA",2,87.8,6,912.2,null,"NA",null,"NA",null,"NA",1000,34,8,"UT","UTFS","NRES",27101430,271,2,2,3000,3300,"IHP","N",2,3300,"Y"]
["SL0000080483",183,"N","N",1.25,47,null,"NA",null,"NA","NA","NA",2,275.89999999999998,3,635.14,1.25,88.96,null,"NA",null,"NA",1000,47,7,"UT","UTFS","NRES",15600816,156,0.25,2,1400,1400,"IHP","N",0.25,1400,"Y"]
["SL0000081090",184,"N","N",1.25,48,null,"NA",null,"NA","NA","NA",2,1000,null,"NA",null,"NA",null,"NA",null,"NA",1000,48,3,"UT","UTFS","NRES",28100143,281,5,2,3500,4610,"IHP","N",5,4610,"Y"]
["SL0000081130",185,"N","N",1.25,68,null,"NA",null,"NA","NA","NA",6,1000,null,"NA",null,"NA",null,"NA",null,"NA",1000,68,2,"UT","UTFS","NRES",28200040,282,0.25,2,5000,5500,"IHP","N",0.25,5500,"Y"]
["SL0000081181",186,"N","N",1.25,293,null,"NA",null,"NA","NA","NA",2,741.42,1.25,258.58,null,"NA",null,"NA",null,"NA",1000,293,7,"UT","UTFS","NRES",27100195,271,2,2,3000,3300,"IHP","N",2,3300,"Y"]
["SL0000081443",187,"N","N",1.25,254,null,"NA",null,"NA","NA","NA",2,50.84,4,949.16,null,"NA",null,"NA",null,"NA",1000,254,3,"UT","UTTS","NRES",27201155,272,2,2,5000,5550,"IHP","Y",2,5550,"Y"]
["SL0000081447",188,"N","N",1.25,76,null,"NA",null,"NA","NA","NA",2,1000,null,"NA",null,"NA",null,"NA",null,"NA",1000,76,2,"UT","UTFS","NRES",28100458,281,5,2,3500,4610,"IHP","N",5,4610,"Y"]
["SL0000081970",189,"N","N",1.25,53,null,"NA",null,"NA","NA","NA",4,1000,null,"NA",null,"NA",null,"NA",null,"NA",1000,53,1,"UT","UTFS","NRES",15800210,158,0.25,2,5000,5000,"IHP","N",0.25,5000,"Y"]
["SL0000082090",190,"N","N",2,198,null,"NA",null,"NA","NA","NA",2,386.5,4,613.5,null,"NA",null,"NA",null,"NA",1000,198,3,"UT","UTFS","NRES",27200402,272,0.25,2,5000,5000,"IHP","N",0.25,5000,"Y"]
["SL0000082427",191,"N","N",1.25,13,null,"NA",null,"NA","NA","NA",2,66.22,4,63.78,6,838.61,10,31.39,null,"NA",1000,13,5,"UT","UTFS","NRES",27101534,271,2,2,3000,3300,"IHP","N",2,3300,"Y"]
["SL0000082759",192,"N","N",1.25,64,null,"NA",null,"NA","NA","NA",4,1000,null,"NA",null,"NA",null,"NA",null,"NA",1000,64,12,"UT","UTFS","NRES",27100632,271,2,2,3000,3300,"IHP","N",2,3300,"Y"]
["SL0000083492",193,"N","N",3,531,null,"NA",null,"NA","NA","NA",2,203.89,4,796.11,null,"NA",null,"NA",null,"NA",1000,531,2,"UT","UTTS","NRES",26900129,269,45,2,800,3230,"IHP","Y",25,2140,"Y"]
["SL0000083606",194,"N","N",3,531,null,"NA",null,"NA","NA","NA",2,203.89,4,796.11,null,"NA",null,"NA",null,"NA",1000,531,2,"UT","UTTS","NRES",23400127,234,45,4,11000,44352,"IHP","Y",25,29425,"Y"]
["SL0000084194",195,"N","N",1.25,77,null,"NA",null,"NA","NA","NA",2,12.73,4,874.08,6,113.19,null,"NA",null,"NA",1000,77,5,"UT","UTFS","NRES",27200360,272,5,2,5000,6600,"IHP","N",5,6600,"Y"]
["SL0000084595",196,"N","N",6,51,null,"NA",null,"NA","NA","NA",6,1000,null,"NA",null,"NA",null,"NA",null,"NA",1000,51,1,"UT","UTTS","NRES",15301028,153,45,4,30000,142000,"IHP","Y",25,94000,"Y"]
["SL0000085572",197,"N","N",6,51,null,"NA",null,"NA","NA","NA",6,1000,null,"NA",null,"NA",null,"NA",null,"NA",1000,51,1,"UT","UTTS","NRES",27801154,278,5,2,2000,2630,"IHP","Y",5,2630,"Y"]
["SL0000085583",198,"N","N",0.75,9,null,"NA",null,"NA","NA","NA",2,748.55,4,251.45,null,"NA",null,"NA",null,"NA",1000,9,5,"UT","UTFS","NRES",34605199,346,2,2,650,1390,"IHP","N",2,1390,"Y"]
["SL0000085790",199,"N","N",1.25,82,null,"NA",null,"NA","NA","NA",1,59.5,2,589.25,4,156.25,6,193,8,2,1000,82,3,"UT","UTFS","NRES",28200036,282,2,2,5000,6113,"IHP","N",2,6113,"Y"]
["SL0000086515",200,"N","N",1.25,141,null,"NA",null,"NA","NA","NA",3,572.39,4,427.61,null,"NA",null,"NA",null,"NA",1000,141,2,"UT","UTFS","NRES",27000473,270,0.25,2,1400,1500,"IHP","N",0.25,1500,"Y"]
["SL0000086734",201,"Y","N",2,59,null,"NA",null,"NA","NA","NA",4,234.63,6,592.75,8,86.31,12,86.31,null,"NA",1000,59,2,"UT","UTFS","NRES",27200552,272,5,2,5000,6600,"IHP","N",5,6600,"Y"]
["SL0000086778",202,"N","N",1.25,119,null,"NA",null,"NA","NA","NA",2,330.75,4,669.25,null,"NA",null,"NA",null,"NA",1000,119,35,"UT","UTFS","NRES",27100890,271,5,2,3000,4000,"IHP","N",5,4000,"Y"]
["SL0000086798",203,"N","N",1.25,19,null,"NA",null,"NA","NA","NA",4,335,6,665,null,"NA",null,"NA",null,"NA",1000,19,6,"UT","UTFS","NRES",27101208,271,2,2,3000,3300,"IHP","N",2,3300,"Y"]
["SL0000087099",204,"N","N",1.25,103,null,"NA",null,"NA","NA","NA",4,1000,null,"NA",null,"NA",null,"NA",null,"NA",1000,103,5,"UT","UTFS","NRES",25500980,255,2,2,1000,2400,"IHP","N",2,2400,"Y"]
["SL0000087815",205,"N","N",1.25,199,null,"NA",null,"NA","NA","NA",2,491,4,509,null,"NA",null,"NA",null,"NA",1000,199,4,"UT","UTTS","NRES",28100290,281,2,2,3500,3897,"IHP","Y",2,3897,"Y"]
["SL0000088030",206,"N","N",2,458,null,"NA",null,"NA","NA","NA",2,413.88,3,354.56,4,3,6,222.56,1.25,6,1000,458,6,"UT","UTFS","NRES",15700236,157,5,2,2300,6200,"IHP","N",5,6200,"Y"]
["SL0000088032",207,"N","N",2,58,4,208,null,"NA","NA","NA",3,687.5,4,312.5,null,"NA",null,"NA",null,"NA",1000,266,2,"UT","UTTS","NRES",27500092,275,5,3,16000,21100,"IHP","Y",5,21100,"Y"]
["SL0000088090",208,"N","N",2,58,4,208,null,"NA","NA","NA",3,687.5,4,312.5,null,"NA",null,"NA",null,"NA",1000,266,2,"UT","UTFS","NRES",34601131,346,5,2,650,1515,"IHP","N",5,1515,"Y"]
["SL0000088720",209,"N","N",2,56,1.25,30,null,"NA","NA","NA",2,678,3,87.1,4,234.9,null,"NA",null,"NA",1000,86,9,"UT","UTFS","NRES",27201277,272,5,2,5000,6600,"IHP","N",5,6600,"Y"]
["SL0000088753",210,"N","N",2,174,null,"NA",null,"NA","NA","NA",2,334,4,666,null,"NA",null,"NA",null,"NA",1000,174,5,"UT","UTFS","NRES",27200427,272,2,2,5000,5550,"IHP","N",2,5550,"Y"]
["SL0000089819",211,"N","N",0.75,25,null,"NA",null,"NA","NA","NA",2,203.77,4,567.75,1.25,228.48,null,"NA",null,"NA",1000,25,4,"UT","UTFS","NRES",20800572,208,0.25,2,3000,2500,"IHP","N",0.25,2500,"Y"]
["SL0000090001",212,"N","N",1.25,21,null,"NA",null,"NA","NA","NA",2,1000,null,"NA",null,"NA",null,"NA",null,"NA",1000,21,5,"UT","UTTS","NRES",27100803,271,5,2,3000,4000,"IHP","Y",5,4000,"Y"]
["SL0000090222",213,"N","N",1.25,159,null,"NA",null,"NA","NA","NA",2,955.62,4,44.38,null,"NA",null,"NA",null,"NA",1000,159,5,"UT","UTFS","NRES",27200396,272,2,2,5000,5550,"IHP","N",2,5550,"Y"]
["SL0000090455",214,"N","N",2,170,null,"NA",null,"NA","NA","NA",2,1000,null,"NA",null,"NA",null,"NA",null,"NA",1000,170,9,"UT","UTFS","NRES",27400297,274,5,3,11000,14500,"IHP","N",5,14500,"Y"]
["SL0000090520",215,"N","N",2,170,null,"NA",null,"NA","NA","NA",2,1000,null,"NA",null,"NA",null,"NA",null,"NA",1000,170,9,"UT","UTFS","NRES",34604523,346,5,2,650,1515,"IHP","N",5,1515,"Y"]
["SL0000091021",216,"N","N",1.25,183,null,"NA",null,"NA","NA","NA",2,1000,null,"NA",null,"NA",null,"NA",null,"NA",1000,183,8,"UT","UTTS","NRES",27201152,272,2,2,5000,5550,"IHP","Y",2,5550,"Y"]
["SL0000091258",217,"N","N",0.75,125,null,"NA",null,"NA","NA","NA",2,1000,null,"NA",null,"NA",null,"NA",null,"NA",1000,125,5,"UT","UTFS","NRES",25503220,255,2,2,1000,2400,"IHP","N",2,2400,"Y"]
["SL0000091554",218,"Y","N",1.25,208,null,"NA",null,"NA","NA","NA",4,1000,null,"NA",null,"NA",null,"NA",null,"NA",1000,208,4,"UT","UTFS","NRES",27200252,272,2,2,5000,5550,"IHP","N",2,5550,"Y"]
["SL0000092180",219,"N","N",1.25,81,null,"NA",null,"NA","NA","NA",3,78.239999999999995,4,921.76,null,"NA",null,"NA",null,"NA",1000,81,4,"UT","UTFS","NRES",27101486,271,2,2,3000,3300,"IHP","N",2,3300,"Y"]
["SL0000092383",220,"N","N",1.25,232,null,"NA",null,"NA","NA","NA",4,789,1.25,211,null,"NA",null,"NA",null,"NA",1000,232,7,"UT","UTFS","NRES",27200606,272,2,2,5000,5550,"IHP","N",2,5550,"Y"]
["SL0000092534",221,"N","N",2,112,null,"NA",null,"NA","NA","NA",2,1000,null,"NA",null,"NA",null,"NA",null,"NA",1000,112,4,"UT","UTFS","NRES",27101218,271,1,2,3000,3100,"IHP","N",1,3100,"Y"]
["SL0000093191",222,"N","N",1.25,213,null,"NA",null,"NA","NA","NA",2,12.5,3,569,4,135.5,8,283,null,"NA",1000,213,6,"UT","UTFS","NRES",15600069,156,0.25,2,1400,1400,"IHP","N",0.25,1400,"Y"]
["SL0000093398",223,"N","N",1.25,248,null,"NA",null,"NA","NA","NA",2,40,3,241.04,4,186.91,1.25,532.04999999999995,null,"NA",1000,248,10,"UT","UTFS","NRES",15501578,155,0.25,2,1000,1000,"IHP","N",0.25,1000,"Y"]
["SL0000093822",224,"N","N",2,115,null,"NA",null,"NA","NA","NA",2,395.74,4,481,6,123.26,null,"NA",null,"NA",1000,115,4,"UT","UTFS","NRES",15601232,156,0.25,2,1400,1400,"IHP","N",0.25,1400,"Y"]
["SL0000094033",225,"N","Y",0.75,31,null,"NA",null,"NA","NA","NA",2,936,1.25,64,null,"NA",null,"NA",null,"NA",1000,31,3,"UT","UTFS","NRES",34603288,346,2,2,650,1390,"IHP","N",2,1390,"Y"]
["SL0000094059",226,"N","Y",1.25,623,null,"NA",null,"NA","NA","NA",6,1000,null,"NA",null,"NA",null,"NA",null,"NA",1000,623,3,"UT","UTFS","NRES",27800806,278,0.25,2,2000,2000,"IHP","N",0.25,2000,"Y"]
["SL0000094077",227,"N","Y",2,445,null,"NA",null,"NA","NA","NA",2,71.08,4,833.5,8,95.42,null,"NA",null,"NA",1000,445,9,"UT","UTFS","NRES",27201035,272,2,2,5000,5550,"IHP","N",2,5550,"Y"]
["SL0000096255",228,"N","N",1.25,87,null,"NA",null,"NA","NA","NA",2,678,3,93.4,4,228.6,null,"NA",null,"NA",1000,87,10,"UT","UTFS","NRES",27200545,272,2,2,5000,5550,"IHP","N",2,5550,"Y"]
["SL0000096840",229,"N","N",1.25,112,null,"NA",null,"NA","NA","NA",2,908.5,4,67.98,0.75,23.52,null,"NA",null,"NA",1000,112,1,"UT","UTFS","NRES",27101630,271,2,2,3000,3300,"IHP","N",2,3300,"Y"]
["SL0000096952",230,"N","N",1.25,36,null,"NA",null,"NA","NA","NA",4,1000,null,"NA",null,"NA",null,"NA",null,"NA",1000,36,7,"UT","UTFS","NRES",20800385,208,1,2,3000,5118,"IHP","N",1,5118,"Y"]
["SL0000097595",231,"N","N",1.25,277,null,"NA",null,"NA","NA","NA",2,635.54,4,364.46,null,"NA",null,"NA",null,"NA",1000,277,4,"UT","UTFS","NRES",27200126,272,5,2,5000,6600,"IHP","N",5,6600,"Y"]
["SL0000098004",232,"N","N",1.25,121,null,"NA",null,"NA","NA","NA",4,33.57,6,966.43,null,"NA",null,"NA",null,"NA",1000,121,6,"UT","UTFS","NRES",15601295,156,2,2,1400,3265,"IHP","N",2,3265,"Y"]
["SL0000098311",233,"N","N",2,224,null,"NA",null,"NA","NA","NA",2,393.59,3,635.5,null,"NA",null,"NA",null,"NA",1029.0899999999999,224,15,"UT","UTFS","NRES",23200027,232,0.25,2,5000,5000,"IHP","N",0.25,5000,"Y"]
["SL0000098787",234,"N","N",1.25,217,null,"NA",null,"NA","NA","NA",3,332,4,668,null,"NA",null,"NA",null,"NA",1000,217,5,"UT","UTFS","NRES",27101417,271,5,2,3000,4000,"IHP","Y",5,4000,"Y"]
["SL0000098872",235,"N","Y",4,585,null,"NA",null,"NA","NA","NA",4,1000,null,"NA",null,"NA",null,"NA",null,"NA",1000,585,16,"UT","UTISFS","NRES",23600041,236,2,3,23000,22260,"IHP","Y",2,22260,"Y"]
["SL0000099126",236,"N","Y",4,585,null,"NA",null,"NA","NA","NA",4,1000,null,"NA",null,"NA",null,"NA",null,"NA",1000,585,16,"UT","UTISFS","NRES",27000522,270,2,2,1400,1670,"IHP","Y",2,1670,"Y"]
["SL0000099381",237,"N","N",1.25,176,null,"NA",null,"NA","NA","NA",2,963.94,1.25,36.06,null,"NA",null,"NA",null,"NA",1000,176,9,"UT","UTFS","NRES",751000065,751,2,2,0,1847,"IHP","N",2,1847,"Y"]
["SL0000099400",238,"N","N",2,779,null,"NA",null,"NA","NA","NA",2,1000,null,"NA",null,"NA",null,"NA",null,"NA",1000,779,3,"UT","UTTS","NRES",27100855,271,2,2,3000,3300,"IHP","Y",2,3300,"Y"]
["SL0000100222",239,"N","N",1.25,257,null,"NA",null,"NA","NA","NA",2,1000,null,"NA",null,"NA",null,"NA",null,"NA",1000,257,5,"UT","UTFS","NRES",28200299,282,2,2,5000,6113,"IHP","N",2,6113,"Y"]
["SL0000101496",240,"N","N",1.25,12,null,"NA",null,"NA","NA","NA",2,1000,null,"NA",null,"NA",null,"NA",null,"NA",1000,12,6,"UT","UTTS","NRES",27200987,272,2,2,5000,5550,"IHP","Y",2,5550,"Y"]
["SL0000101560",241,"N","N",0.75,94,1.25,288,null,"NA","NA","NA",2,732,4,268,null,"NA",null,"NA",null,"NA",1000,382,2,"UT","UTFS","NRES",27101397,271,0.25,2,3000,3000,"IHP","N",0.25,3000,"Y"]
["SL0000102140",242,"N","N",3,23,1.25,131,null,"NA","NA","NA",2,154.86000000000001,4,110.22,6,2,24,732.93,null,"NA",1000.01,154,1,"UT","UTFS","NRES",27200109,272,2,2,5000,5550,"IHP","N",2,5550,"Y"]
["SL0000102735",243,"N","N",0.75,73,null,"NA",null,"NA","NA","NA",2,113.65,4,85.85,6,800.5,null,"NA",null,"NA",1000,73,2,"UT","UTFS","NRES",751000118,751,2,2,0,1847,"IHP","N",2,1847,"Y"]
["SL0000102926",244,"N","N",1.25,232,null,"NA",null,"NA","NA","NA",2,740.79,3,259.20999999999998,null,"NA",null,"NA",null,"NA",1000,232,4,"UT","UTFS","NRES",34602673,346,2,2,650,1390,"IHP","N",2,1390,"Y"]
["SL0000103465",245,"N","N",1.25,122,null,"NA",null,"NA","NA","NA",2,151.07,3,452.07,4,396.85,null,"NA",null,"NA",999.99,122,14,"UT","UTFS","NRES",15600863,156,0.25,2,1400,1400,"IHP","N",0.25,1400,"Y"]
["SL0000103772",246,"N","N",2,345,null,"NA",null,"NA","NA","NA",4,35.869999999999997,6,964.13,null,"NA",null,"NA",null,"NA",1000,345,3,"UT","UTFS","NRES",27100642,271,4,2,3000,3750,"IHP","N",4,3750,"Y"]
["SL0000104665",247,"N","N",1.25,304,null,"NA",null,"NA","NA","NA",4,1000,null,"NA",null,"NA",null,"NA",null,"NA",1000,304,2,"UT","UTFS","NRES",27100543,271,0.25,2,3000,3000,"IHP","N",0.25,3000,"Y"]
["SL0000105225",248,"N","N",2,8,1.25,174,null,"NA","NA","NA",2,845,6,155,null,"NA",null,"NA",null,"NA",1000,182,3,"UT","UTFS","NRES",28100422,281,2,2,3500,3897,"IHP","N",2,3897,"Y"]
["SL0000105421",249,"N","N",1.25,143,null,"NA",null,"NA","NA","NA",2,239.9,4,760.1,null,"NA",null,"NA",null,"NA",1000,143,7,"UT","UTFS","NRES",27100273,271,1,2,3000,3100,"IHP","N",1,3100,"Y"]
["SL0000105651",250,"Y","Y",1.25,353,null,"NA",null,"NA","NA","NA",2,76.900000000000006,4,923.1,null,"NA",null,"NA",null,"NA",1000,353,4,"UT","UTFS","NRES",15600894,156,1,2,1400,3120,"IHP","N",1,3120,"Y"]
["SL0000106669",251,"N","N",2,231,null,"NA",null,"NA","NA","NA",2,162.07,4,837.93,null,"NA",null,"NA",null,"NA",1000,231,1,"UT","UTFS","NRES",27200253,272,2,2,5000,5550,"IHP","N",2,5550,"Y"]
["SL0000106837",252,"N","N",0.75,132,null,"NA",null,"NA","NA","NA",2,95.63,4,904.37,null,"NA",null,"NA",null,"NA",1000,132,7,"UT","UTFS","NRES",15600204,156,0.25,2,1400,1400,"IHP","N",0.25,1400,"Y"]
["SL0000107761",253,"N","N",1.25,21,null,"NA",null,"NA","NA","NA",3,1000,null,"NA",null,"NA",null,"NA",null,"NA",1000,21,5,"UT","UTFS","NRES",27200097,272,5,2,5000,6600,"IHP","N",5,6600,"Y"]
["SL0000107962",254,"N","N",2,155,null,"NA",null,"NA","NA","NA",2,293,3,37.22,4,476.5,1.25,193.28,null,"NA",1000,155,5,"UT","UTFS","NRES",27200258,272,5,2,5000,6600,"IHP","N",5,6600,"Y"]
["SL0000108198",255,"N","N",1.25,79,null,"NA",null,"NA","NA","NA",4,1000,null,"NA",null,"NA",null,"NA",null,"NA",1000,79,5,"UT","UTFS","NRES",28200014,282,0.25,2,5000,5500,"IHP","N",0.25,5500,"Y"]
["SL0000108575",256,"N","N",2,419,null,"NA",null,"NA","NA","NA",2,26.23,6,958.03,8,15.74,null,"NA",null,"NA",1000,419,3,"UT","UTFS","NRES",27200373,272,5,2,5000,6600,"IHP","N",5,6600,"Y"]
["SL0000109170",257,"N","N",1.25,107,null,"NA",null,"NA","NA","NA",4,859.57,6,140.43,null,"NA",null,"NA",null,"NA",1000,107,8,"UT","UTFS","NRES",27200068,272,2,2,5000,5550,"IHP","N",2,5550,"Y"]
["SL0000109434",258,"N","N",0.5,258,null,"NA",null,"NA","NA","NA",2,113.93,3,80.13,4,805.93,null,"NA",null,"NA",999.99,258,5,"UT","UTFS","NRES",15501661,155,0.25,2,1000,1000,"IHP","N",0.25,1000,"Y"]
["SL0000110076",259,"N","Y",1.25,68,null,"NA",null,"NA","NA","NA",2,329,8,671,null,"NA",null,"NA",null,"NA",1000,68,4,"UT","UTFS","NRES",27800156,278,2,2,2000,2225,"IHP","N",2,2225,"Y"]
["SL0000110614",260,"N","N",1.25,186,null,"NA",null,"NA","NA","NA",2,666,3,334,null,"NA",null,"NA",null,"NA",1000,186,5,"UT","UTFS","NRES",20800371,208,0.25,2,3000,2500,"IHP","N",0.25,2500,"Y"]
["SL0000110830",261,"N","N",2,58,null,"NA",null,"NA","NA","NA",3,1000,null,"NA",null,"NA",null,"NA",null,"NA",1000,58,1,"UT","UTISGS","NRES",15800115,158,45,3,5000,31000,"IHP","Y",25,23000,"Y"]
["SL0000111048",262,"N","N",2,58,null,"NA",null,"NA","NA","NA",3,1000,null,"NA",null,"NA",null,"NA",null,"NA",1000,58,1,"UT","UTISGS","NRES",15600612,156,15,2,1400,5000,"IHP","Y",15,5000,"Y"]
["SL0000111870",263,"N","N",2,58,null,"NA",null,"NA","NA","NA",3,1000,null,"NA",null,"NA",null,"NA",null,"NA",1000,58,1,"UT","UTISGS","NRES",28500020,285,45,4,16000,64550,"IHP","Y",25,42800,"Y"]
["SL0000112805",264,"N","N",1.25,293,null,"NA",null,"NA","NA","NA",2,14.71,3,166.42,4,1,6,817.87,null,"NA",1000,293,1,"UT","UTFS","NRES",27800577,278,0.25,2,2000,2000,"IHP","N",0.25,2000,"Y"]
["SL0000113059",265,"N","N",1.25,90,null,"NA",null,"NA","NA","NA",4,728.52,6,271.48,null,"NA",null,"NA",null,"NA",1000,90,8,"UT","UTFS","NRES",27100380,271,2,2,3000,3300,"IHP","N",2,3300,"Y"]
["SL0000113523",266,"N","N",1.25,154,null,"NA",null,"NA","NA","NA",2,278,4,722,null,"NA",null,"NA",null,"NA",1000,154,4,"UT","UTFS","NRES",23200024,232,0.25,2,5000,5000,"IHP","N",0.25,5000,"Y"]
["SL0000114104",267,"N","N",1.25,119,null,"NA",null,"NA","NA","NA",2,999.05,6,0.95,null,"NA",null,"NA",null,"NA",1000,119,6,"UT","UTFS","NRES",27800054,278,0.25,2,2000,2000,"IHP","N",0.25,2000,"Y"]
["SL0000114175",268,"N","N",1.25,200,null,"NA",null,"NA","NA","NA",2,203,4,797,null,"NA",null,"NA",null,"NA",1000,200,5,"UT","UTFS","NRES",25500242,255,5,2,1000,2700,"IHP","N",5,2700,"Y"]
["SL0000114816",269,"N","N",1.25,278,null,"NA",null,"NA","NA","NA",2,288.89,4,331.22,6,379.89,null,"NA",null,"NA",1000,278,9,"UT","UTFS","NRES",27001094,270,0.25,2,1400,1500,"IHP","N",0.25,1500,"Y"]
["SL0000115043",270,"N","N",1.25,112,null,"NA",null,"NA","NA","NA",2,1000,null,"NA",null,"NA",null,"NA",null,"NA",1000,112,3,"UT","UTFS","NRES",28100262,281,5,2,3500,4610,"IHP","N",5,4610,"Y"]
["SL0000115175",271,"N","Y",0.75,77,1.25,123,null,"NA","NA","NA",2,364,4,636,null,"NA",null,"NA",null,"NA",1000,200,5,"UT","UTFS","NRES",28100061,281,5,2,3500,4610,"IHP","N",5,4610,"Y"]
["SL0000115538",272,"N","Y",2,402,null,"NA",null,"NA","NA","NA",2,195.94,4,804.06,null,"NA",null,"NA",null,"NA",1000,402,7,"UT","UTFS","NRES",27200185,272,5,2,5000,6600,"IHP","N",5,6600,"Y"]
["SL0000115740",273,"N","N",2,317,null,"NA",null,"NA","NA","NA",2,1000,null,"NA",null,"NA",null,"NA",null,"NA",1000,317,5,"UT","UTFS","NRES",27200286,272,2,2,5000,5550,"IHP","N",2,5550,"Y"]
["SL0000116186",274,"N","N",1.25,200,null,"NA",null,"NA","NA","NA",3,385.04,4,614.96,null,"NA",null,"NA",null,"NA",1000,200,8,"UT","UTFS","NRES",27100397,271,0.25,2,3000,3000,"IHP","N",0.25,3000,"Y"]
["SL0000116298",275,"N","N",2,604,null,"NA",null,"NA","NA","NA",2,1000,null,"NA",null,"NA",null,"NA",null,"NA",1000,604,11,"UT","UTTS","NRES",15700202,157,5,2,2300,6200,"IHP","Y",5,6200,"Y"]
["SL0000116935",276,"N","N",3,698,null,"NA",null,"NA","NA","NA",null,"NA",null,"NA",null,"NA",null,"NA",null,"NA",0,698,1,"UT","UTTS","NRES",27001164,270,0.25,2,1400,1500,"HP","Y",0.25,1500,"Y"]
["SL0000116972",277,"N","N",3,698,null,"NA",null,"NA","NA","NA",null,"NA",null,"NA",null,"NA",null,"NA",null,"NA",0,698,1,"UT","UTTS","NRES",28500060,285,45,4,16000,64550,"HP","Y",125,151396,"Y"]
["SL0000117111",278,"N","N",1.25,41,null,"NA",null,"NA","NA","NA",2,727,4,273,null,"NA",null,"NA",null,"NA",1000,41,3,"UT","UTTS","NRES",27101718,271,5,2,3000,4000,"IHP","Y",5,4000,"Y"]
["SL0000117173",279,"N","Y",2,421,null,"NA",null,"NA","NA","NA",2,651.64,3,78.180000000000007,4,270.18,null,"NA",null,"NA",1000,421,19,"UT","UTFS","NRES",27201023,272,2,2,5000,5550,"IHP","N",2,5550,"Y"]
["SL0000117279",280,"N","N",1.25,7,null,"NA",null,"NA","NA","NA",2,118.61,3,224.84,4,656.54,null,"NA",null,"NA",999.99,7,4,"UT","UTFS","NRES",28100042,281,5,2,3500,4610,"IHP","N",5,4610,"Y"]
["SL0000117707",281,"N","N",1.25,21,null,"NA",null,"NA","NA","NA",2,342.67,4,657.33,null,"NA",null,"NA",null,"NA",1000,21,2,"UT","UTFS","NRES",25500559,255,2,2,1000,2400,"IHP","N",2,2400,"Y"]
["SL0000117766",282,"N","N",2,19,4,72,null,"NA","NA","NA",null,"NA",null,"NA",null,"NA",null,"NA",null,"NA",0,91,1,"UT","UTTS","NRES",26900082,269,45,2,800,3230,"HP","Y",125,7570,"Y"]
["SL0000117956",283,"N","N",2,19,4,72,null,"NA","NA","NA",null,"NA",null,"NA",null,"NA",null,"NA",null,"NA",0,91,1,"UT","UTTS","NRES",45201003,452,45,4,18000,73714,"HP","Y",125,175400,"Y"]
["SL0000118019",284,"N","Y",1.25,59,null,"NA",null,"NA","NA","NA",2,1000,null,"NA",null,"NA",null,"NA",null,"NA",1000,59,6,"UT","UTFS","NRES",28100644,281,5,2,3500,4610,"IHP","N",5,4610,"Y"]
["SL0000118066",285,"N","N",2,1,1.25,166,null,"NA","NA","NA",2,1000,null,"NA",null,"NA",null,"NA",null,"NA",1000,167,19,"UT","UTFS","NRES",28100026,281,2,2,3500,3897,"IHP","N",2,3897,"Y"]
["SL0000118740",286,"N","N",1.25,137,null,"NA",null,"NA","NA","NA",2,1000,null,"NA",null,"NA",null,"NA",null,"NA",1000,137,4,"UT","UTFS","NRES",27100229,271,5,2,3000,4000,"IHP","N",5,4000,"Y"]
["SL0000119248",287,"N","N",2,389,null,"NA",null,"NA","NA","NA",2,579.20000000000005,4,196.9,0.75,223.9,null,"NA",null,"NA",1000,389,7,"UT","UTTS","NRES",27100440,271,2,2,3000,3300,"IHP","Y",2,3300,"Y"]
["SL0000119626",288,"N","N",1.25,27,null,"NA",null,"NA","NA","NA",2,979.65,1.25,20.350000000000001,null,"NA",null,"NA",null,"NA",1000,27,8,"UT","UTFS","NRES",23100052,231,0.25,2,3000,3000,"IHP","N",0.25,3000,"Y"]
["SL0000119701",289,"N","N",1.25,40,null,"NA",null,"NA","NA","NA",2,219.03,4,560.03,6,220.94,null,"NA",null,"NA",1000,40,1,"UT","UTFS","NRES",27200426,272,5,2,5000,6600,"IHP","N",5,6600,"Y"]
["SL0000120642",290,"N","Y",1.25,227,null,"NA",null,"NA","NA","NA",2,1000,null,"NA",null,"NA",null,"NA",null,"NA",1000,227,12,"UT","UTFS","NRES",15600298,156,1,2,1400,3120,"IHP","N",1,3120,"Y"]
["SL0000120689",291,"N","Y",1.25,710,null,"NA",null,"NA","NA","NA",4,206.18,6,793.82,null,"NA",null,"NA",null,"NA",1000,710,7,"UT","UTFS","NRES",25501503,255,2,2,1000,2400,"IHP","N",2,2400,"Y"]
["SL0000120690",292,"N","N",1.25,363,null,"NA",null,"NA","NA","NA",2,616.35,3,85.41,4,298.24,null,"NA",null,"NA",1000,363,3,"UT","UTFS","NRES",27100585,271,1,2,3000,3100,"IHP","N",1,3100,"Y"]
["SL0000120840",293,"N","N",1.25,143,null,"NA",null,"NA","NA","NA",2,43.08,4,956.92,null,"NA",null,"NA",null,"NA",1000,143,3,"UT","UTFS","NRES",27801841,278,5,2,2000,2630,"IHP","N",5,2630,"Y"]
["SL0000121181",294,"N","N",1.25,454,null,"NA",null,"NA","NA","NA",2,726.35,6,273.64999999999998,null,"NA",null,"NA",null,"NA",1000,454,10,"UT","UTFS","NRES",27100416,271,2,2,3000,3300,"IHP","N",2,3300,"Y"]
["SL0000121447",295,"N","N",1.25,39,null,"NA",null,"NA","NA","NA",2,396.2,10,603.79999999999995,null,"NA",null,"NA",null,"NA",1000,39,11,"UT","UTFS","NRES",27000312,270,1,2,1400,1570,"IHP","N",1,1570,"Y"]
["SL0000121883",296,"N","N",1.25,31,null,"NA",null,"NA","NA","NA",2,6.46,4,767.23,6,226.31,null,"NA",null,"NA",1000,31,1,"UT","UTTS","NRES",20800070,208,5,2,3000,5750,"IHP","Y",5,5750,"Y"]
["SL0000122601",297,"N","N",1.25,1,null,"NA",null,"NA","NA","NA",2,809.28,4,190.72,null,"NA",null,"NA",null,"NA",1000,1,5,"UT","UTFS","NRES",27101174,271,2,2,3000,3300,"IHP","N",2,3300,"Y"]
["SL0000122743",298,"N","N",1.25,57,null,"NA",null,"NA","NA","NA",2,159.86000000000001,4,840.14,null,"NA",null,"NA",null,"NA",1000,57,6,"UT","UTFS","NRES",20800291,208,0.25,2,3000,2500,"IHP","N",0.25,2500,"Y"]
["SL0000123438",299,"N","N",1.25,60,null,"NA",null,"NA","NA","NA",4,1000,null,"NA",null,"NA",null,"NA",null,"NA",1000,60,4,"UT","UTFS","NRES",27200948,272,0.25,2,5000,5000,"IHP","N",0.25,5000,"Y"]
["SL0000123749",300,"N","N",2,184,null,"NA",null,"NA","NA","NA",4,1000,null,"NA",null,"NA",null,"NA",null,"NA",1000,184,5,"UT","UTFS","NRES",27201143,272,2,2,5000,5550,"IHP","N",2,5550,"Y"]
["SL0000124172",301,"N","N",1.25,32,null,"NA",null,"NA","NA","NA",2,1000,null,"NA",null,"NA",null,"NA",null,"NA",1000,32,4,"UT","UTIS","NRES",23200067,232,1,2,5000,5225,"IHP","Y",1,5225,"Y"]
["SL0000124341",302,"N","N",1.25,172,null,"NA",null,"NA","NA","NA",2,244.5,4,755.5,null,"NA",null,"NA",null,"NA",1000,172,11,"UT","UTFS","NRES",27101455,271,0.25,2,3000,3000,"IHP","N",0.25,3000,"Y"]
["SL0000124392",303,"N","Y",1.25,18,null,"NA",null,"NA","NA","NA",2,114,4,886,null,"NA",null,"NA",null,"NA",1000,18,4,"UT","UTFS","NRES",25504346,255,2,2,1000,2400,"IHP","N",2,2400,"Y"]
["SL0000125088",304,"N","N",1.25,137,null,"NA",null,"NA","NA","NA",4,1000,null,"NA",null,"NA",null,"NA",null,"NA",1000,137,1,"UT","UTFS","NRES",20800358,208,0.25,2,3000,2500,"IHP","N",0.25,2500,"Y"]
["SL0000125248",305,"N","N",1.25,16,null,"NA",null,"NA","NA","NA",2,118,4,823,6,59,null,"NA",null,"NA",1000,16,2,"UT","UTFS","NRES",15700141,157,5,2,2300,6200,"IHP","N",5,6200,"Y"]
["SL0000125271",306,"N","N",1.25,99,null,"NA",null,"NA","NA","NA",4,1000,null,"NA",null,"NA",null,"NA",null,"NA",1000,99,4,"UT","UTFS","NRES",15501435,155,0.25,2,1000,1000,"IHP","N",0.25,1000,"Y"]
["SL0000125584",307,"N","N",2,337,null,"NA",null,"NA","NA","NA",4,790.45,6,209.55,null,"NA",null,"NA",null,"NA",1000,337,2,"UT","UTFS","NRES",27200061,272,5,2,5000,6600,"IHP","N",5,6600,"Y"]
["SL0000125634",308,"N","N",2,354,null,"NA",null,"NA","NA","NA",2,776.26,4,223.74,null,"NA",null,"NA",null,"NA",1000,354,12,"UT","UTTS","NRES",27200752,272,0.25,2,5000,5000,"IHP","Y",0.25,5000,"Y"]
["SL0000125757",309,"N","N",3,170,null,"NA",null,"NA","NA","NA",3,1000,null,"NA",null,"NA",null,"NA",null,"NA",1000,170,3,"UT","UTTS","NRES",27800975,278,0.25,2,2000,2000,"IHP","Y",0.25,2000,"Y"]
["SL0000125777",310,"N","N",3,170,null,"NA",null,"NA","NA","NA",3,1000,null,"NA",null,"NA",null,"NA",null,"NA",1000,170,3,"UT","UTTS","NRES",27400134,274,5,3,11000,14500,"IHP","Y",5,14500,"Y"]
["SL0000126329",311,"N","N",2,242,null,"NA",null,"NA","NA","NA",4,1000,null,"NA",null,"NA",null,"NA",null,"NA",1000,242,2,"UT","UTFS","NRES",27200971,272,5,2,5000,6600,"IHP","N",5,6600,"Y"]
["SL0000126674",312,"N","N",1.25,77,null,"NA",null,"NA","NA","NA",4,1000,null,"NA",null,"NA",null,"NA",null,"NA",1000,77,16,"UT","UTFS","NRES",27101155,271,0.25,2,3000,3000,"IHP","N",0.25,3000,"Y"]
["SL0000127024",313,"N","Y",1.25,181,null,"NA",null,"NA","NA","NA",4,927.08,1.25,72.92,null,"NA",null,"NA",null,"NA",1000,181,10,"UT","UTFS","NRES",27201260,272,2,2,5000,5550,"IHP","N",2,5550,"Y"]
["SL0000127616",314,"N","N",1.25,738,null,"NA",null,"NA","NA","NA",3,694,4,306,null,"NA",null,"NA",null,"NA",1000,738,3,"UT","UTFS","NRES",27100405,271,0.25,2,3000,3000,"IHP","N",0.25,3000,"Y"]
["SL0000127904",315,"N","N",2,183,null,"NA",null,"NA","NA","NA",2,867.5,4,132.5,null,"NA",null,"NA",null,"NA",1000,183,7,"UT","UTFS","NRES",28200113,282,1,2,5000,5740,"IHP","N",1,5740,"Y"]
["SL0000128043",316,"N","N",2,296,null,"NA",null,"NA","NA","NA",3,167.12,4,832.88,null,"NA",null,"NA",null,"NA",1000,296,9,"UT","UTFS","NRES",27200941,272,2,2,5000,5550,"IHP","N",2,5550,"Y"]
["SL0000128479",317,"N","N",2,12,null,"NA",null,"NA","NA","NA",4,1000,null,"NA",null,"NA",null,"NA",null,"NA",1000,12,3,"UT","UTTS","NRES",28100286,281,2,2,3500,3897,"IHP","Y",2,3897,"Y"]
["SL0000129043",318,"N","N",0.75,131,null,"NA",null,"NA","NA","NA",2,11.08,3,23.16,4,793.08,8,172.69,null,"NA",1000.01,131,2,"UT","UTFS","NRES",27100328,271,2,2,3000,3300,"IHP","N",2,3300,"Y"]
["SL0000129085",319,"N","N",0.75,58,1.25,49,null,"NA","NA","NA",2,1000,null,"NA",null,"NA",null,"NA",null,"NA",1000,107,13,"UT","UTFS","NRES",27801112,278,2,2,2000,2225,"IHP","N",2,2225,"Y"]
["SL0000129369",320,"N","N",1.25,238,null,"NA",null,"NA","NA","NA",4,861.5,6,138.5,null,"NA",null,"NA",null,"NA",1000,238,1,"UT","UTFS","NRES",27201242,272,2,2,5000,5550,"IHP","N",2,5550,"Y"]
["SL0000129705",321,"N","N",0.75,76,null,"NA",null,"NA","NA","NA",2,42.84,3,64.66,4,892.5,null,"NA",null,"NA",1000,76,5,"UT","UTFS","NRES",11500422,115,0.25,2,1000,1000,"IHP","N",0.25,1000,"Y"]
["SL0000130064",322,"N","N",0.75,76,null,"NA",null,"NA","NA","NA",2,42.84,3,64.66,4,892.5,null,"NA",null,"NA",1000,76,5,"UT","UTTS","NRES",27500080,275,45,4,16000,64550,"IHP","Y",25,42800,"N"]
["SL0000130287",323,"N","N",0.75,76,null,"NA",null,"NA","NA","NA",2,42.84,3,64.66,4,892.5,null,"NA",null,"NA",1000,76,5,"UT","UTTS","NRES",27500080,275,45,4,16000,64550,"IHP","Y",25,42800,"Y"]
["SL0000130878",324,"N","N",3,139,null,"NA",null,"NA","NA","NA",4,964.25,10,35.75,null,"NA",null,"NA",null,"NA",1000,139,1,"UT","UTTS","NRES",27100822,271,1,2,3000,3100,"IHP","Y",1,3100,"Y"]
["SL0000130964",325,"N","N",3,139,null,"NA",null,"NA","NA","NA",4,964.25,10,35.75,null,"NA",null,"NA",null,"NA",1000,139,1,"UT","UTTS","NRES",23500003,235,45,4,16000,64512,"IHP","Y",25,42800,"Y"]
["SL0000130994",326,"N","N",1.25,7,null,"NA",null,"NA","NA","NA",2,340,4,660,null,"NA",null,"NA",null,"NA",1000,7,11,"UT","UTFS","NRES",11500429,115,1,2,1000,2252,"IHP","N",1,2252,"Y"]
["SL0000132043",327,"N","N",1.25,63,null,"NA",null,"NA","NA","NA",3,1000,null,"NA",null,"NA",null,"NA",null,"NA",1000,63,7,"UT","UTTS","NRES",27101210,271,5,2,3000,4000,"IHP","Y",5,4000,"Y"]
["SL0000132234",328,"N","N",1.25,223,null,"NA",null,"NA","NA","NA",2,736.78,6,263.22000000000003,null,"NA",null,"NA",null,"NA",1000,223,4,"UT","UTFS","NRES",27100562,271,0.25,2,3000,3000,"IHP","N",0.25,3000,"Y"]
["SL0000133107",329,"N","N",1.25,62,null,"NA",null,"NA","NA","NA",2,793,6,207,null,"NA",null,"NA",null,"NA",1000,62,4,"UT","UTFS","NRES",27101217,271,2,2,3000,3300,"IHP","N",2,3300,"Y"]
["SL0000133277",330,"N","N",1.25,97,null,"NA",null,"NA","NA","NA",2,891.53,3,108.47,null,"NA",null,"NA",null,"NA",1000,97,5,"UT","UTFS","NRES",11500664,115,0.25,2,1000,1000,"IHP","N",0.25,1000,"Y"]
["SL0000133294",331,"N","N",0.75,204,null,"NA",null,"NA","NA","NA",4,1000,null,"NA",null,"NA",null,"NA",null,"NA",1000,204,3,"UT","UTFS","NRES",25503856,255,2,2,1000,2400,"IHP","N",2,2400,"Y"]
["SL0000133388",332,"N","N",2,332,null,"NA",null,"NA","NA","NA",2,1000,null,"NA",null,"NA",null,"NA",null,"NA",1000,332,8,"UT","UTFS","NRES",27200301,272,2,2,5000,5550,"IHP","N",2,5550,"Y"]
["SL0000133868",333,"N","N",2,5,1.25,39,null,"NA","NA","NA",2,573,3,5,4,2,10,420,null,"NA",1000,44,12,"UT","UTFS","NRES",27200264,272,2,2,5000,5550,"IHP","N",2,5550,"Y"]
["SL0000133895",334,"N","N",1.25,85,null,"NA",null,"NA","NA","NA",2,478.74,4,521.58000000000004,null,"NA",null,"NA",null,"NA",1000.32,85,1,"UT","UTFS","NRES",20800477,208,2,2,3000,5276,"IHP","N",2,5276,"Y"]
["SL0000134598",335,"N","Y",1.25,23,null,"NA",null,"NA","NA","NA",3,140.28,4,859.72,null,"NA",null,"NA",null,"NA",1000,23,3,"UT","UTFS","NRES",27101470,271,2,2,3000,3300,"IHP","N",2,3300,"Y"]
["SL0000134619",336,"N","N",1.25,50,null,"NA",null,"NA","NA","NA",2,1000,null,"NA",null,"NA",null,"NA",null,"NA",1000,50,4,"UT","UTFS","NRES",27201229,272,2,2,5000,5550,"IHP","N",2,5550,"Y"]
["SL0000134814",337,"N","N",0.75,58,null,"NA",null,"NA","NA","NA",2,232.41,4,751.5,1.25,16.09,null,"NA",null,"NA",1000,58,6,"UT","UTFS","NRES",27000231,270,5,2,1400,1980,"IHP","N",5,1980,"Y"]
["SL0000135184",338,"N","N",1.25,109,null,"NA",null,"NA","NA","NA",2,735.92,3,264.08,null,"NA",null,"NA",null,"NA",1000,109,4,"UT","UTFS","NRES",27800231,278,2,2,2000,2225,"IHP","N",2,2225,"Y"]
["SL0000135415",339,"N","N",2,135,null,"NA",null,"NA","NA","NA",4,1000,null,"NA",null,"NA",null,"NA",null,"NA",1000,135,4,"UT","UTFS","NRES",15700107,157,5,2,2300,6200,"IHP","N",5,6200,"Y"]
["SL0000135553",340,"N","N",1.25,87,null,"NA",null,"NA","NA","NA",2,1000,null,"NA",null,"NA",null,"NA",null,"NA",1000,87,12,"UT","UTFS","NRES",15600990,156,1,2,1400,3120,"IHP","N",1,3120,"Y"]
["SL0000135752",341,"N","N",2,1,1.25,52,null,"NA","NA","NA",2,1000,null,"NA",null,"NA",null,"NA",null,"NA",1000,53,2,"UT","UTFS","NRES",15600061,156,5,2,1400,3700,"IHP","N",5,3700,"Y"]
["SL0000135903",342,"N","N",1.25,74,null,"NA",null,"NA","NA","NA",2,874,4,126,null,"NA",null,"NA",null,"NA",1000,74,7,"UT","UTFS","NRES",27001092,270,0.25,2,1400,1500,"IHP","N",0.25,1500,"Y"]
["SL0000136095",343,"N","N",2,620,null,"NA",null,"NA","NA","NA",2,584.75,4,415.25,null,"NA",null,"NA",null,"NA",1000,620,10,"UT","UTFS","NRES",20800004,208,2,2,3000,5276,"IHP","N",2,5276,"Y"]
["SL0000136102",344,"N","N",2,142,null,"NA",null,"NA","NA","NA",2,1000,null,"NA",null,"NA",null,"NA",null,"NA",1000,142,3,"UT","UTTS","NRES",15700009,157,5,2,2300,6200,"IHP","Y",5,6200,"Y"]
["SL0000136191",345,"N","N",1.25,49,null,"NA",null,"NA","NA","NA",2,1000,null,"NA",null,"NA",null,"NA",null,"NA",1000,49,9,"UT","UTFS","NRES",25501092,255,5,2,1000,2700,"IHP","N",5,2700,"Y"]
["SL0000136552",346,"N","N",1.25,39,null,"NA",null,"NA","NA","NA",2,125.95,4,874.05,null,"NA",null,"NA",null,"NA",1000,39,4,"UT","UTFS","NRES",20800179,208,0.25,2,3000,2500,"IHP","N",0.25,2500,"Y"]
["SL0000136657",347,"N","Y",1.25,226,null,"NA",null,"NA","NA","NA",2,943.83,0.75,56.17,null,"NA",null,"NA",null,"NA",1000,226,10,"UT","UTTS","NRES",27800447,278,5,2,2000,2630,"IHP","Y",5,2630,"Y"]
["SL0000136659",348,"N","N",2,460,null,"NA",null,"NA","NA","NA",4,1000,null,"NA",null,"NA",null,"NA",null,"NA",1000,460,4,"UT","UTTS","NRES",15700170,157,5,2,2300,6200,"IHP","N",5,6200,"Y"]
["SL0000136796",349,"N","Y",2,445,null,"NA",null,"NA","NA","NA",6,1000,null,"NA",null,"NA",null,"NA",null,"NA",1000,445,6,"UT","UTFS","NRES",28200402,282,2,2,5000,6113,"IHP","N",2,6113,"Y"]
["SL0000137032",350,"N","N",0.75,79,null,"NA",null,"NA","NA","NA",2,311.42,4,595.15,0.75,93.42,null,"NA",null,"NA",999.99,79,2,"UT","UTFS","NRES",25503859,255,2,2,1000,2400,"IHP","N",2,2400,"Y"]
["SL0000138123",351,"N","N",2,301,1.25,115,null,"NA","NA","NA",4,760.3,6,239.7,null,"NA",null,"NA",null,"NA",1000,416,4,"UT","UTFS","NRES",27101053,271,2,2,3000,3300,"IHP","Y",2,3300,"Y"]
["SL0000138547",352,"Y","N",0.75,191,null,"NA",null,"NA","NA","NA",2,256.83,4,439,10,144.5,0.75,51.67,1.25,108,1000,191,4,"UT","UTFS","NRES",25503870,255,2,2,1000,2400,"IHP","N",2,2400,"Y"]
["SL0000139445",353,"N","N",1.25,278,null,"NA",null,"NA","NA","NA",2,883.2,6,116.8,null,"NA",null,"NA",null,"NA",1000,278,3,"UT","UTFS","NRES",15601252,156,0.25,2,1400,1400,"IHP","N",0.25,1400,"Y"]
["SL0000139558",354,"N","Y",2,128,null,"NA",null,"NA","NA","NA",6,1000,null,"NA",null,"NA",null,"NA",null,"NA",1000,128,5,"UT","UTFS","NRES",28100070,281,5,2,3500,4610,"IHP","N",5,4610,"Y"]
["SL0000139749",355,"N","N",1.25,40,null,"NA",null,"NA","NA","NA",4,1000,null,"NA",null,"NA",null,"NA",null,"NA",1000,40,1,"UT","UTFS","NRES",27200918,272,5,2,5000,6600,"IHP","N",5,6600,"Y"]
["SL0000139887",356,"N","N",1.25,240,null,"NA",null,"NA","NA","NA",4,742.48,6,257.52,null,"NA",null,"NA",null,"NA",1000,240,2,"UT","UTFS","NRES",27101582,271,2,2,3000,3300,"IHP","N",2,3300,"Y"]
["SL0000140071",357,"N","N",0.5,123,null,"NA",null,"NA","NA","NA",2,1000,null,"NA",null,"NA",null,"NA",null,"NA",1000,123,6,"UT","UTFS","NRES",27101426,271,2,2,3000,3300,"IHP","N",2,3300,"Y"]
["SL0000141391",358,"N","N",2,207,null,"NA",null,"NA","NA","NA",2,303,4,697,null,"NA",null,"NA",null,"NA",1000,207,1,"UT","UTTS","NRES",27101557,271,2,2,3000,3300,"IHP","Y",2,3300,"Y"]
["SL0000141662",359,"N","N",2,489,null,"NA",null,"NA","NA","NA",2,1000,null,"NA",null,"NA",null,"NA",null,"NA",1000,489,9,"UT","UTTS","NRES",20800558,208,1,2,3000,5118,"IHP","Y",1,5118,"Y"]
["SL0000141749",360,"N","N",2,9,1.25,11,null,"NA","NA","NA",2,784.92,3,215.08,null,"NA",null,"NA",null,"NA",1000,20,4,"UT","UTFS","NRES",27101563,271,2,2,3000,3300,"IHP","N",2,3300,"Y"]
["SL0000141845",361,"N","N",0.75,77,null,"NA",null,"NA","NA","NA",2,162.52000000000001,4,837.48,null,"NA",null,"NA",null,"NA",1000,77,8,"UT","UTFS","NRES",28200175,282,0.25,2,5000,5500,"IHP","N",0.25,5500,"Y"]
["SL0000142010",362,"N","N",2,238,null,"NA",null,"NA","NA","NA",4,142.35,10,857.65,null,"NA",null,"NA",null,"NA",1000,238,3,"UT","UTFS","NRES",25500618,255,5,2,1000,2700,"IHP","N",5,2700,"Y"]
["SL0000143006",363,"N","Y",1.25,405,null,"NA",null,"NA","NA","NA",4,1000,null,"NA",null,"NA",null,"NA",null,"NA",1000,405,3,"UT","UTFS","NRES",28200068,282,2,2,5000,6113,"IHP","N",2,6113,"Y"]
["SL0000143375",364,"N","N",1.25,125,null,"NA",null,"NA","NA","NA",2,186.06,4,813.94,null,"NA",null,"NA",null,"NA",1000,125,6,"UT","UTFS","NRES",15102768,151,5,2,800,2100,"IHP","N",5,2100,"Y"]
["SL0000143579",365,"N","N",0.75,50,null,"NA",null,"NA","NA","NA",2,248,6,752,null,"NA",null,"NA",null,"NA",1000,50,2,"UT","UTFS","NRES",751000115,751,2,2,0,1847,"IHP","N",2,1847,"Y"]
["SL0000144345",366,"N","N",2,281,null,"NA",null,"NA","NA","NA",2,826.88,4,173.12,null,"NA",null,"NA",null,"NA",1000,281,7,"UT","UTISFS","NRES",27201076,272,5,2,5000,6600,"IHP","Y",5,6600,"Y"]
["SL0000144754",367,"N","N",1.25,144,null,"NA",null,"NA","NA","NA",4,427,1.25,573,null,"NA",null,"NA",null,"NA",1000,144,3,"UT","UTTS","NRES",27100115,271,5,2,3000,4000,"IHP","Y",5,4000,"Y"]
["SL0000144834",368,"N","N",1.25,191,null,"NA",null,"NA","NA","NA",2,64.14,3,807,1.25,128.86000000000001,null,"NA",null,"NA",1000,191,7,"UT","UTTS","NRES",27101571,271,2,2,3000,3300,"IHP","Y",2,3300,"Y"]
["SL0000144862",369,"N","N",1.25,191,null,"NA",null,"NA","NA","NA",2,64.14,3,807,1.25,128.86000000000001,null,"NA",null,"NA",1000,191,7,"UT","UTTS","NRES",28500070,285,2,3,16000,17800,"IHP","Y",2,17800,"Y"]
["SL0000144934",370,"N","N",1.25,92,null,"NA",null,"NA","NA","NA",2,439.25,4,560.75,null,"NA",null,"NA",null,"NA",1000,92,1,"UT","UTFS","NRES",27100474,271,0.25,2,3000,3000,"IHP","N",0.25,3000,"Y"]
["SL0000145150",371,"N","N",2,48,null,"NA",null,"NA","NA","NA",2,240.14,4,759.86,null,"NA",null,"NA",null,"NA",1000,48,16,"UT","UTFS","NRES",15102150,151,5,2,800,2100,"IHP","N",5,2100,"Y"]
["SL0000145354",372,"N","N",2,48,null,"NA",null,"NA","NA","NA",2,240.14,4,759.86,null,"NA",null,"NA",null,"NA",1000,48,16,"UT","UTTS","NRES",27200351,272,5,2,5000,6600,"IHP","Y",5,6600,"Y"]
["SL0000145854",373,"Y","N",2,22,null,"NA",null,"NA","NA","NA",2,1000,null,"NA",null,"NA",null,"NA",null,"NA",1000,22,5,"UT","UTFS","NRES",28200109,282,2,2,5000,6113,"IHP","N",2,6113,"Y"]
["SL0000145919",374,"N","N",2,100,null,"NA",null,"NA","NA","NA",2,41.71,4,56.29,8,902,null,"NA",null,"NA",1000,100,1,"UT","UTFS","NRES",27201145,272,2,2,5000,5550,"IHP","N",2,5550,"Y"]
["SL0000145954",375,"N","N",2,153,null,"NA",null,"NA","NA","NA",4,1000,null,"NA",null,"NA",null,"NA",null,"NA",1000,153,3,"UT","UTTS","NRES",27200297,272,5,2,5000,6600,"IHP","Y",5,6600,"Y"]
["SL0000146241",376,"N","Y",2,157,null,"NA",null,"NA","NA","NA",2,173.2,16,826.79,null,"NA",null,"NA",null,"NA",999.99,157,7,"UT","UTTS","NRES",27100063,271,5,2,3000,4000,"IHP","N",5,4000,"Y"]
["SL0000146641",377,"N","N",1.25,120,null,"NA",null,"NA","NA","NA",2,1000,null,"NA",null,"NA",null,"NA",null,"NA",1000,120,8,"UT","UTFS","NRES",20800615,208,1,2,3000,5118,"IHP","N",1,5118,"Y"]
["SL0000146771",378,"N","N",1.25,40,null,"NA",null,"NA","NA","NA",3,50.25,4,699,6,250.75,null,"NA",null,"NA",1000,40,1,"UT","UTFS","NRES",27201006,272,5,2,5000,6600,"IHP","N",5,6600,"Y"]
["SL0000147197",379,"N","N",0.75,69,null,"NA",null,"NA","NA","NA",2,450,4,302.91000000000003,1.25,247.09,null,"NA",null,"NA",1000,69,3,"UT","UTFS","NRES",27101299,271,0.25,2,3000,3000,"IHP","N",0.25,3000,"Y"]
["SL0000147233",380,"N","N",1.25,121,null,"NA",null,"NA","NA","NA",2,129.9,4,853.1,0.75,17,null,"NA",null,"NA",1000,121,6,"UT","UTFS","NRES",27101627,271,2,2,3000,3300,"IHP","N",2,3300,"Y"]
["SL0000147489",381,"N","N",1.25,170,null,"NA",null,"NA","NA","NA",4,1000,null,"NA",null,"NA",null,"NA",null,"NA",1000,170,4,"UT","UTFS","NRES",25500245,255,5,2,1000,2700,"IHP","N",5,2700,"Y"]
["SL0000147691",382,"N","N",1.25,295,null,"NA",null,"NA","NA","NA",2,104,4,786,0.75,110,null,"NA",null,"NA",1000,295,1,"UT","UTFS","NRES",25503849,255,5,2,1000,2700,"IHP","N",5,2700,"Y"]
["SL0000148091",383,"N","N",0.5,1,null,"NA",null,"NA","NA","NA",2,1000,null,"NA",null,"NA",null,"NA",null,"NA",1000,1,10,"UT","UTFS","NRES",15103124,151,2,2,800,1847,"IHP","N",2,1847,"Y"]
["SL0000148440",384,"N","N",3,523,4,97,null,"NA","NA","NA",2,36.06,4,963.94,null,"NA",null,"NA",null,"NA",1000,620,3,"UT","UTFS","NRES",15102722,151,1,2,800,1763,"IHP","N",1,1763,"Y"]
["SL0000148556",385,"Y","N",2,12,null,"NA",null,"NA","NA","NA",4,1000,null,"NA",null,"NA",null,"NA",null,"NA",1000,12,2,"UT","UTFS","NRES",27200478,272,5,2,5000,6600,"IHP","N",5,6600,"Y"]
["SL0000148928",386,"N","N",0.75,41,null,"NA",null,"NA","NA","NA",2,182.53,3,68.010000000000005,4,749.45,null,"NA",null,"NA",999.99,41,7,"UT","UTFS","NRES",15700117,157,0.25,2,2300,2300,"IHP","N",0.25,2300,"Y"]
["SL0000149719",387,"N","N",1.25,155,null,"NA",null,"NA","NA","NA",2,1000,null,"NA",null,"NA",null,"NA",null,"NA",1000,155,3,"UT","UTFS","NRES",22006984,220,5,2,400,1055,"IHP","N",5,1055,"Y"]
["SL0000149997",388,"N","N",1.25,41,null,"NA",null,"NA","NA","NA",2,161.69,3,9,4,98.81,6,730.5,null,"NA",1000,41,13,"UT","UTFS","NRES",27200794,272,2,2,5000,5550,"IHP","N",2,5550,"Y"]
["SL0000150003",389,"N","N",2,195,null,"NA",null,"NA","NA","NA",2,154.72999999999999,4,638.5,0.75,15,1.25,191.76,null,"NA",999.99,195,6,"UT","UTTS","NRES",27200279,272,5,2,5000,6600,"IHP","Y",5,6600,"Y"]
["SL0000150249",390,"N","N",1.25,286,null,"NA",null,"NA","NA","NA",4,1000,null,"NA",null,"NA",null,"NA",null,"NA",1000,286,4,"UT","UTFS","NRES",28100668,281,0.25,2,3500,3500,"IHP","N",0.25,3500,"Y"]
["SL0000150313",391,"N","N",1.25,169,null,"NA",null,"NA","NA","NA",2,187.17,4,812.83,null,"NA",null,"NA",null,"NA",1000,169,5,"UT","UTFS","NRES",27200908,272,2,2,5000,5550,"IHP","N",2,5550,"Y"]
["SL0000150641",392,"N","N",1.25,302,null,"NA",null,"NA","NA","NA",2,1000,null,"NA",null,"NA",null,"NA",null,"NA",1000,302,2,"UT","UTFS","NRES",27000477,270,5,2,1400,1980,"IHP","N",5,1980,"Y"]
["SL0000150708",393,"N","N",1.25,272,null,"NA",null,"NA","NA","NA",4,940.4,1.25,59.6,null,"NA",null,"NA",null,"NA",1000,272,10,"UT","UTFS","NRES",20800621,208,2,2,3000,5276,"IHP","N",2,5276,"Y"]
["SL0000150981",394,"N","N",1.25,75,null,"NA",null,"NA","NA","NA",2,184.38,6,125.26,10,690.36,null,"NA",null,"NA",1000,75,3,"UT","UTFS","NRES",27100265,271,0.25,2,3000,3000,"IHP","N",0.25,3000,"Y"]
["SL0000151141",395,"N","N",1.25,367,null,"NA",null,"NA","NA","NA",2,463.79,4,521.21,1.25,15,null,"NA",null,"NA",1000,367,12,"UT","UTFS","NRES",28200186,282,2,2,5000,6113,"IHP","N",2,6113,"Y"]
["SL0000151611",396,"N","N",2,79,null,"NA",null,"NA","NA","NA",2,914.21,4,85.79,null,"NA",null,"NA",null,"NA",1000,79,3,"UT","UTTS","NRES",28100436,281,5,2,3500,4610,"IHP","Y",5,4610,"Y"]
["SL0000151692",397,"N","N",2,224,null,"NA",null,"NA","NA","NA",2,284.14999999999998,4,715.85,null,"NA",null,"NA",null,"NA",1000,224,5,"UT","UTFS","NRES",27101587,271,5,2,3000,4000,"IHP","N",5,4000,"Y"]
["SL0000152672",398,"N","N",1.25,362,null,"NA",null,"NA","NA","NA",4,1000,null,"NA",null,"NA",null,"NA",null,"NA",1000,362,11,"UT","UTFS","NRES",27200633,272,2,2,5000,5550,"IHP","N",2,5550,"Y"]
["SL0000152691",399,"N","N",2,528,1.25,3,null,"NA","NA","NA",2,1,4,925.84,6,20.329999999999998,8,52.83,null,"NA",1000,531,3,"UT","UTFS","NRES",27200272,272,5,2,5000,6600,"IHP","N",5,6600,"Y"]
["SL0000153838",400,"N","N",1.25,264,null,"NA",null,"NA","NA","NA",4,864.61,0.75,135.38999999999999,null,"NA",null,"NA",null,"NA",1000,264,7,"UT","UTFS","NRES",27000470,270,0.25,2,1400,1500,"IHP","N",0.25,1500,"Y"]
["SL0000153897",401,"N","N",1.25,98,null,"NA",null,"NA","NA","NA",4,1000,null,"NA",null,"NA",null,"NA",null,"NA",1000,98,9,"UT","UTTS","NRES",20800537,208,1,2,3000,5118,"IHP","Y",1,5118,"Y"]
["SL0000154039",402,"N","N",2,371,null,"NA",null,"NA","NA","NA",2,1000,null,"NA",null,"NA",null,"NA",null,"NA",1000,371,1,"UT","UTFS","NRES",27101602,271,2,2,3000,3300,"IHP","N",2,3300,"Y"]
["SL0000154203",403,"N","Y",1.25,24,null,"NA",null,"NA","NA","NA",2,145.53,3,51.01,4,549.05999999999995,8,254.4,null,"NA",1000,24,2,"UT","UTFS","NRES",27101714,271,2,2,3000,3300,"IHP","N",2,3300,"Y"]
["SL0000154358",404,"N","N",0.75,15,null,"NA",null,"NA","NA","NA",2,1000,null,"NA",null,"NA",null,"NA",null,"NA",1000,15,6,"UT","UTFS","NRES",34603038,346,2,2,650,1390,"IHP","N",2,1390,"Y"]
["SL0000154956",405,"N","N",0.75,15,null,"NA",null,"NA","NA","NA",2,1000,null,"NA",null,"NA",null,"NA",null,"NA",1000,15,6,"UT","UTFS","NRES",34603037,346,2,2,650,1390,"IHP","N",2,1390,"Y"]
["SL0000155237",406,"N","N",1.25,233,null,"NA",null,"NA","NA","NA",2,333.24,4,551.04,0.75,115.24,null,"NA",null,"NA",999.52,233,2,"UT","UTFS","NRES",27101507,271,2,2,3000,3300,"IHP","N",2,3300,"Y"]
["SL0000155869",407,"N","N",1.25,133,null,"NA",null,"NA","NA","NA",6,818.5,10,117.24,1.25,64.260000000000005,null,"NA",null,"NA",1000,133,7,"UT","UTTS","NRES",27200936,272,5,2,5000,6600,"IHP","Y",5,6600,"Y"]
["SL0000156002",408,"N","Y",4,24,6,616,null,"NA","NA","NA",2,108.04,4,889.96,6,2,null,"NA",null,"NA",1000,640,4,"UT","UTTS","NRES",11300045,113,45,4,30000,121714,"IHP","Y",25,81000,"Y"]
["SL0000156372",409,"N","Y",4,24,6,616,null,"NA","NA","NA",2,108.04,4,889.96,6,2,null,"NA",null,"NA",1000,640,4,"UT","UTTS","NRES",26900030,269,45,2,800,3230,"IHP","Y",25,2140,"Y"]
["SL0000156448",410,"N","N",1.25,160,null,"NA",null,"NA","NA","NA",2,1000,null,"NA",null,"NA",null,"NA",null,"NA",1000,160,9,"UT","UTFS","NRES",28200135,282,2,2,5000,6113,"IHP","N",2,6113,"Y"]
["SL0000156487",411,"N","N",1.25,229,null,"NA",null,"NA","NA","NA",2,1000,null,"NA",null,"NA",null,"NA",null,"NA",1000,229,9,"UT","UTFS","NRES",25504524,255,0.25,2,1000,1000,"IHP","N",0.25,1000,"Y"]
["SL0000156697",412,"N","N",6,919,null,"NA",null,"NA","NA","NA",4,375,6,625,null,"NA",null,"NA",null,"NA",1000,919,1,"UT","UTFS","NRES",31300012,313,45,4,30000,121714,"IHP","Y",25,81000,"Y"]
["SL0000156734",413,"N","N",6,919,null,"NA",null,"NA","NA","NA",4,375,6,625,null,"NA",null,"NA",null,"NA",1000,919,1,"UT","UTFS","NRES",26900125,269,6,2,800,1106,"IHP","Y",6,1106,"Y"]
["SL0000157094",414,"Y","N",1.25,43,null,"NA",null,"NA","NA","NA",2,1000,null,"NA",null,"NA",null,"NA",null,"NA",1000,43,7,"UT","UTFS","NRES",20800521,208,0.25,2,3000,2500,"IHP","N",0.25,2500,"Y"]
["SL0000157292",415,"N","Y",1.25,119,null,"NA",null,"NA","NA","NA",4,1000,null,"NA",null,"NA",null,"NA",null,"NA",1000,119,10,"UT","UTFS","NRES",11500960,115,5,2,1000,2530,"IHP","N",5,2530,"Y"]
["SL0000157722",416,"N","N",0.75,196,null,"NA",null,"NA","NA","NA",4,1000,null,"NA",null,"NA",null,"NA",null,"NA",1000,196,2,"UT","UTFS","NRES",11500659,115,0.25,2,1000,1000,"IHP","N",0.25,1000,"Y"]
["SL0000157907",417,"N","Y",1.25,221,null,"NA",null,"NA","NA","NA",4,827.78,6,172.22,null,"NA",null,"NA",null,"NA",1000,221,3,"UT","UTFS","NRES",27101252,271,0.25,2,3000,3000,"IHP","N",0.25,3000,"Y"]
["SL0000158454",418,"N","N",2,120,null,"NA",null,"NA","NA","NA",2,992,1.25,8,null,"NA",null,"NA",null,"NA",1000,120,12,"UT","UTTS","NRES",28200233,282,1,2,5000,5740,"IHP","Y",1,5740,"Y"]
["SL0000158497",419,"N","N",1.25,220,null,"NA",null,"NA","NA","NA",2,80.7,4,885.9,8,33.4,null,"NA",null,"NA",1000,220,9,"UT","UTFS","NRES",25503771,255,5,2,1000,2700,"IHP","N",5,2700,"Y"]
["SL0000159057",420,"N","N",2,170,null,"NA",null,"NA","NA","NA",2,7.5,3,992.5,null,"NA",null,"NA",null,"NA",1000,170,4,"UT","UTFS","NRES",27200420,272,5,2,5000,6600,"IHP","N",5,6600,"Y"]
["SL0000159706",421,"N","Y",1.25,231,null,"NA",null,"NA","NA","NA",2,54.56,4,945.44,null,"NA",null,"NA",null,"NA",1000,231,15,"UT","UTTS","NRES",27200147,272,1,2,5000,5200,"IHP","Y",1,5200,"Y"]
["SL0000160286",422,"N","Y",1.25,50,null,"NA",null,"NA","NA","NA",4,1000,null,"NA",null,"NA",null,"NA",null,"NA",1000,50,3,"UT","UTFS","NRES",27101427,271,2,2,3000,3300,"IHP","N",2,3300,"Y"]
["SL0000160603",423,"N","N",1.25,260,null,"NA",null,"NA","NA","NA",2,466,null,"NA",null,"NA",null,"NA",null,"NA",466,260,1,"UT","UTTS","NRES",27100374,271,2,2,3000,3300,"IHP","Y",2,3300,"Y"]
["SL0000161109",424,"N","Y",4,1438,null,"NA",null,"NA","NA","NA",2,92.98,4,408,6,382.05,1.25,116.98,null,"NA",1000.01,1438,9,"UT","UTISFS","NRES",20800129,208,1,2,3000,5118,"IHP","Y",1,5118,"Y"]
["SL0000161475",425,"N","Y",4,1438,null,"NA",null,"NA","NA","NA",2,92.98,4,408,6,382.05,1.25,116.98,null,"NA",1000.01,1438,9,"UT","UTISFS","NRES",27200582,272,45,3,5000,20200,"IHP","Y",25,13400,"Y"]
["SL0000162307",426,"N","N",0.75,98,1.25,4,null,"NA","NA","NA",2,168,6,449,1.25,383,null,"NA",null,"NA",1000,102,3,"UT","UTFS","NRES",11500887,115,0.25,2,1000,1000,"IHP","N",0.25,1000,"Y"]
["SL0000162498",427,"N","N",1.25,31,null,"NA",null,"NA","NA","NA",2,295,3,13,4,62,6,570,8,60,1000,31,1,"UT","UTFS","NRES",15600858,156,0.25,2,1400,1400,"IHP","N",0.25,1400,"Y"]
["SL0000162774",428,"N","N",1.25,48,null,"NA",null,"NA","NA","NA",4,1000,null,"NA",null,"NA",null,"NA",null,"NA",1000,48,5,"UT","UTIS","NRES",27200945,272,5,2,5000,6600,"IHP","Y",5,6600,"Y"]
["SL0000163281",429,"N","N",2,582,null,"NA",null,"NA","NA","NA",2,1000,null,"NA",null,"NA",null,"NA",null,"NA",1000,582,6,"UT","UTFS","NRES",23200063,232,2,2,5000,5565,"IHP","N",2,5565,"Y"]
["SL0000163667",430,"Y","N",1.25,32,null,"NA",null,"NA","NA","NA",2,717.12,4,222.31,6,47.63,1.25,12.94,null,"NA",1000,32,3,"UT","UTFS","NRES",15700223,157,2,2,2300,5442,"IHP","N",2,5442,"Y"]
["SL0000164243",431,"N","N",1.25,76,null,"NA",null,"NA","NA","NA",2,1000,null,"NA",null,"NA",null,"NA",null,"NA",1000,76,11,"UT","UTFS","NRES",15600958,156,0.25,2,1400,1400,"IHP","N",0.25,1400,"Y"]
["SL0000164908",432,"N","N",1.25,61,null,"NA",null,"NA","NA","NA",2,303,4,697,null,"NA",null,"NA",null,"NA",1000,61,14,"UT","UTFS","NRES",15600595,156,2,2,1400,3265,"IHP","N",2,3265,"Y"]
["SL0000165503",433,"N","N",0.75,103,null,"NA",null,"NA","NA","NA",4,879.3,0.75,104.7,1.25,16,null,"NA",null,"NA",1000,103,5,"UT","UTFS","NRES",27100755,271,0.25,2,3000,3000,"IHP","N",0.25,3000,"Y"]
["SL0000165978",434,"N","N",1.25,216,null,"NA",null,"NA","NA","NA",2,544,4,456,null,"NA",null,"NA",null,"NA",1000,216,1,"UT","UTFS","NRES",27100121,271,0.25,2,3000,3000,"IHP","N",0.25,3000,"Y"]
["SL0000166123",435,"N","N",1.25,37,null,"NA",null,"NA","NA","NA",2,123.18,4,876.82,null,"NA",null,"NA",null,"NA",1000,37,16,"UT","UTFS","NRES",27101153,271,2,2,3000,3300,"IHP","N",2,3300,"Y"]
["SL0000166163",436,"N","N",0.75,30,null,"NA",null,"NA","NA","NA",4,1000,null,"NA",null,"NA",null,"NA",null,"NA",1000,30,4,"UT","UTFS","NRES",27000819,270,0.25,2,1400,1500,"IHP","N",0.25,1500,"Y"]
["SL0000166184",437,"N","N",0.75,151,null,"NA",null,"NA","NA","NA",2,1000,null,"NA",null,"NA",null,"NA",null,"NA",1000,151,9,"UT","UTFS","NRES",25500528,255,5,2,1000,2700,"IHP","N",5,2700,"Y"]
["SL0000166333",438,"N","N",1.25,15,null,"NA",null,"NA","NA","NA",2,305.95999999999998,4,694.04,null,"NA",null,"NA",null,"NA",1000,15,6,"UT","UTFS","NRES",27200071,272,2,2,5000,5550,"IHP","N",2,5550,"Y"]
["SL0000166407",439,"N","N",1.25,15,null,"NA",null,"NA","NA","NA",2,305.95999999999998,4,694.04,null,"NA",null,"NA",null,"NA",1000,15,6,"UT","UTFS","NRES",25504296,255,0.25,2,1000,1000,"IHP","N",0.25,1000,"Y"]
["SL0000166503",440,"N","N",2,236,null,"NA",null,"NA","NA","NA",4,1000,null,"NA",null,"NA",null,"NA",null,"NA",1000,236,7,"UT","UTTS","NRES",27200628,272,45,3,5000,20200,"IHP","Y",25,13400,"Y"]
["SL0000166504",441,"N","N",2,236,null,"NA",null,"NA","NA","NA",4,1000,null,"NA",null,"NA",null,"NA",null,"NA",1000,236,7,"UT","UTTS","NRES",27100844,271,2,2,3000,3300,"IHP","Y",2,3300,"Y"]
["SL0000166520",442,"N","N",1.25,228,null,"NA",null,"NA","NA","NA",6,1000,null,"NA",null,"NA",null,"NA",null,"NA",1000,228,3,"UT","UTFS","NRES",15600164,156,5,2,1400,3700,"IHP","N",5,3700,"Y"]
["SL0000166828",443,"N","N",1.25,12,null,"NA",null,"NA","NA","NA",2,862,3,138,null,"NA",null,"NA",null,"NA",1000,12,7,"UT","UTFS","NRES",11500992,115,5,2,1000,2530,"IHP","N",5,2530,"Y"]
["SL0000166961",444,"N","N",1.25,190,null,"NA",null,"NA","NA","NA",2,1000,null,"NA",null,"NA",null,"NA",null,"NA",1000,190,9,"UT","UTFS","NRES",15102564,151,2,2,800,1847,"IHP","N",2,1847,"Y"]
["SL0000167003",445,"N","N",1.25,83,null,"NA",null,"NA","NA","NA",4,1000,null,"NA",null,"NA",null,"NA",null,"NA",1000,83,2,"UT","UTFS","NRES",28100521,281,2,2,3500,3897,"IHP","N",2,3897,"Y"]
["SL0000167037",446,"N","N",0.75,178,null,"NA",null,"NA","NA","NA",2,838.13,1.25,161.87,null,"NA",null,"NA",null,"NA",1000,178,9,"UT","UTFS","NRES",15501474,155,0.25,2,1000,1000,"IHP","N",0.25,1000,"Y"]
["SL0000167081",447,"N","N",2,282,null,"NA",null,"NA","NA","NA",4,81.13,6,918.87,null,"NA",null,"NA",null,"NA",1000,282,3,"UT","UTFS","NRES",27201144,272,2,2,5000,5550,"IHP","N",2,5550,"Y"]
["SL0000167320",448,"N","N",1.25,254,null,"NA",null,"NA","NA","NA",2,1000,null,"NA",null,"NA",null,"NA",null,"NA",1000,254,5,"UT","UTFS","NRES",27801093,278,5,2,2000,2630,"IHP","N",5,2630,"Y"]
["SL0000167375",449,"N","N",1.25,379,null,"NA",null,"NA","NA","NA",2,191.92,4,710,1.25,98.08,null,"NA",null,"NA",1000,379,5,"UT","UTTS","NRES",15600893,156,5,2,1400,3700,"IHP","Y",5,3700,"Y"]
["SL0000167392",450,"N","N",1.25,24,null,"NA",null,"NA","NA","NA",2,513,4,487,null,"NA",null,"NA",null,"NA",1000,24,12,"UT","UTFS","NRES",20800667,208,5,2,3000,5750,"IHP","N",5,5750,"Y"]
["SL0000168589",451,"N","N",1.25,131,null,"NA",null,"NA","NA","NA",2,154.34,6,845.66,null,"NA",null,"NA",null,"NA",1000,131,2,"UT","UTFS","NRES",27100656,271,2,2,3000,3300,"IHP","N",2,3300,"Y"]
["SL0000168764",452,"Y","N",1.25,280,null,"NA",null,"NA","NA","NA",4,649.91,8,350.09,null,"NA",null,"NA",null,"NA",1000,280,4,"UT","UTFS","NRES",27200371,272,2,2,5000,5550,"IHP","N",2,5550,"Y"]
["SL0000168784",453,"N","Y",2,145,null,"NA",null,"NA","NA","NA",2,156,6,844,null,"NA",null,"NA",null,"NA",1000,145,4,"UT","UTFS","NRES",27100571,271,2,2,3000,3300,"IHP","N",2,3300,"Y"]
["SL0000169330",454,"N","N",2,151,null,"NA",null,"NA","NA","NA",2,59,3,941,null,"NA",null,"NA",null,"NA",1000,151,3,"UT","UTFS","NRES",27100823,271,5,2,3000,4000,"IHP","N",5,4000,"Y"]
["SL0000169386",455,"N","N",1.25,115,null,"NA",null,"NA","NA","NA",3,505,4,495,null,"NA",null,"NA",null,"NA",1000,115,8,"UT","UTFS","NRES",20800651,208,5,2,3000,5750,"IHP","N",5,5750,"Y"]
["SL0000169529",456,"Y","N",0.75,18,null,"NA",null,"NA","NA","NA",2,897.5,4,23.12,10,79.38,null,"NA",null,"NA",1000,18,8,"UT","UTFS","NRES",27200679,272,2,2,5000,5550,"IHP","N",2,5550,"Y"]
["SL0000169532",457,"N","N",1.25,151,null,"NA",null,"NA","NA","NA",2,160.9,4,839.1,null,"NA",null,"NA",null,"NA",1000,151,10,"UT","UTFS","NRES",27200627,272,2,2,5000,5550,"IHP","N",2,5550,"Y"]
["SL0000169538",458,"N","N",1.25,85,null,"NA",null,"NA","NA","NA",4,1000,null,"NA",null,"NA",null,"NA",null,"NA",1000,85,10,"UT","UTFS","NRES",15600260,156,45,2,1400,8450,"IHP","Y",25,6200,"Y"]
["SL0000169581",459,"N","N",1.25,25,null,"NA",null,"NA","NA","NA",2,1000,null,"NA",null,"NA",null,"NA",null,"NA",1000,25,5,"UT","UTFS","NRES",25503633,255,2,2,1000,2400,"IHP","N",2,2400,"Y"]
["SL0000169770",460,"N","Y",2,143,null,"NA",null,"NA","NA","NA",2,1000,null,"NA",null,"NA",null,"NA",null,"NA",1000,143,5,"UT","UTFS","NRES",15601360,156,2,2,1400,3265,"IHP","N",2,3265,"Y"]
["SL0000169882",461,"N","N",1.25,75,null,"NA",null,"NA","NA","NA",2,894.44,4,105.56,null,"NA",null,"NA",null,"NA",1000,75,3,"UT","UTFS","NRES",28200206,282,2,2,5000,6113,"IHP","N",2,6113,"Y"]
["SL0000170133",462,"N","Y",1.25,67,null,"NA",null,"NA","NA","NA",3,753,4,247,null,"NA",null,"NA",null,"NA",1000,67,12,"UT","UTFS","NRES",11500962,115,0.25,2,1000,1000,"IHP","N",0.25,1000,"Y"]
["SL0000170511",463,"N","N",2,64,null,"NA",null,"NA","NA","NA",2,285,4,715,null,"NA",null,"NA",null,"NA",1000,64,3,"UT","UTFS","NRES",28100266,281,2,2,3500,3897,"IHP","N",2,3897,"Y"]
["SL0000170522",464,"N","Y",1.25,270,null,"NA",null,"NA","NA","NA",4,820.94,6,179.06,null,"NA",null,"NA",null,"NA",1000,270,6,"UT","UTFS","NRES",11500669,115,0.25,2,1000,1000,"IHP","N",0.25,1000,"Y"]
["SL0000170916",465,"N","Y",2,59,null,"NA",null,"NA","NA","NA",2,1000,null,"NA",null,"NA",null,"NA",null,"NA",1000,59,4,"UT","UTFS","NRES",25504139,255,2,2,1000,2400,"IHP","N",2,2400,"Y"]
["SL0000171317",466,"N","N",1.25,114,null,"NA",null,"NA","NA","NA",2,60.95,4,925,1.25,14.05,null,"NA",null,"NA",1000,114,5,"UT","UTFS","NRES",27101764,271,2,2,3000,3300,"IHP","N",2,3300,"Y"]
["SL0000171339",467,"N","N",1.25,37,null,"NA",null,"NA","NA","NA",2,930.5,4,69.5,null,"NA",null,"NA",null,"NA",1000,37,11,"UT","UTFS","NRES",27101026,271,1,2,3000,3100,"IHP","N",1,3100,"Y"]
["SL0000171709",468,"N","Y",2,1,1.25,1,null,"NA","NA","NA",3,323,6,677,null,"NA",null,"NA",null,"NA",1000,2,5,"UT","UTFS","NRES",27200748,272,5,2,5000,6600,"IHP","N",5,6600,"Y"]
["SL0000171758",469,"N","N",3,1177,4,2,null,"NA","NA","NA",2,173.26,4,710,1.25,116.74,null,"NA",null,"NA",1000,1179,5,"UT","UTIS","NRES",27101516,271,2,2,3000,3300,"IHP","Y",2,3300,"Y"]
["SL0000171873",470,"N","N",3,1177,4,2,null,"NA","NA","NA",2,173.26,4,710,1.25,116.74,null,"NA",null,"NA",1000,1179,5,"UT","UTIS","NRES",23300069,233,45,3,7000,28224,"IHP","Y",25,18725,"Y"]
["SL0000172157",471,"N","N",0.75,65,null,"NA",null,"NA","NA","NA",2,229.91,4,770.09,null,"NA",null,"NA",null,"NA",1000,65,4,"UT","UTFS","NRES",25503770,255,2,2,1000,2400,"IHP","N",2,2400,"Y"]
["SL0000172224",472,"N","N",1.25,120,null,"NA",null,"NA","NA","NA",2,589.41,4,410.59,null,"NA",null,"NA",null,"NA",1000,120,4,"UT","UTFS","NRES",15103544,151,5,2,800,2100,"IHP","N",5,2100,"Y"]
["SL0000172373",473,"N","N",1.25,33,null,"NA",null,"NA","NA","NA",2,799.5,6,200.5,null,"NA",null,"NA",null,"NA",1000,33,6,"UT","UTTS","NRES",27200166,272,0.25,2,5000,5000,"IHP","Y",0.25,5000,"Y"]
["SL0000172465",474,"N","N",2,13,0.75,72,null,"NA","NA","NA",2,334,4,666,null,"NA",null,"NA",null,"NA",1000,85,6,"UT","UTFS","NRES",25500943,255,5,2,1000,2700,"IHP","N",5,2700,"Y"]
["SL0000172960",475,"N","Y",2,1538,null,"NA",null,"NA","NA","NA",2,934.5,4,65.5,null,"NA",null,"NA",null,"NA",1000,1538,9,"UT","UTTS","NRES",27201110,272,5,2,5000,6600,"IHP","Y",5,6600,"Y"]
["SL0000172991",476,"N","Y",2,649,null,"NA",null,"NA","NA","NA",4,1000,null,"NA",null,"NA",null,"NA",null,"NA",1000,649,4,"UT","UTTS","NRES",15700194,157,1,2,2300,5189,"IHP","Y",1,5189,"Y"]
["SL0000173206",477,"N","N",1.25,114,null,"NA",null,"NA","NA","NA",2,306.5,4,693.5,null,"NA",null,"NA",null,"NA",1000,114,2,"UT","UTFS","NRES",20800264,208,0.25,2,3000,2500,"IHP","N",0.25,2500,"Y"]
["SL0000173672",478,"N","N",0.5,11,null,"NA",null,"NA","NA","NA",2,869.55,3,130.44999999999999,null,"NA",null,"NA",null,"NA",1000,11,7,"UT","UTFS","NRES",25500643,255,0.25,2,1000,1000,"IHP","N",0.25,1000,"Y"]
["SL0000173675",479,"N","N",1.25,128,null,"NA",null,"NA","NA","NA",2,202.81,4,694.87,1.25,102.32,null,"NA",null,"NA",1000,128,11,"UT","UTFS","NRES",27100984,271,2,2,3000,3300,"IHP","N",2,3300,"Y"]
["SL0000173917",480,"N","Y",1.25,206,null,"NA",null,"NA","NA","NA",2,449.22,4,550.78,null,"NA",null,"NA",null,"NA",1000,206,8,"UT","UTFS","NRES",25503682,255,0.25,2,1000,1000,"IHP","N",0.25,1000,"Y"]
["SL0000174117",481,"N","Y",1.25,371,null,"NA",null,"NA","NA","NA",2,698.75,3,301.25,null,"NA",null,"NA",null,"NA",1000,371,7,"UT","UTFS","NRES",27200317,272,5,2,5000,6600,"IHP","N",5,6600,"Y"]
["SL0000174560",482,"N","N",1.25,108,null,"NA",null,"NA","NA","NA",2,874,4,126,null,"NA",null,"NA",null,"NA",1000,108,7,"UT","UTFS","NRES",15601217,156,5,2,1400,3700,"IHP","N",5,3700,"Y"]
["SL0000174584",483,"N","N",2,276,null,"NA",null,"NA","NA","NA",4,1000,null,"NA",null,"NA",null,"NA",null,"NA",1000,276,1,"UT","UTFS","NRES",27200709,272,5,2,5000,6600,"IHP","N",5,6600,"Y"]
["SL0000174795",484,"N","N",1.25,68,null,"NA",null,"NA","NA","NA",2,686.43,6,313.57,null,"NA",null,"NA",null,"NA",1000,68,8,"UT","UTFS","NRES",28100059,281,2,2,3500,3897,"IHP","N",2,3897,"Y"]
["SL0000174810",485,"N","N",null,"NA",null,"NA",null,"NA","NA","NA",null,"NA",null,"NA",null,"NA",null,"NA",null,"NA",0,0,0,"UT","UTFS","NRES",28100411,281,2,2,3500,3897,"IHP","N",2,3897,"Y"]
["SL0000175088",486,"N","Y",1.25,188,null,"NA",null,"NA","NA","NA",2,164.24,4,835.76,null,"NA",null,"NA",null,"NA",1000,188,3,"UT","UTFS","NRES",27801133,278,2,2,2000,2225,"IHP","N",2,2225,"Y"]
["SL0000175097",487,"N","N",1.25,71,null,"NA",null,"NA","NA","NA",2,290.01,3,709.99,null,"NA",null,"NA",null,"NA",1000,71,14,"UT","UTTS","NRES",27100624,271,1,2,3000,3100,"IHP","Y",1,3100,"Y"]
["SL0000175155",488,"N","N",1.25,71,null,"NA",null,"NA","NA","NA",2,290.01,3,709.99,null,"NA",null,"NA",null,"NA",1000,71,14,"UT","UTTS","NRES",15800284,158,45,3,5000,31000,"IHP","Y",25,23000,"Y"]
["SL0000175167",489,"N","N",1.25,68,null,"NA",null,"NA","NA","NA",2,988.69,6,11.31,null,"NA",null,"NA",null,"NA",1000,68,2,"UT","UTFS","NRES",27200148,272,5,2,5000,6600,"IHP","N",5,6600,"Y"]
["SL0000175248",490,"N","N",0.75,163,null,"NA",null,"NA","NA","NA",2,881.21,4,118.79,null,"NA",null,"NA",null,"NA",1000,163,3,"UT","UTFS","NRES",11500121,115,0.25,2,1000,1000,"IHP","N",0.25,1000,"Y"]
["SL0000175492",491,"N","N",0.75,45,null,"NA",null,"NA","NA","NA",2,304,4,696,null,"NA",null,"NA",null,"NA",1000,45,6,"UT","UTFS","NRES",25500293,255,2,2,1000,2400,"IHP","N",2,2400,"Y"]
["SL0000175649",492,"N","N",1.25,533,null,"NA",null,"NA","NA","NA",2,1000,null,"NA",null,"NA",null,"NA",null,"NA",1000,533,13,"UT","UTTS","NRES",27201225,272,2,2,5000,5550,"IHP","Y",2,5550,"Y"]
["SL0000175820",493,"Y","N",1.25,306,null,"NA",null,"NA","NA","NA",2,1000,null,"NA",null,"NA",null,"NA",null,"NA",1000,306,9,"UT","UTFS","NRES",15601060,156,0.25,2,1400,1400,"IHP","N",0.25,1400,"Y"]
["SL0000175831",494,"N","N",1.25,214,null,"NA",null,"NA","NA","NA",2,31,4,969,null,"NA",null,"NA",null,"NA",1000,214,3,"UT","UTFS","NRES",27000352,270,5,2,1400,1980,"IHP","N",5,1980,"Y"]
["SL0000175936",495,"N","N",1.25,409,null,"NA",null,"NA","NA","NA",3,753,4,247,null,"NA",null,"NA",null,"NA",1000,409,12,"UT","UTTS","NRES",20800500,208,5,2,3000,5750,"IHP","Y",5,5750,"Y"]
["SL0000176031",496,"N","Y",1.25,12,null,"NA",null,"NA","NA","NA",4,54.24,6,945.76,null,"NA",null,"NA",null,"NA",1000,12,2,"UT","UTFS","NRES",27101800,271,2,2,3000,3300,"IHP","N",2,3300,"Y"]
["SL0000176076",497,"N","N",4,78,null,"NA",null,"NA","NA","NA",4,1000,null,"NA",null,"NA",null,"NA",null,"NA",1000,78,3,"UT","UTTS","NRES",23800060,238,45,2,0,0,"IHP","Y",25,5350,"Y"]
["SL0000176454",498,"N","N",1.25,101,null,"NA",null,"NA","NA","NA",2,731.58,4,268.42,null,"NA",null,"NA",null,"NA",1000,101,2,"UT","UTFS","NRES",15500544,155,2,2,1000,2400,"IHP","N",2,2400,"Y"]
["SL0000176576",499,"N","N",1.25,154,null,"NA",null,"NA","NA","NA",4,1000,null,"NA",null,"NA",null,"NA",null,"NA",1000,154,3,"UT","UTFS","NRES",27200115,272,5,2,5000,6600,"IHP","N",5,6600,"Y"]
["SL0000176637",500,"N","N",4,138,null,"NA",null,"NA","NA","NA",4,878.5,6,121.5,null,"NA",null,"NA",null,"NA",1000,138,3,"UT","UTTS","NRES",11400032,114,45,4,18000,72000,"IHP","Y",25,48000,"Y"]
["SL0000176657",501,"N","N",4,138,null,"NA",null,"NA","NA","NA",4,878.5,6,121.5,null,"NA",null,"NA",null,"NA",1000,138,3,"UT","UTTS","NRES",15601403,156,45,2,1400,8450,"IHP","Y",25,6200,"Y"]
["SL0000176700",502,"N","N","Unknown",150,null,"NA",null,"NA","NA","NA",2,1000,null,"NA",null,"NA",null,"NA",null,"NA",1000,150,2,"UT","UTFS","NRES",55622880,556,0.25,2,1400,1400,"IHP","N",0.25,1400,"Y"]
["SL0000176718",503,"N","N",1.25,192,null,"NA",null,"NA","NA","NA",2,140,4,860,null,"NA",null,"NA",null,"NA",1000,192,3,"UT","UTFS","NRES",28200308,282,2,2,5000,6113,"IHP","N",2,6113,"Y"]
["SL0000176721",504,"N","N",2,2,1.25,124,null,"NA","NA","NA",2,141,4,859,null,"NA",null,"NA",null,"NA",1000,126,6,"UT","UTFS","NRES",27100926,271,2,2,3000,3300,"IHP","N",2,3300,"Y"]
["SL0000176728",505,"N","N",1.25,60,null,"NA",null,"NA","NA","NA",2,828,8,172,null,"NA",null,"NA",null,"NA",1000,60,4,"UT","UTTS","NRES",27101079,271,5,2,3000,4000,"IHP","Y",5,4000,"Y"]
["SL0000176789",506,"N","N",1.25,107,null,"NA",null,"NA","NA","NA",2,649.5,4,350.5,null,"NA",null,"NA",null,"NA",1000,107,3,"UT","UTFS","NRES",25504025,255,0.25,2,1000,1000,"IHP","N",0.25,1000,"Y"]
["SL0000176793",507,"N","N",1.25,170,null,"NA",null,"NA","NA","NA",4,1000,null,"NA",null,"NA",null,"NA",null,"NA",1000,170,3,"UT","UTFS","NRES",27100073,271,2,2,3000,3300,"IHP","N",2,3300,"Y"]
["SL0000176846",508,"N","N",1.25,20,null,"NA",null,"NA","NA","NA",3,389,4,597.5,6,13.5,null,"NA",null,"NA",1000,20,4,"UT","UTFS","NRES",27200864,272,5,2,5000,6600,"IHP","N",5,6600,"Y"]
["SL0000176882",509,"N","Y",4,277,null,"NA",null,"NA","NA","NA",4,1000,null,"NA",null,"NA",null,"NA",null,"NA",1000,277,4,"UT","UTFS","NRES",23600032,236,45,4,23000,80640,"IHP","Y",25,53500,"Y"]
["SL0000176883",510,"N","Y",4,277,null,"NA",null,"NA","NA","NA",4,1000,null,"NA",null,"NA",null,"NA",null,"NA",1000,277,4,"UT","UTFS","NRES",26900155,269,45,2,800,3230,"IHP","Y",25,2140,"Y"]
["SL0000176893",511,"N","N",1.25,64,null,"NA",null,"NA","NA","NA",4,946.92,6,53.08,null,"NA",null,"NA",null,"NA",1000,64,1,"UT","UTFS","NRES",27201214,272,2,2,5000,5550,"IHP","N",2,5550,"Y"]
["SL0000176897",512,"N","N",2,158,null,"NA",null,"NA","NA","NA",2,1000,null,"NA",null,"NA",null,"NA",null,"NA",1000,158,5,"UT","UTFS","NRES",15601008,156,5,2,1400,3700,"IHP","N",5,3700,"Y"]
["SL0000177003",513,"N","N",1.25,134,null,"NA",null,"NA","NA","NA",2,28.75,4,257.25,8,714,null,"NA",null,"NA",1000,134,1,"UT","UTFS","NRES",746000327,746,2,2,650,1390,"IHP","N",2,1390,"Y"]
["SL0000177149",514,"N","N",1.25,682,null,"NA",null,"NA","NA","NA",6,1000,null,"NA",null,"NA",null,"NA",null,"NA",1000,682,2,"UT","UTFS","NRES",27800706,278,2,2,2000,2225,"IHP","N",2,2225,"Y"]
["SL0000177201",515,"N","N",1.25,148,null,"NA",null,"NA","NA","NA",2,2.36,3,299.08999999999997,4,698.55,null,"NA",null,"NA",1000,148,8,"UT","UTFS","NRES",27100219,271,5,2,3000,4000,"IHP","N",5,4000,"Y"]
["SL0000177235",516,"Y","N",2,237,null,"NA",null,"NA","NA","NA",4,1000,null,"NA",null,"NA",null,"NA",null,"NA",1000,237,1,"UT","UTFS","NRES",23100059,231,2,2,3000,3339,"IHP","N",2,3339,"Y"]
["SL0000177238",517,"N","N",2,54,null,"NA",null,"NA","NA","NA",4,1000,null,"NA",null,"NA",null,"NA",null,"NA",1000,54,7,"UT","UTFS","NRES",27100677,271,1,2,3000,3100,"IHP","Y",1,3100,"Y"]
["SL0000177252",518,"N","N",1.25,1,null,"NA",null,"NA","NA","NA",2,125,6,511,1.25,364,null,"NA",null,"NA",1000,1,6,"UT","UTFS","NRES",55721854,557,0.25,2,2300,2300,"IHP","N",0.25,2300,"Y"]
["SL0000177263",519,"N","N",1.25,228,null,"NA",null,"NA","NA","NA",4,1000,null,"NA",null,"NA",null,"NA",null,"NA",1000,228,8,"UT","UTFS","NRES",20800566,208,0.25,2,3000,2500,"IHP","N",0.25,2500,"Y"]
["SL0000177303",520,"N","N",1.25,101,null,"NA",null,"NA","NA","NA",2,500,6,394,1.25,106,null,"NA",null,"NA",1000,101,1,"UT","UTFS","NRES",27800501,278,5,2,2000,2630,"IHP","N",5,2630,"Y"]
["SL0000177363",521,"N","N",2,45,null,"NA",null,"NA","NA","NA",4,918,6,82,null,"NA",null,"NA",null,"NA",1000,45,3,"UT","UTFS","NRES",27101795,271,2,2,3000,3300,"IHP","N",2,3300,"Y"]
["SL0000177383",522,"N","N",2,62,1.25,103,null,"NA","NA","NA",2,567,4,433,null,"NA",null,"NA",null,"NA",1000,165,2,"UT","UTTS","NRES",27201201,272,5,2,5000,6600,"IHP","Y",5,6600,"Y"]
["SL0000177392",523,"N","Y",1.25,198,null,"NA",null,"NA","NA","NA",4,927.08,1.25,72.92,null,"NA",null,"NA",null,"NA",1000,198,10,"UT","UTFS","NRES",15103689,151,2,2,800,1847,"IHP","N",2,1847,"Y"]
["SL0000177517",524,"Y","N",3,1104,null,"NA",null,"NA","NA","NA",4,186.41,12,813.59,null,"NA",null,"NA",null,"NA",1000,1104,1,"UT","UTTS","NRES",27000671,270,45,2,1400,6050,"IHP","Y",25,4010,"Y"]
["SL0000177553",525,"N","N",3,1104,null,"NA",null,"NA","NA","NA",4,186.41,12,813.59,null,"NA",null,"NA",null,"NA",1000,1104,1,"UT","UTTS","NRES",11400022,114,45,4,18000,72000,"IHP","Y",25,48000,"Y"]
["SL0000177556",526,"N","N",1.25,119,null,"NA",null,"NA","NA","NA",2,1000,null,"NA",null,"NA",null,"NA",null,"NA",1000,119,21,"UT","UTFS","NRES",27800483,278,5,2,2000,2630,"IHP","N",5,2630,"Y"]
["SL0000177656",527,"N","N",2,1,1.25,169,null,"NA","NA","NA",2,719.76,6,280.24,null,"NA",null,"NA",null,"NA",1000,170,5,"UT","UTFS","NRES",27200425,272,0.25,2,5000,5000,"IHP","N",0.25,5000,"Y"]
["SL0000177666",528,"N","N",1.25,46,null,"NA",null,"NA","NA","NA",2,1000,null,"NA",null,"NA",null,"NA",null,"NA",1000,46,10,"UT","UTFS","NRES",27100730,271,2,2,3000,3300,"IHP","N",2,3300,"Y"]
["SL0000177667",529,"N","N",1.25,94,null,"NA",null,"NA","NA","NA",2,258.02999999999997,4,741.97,null,"NA",null,"NA",null,"NA",1000,94,5,"UT","UTFS","NRES",20800146,208,5,2,3000,5750,"IHP","N",5,5750,"Y"]
["SL0000177669",530,"N","N",1.25,41,null,"NA",null,"NA","NA","NA",2,242.01,3,237.78,4,520.21,null,"NA",null,"NA",1000,41,4,"UT","UTFS","NRES",15501522,155,0.25,2,1000,1000,"IHP","N",0.25,1000,"Y"]
["SL0000177672",531,"N","N",1.25,1,null,"NA",null,"NA","NA","NA",2,1000,null,"NA",null,"NA",null,"NA",null,"NA",1000,1,5,"UT","UTFS","NRES",27200334,272,0.25,2,5000,5000,"IHP","N",0.25,5000,"Y"]
["SL0000177710",532,"N","Y",0.75,45,1.25,127,null,"NA","NA","NA",2,220.58,4,779.42,null,"NA",null,"NA",null,"NA",1000,172,14,"UT","UTFS","NRES",27001025,270,5,2,1400,1980,"IHP","N",5,1980,"Y"]
["SL0000177901",533,"N","N",2,18,null,"NA",null,"NA","NA","NA",2,206.24,6,779.51,0.75,11.24,1.25,3,null,"NA",999.99,18,1,"UT","UTFS","NRES",27800114,278,45,2,2000,8065,"IHP","Y",25,5350,"Y"]
["SL0000178247",534,"N","N",1.25,82,null,"NA",null,"NA","NA","NA",2,23.5,4,552.5,1.25,424,null,"NA",null,"NA",1000,82,12,"UT","UTFS","NRES",27100723,271,1,2,3000,3100,"IHP","N",1,3100,"Y"]
["SL0000178302",535,"N","N",2,413,null,"NA",null,"NA","NA","NA",2,909.16,3,90.84,null,"NA",null,"NA",null,"NA",1000,413,2,"UT","UTFS","NRES",27200601,272,2,2,5000,5550,"IHP","N",2,5550,"Y"]
["SL0000178491",536,"N","N",2,413,null,"NA",null,"NA","NA","NA",2,909.16,3,90.84,null,"NA",null,"NA",null,"NA",1000,413,2,"UT","UTFS","NRES",27200601,272,2,2,5000,5550,"IHP","N",2,5550,"Y"]
["SL0000178936",537,"N","N",2,19,null,"NA",null,"NA","NA","NA",4,1000,null,"NA",null,"NA",null,"NA",null,"NA",1000,19,3,"UT","UTTS","NRES",20800594,208,0.25,2,3000,2500,"IHP","Y",0.25,2500,"Y"]
["SL0000178959",538,"N","N",2,12,null,"NA",null,"NA","NA","NA",2,671.71,4,328.29,null,"NA",null,"NA",null,"NA",1000,12,6,"UT","UTFS","NRES",27200597,272,5,2,5000,6600,"IHP","N",5,6600,"N"]
["SL0000179090",539,"N","N",2,12,null,"NA",null,"NA","NA","NA",2,671.71,4,328.29,null,"NA",null,"NA",null,"NA",1000,12,6,"UT","UTFS","NRES",27200597,272,5,2,5000,6600,"IHP","N",5,6600,"Y"]
["SL0000179091",540,"N","N",3,58,null,"NA",null,"NA","NA","NA",2,136.29,4,863.71,null,"NA",null,"NA",null,"NA",1000,58,1,"UT","UTTS","NRES",15601219,156,45,2,1400,8450,"IHP","Y",25,6200,"N"]
["SL0000179141",541,"N","N",3,58,null,"NA",null,"NA","NA","NA",2,136.29,4,863.71,null,"NA",null,"NA",null,"NA",1000,58,1,"UT","UTTS","NRES",15601219,156,45,2,1400,8450,"IHP","Y",25,6200,"Y"]
["SL0000179259",542,"Y","N",3,58,null,"NA",null,"NA","NA","NA",2,136.29,4,863.71,null,"NA",null,"NA",null,"NA",1000,58,1,"UT","UTTS","NRES",15301027,153,45,4,30000,142000,"IHP","Y",25,94000,"Y"]
["SL0000179300",543,"N","N",3,212,null,"NA",null,"NA","NA","NA",6,1000,null,"NA",null,"NA",null,"NA",null,"NA",1000,212,1,"UT","UTFS","NRES",27500182,275,2,3,16000,17800,"IHP","N",2,17800,"Y"]
["SL0000179436",544,"N","N",3,49,4,1,null,"NA","NA","NA",2,467.73,4,224,6,1,8,307.27,null,"NA",1000,50,12,"UT","UTTS","NRES",15700238,157,45,3,2300,14100,"IHP","Y",25,10400,"Y"]
["SL0000179515",545,"N","N",2,106,null,"NA",null,"NA","NA","NA",2,1000,null,"NA",null,"NA",null,"NA",null,"NA",1000,106,22,"UT","UTFS","NRES",28300116,283,2,3,7000,7794,"IHP","N",2,7794,"Y"]
["SL0000179660",546,"N","Y",2,345,null,"NA",null,"NA","NA","NA",2,1000,null,"NA",null,"NA",null,"NA",null,"NA",1000,345,10,"UT","UTFS","NRES",27300223,273,2,3,7000,7800,"IHP","N",2,7800,"Y"]
["SL0000179740",547,"N","N",2,52,null,"NA",null,"NA","NA","NA",2,1000,null,"NA",null,"NA",null,"NA",null,"NA",1000,52,1,"UT","UTTS","NRES",27300486,273,5,3,7000,9200,"IHP","Y",5,9200,"Y"]
["SL0000180331",548,"N","N",2,66,null,"NA",null,"NA","NA","NA",2,1000,null,"NA",null,"NA",null,"NA",null,"NA",1000,66,9,"UT","UTFS","NRES",27300371,273,2,3,7000,7800,"IHP","N",2,7800,"Y"]
["SL0000180390",549,"N","N",2,1398,null,"NA",null,"NA","NA","NA",4,1000,null,"NA",null,"NA",null,"NA",null,"NA",1000,1398,1,"UT","UTTS","NRES",27300405,273,5,3,7000,9200,"IHP","Y",5,9200,"Y"]
["SL0000180858",550,"N","N",3,84,null,"NA",null,"NA","NA","NA",4,1000,null,"NA",null,"NA",null,"NA",null,"NA",1000,84,11,"UT","UTFS","NRES",27400338,274,15,3,11000,22000,"IHP","Y",15,22000,"Y"]
["SL0000180925",551,"N","N",3,1263,null,"NA",null,"NA","NA","NA",4,1000,null,"NA",null,"NA",null,"NA",null,"NA",1000,1263,2,"UT","UTTS","NRES",27500041,275,2,3,16000,17800,"IHP","Y",2,17800,"Y"]
["SL0000181004",552,"N","N",2,85,null,"NA",null,"NA","NA","NA",2,41,4,17,6,942,null,"NA",null,"NA",1000,85,5,"UT","UTFS","NRES",27400202,274,2,3,11000,11750,"IHP","N",2,11750,"Y"]
["SL0000181008",553,"N","N",1.25,86,null,"NA",null,"NA","NA","NA",2,171,null,"NA",null,"NA",null,"NA",null,"NA",171,86,1,"UT","UTFS","NRES",27300093,273,2,3,7000,7800,"IHP","N",2,7800,"Y"]
["SL0000181014",554,"N","N",3,765,null,"NA",null,"NA","NA","NA",6,1000,null,"NA",null,"NA",null,"NA",null,"NA",1000,765,4,"UT","UTFS","NRES",23300040,233,5,3,7000,9219,"IHP","N",5,9219,"Y"]
["SL0000181023",555,"N","N",1.25,19,null,"NA",null,"NA","NA","NA",2,633.85,4,366.15,null,"NA",null,"NA",null,"NA",1000,19,2,"UT","UTIS","NRES",15800391,158,45,3,5000,31000,"IHP","Y",25,23000,"Y"]
["SL0000181222",556,"N","N",1.25,7,null,"NA",null,"NA","NA","NA",4,1000,null,"NA",null,"NA",null,"NA",null,"NA",1000,7,6,"UT","UTTS","NRES",23300109,233,45,3,7000,28224,"IHP","Y",25,18725,"Y"]
["SL0000181320",557,"N","N",2,109,null,"NA",null,"NA","NA","NA",2,984.5,4,15.5,null,"NA",null,"NA",null,"NA",1000,109,3,"UT","UTTS","NRES",28300154,283,45,3,7000,28214,"IHP","Y",25,18724,"Y"]
["SL0000181475",558,"N","N",1.25,304,null,"NA",null,"NA","NA","NA",2,240.12,6,759.88,null,"NA",null,"NA",null,"NA",1000,304,1,"UT","UTFS","NRES",27300138,273,5,3,7000,9200,"IHP","N",5,9200,"Y"]
["SL0000181953",559,"N","N",4,241,null,"NA",null,"NA","NA","NA",4,1000,null,"NA",null,"NA",null,"NA",null,"NA",1000,241,1,"UT","UTFS","NRES",27400273,274,5,3,11000,14500,"IHP","N",5,14500,"Y"]
["SL0000182144",560,"N","N",2,196,null,"NA",null,"NA","NA","NA",2,163.95,4,836.05,null,"NA",null,"NA",null,"NA",1000,196,1,"UT","UTFS","NRES",27400034,274,5,3,11000,14500,"IHP","N",5,14500,"Y"]
["SL0000182453",561,"N","N",0.75,115,null,"NA",null,"NA","NA","NA",2,972.9,0.75,27.1,null,"NA",null,"NA",null,"NA",1000,115,16,"UT","UTFS","NRES",27300334,273,2,3,7000,7800,"IHP","N",2,7800,"Y"]
["SL0000182567",562,"N","N",2,253,null,"NA",null,"NA","NA","NA",2,99.72,4,900.28,null,"NA",null,"NA",null,"NA",1000,253,3,"UT","UTTS","NRES",27300283,273,0.25,3,7000,7000,"IHP","Y",0.25,7000,"Y"]
["SL0000182826",563,"N","N",2,203,null,"NA",null,"NA","NA","NA",2,1000,null,"NA",null,"NA",null,"NA",null,"NA",1000,203,11,"UT","UTFS","NRES",23300052,233,5,3,7000,9219,"IHP","N",5,9219,"Y"]
["SL0000182997",564,"N","N",1.25,30,null,"NA",null,"NA","NA","NA",2,1000,null,"NA",null,"NA",null,"NA",null,"NA",1000,30,3,"UT","UTTS","NRES",27300441,273,5,3,7000,9200,"IHP","Y",5,9200,"Y"]
["SL0000183010",565,"N","N",2,53,3,615,null,"NA","NA","NA",2,1000,null,"NA",null,"NA",null,"NA",null,"NA",1000,668,16,"UT","UTTS","NRES",27200526,272,45,3,5000,20200,"IHP","Y",25,13400,"Y"]
["SL0000183127",566,"N","N",2,26,null,"NA",null,"NA","NA","NA",4,1000,null,"NA",null,"NA",null,"NA",null,"NA",1000,26,3,"UT","UTFS","NRES",23300115,233,45,3,7000,28224,"IHP","Y",25,18725,"Y"]
["SL0000183280",567,"N","N",6,2934,null,"NA",null,"NA","NA","NA",6,1000,null,"NA",null,"NA",null,"NA",null,"NA",1000,2934,1,"UT","UTTS","NRES",28200436,282,20,3,5000,12833,"IHP","Y",20,12833,"Y"]
["SL0000183345",568,"N","N",6,2934,null,"NA",null,"NA","NA","NA",6,1000,null,"NA",null,"NA",null,"NA",null,"NA",1000,2934,1,"UT","UTTS","NRES",11200002,112,45,4,18000,232286,"IHP","Y",25,153429,"Y"]
["SL0000183803",569,"N","N",2,224,null,"NA",null,"NA","NA","NA",4,41,6,959,null,"NA",null,"NA",null,"NA",1000,224,9,"UT","UTFS","NRES",27400206,274,2,3,11000,11750,"IHP","N",2,11750,"Y"]
["SL0000183998",570,"N","N",2,418,null,"NA",null,"NA","NA","NA",2,306.05,3,693.95,null,"NA",null,"NA",null,"NA",1000,418,13,"UT","UTTS","NRES",27300035,273,5,3,7000,9200,"IHP","Y",5,9200,"Y"]
["SL0000184090",571,"N","N",4,316,null,"NA",null,"NA","NA","NA",4,1000,null,"NA",null,"NA",null,"NA",null,"NA",1000,316,3,"UT","UTTS","NRES",23500052,235,5,3,16000,21072,"IHP","Y",5,21072,"Y"]
["SL0000184177",572,"N","N",2,261,null,"NA",null,"NA","NA","NA",6,1000,null,"NA",null,"NA",null,"NA",null,"NA",1000,261,1,"UT","UTTS","NRES",28400055,284,5,3,11000,14487,"IHP","Y",5,14487,"Y"]
["SL0000184282",573,"N","N",2,314,null,"NA",null,"NA","NA","NA",4,226.14,6,773.86,null,"NA",null,"NA",null,"NA",1000,314,1,"UT","UTTS","NRES",28300069,283,5,3,7000,9219,"IHP","Y",5,9219,"Y"]
["SL0000184466",574,"N","N",3,318,null,"NA",null,"NA","NA","NA",null,"NA",null,"NA",null,"NA",null,"NA",null,"NA",0,318,1,"UT","UTTS","NRES",45201004,452,45,4,18000,73714,"HP","Y",125,175400,"Y"]
["SL0000184507",575,"N","N",3,318,null,"NA",null,"NA","NA","NA",null,"NA",null,"NA",null,"NA",null,"NA",null,"NA",0,318,1,"UT","UTTS","NRES",27200451,272,25,3,5000,13400,"HP","Y",25,13400,"Y"]
["SL0000184637",576,"N","N",1.25,41,null,"NA",null,"NA","NA","NA",4,1000,null,"NA",null,"NA",null,"NA",null,"NA",1000,41,4,"UT","UTFS","NRES",27101126,271,45,3,3000,12100,"IHP","Y",25,8000,"Y"]
["SL0000184706",577,"N","N",4,424,6,1,null,"NA","NA","NA",6,1000,null,"NA",null,"NA",null,"NA",null,"NA",1000,425,5,"UT","UTFS","NRES",27400209,274,2,3,11000,11750,"IHP","N",2,11750,"Y"]
["SL0000184790",578,"N","N",1.25,367,null,"NA",null,"NA","NA","NA",2,26.03,3,800.94,4,173.03,null,"NA",null,"NA",1000,367,11,"UT","UTFS","NRES",27300112,273,2,3,7000,7800,"IHP","N",2,7800,"Y"]
["SL0000185043",579,"N","Y",4,1010,null,"NA",null,"NA","NA","NA",2,130.29,4,869.71,null,"NA",null,"NA",null,"NA",1000,1010,7,"UT","UTFS","NRES",27400327,274,5,3,11000,14500,"IHP","N",5,14500,"Y"]
["SL0000185072",580,"N","N",2,156,null,"NA",null,"NA","NA","NA",2,1000,null,"NA",null,"NA",null,"NA",null,"NA",1000,156,9,"UT","UTFS","NRES",28400080,284,2,3,11000,12247,"IHP","N",2,12247,"Y"]
["SL0000185080",581,"N","N",1.25,178,null,"NA",null,"NA","NA","NA",4,98.76,6,901.24,null,"NA",null,"NA",null,"NA",1000,178,2,"UT","UTTS","NRES",28300110,283,5,3,7000,9219,"IHP","Y",5,9219,"Y"]
["SL0000185572",582,"N","N",2,164,null,"NA",null,"NA","NA","NA",4,22.41,6,977.59,null,"NA",null,"NA",null,"NA",1000,164,3,"UT","UTTS","NRES",27300482,273,5,3,7000,9200,"IHP","Y",5,9200,"Y"]
["SL0000185782",583,"N","N",2,164,null,"NA",null,"NA","NA","NA",4,22.41,6,977.59,null,"NA",null,"NA",null,"NA",1000,164,3,"UT","UTTS","NRES",28300057,283,5,3,7000,9219,"IHP","Y",5,9219,"Y"]
["SL0000185958",584,"N","N",4,719,null,"NA",null,"NA","NA","NA",4,1000,null,"NA",null,"NA",null,"NA",null,"NA",1000,719,3,"UT","UTTS","NRES",15800084,158,5,3,5000,13500,"IHP","Y",5,13500,"Y"]
["SL0000185959",585,"N","Y",2,1003,null,"NA",null,"NA","NA","NA",2,680,4,320,null,"NA",null,"NA",null,"NA",1000,1003,2,"UT","UTISFS","NRES",27500032,275,5,3,16000,21100,"IHP","Y",5,21100,"Y"]
["SL0000186133",586,"N","N",2,82,null,"NA",null,"NA","NA","NA",3,1000,null,"NA",null,"NA",null,"NA",null,"NA",1000,82,5,"UT","UTTS","NRES",28200056,282,10,3,5000,9099,"IHP","Y",10,9099,"Y"]
["SL0000186151",587,"N","N",2,183,null,"NA",null,"NA","NA","NA",2,223.74,4,776.26,null,"NA",null,"NA",null,"NA",1000,183,12,"ID","IDFS","NRES",27300156,273,5,3,7000,9200,"IHP","N",5,9200,"Y"]
["SL0000186166",588,"N","N",4,193,null,"NA",null,"NA","NA","NA",4,1000,null,"NA",null,"NA",null,"NA",null,"NA",1000,193,4,"UT","UTFS","NRES",23200073,232,45,3,5000,20160,"IHP","Y",25,13375,"Y"]
["SL0000186244",589,"N","N",1.25,162,null,"NA",null,"NA","NA","NA",4,826.77,1.25,173.23,null,"NA",null,"NA",null,"NA",1000,162,5,"UT","UTTS","NRES",27300351,273,5,3,7000,9200,"IHP","Y",5,9200,"Y"]
["SL0000186379",590,"N","N",2,127,null,"NA",null,"NA","NA","NA",3,784.2,6,215.8,null,"NA",null,"NA",null,"NA",1000,127,5,"UT","UTTS","NRES",28400147,284,5,3,11000,14487,"IHP","Y",5,14487,"Y"]
["SL0000186751",591,"N","N",2,113,null,"NA",null,"NA","NA","NA",2,103.75,8,896.25,null,"NA",null,"NA",null,"NA",1000,113,3,"UT","UTFS","NRES",28200226,282,5,3,5000,7233,"IHP","N",5,7233,"Y"]
["SL0000187273",592,"N","N",2,76,null,"NA",null,"NA","NA","NA",3,1000,null,"NA",null,"NA",null,"NA",null,"NA",1000,76,5,"UT","UTFS","NRES",23400008,234,5,3,11000,14487,"IHP","N",5,14487,"Y"]
["SL0000187326",593,"N","N",2,291,null,"NA",null,"NA","NA","NA",2,127.29,4,872.71,null,"NA",null,"NA",null,"NA",1000,291,3,"UT","UTFS","NRES",27300368,273,2,3,7000,7800,"IHP","N",2,7800,"Y"]
["SL0000187842",594,"N","N",2,222,null,"NA",null,"NA","NA","NA",2,110,3,890,null,"NA",null,"NA",null,"NA",1000,222,5,"UT","UTFS","NRES",15800012,158,45,3,5000,31000,"IHP","Y",25,23000,"Y"]
["SL0000187960",595,"N","N",1.25,194,null,"NA",null,"NA","NA","NA",4,1000,null,"NA",null,"NA",null,"NA",null,"NA",1000,194,1,"UT","UTFS","NRES",28400052,284,2,3,11000,12247,"IHP","N",2,12247,"Y"]
["SL0000188354",596,"N","N",2,72,null,"NA",null,"NA","NA","NA",3,1000,null,"NA",null,"NA",null,"NA",null,"NA",1000,72,2,"UT","UTFS","NRES",27300412,273,2,3,7000,7800,"IHP","N",2,7800,"Y"]
["SL0000188427",597,"N","N",2,175,null,"NA",null,"NA","NA","NA",4,1000,null,"NA",null,"NA",null,"NA",null,"NA",1000,175,2,"UT","UTTS","NRES",28400130,284,2,3,11000,12247,"IHP","Y",2,12247,"Y"]
["SL0000188512",598,"N","N",2,44,null,"NA",null,"NA","NA","NA",2,86.15,4,913.85,null,"NA",null,"NA",null,"NA",1000,44,13,"UT","UTTS","NRES",27400304,274,5,3,11000,14500,"IHP","Y",5,14500,"Y"]
["SL0000188603",599,"N","N",2,93,null,"NA",null,"NA","NA","NA",2,921.45,4,78.55,null,"NA",null,"NA",null,"NA",1000,93,9,"UT","UTTS","NRES",27400065,274,2,3,11000,11750,"IHP","Y",2,11750,"Y"]
["SL0000188707",600,"N","N",3,6,null,"NA",null,"NA","NA","NA",4,380,6,620,null,"NA",null,"NA",null,"NA",1000,6,5,"UT","UTFS","NRES",27300107,273,5,3,7000,9200,"IHP","Y",5,9200,"Y"]
["SL0000188721",601,"N","N",6,344,null,"NA",null,"NA","NA","NA",4,211.5,6,788.5,null,"NA",null,"NA",null,"NA",1000,344,1,"UT","UTTS","NRES",27100884,271,45,3,3000,12100,"IHP","Y",25,8000,"Y"]
["SL0000189110",602,"N","N",2,53,null,"NA",null,"NA","NA","NA",2,148.47999999999999,4,851.52,null,"NA",null,"NA",null,"NA",1000,53,4,"UT","UTTS","NRES",27300225,273,5,3,7000,9200,"IHP","Y",5,9200,"Y"]
["SL0000189222",603,"N","N",3,95,null,"NA",null,"NA","NA","NA",2,852.22,4,147.78,null,"NA",null,"NA",null,"NA",1000,95,5,"UT","UTTS","NRES",23500034,235,2,3,16000,17808,"IHP","Y",2,17808,"Y"]
["SL0000189350",604,"N","N",2,300,null,"NA",null,"NA","NA","NA",3,35.32,4,774.87,6,88.82,1.25,101,null,"NA",1000.01,300,8,"UT","UTTS","NRES",28400091,284,2,3,11000,12247,"IHP","Y",2,12247,"Y"]
["SL0000189867",605,"N","N",1.25,79,null,"NA",null,"NA","NA","NA",4,667,1.25,333,null,"NA",null,"NA",null,"NA",1000,79,11,"UT","UTFS","NRES",27200669,272,45,3,5000,20200,"IHP","Y",25,13400,"Y"]
["SL0000190104",606,"N","N",4,549,null,"NA",null,"NA","NA","NA",2,122,4,878,null,"NA",null,"NA",null,"NA",1000,549,4,"UT","UTTS","NRES",27500176,275,5,3,16000,21100,"IHP","Y",5,21100,"Y"]
["SL0000190259",607,"N","N",1.25,341,null,"NA",null,"NA","NA","NA",2,99.64,3,870.5,4,29.86,null,"NA",null,"NA",1000,341,4,"UT","UTTS","NRES",27400039,274,5,3,11000,14500,"IHP","Y",5,14500,"Y"]
["SL0000190638",608,"Y","N",2,236,null,"NA",null,"NA","NA","NA",6,1000,null,"NA",null,"NA",null,"NA",null,"NA",1000,236,3,"UT","UTFS","NRES",23400069,234,5,3,11000,14487,"IHP","N",5,14487,"Y"]
["SL0000190794",609,"N","N",4,101,null,"NA",null,"NA","NA","NA",2,134.07,4,865.93,null,"NA",null,"NA",null,"NA",1000,101,2,"UT","UTTS","NRES",23400125,234,45,3,11000,44352,"IHP","Y",25,29425,"Y"]
["SL0000190795",610,"N","N",4,101,null,"NA",null,"NA","NA","NA",2,134.07,4,865.93,null,"NA",null,"NA",null,"NA",1000,101,2,"UT","UTTS","NRES",11000017,110,35,4,60000,202600,"IHP","Y",35,202600,"Y"]
["SL0000190813",611,"N","N",2,141,null,"NA",null,"NA","NA","NA",4,1000,null,"NA",null,"NA",null,"NA",null,"NA",1000,141,6,"UT","UTFS","NRES",28300014,283,2,3,7000,7794,"IHP","N",2,7794,"Y"]
["SL0000190815",612,"N","N",4,248,null,"NA",null,"NA","NA","NA",6,999,0.75,1,null,"NA",null,"NA",null,"NA",1000,248,1,"UT","UTTS","NRES",23100070,231,45,3,3000,12096,"IHP","Y",25,8025,"Y"]
["SL0000190987",613,"N","N",4,248,null,"NA",null,"NA","NA","NA",6,999,0.75,1,null,"NA",null,"NA",null,"NA",1000,248,1,"UT","UTTS","NRES",27900054,279,45,4,23000,92750,"IHP","Y",25,61500,"Y"]
["SL0000191081",614,"N","N",2,108,null,"NA",null,"NA","NA","NA",2,776.93,4,110.5,6,112.57,null,"NA",null,"NA",1000,108,6,"UT","UTFS","NRES",27300102,273,2,3,7000,7800,"IHP","N",2,7800,"Y"]
["SL0000191463",615,"N","N",1.25,24,null,"NA",null,"NA","NA","NA",2,432.36,4,567.64,null,"NA",null,"NA",null,"NA",1000,24,3,"UT","UTTS","NRES",15201028,152,45,4,18000,73714,"IHP","Y",25,48000,"Y"]
["SL0000191618",616,"N","N",1.25,24,null,"NA",null,"NA","NA","NA",2,432.36,4,567.64,null,"NA",null,"NA",null,"NA",1000,24,3,"UT","UTTS","NRES",20800404,208,45,3,3000,10250,"IHP","Y",25,8250,"Y"]
["SL0000191679",617,"N","Y",2,7,4,387,null,"NA","NA","NA",2,383,4,617,null,"NA",null,"NA",null,"NA",1000,394,9,"UT","UTFS","NRES",28400137,284,2,3,11000,12247,"IHP","N",2,12247,"Y"]
["SL0000191909",618,"N","N",2,82,3,427,null,"NA","NA","NA",2,326.5,4,673.5,null,"NA",null,"NA",null,"NA",1000,509,10,"UT","UTIS","NRES",27101017,271,45,3,3000,12100,"IHP","Y",25,8000,"Y"]
["SL0000192068",619,"N","N",0.75,57,null,"NA",null,"NA","NA","NA",2,144.9,4,855.1,null,"NA",null,"NA",null,"NA",1000,57,5,"UT","UTTS","NRES",28400027,284,5,3,11000,14487,"IHP","Y",5,14487,"Y"]
["SL0000192173",620,"N","N",2,161,null,"NA",null,"NA","NA","NA",2,579,3,126,4,295,null,"NA",null,"NA",1000,161,4,"UT","UTFS","NRES",27300200,273,5,3,7000,9200,"IHP","N",5,9200,"Y"]
["SL0000192246",621,"N","N",3,402,null,"NA",null,"NA","NA","NA",4,1000,null,"NA",null,"NA",null,"NA",null,"NA",1000,402,5,"UT","UTFS","NRES",27500029,275,5,3,16000,21100,"IHP","N",5,21100,"Y"]
["SL0000192395",622,"N","N",3,1022,null,"NA",null,"NA","NA","NA",4,1000,null,"NA",null,"NA",null,"NA",null,"NA",1000,1022,5,"UT","UTTS","NRES",27400260,274,5,3,11000,14500,"IHP","Y",5,14500,"Y"]
["SL0000192539",623,"Y","N",3,184,null,"NA",null,"NA","NA","NA",2,140.75,6,859.25,null,"NA",null,"NA",null,"NA",1000,184,3,"UT","UTTS","NRES",27400103,274,2,3,11000,11750,"IHP","Y",2,11750,"Y"]
["SL0000192611",624,"N","N",1.25,136,null,"NA",null,"NA","NA","NA",2,41,4,768,1.25,191,null,"NA",null,"NA",1000,136,20,"UT","UTFS","NRES",27300329,273,10,3,7000,11600,"IHP","N",10,11600,"Y"]
["SL0000192624",625,"N","N",2,73,6,51,null,"NA","NA","NA",2,328,3,225.88,4,446.12,null,"NA",null,"NA",1000,124,2,"UT","UTFS","NRES",15800183,158,5,3,5000,13500,"IHP","N",5,13500,"Y"]
["SL0000192958",626,"N","N",2,929,null,"NA",null,"NA","NA","NA",2,164.58,3,33.79,4,801.64,null,"NA",null,"NA",1000.01,929,10,"UT","UTFS","NRES",15800072,158,1,3,5000,11500,"IHP","N",1,11500,"Y"]
["SL0000193150",627,"N","N",2,45,null,"NA",null,"NA","NA","NA",4,1000,null,"NA",null,"NA",null,"NA",null,"NA",1000,45,1,"UT","UTTS","NRES",28100325,281,45,3,3500,14107,"IHP","Y",25,9362,"Y"]
["SL0000193158",628,"N","N",2,77,null,"NA",null,"NA","NA","NA",2,1000,null,"NA",null,"NA",null,"NA",null,"NA",1000,77,2,"UT","UTTS","NRES",27500079,275,5,3,16000,21100,"IHP","Y",5,21100,"Y"]
["SL0000193165",629,"N","N",3,121,null,"NA",null,"NA","NA","NA",8,1000,null,"NA",null,"NA",null,"NA",null,"NA",1000,121,6,"UT","UTTS","NRES",27300251,273,15,3,7000,14000,"IHP","Y",15,14000,"Y"]
["SL0000193180",630,"Y","N",2,60,null,"NA",null,"NA","NA","NA",2,7.52,4,992.48,null,"NA",null,"NA",null,"NA",1000,60,1,"UT","UTFS","NRES",27400199,274,5,3,11000,14500,"IHP","N",5,14500,"Y"]
["SL0000193200",631,"N","N",2,774,null,"NA",null,"NA","NA","NA",2,1000,null,"NA",null,"NA",null,"NA",null,"NA",1000,774,12,"UT","UTFS","NRES",27400121,274,2,3,11000,11750,"IHP","N",2,11750,"Y"]
["SL0000193376",632,"N","N",2,286,null,"NA",null,"NA","NA","NA",2,473.5,4,526.5,null,"NA",null,"NA",null,"NA",1000,286,1,"UT","UTFS","NRES",27400076,274,5,3,11000,14500,"IHP","N",5,14500,"Y"]
["SL0000193470",633,"N","N",1.25,70,null,"NA",null,"NA","NA","NA",2,660.87,8,339.13,null,"NA",null,"NA",null,"NA",1000,70,6,"UT","UTFS","NRES",27300215,273,5,3,7000,9200,"IHP","N",5,9200,"Y"]
["SL0000193558",634,"N","N",2,45,null,"NA",null,"NA","NA","NA",4,1000,null,"NA",null,"NA",null,"NA",null,"NA",1000,45,2,"UT","UTIS","NRES",27400334,274,5,3,11000,14500,"IHP","Y",5,14500,"Y"]
["SL0000193817",635,"N","N",1.25,82,null,"NA",null,"NA","NA","NA",2,127.14,3,845.57,6,27.29,null,"NA",null,"NA",1000,82,10,"UT","UTFS","NRES",27400185,274,2,3,11000,11750,"IHP","N",2,11750,"Y"]
["SL0000193822",636,"N","Y",2,286,null,"NA",null,"NA","NA","NA",3,57,8,943,null,"NA",null,"NA",null,"NA",1000,286,7,"UT","UTFS","NRES",27500156,275,2,3,16000,17800,"IHP","N",2,17800,"Y"]
["SL0000193837",637,"N","N",2,111,null,"NA",null,"NA","NA","NA",4,1000,null,"NA",null,"NA",null,"NA",null,"NA",1000,111,4,"UT","UTTS","NRES",15800324,158,45,3,5000,31000,"IHP","Y",25,23000,"Y"]
["SL0000193883",638,"N","N",2,445,null,"NA",null,"NA","NA","NA",2,365,4,469,1.25,166,null,"NA",null,"NA",1000,445,7,"UT","UTFS","NRES",15800143,158,5,3,5000,13500,"IHP","Y",5,13500,"Y"]
["SL0000194419",639,"N","N",3,192,null,"NA",null,"NA","NA","NA",2,1000,null,"NA",null,"NA",null,"NA",null,"NA",1000,192,13,"UT","UTTS","NRES",15700222,157,45,3,2300,14100,"IHP","Y",25,10400,"Y"]
["SL0000194493",640,"N","N",2,240,null,"NA",null,"NA","NA","NA",2,54.91,3,876.59,1.25,68.5,null,"NA",null,"NA",1000,240,5,"UT","UTFS","NRES",15800198,158,45,3,5000,31000,"IHP","Y",25,23000,"Y"]
["SL0000194781",641,"N","N",2,136,null,"NA",null,"NA","NA","NA",4,1000,null,"NA",null,"NA",null,"NA",null,"NA",1000,136,7,"UT","UTIS","NRES",27300398,273,5,3,7000,9200,"IHP","Y",5,9200,"Y"]
["SL0000194916",642,"N","N",2,448,null,"NA",null,"NA","NA","NA",2,59.75,3,830.25,4,110,null,"NA",null,"NA",1000,448,3,"UT","UTFS","NRES",27400006,274,2,3,11000,11750,"IHP","N",2,11750,"Y"]
["SL0000194926",643,"N","N",2,628,null,"NA",null,"NA","NA","NA",3,122.23,4,10,6,867.77,null,"NA",null,"NA",1000,628,3,"UT","UTTS","NRES",27400179,274,2,3,11000,11750,"IHP","Y",2,11750,"Y"]
["SL0000194999",644,"N","N",2,540,null,"NA",null,"NA","NA","NA",4,1000,null,"NA",null,"NA",null,"NA",null,"NA",1000,540,3,"UT","UTFS","NRES",28300052,283,0.25,3,7000,7000,"IHP","N",0.25,7000,"Y"]
["SL0000195020",645,"N","N",2,78,null,"NA",null,"NA","NA","NA",3,431,4,569,null,"NA",null,"NA",null,"NA",1000,78,2,"UT","UTTS","NRES",15800232,158,45,3,5000,31000,"IHP","Y",25,23000,"Y"]
["SL0000195025",646,"N","N",2,97,null,"NA",null,"NA","NA","NA",4,1000,null,"NA",null,"NA",null,"NA",null,"NA",1000,97,3,"UT","UTTS","NRES",23300128,233,5,3,7000,9219,"IHP","Y",5,9219,"Y"]
["SL0000195051",647,"N","N",2,55,null,"NA",null,"NA","NA","NA",2,528.49,8,471.51,null,"NA",null,"NA",null,"NA",1000,55,8,"UT","UTTS","NRES",27500045,275,5,3,16000,21100,"IHP","Y",5,21100,"Y"]
["SL0000195063",648,"Y","N",2,112,null,"NA",null,"NA","NA","NA",2,651.19000000000005,3,348.81,null,"NA",null,"NA",null,"NA",1000,112,10,"UT","UTTS","NRES",27500103,275,2,3,16000,17800,"IHP","Y",2,17800,"Y"]
["SL0000195534",649,"N","N",1.25,96,null,"NA",null,"NA","NA","NA",4,1000,null,"NA",null,"NA",null,"NA",null,"NA",1000,96,5,"UT","UTFS","NRES",27300354,273,2,3,7000,7800,"IHP","N",2,7800,"Y"]
["SL0000195584",650,"N","N",2,50,null,"NA",null,"NA","NA","NA",4,189.57,6,810.43,null,"NA",null,"NA",null,"NA",1000,50,7,"UT","UTTS","NRES",27300147,273,2,3,7000,7800,"IHP","Y",2,7800,"Y"]
["SL0000195758",651,"N","Y",2,274,null,"NA",null,"NA","NA","NA",2,342.5,4,529.79,1.25,127.71,null,"NA",null,"NA",1000,274,4,"UT","UTFS","NRES",27300094,273,5,3,7000,9200,"IHP","N",5,9200,"Y"]
["SL0000195822",652,"N","N",2,89,null,"NA",null,"NA","NA","NA",2,948,0.75,50,1.25,2,null,"NA",null,"NA",1000,89,4,"UT","UTTS","NRES",23500049,235,5,3,16000,21072,"IHP","Y",5,21072,"Y"]
["SL0000195852",653,"N","N",4,32,6,1,null,"NA","NA","NA",4,149,6,851,null,"NA",null,"NA",null,"NA",1000,33,1,"UT","UTTS","NRES",27200741,272,45,3,5000,20200,"IHP","Y",25,13400,"Y"]
["SL0000195854",654,"N","N",3,117,null,"NA",null,"NA","NA","NA",3,142.15,4,857.85,null,"NA",null,"NA",null,"NA",1000,117,2,"UT","UTTS","NRES",15800392,158,45,3,5000,31000,"IHP","Y",25,23000,"Y"]
["SL0000195864",655,"N","N",2,4,null,"NA",null,"NA","NA","NA",4,1000,null,"NA",null,"NA",null,"NA",null,"NA",1000,4,1,"UT","UTTS","NRES",28100225,281,45,3,3500,14107,"IHP","Y",25,9362,"Y"]
["SL0000195865",656,"N","Y",4,361,null,"NA",null,"NA","NA","NA",2,7,3,232.67,4,760.33,null,"NA",null,"NA",1000,361,5,"UT","UTFS","NRES",27101759,271,45,3,3000,12100,"IHP","Y",25,8000,"Y"]
["SL0000195872",657,"N","Y",4,361,null,"NA",null,"NA","NA","NA",2,7,3,232.67,4,760.33,null,"NA",null,"NA",1000,361,5,"UT","UTFS","NRES",27500161,275,45,4,16000,64550,"IHP","Y",25,42800,"Y"]
["SL0000195896",658,"N","N",1.25,924,null,"NA",null,"NA","NA","NA",2,973,1.25,5,null,"NA",null,"NA",null,"NA",978,924,5,"UT","UTFS","NRES",28200318,282,5,3,5000,7233,"IHP","N",5,7233,"Y"]
["SL0000195905",659,"N","N",1.25,28,null,"NA",null,"NA","NA","NA",2,1000,null,"NA",null,"NA",null,"NA",null,"NA",1000,28,15,"UT","UTFS","NRES",27300539,273,2,3,7000,7800,"IHP","N",2,7800,"Y"]
["SL0000195909",660,"N","N",2,64,null,"NA",null,"NA","NA","NA",2,317.5,4,640,6,42.5,null,"NA",null,"NA",1000,64,3,"UT","UTFS","NRES",23400017,234,5,3,11000,14487,"IHP","N",5,14487,"Y"]
["SL0000195917",661,"N","N",1.25,114,null,"NA",null,"NA","NA","NA",2,1000,null,"NA",null,"NA",null,"NA",null,"NA",1000,114,7,"UT","UTTS","NRES",27300232,273,5,3,7000,9200,"IHP","Y",5,9200,"Y"]
["SL0000195992",662,"N","Y",0.5,40,null,"NA",null,"NA","NA","NA",2,236.5,4,763.5,null,"NA",null,"NA",null,"NA",1000,40,14,"UT","UTTS","NRES",27300072,273,5,3,7000,9200,"IHP","Y",5,9200,"Y"]
["SL0000196154",663,"N","N",2,338,null,"NA",null,"NA","NA","NA",2,251.38,3,506,1.25,242.62,null,"NA",null,"NA",1000,338,12,"UT","UTFS","NRES",27300304,273,2,3,7000,7800,"IHP","N",2,7800,"Y"]
["SL0000196266",664,"N","N",2,295,null,"NA",null,"NA","NA","NA",2,24.84,4,525.84,6,449.33,null,"NA",null,"NA",1000.01,295,4,"UT","UTFS","NRES",27500167,275,5,3,16000,21100,"IHP","N",5,21100,"Y"]
["SL0000196372",665,"N","N",4,33,null,"NA",null,"NA","NA","NA",null,"NA",null,"NA",null,"NA",null,"NA",null,"NA",0,33,1,"UT","UTTS","NRES",31400005,314,45,4,18000,72000,"HP","Y",125,175000,"Y"]
["SL0000196435",666,"N","N",4,33,null,"NA",null,"NA","NA","NA",null,"NA",null,"NA",null,"NA",null,"NA",null,"NA",0,33,1,"UT","UTTS","NRES",15601198,156,45,3,1400,8450,"HP","Y",125,16500,"Y"]
["SL0000196483",667,"N","Y",4,825,null,"NA",null,"NA","NA","NA",2,108.04,4,889.96,6,2,null,"NA",null,"NA",1000,825,4,"UT","UTFS","NRES",28300090,283,10,3,7000,11595,"IHP","N",10,11595,"Y"]
["SL0000196515",668,"N","N",2,248,null,"NA",null,"NA","NA","NA",4,1000,null,"NA",null,"NA",null,"NA",null,"NA",1000,248,1,"UT","UTTS","NRES",27300454,273,5,3,7000,9200,"IHP","Y",5,9200,"Y"]
["SL0000196521",669,"N","N",2,158,null,"NA",null,"NA","NA","NA",4,1000,null,"NA",null,"NA",null,"NA",null,"NA",1000,158,3,"UT","UTTS","NRES",28400085,284,5,3,11000,14487,"IHP","Y",5,14487,"Y"]
["SL0000196656",670,"N","N",1.25,25,null,"NA",null,"NA","NA","NA",2,179.53,4,820.47,null,"NA",null,"NA",null,"NA",1000,25,8,"UT","UTTS","NRES",27300324,273,2,3,7000,7800,"IHP","Y",2,7800,"Y"]
["SL0000196790",671,"N","N",2,65,null,"NA",null,"NA","NA","NA",4,1000,null,"NA",null,"NA",null,"NA",null,"NA",1000,65,7,"UT","UTTS","NRES",15800241,158,45,3,5000,31000,"IHP","Y",25,23000,"Y"]
["SL0000196800",672,"N","N",2,123,null,"NA",null,"NA","NA","NA",2,60.84,3,939.16,null,"NA",null,"NA",null,"NA",1000,123,10,"UT","UTIS","NRES",27300076,273,30,3,7000,21100,"IHP","Y",30,21100,"Y"]
["SL0000197151",673,"N","Y",4,615,null,"NA",null,"NA","NA","NA",2,548.38,4,451.62,null,"NA",null,"NA",null,"NA",1000,615,9,"UT","UTFS","NRES",27500108,275,2,3,16000,17800,"IHP","N",2,17800,"Y"]
["SL0000197185",674,"N","N",4,106,null,"NA",null,"NA","NA","NA",3,241.25,4,758.75,null,"NA",null,"NA",null,"NA",1000,106,3,"UT","UTFS","NRES",28500038,285,5,3,16000,21100,"IHP","N",5,21100,"Y"]
["SL0000197282",675,"N","N",3,426,null,"NA",null,"NA","NA","NA",2,1000,null,"NA",null,"NA",null,"NA",null,"NA",1000,426,7,"UT","UTTS","NRES",15800404,158,45,3,5000,31000,"IHP","Y",25,23000,"Y"]
["SL0000197294",676,"N","N",2,222,null,"NA",null,"NA","NA","NA",2,707.5,0.75,118.5,1.25,174,null,"NA",null,"NA",1000,222,6,"UT","UTFS","NRES",23400039,234,2,3,11000,12243,"IHP","N",2,12243,"Y"]
["SL0000197295",677,"N","N",2,43,null,"NA",null,"NA","NA","NA",2,68.08,3,653.91999999999996,4,278,null,"NA",null,"NA",1000,43,3,"UT","UTTS","NRES",27300195,273,45,3,7000,28250,"IHP","Y",25,18700,"Y"]
["SL0000197322",678,"N","Y",2,192,null,"NA",null,"NA","NA","NA",6,650.5,1.25,349.5,null,"NA",null,"NA",null,"NA",1000,192,8,"UT","UTTS","NRES",27300077,273,5,3,7000,9200,"IHP","Y",5,9200,"Y"]
["SL0000197334",679,"N","N",2,263,null,"NA",null,"NA","NA","NA",2,225.81,4,774.19,null,"NA",null,"NA",null,"NA",1000,263,2,"UT","UTTS","NRES",27300229,273,5,3,7000,9200,"IHP","Y",5,9200,"Y"]
["SL0000197456",680,"N","N",3,345,null,"NA",null,"NA","NA","NA",3,694,4,306,null,"NA",null,"NA",null,"NA",1000,345,3,"UT","UTFS","NRES",23500029,235,2,3,16000,17808,"IHP","N",2,17808,"Y"]
["SL0000197485",681,"N","N",4,253,null,"NA",null,"NA","NA","NA",4,1000,null,"NA",null,"NA",null,"NA",null,"NA",1000,253,3,"UT","UTFS","NRES",27300372,273,5,3,7000,9200,"IHP","N",5,9200,"Y"]
["SL0000197832",682,"N","N",2,139,null,"NA",null,"NA","NA","NA",4,1000,null,"NA",null,"NA",null,"NA",null,"NA",1000,139,4,"UT","UTTS","NRES",15800242,158,1,3,5000,11500,"IHP","Y",1,11500,"Y"]
["SL0000198126",683,"N","N",2,145,null,"NA",null,"NA","NA","NA",2,102.67,3,897.33,null,"NA",null,"NA",null,"NA",1000,145,1,"UT","UTTS","NRES",27300335,273,5,3,7000,9200,"IHP","Y",5,9200,"Y"]
["SL0000198167",684,"N","Y",2,3,3,640,4,532,"NA","NA",4,92.81,6,1,8,906.19,null,"NA",null,"NA",1000,1175,4,"UT","UTTS","NRES",28500008,285,5,3,16000,21100,"IHP","Y",5,21100,"Y"]
["SL0000198647",685,"N","N",2,164,null,"NA",null,"NA","NA","NA",4,1000,null,"NA",null,"NA",null,"NA",null,"NA",1000,164,3,"UT","UTTS","NRES",28400148,284,1,3,11000,11500,"IHP","Y",1,11500,"Y"]
["SL0000198681",686,"N","N",2,76,0.75,3,1.25,1,"NA","NA",2,1000,null,"NA",null,"NA",null,"NA",null,"NA",1000,80,7,"UT","UTFS","NRES",15800269,158,45,3,5000,31000,"IHP","Y",25,23000,"Y"]
["SL0000198715",687,"N","N",2,308,null,"NA",null,"NA","NA","NA",2,268,4,732,null,"NA",null,"NA",null,"NA",1000,308,3,"UT","UTFS","NRES",28200197,282,5,3,5000,7233,"IHP","N",5,7233,"Y"]
["SL0000199002",688,"N","N",2,9,null,"NA",null,"NA","NA","NA",2,369,4,10,6,1,8,620,null,"NA",1000,9,5,"UT","UTTS","NRES",23400138,234,5,3,11000,14487,"IHP","Y",5,14487,"Y"]
["SL0000199209",689,"N","N",2,9,null,"NA",null,"NA","NA","NA",2,369,4,10,6,1,8,620,null,"NA",1000,9,5,"UT","UTTS","NRES",28400195,284,10,3,11000,18221,"IHP","Y",10,18221,"Y"]
["SL0000199302",690,"N","N",4,538,null,"NA",null,"NA","NA","NA",4,1000,null,"NA",null,"NA",null,"NA",null,"NA",1000,538,4,"UT","UTFS","NRES",23500007,235,45,4,16000,64512,"IHP","Y",25,42800,"Y"]
["SL0000199653",691,"N","N",4,538,null,"NA",null,"NA","NA","NA",4,1000,null,"NA",null,"NA",null,"NA",null,"NA",1000,538,4,"UT","UTFS","NRES",28300039,283,5,3,7000,9219,"IHP","N",5,9219,"Y"]
["SL0000199797",692,"N","N",2,16,null,"NA",null,"NA","NA","NA",2,903.67,4,96.33,null,"NA",null,"NA",null,"NA",1000,16,1,"UT","UTFS","NRES",27300374,273,5,3,7000,9200,"IHP","N",5,9200,"Y"]
["SL0000199899",693,"N","Y",2,505,null,"NA",null,"NA","NA","NA",4,731.04,6,268.95999999999998,null,"NA",null,"NA",null,"NA",1000,505,3,"UT","UTTS","NRES",28400066,284,2,3,11000,12247,"IHP","Y",2,12247,"Y"]
["SL0000200073",694,"N","N",2,98,null,"NA",null,"NA","NA","NA",2,45,4,955,null,"NA",null,"NA",null,"NA",1000,98,5,"UT","UTFS","NRES",27300040,273,5,3,7000,9200,"IHP","N",5,9200,"Y"]
["SL0000200689",695,"N","N",2,424,null,"NA",null,"NA","NA","NA",null,"NA",null,"NA",null,"NA",null,"NA",null,"NA",0,424,1,"UT","UTFS","NRES",27300408,273,2,3,7000,7800,"IHP","N",2,7800,"Y"]
["SL0000201051",696,"N","N",2,67,null,"NA",null,"NA","NA","NA",4,1000,null,"NA",null,"NA",null,"NA",null,"NA",1000,67,2,"UT","UTFS","NRES",27400040,274,5,3,11000,14500,"IHP","N",5,14500,"Y"]
["SL0000201096",697,"N","N",2,53,null,"NA",null,"NA","NA","NA",2,377,null,"NA",null,"NA",null,"NA",null,"NA",377,53,1,"UT","UTTS","NRES",27300321,273,5,3,7000,9200,"IHP","Y",5,9200,"Y"]
["SL0000201404",698,"N","N",2,19,null,"NA",null,"NA","NA","NA",2,807.61,4,170.3,6,22.1,null,"NA",null,"NA",1000.01,19,8,"UT","UTTS","NRES",27500074,275,5,3,16000,21100,"IHP","Y",5,21100,"Y"]
["SL0000201920",699,"N","N",2,366,null,"NA",null,"NA","NA","NA",2,230.26,4,759.74,0.75,10,null,"NA",null,"NA",1000,366,4,"UT","UTFS","NRES",27300444,273,2,3,7000,7800,"IHP","N",2,7800,"Y"]
["SL0000202227",700,"N","N",2,140,null,"NA",null,"NA","NA","NA",2,1000,null,"NA",null,"NA",null,"NA",null,"NA",1000,140,5,"UT","UTTS","NRES",28400051,284,5,3,11000,14487,"IHP","Y",5,14487,"Y"]
["SL0000202426",701,"N","N",2,517,null,"NA",null,"NA","NA","NA",2,392.65,4,607.35,null,"NA",null,"NA",null,"NA",1000,517,14,"UT","UTTS","NRES",27400051,274,5,3,11000,14500,"IHP","Y",5,14500,"Y"]
["SL0000202451",702,"N","N",2,145,1.25,2,null,"NA","NA","NA",2,162.91,3,837.09,null,"NA",null,"NA",null,"NA",1000,147,10,"UT","UTFS","NRES",27400163,274,2,3,11000,11750,"IHP","N",2,11750,"Y"]
["SL0000202463",703,"N","N",2,89,null,"NA",null,"NA","NA","NA",2,174.89,4,825.11,null,"NA",null,"NA",null,"NA",1000,89,2,"UT","UTFS","NRES",28400014,284,5,3,11000,14487,"IHP","Y",5,14487,"Y"]
["SL0000202696",704,"Y","N",1.25,77,null,"NA",null,"NA","NA","NA",4,809.79,6,190.21,null,"NA",null,"NA",null,"NA",1000,77,4,"UT","UTFS","NRES",23300119,233,2,3,7000,7791,"IHP","N",2,7791,"Y"]
["SL0000202729",705,"N","N",2,368,null,"NA",null,"NA","NA","NA",2,216.75,4,40.75,6,742.5,null,"NA",null,"NA",1000,368,2,"UT","UTTS","NRES",27300355,273,2,3,7000,7800,"IHP","Y",2,7800,"Y"]
["SL0000203025",706,"N","N",4,133,null,"NA",null,"NA","NA","NA",4,1000,null,"NA",null,"NA",null,"NA",null,"NA",1000,133,1,"UT","UTFS","NRES",27300148,273,2,3,7000,7800,"IHP","Y",2,7800,"Y"]
["SL0000203043",707,"N","N",4,133,null,"NA",null,"NA","NA","NA",4,1000,null,"NA",null,"NA",null,"NA",null,"NA",1000,133,1,"UT","UTFS","NRES",27900080,279,45,4,23000,92750,"IHP","Y",25,61500,"Y"]
["SL0000203044",708,"N","N",1.25,63,null,"NA",null,"NA","NA","NA",2,995.31,1.25,4.6900000000000004,null,"NA",null,"NA",null,"NA",1000,63,2,"UT","UTFS","NRES",23300049,233,2,3,7000,7791,"IHP","N",2,7791,"Y"]
["SL0000203119",709,"N","N",2,105,null,"NA",null,"NA","NA","NA",2,196,6,123.33,16,680.67,null,"NA",null,"NA",1000,105,10,"UT","UTFS","NRES",27300336,273,2,3,7000,7800,"IHP","N",2,7800,"Y"]
["SL0000203449",710,"N","N",2,191,null,"NA",null,"NA","NA","NA",4,1000,null,"NA",null,"NA",null,"NA",null,"NA",1000,191,2,"UT","UTTS","NRES",27400194,274,5,3,11000,14500,"IHP","Y",5,14500,"Y"]
["SL0000203681",711,"N","N",1.25,80,null,"NA",null,"NA","NA","NA",2,145.08000000000001,4,7,6,680,1.25,167.92,null,"NA",1000,80,10,"UT","UTFS","NRES",28200255,282,5,3,5000,7233,"IHP","N",5,7233,"Y"]
["SL0000204004",712,"N","Y",2,10,3,232,null,"NA","NA","NA",6,126.04,8,873.96,null,"NA",null,"NA",null,"NA",1000,242,2,"UT","UTTS","NRES",27500135,275,5,3,16000,21100,"IHP","Y",5,21100,"Y"]
["SL0000204045",713,"N","N",2,320,null,"NA",null,"NA","NA","NA",2,309,4,691,null,"NA",null,"NA",null,"NA",1000,320,1,"UT","UTIS","NRES",28400076,284,5,3,11000,14487,"IHP","Y",5,14487,"Y"]
["SL0000204047",714,"N","N",2,96,null,"NA",null,"NA","NA","NA",2,20,3,738,6,242,null,"NA",null,"NA",1000,96,3,"UT","UTISFS","NRES",15800048,158,45,3,5000,31000,"IHP","Y",25,23000,"Y"]
["SL0000204125",715,"N","N",2,57,null,"NA",null,"NA","NA","NA",2,458.48,4,527.52,0.75,14,null,"NA",null,"NA",1000,57,3,"UT","UTFS","NRES",28300022,283,5,3,7000,9219,"IHP","N",5,9219,"Y"]
["SL0000204441",716,"N","N",6,221,null,"NA",null,"NA","NA","NA",8,1000,null,"NA",null,"NA",null,"NA",null,"NA",1000,221,1,"UT","UTTS","NRES",27201069,272,20,3,5000,11700,"IHP","Y",20,11700,"Y"]
["SL0000204558",717,"N","N",6,221,null,"NA",null,"NA","NA","NA",8,1000,null,"NA",null,"NA",null,"NA",null,"NA",1000,221,1,"UT","UTTS","NRES",11200011,112,45,4,18000,232286,"IHP","Y",25,153429,"Y"]
["SL0000205524",718,"N","N",2,152,null,"NA",null,"NA","NA","NA",2,239.68,4,546.67999999999995,6,213.64,null,"NA",null,"NA",1000,152,3,"UT","UTTS","NRES",28400004,284,5,3,11000,14487,"IHP","Y",5,14487,"Y"]
["SL0000205707",719,"N","N","Unknown",190,null,"NA",null,"NA","NA","NA",2,777.84,3,103.34,4,118.82,null,"NA",null,"NA",1000,190,7,"UT","UTTS","NRES",27400071,274,1,3,11000,11500,"IHP","Y",1,11500,"Y"]
["SL0000205843",720,"N","Y",4,583,null,"NA",null,"NA","NA","NA",2,190.5,4,809.5,null,"NA",null,"NA",null,"NA",1000,583,11,"UT","UTTS","NRES",27400274,274,5,3,11000,14500,"IHP","Y",5,14500,"Y"]
["SL0000205882",721,"Y","Y",2,20,null,"NA",null,"NA","NA","NA",2,546,4,454,null,"NA",null,"NA",null,"NA",1000,20,8,"UT","UTFS","NRES",27300315,273,2,3,7000,7800,"IHP","N",2,7800,"Y"]
["SL0000205905",722,"N","N",2,98,null,"NA",null,"NA","NA","NA",2,205.19,4,593.44000000000005,1.25,201.37,null,"NA",null,"NA",1000,98,9,"UT","UTFS","NRES",20800779,208,45,3,3000,10250,"IHP","Y",25,8250,"Y"]
["SL0000206184",723,"N","Y",2,11,4,608,null,"NA","NA","NA",6,1000,null,"NA",null,"NA",null,"NA",null,"NA",1000,619,3,"UT","UTTS","NRES",27500136,275,5,3,16000,21100,"IHP","Y",5,21100,"Y"]
["SL0000206424",724,"N","Y",2,11,4,608,null,"NA","NA","NA",6,1000,null,"NA",null,"NA",null,"NA",null,"NA",1000,619,3,"UT","UTTS","NRES",27400214,274,45,4,11000,44350,"IHP","Y",25,29400,"Y"]
["SL0000206773",725,"N","N",1.25,126,null,"NA",null,"NA","NA","NA",1.25,1000,null,"NA",null,"NA",null,"NA",null,"NA",1000,126,1,"UT","UTFS","NRES",27400196,274,1,3,11000,11500,"IHP","N",1,11500,"Y"]
["SL0000206919",726,"N","N",2,98,null,"NA",null,"NA","NA","NA",3,255,4,86.62,6,658.38,null,"NA",null,"NA",1000,98,3,"UT","UTTS","NRES",27400321,274,5,3,11000,14500,"IHP","Y",5,14500,"Y"]
["SL0000207036",727,"N","N",4,798,null,"NA",null,"NA","NA","NA",2,120.27,4,876.5,6,3.23,null,"NA",null,"NA",1000,798,4,"UT","UTTS","NRES",23300101,233,2,3,7000,7791,"IHP","Y",2,7791,"Y"]
["SL0000207106",728,"N","Y",2,167,null,"NA",null,"NA","NA","NA",2,148.72999999999999,3,10.73,4,780.54,1.25,60,null,"NA",1000,167,8,"UT","UTTS","NRES",28400121,284,5,3,11000,14487,"IHP","Y",5,14487,"Y"]
["SL0000207113",729,"N","N",1.25,57,null,"NA",null,"NA","NA","NA",6,993.47,8,6.53,null,"NA",null,"NA",null,"NA",1000,57,4,"UT","UTTS","NRES",28200210,282,5,3,5000,7233,"IHP","Y",5,7233,"Y"]
["SL0000207175",730,"N","N",3,963,null,"NA",null,"NA","NA","NA",10,1000,null,"NA",null,"NA",null,"NA",null,"NA",1000,963,1,"UT","UTTS","NRES",15800235,158,45,3,5000,31000,"IHP","Y",25,23000,"Y"]
["SL0000207728",731,"N","N",2,265,null,"NA",null,"NA","NA","NA",2,936.77,4,63.23,null,"NA",null,"NA",null,"NA",1000,265,4,"UT","UTTS","NRES",27400337,274,5,3,11000,14500,"IHP","Y",5,14500,"Y"]
["SL0000207730",732,"N","N",2,234,null,"NA",null,"NA","NA","NA",4,1000,null,"NA",null,"NA",null,"NA",null,"NA",1000,234,1,"UT","UTTS","NRES",27300357,273,2,3,7000,7800,"IHP","Y",2,7800,"Y"]
["SL0000207744",733,"N","N",1.25,97,null,"NA",null,"NA","NA","NA",2,273.27,4,726.73,null,"NA",null,"NA",null,"NA",1000,97,5,"UT","UTFS","NRES",27300424,273,2,3,7000,7800,"IHP","N",2,7800,"Y"]
["SL0000207792",734,"Y","Y",2,192,null,"NA",null,"NA","NA","NA",2,131.75,4,868.25,null,"NA",null,"NA",null,"NA",1000,192,5,"UT","UTFS","NRES",28200256,282,5,3,5000,7233,"IHP","N",5,7233,"Y"]
["SL0000207800",735,"N","N",2,90,null,"NA",null,"NA","NA","NA",2,1000,null,"NA",null,"NA",null,"NA",null,"NA",1000,90,24,"UT","UTFS","NRES",27300059,273,45,3,7000,28250,"IHP","Y",25,18700,"Y"]
["SL0000207807",736,"N","Y",2,323,null,"NA",null,"NA","NA","NA",2,14.29,3,78.209999999999994,4,907.5,null,"NA",null,"NA",1000,323,5,"UT","UTFS","NRES",27300479,273,2,3,7000,7800,"IHP","N",2,7800,"Y"]
["SL0000207980",737,"N","N",2,614,null,"NA",null,"NA","NA","NA",2,163.9,4,836.1,null,"NA",null,"NA",null,"NA",1000,614,6,"UT","UTTS","NRES",27300316,273,2,3,7000,7800,"IHP","Y",2,7800,"Y"]
["SL0000208318",738,"N","Y",4,566,null,"NA",null,"NA","NA","NA",2,234.95,4,765.05,null,"NA",null,"NA",null,"NA",1000,566,3,"UT","UTTS","NRES",27500072,275,2,3,16000,17800,"IHP","Y",2,17800,"Y"]
["SL0000208629",739,"N","N",1.25,60,null,"NA",null,"NA","NA","NA",2,340,4,660,null,"NA",null,"NA",null,"NA",1000,60,11,"UT","UTFS","NRES",27400176,274,5,3,11000,14500,"IHP","N",5,14500,"Y"]
["SL0000208825",740,"N","N",2,50,null,"NA",null,"NA","NA","NA",4,144.04,6,288.04000000000002,10,567.91999999999996,null,"NA",null,"NA",1000,50,8,"UT","UTFS","NRES",27300502,273,5,3,7000,9200,"IHP","N",5,9200,"Y"]
["SL0000209122",741,"N","N",2,330,4,7,null,"NA","NA","NA",2,492.03,4,507.97,null,"NA",null,"NA",null,"NA",1000,337,1,"UT","UTTS","NRES",27400138,274,5,3,11000,14500,"IHP","Y",5,14500,"Y"]
["SL0000209272",742,"N","N",2,106,null,"NA",null,"NA","NA","NA",4,167,10,833,null,"NA",null,"NA",null,"NA",1000,106,4,"UT","UTTS","NRES",27200993,272,45,3,5000,20200,"IHP","Y",25,13400,"Y"]
["SL0000209471",743,"N","N",3,333,null,"NA",null,"NA","NA","NA",3,1000,null,"NA",null,"NA",null,"NA",null,"NA",1000,333,4,"UT","UTISFS","NRES",23400041,234,5,3,11000,14487,"IHP","Y",5,14487,"Y"]
["SL0000209563",744,"N","N",3,230,null,"NA",null,"NA","NA","NA",3,1000,null,"NA",null,"NA",null,"NA",null,"NA",1000,230,1,"UT","UTFS","NRES",27300191,273,45,3,7000,28250,"IHP","Y",25,18700,"Y"]
["SL0000209601",745,"N","N",2,92,null,"NA",null,"NA","NA","NA",2,727,4,273,null,"NA",null,"NA",null,"NA",1000,92,3,"UT","UTTS","NRES",28200302,282,5,3,5000,7233,"IHP","Y",5,7233,"Y"]
["SL0000209865",746,"N","N",2,169,1.25,10,null,"NA","NA","NA",2,309.86,3,211.86,4,418.28,1.25,60,null,"NA",1000,179,19,"UT","UTTS","NRES",28400011,284,5,3,11000,14487,"IHP","Y",5,14487,"Y"]
["SL0000209877",747,"N","N",2,289,null,"NA",null,"NA","NA","NA",2,166.84,4,833.16,null,"NA",null,"NA",null,"NA",1000,289,9,"ID","IDISGS","NRES",27400167,274,5,3,11000,14500,"IHP","Y",5,14500,"Y"]
["SL0000210107",748,"N","N",2,24,null,"NA",null,"NA","NA","NA",2,306,3,694,null,"NA",null,"NA",null,"NA",1000,24,6,"UT","UTFS","NRES",27300498,273,5,3,7000,9200,"IHP","N",5,9200,"Y"]
["SL0000210598",749,"N","N",2,128,null,"NA",null,"NA","NA","NA",2,1000,null,"NA",null,"NA",null,"NA",null,"NA",1000,128,16,"UT","UTTS","NRES",28300137,283,2,3,7000,7794,"IHP","Y",2,7794,"Y"]
["SL0000211097",750,"N","N",3,142,null,"NA",null,"NA","NA","NA",4,523,6,477,null,"NA",null,"NA",null,"NA",1000,142,7,"UT","UTTS","NRES",27500126,275,2,3,16000,17800,"IHP","Y",2,17800,"Y"]
["SL0000211259",751,"N","N",3,226,null,"NA",null,"NA","NA","NA",4,1000,null,"NA",null,"NA",null,"NA",null,"NA",1000,226,3,"UT","UTTS","NRES",27500036,275,5,3,16000,21100,"IHP","Y",5,21100,"Y"]
["SL0000211859",752,"N","N",2,14,null,"NA",null,"NA","NA","NA",2,821.74,4,1,6,177.26,null,"NA",null,"NA",1000,14,2,"UT","UTTS","NRES",27400245,274,5,3,11000,14500,"IHP","Y",5,14500,"Y"]
["SL0000211864",753,"N","Y",2,345,null,"NA",null,"NA","NA","NA",3,904,4,96,null,"NA",null,"NA",null,"NA",1000,345,8,"UT","UTFS","NRES",15700082,157,45,3,2300,14100,"IHP","Y",25,10400,"Y"]
["SL0000211879",754,"N","N",2,245,null,"NA",null,"NA","NA","NA",2,143.44999999999999,4,856.55,null,"NA",null,"NA",null,"NA",1000,245,7,"UT","UTFS","NRES",23400118,234,2,3,11000,12243,"IHP","N",2,12243,"Y"]
["SL0000211885",755,"N","N",2,595,null,"NA",null,"NA","NA","NA",6,1000,null,"NA",null,"NA",null,"NA",null,"NA",1000,595,4,"UT","UTFS","NRES",28400072,284,5,3,11000,14487,"IHP","N",5,14487,"Y"]
["SL0000211934",756,"N","N",3,196,null,"NA",null,"NA","NA","NA",4,1000,null,"NA",null,"NA",null,"NA",null,"NA",1000,196,4,"UT","UTTS","NRES",27500027,275,45,4,16000,64550,"IHP","Y",25,42800,"Y"]
["SL0000212059",757,"N","N",3,196,null,"NA",null,"NA","NA","NA",4,1000,null,"NA",null,"NA",null,"NA",null,"NA",1000,196,4,"UT","UTTS","NRES",27100072,271,45,3,3000,12100,"IHP","Y",25,8000,"Y"]
["SL0000212095",758,"N","N",2,245,1.25,269,null,"NA","NA","NA",4,1000,null,"NA",null,"NA",null,"NA",null,"NA",1000,514,3,"UT","UTFS","NRES",23200034,232,45,3,5000,20160,"IHP","Y",25,13375,"Y"]
["SL0000212236",759,"N","N",2,102,null,"NA",null,"NA","NA","NA",2,61.89,3,203.11,4,729.95,1.25,5.05,null,"NA",1000,102,8,"UT","UTTS","NRES",28500047,285,5,3,16000,21100,"IHP","Y",5,21100,"Y"]
["SL0000212270",760,"N","N",6,515,null,"NA",null,"NA","NA","NA",4,73.75,6,656,8,270.25,null,"NA",null,"NA",1000,515,4,"UT","UTTS","NRES",26200005,262,45,4,150000,610429,"IHP","Y",25,404000,"Y"]
["SL0000212308",761,"N","N",6,515,null,"NA",null,"NA","NA","NA",4,73.75,6,656,8,270.25,null,"NA",null,"NA",1000,515,4,"UT","UTTS","NRES",23300014,233,45,3,7000,28224,"IHP","Y",25,18725,"Y"]
["SL0000212594",762,"N","N",6,313,null,"NA",null,"NA","NA","NA",3,108.55,6,139.55000000000001,8,751.9,null,"NA",null,"NA",1000,313,1,"UT","UTISGS","NRES",23300034,233,45,3,7000,28224,"IHP","Y",25,18725,"Y"]
["SL0000213332",763,"N","N",2,193,null,"NA",null,"NA","NA","NA",2,561,4,439,null,"NA",null,"NA",null,"NA",1000,193,4,"UT","UTFS","NRES",28200213,282,5,3,5000,7233,"IHP","N",5,7233,"Y"]
["SL0000213503",764,"N","N",2,118,null,"NA",null,"NA","NA","NA",2,15.66,3,60.34,4,924,null,"NA",null,"NA",1000,118,12,"UT","UTTS","NRES",27400207,274,5,3,11000,14500,"IHP","Y",5,14500,"Y"]
["SL0000213522",765,"N","N",3,597,null,"NA",null,"NA","NA","NA",3,1,null,"NA",null,"NA",null,"NA",null,"NA",1,597,1,"UT","UTTS","NRES",27200012,272,45,3,5000,20200,"IHP","Y",25,13400,"Y"]
["SL0000213641",766,"N","N",2,103,null,"NA",null,"NA","NA","NA",4,1000,null,"NA",null,"NA",null,"NA",null,"NA",1000,103,3,"UT","UTTS","NRES",28500012,285,5,3,16000,21100,"IHP","Y",5,21100,"Y"]
["SL0000214099",767,"N","N",1.25,110,null,"NA",null,"NA","NA","NA",2,160.09,4,839.91,null,"NA",null,"NA",null,"NA",1000,110,6,"UT","UTFS","NRES",27300517,273,5,3,7000,9200,"IHP","N",5,9200,"Y"]
["SL0000214135",768,"N","N",1.25,231,null,"NA",null,"NA","NA","NA",2,5,3,688.81,6,306.19,null,"NA",null,"NA",1000,231,4,"UT","UTFS","NRES",23300085,233,0.25,3,7000,7000,"IHP","N",0.25,7000,"Y"]
["SL0000214207",769,"N","N",2,172,null,"NA",null,"NA","NA","NA",2,93.62,3,395.62,4,510.76,null,"NA",null,"NA",1000,172,1,"UT","UTTS","NRES",15800069,158,45,3,5000,31000,"IHP","Y",25,23000,"Y"]
["SL0000215128",770,"Y","N",4,351,null,"NA",null,"NA","NA","NA",2,3,4,997,null,"NA",null,"NA",null,"NA",1000,351,3,"UT","UTTS","NRES",27599902,275,45,4,16000,64550,"IHP","Y",25,42800,"Y"]
["SL0000215205",771,"N","N",4,351,null,"NA",null,"NA","NA","NA",2,3,4,997,null,"NA",null,"NA",null,"NA",1000,351,3,"UT","UTTS","NRES",28400182,284,5,3,11000,14487,"IHP","Y",5,14487,"Y"]
["SL0000215221",772,"N","N",4,351,null,"NA",null,"NA","NA","NA",2,3,4,997,null,"NA",null,"NA",null,"NA",1000,351,3,"UT","UTTS","NRES",28100459,281,45,3,3500,14107,"IHP","Y",25,9362,"Y"]
["SL0000215356",773,"Y","Y",4,1303,null,"NA",null,"NA","NA","NA",2,38.04,4,934.92,1.25,27.04,null,"NA",null,"NA",1000,1303,4,"UT","UTISGS","NRES",15800147,158,45,3,5000,31000,"IHP","Y",25,23000,"Y"]
["SL0000215389",774,"N","N",4,443,1.25,149,null,"NA","NA","NA",4,1000,null,"NA",null,"NA",null,"NA",null,"NA",1000,592,4,"UT","UTTS","NRES",28400067,284,2,3,11000,12247,"IHP","Y",2,12247,"Y"]
["SL0000215455",775,"N","N",2,43,null,"NA",null,"NA","NA","NA",2,27.43,4,838.28,6,134.29,null,"NA",null,"NA",1000,43,2,"UT","UTFS","NRES",27300346,273,5,3,7000,9200,"IHP","N",5,9200,"Y"]
["SL0000215473",776,"N","N",2,183,null,"NA",null,"NA","NA","NA",2,567,4,433,null,"NA",null,"NA",null,"NA",1000,183,6,"UT","UTFS","NRES",15800212,158,1,3,5000,11500,"IHP","N",1,11500,"Y"]
["SL0000215806",777,"N","N",2,73,null,"NA",null,"NA","NA","NA",2,976,0.75,24,null,"NA",null,"NA",null,"NA",1000,73,16,"UT","UTFS","NRES",27500058,275,5,3,16000,21100,"IHP","N",5,21100,"Y"]
["SL0000216107",778,"N","N",2,36,null,"NA",null,"NA","NA","NA",4,1000,null,"NA",null,"NA",null,"NA",null,"NA",1000,36,3,"UT","UTFS","NRES",27500175,275,5,3,16000,21100,"IHP","N",5,21100,"Y"]
["SL0000216157",779,"N","N",2,182,null,"NA",null,"NA","NA","NA",2,143.83000000000001,4,856.17,null,"NA",null,"NA",null,"NA",1000,182,11,"UT","UTFS","NRES",15800360,158,2,3,5000,12000,"IHP","N",2,12000,"Y"]
["SL0000216162",780,"N","N",2,74,null,"NA",null,"NA","NA","NA",2,581.41,3,25,1.25,393.59,null,"NA",null,"NA",1000,74,2,"UT","UTFS","NRES",15800091,158,45,3,5000,31000,"IHP","Y",25,23000,"Y"]
["SL0000216398",781,"N","N",2,172,null,"NA",null,"NA","NA","NA",2,366,4,634,null,"NA",null,"NA",null,"NA",1000,172,1,"UT","UTTS","NRES",27400127,274,5,3,11000,14500,"IHP","Y",5,14500,"Y"]
["SL0000216789",782,"N","N",2,86,null,"NA",null,"NA","NA","NA",2,606,4,394,null,"NA",null,"NA",null,"NA",1000,86,3,"UT","UTFS","NRES",27400137,274,5,3,11000,14500,"IHP","N",5,14500,"Y"]
["SL0000217024",783,"N","N",2,320,null,"NA",null,"NA","NA","NA",4,1000,null,"NA",null,"NA",null,"NA",null,"NA",1000,320,3,"UT","UTFS","NRES",27300062,273,5,3,7000,9200,"IHP","N",5,9200,"Y"]
["SL0000217071",784,"N","N",2,92,null,"NA",null,"NA","NA","NA",2,141.08000000000001,6,858.92,null,"NA",null,"NA",null,"NA",1000,92,6,"UT","UTFS","NRES",27300169,273,2,3,7000,7800,"IHP","N",2,7800,"Y"]
["SL0000217608",785,"N","N",1.25,61,null,"NA",null,"NA","NA","NA",3,114.41,4,885.59,null,"NA",null,"NA",null,"NA",1000,61,4,"UT","UTFS","NRES",20800469,208,45,3,3000,10250,"IHP","Y",25,8250,"Y"]
["SL0000218111",786,"N","N",3,583,null,"NA",null,"NA","NA","NA",4,125.6,6,874.4,null,"NA",null,"NA",null,"NA",1000,583,3,"UT","UTTS","NRES",15800146,158,5,3,5000,13500,"IHP","Y",5,13500,"Y"]
["SL0000218921",787,"N","N",2,384,null,"NA",null,"NA","NA","NA",2,1000,null,"NA",null,"NA",null,"NA",null,"NA",1000,384,3,"UT","UTFS","NRES",27300057,273,2,3,7000,7800,"IHP","N",2,7800,"Y"]
["SL0000218958",788,"N","N",2,394,null,"NA",null,"NA","NA","NA",2,1000,null,"NA",null,"NA",null,"NA",null,"NA",1000,394,12,"UT","UTTS","NRES",27400341,274,2,3,11000,11750,"IHP","Y",2,11750,"Y"]
["SL0000218973",789,"N","N",2,29,null,"NA",null,"NA","NA","NA",2,182.71,8,817.29,null,"NA",null,"NA",null,"NA",1000,29,2,"UT","UTFS","NRES",28200403,282,5,3,5000,7233,"IHP","N",5,7233,"Y"]
["SL0000219072",790,"N","N",2,3,3,537,null,"NA","NA","NA",2,1000,null,"NA",null,"NA",null,"NA",null,"NA",1000,540,9,"UT","UTTS","NRES",27400060,274,5,3,11000,14500,"IHP","Y",5,14500,"Y"]
["SL0000219086",791,"N","N",1.25,106,null,"NA",null,"NA","NA","NA",2,909.72,4,90.28,null,"NA",null,"NA",null,"NA",1000,106,5,"UT","UTTS","NRES",27300090,273,5,3,7000,9200,"IHP","Y",5,9200,"Y"]
["SL0000219156",792,"N","N",1.25,94,null,"NA",null,"NA","NA","NA",2,18.82,4,893.15,6,88.03,null,"NA",null,"NA",1000,94,3,"UT","UTTS","NRES",27300413,273,5,3,7000,9200,"IHP","Y",5,9200,"Y"]
["SL0000219166",793,"N","N",4,139,null,"NA",null,"NA","NA","NA",2,36.729999999999997,4,107.12,6,856.15,null,"NA",null,"NA",1000,139,4,"UT","UTTS","NRES",11000009,110,45,4,60000,244286,"IHP","Y",25,161000,"Y"]
["SL0000219369",794,"N","N",4,139,null,"NA",null,"NA","NA","NA",2,36.729999999999997,4,107.12,6,856.15,null,"NA",null,"NA",1000,139,4,"UT","UTTS","NRES",27101149,271,45,3,3000,12100,"IHP","Y",25,8000,"Y"]
["SL0000219380",795,"Y","N",2,542,null,"NA",null,"NA","NA","NA",3,1000,null,"NA",null,"NA",null,"NA",null,"NA",1000,542,3,"UT","UTTS","NRES",27300505,273,2,3,7000,7800,"IHP","Y",2,7800,"Y"]
["SL0000219532",796,"N","N",2,106,null,"NA",null,"NA","NA","NA",4,1000,null,"NA",null,"NA",null,"NA",null,"NA",1000,106,3,"UT","UTFS","NRES",15800395,158,1,3,5000,11500,"IHP","N",1,11500,"Y"]
["SL0000219557",797,"N","N",2,60,null,"NA",null,"NA","NA","NA",3,445,6,555,null,"NA",null,"NA",null,"NA",1000,60,3,"UT","UTFS","NRES",27500125,275,1,3,16000,16700,"IHP","N",1,16700,"Y"]
["SL0000219834",798,"N","N",2,7,3,693,null,"NA","NA","NA",2,198.28,3,654.72,1.25,147,null,"NA",null,"NA",1000,700,10,"UT","UTFS","NRES",28400223,284,5,3,11000,14487,"IHP","N",5,14487,"Y"]
["SL0000220381",799,"N","N",4,2661,null,"NA",null,"NA","NA","NA",6,1000,null,"NA",null,"NA",null,"NA",null,"NA",1000,2661,2,"UT","UTFS","NRES",27300101,273,5,3,7000,9200,"IHP","N",5,9200,"Y"]
["SL0000220504",800,"N","N",1.25,9,null,"NA",null,"NA","NA","NA",2,442,4,558,null,"NA",null,"NA",null,"NA",1000,9,4,"UT","UTTS","NRES",27400082,274,5,3,11000,14500,"IHP","Y",5,14500,"Y"]
["SL0000220585",801,"Y","N",1.25,136,null,"NA",null,"NA","NA","NA",2,130.44,4,1,6,812.83,1.25,55.72,null,"NA",999.99,136,10,"UT","UTTS","NRES",27400132,274,2,3,11000,11750,"IHP","Y",2,11750,"Y"]
["SL0000220848",802,"N","N",3,6,4,241,null,"NA","NA","NA",3,867.42,4,132.58000000000001,null,"NA",null,"NA",null,"NA",1000,247,5,"UT","UTFS","NRES",28500045,285,5,3,16000,21100,"IHP","N",5,21100,"Y"]
["SL0000221329",803,"N","N",3,156,4,1,null,"NA","NA","NA",4,6.92,6,1,8,992.08,null,"NA",null,"NA",1000,157,6,"UT","UTIS","NRES",28300104,283,5,3,7000,9219,"IHP","N",5,9219,"Y"]
["SL0000221358",804,"N","N",3,156,4,1,null,"NA","NA","NA",4,6.92,6,1,8,992.08,null,"NA",null,"NA",1000,157,6,"UT","UTIS","NRES",28500059,285,45,4,16000,64550,"IHP","Y",25,42800,"Y"]
["SL0000221470",805,"Y","N",2,137,null,"NA",null,"NA","NA","NA",2,213.87,4,786.14,null,"NA",null,"NA",null,"NA",1000.01,137,7,"UT","UTFS","NRES",27400047,274,2,3,11000,11750,"IHP","N",2,11750,"Y"]
["SL0000221472",806,"N","Y",4,1209,null,"NA",null,"NA","NA","NA",4,1000,null,"NA",null,"NA",null,"NA",null,"NA",1000,1209,4,"UT","UTTS","NRES",27400096,274,5,3,11000,14500,"IHP","Y",5,14500,"Y"]
["SL0000221708",807,"N","N",4,326,null,"NA",null,"NA","NA","NA",2,179.5,4,820.5,null,"NA",null,"NA",null,"NA",1000,326,1,"UT","UTTS","NRES",15301021,153,45,4,30000,142000,"IHP","Y",25,94000,"Y"]
["SL0000221769",808,"N","N",4,326,null,"NA",null,"NA","NA","NA",2,179.5,4,820.5,null,"NA",null,"NA",null,"NA",1000,326,1,"UT","UTTS","NRES",27101485,271,20,3,3000,7000,"IHP","Y",20,7000,"Y"]
["SL0000221871",809,"N","N",1.25,125,null,"NA",null,"NA","NA","NA",2,125.45,4,874.55,null,"NA",null,"NA",null,"NA",1000,125,13,"UT","UTTS","NRES",28400109,284,2,3,11000,12247,"IHP","Y",2,12247,"Y"]
["SL0000222085",810,"N","N",null,"NA",null,"NA",null,"NA","NA","NA",null,"NA",null,"NA",null,"NA",null,"NA",null,"NA",0,0,0,"UT","UTTS","NRES",15800226,158,45,3,5000,31000,"IHP","Y",25,23000,"Y"]
["SL0000222129",811,"N","N",2,155,null,"NA",null,"NA","NA","NA",4,1000,null,"NA",null,"NA",null,"NA",null,"NA",1000,155,3,"UT","UTFS","NRES",23500024,235,5,3,16000,21072,"IHP","N",5,21072,"Y"]
["SL0000222160",812,"Y","N",2,275,null,"NA",null,"NA","NA","NA",4,1000,null,"NA",null,"NA",null,"NA",null,"NA",1000,275,2,"UT","UTFS","NRES",27400227,274,5,3,11000,14500,"IHP","N",5,14500,"Y"]
["SL0000222468",813,"N","N",0.75,118,null,"NA",null,"NA","NA","NA",2,853,4,147,null,"NA",null,"NA",null,"NA",1000,118,10,"UT","UTFS","NRES",23300005,233,5,3,7000,9219,"IHP","N",5,9219,"Y"]
["SL0000222562",814,"N","N",2,390,null,"NA",null,"NA","NA","NA",2,1000,null,"NA",null,"NA",null,"NA",null,"NA",1000,390,21,"UT","UTTS","NRES",27400151,274,2,3,11000,11750,"IHP","Y",2,11750,"Y"]
["SL0000222887",815,"N","N",2,36,null,"NA",null,"NA","NA","NA",2,28.12,3,971.88,null,"NA",null,"NA",null,"NA",1000,36,2,"UT","UTFS","NRES",27400074,274,10,3,11000,18200,"IHP","N",10,18200,"Y"]
["SL0000223246",816,"N","N",3,85,4,3,null,"NA","NA","NA",2,543.25,4,456.75,null,"NA",null,"NA",null,"NA",1000,88,7,"UT","UTFS","NRES",15800097,158,45,3,5000,31000,"IHP","Y",25,23000,"Y"]
["SL0000223324",817,"N","Y",3,797,null,"NA",null,"NA","NA","NA",2,219,4,781,null,"NA",null,"NA",null,"NA",1000,797,16,"UT","UTTS","NRES",23300121,233,45,3,7000,28224,"IHP","Y",25,18725,"Y"]
["SL0000223715",818,"N","N",2,72,null,"NA",null,"NA","NA","NA",2,65,4,817.5,1.25,117.5,null,"NA",null,"NA",1000,72,6,"UT","UTTS","NRES",28400092,284,5,3,11000,14487,"IHP","Y",5,14487,"Y"]
["SL0000223776",819,"N","N",2,61,null,"NA",null,"NA","NA","NA",6,1000,null,"NA",null,"NA",null,"NA",null,"NA",1000,61,5,"UT","UTTS","NRES",28500023,285,5,3,16000,21100,"IHP","Y",5,21100,"Y"]
["SL0000223777",820,"N","N",2,187,null,"NA",null,"NA","NA","NA",2,556.23,3,443.77,null,"NA",null,"NA",null,"NA",1000,187,10,"UT","UTFS","NRES",28400045,284,2,3,11000,12247,"IHP","N",2,12247,"Y"]
["SL0000223970",821,"N","N",2,110,null,"NA",null,"NA","NA","NA",4,1000,null,"NA",null,"NA",null,"NA",null,"NA",1000,110,4,"UT","UTTS","NRES",27300198,273,2,3,7000,7800,"IHP","Y",2,7800,"Y"]
["SL0000224039",822,"N","N",2,455,null,"NA",null,"NA","NA","NA",2,996.93,1.25,3.07,null,"NA",null,"NA",null,"NA",1000,455,11,"UT","UTFS","NRES",27400234,274,5,3,11000,14500,"IHP","N",5,14500,"Y"]
["SL0000224085",823,"N","N",2,195,null,"NA",null,"NA","NA","NA",4,1000,null,"NA",null,"NA",null,"NA",null,"NA",1000,195,2,"UT","UTFS","NRES",28200350,282,5,3,5000,7233,"IHP","N",5,7233,"Y"]
["SL0000224091",824,"N","N",2,53,null,"NA",null,"NA","NA","NA",2,768,4,232,null,"NA",null,"NA",null,"NA",1000,53,2,"UT","UTTS","NRES",27500177,275,2,3,16000,17800,"IHP","Y",2,17800,"Y"]
["SL0000224606",825,"N","N",2,118,null,"NA",null,"NA","NA","NA",3,160.63,6,656.75,8,182.63,null,"NA",null,"NA",1000.01,118,5,"UT","UTFS","NRES",27300220,273,5,3,7000,9200,"IHP","N",5,9200,"Y"]
["SL0000224621",826,"N","N",3,8,null,"NA",null,"NA","NA","NA",2,65.3,12,27.3,16,907.41,null,"NA",null,"NA",1000.01,8,4,"UT","UTTS","NRES",15800295,158,5,3,5000,13500,"IHP","Y",5,13500,"Y"]
["SL0000224627",827,"N","N",3,12,null,"NA",null,"NA","NA","NA",10,1000,null,"NA",null,"NA",null,"NA",null,"NA",1000,12,2,"UT","UTTS","NRES",27200880,272,45,3,5000,20200,"IHP","Y",25,13400,"Y"]
["SL0000224912",828,"Y","N",6,712,null,"NA",null,"NA","NA","NA",6,496.71,8,503.29,null,"NA",null,"NA",null,"NA",1000,712,1,"UT","UTTS","NRES",11000014,110,45,4,60000,244286,"IHP","Y",25,161000,"Y"]
["SL0000225000",829,"N","N",6,712,null,"NA",null,"NA","NA","NA",6,496.71,8,503.29,null,"NA",null,"NA",null,"NA",1000,712,1,"UT","UTTS","NRES",23100072,231,45,3,3000,12096,"IHP","Y",25,8025,"Y"]
["SL0000225060",830,"N","N",4,608,null,"NA",null,"NA","NA","NA",4,735,1.25,265,null,"NA",null,"NA",null,"NA",1000,608,6,"UT","UTTS","NRES",27400240,274,2,3,11000,11750,"IHP","Y",2,11750,"Y"]
["SL0000225072",831,"N","N",2,40,null,"NA",null,"NA","NA","NA",2,504.95,4,495.05,null,"NA",null,"NA",null,"NA",1000,40,7,"UT","UTFS","NRES",27400241,274,2,3,11000,11750,"IHP","N",2,11750,"Y"]
["SL0000225343",832,"N","N",1.25,61,null,"NA",null,"NA","NA","NA",2,828,8,172,null,"NA",null,"NA",null,"NA",1000,61,4,"UT","UTTS","NRES",27300452,273,5,3,7000,9200,"IHP","Y",5,9200,"Y"]
["SL0000225535",833,"Y","N",3,358,null,"NA",null,"NA","NA","NA",4,1000,null,"NA",null,"NA",null,"NA",null,"NA",1000,358,3,"UT","UTTS","NRES",28500088,285,2,3,16000,17800,"IHP","Y",2,17800,"Y"]
["SL0000225593",834,"N","N",3,163,null,"NA",null,"NA","NA","NA",4,966.38,6,33.619999999999997,null,"NA",null,"NA",null,"NA",1000,163,2,"UT","UTTS","NRES",23300023,233,5,3,7000,9219,"IHP","Y",5,9219,"Y"]
["SL0000225600",835,"N","N",3,163,null,"NA",null,"NA","NA","NA",4,966.38,6,33.619999999999997,null,"NA",null,"NA",null,"NA",1000,163,2,"UT","UTTS","NRES",23500039,235,10,4,16000,26496,"IHP","Y",10,26496,"Y"]
["SL0000225608",836,"N","N",3,417,null,"NA",null,"NA","NA","NA",2,300.12,4,662.5,1.25,37.380000000000003,null,"NA",null,"NA",1000,417,4,"UT","UTTS","NRES",23300059,233,45,3,7000,28224,"IHP","Y",25,18725,"Y"]
["SL0000225614",837,"N","Y",2,165,null,"NA",null,"NA","NA","NA",2,35.79,4,124.58,6,839.63,null,"NA",null,"NA",1000,165,2,"UT","UTFS","NRES",15700120,157,45,3,2300,14100,"IHP","Y",25,10400,"Y"]
["SL0000225618",838,"N","N",2,333,null,"NA",null,"NA","NA","NA",3,462,4,538,null,"NA",null,"NA",null,"NA",1000,333,2,"UT","UTTS","NRES",15800330,158,45,3,5000,31000,"IHP","Y",25,23000,"Y"]
["SL0000225636",839,"N","N",3,213,null,"NA",null,"NA","NA","NA",4,147.18,6,852.82,null,"NA",null,"NA",null,"NA",1000,213,5,"UT","UTTS","NRES",23200077,232,45,3,5000,20160,"IHP","Y",25,13375,"Y"]
["SL0000225785",840,"N","N",2,128,null,"NA",null,"NA","NA","NA",2,886.32,4,113.68,null,"NA",null,"NA",null,"NA",1000,128,6,"UT","UTTS","NRES",27500165,275,5,3,16000,21100,"IHP","Y",5,21100,"Y"]
["SL0000226039",841,"N","N",3,460,null,"NA",null,"NA","NA","NA",2,209,3,4,null,"NA",null,"NA",null,"NA",213,460,2,"UT","UTTS","NRES",28500029,285,5,3,16000,21100,"IHP","Y",5,21100,"Y"]
["SL0000226050",842,"N","N",2,114,null,"NA",null,"NA","NA","NA",2,190.02,4,809.98,null,"NA",null,"NA",null,"NA",1000,114,9,"UT","UTFS","NRES",15700148,157,45,3,2300,14100,"IHP","Y",25,10400,"Y"]
["SL0000226862",843,"N","N",2,627,null,"NA",null,"NA","NA","NA",4,1000,null,"NA",null,"NA",null,"NA",null,"NA",1000,627,2,"UT","UTTS","NRES",28400087,284,5,3,11000,14487,"IHP","Y",5,14487,"Y"]
["SL0000227076",844,"N","N",2,204,null,"NA",null,"NA","NA","NA",2,807,1.25,193,null,"NA",null,"NA",null,"NA",1000,204,12,"UT","UTFS","NRES",27400114,274,5,3,11000,14500,"IHP","N",5,14500,"Y"]
["SL0000227126",845,"N","N",2,120,null,"NA",null,"NA","NA","NA",3,774,4,226,null,"NA",null,"NA",null,"NA",1000,120,3,"UT","UTFS","NRES",27300092,273,5,3,7000,9200,"IHP","N",5,9200,"Y"]
["SL0000227170",846,"N","N",4,972,null,"NA",null,"NA","NA","NA",4,288.05,6,711.95,null,"NA",null,"NA",null,"NA",1000,972,3,"UT","UTTS","NRES",28500053,285,5,3,16000,21100,"IHP","Y",5,21100,"Y"]
["SL0000227804",847,"Y","N",4,211,null,"NA",null,"NA","NA","NA",2,2.68,4,914.28,6,83.04,null,"NA",null,"NA",1000,211,5,"UT","UTTS","NRES",27500122,275,5,3,16000,21100,"IHP","Y",5,21100,"Y"]
["SL0000227826",848,"N","N",1.25,191,null,"NA",null,"NA","NA","NA",2,509.42,6,147.35,8,11.22,0.75,292,1.25,40,999.99,191,13,"UT","UTFS","NRES",27300208,273,1,3,7000,7300,"IHP","N",1,7300,"Y"]
["SL0000229562",849,"N","N",1.25,73,null,"NA",null,"NA","NA","NA",2,156.99,3,37.51,4,805.5,null,"NA",null,"NA",1000,73,13,"UT","UTFS","NRES",15800131,158,45,3,5000,31000,"IHP","Y",25,23000,"Y"]
["SL0000229611",850,"N","N",2,347,null,"NA",null,"NA","NA","NA",2,144.41999999999999,4,855.58,null,"NA",null,"NA",null,"NA",1000,347,6,"UT","UTFS","NRES",27300117,273,2,3,7000,7800,"IHP","N",2,7800,"Y"]
["SL0000229652",851,"N","N",2,318,null,"NA",null,"NA","NA","NA",4,497.5,6,502.5,null,"NA",null,"NA",null,"NA",1000,318,3,"UT","UTFS","NRES",15800253,158,45,3,5000,31000,"IHP","Y",25,23000,"Y"]
["SL0000229815",852,"N","N",1.25,60,null,"NA",null,"NA","NA","NA",2,666.07,3,34,4,242.29,16,57.64,null,"NA",1000,60,6,"UT","UTFS","NRES",27300458,273,5,3,7000,9200,"IHP","N",5,9200,"Y"]
["SL0000229869",853,"N","N",2,66,null,"NA",null,"NA","NA","NA",4,1000,null,"NA",null,"NA",null,"NA",null,"NA",1000,66,4,"UT","UTTS","NRES",27300118,273,2,3,7000,7800,"IHP","Y",2,7800,"Y"]
["SL0000230337",854,"N","N",3,439,4,121,null,"NA","NA","NA",2,53.11,4,946.79,null,"NA",null,"NA",null,"NA",999.9,560,1,"UT","UTFS","NRES",15800374,158,45,3,5000,31000,"IHP","Y",25,23000,"Y"]
["SL0000230398",855,"N","N",2,19,null,"NA",null,"NA","NA","NA",2,385,3,230,4,385,null,"NA",null,"NA",1000,19,3,"UT","UTFS","NRES",27300275,273,2,3,7000,7800,"IHP","N",2,7800,"Y"]
["SL0000230434",856,"N","N",4,263,null,"NA",null,"NA","NA","NA",4,1000,null,"NA",null,"NA",null,"NA",null,"NA",1000,263,1,"UT","UTFS","NRES",27400330,274,5,3,11000,14500,"IHP","N",5,14500,"Y"]
["SL0000230596",857,"N","N",2,184,4,1,null,"NA","NA","NA",2,209.83,4,790.17,null,"NA",null,"NA",null,"NA",1000,185,4,"UT","UTFS","NRES",28200047,282,5,3,5000,7233,"IHP","N",5,7233,"Y"]
["SL0000230615",858,"N","N",2,344,null,"NA",null,"NA","NA","NA",4,1000,null,"NA",null,"NA",null,"NA",null,"NA",1000,344,2,"UT","UTFS","NRES",27300342,273,10,3,7000,11600,"IHP","N",10,11600,"Y"]
["SL0000230656",859,"N","N",2,88,null,"NA",null,"NA","NA","NA",3,1000,null,"NA",null,"NA",null,"NA",null,"NA",1000,88,5,"UT","UTTS","NRES",27200355,272,10,3,5000,8300,"IHP","Y",10,8300,"Y"]
["SL0000230907",860,"N","N",2,88,null,"NA",null,"NA","NA","NA",3,1000,null,"NA",null,"NA",null,"NA",null,"NA",1000,88,5,"UT","UTTS","NRES",23500078,235,45,4,16000,64512,"IHP","Y",25,42800,"Y"]
["SL0000230959",861,"N","N",2,88,null,"NA",null,"NA","NA","NA",3,1000,null,"NA",null,"NA",null,"NA",null,"NA",1000,88,5,"UT","UTTS","NRES",23500072,235,45,4,16000,64512,"IHP","Y",25,42800,"Y"]
["SL0000231253",862,"N","N",1.25,541,null,"NA",null,"NA","NA","NA",4,1000,null,"NA",null,"NA",null,"NA",null,"NA",1000,541,8,"UT","UTFS","NRES",27300070,273,5,3,7000,9200,"IHP","N",5,9200,"Y"]
["SL0000231413",863,"N","N",2,230,null,"NA",null,"NA","NA","NA",2,387,4,613,null,"NA",null,"NA",null,"NA",1000,230,2,"UT","UTFS","NRES",28300061,283,5,3,7000,9219,"IHP","N",5,9219,"Y"]
["SL0000231612",864,"N","N",2,18,null,"NA",null,"NA","NA","NA",4,1000,null,"NA",null,"NA",null,"NA",null,"NA",1000,18,1,"UT","UTTS","NRES",27400251,274,2,3,11000,11750,"IHP","Y",2,11750,"Y"]
["SL0000231890",865,"Y","Y",2,437,null,"NA",null,"NA","NA","NA",4,523,6,477,null,"NA",null,"NA",null,"NA",1000,437,7,"UT","UTFS","NRES",27400263,274,2,3,11000,11750,"IHP","N",2,11750,"Y"]
["SL0000232357",866,"N","N",2,60,null,"NA",null,"NA","NA","NA",null,"NA",null,"NA",null,"NA",null,"NA",null,"NA",0,60,1,"UT","UTTS","NRES",27201266,272,45,3,5000,20200,"HP","Y",125,47300,"Y"]
["SL0000232594",867,"N","Y",3,359,null,"NA",null,"NA","NA","NA",2,143,4,857,null,"NA",null,"NA",null,"NA",1000,359,5,"UT","UTFS","NRES",27300298,273,2,3,7000,7800,"IHP","N",2,7800,"Y"]
["SL0000232799",868,"N","N",1.25,41,null,"NA",null,"NA","NA","NA",2,591,3,39.25,6,369.75,null,"NA",null,"NA",1000,41,6,"UT","UTFS","NRES",27400165,274,2,3,11000,11750,"IHP","N",2,11750,"Y"]
["SL0000233108",869,"N","N",2,17,null,"NA",null,"NA","NA","NA",4,1000,null,"NA",null,"NA",null,"NA",null,"NA",1000,17,3,"UT","UTFS","NRES",27200774,272,45,3,5000,20200,"IHP","Y",25,13400,"Y"]
["SL0000233555",870,"Y","N",3,503,null,"NA",null,"NA","NA","NA",2,143.93,4,133.13,16,630,1.25,92.93,null,"NA",999.99,503,13,"UT","UTTS","NRES",27400177,274,5,3,11000,14500,"IHP","Y",5,14500,"Y"]
["SL0000233580",871,"N","N",2,88,null,"NA",null,"NA","NA","NA",2,19,4,981,null,"NA",null,"NA",null,"NA",1000,88,3,"UT","UTTS","NRES",27500050,275,5,3,16000,21100,"IHP","Y",5,21100,"Y"]
["SL0000233701",872,"Y","N",6,56,null,"NA",null,"NA","NA","NA",2,486.46,6,513.54,null,"NA",null,"NA",null,"NA",1000,56,5,"UT","UTIS","NRES",15401019,154,45,4,60000,244286,"IHP","Y",25,161000,"Y"]
["SL0000233748",873,"N","N",6,56,null,"NA",null,"NA","NA","NA",2,486.46,6,513.54,null,"NA",null,"NA",null,"NA",1000,56,5,"UT","UTIS","NRES",23100068,231,45,3,3000,12096,"IHP","Y",25,8025,"Y"]
["SL0000233871",874,"N","N",2,232,null,"NA",null,"NA","NA","NA",3,70.58,4,929.42,null,"NA",null,"NA",null,"NA",1000,232,2,"UT","UTFS","NRES",27500091,275,5,3,16000,21100,"IHP","N",5,21100,"Y"]
["SL0000233927",875,"N","N",2,231,null,"NA",null,"NA","NA","NA",4,1000,null,"NA",null,"NA",null,"NA",null,"NA",1000,231,4,"UT","UTFS","NRES",27400193,274,5,3,11000,14500,"IHP","N",5,14500,"Y"]
["SL0000233936",876,"N","N",2,476,null,"NA",null,"NA","NA","NA",2,272.81,4,727.19,null,"NA",null,"NA",null,"NA",1000,476,7,"UT","UTTS","NRES",27300115,273,2,3,7000,7800,"IHP","Y",2,7800,"Y"]
["SL0000233945",877,"N","N",2,266,null,"NA",null,"NA","NA","NA",2,22,4,978,null,"NA",null,"NA",null,"NA",1000,266,3,"UT","UTTS","NRES",27479549,274,10,3,11000,18200,"IHP","Y",10,18200,"Y"]
["SL0000233946",878,"Y","N",2,116,null,"NA",null,"NA","NA","NA",2,133.16,6,866.84,null,"NA",null,"NA",null,"NA",1000,116,1,"UT","UTTS","NRES",28400083,284,5,3,11000,14487,"IHP","Y",5,14487,"Y"]
["SL0000234035",879,"N","Y",4,1380,6,1,null,"NA","NA","NA",6,1000,null,"NA",null,"NA",null,"NA",null,"NA",1000,1381,2,"UT","UTTS","NRES",27101012,271,45,3,3000,12100,"IHP","Y",25,8000,"Y"]
["SL0000235015",880,"N","Y",4,1380,6,1,null,"NA","NA","NA",6,1000,null,"NA",null,"NA",null,"NA",null,"NA",1000,1381,2,"UT","UTTS","NRES",27500089,275,45,4,16000,64550,"IHP","Y",25,42800,"Y"]
["SL0000235065",881,"N","N",3,22,null,"NA",null,"NA","NA","NA",3,242,4,758,null,"NA",null,"NA",null,"NA",1000,22,4,"UT","UTTS","NRES",27500113,275,5,3,16000,21100,"IHP","Y",5,21100,"Y"]
["SL0000235217",882,"N","N",2,226,null,"NA",null,"NA","NA","NA",2,97.74,4,902.26,null,"NA",null,"NA",null,"NA",1000,226,2,"UT","UTFS","NRES",15800038,158,45,3,5000,31000,"IHP","Y",25,23000,"Y"]
["SL0000235222",883,"N","N",2,318,null,"NA",null,"NA","NA","NA",2,104.45,4,895.55,null,"NA",null,"NA",null,"NA",1000,318,6,"UT","UTTS","NRES",28300056,283,5,3,7000,9219,"IHP","Y",5,9219,"Y"]
["SL0000235483",884,"N","N",4,12,null,"NA",null,"NA","NA","NA",null,"NA",null,"NA",null,"NA",null,"NA",null,"NA",0,12,1,"UT","UTMT","NRES",29900011,299,45,3,1000,9500,"HP","Y",125,9500,"Y"]
["SL0000235500",885,"N","N",2,63,null,"NA",null,"NA","NA","NA",3,756.37,4,243.63,null,"NA",null,"NA",null,"NA",1000,63,2,"UT","UTFS","NRES",27500097,275,5,3,16000,21100,"IHP","N",5,21100,"Y"]
["SL0000235611",886,"N","N",2,31,null,"NA",null,"NA","NA","NA",2,210,4,339.37,16,450.63,null,"NA",null,"NA",1000,31,3,"UT","UTFS","NRES",23300065,233,0.25,3,7000,7000,"IHP","N",0.25,7000,"Y"]
["SL0000235694",887,"N","N",2,94,null,"NA",null,"NA","NA","NA",4,881,6,119,null,"NA",null,"NA",null,"NA",1000,94,4,"UT","UTTS","NRES",27500090,275,5,3,16000,21100,"IHP","Y",5,21100,"Y"]
["SL0000235770",888,"N","N",2,8,1.25,260,null,"NA","NA","NA",4,755.94,6,244.06,null,"NA",null,"NA",null,"NA",1000,268,3,"UT","UTTS","NRES",27201115,272,45,3,5000,20200,"IHP","Y",25,13400,"Y"]
["SL0000236010",889,"N","N",2,164,null,"NA",null,"NA","NA","NA",2,47.78,10,952.22,null,"NA",null,"NA",null,"NA",1000,164,3,"UT","UTFS","NRES",23300091,233,2,3,7000,7791,"IHP","N",2,7791,"Y"]
["SL0000236023",890,"N","N",1.25,45,null,"NA",null,"NA","NA","NA",4,1000,null,"NA",null,"NA",null,"NA",null,"NA",1000,45,5,"UT","UTTS","NRES",27400184,274,5,3,11000,14500,"IHP","Y",5,14500,"Y"]
["SL0000236060",891,"N","Y",2,289,null,"NA",null,"NA","NA","NA",2,232.69,4,767.31,null,"NA",null,"NA",null,"NA",1000,289,6,"UT","UTFS","NRES",28400211,284,3,3,11000,12994,"IHP","N",3,12994,"Y"]
["SL0000236088",892,"N","N",3,413,null,"NA",null,"NA","NA","NA",4,1000,null,"NA",null,"NA",null,"NA",null,"NA",1000,413,5,"UT","UTFS","NRES",15800010,158,5,3,5000,13500,"IHP","Y",5,13500,"Y"]
["SL0000236149",893,"N","N",1.25,237,null,"NA",null,"NA","NA","NA",2,413,3,251,4,336,null,"NA",null,"NA",1000,237,2,"UT","UTFS","NRES",27300325,273,2,3,7000,7800,"IHP","N",2,7800,"Y"]
["SL0000236404",894,"N","N",2,113,null,"NA",null,"NA","NA","NA",2,465.01,4,494.98,1.25,40.01,null,"NA",null,"NA",1000,113,9,"UT","UTTS","NRES",15800336,158,45,3,5000,31000,"IHP","Y",25,23000,"Y"]
["SL0000236759",895,"N","Y",2,323,null,"NA",null,"NA","NA","NA",4,1000,null,"NA",null,"NA",null,"NA",null,"NA",1000,323,2,"UT","UTFS","NRES",27400213,274,5,3,11000,14500,"IHP","N",5,14500,"Y"]
["SL0000236880",896,"N","N",2,81,null,"NA",null,"NA","NA","NA",4,1000,null,"NA",null,"NA",null,"NA",null,"NA",1000,81,7,"UT","UTTS","NRES",27500153,275,5,3,16000,21100,"IHP","Y",5,21100,"Y"]
["SL0000237322",897,"N","N",1.25,91,null,"NA",null,"NA","NA","NA",4,972.07,0.75,27.93,null,"NA",null,"NA",null,"NA",1000,91,6,"UT","UTFS","NRES",27300421,273,2,3,7000,7800,"IHP","N",2,7800,"Y"]
["SL0000237347",898,"Y","N",2,235,null,"NA",null,"NA","NA","NA",2,935.37,4,64.63,null,"NA",null,"NA",null,"NA",1000,235,6,"UT","UTIS","NRES",28400048,284,5,3,11000,14487,"IHP","Y",5,14487,"Y"]
["SL0000237941",899,"N","N",1.25,151,null,"NA",null,"NA","NA","NA",2,662,4,338,null,"NA",null,"NA",null,"NA",1000,151,8,"UT","UTFS","NRES",23300026,233,1,3,7000,7315,"IHP","N",1,7315,"Y"]
["SL0000238189",900,"N","N",3,1160,null,"NA",null,"NA","NA","NA",2,203.5,4,796.5,null,"NA",null,"NA",null,"NA",1000,1160,8,"UT","UTFS","NRES",28400222,284,5,3,11000,14487,"IHP","N",5,14487,"Y"]
["SL0000238312",901,"N","N",2,198,null,"NA",null,"NA","NA","NA",4,44.18,6,1,8,795.47,1.25,159.36000000000001,null,"NA",1000.01,198,1,"UT","UTTS","NRES",27500064,275,5,3,16000,21100,"IHP","Y",5,21100,"Y"]
["SL0000238563",902,"N","N",2,82,null,"NA",null,"NA","NA","NA",4,1000,null,"NA",null,"NA",null,"NA",null,"NA",1000,82,1,"UT","UTTS","NRES",28400142,284,5,3,11000,14487,"IHP","Y",5,14487,"Y"]
["SL0000239333",903,"N","N",4,746,null,"NA",null,"NA","NA","NA",4,1000,null,"NA",null,"NA",null,"NA",null,"NA",1000,746,3,"UT","UTTS","NRES",15800397,158,45,3,5000,31000,"IHP","Y",25,23000,"Y"]
["SL0000239455",904,"Y","N",2,87,null,"NA",null,"NA","NA","NA",2,1000,null,"NA",null,"NA",null,"NA",null,"NA",1000,87,10,"UT","UTFS","NRES",28500043,285,5,3,16000,21100,"IHP","Y",5,21100,"Y"]
["SL0000239472",905,"Y","N",10,2,12,4,null,"NA","NA","NA",4,238,6,173,10,5,12,584,null,"NA",1000,6,5,"UT","UTFT1","NRES",26200006,262,45,4,150000,610429,"IHP","Y",25,404000,"Y"]
["SL0000239693",906,"N","N",10,2,12,4,null,"NA","NA","NA",4,238,6,173,10,5,12,584,null,"NA",1000,6,5,"UT","UTFT1","NRES",27200954,272,45,3,5000,20200,"IHP","Y",25,13400,"Y"]
["SL0000239746",907,"N","N",2,166,null,"NA",null,"NA","NA","NA",2,834,4,166,null,"NA",null,"NA",null,"NA",1000,166,6,"UT","UTFS","NRES",23300017,233,5,3,7000,9219,"IHP","N",5,9219,"Y"]
["SL0000239985",908,"N","Y",1.25,466,null,"NA",null,"NA","NA","NA",2,240.36,4,759.64,null,"NA",null,"NA",null,"NA",1000,466,7,"UT","UTTS","NRES",27300289,273,5,3,7000,9200,"IHP","Y",5,9200,"Y"]
["SL0000240092",909,"N","N",2,48,1.25,40,null,"NA","NA","NA",3,652.78,6,347.22,null,"NA",null,"NA",null,"NA",1000,88,4,"UT","UTTS","NRES",28300167,283,1,3,7000,7319,"IHP","Y",1,7319,"Y"]
["SL0000240211",910,"N","N",2,3,0.75,307,null,"NA","NA","NA",8,1000,null,"NA",null,"NA",null,"NA",null,"NA",1000,310,1,"UT","UTTS","NRES",28400131,284,2,3,11000,12247,"IHP","Y",2,12247,"Y"]
["SL0000240361",911,"N","N",2,41,null,"NA",null,"NA","NA","NA",2,407.4,3,62,4,530.6,null,"NA",null,"NA",1000,41,2,"UT","UTISFS","NRES",15800162,158,2,3,5000,12000,"IHP","Y",2,12000,"Y"]
["SL0000240506",912,"N","Y",2,27,4,628,null,"NA","NA","NA",4,1000,null,"NA",null,"NA",null,"NA",null,"NA",1000,655,4,"UT","UTFS","NRES",28300046,283,2,3,7000,7794,"IHP","N",2,7794,"Y"]
["SL0000240518",913,"N","N",6,138,null,"NA",null,"NA","NA","NA",2,452.12,6,547.87,null,"NA",null,"NA",null,"NA",999.99,138,12,"UT","UTTS","NRES",11200001,112,45,4,18000,232286,"IHP","Y",25,153429,"Y"]
["SL0000240898",914,"N","N",6,138,null,"NA",null,"NA","NA","NA",2,452.12,6,547.87,null,"NA",null,"NA",null,"NA",999.99,138,12,"UT","UTTS","NRES",28200020,282,45,3,5000,22168,"IHP","Y",25,14700,"Y"]
["SL0000240967",915,"N","N",2,191,null,"NA",null,"NA","NA","NA",2,1000,null,"NA",null,"NA",null,"NA",null,"NA",1000,191,2,"UT","UTFS","NRES",23400074,234,5,3,11000,14487,"IHP","N",5,14487,"Y"]
["SL0000241032",916,"N","N",2,609,null,"NA",null,"NA","NA","NA",2,798.75,1.25,201.25,null,"NA",null,"NA",null,"NA",1000,609,13,"UT","UTFS","NRES",23400054,234,2,3,11000,12243,"IHP","N",2,12243,"Y"]
["SL0000241131",917,"N","N",3,176,null,"NA",null,"NA","NA","NA",2,76.77,3,6.75,4,479.48,6,437,null,"NA",1000,176,2,"UT","UTTS","NRES",27500181,275,5,3,16000,21100,"IHP","Y",5,21100,"Y"]
["SL0000241302",918,"N","N",1.25,201,null,"NA",null,"NA","NA","NA",2,239.52,4,760.48,null,"NA",null,"NA",null,"NA",1000,201,1,"UT","UTTS","NRES",27300353,273,2,3,7000,7800,"IHP","Y",2,7800,"Y"]
["SL0000241362",919,"N","N",4,200,null,"NA",null,"NA","NA","NA",4,1000,null,"NA",null,"NA",null,"NA",null,"NA",1000,200,5,"UT","UTFS","NRES",27500112,275,5,3,16000,21100,"IHP","N",5,21100,"Y"]
["SL0000241570",920,"N","N",2,212,null,"NA",null,"NA","NA","NA",3,13.75,4,986.25,null,"NA",null,"NA",null,"NA",1000,212,5,"UT","UTFS","NRES",27400156,274,5,3,11000,14500,"IHP","N",5,14500,"Y"]
["SL0000241828",921,"N","N",2,80,null,"NA",null,"NA","NA","NA",3,1000,null,"NA",null,"NA",null,"NA",null,"NA",1000,80,6,"UT","UTTS","NRES",28200267,282,10,3,5000,9099,"IHP","Y",10,9099,"Y"]
["SL0000241988",922,"N","N",1.25,40,null,"NA",null,"NA","NA","NA",2,241.41,4,758.59,null,"NA",null,"NA",null,"NA",1000,40,5,"UT","UTFS","NRES",28400074,284,2,3,11000,12247,"IHP","N",2,12247,"Y"]
["SL0000242012",923,"N","N",2,177,null,"NA",null,"NA","NA","NA",2,314.79000000000002,3,685.21,null,"NA",null,"NA",null,"NA",1000,177,1,"UT","UTTS","NRES",27500056,275,5,3,16000,21100,"IHP","Y",5,21100,"Y"]
["SL0000242102",924,"Y","N",3,310,null,"NA",null,"NA","NA","NA",2,16.75,4,983.25,null,"NA",null,"NA",null,"NA",1000,310,2,"UT","UTTS","NRES",27500053,275,5,3,16000,21100,"IHP","Y",5,21100,"Y"]
["SL0000242140",925,"N","Y",4,53,null,"NA",null,"NA","NA","NA",2,350.5,4,649.5,null,"NA",null,"NA",null,"NA",1000,53,5,"UT","UTTS","NRES",27900067,279,45,4,23000,92750,"IHP","Y",25,61500,"Y"]
["SL0000242144",926,"N","Y",4,53,null,"NA",null,"NA","NA","NA",2,350.5,4,649.5,null,"NA",null,"NA",null,"NA",1000,53,5,"UT","UTTS","NRES",27300305,273,1,3,7000,7300,"IHP","N",1,7300,"Y"]
["SL0000242346",927,"N","Y",4,53,null,"NA",null,"NA","NA","NA",2,350.5,4,649.5,null,"NA",null,"NA",null,"NA",1000,53,5,"UT","UTTS","NRES",27900067,279,45,4,23000,92750,"IHP","Y",25,61500,"N"]
["SL0000242384",928,"N","N",2,16,null,"NA",null,"NA","NA","NA",2,400,6,242.6,16,357.4,null,"NA",null,"NA",1000,16,4,"UT","UTTS","NRES",15800009,158,45,3,5000,31000,"IHP","Y",25,23000,"Y"]
["SL0000242453",929,"N","N",2,238,null,"NA",null,"NA","NA","NA",2,127.74,4,820.52,0.75,51.74,null,"NA",null,"NA",1000,238,13,"UT","UTTS","NRES",27300103,273,2,3,7000,7800,"IHP","Y",2,7800,"Y"]
["SL0000242552",930,"N","Y",3,107,null,"NA",null,"NA","NA","NA",2,916.5,1.25,83.5,null,"NA",null,"NA",null,"NA",1000,107,16,"UT","UTTS","NRES",23300053,233,45,3,7000,28224,"IHP","Y",25,18725,"Y"]
["SL0000242678",931,"N","N",2,635,null,"NA",null,"NA","NA","NA",2,234.73,3,23.77,4,741.5,null,"NA",null,"NA",1000,635,7,"UT","UTTS","NRES",27300362,273,5,3,7000,9200,"IHP","Y",5,9200,"Y"]
["SL0000242946",932,"N","N",2,272,null,"NA",null,"NA","NA","NA",2,482,4,192,6,326,null,"NA",null,"NA",1000,272,5,"UT","UTFS","NRES",27200555,272,45,3,5000,20200,"IHP","Y",25,13400,"Y"]
["SL0000243083",933,"N","N",2,19,null,"NA",null,"NA","NA","NA",2,35.82,4,964.18,null,"NA",null,"NA",null,"NA",1000,19,2,"UT","UTFS","NRES",27500123,275,5,3,16000,21100,"IHP","N",5,21100,"Y"]
["SL0000243094",934,"N","N",2,175,null,"NA",null,"NA","NA","NA",2,1000,null,"NA",null,"NA",null,"NA",null,"NA",1000,175,5,"UT","UTTS","NRES",27300235,273,5,3,7000,9200,"IHP","Y",5,9200,"Y"]
["SL0000243281",935,"N","N",2,468,null,"NA",null,"NA","NA","NA",2,1000,null,"NA",null,"NA",null,"NA",null,"NA",1000,468,6,"UT","UTFS","NRES",23100005,231,35,3,3000,10062,"IHP","Y",35,10062,"Y"]
["SL0000243309",936,"N","N",3,379,null,"NA",null,"NA","NA","NA",3,454.23,6,545.77,null,"NA",null,"NA",null,"NA",1000,379,4,"UT","UTISGS","NRES",15800024,158,45,3,5000,31000,"IHP","Y",25,23000,"Y"]
["SL0000243310",937,"N","N",3,196,null,"NA",null,"NA","NA","NA",4,1000,null,"NA",null,"NA",null,"NA",null,"NA",1000,196,3,"UT","UTFS","NRES",23300035,233,45,3,7000,28224,"IHP","Y",25,18725,"Y"]
["SL0000243830",938,"N","N",1.25,308,null,"NA",null,"NA","NA","NA",4,1000,null,"NA",null,"NA",null,"NA",null,"NA",1000,308,2,"UT","UTFS","NRES",23400009,234,5,3,11000,14487,"IHP","N",5,14487,"Y"]
["SL0000244011",939,"N","N",2,648,null,"NA",null,"NA","NA","NA",2,211.72,4,788.28,null,"NA",null,"NA",null,"NA",1000,648,10,"UT","UTTS","NRES",23500006,235,1,3,16000,16720,"IHP","Y",1,16720,"Y"]
["SL0000244145",940,"N","N",2,432,null,"NA",null,"NA","NA","NA",2,235,4,765,null,"NA",null,"NA",null,"NA",1000,432,10,"UT","UTTS","NRES",27400276,274,2,3,11000,11750,"IHP","Y",2,11750,"Y"]
["SL0000244146",941,"N","N",2,462,null,"NA",null,"NA","NA","NA",2,1000,null,"NA",null,"NA",null,"NA",null,"NA",1000,462,4,"UT","UTTS","NRES",23300090,233,45,3,7000,28224,"IHP","Y",25,18725,"Y"]
["SL0000244148",942,"Y","N",3,397,null,"NA",null,"NA","NA","NA",4,1000,null,"NA",null,"NA",null,"NA",null,"NA",1000,397,2,"UT","UTFS","NRES",27400247,274,5,3,11000,14500,"IHP","N",5,14500,"Y"]
["SL0000244821",943,"Y","N",2,51,null,"NA",null,"NA","NA","NA",6,1000,null,"NA",null,"NA",null,"NA",null,"NA",1000,51,1,"UT","UTTS","NRES",27400238,274,5,3,11000,14500,"IHP","Y",5,14500,"Y"]
["SL0000245062",944,"Y","Y",3,650,1.25,416,null,"NA","NA","NA",6,1000,null,"NA",null,"NA",null,"NA",null,"NA",1000,1066,2,"UT","UTTS","NRES",27500023,275,5,3,16000,21100,"IHP","Y",5,21100,"Y"]
["SL0000245164",945,"Y","N",3,146,4,2,null,"NA","NA","NA",4,873.19,1.25,126.81,null,"NA",null,"NA",null,"NA",1000,148,7,"UT","UTTS","NRES",15800408,158,45,3,5000,31000,"IHP","Y",25,23000,"Y"]
["SL0000245475",946,"N","N",2,189,null,"NA",null,"NA","NA","NA",2,524,4,476,null,"NA",null,"NA",null,"NA",1000,189,8,"UT","UTFS","NRES",27300349,273,2,3,7000,7800,"IHP","N",2,7800,"Y"]
["SL0000246275",947,"N","N",1.25,12,null,"NA",null,"NA","NA","NA",2,1000,null,"NA",null,"NA",null,"NA",null,"NA",1000,12,12,"UT","UTFS","NRES",27500002,275,5,3,16000,21100,"IHP","N",5,21100,"Y"]
["SL0000246460",948,"N","N",2,86,null,"NA",null,"NA","NA","NA",4,1000,null,"NA",null,"NA",null,"NA",null,"NA",1000,86,2,"UT","UTTS","NRES",27400087,274,5,3,11000,14500,"IHP","Y",5,14500,"Y"]
["SL0000246969",949,"N","Y",2,217,null,"NA",null,"NA","NA","NA",2,341,4,659,null,"NA",null,"NA",null,"NA",1000,217,4,"UT","UTTS","NRES",27500140,275,5,3,16000,21100,"IHP","Y",5,21100,"Y"]
["SL0000247122",950,"Y","N",12,153,null,"NA",null,"NA","NA","NA",null,"NA",null,"NA",null,"NA",null,"NA",null,"NA",0,153,1,"UT","UTTS","NRES",31000015,310,45,4,60000,244286,"HP","Y",125,582000,"Y"]
["SL0000247157",951,"N","N",12,153,null,"NA",null,"NA","NA","NA",null,"NA",null,"NA",null,"NA",null,"NA",null,"NA",0,153,1,"UT","UTTS","NRES",13430003,134,45,4,60000,0,"HP","Y",125,100000,"Y"]
["SL0000247259",952,"N","N",12,153,null,"NA",null,"NA","NA","NA",null,"NA",null,"NA",null,"NA",null,"NA",null,"NA",0,153,1,"UT","UTTS","NRES",13430003,134,45,4,60000,0,"HP","Y",125,100000,"N"]
["SL0000247304",953,"N","N",12,153,null,"NA",null,"NA","NA","NA",null,"NA",null,"NA",null,"NA",null,"NA",null,"NA",0,153,1,"UT","UTTS","NRES",27800532,278,45,3,2000,8065,"HP","Y",125,18930,"Y"]
["SL0000247357",954,"N","N",12,153,null,"NA",null,"NA","NA","NA",null,"NA",null,"NA",null,"NA",null,"NA",null,"NA",0,153,1,"UT","UTTS","NRES",31000017,310,45,4,60000,244286,"HP","Y",125,582000,"Y"]
["SL0000247495",955,"N","N",12,153,null,"NA",null,"NA","NA","NA",null,"NA",null,"NA",null,"NA",null,"NA",null,"NA",0,153,1,"UT","UTTS","NRES",27800532,278,45,3,2000,8065,"HP","Y",125,18930,"N"]
["SL0000247610",956,"N","N",4,79,6,83,10,636,"NA","NA",null,"NA",null,"NA",null,"NA",null,"NA",null,"NA",0,798,1,"UT","UTTS","NRES",21300023,213,45,4,30000,121714,"HP","Y",125,291000,"Y"]
["SL0000247740",957,"N","N",4,79,6,83,10,636,"NA","NA",null,"NA",null,"NA",null,"NA",null,"NA",null,"NA",0,798,1,"UT","UTTS","NRES",27801849,278,45,3,2000,8065,"HP","Y",125,18930,"N"]
["SL0000247757",958,"N","N",4,79,6,83,10,636,"NA","NA",null,"NA",null,"NA",null,"NA",null,"NA",null,"NA",0,798,1,"UT","UTTS","NRES",27801849,278,45,3,2000,8065,"HP","Y",125,18930,"Y"]
["SL0000247758",959,"N","N",2,32,4,10,null,"NA","NA","NA",null,"NA",null,"NA",null,"NA",null,"NA",null,"NA",0,42,1,"UT","UTTS","NRES",27200817,272,45,3,5000,20200,"HP","Y",125,47300,"N"]
["SL0000247759",960,"N","N",2,32,4,10,null,"NA","NA","NA",null,"NA",null,"NA",null,"NA",null,"NA",null,"NA",0,42,1,"UT","UTTS","NRES",27200817,272,45,3,5000,20200,"HP","Y",125,47300,"Y"]
["SL0000247783",961,"N","Y",2,30,null,"NA",null,"NA","NA","NA",null,"NA",null,"NA",null,"NA",null,"NA",null,"NA",0,30,2,"UT","UTTS","NRES",11400055,114,45,4,18000,72000,"HP","Y",125,170000,"N"]
["SL0000247800",962,"N","Y",2,30,null,"NA",null,"NA","NA","NA",null,"NA",null,"NA",null,"NA",null,"NA",null,"NA",0,30,2,"UT","UTTS","NRES",23100065,231,45,3,3000,12096,"HP","Y",125,28392,"N"]
["SL0000247830",963,"N","Y",2,30,null,"NA",null,"NA","NA","NA",null,"NA",null,"NA",null,"NA",null,"NA",null,"NA",0,30,2,"UT","UTTS","NRES",11400055,114,45,4,18000,72000,"HP","Y",125,170000,"Y"]
["SL0000247831",964,"N","Y",2,30,null,"NA",null,"NA","NA","NA",null,"NA",null,"NA",null,"NA",null,"NA",null,"NA",0,30,2,"UT","UTTS","NRES",23100065,231,45,3,3000,12096,"HP","Y",125,28392,"Y"]
["SL0000247835",965,"N","N",4,4,null,"NA",null,"NA","NA","NA",null,"NA",null,"NA",null,"NA",null,"NA",null,"NA",0,4,1,"UT","UTTS","NRES",27101032,271,45,3,3000,12100,"HP","Y",125,28400,"Y"]
["SL0000247836",966,"N","N",4,4,null,"NA",null,"NA","NA","NA",null,"NA",null,"NA",null,"NA",null,"NA",null,"NA",0,4,1,"UT","UTTS","NRES",27101032,271,45,3,3000,12100,"HP","Y",125,28400,"N"]
["SL0000247837",967,"Y","N",4,4,null,"NA",null,"NA","NA","NA",null,"NA",null,"NA",null,"NA",null,"NA",null,"NA",0,4,1,"UT","UTTS","NRES",31400010,314,35,4,18000,60000,"HP","Y",35,60000,"Y"]
["SL0000247838",968,"N","N",3,1,null,"NA",null,"NA","NA","NA",null,"NA",null,"NA",null,"NA",null,"NA",null,"NA",0,1,1,"UT","UTTS","NRES",15700028,157,45,3,2300,14100,"HP","Y",125,27300,"Y"]
["SL0000247839",969,"N","N",3,1,null,"NA",null,"NA","NA","NA",null,"NA",null,"NA",null,"NA",null,"NA",null,"NA",0,1,1,"UT","UTTS","NRES",15700028,157,45,3,2300,14100,"HP","Y",125,27300,"N"]
["SL0000247888",970,"N","Y",3,670,4,2,null,"NA","NA","NA",4,1000,null,"NA",null,"NA",null,"NA",null,"NA",1000,672,4,"UT","UTTS","NRES",28400175,284,45,3,11000,44336,"IHP","Y",25,29423,"N"]
["SL0000247904",971,"N","Y",3,670,4,2,null,"NA","NA","NA",4,1000,null,"NA",null,"NA",null,"NA",null,"NA",1000,672,4,"UT","UTTS","NRES",28400175,284,45,3,11000,44336,"IHP","Y",25,29423,"Y"]
["SL0000247919",972,"N","N",1.25,68,null,"NA",null,"NA","NA","NA",3,200.17,8,799.83,null,"NA",null,"NA",null,"NA",1000,68,4,"UT","UTTS","NRES",15800080,158,45,3,5000,31000,"IHP","Y",25,23000,"Y"]
["SL0000248156",973,"N","N",1.25,68,null,"NA",null,"NA","NA","NA",3,200.17,8,799.83,null,"NA",null,"NA",null,"NA",1000,68,4,"UT","UTTS","NRES",15800080,158,45,3,5000,31000,"IHP","Y",25,23000,"N"]
["SL0000248192",974,"N","N",2,37,null,"NA",null,"NA","NA","NA",3,1000,null,"NA",null,"NA",null,"NA",null,"NA",1000,37,3,"UT","UTTS","NRES",15800270,158,45,3,5000,31000,"IHP","Y",25,23000,"Y"]
["SL0000248368",975,"N","N",2,37,null,"NA",null,"NA","NA","NA",3,1000,null,"NA",null,"NA",null,"NA",null,"NA",1000,37,3,"UT","UTTS","NRES",15800270,158,45,3,5000,31000,"IHP","Y",25,23000,"N"]
["SL0000248663",976,"N","N",2,85,null,"NA",null,"NA","NA","NA",4,120.92,8,879.08,null,"NA",null,"NA",null,"NA",1000,85,3,"UT","UTTS","NRES",15800046,158,45,3,5000,31000,"IHP","Y",25,23000,"N"]
["SL0000248937",977,"N","N",2,85,null,"NA",null,"NA","NA","NA",4,120.92,8,879.08,null,"NA",null,"NA",null,"NA",1000,85,3,"UT","UTTS","NRES",15800046,158,45,3,5000,31000,"IHP","Y",25,23000,"Y"]
["SL0000249032",978,"Y","N",3,108,null,"NA",null,"NA","NA","NA",4,1000,null,"NA",null,"NA",null,"NA",null,"NA",1000,108,6,"UT","UTTS","NRES",28400208,284,45,3,11000,44336,"IHP","Y",25,29423,"Y"]
["SL0000249052",979,"N","N",3,108,null,"NA",null,"NA","NA","NA",4,1000,null,"NA",null,"NA",null,"NA",null,"NA",1000,108,6,"UT","UTTS","NRES",28400208,284,45,3,11000,44336,"IHP","Y",25,29423,"N"]
["SL0000249164",980,"N","N",2,75,null,"NA",null,"NA","NA","NA",3,29.47,8,970.53,null,"NA",null,"NA",null,"NA",1000,75,4,"UT","UTTS","NRES",27300339,273,45,3,7000,28250,"IHP","Y",25,18700,"Y"]
["SL0000249249",981,"N","N",2,75,null,"NA",null,"NA","NA","NA",3,29.47,8,970.53,null,"NA",null,"NA",null,"NA",1000,75,4,"UT","UTTS","NRES",27300339,273,45,3,7000,28250,"IHP","Y",25,18700,"N"]
["SL0000249252",982,"N","N",2,15,null,"NA",null,"NA","NA","NA",null,"NA",null,"NA",null,"NA",null,"NA",null,"NA",0,15,1,"UT","UTTS","NRES",27500026,275,45,4,16000,64550,"HP","Y",125,151400,"Y"]
["SL0000249365",983,"Y","N",4,72,null,"NA",null,"NA","NA","NA",2,106.57,4,215.14,8,678.29,null,"NA",null,"NA",1000,72,3,"UT","UTTS","NRES",23600036,236,45,4,23000,80640,"IHP","Y",25,53500,"Y"]
["SL0000249432",984,"N","N",4,1368,null,"NA",null,"NA","NA","NA",2,60.5,4,939.5,null,"NA",null,"NA",null,"NA",1000,1368,2,"UT","UTTS","NRES",23600043,236,5,4,23000,26340,"IHP","Y",5,26340,"Y"]
["SL0000249846",985,"N","N",6,145,null,"NA",null,"NA","NA","NA",4,14,8,986,null,"NA",null,"NA",null,"NA",1000,145,1,"UT","UTFT1","NRES",27900079,279,45,4,23000,92750,"IHP","Y",25,61500,"Y"]
["SL0000249926",986,"N","N",4,38,null,"NA",null,"NA","NA","NA",6,1000,null,"NA",null,"NA",null,"NA",null,"NA",1000,38,1,"UT","UTTS","NRES",11400051,114,45,4,18000,72000,"IHP","Y",25,48000,"Y"]
["SL0000250006",987,"N","N",4,38,null,"NA",null,"NA","NA","NA",6,1000,null,"NA",null,"NA",null,"NA",null,"NA",1000,38,1,"UT","UTTS","NRES",11300050,113,45,4,30000,121714,"IHP","Y",25,81000,"Y"]
["SL0000250132",988,"N","N",4,153,null,"NA",null,"NA","NA","NA",2,200.5,3,799.5,null,"NA",null,"NA",null,"NA",1000,153,2,"UT","UTTS","NRES",23400038,234,45,4,11000,44352,"IHP","Y",25,29425,"Y"]
["SL0000250154",989,"N","N",3,45,4,4,null,"NA","NA","NA",null,"NA",null,"NA",null,"NA",null,"NA",null,"NA",0,49,1,"UT","UTTS","NRES",23500001,235,45,4,16000,64512,"HP","Y",125,151424,"Y"]
["SL0000250334",990,"N","Y",2,75,4,3,null,"NA","NA","NA",2,395.82,4,604.17999999999995,null,"NA",null,"NA",null,"NA",1000,78,2,"UT","UTTS","NRES",27400016,274,45,4,11000,44350,"IHP","Y",25,29400,"Y"]
["SL0000250393",991,"N","Y",4,789,null,"NA",null,"NA","NA","NA",2,352.21,4,647.79,null,"NA",null,"NA",null,"NA",1000,789,12,"UT","UTISGS","NRES",27900066,279,45,4,23000,92750,"IHP","Y",25,61500,"Y"]
["SL0000250657",992,"N","N",6,181,null,"NA",null,"NA","NA","NA",6,1000,null,"NA",null,"NA",null,"NA",null,"NA",1000,181,2,"UT","UTTS","NRES",11300036,113,45,4,30000,121714,"IHP","Y",25,81000,"Y"]
["SL0000250838",993,"N","N",2,1,null,"NA",null,"NA","NA","NA",2,1,null,"NA",null,"NA",null,"NA",null,"NA",1,1,1,"UT","UTTS","NRES",27500077,275,25,4,16000,42800,"IHP","Y",25,42800,"Y"]
["SL0000250923",994,"N","N",4,7,null,"NA",null,"NA","NA","NA",4,607.5,6,392.5,null,"NA",null,"NA",null,"NA",1000,7,2,"UT","UTTS","NRES",11200010,112,45,4,18000,232286,"IHP","Y",25,153429,"Y"]
["SL0000250957",995,"N","N",3,608,null,"NA",null,"NA","NA","NA",4,403,6,597,null,"NA",null,"NA",null,"NA",1000,608,1,"UT","UTFS","NRES",27400326,274,45,4,11000,44350,"IHP","Y",25,29400,"Y"]
["SL0000251055",996,"N","N",2,6,3,321,null,"NA","NA","NA",6,1000,null,"NA",null,"NA",null,"NA",null,"NA",1000,327,1,"UT","UTTS","NRES",27900075,279,5,4,23000,30300,"IHP","Y",5,30300,"Y"]
["SL0000251264",997,"N","Y",4,219,null,"NA",null,"NA","NA","NA",4,1000,null,"NA",null,"NA",null,"NA",null,"NA",1000,219,2,"UT","UTTS","NRES",11400038,114,45,4,18000,72000,"IHP","Y",25,48000,"Y"]
["SL0000251978",998,"N","N",3,72,null,"NA",null,"NA","NA","NA",3,1000,null,"NA",null,"NA",null,"NA",null,"NA",1000,72,5,"UT","UTTS","NRES",15301022,153,45,4,30000,142000,"IHP","Y",25,94000,"Y"]
["SL0000252032",999,"N","N",6,24,null,"NA",null,"NA","NA","NA",null,"NA",null,"NA",null,"NA",null,"NA",null,"NA",0,24,1,"UT","UTFT1","NRES",27900049,279,45,4,23000,92750,"HP","Y",125,217700,"Y"]
["SL0000252329",1000,"N","N",2,4,4,612,null,"NA","NA","NA",null,"NA",null,"NA",null,"NA",null,"NA",null,"NA",0,616,1,"UT","UTTS","NRES",21400028,214,45,4,18000,72000,"HP","Y",125,170000,"Y"]
["SL0000254132",1005,"N","N",4,5,6,426,null,"NA","NA","NA",4,456.16,6,490.95,8,52.88,null,"NA",null,"NA",999.99,431,1,"UT","UTTS","NRES",27900023,279,5,4,23000,30300,"IHP","Y",5,30300,"Y"]
["SL0000254467",1010,"N","N",4,110,null,"NA",null,"NA","NA","NA",2,108.15,4,891.85,null,"NA",null,"NA",null,"NA",1000,110,6,"UT","UTTS","NRES",23500045,235,45,4,16000,64512,"IHP","Y",25,42800,"Y"]
["SL0000254769",1013,"N","N",8,10,10,1,null,"NA","NA","NA",null,"NA",null,"NA",null,"NA",null,"NA",null,"NA",0,11,1,"UT","UTTS","NRES",11000012,110,45,4,60000,244286,"HP","Y",125,580000,"Y"]
["SL0000254910",1015,"N","N",2,110,3,338,null,"NA","NA","NA",4,1000,null,"NA",null,"NA",null,"NA",null,"NA",1000,448,9,"UT","UTTS","NRES",27900064,279,5,4,23000,30300,"IHP","Y",5,30300,"Y"]
["SL0000255126",1020,"N","N",2,848,null,"NA",null,"NA","NA","NA",null,"NA",null,"NA",null,"NA",null,"NA",null,"NA",0,848,1,"UT","UTTS","NRES",23400129,234,45,4,11000,44352,"HP","Y",125,104104,"Y"]
["SL0000255219",1022,"N","N",2,238,null,"NA",null,"NA","NA","NA",2,171.22,6,743.5,1.25,85.28,null,"NA",null,"NA",1000,238,13,"UT","UTTS","NRES",27500134,275,45,4,16000,64550,"IHP","Y",25,42800,"Y"]
["SL0000255432",1025,"N","N",3,791,null,"NA",null,"NA","NA","NA",4,1000,null,"NA",null,"NA",null,"NA",null,"NA",1000,791,6,"UT","UTFS","NRES",27400174,274,45,4,11000,44350,"IHP","Y",25,29400,"Y"]
["SL0000255910",1030,"N","N",2,63,null,"NA",null,"NA","NA","NA",2,224.89,6,775.11,null,"NA",null,"NA",null,"NA",1000,63,4,"UT","UTTS","NRES",23400055,234,45,4,11000,44352,"IHP","Y",25,29425,"Y"]
["SL0000256336",1034,"N","N",2,39,null,"NA",null,"NA","NA","NA",null,"NA",null,"NA",null,"NA",null,"NA",null,"NA",0,39,1,"UT","UTTS","NRES",28500019,285,45,4,16000,64550,"HP","Y",125,151396,"Y"]
["SL0000256735",1039,"N","N",2,37,null,"NA",null,"NA","NA","NA",4,993.67,6,6.33,null,"NA",null,"NA",null,"NA",1000,37,5,"UT","UTFS","NRES",28400079,284,45,4,11000,44336,"IHP","Y",25,29423,"Y"]
["SL0000256755",1040,"N","N",3,186,null,"NA",null,"NA","NA","NA",2,108.04,3,673.02,4,218.95,null,"NA",null,"NA",1000.01,186,7,"UT","UTTS","NRES",27500048,275,45,4,16000,64550,"IHP","Y",25,42800,"Y"]
["SL0000257305",1046,"Y","N",4,255,null,"NA",null,"NA","NA","NA",4,163.69999999999999,6,836.3,null,"NA",null,"NA",null,"NA",1000,255,1,"UT","UTTS","NRES",15800327,158,45,4,5000,31000,"IHP","Y",25,23000,"Y"]
["SL0000257470",1049,"Y","N",6,1489,null,"NA",null,"NA","NA","NA",null,"NA",null,"NA",null,"NA",null,"NA",null,"NA",0,1489,1,"UT","UTTS","NRES",31300011,313,45,4,30000,121714,"HP","Y",125,290000,"Y"]
["SL0000257814",1054,"N","N",4,59,null,"NA",null,"NA","NA","NA",6,1000,null,"NA",null,"NA",null,"NA",null,"NA",1000,59,2,"UT","UTTS","NRES",15401015,154,45,4,60000,244286,"IHP","Y",25,161000,"Y"]
["SL0000258322",1055,"N","N",4,18,null,"NA",null,"NA","NA","NA",2,80.72,4,617.13,16,302.14999999999998,null,"NA",null,"NA",1000,18,1,"UT","UTTS","NRES",15301016,153,45,4,30000,142000,"IHP","Y",25,94000,"Y"]
["SL0000258496",1059,"N","N",4,694,null,"NA",null,"NA","NA","NA",4,1000,null,"NA",null,"NA",null,"NA",null,"NA",1000,694,1,"UT","UTTS","NRES",27900028,279,10,4,23000,38100,"IHP","Y",10,38100,"Y"]
["SL0000258897",1064,"N","N",10,1,null,"NA",null,"NA","NA","NA",null,"NA",null,"NA",null,"NA",null,"NA",null,"NA",0,1,1,"UT","UTFT1","NRES",26400003,264,45,4,150000,610429,"HP","Y",125,1455000,"Y"]
["SL0000259317",1067,"Y","N",4,225,null,"NA",null,"NA","NA","NA",2,301.5,6,698.5,null,"NA",null,"NA",null,"NA",1000,225,1,"UT","UTTS","NRES",15401018,154,45,4,60000,244286,"IHP","Y",25,161000,"Y"]
["SL0000259473",1069,"Y","N",4,104,null,"NA",null,"NA","NA","NA",4,1000,null,"NA",null,"NA",null,"NA",null,"NA",1000,104,6,"UT","UTFS","NRES",27400253,274,45,4,11000,44350,"IHP","Y",25,29400,"Y"]
["SL0000259771",1074,"N","N",3,149,null,"NA",null,"NA","NA","NA",2,114.87,3,885.13,null,"NA",null,"NA",null,"NA",1000,149,4,"UT","UTTS","NRES",28400096,284,45,4,11000,44336,"IHP","Y",25,29423,"Y"]
["SL0000260127",1077,"N","N",4,359,null,"NA",null,"NA","NA","NA",6,1000,null,"NA",null,"NA",null,"NA",null,"NA",1000,359,1,"UT","UTTS","NRES",11300049,113,45,4,30000,121714,"IHP","Y",25,81000,"Y"]
["SL0000260710",1083,"N","Y",4,468,null,"NA",null,"NA","NA","NA",2,228.34,4,771.66,null,"NA",null,"NA",null,"NA",1000,468,4,"UT","UTIS","NRES",27500170,275,10,4,16000,26500,"IHP","Y",10,26500,"Y"]
["SL0000260834",1084,"N","N",3,174,null,"NA",null,"NA","NA","NA",4,1000,null,"NA",null,"NA",null,"NA",null,"NA",1000,174,1,"UT","UTFS","NRES",27400262,274,45,4,11000,44350,"IHP","Y",25,29400,"Y"]
["SL0000261729",1089,"N","Y",4,161,null,"NA",null,"NA","NA","NA",4,802,1.25,198,null,"NA",null,"NA",null,"NA",1000,161,6,"UT","UTTS","NRES",11300044,113,45,4,30000,121714,"IHP","Y",25,81000,"Y"]
["SL0000262252",1093,"N","N",6,345,null,"NA",null,"NA","NA","NA",null,"NA",null,"NA",null,"NA",null,"NA",null,"NA",0,345,1,"UT","UTTS","NRES",11300043,113,45,4,30000,121714,"IHP","Y",25,81000,"Y"]
["SL0000262918",1098,"N","N",4,335,null,"NA",null,"NA","NA","NA",4,947.77,1.25,52.23,null,"NA",null,"NA",null,"NA",1000,335,5,"UT","UTTS","NRES",27900062,279,5,4,23000,30300,"IHP","Y",5,30300,"Y"]
["SL0000262942",1099,"N","N",4,43,null,"NA",null,"NA","NA","NA",4,9,6,991,null,"NA",null,"NA",null,"NA",1000,43,2,"UT","UTTS","NRES",27500114,275,15,4,16000,31900,"IHP","Y",15,31900,"Y"]
["SL0000263650",1105,"N","N",3,1,null,"NA",null,"NA","NA","NA",null,"NA",null,"NA",null,"NA",null,"NA",null,"NA",0,1,1,"UT","UTTS","NRES",27400125,274,45,4,11000,44350,"HP","Y",125,104100,"Y"]
["SL0000264158",1108,"N","N",3,78,null,"NA",null,"NA","NA","NA",4,1000,null,"NA",null,"NA",null,"NA",null,"NA",1000,78,5,"UT","UTTS","NRES",23600016,236,45,4,23000,80640,"IHP","Y",25,53500,"Y"]
["SL0000264720",1113,"N","N",4,62,null,"NA",null,"NA","NA","NA",6,1000,null,"NA",null,"NA",null,"NA",null,"NA",1000,62,5,"UT","UTTS","NRES",23400116,234,45,4,11000,44352,"IHP","Y",25,29425,"Y"]
["SL0000264797",1114,"N","N",2,100,4,1,null,"NA","NA","NA",4,1000,null,"NA",null,"NA",null,"NA",null,"NA",1000,101,1,"UT","UTTS","NRES",23400142,234,45,4,11000,44352,"IHP","Y",25,29425,"Y"]
["SL0000265475",1118,"N","N",4,1,null,"NA",null,"NA","NA","NA",null,"NA",null,"NA",null,"NA",null,"NA",null,"NA",0,1,1,"UT","UTTS","NRES",31400025,314,45,4,18000,72000,"HP","Y",125,175000,"Y"]
["SL0000266031",1123,"N","N",4,5,null,"NA",null,"NA","NA","NA",4,362,6,638,null,"NA",null,"NA",null,"NA",1000,5,1,"UT","UTTS","NRES",27900063,279,5,4,23000,30300,"IHP","Y",5,30300,"Y"]
["SL0000266394",1126,"N","N",3,445,null,"NA",null,"NA","NA","NA",2,675.12,4,324.88,null,"NA",null,"NA",null,"NA",1000,445,11,"UT","UTTS","NRES",28400036,284,45,4,11000,44336,"IHP","Y",25,29423,"Y"]
["SL0000266627",1128,"N","Y",4,64,6,2,8,1,12,2,null,"NA",null,"NA",null,"NA",null,"NA",null,"NA",0,69,3,"UT","UTFT1","NRES",31400024,314,5,4,18000,24000,"HP","Y",5,24000,"Y"]
["SL0000267223",1133,"N","N",3,508,null,"NA",null,"NA","NA","NA",2,265,4,735,null,"NA",null,"NA",null,"NA",1000,508,3,"UT","UTFS","NRES",27400303,274,45,4,11000,44350,"IHP","Y",25,29400,"Y"]
["SL0000267435",1136,"N","N",4,178,null,"NA",null,"NA","NA","NA",4,87,6,913,null,"NA",null,"NA",null,"NA",1000,178,2,"UT","UTISFS","NRES",11300052,113,45,4,30000,121714,"IHP","Y",25,81000,"Y"]
["SL0000267731",1142,"N","N",3,2,null,"NA",null,"NA","NA","NA",null,"NA",null,"NA",null,"NA",null,"NA",null,"NA",0,2,1,"UT","UTTS","NRES",28400166,284,45,4,11000,44336,"HP","Y",125,104100,"Y"]
["SL0000267743",1143,"N","N",3,205,4,2,null,"NA","NA","NA",null,"NA",null,"NA",null,"NA",null,"NA",null,"NA",0,207,1,"UT","UTTS","NRES",31400026,314,45,4,18000,72000,"HP","Y",125,175000,"Y"]
["SL0000268220",1148,"N","N",8,39,null,"NA",null,"NA","NA","NA",null,"NA",null,"NA",null,"NA",null,"NA",null,"NA",0,39,1,"UT","UTTS","NRES",21300015,213,45,4,30000,121714,"HP","Y",125,291000,"Y"]
["SL0000268374",1152,"N","N",2,181,null,"NA",null,"NA","NA","NA",4,1000,null,"NA",null,"NA",null,"NA",null,"NA",1000,181,2,"UT","UTTS","NRES",27900034,279,5,4,23000,30300,"IHP","Y",5,30300,"Y"]
["SL0000268928",1157,"N","N",4,36,null,"NA",null,"NA","NA","NA",4,1000,null,"NA",null,"NA",null,"NA",null,"NA",1000,36,1,"UT","UTTS","NRES",23600002,236,45,4,23000,80640,"IHP","Y",25,53500,"Y"]
["SL0000268980",1160,"N","N",3,223,null,"NA",null,"NA","NA","NA",2,110.31,4,889.69,null,"NA",null,"NA",null,"NA",1000,223,5,"UT","UTIS","NRES",23600040,236,4,4,23000,24980,"IHP","Y",4,24980,"Y"]
["SL0000269032",1162,"N","Y",4,725,null,"NA",null,"NA","NA","NA",4,1000,null,"NA",null,"NA",null,"NA",null,"NA",1000,725,2,"UT","UTFS","NRES",28500065,285,45,4,16000,64550,"IHP","Y",25,42800,"Y"]
["SL0000270327",1167,"N","N",4,4,6,210,null,"NA","NA","NA",6,1000,null,"NA",null,"NA",null,"NA",null,"NA",1000,214,1,"UT","UTTS","NRES",11200004,112,45,4,18000,232286,"IHP","Y",25,153429,"Y"]
["SL0000270387",1169,"N","Y",6,327,8,1,null,"NA","NA","NA",2,240.5,6,381.5,8,378,null,"NA",null,"NA",1000,328,6,"UT","UTTS","NRES",11000010,110,45,4,60000,244286,"IHP","Y",25,161000,"Y"]
["SL0000270588",1172,"N","N",8,1,null,"NA",null,"NA","NA","NA",null,"NA",null,"NA",null,"NA",null,"NA",null,"NA",0,1,1,"UT","UTTS","NRES",21300014,213,45,4,30000,121714,"HP","Y",125,291000,"N"]
["SL0000270966",1177,"N","N",3,1069,null,"NA",null,"NA","NA","NA",null,"NA",null,"NA",null,"NA",null,"NA",null,"NA",0,1069,1,"UT","UTTS","NRES",23500071,235,15,4,16000,31936,"HP","Y",15,31936,"Y"]
["SL0000271257",1181,"Y","N",2,187,null,"NA",null,"NA","NA","NA",2,596.01,4,403.99,null,"NA",null,"NA",null,"NA",1000,187,5,"UT","UTIS","NRES",28400040,284,45,4,11000,44336,"IHP","Y",25,29423,"Y"]
["SL0000271794",1186,"N","Y",10,2540,null,"NA",null,"NA","NA","NA",null,"NA",null,"NA",null,"NA",null,"NA",null,"NA",0,2540,2,"UT","UTTS","NRES",27500169,275,45,4,16000,64550,"HP","Y",125,151400,"N"]
["SL0000271992",1187,"N","Y",10,2540,null,"NA",null,"NA","NA","NA",null,"NA",null,"NA",null,"NA",null,"NA",null,"NA",0,2540,2,"UT","UTTS","NRES",27500169,275,45,4,16000,64550,"HP","Y",125,151400,"Y"]
["SL0000300420",1193,"N","N",8,43,null,"NA",null,"NA","NA","NA",null,"NA",null,"NA",null,"NA",null,"NA",null,"NA",0,43,1,"UT","UTTS","NRES",31000013,310,45,4,60000,244286,"HP","Y",125,582000,"N"]
["SL0000301123",1196,"N","Y",6,242,null,"NA",null,"NA","NA","NA",null,"NA",null,"NA",null,"NA",null,"NA",null,"NA",0,242,2,"UT","UTTS","NRES",27300143,273,45,4,7000,28250,"HP","Y",125,66200,"N"]
["SL0000301829",1201,"N","N",4,48,null,"NA",null,"NA","NA","NA",2,159.25,6,840.75,null,"NA",null,"NA",null,"NA",1000,48,1,"UT","UTTS","NRES",27900072,279,45,4,23000,92750,"IHP","Y",25,61500,"N"]
["SL0000301836",1202,"Y","N",16,7,null,"NA",null,"NA","NA","NA",null,"NA",null,"NA",null,"NA",null,"NA",null,"NA",0,7,1,"UT","UTFT1C","NRES",92900001,929,45,4,0,0,"HP","Y",125,310000000,"Y"]
["SL0000302072",1207,"N","N",2,110,null,"NA",null,"NA","NA","NA",null,"NA",null,"NA",null,"NA",null,"NA",null,"NA",0,110,1,"UT","UTFS","NRES",27400323,274,45,4,11000,44350,"HP","Y",125,104100,"N"]
["SL0000303004",1211,"N","N",4,389,null,"NA",null,"NA","NA","NA",null,"NA",null,"NA",null,"NA",null,"NA",null,"NA",0,389,1,"UT","UTTS","NRES",23400062,234,45,4,11000,44352,"HP","Y",125,104104,"N"]
["SL0000304258",1216,"N","N",6,58,null,"NA",null,"NA","NA","NA",null,"NA",null,"NA",null,"NA",null,"NA",null,"NA",0,58,1,"UT","UTTS","NRES",31000005,310,45,4,60000,244286,"HP","Y",125,582000,"Y"]
["SL0000305231",1219,"N","Y",2,222,null,"NA",null,"NA","NA","NA",null,"NA",null,"NA",null,"NA",null,"NA",null,"NA",0,222,2,"UT","UTTS","NRES",27300417,273,45,4,7000,28250,"HP","Y",125,66200,"Y"]
["SL0000305375",1221,"N","N",4,15,null,"NA",null,"NA","NA","NA",null,"NA",null,"NA",null,"NA",null,"NA",null,"NA",0,15,1,"UT","UTTS","NRES",21400027,214,45,4,18000,72000,"HP","Y",125,170000,"Y"]
["SL0000305828",1226,"N","N",4,487,null,"NA",null,"NA","NA","NA",null,"NA",null,"NA",null,"NA",null,"NA",null,"NA",0,487,1,"UT","UTTS","NRES",27500085,275,45,4,16000,64550,"HP","Y",125,151400,"N"]
["SL0000305883",1228,"N","Y",4,6,null,"NA",null,"NA","NA","NA",null,"NA",null,"NA",null,"NA",null,"NA",null,"NA",0,6,2,"UT","UTTS","NRES",31300013,313,45,4,30000,121714,"HP","Y",125,290000,"Y"]
["SL0000306529",1231,"N","N",3,1,null,"NA",null,"NA","NA","NA",null,"NA",null,"NA",null,"NA",null,"NA",null,"NA",0,1,1,"UT","UTFS","NRES",27300435,273,45,4,7000,28250,"HP","Y",125,66200,"N"]
["SL0000308368",1236,"Y","N",6,24,null,"NA",null,"NA","NA","NA",null,"NA",null,"NA",null,"NA",null,"NA",null,"NA",0,24,1,"UT","UTTS","NRES",25200003,252,45,4,18000,0,"HP","Y",125,173000,"N"]
["SL0000308928",1240,"N","N",4,1,null,"NA",null,"NA","NA","NA",null,"NA",null,"NA",null,"NA",null,"NA",null,"NA",0,1,1,"UT","UTTS","NRES",28100275,281,45,4,3500,14107,"HP","Y",125,33123,"N"]
["SL0000309781",1245,"N","N",4,84,1.25,95,null,"NA","NA","NA",null,"NA",null,"NA",null,"NA",null,"NA",null,"NA",0,179,1,"UT","UTTS","NRES",27900057,279,45,4,23000,92750,"HP","Y",125,217700,"N"]
["SL0000309981",1246,"N","N",2,2,null,"NA",null,"NA","NA","NA",null,"NA",null,"NA",null,"NA",null,"NA",null,"NA",0,2,1,"UT","UTTS","NRES",27300238,273,45,4,7000,28250,"HP","Y",125,66200,"N"]
["SL0000311090",1252,"N","N",4,1,null,"NA",null,"NA","NA","NA",null,"NA",null,"NA",null,"NA",null,"NA",null,"NA",0,1,1,"UT","UTTS","NRES",28300089,283,45,4,7000,28214,"HP","Y",125,66246,"N"]
["SL0000311148",1255,"N","N",3,14,null,"NA",null,"NA","NA","NA",null,"NA",null,"NA",null,"NA",null,"NA",null,"NA",0,14,1,"UT","UTTS","NRES",23400124,234,45,4,11000,44352,"HP","Y",125,104104,"Y"]
["SL0000311492",1260,"N","N",3,1,null,"NA",null,"NA","NA","NA",null,"NA",null,"NA",null,"NA",null,"NA",null,"NA",0,1,1,"UT","UTIS","NRES",23300031,233,45,4,7000,28224,"HP","Y",125,66248,"N"]
["SL0000311819",1262,"N","N",0.75,88,null,"NA",null,"NA","NA","NA",2,392.23,3,245,4,362.77,null,"NA",null,"NA",1000,88,2,"UT","UTTS","NRES",23600055,236,45,4,23000,80640,"IHP","Y",25,53500,"Y"]
["SL0000311992",1265,"N","N",3,14,4,44,null,"NA","NA","NA",2,216.74,4,613.51,6,169.74,null,"NA",null,"NA",999.99,58,5,"UT","UTFS","NRES",27300122,273,45,4,7000,28250,"IHP","Y",25,18700,"N"]
["SL0000313116",1270,"N","N",0.75,35,null,"NA",null,"NA","NA","NA",2,1000,null,"NA",null,"NA",null,"NA",null,"NA",1000,35,28,"UT","UTGS","RES",36042611,360,0.25,1,250,320,"IHP","N",0.25,320,"Y"]
["SL0000313316",1274,"Y","N",0.5,30,null,"NA",null,"NA","NA","NA",2,130,1.25,870,null,"NA",null,"NA",null,"NA",1000,30,10,"UT","UTGS","RES",12767286,127,0.25,1,250,320,"IHP","N",0.25,320,"Y"]
["SL0000313362",1275,"N","N",0.5,65,null,"NA",null,"NA","NA","NA",2,187.11,6,794.33,1.25,18.559999999999999,null,"NA",null,"NA",1000,65,15,"UT","UTGS","RES",46040563,460,0.25,1,250,320,"IHP","N",0.25,320,"Y"]
["SL0000314257",1280,"N","N",0.5,40,null,"NA",null,"NA","NA","NA",2,671.52,3,227.93,1.25,100.55,null,"NA",null,"NA",1000,40,17,"UT","UTGS","RES",16000495,160,0.25,1,250,320,"IHP","N",0.25,320,"Y"]
["SL0000314409",1283,"N","N",0.75,2,null,"NA",null,"NA","NA","NA",2,78.98,4,647.52,6,34.979999999999997,1.25,238.52,null,"NA",1000,2,17,"UT","UTGS","RES",36058912,360,0.25,1,250,320,"IHP","N",0.25,320,"Y"]
["SL0000315474",1289,"N","N",0.5,32,null,"NA",null,"NA","NA","NA",2,113.93,3,746.17,4,139.9,null,"NA",null,"NA",1000,32,13,"UT","UTGS","NRES",26099067,260,0.25,1,250,320,"IHP","N",0.25,320,"Y"]
["SL0000315606",1290,"N","N",0.5,38,null,"NA",null,"NA","NA","NA",2,1000,null,"NA",null,"NA",null,"NA",null,"NA",1000,38,7,"UT","UTGS","RES",46132627,461,0.25,1,250,320,"IHP","N",0.25,320,"Y"]
["SL0000316257",1295,"Y","N",0.75,61,null,"NA",null,"NA","NA","NA",2,760.69,6,239.31,null,"NA",null,"NA",null,"NA",1000,61,4,"UT","UTGS","NRES",26123549,261,2,1,250,550,"IHP","N",2,550,"Y"]
["SL0000316839",1299,"N","Y",0.75,72,null,"NA",null,"NA","NA","NA",2,998,1.25,2,null,"NA",null,"NA",null,"NA",1000,72,18,"UT","UTGS","RES",36171619,361,2,1,250,550,"IHP","N",2,550,"Y"]
["SL0000317713",1304,"N","N",0.5,39,null,"NA",null,"NA","NA","NA",2,1000,null,"NA",null,"NA",null,"NA",null,"NA",1000,39,17,"UT","UTGS","RES",26016871,260,0.25,1,250,320,"IHP","N",0.25,320,"Y"]
["SL0000317981",1305,"N","N",0.75,8,null,"NA",null,"NA","NA","NA",2,669.88,1.25,330.12,null,"NA",null,"NA",null,"NA",1000,8,13,"UT","UTGS","RES",36041349,360,0.25,1,250,320,"IHP","N",0.25,320,"Y"]
["SL0000318750",1309,"N","Y",0.75,49,null,"NA",null,"NA","NA","NA",2,1000,null,"NA",null,"NA",null,"NA",null,"NA",1000,49,17,"UT","UTGS","RES",46131136,461,0.25,1,250,320,"IHP","N",0.25,320,"Y"]
["SL0000319880",1314,"N","N",0.75,45,null,"NA",null,"NA","NA","NA",2,1000,null,"NA",null,"NA",null,"NA",null,"NA",1000,45,4,"UT","UTGS","RES",760090091,760,0.25,1,0,320,"IHP","N",0.25,320,"Y"]
["SL0000320435",1319,"N","N",0.5,67,null,"NA",null,"NA","NA","NA",2,743.19,1.25,256.81,null,"NA",null,"NA",null,"NA",1000,67,7,"UT","UTGS","RES",46092334,460,0.25,1,250,320,"IHP","N",0.25,320,"Y"]
["SL0000320588",1321,"Y","N",0.5,68,null,"NA",null,"NA","NA","NA",2,528,3,472,null,"NA",null,"NA",null,"NA",1000,68,15,"UT","UTGS","RES",36152554,361,0.25,1,250,320,"IHP","N",0.25,320,"Y"]
["SL0000320998",1324,"N","N",0.75,74,null,"NA",null,"NA","NA","NA",2,847,4,153,null,"NA",null,"NA",null,"NA",1000,74,19,"UT","UTGS","RES",46127260,461,0.25,1,250,320,"IHP","N",0.25,320,"Y"]
["SL0000321422",1329,"N","N",0.5,30,null,"NA",null,"NA","NA","NA",2,1000,null,"NA",null,"NA",null,"NA",null,"NA",1000,30,16,"UT","UTGS","RES",36018357,360,0.25,1,250,320,"IHP","N",0.25,320,"Y"]
["SL0000322199",1333,"N","N",0.5,46,null,"NA",null,"NA","NA","NA",2,1000,null,"NA",null,"NA",null,"NA",null,"NA",1000,46,5,"UT","UTGS","RES",16028904,160,0.25,1,250,320,"IHP","N",0.25,320,"Y"]
["SL0000322530",1334,"N","N",0.5,54,null,"NA",null,"NA","NA","NA",2,1000,null,"NA",null,"NA",null,"NA",null,"NA",1000,54,9,"UT","UTGS","RES",760076241,760,0.25,1,0,320,"IHP","N",0.25,320,"Y"]
["SL0000323985",1339,"N","N",1.25,119,null,"NA",null,"NA","NA","NA",3,792,4,208,null,"NA",null,"NA",null,"NA",1000,119,5,"UT","UTGS","NRES",11500615,115,0.25,2,1000,1000,"IHP","N",0.25,1000,"Y"]
["SL0000324652",1342,"N","N",1.25,130,null,"NA",null,"NA","NA","NA",4,1000,null,"NA",null,"NA",null,"NA",null,"NA",1000,130,6,"UT","UTGS","NRES",26033260,260,2,1,250,550,"IHP","N",2,550,"Y"]
["SL0000326308",1348,"N","N",0.5,12,null,"NA",null,"NA","NA","NA",2,999.59,4,0.41,null,"NA",null,"NA",null,"NA",1000,12,18,"UT","UTGS","RES",26000424,260,0.25,1,250,320,"IHP","N",0.25,320,"Y"]
["SL0000326336",1349,"N","N",0.5,49,null,"NA",null,"NA","NA","NA",2,1000,null,"NA",null,"NA",null,"NA",null,"NA",1000,49,9,"UT","UTGS","RES",36062186,360,0.25,1,250,320,"IHP","N",0.25,320,"Y"]
["SL0000327147",1354,"N","Y",0.75,10,null,"NA",null,"NA","NA","NA",2,748.88,4,251.12,null,"NA",null,"NA",null,"NA",1000,10,13,"UT","UTGS","RES",760006605,760,0.25,1,0,320,"IHP","N",0.25,320,"Y"]
["SL0000327746",1358,"N","N",0.75,33,null,"NA",null,"NA","NA","NA",2,1000,null,"NA",null,"NA",null,"NA",null,"NA",1000,33,7,"UT","UTGS","RES",26113476,261,0.25,1,250,320,"IHP","N",0.25,320,"Y"]
["SL0000328737",1363,"N","N",0.75,133,null,"NA",null,"NA","NA","NA",2,126.2,4,873.8,null,"NA",null,"NA",null,"NA",1000,133,4,"UT","UTGS","RES",26018819,260,2,1,250,550,"IHP","N",2,550,"Y"]
["SL0000329288",1366,"Y","N",0.5,26,null,"NA",null,"NA","NA","NA",2,1000,null,"NA",null,"NA",null,"NA",null,"NA",1000,26,7,"UT","UTGS","RES",26176868,261,0.25,1,250,320,"IHP","N",0.25,320,"Y"]
["SL0000329671",1368,"N","N",0.75,26,null,"NA",null,"NA","NA","NA",2,805.06,6,194.94,null,"NA",null,"NA",null,"NA",1000,26,20,"UT","UTGS","RES",36028941,360,0.25,1,250,320,"IHP","N",0.25,320,"Y"]
["SL0000330743",1373,"N","N",0.5,81,null,"NA",null,"NA","NA","NA",2,1000,null,"NA",null,"NA",null,"NA",null,"NA",1000,81,19,"UT","UTGS","RES",25902992,259,2,2,400,955,"IHP","N",2,955,"Y"]
["SL0000331146",1375,"N","N",0.5,30,null,"NA",null,"NA","NA","NA",2,748.96,4,251.04,null,"NA",null,"NA",null,"NA",1000,30,8,"UT","UTGS","RES",36177755,361,0.25,1,250,320,"IHP","N",0.25,320,"Y"]
["SL0000331576",1378,"N","N",0.75,23,null,"NA",null,"NA","NA","NA",2,914,0.75,86,null,"NA",null,"NA",null,"NA",1000,23,9,"UT","UTGS","RES",16098401,160,0.25,1,250,320,"IHP","N",0.25,320,"Y"]
["SL0000332534",1383,"N","N",0.75,50,null,"NA",null,"NA","NA","NA",2,860,0.75,140,null,"NA",null,"NA",null,"NA",1000,50,13,"UT","UTGS","RES",46080513,460,0.25,1,250,320,"IHP","N",0.25,320,"Y"]
["SL0000333726",1388,"N","N",2,26,null,"NA",null,"NA","NA","NA",2,112.12,4,887.88,null,"NA",null,"NA",null,"NA",1000,26,15,"UT","UTGS","RES",46041292,460,0.25,1,250,320,"IHP","N",0.25,320,"Y"]
["SL0000334228",1392,"N","Y",1.25,2,null,"NA",null,"NA","NA","NA",2,285.5,4,714.5,null,"NA",null,"NA",null,"NA",1000,2,11,"UT","UTGS","RES",36164030,361,2,1,250,550,"IHP","N",2,550,"Y"]
["SL0000334238",1393,"N","N",0.5,47,null,"NA",null,"NA","NA","NA",2,691.91,4,308.08999999999997,null,"NA",null,"NA",null,"NA",1000,47,16,"UT","UTGS","RES",12750272,127,0.25,1,250,320,"IHP","N",0.25,320,"Y"]
["SL0000334446",1398,"N","N",0.5,99,null,"NA",null,"NA","NA","NA",2,1000,null,"NA",null,"NA",null,"NA",null,"NA",1000,99,31,"UT","UTGS","RES",11154354,111,0.25,1,250,306,"IHP","N",0.25,306,"Y"]
["SL0000334712",1401,"Y","N",0.75,39,null,"NA",null,"NA","NA","NA",2,1000,null,"NA",null,"NA",null,"NA",null,"NA",1000,39,21,"UT","UTGS","RES",26014020,260,0.25,1,250,320,"IHP","N",0.25,320,"Y"]
["SL0000335544",1407,"N","N",0.5,45,null,"NA",null,"NA","NA","NA",2,1000,null,"NA",null,"NA",null,"NA",null,"NA",1000,45,6,"UT","UTGS","RES",36144571,361,0.25,1,250,320,"IHP","N",0.25,320,"Y"]
["SL0000335649",1408,"N","N",0.5,94,null,"NA",null,"NA","NA","NA",2,1000,null,"NA",null,"NA",null,"NA",null,"NA",1000,94,21,"UT","UTGS","RES",12712401,127,0.25,1,250,320,"IHP","N",0.25,320,"Y"]
["SL0000336754",1413,"N","N",0.75,58,null,"NA",null,"NA","NA","NA",2,1000,null,"NA",null,"NA",null,"NA",null,"NA",1000,58,8,"UT","UTGS","RES",760065121,760,2,1,0,550,"IHP","N",2,550,"Y"]
["SL0000337441",1417,"N","N",0.75,39,null,"NA",null,"NA","NA","NA",2,844.9,0.75,155.1,null,"NA",null,"NA",null,"NA",1000,39,18,"UT","UTGS","RES",12656586,126,0.25,1,250,175,"IHP","N",0.25,175,"Y"]
["SL0000339853",1422,"N","N",0.75,17,null,"NA",null,"NA","NA","NA",2,1000,null,"NA",null,"NA",null,"NA",null,"NA",1000,17,3,"UT","UTGS","RES",16055392,160,0.25,1,250,320,"IHP","N",0.25,320,"Y"]
["SL0000339951",1425,"N","N",0.625,78,null,"NA",null,"NA","NA","NA",1,165.41,2,418.59,1.25,416,null,"NA",null,"NA",1000,78,21,"UT","UTGS","RES",760089427,760,0.25,1,0,320,"IHP","N",0.25,320,"Y"]
["SL0000340117",1427,"N","N",0.75,72,null,"NA",null,"NA","NA","NA",2,1000,null,"NA",null,"NA",null,"NA",null,"NA",1000,72,29,"UT","UTGS","RES",12626760,126,0.25,1,250,175,"IHP","N",0.25,175,"Y"]
["SL0000341342",1432,"N","N",0.75,64,null,"NA",null,"NA","NA","NA",2,1000,null,"NA",null,"NA",null,"NA",null,"NA",1000,64,11,"UT","UTGS","RES",760092455,760,2,1,0,550,"IHP","N",2,550,"Y"]
["SL0000342079",1435,"N","N",0.75,96,null,"NA",null,"NA","NA","NA",3,965.67,1.25,34.33,null,"NA",null,"NA",null,"NA",1000,96,17,"UT","UTGS","RES",21134698,211,0.25,1,250,306,"IHP","N",0.25,306,"Y"]
["SL0000342690",1437,"Y","N",0.5,29,null,"NA",null,"NA","NA","NA",2,999.47,null,"NA",null,"NA",null,"NA",null,"NA",999.47,29,21,"UT","UTGS","RES",36137544,361,0.25,1,250,320,"IHP","N",0.25,320,"Y"]
["SL0000343424",1442,"N","N",0.5,39,null,"NA",null,"NA","NA","NA",2,19.36,1.25,980.64,null,"NA",null,"NA",null,"NA",1000,39,11,"UT","UTGS","RES",46096029,460,0.25,1,250,320,"IHP","N",0.25,320,"Y"]
["SL0000344247",1447,"N","N",0.75,38,null,"NA",null,"NA","NA","NA",2,1000,null,"NA",null,"NA",null,"NA",null,"NA",1000,38,3,"UT","UTGS","RES",760078566,760,0.25,1,0,320,"IHP","N",0.25,320,"Y"]
["SL0000345525",1451,"N","N",0.5,35,null,"NA",null,"NA","NA","NA",2,1000,null,"NA",null,"NA",null,"NA",null,"NA",1000,35,24,"UT","UTGS","RES",46061388,460,0.25,1,250,320,"IHP","N",0.25,320,"Y"]
["SL0000345622",1452,"N","N",0.5,36,null,"NA",null,"NA","NA","NA",2,907.85,1.25,92.15,null,"NA",null,"NA",null,"NA",1000,36,11,"UT","UTGS","RES",36089769,360,0.25,1,250,320,"IHP","N",0.25,320,"Y"]
["SL0000346200",1456,"N","N",0.5,41,null,"NA",null,"NA","NA","NA",2,1000,null,"NA",null,"NA",null,"NA",null,"NA",1000,41,9,"UT","UTGS","RES",46125815,461,0.25,1,250,320,"IHP","N",0.25,320,"Y"]
["SL0000366404",1461,"Y","N",0.5,48,null,"NA",null,"NA","NA","NA",2,1000,null,"NA",null,"NA",null,"NA",null,"NA",1000,48,8,"UT","UTGS","RES",12713031,127,0.25,1,250,320,"IHP","N",0.25,320,"Y"]
["SL0000367704",1466,"N","N",0.5,38,null,"NA",null,"NA","NA","NA",2,783.58,3,19.920000000000002,4,40.840000000000003,0.75,155.66,null,"NA",1000,38,10,"UT","UTGS","RES",12767734,127,0.25,1,250,320,"IHP","N",0.25,320,"Y"]
["SL0000368126",1468,"N","N",1.25,73,null,"NA",null,"NA","NA","NA",2,215.6,4,784.4,null,"NA",null,"NA",null,"NA",1000,73,5,"UT","UTGS","NRES",22004341,220,2,2,400,930,"IHP","N",2,930,"Y"]
["SL0000368171",1471,"N","N",0.75,76,null,"NA",null,"NA","NA","NA",2,768,4,232,null,"NA",null,"NA",null,"NA",1000,76,17,"UT","UTGS","RES",46031688,460,0.25,1,250,320,"IHP","N",0.25,320,"Y"]
["SL0000369152",1476,"N","N",0.75,62,null,"NA",null,"NA","NA","NA",2,944.65,1.25,55.35,null,"NA",null,"NA",null,"NA",1000,62,17,"UT","UTGS","RES",26002615,260,0.25,1,250,320,"IHP","N",0.25,320,"Y"]
["SL0000369614",1480,"Y","N",1.25,122,null,"NA",null,"NA","NA","NA",4,1000,null,"NA",null,"NA",null,"NA",null,"NA",1000,122,3,"UT","UTGS","NRES",28100189,281,2,2,3500,3897,"IHP","N",2,3897,"Y"]
["SL0000369624",1481,"Y","N",0.75,35,null,"NA",null,"NA","NA","NA",2,43.12,4,956.88,null,"NA",null,"NA",null,"NA",1000,35,6,"UT","UTGS","RES",36110620,361,0.25,1,250,320,"IHP","N",0.25,320,"Y"]
["SL0000370732",1486,"N","N",0.5,33,null,"NA",null,"NA","NA","NA",2,684.52,1.25,315.48,null,"NA",null,"NA",null,"NA",1000,33,20,"UT","UTGS","RES",36016328,360,0.25,1,250,320,"IHP","N",0.25,320,"Y"]
["SL0000372184",1489,"N","N",0.5,39,null,"NA",null,"NA","NA","NA",2,1000,null,"NA",null,"NA",null,"NA",null,"NA",1000,39,20,"UT","UTGS","RES",26043400,260,0.25,1,250,320,"IHP","N",0.25,320,"Y"]
["SL0000374658",1495,"N","N",0.5,16,null,"NA",null,"NA","NA","NA",2,1000,null,"NA",null,"NA",null,"NA",null,"NA",1000,16,12,"UT","UTGS","RES",760006116,760,0.25,1,0,320,"IHP","N",0.25,320,"Y"]
["SL0000374947",1496,"N","Y",0.5,74,0.75,49,null,"NA","NA","NA",2,1000,null,"NA",null,"NA",null,"NA",null,"NA",1000,123,16,"UT","UTGS","RES",760037066,760,0.25,1,0,320,"IHP","N",0.25,320,"Y"]
["SL0000375495",1501,"N","Y",0.5,28,null,"NA",null,"NA","NA","NA",2,937.74,1.25,62.26,null,"NA",null,"NA",null,"NA",1000,28,15,"UT","UTGS","RES",36055360,360,0.25,1,250,320,"IHP","N",0.25,320,"Y"]
["SL0000375970",1506,"N","N",0.75,66,null,"NA",null,"NA","NA","NA",2,313.5,4,686.5,null,"NA",null,"NA",null,"NA",1000,66,11,"UT","UTGS","RES",11154986,111,0.25,1,250,306,"IHP","N",0.25,306,"Y"]
["SL0000376550",1510,"Y","N",0.75,38,null,"NA",null,"NA","NA","NA",2,898.91,3,101.09,null,"NA",null,"NA",null,"NA",1000,38,19,"UT","UTGS","RES",11124016,111,0.25,1,250,306,"IHP","N",0.25,306,"Y"]
["SL0000376552",1511,"N","N",0.5,67,null,"NA",null,"NA","NA","NA",2,370,1.25,630,null,"NA",null,"NA",null,"NA",1000,67,21,"UT","UTGS","RES",36087508,360,0.25,1,250,320,"IHP","N",0.25,320,"Y"]
["SL0000376840",1515,"N","N",0.75,93,null,"NA",null,"NA","NA","NA",2,1000,null,"NA",null,"NA",null,"NA",null,"NA",1000,93,14,"UT","UTGS","RES",36187161,361,0.25,1,250,320,"IHP","N",0.25,320,"Y"]
["SL0000377433",1520,"Y","N",0.75,96,null,"NA",null,"NA","NA","NA",2,375.75,3,624.25,null,"NA",null,"NA",null,"NA",1000,96,16,"UT","UTGS","RES",46074947,460,0.25,1,250,320,"IHP","N",0.25,320,"Y"]
["SL0000378350",1525,"N","Y",0.75,138,null,"NA",null,"NA","NA","NA",2,112.19,10,887.81,null,"NA",null,"NA",null,"NA",1000,138,6,"UT","UTGS","NRES",26061654,260,0.25,1,250,320,"IHP","N",0.25,320,"Y"]
["SL0000378981",1527,"N","N",0.75,74,null,"NA",null,"NA","NA","NA",2,1000,null,"NA",null,"NA",null,"NA",null,"NA",1000,74,15,"UT","UTGS","RES",36112972,361,0.25,1,250,320,"IHP","N",0.25,320,"Y"]
["SL0000379199",1530,"N","N",0.75,16,null,"NA",null,"NA","NA","NA",2,896.62,0.75,103.38,null,"NA",null,"NA",null,"NA",1000,16,7,"UT","UTGS","RES",760090539,760,2,1,0,550,"IHP","N",2,550,"Y"]
["SL0000405895",1535,"N","N",0.5,47,null,"NA",null,"NA","NA","NA",2,1000,null,"NA",null,"NA",null,"NA",null,"NA",1000,47,10,"UT","UTGS","RES",26123103,261,0.25,1,250,320,"IHP","N",0.25,320,"Y"]
["SL0000408375",1539,"N","N",0.5,87,null,"NA",null,"NA","NA","NA",2,647.80999999999995,4,352.19,null,"NA",null,"NA",null,"NA",1000,87,14,"UT","UTGS","RES",36124607,361,0.25,1,250,320,"IHP","N",0.25,320,"Y"]
["SL0000408549",1540,"N","N",0.75,26,null,"NA",null,"NA","NA","NA",2,1000,null,"NA",null,"NA",null,"NA",null,"NA",1000,26,8,"UT","UTGS","RES",46143720,461,0.25,1,250,320,"IHP","N",0.25,320,"Y"]
["SL0000412018",1545,"N","N",0.5,27,null,"NA",null,"NA","NA","NA",2,1000,null,"NA",null,"NA",null,"NA",null,"NA",1000,27,9,"UT","UTGS","RES",21121490,211,0.25,1,250,306,"IHP","N",0.25,306,"Y"]
["SL0000413481",1548,"N","N",0.5,40,null,"NA",null,"NA","NA","NA",2,743.14,0.75,256.86,null,"NA",null,"NA",null,"NA",1000,40,14,"UT","UTGS","RES",12775859,127,0.25,1,250,320,"IHP","N",0.25,320,"Y"]
["SL0000415278",1554,"N","N",0.75,132,null,"NA",null,"NA","NA","NA",2,1000,null,"NA",null,"NA",null,"NA",null,"NA",1000,132,12,"UT","UTGS","RES",15600234,156,0.25,2,1400,1400,"IHP","N",0.25,1400,"Y"]
["SL0000416040",1555,"N","N",0.75,50,null,"NA",null,"NA","NA","NA",0.75,574,1.25,426,null,"NA",null,"NA",null,"NA",1000,50,7,"UT","UTGS","RES",760017421,760,0.25,1,0,320,"IHP","N",0.25,320,"Y"]
["SL0000417674",1561,"N","N",0.75,259,null,"NA",null,"NA","NA","NA",2,1000,null,"NA",null,"NA",null,"NA",null,"NA",1000,259,2,"UT","UTGS","RES",46137435,461,0.25,1,250,320,"IHP","N",0.25,320,"Y"]
["SL0000421066",1564,"N","N",0.5,41,null,"NA",null,"NA","NA","NA",2,1000,null,"NA",null,"NA",null,"NA",null,"NA",1000,41,19,"UT","UTGS","RES",26049573,260,0.25,1,250,320,"IHP","N",0.25,320,"Y"]
["SL0000424668",1569,"N","N",0.5,51,null,"NA",null,"NA","NA","NA",2,1000,null,"NA",null,"NA",null,"NA",null,"NA",1000,51,8,"ID","IDGS","RES",26076928,260,0.25,1,250,320,"IHP","N",0.25,320,"Y"]
["SL0000424684",1570,"N","N",0.75,29,null,"NA",null,"NA","NA","NA",2,1000,null,"NA",null,"NA",null,"NA",null,"NA",1000,29,10,"UT","UTGS","RES",46071960,460,0.25,1,250,320,"IHP","N",0.25,320,"Y"]
["SL0000425858",1574,"N","N",0.75,71,null,"NA",null,"NA","NA","NA",2,747.43,4,252.57,null,"NA",null,"NA",null,"NA",1000,71,12,"UT","UTGS","RES",26086955,260,0.25,1,250,320,"IHP","N",0.25,320,"Y"]
["SL0000427617",1579,"N","N",0.5,23,null,"NA",null,"NA","NA","NA",2,1000,null,"NA",null,"NA",null,"NA",null,"NA",1000,23,10,"UT","UTGS","RES",36195023,361,0.25,1,250,320,"IHP","N",0.25,320,"Y"]
["SL0000429246",1582,"N","N",0.75,55,null,"NA",null,"NA","NA","NA",2,1000,null,"NA",null,"NA",null,"NA",null,"NA",1000,55,6,"UT","UTGS","RES",760068121,760,0.25,1,0,320,"IHP","N",0.25,320,"Y"]
["SL0000430409",1584,"N","N",0.5,33,null,"NA",null,"NA","NA","NA",2,985.89,1.25,14.11,null,"NA",null,"NA",null,"NA",1000,33,18,"UT","UTGS","RES",26034693,260,0.25,1,250,320,"IHP","N",0.25,320,"Y"]
["SL0000431714",1589,"N","N",0.5,19,null,"NA",null,"NA","NA","NA",2,658.6,0.75,341.4,null,"NA",null,"NA",null,"NA",1000,19,9,"UT","UTGS","RES",11185694,111,0.25,1,250,306,"IHP","N",0.25,306,"Y"]
["SL0000433231",1594,"N","N",0.5,60,null,"NA",null,"NA","NA","NA",2,897.99,4,102.01,null,"NA",null,"NA",null,"NA",1000,60,10,"UT","UTGS","RES",36162760,361,0.25,1,250,320,"IHP","N",0.25,320,"Y"]
["SL0000434559",1598,"N","N",0.75,99,null,"NA",null,"NA","NA","NA",2,634,null,"NA",null,"NA",null,"NA",null,"NA",634,99,4,"UT","UTGS","NRES",759001537,759,0.25,1,0,540,"IHP","N",0.25,540,"Y"]
["SL0000434733",1599,"N","N",0.5,37,null,"NA",null,"NA","NA","NA",2,914,1.25,86,null,"NA",null,"NA",null,"NA",1000,37,13,"UT","UTGS","RES",36086279,360,0.25,1,250,320,"IHP","N",0.25,320,"Y"]
["SL0000437094",1604,"N","N",0.5,40,null,"NA",null,"NA","NA","NA",2,1000,null,"NA",null,"NA",null,"NA",null,"NA",1000,40,21,"UT","UTGS","RES",25916965,259,0.25,1,400,540,"IHP","N",0.25,540,"Y"]
["SL0000439342",1608,"N","Y",0.75,72,null,"NA",null,"NA","NA","NA",2,454.52,4,545.48,null,"NA",null,"NA",null,"NA",1000,72,14,"UT","UTGS","RES",46114942,461,0.25,1,250,320,"IHP","N",0.25,320,"Y"]
["SL0000441421",1613,"N","N",0.5,45,null,"NA",null,"NA","NA","NA",2,950.88,1.25,49.12,null,"NA",null,"NA",null,"NA",1000,45,11,"UT","UTGS","RES",12719949,127,0.25,1,250,320,"IHP","N",0.25,320,"Y"]
["SL0000441689",1614,"N","N",0.5,50,null,"NA",null,"NA","NA","NA",2,1000,null,"NA",null,"NA",null,"NA",null,"NA",1000,50,18,"UT","UTGS","RES",12669810,126,0.25,1,250,175,"IHP","N",0.25,175,"Y"]
["SL0000443199",1620,"N","N",0.5,29,null,"NA",null,"NA","NA","NA",2,800.27,0.75,121,1.25,78.73,null,"NA",null,"NA",1000,29,10,"UT","UTGS","RES",36045116,360,0.25,1,250,320,"IHP","N",0.25,320,"Y"]
["SL0000443857",1623,"N","N",0.75,3,null,"NA",null,"NA","NA","NA",2,1000,null,"NA",null,"NA",null,"NA",null,"NA",1000,3,10,"UT","UTGS","NRES",16057282,160,2,1,250,550,"IHP","N",2,550,"Y"]
["SL0000446536",1628,"N","N",0.75,54,null,"NA",null,"NA","NA","NA",2,71.36,4,224.72,8,703.92,null,"NA",null,"NA",1000,54,11,"UT","UTGS","RES",46083406,460,0.25,1,250,320,"IHP","N",0.25,320,"Y"]
["SL0000447460",1629,"N","N",0.5,54,null,"NA",null,"NA","NA","NA",2,952,1.25,48,null,"NA",null,"NA",null,"NA",1000,54,7,"UT","UTGS","RES",46007324,460,0.25,1,250,320,"IHP","N",0.25,320,"Y"]
["SL0000449325",1633,"N","N",1.25,49,null,"NA",null,"NA","NA","NA",2,736.94,3,263.06,null,"NA",null,"NA",null,"NA",1000,49,10,"UT","UTGS","RES",26082163,260,0.25,1,250,320,"IHP","N",0.25,320,"Y"]
["SL0000450317",1638,"N","N",0.75,47,null,"NA",null,"NA","NA","NA",2,1000,null,"NA",null,"NA",null,"NA",null,"NA",1000,47,28,"UT","UTGS","RES",16093754,160,0.25,1,250,320,"IHP","N",0.25,320,"Y"]
["SL0000451446",1641,"N","N",0.5,33,null,"NA",null,"NA","NA","NA",2,434.92,4,470.72,0.75,57,1.25,37.36,null,"NA",1000,33,10,"UT","UTGS","RES",26018735,260,0.25,1,250,320,"IHP","N",0.25,320,"Y"]
["SL0000452048",1643,"N","Y",0.5,71,null,"NA",null,"NA","NA","NA",2,849.75,0.75,150.25,null,"NA",null,"NA",null,"NA",1000,71,17,"UT","UTGS","RES",36088099,360,0.25,1,250,320,"IHP","N",0.25,320,"Y"]
["SL0000453191",1648,"N","N",0.5,233,null,"NA",null,"NA","NA","NA",2,1000,null,"NA",null,"NA",null,"NA",null,"NA",1000,233,6,"UT","UTGS","RES",46066070,460,0.25,1,250,320,"IHP","N",0.25,320,"Y"]
["SL0000454802",1653,"Y","N",0.5,50,null,"NA",null,"NA","NA","NA",2,577,1.25,423,null,"NA",null,"NA",null,"NA",1000,50,19,"UT","UTGS","RES",16093218,160,0.25,1,250,320,"IHP","N",0.25,320,"Y"]
["SL0000458465",1657,"N","N",0.5,46,null,"NA",null,"NA","NA","NA",2,1000,null,"NA",null,"NA",null,"NA",null,"NA",1000,46,7,"UT","UTGS","RES",12663889,126,2,1,250,500,"IHP","N",2,500,"Y"]
["SL0000458673",1658,"N","N",1.25,218,null,"NA",null,"NA","NA","NA",2,1000,null,"NA",null,"NA",null,"NA",null,"NA",1000,218,6,"UT","UTGS","NRES",760060421,760,0.25,1,0,320,"IHP","N",0.25,320,"Y"]
["SL0000460629",1662,"N","N",0.5,62,null,"NA",null,"NA","NA","NA",2,62,4,938,null,"NA",null,"NA",null,"NA",1000,62,5,"UT","UTGS","RES",25916197,259,0.25,1,400,540,"IHP","N",0.25,540,"Y"]
["SL0000462571",1667,"N","N",0.5,54,null,"NA",null,"NA","NA","NA",2,947,0.75,53,null,"NA",null,"NA",null,"NA",1000,54,13,"UT","UTGS","RES",46100814,461,0.25,1,250,320,"IHP","N",0.25,320,"Y"]
["SL0000463580",1672,"N","N",0.5,3,null,"NA",null,"NA","NA","NA",2,633.08000000000004,3,366.92,null,"NA",null,"NA",null,"NA",1000,3,25,"UT","UTGS","RES",46146952,461,0.25,1,250,320,"IHP","N",0.25,320,"Y"]
["SL0000463853",1674,"N","Y",1.25,227,null,"NA",null,"NA","NA","NA",2,137.9,4,862.1,null,"NA",null,"NA",null,"NA",1000,227,6,"UT","UTGS","NRES",36058319,360,2,1,250,550,"IHP","N",2,550,"Y"]
["SL0000464171",1677,"N","N",0.5,107,null,"NA",null,"NA","NA","NA",2,409.58,0.75,567.5,1.25,22.92,null,"NA",null,"NA",1000,107,10,"UT","UTGS","RES",760057115,760,0.25,1,0,320,"IHP","N",0.25,320,"Y"]
["SL0000465112",1682,"N","N",0.75,69,null,"NA",null,"NA","NA","NA",2,1000,null,"NA",null,"NA",null,"NA",null,"NA",1000,69,4,"UT","UTGS","RES",22009055,220,2,2,400,930,"IHP","N",2,930,"Y"]
["SL0000465946",1684,"N","N",0.75,13,null,"NA",null,"NA","NA","NA",2,1000,null,"NA",null,"NA",null,"NA",null,"NA",1000,13,20,"UT","UTGS","RES",36080331,360,2,1,250,550,"IHP","N",2,550,"Y"]
["SL0000466199",1687,"N","Y",0.75,51,null,"NA",null,"NA","NA","NA",2,1000,null,"NA",null,"NA",null,"NA",null,"NA",1000,51,18,"UT","UTGS","RES",36113230,361,0.25,1,250,320,"IHP","N",0.25,320,"Y"]
["SL0000467379",1692,"N","N",0.5,84,null,"NA",null,"NA","NA","NA",2,1000,null,"NA",null,"NA",null,"NA",null,"NA",1000,84,20,"UT","UTGS","RES",36004926,360,0.25,1,250,320,"IHP","N",0.25,320,"Y"]
["SL0000469020",1697,"N","Y",0.5,41,0.75,37,null,"NA","NA","NA",2,1000,null,"NA",null,"NA",null,"NA",null,"NA",1000,78,21,"UT","UTGS","RES",46071568,460,0.25,1,250,320,"IHP","N",0.25,320,"Y"]
["SL0000469978",1700,"N","N",0.5,36,null,"NA",null,"NA","NA","NA",2,996.65,3,1.68,4,1.68,null,"NA",null,"NA",1000.01,36,13,"UT","UTGS","RES",26100586,261,0.25,1,250,320,"IHP","N",0.25,320,"Y"]
["SL0000470741",1702,"N","N",0.75,41,null,"NA",null,"NA","NA","NA",2,611.44000000000005,3,359.72,4,28.84,null,"NA",null,"NA",1000,41,13,"UT","UTGS","RES",46016541,460,0.25,1,250,320,"IHP","N",0.25,320,"Y"]
["SL0000472133",1707,"N","N",0.5,170,null,"NA",null,"NA","NA","NA",4,66.319999999999993,8,933.68,null,"NA",null,"NA",null,"NA",1000,170,3,"UT","UTGS","RES",16077186,160,0.25,1,250,320,"IHP","N",0.25,320,"Y"]
["SL0000474576",1712,"N","N",0.5,30,null,"NA",null,"NA","NA","NA",2,1000,null,"NA",null,"NA",null,"NA",null,"NA",1000,30,21,"UT","UTGS","RES",36000326,360,0.25,1,250,320,"IHP","N",0.25,320,"Y"]
["SL0000551333",1716,"N","N",0.5,23,null,"NA",null,"NA","NA","NA",2,1000,null,"NA",null,"NA",null,"NA",null,"NA",1000,23,8,"UT","UTGS","RES",16064708,160,0.25,1,250,320,"IHP","N",0.25,320,"Y"]
["SL0000551351",1717,"N","N",0.75,41,null,"NA",null,"NA","NA","NA",2,55.49,1.25,944.51,null,"NA",null,"NA",null,"NA",1000,41,8,"UT","UTGS","RES",46087887,460,0.25,1,250,320,"IHP","N",0.25,320,"Y"]
["SL0000552774",1721,"N","Y",0.5,58,0.75,35,null,"NA","NA","NA",2,1000,null,"NA",null,"NA",null,"NA",null,"NA",1000,93,15,"UT","UTGS","RES",21114952,211,0.25,1,250,306,"IHP","N",0.25,306,"Y"]
["SL0000555939",1726,"N","N",0.5,51,null,"NA",null,"NA","NA","NA",2,965.57,1.25,34.43,null,"NA",null,"NA",null,"NA",1000,51,7,"UT","UTGS","RES",36144164,361,0.25,1,250,320,"IHP","N",0.25,320,"Y"]
["SL0000557699",1731,"N","N",0.75,21,null,"NA",null,"NA","NA","NA",2,267,4,71,6,662,null,"NA",null,"NA",1000,21,12,"UT","UTGS","RES",36142734,361,0.25,1,250,320,"IHP","N",0.25,320,"Y"]
["SL0000558211",1734,"N","N",2,1,1.25,28,null,"NA","NA","NA",2,401,4,599,null,"NA",null,"NA",null,"NA",1000,29,4,"UT","UTGS","NRES",760003706,760,2,1,0,550,"IHP","N",2,550,"Y"]
["SL0000558586",1736,"N","N",0.5,23,null,"NA",null,"NA","NA","NA",2,253.73,1.25,746.27,null,"NA",null,"NA",null,"NA",1000,23,9,"UT","UTGS","RES",26167164,261,0.25,1,250,320,"IHP","N",0.25,320,"Y"]
["SL0000559910",1741,"N","N",0.75,113,null,"NA",null,"NA","NA","NA",2,935,0.75,65,null,"NA",null,"NA",null,"NA",1000,113,16,"UT","UTGS","RES",36020274,360,0.25,1,250,320,"IHP","N",0.25,320,"Y"]
["SL0000560044",1743,"N","N",0.5,48,null,"NA",null,"NA","NA","NA",2,1000,null,"NA",null,"NA",null,"NA",null,"NA",1000,48,8,"UT","UTGS","RES",36143076,361,0.25,1,250,320,"IHP","N",0.25,320,"Y"]
["SL0000560685",1746,"N","N",0.75,74,null,"NA",null,"NA","NA","NA",2,1000,null,"NA",null,"NA",null,"NA",null,"NA",1000,74,21,"UT","UTGS","RES",26017035,260,0.25,1,250,320,"IHP","N",0.25,320,"Y"]
["SL0000561132",1751,"N","N",0.5,124,null,"NA",null,"NA","NA","NA",2,1000,null,"NA",null,"NA",null,"NA",null,"NA",1000,124,9,"UT","UTGS","RES",36186282,361,0.25,1,250,320,"IHP","N",0.25,320,"Y"]
["SL0000561141",1755,"N","N",0.75,31,null,"NA",null,"NA","NA","NA",2,223.43,3,776.57,null,"NA",null,"NA",null,"NA",1000,31,13,"UT","UTGS","RES",11168991,111,0.25,1,250,306,"IHP","N",0.25,306,"Y"]
["SL0000561856",1760,"N","N",0.5,68,null,"NA",null,"NA","NA","NA",2,68.37,4,931.63,null,"NA",null,"NA",null,"NA",1000,68,9,"UT","UTGS","RES",11187045,111,0.25,1,250,306,"IHP","N",0.25,306,"Y"]
["SL0000561857",1761,"N","N",0.75,58,null,"NA",null,"NA","NA","NA",2,1000,null,"NA",null,"NA",null,"NA",null,"NA",1000,58,8,"UT","UTGS","RES",36045579,360,0.25,1,250,320,"IHP","N",0.25,320,"Y"]
["SL0000562303",1767,"N","N",0.5,19,null,"NA",null,"NA","NA","NA",2,1000,null,"NA",null,"NA",null,"NA",null,"NA",1000,19,7,"UT","UTGS","RES",11187447,111,0.25,1,250,306,"IHP","N",0.25,306,"Y"]
["SL0000562520",1770,"N","N",0.75,41,null,"NA",null,"NA","NA","NA",2,1000,null,"NA",null,"NA",null,"NA",null,"NA",1000,41,16,"UT","UTGS","RES",22004004,220,2,2,400,930,"IHP","N",2,930,"Y"]
["SL0000563117",1775,"N","N",0.5,116,null,"NA",null,"NA","NA","NA",2,1000,null,"NA",null,"NA",null,"NA",null,"NA",1000,116,28,"UT","UTGS","RES",16088737,160,0.25,1,250,320,"IHP","N",0.25,320,"Y"]
["SL0000563162",1776,"N","N","Unknown",106,null,"NA",null,"NA","NA","NA",2,1000,null,"NA",null,"NA",null,"NA",null,"NA",1000,106,4,"UT","UTGS","RES",51144295,511,0.25,1,250,306,"IHP","N",0.25,306,"Y"]
["SL0000564193",1780,"N","N",0.75,139,null,"NA",null,"NA","NA","NA",2,1000,null,"NA",null,"NA",null,"NA",null,"NA",1000,139,5,"UT","UTGS","RES",46104628,461,0.25,1,250,320,"IHP","N",0.25,320,"Y"]
["SL0000564867",1785,"Y","N",0.5,58,null,"NA",null,"NA","NA","NA",2,1000,null,"NA",null,"NA",null,"NA",null,"NA",1000,58,15,"UT","UTGS","RES",36090790,360,0.25,1,250,320,"IHP","N",0.25,320,"Y"]
["SL0000566003",1788,"N","N",0.75,18,null,"NA",null,"NA","NA","NA",2,1000,null,"NA",null,"NA",null,"NA",null,"NA",1000,18,7,"UT","UTGS","RES",760064462,760,0.25,1,0,320,"IHP","N",0.25,320,"Y"]
["SL0000566323",1790,"N","N",0.5,44,null,"NA",null,"NA","NA","NA",2,1000,null,"NA",null,"NA",null,"NA",null,"NA",1000,44,7,"UT","UTGS","RES",12777608,127,0.25,1,250,320,"IHP","N",0.25,320,"Y"]
["SL0000567278",1795,"N","N",0.5,50,null,"NA",null,"NA","NA","NA",2,290.69,3,172.23,1.25,537.08000000000004,null,"NA",null,"NA",1000,50,13,"UT","UTGS","RES",26143903,261,0.25,1,250,320,"IHP","N",0.25,320,"Y"]
["SL0000568076",1800,"N","Y",0.75,51,null,"NA",null,"NA","NA","NA",2,780.37,0.75,219.62,null,"NA",null,"NA",null,"NA",999.99,51,10,"UT","UTGS","RES",25914739,259,2,2,400,955,"IHP","N",2,955,"Y"]
["SL0000568375",1802,"N","N",0.75,73,null,"NA",null,"NA","NA","NA",2,1000,null,"NA",null,"NA",null,"NA",null,"NA",1000,73,19,"UT","UTGS","RES",36070746,360,0.25,1,250,320,"IHP","N",0.25,320,"Y"]
["SL0000568527",1805,"N","N",0.5,39,null,"NA",null,"NA","NA","NA",2,1000,null,"NA",null,"NA",null,"NA",null,"NA",1000,39,17,"UT","UTGS","RES",11149172,111,0.25,1,250,306,"IHP","N",0.25,306,"Y"]
["SL0000569886",1810,"N","N",0.75,15,null,"NA",null,"NA","NA","NA",2,1000,null,"NA",null,"NA",null,"NA",null,"NA",1000,15,13,"UT","UTGS","RES",36116250,361,0.25,1,250,320,"IHP","N",0.25,320,"Y"]
["SL0000570685",1814,"N","N",0.5,26,null,"NA",null,"NA","NA","NA",2,1000,null,"NA",null,"NA",null,"NA",null,"NA",1000,26,6,"UT","UTGS","RES",26179961,261,0.25,1,250,320,"IHP","N",0.25,320,"Y"]
["SL0000571294",1819,"N","N",0.75,50,null,"NA",null,"NA","NA","NA",2,961.93,1.25,38.07,null,"NA",null,"NA",null,"NA",1000,50,9,"UT","UTGS","RES",760033088,760,0.25,1,0,320,"IHP","N",0.25,320,"Y"]
["SL0000571527",1820,"N","N",0.5,99,null,"NA",null,"NA","NA","NA",4,981.72,1.25,18.28,null,"NA",null,"NA",null,"NA",1000,99,4,"UT","UTGS","RES",760006736,760,0.25,1,0,320,"IHP","N",0.25,320,"Y"]
["SL0000572434",1826,"N","N",0.5,112,null,"NA",null,"NA","NA","NA",3,99.21,4,522.79,6,378,null,"NA",null,"NA",1000,112,7,"UT","UTGS","RES",16032686,160,0.25,1,250,320,"IHP","N",0.25,320,"Y"]
["SL0000572898",1829,"N","N",0.5,80,null,"NA",null,"NA","NA","NA",2,764,0.75,236,null,"NA",null,"NA",null,"NA",1000,80,17,"UT","UTGS","RES",46008954,460,0.25,1,250,320,"IHP","N",0.25,320,"Y"]
["SL0000573592",1834,"N","N",0.5,25,null,"NA",null,"NA","NA","NA",2,459,1.25,541,null,"NA",null,"NA",null,"NA",1000,25,10,"UT","UTGS","RES",36022381,360,0.25,1,250,320,"IHP","N",0.25,320,"Y"]
["SL0000573645",1835,"N","N",0.5,72,null,"NA",null,"NA","NA","NA",2,68.14,3,841.64,4,90.22,null,"NA",null,"NA",1000,72,22,"UT","UTGS","RES",760079350,760,0.25,1,0,320,"IHP","N",0.25,320,"Y"]
["SL0000574141",1839,"N","N",0.75,26,null,"NA",null,"NA","NA","NA",2,1000,null,"NA",null,"NA",null,"NA",null,"NA",1000,26,5,"UT","UTGS","RES",760027240,760,0.25,1,0,320,"IHP","N",0.25,320,"Y"]
["SL0000575080",1844,"N","N",0.5,90,null,"NA",null,"NA","NA","NA",2,343.27,4,656.73,null,"NA",null,"NA",null,"NA",1000,90,12,"UT","UTGS","RES",26112412,261,0.25,1,250,320,"IHP","N",0.25,320,"Y"]
["SL0000575468",1847,"N","N",0.75,44,null,"NA",null,"NA","NA","NA",2,906.86,3,93.14,null,"NA",null,"NA",null,"NA",1000,44,12,"UT","UTGS","RES",16068901,160,0.25,1,250,320,"IHP","N",0.25,320,"Y"]
["SL0000575570",1849,"N","N",0.5,25,null,"NA",null,"NA","NA","NA",2,422.17,3,577.83000000000004,null,"NA",null,"NA",null,"NA",1000,25,16,"UT","UTGS","RES",16059770,160,0.25,1,250,320,"IHP","N",0.25,320,"Y"]
["SL0000605760",1854,"N","N",0.5,89,null,"NA",null,"NA","NA","NA",2,136.29,6,863.72,null,"NA",null,"NA",null,"NA",1000.01,89,6,"UT","UTGS","RES",26184096,261,0.25,1,250,320,"IHP","N",0.25,320,"Y"]
["SL0000607750",1859,"N","N",1.25,9,null,"NA",null,"NA","NA","NA",4,1000,null,"NA",null,"NA",null,"NA",null,"NA",1000,9,4,"UT","UTGS","NRES",12780285,127,2,1,250,550,"IHP","N",2,550,"Y"]
["SL0000610463",1863,"N","Y",0.5,49,null,"NA",null,"NA","NA","NA",2,249.48,4,750.52,null,"NA",null,"NA",null,"NA",1000,49,20,"UT","UTGS","RES",16099823,160,0.25,1,250,320,"IHP","N",0.25,320,"Y"]
["SL0000610993",1864,"N","N",0.5,38,null,"NA",null,"NA","NA","NA",2,1000,null,"NA",null,"NA",null,"NA",null,"NA",1000,38,17,"UT","UTGS","RES",11196983,111,0.25,1,250,306,"IHP","N",0.25,306,"Y"]
["SL0000613403",1869,"N","Y",0.75,213,1.25,109,null,"NA","NA","NA",2,208.42,4,791.58,null,"NA",null,"NA",null,"NA",1000,322,18,"UT","UTGS","NRES",26062040,260,0.25,1,250,320,"IHP","N",0.25,320,"Y"]
["SL0000614770",1873,"N","N",0.75,73,null,"NA",null,"NA","NA","NA",2,1000,null,"NA",null,"NA",null,"NA",null,"NA",1000,73,21,"UT","UTGS","RES",12648021,126,0.25,1,250,175,"IHP","N",0.25,175,"Y"]
["SL0000615321",1878,"N","N",0.75,54,null,"NA",null,"NA","NA","NA",2,696.55,0.75,303.45,null,"NA",null,"NA",null,"NA",1000,54,19,"UT","UTGS","RES",760062647,760,0.25,1,0,320,"IHP","N",0.25,320,"Y"]
["SL0000616228",1881,"N","N",0.5,99,null,"NA",null,"NA","NA","NA",2,1000,null,"NA",null,"NA",null,"NA",null,"NA",1000,99,14,"UT","UTGS","RES",760015401,760,0.25,1,0,320,"IHP","N",0.25,320,"Y"]
["SL0000616635",1883,"N","N",0.75,59,null,"NA",null,"NA","NA","NA",2,612.25,3,242.74,4,145.01,null,"NA",null,"NA",1000,59,8,"UT","UTGS","NRES",12714897,127,0.25,1,250,320,"IHP","N",0.25,320,"Y"]
["SL0000620390",1888,"N","N",0.75,76,null,"NA",null,"NA","NA","NA",2,946,4,54,null,"NA",null,"NA",null,"NA",1000,76,12,"UT","UTGS","RES",11143323,111,0.25,1,250,306,"IHP","N",0.25,306,"Y"]
["SL0000621290",1890,"N","N",0.75,108,null,"NA",null,"NA","NA","NA",2,1000,null,"NA",null,"NA",null,"NA",null,"NA",1000,108,9,"UT","UTGS","RES",15903441,159,0.25,1,400,540,"IHP","N",0.25,540,"Y"]
["SL0000621574",1893,"N","N",0.5,19,null,"NA",null,"NA","NA","NA",2,576.24,1.25,423.76,null,"NA",null,"NA",null,"NA",1000,19,17,"UT","UTGS","RES",46120540,461,0.25,1,250,320,"IHP","N",0.25,320,"Y"]
["SL0000623542",1898,"N","N",0.75,45,null,"NA",null,"NA","NA","NA",2,1000,null,"NA",null,"NA",null,"NA",null,"NA",1000,45,24,"UT","UTGS","RES",16098036,160,0.25,1,250,320,"IHP","N",0.25,320,"Y"]
["SL0000624994",1903,"N","N",0.5,80,null,"NA",null,"NA","NA","NA",2,1000,null,"NA",null,"NA",null,"NA",null,"NA",1000,80,14,"UT","UTGS","RES",36006403,360,0.25,1,250,320,"IHP","N",0.25,320,"Y"]
["SL0000625533",1906,"N","N",0.75,106,null,"NA",null,"NA","NA","NA",2,117.06,6,882.94,null,"NA",null,"NA",null,"NA",1000,106,13,"UT","UTGS","RES",46103209,461,0.25,1,250,320,"IHP","N",0.25,320,"Y"]
["SL0000628060",1908,"N","N",0.5,53,null,"NA",null,"NA","NA","NA",2,251.08,4,613.66,1.25,135.26,null,"NA",null,"NA",1000,53,9,"UT","UTGS","RES",16067488,160,0.25,1,250,320,"IHP","N",0.25,320,"Y"]
["SL0000631697",1913,"N","N",0.5,44,null,"NA",null,"NA","NA","NA",3,343.8,1.25,656.2,null,"NA",null,"NA",null,"NA",1000,44,7,"UT","UTGS","RES",34600577,346,2,2,650,1390,"IHP","N",2,1390,"Y"]
["SL0000632479",1916,"N","N",0.75,44,null,"NA",null,"NA","NA","NA",2,780.39,4,219.61,null,"NA",null,"NA",null,"NA",1000,44,13,"UT","UTGS","RES",26070333,260,0.25,1,250,320,"IHP","N",0.25,320,"Y"]
["SL0000635268",1922,"N","N",1.25,246,null,"NA",null,"NA","NA","NA",4,854,1.25,146,null,"NA",null,"NA",null,"NA",1000,246,7,"UT","UTGS","NRES",27800050,278,2,2,2000,2225,"IHP","N",2,2225,"Y"]
["SL0000636764",1923,"N","N",0.5,36,null,"NA",null,"NA","NA","NA",2,955.8,0.75,44.2,null,"NA",null,"NA",null,"NA",1000,36,7,"UT","UTGS","RES",16003662,160,0.25,1,250,320,"IHP","N",0.25,320,"Y"]
["SL0000638227",1928,"N","N",0.5,35,null,"NA",null,"NA","NA","NA",2,957.36,1.25,42.64,null,"NA",null,"NA",null,"NA",1000,35,19,"UT","UTGS","RES",36066322,360,0.25,1,250,320,"IHP","N",0.25,320,"Y"]
["SL0000640079",1932,"N","N",0.5,50,null,"NA",null,"NA","NA","NA",2,143.22,1.25,856.78,null,"NA",null,"NA",null,"NA",1000,50,32,"UT","UTGS","RES",26060632,260,0.25,1,250,320,"IHP","N",0.25,320,"Y"]
["SL0000641083",1937,"N","N",0.5,52,null,"NA",null,"NA","NA","NA",2,1000,null,"NA",null,"NA",null,"NA",null,"NA",1000,52,7,"UT","UTGS","RES",46127002,461,0.25,1,250,320,"IHP","N",0.25,320,"Y"]
["SL0000641650",1940,"N","N",0.5,67,null,"NA",null,"NA","NA","NA",2,1000,null,"NA",null,"NA",null,"NA",null,"NA",1000,67,5,"UT","UTGS","RES",26029566,260,0.25,1,250,320,"IHP","N",0.25,320,"Y"]
["SL0000642030",1942,"N","Y",0.75,10,1.25,20,null,"NA","NA","NA",2,237.5,4,762.5,null,"NA",null,"NA",null,"NA",1000,30,9,"UT","UTGS","NRES",46027290,460,0.25,1,250,320,"IHP","N",0.25,320,"Y"]
["SL0000642253",1947,"Y","Y",1.25,50,null,"NA",null,"NA","NA","NA",null,"NA",null,"NA",null,"NA",null,"NA",null,"NA",0,50,3,"UT","UTGS","RES",760065022,760,0.25,1,0,320,"IHP","N",0.25,320,"Y"]
["SL0000642257",1949,"N","N",0.75,60,null,"NA",null,"NA","NA","NA",2,1000,null,"NA",null,"NA",null,"NA",null,"NA",1000,60,22,"UT","UTGS","RES",16023528,160,0.25,1,250,320,"IHP","N",0.25,320,"Y"]
["SL0000642266",1952,"Y","N",0.5,37,null,"NA",null,"NA","NA","NA",2,737.73,4,262.27,null,"NA",null,"NA",null,"NA",1000,37,14,"UT","UTGS","RES",26015412,260,0.25,1,250,320,"IHP","N",0.25,320,"Y"]
["SL0000642279",1957,"N","N",0.75,89,null,"NA",null,"NA","NA","NA",2,1000,null,"NA",null,"NA",null,"NA",null,"NA",1000,89,14,"UT","UTGS","RES",26004496,260,0.25,1,250,320,"IHP","N",0.25,320,"Y"]
["SL0000643937",1961,"N","N",0.75,11,null,"NA",null,"NA","NA","NA",2,1000,null,"NA",null,"NA",null,"NA",null,"NA",1000,11,10,"UT","UTGS","RES",26093349,260,2,1,250,550,"IHP","N",2,550,"Y"]
["SL0000644926",1966,"N","N",0.75,38,null,"NA",null,"NA","NA","NA",2,1000,null,"NA",null,"NA",null,"NA",null,"NA",1000,38,6,"UT","UTGS","RES",759004619,759,0.25,1,0,540,"IHP","N",0.25,540,"Y"]
["SL0000644958",1967,"N","Y",0.5,59,null,"NA",null,"NA","NA","NA",2,1000,null,"NA",null,"NA",null,"NA",null,"NA",1000,59,18,"UT","UTGS","RES",46090606,460,2,1,250,550,"IHP","N",2,550,"Y"]
["SL0000645740",1973,"N","N",0.5,28,null,"NA",null,"NA","NA","NA",2,572.5,0.75,61.25,1.25,366.25,null,"NA",null,"NA",1000,28,11,"UT","UTGS","RES",26134616,261,0.25,1,250,320,"IHP","N",0.25,320,"Y"]
["SL0000645989",1976,"N","Y",0.75,13,null,"NA",null,"NA","NA","NA",2,909.53,3,90.47,null,"NA",null,"NA",null,"NA",1000,13,29,"UT","UTGS","RES",12725505,127,0.25,1,250,320,"IHP","N",0.25,320,"Y"]
["SL0000646443",1981,"N","N",0.5,68,null,"NA",null,"NA","NA","NA",2,133.99,4,866.01,null,"NA",null,"NA",null,"NA",1000,68,11,"UT","UTGS","RES",15902867,159,0.25,1,400,540,"IHP","N",0.25,540,"Y"]
["SL0000646525",1982,"N","Y",0.75,34,null,"NA",null,"NA","NA","NA",2,972,0.75,28,null,"NA",null,"NA",null,"NA",1000,34,16,"UT","UTGS","RES",760072307,760,2,1,0,550,"IHP","N",2,550,"Y"]
["SL0000647742",1986,"N","N",0.75,65,null,"NA",null,"NA","NA","NA",3,1000,null,"NA",null,"NA",null,"NA",null,"NA",1000,65,4,"UT","UTGS","NRES",760066887,760,2,1,0,550,"IHP","N",2,550,"Y"]
["SL0000648585",1991,"N","N",0.75,35,null,"NA",null,"NA","NA","NA",2,790.85,1.25,209.15,null,"NA",null,"NA",null,"NA",1000,35,13,"UT","UTGS","RES",21125736,211,0.25,1,250,306,"IHP","N",0.25,306,"Y"]
["SL0000649461",1996,"N","N",0.75,18,null,"NA",null,"NA","NA","NA",2,676,4,324,null,"NA",null,"NA",null,"NA",1000,18,12,"UT","UTGS","RES",36080981,360,0.25,1,250,320,"IHP","N",0.25,320,"Y"]
["SL0000649726",1999,"N","N",0.75,102,null,"NA",null,"NA","NA","NA",2,926.15,3,73.849999999999994,null,"NA",null,"NA",null,"NA",1000,102,22,"UT","UTGS","RES",26104562,261,0.25,1,250,320,"IHP","N",0.25,320,"Y"]
["SL0000649925",2001,"N","N",0.5,86,null,"NA",null,"NA","NA","NA",2,339.08,4,453.25,1.25,207.67,null,"NA",null,"NA",1000,86,12,"UT","UTGS","RES",21116585,211,0.25,1,250,306,"IHP","N",0.25,306,"Y"]
["SL0000651375",2006,"N","N",0.5,56,null,"NA",null,"NA","NA","NA",2,534.25,4,399.5,1.25,66.25,null,"NA",null,"NA",1000,56,14,"UT","UTGS","RES",36020916,360,0.25,1,250,320,"IHP","N",0.25,320,"Y"]
["SL0000651529",2008,"N","N",0.5,58,null,"NA",null,"NA","NA","NA",2,372,1.25,628,null,"NA",null,"NA",null,"NA",1000,58,32,"UT","UTGS","RES",12670717,126,0.25,1,250,175,"IHP","N",0.25,175,"Y"]
["SL0000652032",2011,"N","N",0.5,76,null,"NA",null,"NA","NA","NA",2,1000,null,"NA",null,"NA",null,"NA",null,"NA",1000,76,12,"UT","UTGS","RES",46012618,460,0.25,1,250,320,"IHP","N",0.25,320,"Y"]
["SL0000653657",2016,"N","N",0.5,87,null,"NA",null,"NA","NA","NA",2,297.5,4,702.5,null,"NA",null,"NA",null,"NA",1000,87,24,"UT","UTGS","RES",11133873,111,0.25,1,250,306,"IHP","N",0.25,306,"Y"]
["SL0000654414",2020,"N","N",0.75,45,null,"NA",null,"NA","NA","NA",4,725.5,1.25,106.04,1.5,168.46,null,"NA",null,"NA",1000,45,14,"UT","UTGS","RES",21128382,211,0.25,1,250,306,"IHP","N",0.25,306,"Y"]
["SL0000655873",2025,"N","N",0.75,98,null,"NA",null,"NA","NA","NA",2,1000,null,"NA",null,"NA",null,"NA",null,"NA",1000,98,19,"UT","UTGS","RES",12757483,127,0.25,1,250,320,"IHP","N",0.25,320,"Y"]
["SL0000656005",2026,"N","N",0.5,35,null,"NA",null,"NA","NA","NA",2,426,1.25,574,null,"NA",null,"NA",null,"NA",1000,35,8,"UT","UTGS","RES",25912210,259,2,2,400,955,"IHP","N",2,955,"Y"]
["SL0000657006",2032,"N","N",0.5,22,null,"NA",null,"NA","NA","NA",2,999.69,null,"NA",null,"NA",null,"NA",null,"NA",999.69,22,9,"UT","UTGS","RES",46059607,460,2,1,250,550,"IHP","N",2,550,"Y"]
["SL0000657566",2035,"N","N",0.75,13,null,"NA",null,"NA","NA","NA",2,1000,null,"NA",null,"NA",null,"NA",null,"NA",1000,13,9,"UT","UTGS","RES",26189473,261,0.25,1,250,320,"IHP","N",0.25,320,"Y"]
["SL0000657901",2040,"N","N",0.75,74,null,"NA",null,"NA","NA","NA",2,735.88,4,264.12,null,"NA",null,"NA",null,"NA",1000,74,16,"UT","UTGS","RES",36131313,361,0.25,1,250,320,"IHP","N",0.25,320,"Y"]
["SL0000658021",2042,"N","N",1.25,74,null,"NA",null,"NA","NA","NA",2,1000,null,"NA",null,"NA",null,"NA",null,"NA",1000,74,6,"UT","UTGS","RES",15500331,155,0.25,2,1000,1000,"IHP","N",0.25,1000,"Y"]
["SL0000658344",2045,"N","N",0.75,45,null,"NA",null,"NA","NA","NA",2,1000,null,"NA",null,"NA",null,"NA",null,"NA",1000,45,10,"UT","UTGS","RES",46046174,460,0.25,1,250,320,"IHP","N",0.25,320,"Y"]
["SL0000658821",2050,"N","Y",0.75,239,null,"NA",null,"NA","NA","NA",2,1000,null,"NA",null,"NA",null,"NA",null,"NA",1000,239,13,"UT","UTGS","RES",25906758,259,2,2,400,955,"IHP","N",2,955,"Y"]
["SL0000660441",2054,"N","N",0.5,115,null,"NA",null,"NA","NA","NA",6,1000,null,"NA",null,"NA",null,"NA",null,"NA",1000,115,1,"UT","UTGS","RES",12779044,127,0.25,1,250,320,"IHP","N",0.25,320,"Y"]
["SL0000660711",2055,"N","N",0.5,46,null,"NA",null,"NA","NA","NA",2,680.5,6,319.5,null,"NA",null,"NA",null,"NA",1000,46,16,"UT","UTGS","RES",26080857,260,0.25,1,250,320,"IHP","N",0.25,320,"Y"]
["SL0000661420",2060,"N","N",0.75,115,null,"NA",null,"NA","NA","NA",4,4.82,8,995.18,null,"NA",null,"NA",null,"NA",1000,115,2,"UT","UTGS","RES",26169848,261,0.25,1,250,320,"IHP","N",0.25,320,"Y"]
["SL0000661969",2063,"Y","N",0.5,115,null,"NA",null,"NA","NA","NA",2,227.96,1.25,772.04,null,"NA",null,"NA",null,"NA",1000,115,30,"UT","UTGS","RES",26156270,261,0.25,1,250,320,"IHP","N",0.25,320,"Y"]
["SL0000664068",2069,"N","N",0.5,36,null,"NA",null,"NA","NA","NA",2,1000,null,"NA",null,"NA",null,"NA",null,"NA",1000,36,5,"UT","UTGS","RES",16041977,160,0.25,1,250,320,"IHP","N",0.25,320,"Y"]
["SL0000664592",2070,"N","N",0.5,86,null,"NA",null,"NA","NA","NA",2,1000,null,"NA",null,"NA",null,"NA",null,"NA",1000,86,31,"UT","UTGS","RES",16002200,160,0.25,1,250,320,"IHP","N",0.25,320,"Y"]
["SL0000666616",2075,"N","N",0.75,39,null,"NA",null,"NA","NA","NA",2,1000,null,"NA",null,"NA",null,"NA",null,"NA",1000,39,17,"UT","UTGS","RES",22007427,220,0.25,1,400,500,"IHP","N",0.25,500,"Y"]
["SL0000666899",2079,"N","N",0.5,92,null,"NA",null,"NA","NA","NA",2,1000,null,"NA",null,"NA",null,"NA",null,"NA",1000,92,23,"UT","UTGS","RES",16004546,160,0.25,1,250,320,"IHP","N",0.25,320,"Y"]
["SL0000667534",2084,"N","N",1.25,13,null,"NA",null,"NA","NA","NA",2,1000,null,"NA",null,"NA",null,"NA",null,"NA",1000,13,4,"UT","UTGS","NRES",34605364,346,2,2,650,1390,"IHP","N",2,1390,"Y"]
["SL0000668628",2087,"N","N",0.75,12,null,"NA",null,"NA","NA","NA",2,67,0.5,99,1.25,834,null,"NA",null,"NA",1000,12,28,"UT","UTGS","RES",21127822,211,0.25,1,250,306,"IHP","N",0.25,306,"Y"]
["SL0000668900",2089,"N","N",0.5,70,null,"NA",null,"NA","NA","NA",2,937,0.75,63,null,"NA",null,"NA",null,"NA",1000,70,7,"UT","UTGS","RES",46044010,460,0.25,1,250,320,"IHP","N",0.25,320,"Y"]
["SL0000670102",2094,"N","N",2,45,null,"NA",null,"NA","NA","NA",4,1000,null,"NA",null,"NA",null,"NA",null,"NA",1000,45,2,"UT","UTGS","RES",46102498,461,2,1,250,550,"IHP","N",2,550,"Y"]
["SL0000671561",2099,"N","N",0.5,40,null,"NA",null,"NA","NA","NA",2,930,0.75,70,null,"NA",null,"NA",null,"NA",1000,40,6,"UT","UTGS","RES",36027876,360,0.25,1,250,320,"IHP","N",0.25,320,"Y"]
["SL0000671754",2101,"N","N",0.5,48,0.75,5,null,"NA","NA","NA",2,1000,null,"NA",null,"NA",null,"NA",null,"NA",1000,53,15,"UT","UTGS","RES",16082362,160,0.25,1,250,320,"IHP","N",0.25,320,"Y"]
["SL0000680985",2104,"Y","Y",0.75,4,null,"NA",null,"NA","NA","NA",2,906,1.25,94,null,"NA",null,"NA",null,"NA",1000,4,14,"UT","UTGS","RES",36029797,360,0.25,1,250,320,"IHP","N",0.25,320,"Y"]
["SL0000681535",2109,"N","N",0.75,81,null,"NA",null,"NA","NA","NA",2,334,4,666,null,"NA",null,"NA",null,"NA",1000,81,7,"UT","UTGS","RES",12734598,127,0.25,1,250,320,"IHP","N",0.25,320,"Y"]
["SL0000682448",2113,"N","N",0.5,43,null,"NA",null,"NA","NA","NA",2,370.15,1.25,629.85,null,"NA",null,"NA",null,"NA",1000,43,13,"UT","UTGS","RES",12769338,127,0.25,1,250,320,"IHP","N",0.25,320,"Y"]
["SL0000682638",2114,"N","N",0.75,58,null,"NA",null,"NA","NA","NA",2,58.65,3,14.35,4,927,null,"NA",null,"NA",1000,58,5,"UT","UTGS","RES",16077696,160,0.25,1,250,320,"IHP","N",0.25,320,"Y"]
["SL0000684230",2119,"N","N",0.5,14,0.75,26,null,"NA","NA","NA",2,891.45,8,108.55,null,"NA",null,"NA",null,"NA",1000,40,14,"UT","UTGS","NRES",26056183,260,0.25,1,250,320,"IHP","N",0.25,320,"Y"]
["SL0000684437",2122,"N","N",0.5,69,null,"NA",null,"NA","NA","NA",2,44.49,3,955.51,null,"NA",null,"NA",null,"NA",1000,69,6,"UT","UTGS","RES",16000224,160,0.25,1,250,320,"IHP","N",0.25,320,"Y"]
["SL0000686013",2128,"N","N",0.75,28,null,"NA",null,"NA","NA","NA",2,1000,null,"NA",null,"NA",null,"NA",null,"NA",1000,28,7,"UT","UTGS","RES",12706905,127,0.25,1,250,320,"IHP","N",0.25,320,"Y"]
["SL0000686102",2129,"N","N",0.5,23,null,"NA",null,"NA","NA","NA",2,1000,null,"NA",null,"NA",null,"NA",null,"NA",1000,23,16,"UT","UTGS","RES",760009622,760,0.25,1,0,320,"IHP","N",0.25,320,"Y"]
["SL0000687385",2134,"N","N",0.75,106,null,"NA",null,"NA","NA","NA",2,959.47,4,40.53,null,"NA",null,"NA",null,"NA",1000,106,5,"UT","UTGS","NRES",36190971,361,0.25,1,250,320,"IHP","N",0.25,320,"Y"]
["SL0000688615",2138,"N","N",0.5,97,null,"NA",null,"NA","NA","NA",2,198.07,0.75,611.95000000000005,1.25,189.98,null,"NA",null,"NA",1000,97,6,"UT","UTGS","RES",46157151,461,0.25,1,250,320,"IHP","N",0.25,320,"Y"]
["SL0000720798",2143,"N","N",0.75,89,null,"NA",null,"NA","NA","NA",2,1000,null,"NA",null,"NA",null,"NA",null,"NA",1000,89,23,"UT","UTGS","RES",46010832,460,0.25,1,250,320,"IHP","N",0.25,320,"Y"]
["SL0000721210",2146,"Y","N",0.5,21,null,"NA",null,"NA","NA","NA",2,1000,null,"NA",null,"NA",null,"NA",null,"NA",1000,21,10,"UT","UTGS","RES",46096139,460,0.25,1,250,320,"IHP","N",0.25,320,"Y"]
["SL0000721322",2148,"N","N",0.75,85,null,"NA",null,"NA","NA","NA",2,1000,null,"NA",null,"NA",null,"NA",null,"NA",1000,85,28,"UT","UTGS","RES",16005972,160,0.25,1,250,320,"IHP","N",0.25,320,"Y"]
["SL0000750810",2153,"N","N",0.5,14,null,"NA",null,"NA","NA","NA",2,992.07,1.25,7.93,null,"NA",null,"NA",null,"NA",1000,14,11,"UT","UTGS","RES",12662482,126,0.25,1,250,175,"IHP","N",0.25,175,"Y"]
["SL0000751003",2155,"N","N",0.5,32,null,"NA",null,"NA","NA","NA",2,866.83,0.75,133.16999999999999,null,"NA",null,"NA",null,"NA",1000,32,10,"UT","UTGS","RES",36116389,361,0.25,1,250,320,"IHP","N",0.25,320,"Y"]
["SL0000752169",2158,"N","N",0.5,29,null,"NA",null,"NA","NA","NA",2,827.28,4,172.72,null,"NA",null,"NA",null,"NA",1000,29,7,"UT","UTGS","RES",46114978,461,0.25,1,250,320,"IHP","N",0.25,320,"Y"]
["SL0000755037",2163,"Y","N",0.75,57,null,"NA",null,"NA","NA","NA",2,1000,null,"NA",null,"NA",null,"NA",null,"NA",1000,57,20,"UT","UTGS","RES",26085067,260,0.25,1,250,320,"IHP","N",0.25,320,"Y"]
["SL0000756584",2168,"N","Y",0.75,43,null,"NA",null,"NA","NA","NA",2,470.03,3,438.97,1.25,91,null,"NA",null,"NA",1000,43,10,"UT","UTGS","RES",26007940,260,0.25,1,250,320,"IHP","N",0.25,320,"Y"]
["SL0000757443",2172,"N","N",0.75,71,null,"NA",null,"NA","NA","NA",2,822.5,1.25,177.5,null,"NA",null,"NA",null,"NA",1000,71,7,"UT","UTGS","RES",34600729,346,0.25,1,650,630,"IHP","N",0.25,630,"Y"]
["SL0000757726",2173,"N","N",0.5,55,null,"NA",null,"NA","NA","NA",2,359.5,3,38.24,4,602.26,null,"NA",null,"NA",1000,55,14,"UT","UTGS","RES",36189839,361,0.25,1,250,320,"IHP","N",0.25,320,"Y"]
["SL0000758152",2177,"N","N",0.5,101,null,"NA",null,"NA","NA","NA",2,877.03,4,122.97,null,"NA",null,"NA",null,"NA",1000,101,13,"UT","UTGS","RES",36097995,360,0.25,1,250,320,"IHP","N",0.25,320,"Y"]
["SL0000760167",2182,"N","N",0.5,30,0.75,172,null,"NA","NA","NA",2,1000,null,"NA",null,"NA",null,"NA",null,"NA",1000,202,12,"UT","UTGS","RES",26182924,261,0.25,1,250,320,"IHP","N",0.25,320,"Y"]
["SL0000761657",2187,"N","N",0.5,43,null,"NA",null,"NA","NA","NA",2,895.41,1.25,104.59,null,"NA",null,"NA",null,"NA",1000,43,17,"UT","UTGS","RES",11156552,111,0.25,1,250,306,"IHP","N",0.25,306,"Y"]
["SL0000762541",2189,"N","N",1.25,82,null,"NA",null,"NA","NA","NA",2,861.97,6,138.03,null,"NA",null,"NA",null,"NA",1000,82,2,"UT","UTGS","RES",760082703,760,2,1,0,550,"IHP","N",2,550,"Y"]
["SL0000763841",2192,"N","N",0.5,25,null,"NA",null,"NA","NA","NA",2,1000,null,"NA",null,"NA",null,"NA",null,"NA",1000,25,15,"UT","UTGS","RES",46123520,461,0.25,1,250,320,"IHP","N",0.25,320,"Y"]
["SL0000764839",2197,"N","N",0.75,89,null,"NA",null,"NA","NA","NA",2,922.9,1.25,77.099999999999994,null,"NA",null,"NA",null,"NA",1000,89,13,"UT","UTGS","RES",25914263,259,0.25,1,400,540,"IHP","N",0.25,540,"Y"]
["SL0000765677",2202,"N","N",0.5,66,null,"NA",null,"NA","NA","NA",2,1000,null,"NA",null,"NA",null,"NA",null,"NA",1000,66,11,"UT","UTGS","RES",36080617,360,2,1,250,550,"IHP","N",2,550,"Y"]
["SL0000800399",2205,"N","N",0.5,48,null,"NA",null,"NA","NA","NA",2,1000,null,"NA",null,"NA",null,"NA",null,"NA",1000,48,13,"UT","UTGS","RES",25901618,259,0.25,1,400,540,"IHP","N",0.25,540,"Y"]
["SL0000802383",2207,"N","N",0.5,84,null,"NA",null,"NA","NA","NA",2,153.28,4,634,1.25,212.72,null,"NA",null,"NA",1000,84,20,"UT","UTGS","RES",16086671,160,0.25,1,250,320,"IHP","N",0.25,320,"Y"]
["SL0000803881",2212,"N","Y",0.75,111,null,"NA",null,"NA","NA","NA",2,1000,null,"NA",null,"NA",null,"NA",null,"NA",1000,111,6,"UT","UTGS","NRES",760004590,760,0.25,1,0,320,"IHP","N",0.25,320,"Y"]
["SL0000805503",2215,"N","N",0.5,48,null,"NA",null,"NA","NA","NA",2,622,1.25,378,null,"NA",null,"NA",null,"NA",1000,48,12,"UT","UTGS","RES",26136162,261,0.25,1,250,320,"IHP","N",0.25,320,"Y"]
["SL0000806148",2217,"N","N",0.5,21,null,"NA",null,"NA","NA","NA",2,41.61,3,418.39,1.25,540,null,"NA",null,"NA",1000,21,16,"UT","UTGS","RES",46043610,460,0.25,1,250,320,"IHP","N",0.25,320,"Y"]
["SL0000807387",2222,"N","N",0.75,57,null,"NA",null,"NA","NA","NA",2,727,0.75,273,null,"NA",null,"NA",null,"NA",1000,57,15,"UT","UTGS","RES",16004562,160,0.25,1,250,320,"IHP","N",0.25,320,"Y"]
["SL0000808220",2227,"N","N",0.5,99,null,"NA",null,"NA","NA","NA",2,961.16,1.25,38.840000000000003,null,"NA",null,"NA",null,"NA",1000,99,21,"UT","UTGS","RES",12647585,126,0.25,1,250,175,"IHP","N",0.25,175,"Y"]
["SL0000808737",2231,"N","N",0.5,68,null,"NA",null,"NA","NA","NA",2,110.05,4,117.98,6,670,1.25,101.98,null,"NA",1000.01,68,11,"UT","UTGS","RES",36129438,361,0.25,1,250,320,"IHP","N",0.25,320,"Y"]
["SL0000808893",2232,"N","N",0.75,34,null,"NA",null,"NA","NA","NA",2,1000,null,"NA",null,"NA",null,"NA",null,"NA",1000,34,35,"UT","UTGS","RES",26187955,261,0.25,1,250,320,"IHP","N",0.25,320,"Y"]
["SL0000809923",2236,"N","N",0.5,43,null,"NA",null,"NA","NA","NA",2,458,1.25,542,null,"NA",null,"NA",null,"NA",1000,43,11,"UT","UTGS","RES",46144244,461,0.25,1,250,320,"IHP","N",0.25,320,"Y"]
["SL0000810312",2241,"N","N",0.5,28,null,"NA",null,"NA","NA","NA",2,1000,null,"NA",null,"NA",null,"NA",null,"NA",1000,28,6,"UT","UTGS","RES",36192770,361,2,1,250,550,"IHP","N",2,550,"Y"]
["SL0000811757",2246,"N","N",0.5,38,null,"NA",null,"NA","NA","NA",3,718.96,1.25,281.04000000000002,null,"NA",null,"NA",null,"NA",1000,38,12,"UT","UTGS","RES",26035404,260,0.25,1,250,320,"IHP","N",0.25,320,"Y"]
["SL0000813119",2248,"N","N",0.5,40,null,"NA",null,"NA","NA","NA",2,1000,null,"NA",null,"NA",null,"NA",null,"NA",1000,40,14,"UT","UTGS","RES",16018403,160,0.25,1,250,320,"IHP","N",0.25,320,"Y"]
["SL0000814388",2251,"N","N",0.5,67,null,"NA",null,"NA","NA","NA",2,589.72,4,410.28,null,"NA",null,"NA",null,"NA",1000,67,4,"UT","UTGS","RES",26066678,260,0.25,1,250,320,"IHP","N",0.25,320,"Y"]
["SL0000817437",2256,"N","N",0.5,50,null,"NA",null,"NA","NA","NA",2,546,1.25,454,null,"NA",null,"NA",null,"NA",1000,50,6,"UT","UTGS","RES",760009876,760,0.25,1,0,320,"IHP","N",0.25,320,"Y"]
["SL0000817949",2260,"N","N",0.5,40,null,"NA",null,"NA","NA","NA",2,171.89,3,828.11,null,"NA",null,"NA",null,"NA",1000,40,12,"UT","UTGS","RES",36069393,360,2,1,250,550,"IHP","N",2,550,"Y"]
["SL0000818766",2261,"N","N",0.5,29,null,"NA",null,"NA","NA","NA",2,20.99,4,123.98,6,855.03,null,"NA",null,"NA",1000,29,11,"UT","UTGS","RES",46136714,461,0.25,1,250,320,"IHP","N",0.25,320,"Y"]
["SL0000820644",2266,"Y","N",0.5,63,null,"NA",null,"NA","NA","NA",2,658,1.25,342,null,"NA",null,"NA",null,"NA",1000,63,12,"UT","UTGS","RES",21120320,211,0.25,1,250,306,"IHP","N",0.25,306,"Y"]
["SL0000820962",2269,"N","N",2,1,1.25,84,null,"NA","NA","NA",2,503.76,4,496.24,null,"NA",null,"NA",null,"NA",1000,85,4,"UT","UTGS","NRES",15102158,151,5,2,800,2100,"IHP","N",5,2100,"Y"]
["SL0000822033",2275,"N","N",0.75,104,null,"NA",null,"NA","NA","NA",2,1000,null,"NA",null,"NA",null,"NA",null,"NA",1000,104,24,"UT","UTGS","RES",36038785,360,0.25,1,250,320,"IHP","N",0.25,320,"Y"]
["SL0000822109",2276,"N","Y",0.5,42,null,"NA",null,"NA","NA","NA",2,870.21,3,112.21,4,17.579999999999998,null,"NA",null,"NA",1000,42,26,"UT","UTGS","RES",26104198,261,0.25,1,250,320,"IHP","N",0.25,320,"Y"]
["SL0000822201",2281,"N","N",0.5,57,null,"NA",null,"NA","NA","NA",2,1000,null,"NA",null,"NA",null,"NA",null,"NA",1000,57,11,"UT","UTGS","RES",25913942,259,0.25,1,400,540,"IHP","N",0.25,540,"Y"]
["SL0000822385",2285,"N","N",0.75,91,null,"NA",null,"NA","NA","NA",2,978,3,22,null,"NA",null,"NA",null,"NA",1000,91,13,"UT","UTGS","RES",26170409,261,0.25,1,250,320,"IHP","N",0.25,320,"Y"]
["SL0000823174",2290,"N","N",0.5,92,null,"NA",null,"NA","NA","NA",2,1000,null,"NA",null,"NA",null,"NA",null,"NA",1000,92,6,"UT","UTGS","RES",25907951,259,0.25,1,400,540,"IHP","N",0.25,540,"Y"]
["SL0000823351",2291,"N","N",0.5,59,null,"NA",null,"NA","NA","NA",2,45.12,4,785.77,1.25,169.12,null,"NA",null,"NA",1000.01,59,7,"UT","UTGS","RES",15907424,159,0.25,1,400,540,"IHP","N",0.25,540,"Y"]
["SL0000825517",2295,"Y","N",0.75,99,null,"NA",null,"NA","NA","NA",4,1000,null,"NA",null,"NA",null,"NA",null,"NA",1000,99,15,"UT","UTGS","RES",759005208,759,0.25,1,0,540,"IHP","N",0.25,540,"Y"]
["SL0000826685",2300,"N","N",0.5,46,null,"NA",null,"NA","NA","NA",2,869.85,4,130.15,null,"NA",null,"NA",null,"NA",1000,46,8,"UT","UTGS","RES",36195022,361,0.25,1,250,320,"IHP","N",0.25,320,"Y"]
["SL0000827623",2305,"N","N",0.75,76,null,"NA",null,"NA","NA","NA",2,1000,null,"NA",null,"NA",null,"NA",null,"NA",1000,76,7,"UT","UTGS","RES",36016701,360,0.25,1,250,320,"IHP","N",0.25,320,"Y"]
["SL0000827822",2307,"N","Y",1.25,245,null,"NA",null,"NA","NA","NA",2,1000,null,"NA",null,"NA",null,"NA",null,"NA",1000,245,7,"UT","UTGS","NRES",46063584,460,0.25,1,250,320,"IHP","N",0.25,320,"Y"]
["SL0000828051",2310,"N","Y",0.5,31,0.75,3,null,"NA","NA","NA",2,715.6,0.75,284.39999999999998,null,"NA",null,"NA",null,"NA",1000,34,19,"UT","UTGS","RES",36111751,361,0.25,1,250,320,"IHP","N",0.25,320,"Y"]
["SL0000829309",2315,"N","N",0.5,68,null,"NA",null,"NA","NA","NA",2,849.8,3,150.19999999999999,null,"NA",null,"NA",null,"NA",1000,68,24,"UT","UTGS","RES",26048607,260,0.25,1,250,320,"IHP","N",0.25,320,"Y"]
["SL0000830370",2319,"N","N",0.5,30,null,"NA",null,"NA","NA","NA",2,877.25,4,122.75,null,"NA",null,"NA",null,"NA",1000,30,13,"UT","UTGS","RES",16031255,160,0.25,1,250,320,"IHP","N",0.25,320,"Y"]
["SL0000830444",2320,"Y","N",1.25,76,null,"NA",null,"NA","NA","NA",4,1000,null,"NA",null,"NA",null,"NA",null,"NA",1000,76,3,"UT","UTGS","RES",46100218,461,2,1,250,550,"IHP","N",2,550,"Y"]
["SL0000831645",2325,"Y","Y",0.75,33,null,"NA",null,"NA","NA","NA",2,1000,null,"NA",null,"NA",null,"NA",null,"NA",1000,33,21,"UT","UTGS","RES",12623145,126,0.25,1,250,175,"IHP","N",0.25,175,"Y"]
["SL0000832185",2328,"N","N",0.5,25,null,"NA",null,"NA","NA","NA",3,17,1.25,983,null,"NA",null,"NA",null,"NA",1000,25,7,"UT","UTGS","RES",12740708,127,0.25,1,250,320,"IHP","N",0.25,320,"Y"]
["SL0000833738",2334,"N","N",0.5,44,null,"NA",null,"NA","NA","NA",2,1000,null,"NA",null,"NA",null,"NA",null,"NA",1000,44,31,"UT","UTGS","RES",11112948,111,0.25,1,250,306,"IHP","N",0.25,306,"Y"]
["SL0000834268",2335,"N","N",0.75,56,null,"NA",null,"NA","NA","NA",2,763,4,237,null,"NA",null,"NA",null,"NA",1000,56,11,"UT","UTGS","RES",760066411,760,0.25,1,0,320,"IHP","N",0.25,320,"Y"]
["SL0000836040",2341,"N","N",0.5,54,null,"NA",null,"NA","NA","NA",2,1000,null,"NA",null,"NA",null,"NA",null,"NA",1000,54,6,"UT","UTGS","RES",36144871,361,0.25,1,250,320,"IHP","N",0.25,320,"Y"]
["SL0000836256",2344,"N","N",0.75,90,null,"NA",null,"NA","NA","NA",2,242.51,4,757.49,null,"NA",null,"NA",null,"NA",1000,90,18,"UT","UTGS","RES",16097057,160,0.25,1,250,320,"IHP","N",0.25,320,"Y"]
["SL0000836621",2349,"N","N",0.5,51,null,"NA",null,"NA","NA","NA",2,852.49,3,147.51,null,"NA",null,"NA",null,"NA",1000,51,9,"UT","UTGS","RES",36198286,361,0.25,1,250,320,"IHP","N",0.25,320,"Y"]
["SL0000836662",2350,"Y","N",0.5,44,null,"NA",null,"NA","NA","NA",2,906.01,0.75,93.99,null,"NA",null,"NA",null,"NA",1000,44,6,"UT","UTGS","RES",22000929,220,0.25,1,400,500,"IHP","N",0.25,500,"Y"]
["SL0000837178",2354,"N","N",0.5,35,null,"NA",null,"NA","NA","NA",2,380.22,4,267.35000000000002,0.75,119,1.25,233.44,null,"NA",1000.01,35,8,"UT","UTGS","RES",36033231,360,0.25,1,250,320,"IHP","N",0.25,320,"Y"]
["SL0000837660",2359,"Y","N",0.75,21,null,"NA",null,"NA","NA","NA",2,1000,null,"NA",null,"NA",null,"NA",null,"NA",1000,21,8,"UT","UTGS","RES",21126905,211,2,1,250,428,"IHP","N",2,428,"Y"]
["SL0000838157",2362,"N","N",0.5,64,null,"NA",null,"NA","NA","NA",2,925.28,1.25,74.72,null,"NA",null,"NA",null,"NA",1000,64,8,"UT","UTGS","RES",12773804,127,0.25,1,250,320,"IHP","N",0.25,320,"Y"]
["SL0000838325",2364,"N","N",0.5,13,null,"NA",null,"NA","NA","NA",2,877.69,1.25,122.31,null,"NA",null,"NA",null,"NA",1000,13,13,"UT","UTGS","RES",11185752,111,0.25,1,250,306,"IHP","N",0.25,306,"Y"]
["SL0000838899",2369,"N","N",0.5,2,0.75,61,null,"NA","NA","NA",2,19.100000000000001,4,121.2,8,859.69,null,"NA",null,"NA",999.99,63,24,"UT","UTGS","RES",760020882,760,0.25,1,0,320,"IHP","N",0.25,320,"Y"]
["SL0000839593",2374,"N","N",0.5,79,null,"NA",null,"NA","NA","NA",2,602,1.25,398,null,"NA",null,"NA",null,"NA",1000,79,10,"UT","UTGS","RES",26028247,260,0.25,1,250,320,"IHP","N",0.25,320,"Y"]
["SL0000839758",2378,"N","N",0.5,66,null,"NA",null,"NA","NA","NA",2,438.25,4,561.75,null,"NA",null,"NA",null,"NA",1000,66,12,"UT","UTGS","RES",26010522,260,0.25,1,250,320,"IHP","N",0.25,320,"Y"]
["SL0000840233",2379,"Y","N",0.75,38,null,"NA",null,"NA","NA","NA",4,1000,null,"NA",null,"NA",null,"NA",null,"NA",1000,38,25,"UT","UTGS","RES",26148124,261,0.25,1,250,320,"IHP","N",0.25,320,"Y"]
["SL0000840996",2383,"N","N",0.5,39,null,"NA",null,"NA","NA","NA",2,943.29,10,145.96,null,"NA",null,"NA",null,"NA",1089.25,39,32,"UT","UTGS","RES",11182638,111,0.25,1,250,306,"IHP","N",0.25,306,"Y"]
["SL0000841373",2388,"Y","N",0.5,36,null,"NA",null,"NA","NA","NA",2,1000,null,"NA",null,"NA",null,"NA",null,"NA",1000,36,29,"UT","UTGS","RES",760009128,760,0.25,1,0,320,"IHP","N",0.25,320,"Y"]
["SL0000841836",2393,"N","N",0.5,20,null,"NA",null,"NA","NA","NA",2,716.06,6,283.94,null,"NA",null,"NA",null,"NA",1000,20,8,"UT","UTGS","RES",36139222,361,0.25,1,250,320,"IHP","N",0.25,320,"Y"]
["SL0000841849",2394,"Y","N",0.75,77,null,"NA",null,"NA","NA","NA",4,1000,null,"NA",null,"NA",null,"NA",null,"NA",1000,77,15,"UT","UTGS","RES",760039437,760,0.25,1,0,320,"IHP","N",0.25,320,"Y"]
["SL0000842826",2400,"N","N",0.5,43,null,"NA",null,"NA","NA","NA",2,219.14,6,780.86,null,"NA",null,"NA",null,"NA",1000,43,11,"UT","UTGS","RES",36017707,360,0.25,1,250,320,"IHP","N",0.25,320,"Y"]
["SL0000843127",2403,"Y","N",0.5,56,null,"NA",null,"NA","NA","NA",4,563,1.25,437,null,"NA",null,"NA",null,"NA",1000,56,12,"UT","UTGS","RES",760024453,760,0.25,1,0,320,"IHP","N",0.25,320,"Y"]
["SL0000843743",2408,"N","N",0.5,93,null,"NA",null,"NA","NA","NA",2,369.25,3,630.75,null,"NA",null,"NA",null,"NA",1000,93,17,"UT","UTGS","RES",26089225,260,0.25,1,250,320,"IHP","N",0.25,320,"Y"]
["SL0000843805",2409,"N","N",0.75,49,null,"NA",null,"NA","NA","NA",2,1000,null,"NA",null,"NA",null,"NA",null,"NA",1000,49,8,"UT","UTGS","RES",760063251,760,0.25,1,0,320,"IHP","N",0.25,320,"Y"]
["SL0000844216",2413,"N","N",0.75,73,null,"NA",null,"NA","NA","NA",2,37.04,3,962.96,null,"NA",null,"NA",null,"NA",1000,73,12,"UT","UTGS","RES",25904266,259,0.25,1,400,540,"IHP","N",0.25,540,"Y"]
["SL0000844872",2418,"N","N",1.25,46,null,"NA",null,"NA","NA","NA",2,1000,null,"NA",null,"NA",null,"NA",null,"NA",1000,46,5,"UT","UTGS","NRES",26026756,260,0.25,1,250,320,"IHP","N",0.25,320,"Y"]
["SL0000845873",2421,"N","N",0.75,37,null,"NA",null,"NA","NA","NA",2,401.46,4,338.08,1.25,260.45999999999998,null,"NA",null,"NA",1000,37,12,"UT","UTGS","RES",46043904,460,0.25,1,250,320,"IHP","N",0.25,320,"Y"]
["SL0000846574",2423,"N","N",0.75,70,null,"NA",null,"NA","NA","NA",2,530,4,470,null,"NA",null,"NA",null,"NA",1000,70,19,"UT","UTGS","RES",12741235,127,0.25,1,250,320,"IHP","N",0.25,320,"Y"]
["SL0000847729",2428,"N","N",0.5,91,null,"NA",null,"NA","NA","NA",2,724.41,4,275.58999999999997,null,"NA",null,"NA",null,"NA",1000,91,25,"UT","UTGS","RES",760039563,760,0.25,1,0,320,"IHP","N",0.25,320,"Y"]
["SL0000848516",2433,"N","N",0.5,58,null,"NA",null,"NA","NA","NA",2,740.12,1.25,259.87,null,"NA",null,"NA",null,"NA",999.99,58,13,"UT","UTGS","RES",16065580,160,0.25,1,250,320,"IHP","N",0.25,320,"Y"]
["SL0000849713",2437,"N","Y",0.75,40,null,"NA",null,"NA","NA","NA",2,570,4,430,null,"NA",null,"NA",null,"NA",1000,40,16,"UT","UTGS","RES",760009606,760,2,1,0,550,"IHP","N",2,550,"Y"]
["SL0000849896",2438,"N","N",0.75,97,null,"NA",null,"NA","NA","NA",2,1000,null,"NA",null,"NA",null,"NA",null,"NA",1000,97,12,"UT","UTGS","RES",36163058,361,0.25,1,250,320,"IHP","N",0.25,320,"Y"]
["SL0000850167",2442,"N","N",0.75,29,null,"NA",null,"NA","NA","NA",2,265.11,3,734.89,null,"NA",null,"NA",null,"NA",1000,29,6,"UT","UTGS","RES",36102071,361,0.25,1,250,320,"IHP","N",0.25,320,"Y"]
["SL0000851048",2447,"N","N",0.5,30,null,"NA",null,"NA","NA","NA",2,1000,null,"NA",null,"NA",null,"NA",null,"NA",1000,30,15,"UT","UTGS","RES",26031933,260,0.25,1,250,320,"IHP","N",0.25,320,"Y"]
["SL0000851689",2452,"N","N",0.5,87,null,"NA",null,"NA","NA","NA",2,912.02,1.25,87.98,null,"NA",null,"NA",null,"NA",1000,87,13,"UT","UTGS","RES",760000247,760,0.25,1,0,320,"IHP","N",0.25,320,"Y"]
["SL0000852064",2454,"N","N",0.75,17,null,"NA",null,"NA","NA","NA",2,1000,null,"NA",null,"NA",null,"NA",null,"NA",1000,17,5,"UT","UTGS","NRES",22010307,220,2,2,400,930,"IHP","N",2,930,"Y"]
["SL0000852550",2457,"N","N",0.5,29,null,"NA",null,"NA","NA","NA",2,213.46,4,786.54,null,"NA",null,"NA",null,"NA",1000,29,14,"UT","UTGS","RES",46063871,460,0.25,1,250,320,"IHP","N",0.25,320,"Y"]
["SL0000855007",2462,"N","N",0.75,18,null,"NA",null,"NA","NA","NA",2,679,3,321,null,"NA",null,"NA",null,"NA",1000,18,11,"UT","UTGS","RES",36000847,360,0.25,1,250,320,"IHP","N",0.25,320,"Y"]
["SL0000855232",2464,"N","N",0.5,19,null,"NA",null,"NA","NA","NA",2,260,4,203,1.25,537,null,"NA",null,"NA",1000,19,27,"UT","UTGS","RES",46142209,461,2,1,250,550,"IHP","N",2,550,"Y"]
["SL0000856047",2467,"N","N",0.5,39,null,"NA",null,"NA","NA","NA",2,892,0.75,108,null,"NA",null,"NA",null,"NA",1000,39,18,"UT","UTGS","RES",26117692,261,0.25,1,250,320,"IHP","N",0.25,320,"Y"]
["SL0000856763",2472,"N","N",0.75,95,null,"NA",null,"NA","NA","NA",2,681.93,4,318.07,null,"NA",null,"NA",null,"NA",1000,95,14,"UT","UTGS","RES",12670486,126,0.25,1,250,175,"IHP","N",0.25,175,"Y"]
["SL0000857290",2476,"N","N",0.75,86,null,"NA",null,"NA","NA","NA",2,996,0.75,4,null,"NA",null,"NA",null,"NA",1000,86,8,"UT","UTGS","RES",12663475,126,0.25,1,250,175,"IHP","N",0.25,175,"Y"]
["SL0000858241",2481,"N","N",0.75,75,null,"NA",null,"NA","NA","NA",2,1000,null,"NA",null,"NA",null,"NA",null,"NA",1000,75,23,"UT","UTGS","RES",12749233,127,0.25,1,250,320,"IHP","N",0.25,320,"Y"]
["SL0000858384",2482,"Y","N",0.5,44,null,"NA",null,"NA","NA","NA",2,300,3,520,1.25,180,null,"NA",null,"NA",1000,44,19,"UT","UTGS","RES",26061945,260,0.25,1,250,320,"IHP","N",0.25,320,"Y"]
["SL0000858917",2488,"N","N",0.5,70,null,"NA",null,"NA","NA","NA",2,1000,null,"NA",null,"NA",null,"NA",null,"NA",1000,70,22,"UT","UTGS","RES",16105686,161,0.25,1,250,320,"IHP","N",0.25,320,"Y"]
["SL0000859527",2491,"N","N",0.5,40,null,"NA",null,"NA","NA","NA",2,1000,null,"NA",null,"NA",null,"NA",null,"NA",1000,40,19,"UT","UTGS","RES",21119513,211,0.25,1,250,306,"IHP","N",0.25,306,"Y"]
["SL0000860754",2496,"N","N",0.5,41,null,"NA",null,"NA","NA","NA",2,1000,null,"NA",null,"NA",null,"NA",null,"NA",1000,41,7,"UT","UTGS","RES",21115899,211,0.25,1,250,306,"IHP","N",0.25,306,"Y"]
["SL0000861101",2497,"Y","N",0.5,34,null,"NA",null,"NA","NA","NA",2,796,0.75,204,null,"NA",null,"NA",null,"NA",1000,34,13,"UT","UTGS","RES",46008942,460,0.25,1,250,320,"IHP","N",0.25,320,"Y"]
["SL0000861772",2501,"N","N",0.75,5,null,"NA",null,"NA","NA","NA",2,317.75,3,511.25,0.75,171,null,"NA",null,"NA",1000,5,12,"UT","UTGS","RES",26192883,261,0.25,1,250,320,"IHP","N",0.25,320,"Y"]
["SL0000900658",2506,"Y","N",0.5,89,null,"NA",null,"NA","NA","NA",1,556.17999999999995,2,353.82,1.25,90,null,"NA",null,"NA",1000,89,6,"UT","UTGS","RES",46093469,460,0.25,1,250,320,"IHP","N",0.25,320,"Y"]
["SL0000902404",2511,"N","Y",0.5,23,0.75,73,null,"NA","NA","NA",2,1000,null,"NA",null,"NA",null,"NA",null,"NA",1000,96,26,"UT","UTGS","RES",46128659,461,2,1,250,550,"IHP","N",2,550,"Y"]
["SL0000902821",2513,"N","N",0.5,70,null,"NA",null,"NA","NA","NA",2,1000,null,"NA",null,"NA",null,"NA",null,"NA",1000,70,4,"UT","UTGS","RES",46109443,461,2,1,250,550,"IHP","N",2,550,"Y"]
["SL0000903256",2516,"N","N",0.75,56,null,"NA",null,"NA","NA","NA",2,1000,null,"NA",null,"NA",null,"NA",null,"NA",1000,56,6,"UT","UTGS","RES",26038189,260,2,1,250,550,"IHP","N",2,550,"Y"]
["SL0000903866",2521,"N","N",1.25,215,null,"NA",null,"NA","NA","NA",2,855,0.75,3,null,"NA",null,"NA",null,"NA",858,215,3,"UT","UTGS","NRES",15600100,156,0.25,2,1400,1400,"IHP","N",0.25,1400,"Y"]
["SL0000904525",2523,"N","N",0.75,358,null,"NA",null,"NA","NA","NA",4,1000,null,"NA",null,"NA",null,"NA",null,"NA",1000,358,7,"UT","UTGS","NRES",25501996,255,0.25,2,1000,1000,"IHP","N",0.25,1000,"Y"]
["SL0000905239",2526,"N","N",1.25,9,null,"NA",null,"NA","NA","NA",2,352.25,4,486.75,1.25,161,null,"NA",null,"NA",1000,9,7,"UT","UTGS","RES",21123847,211,0.25,1,250,306,"IHP","N",0.25,306,"Y"]
["SL0000910175",2531,"Y","N",0.5,55,null,"NA",null,"NA","NA","NA",2,939.1,1.25,60.9,null,"NA",null,"NA",null,"NA",1000,55,5,"UT","UTGS","RES",36111492,361,2,1,250,550,"IHP","N",2,550,"Y"]
["SL0000911678",2535,"N","N",2,319,null,"NA",null,"NA","NA","NA",4,120,12,70.959999999999994,16,809.04,null,"NA",null,"NA",1000,319,6,"UT","UTGS","RES",46163135,461,2,1,250,550,"IHP","N",2,550,"Y"]
["SL0000913551",2540,"N","N",0.5,48,null,"NA",null,"NA","NA","NA",2,581,1.25,419,null,"NA",null,"NA",null,"NA",1000,48,26,"UT","UTGS","RES",26130358,261,0.25,1,250,320,"IHP","N",0.25,320,"Y"]
["SL0000914001",2541,"N","N",0.5,59,null,"NA",null,"NA","NA","NA",2,43.95,4,824.05,8,59,12,73,null,"NA",1000,59,6,"UT","UTGS","RES",760046278,760,0.25,1,0,320,"IHP","N",0.25,320,"Y"]
["SL0000914742",2547,"N","N",0.5,63,null,"NA",null,"NA","NA","NA",2,356.29,0.75,336,1.25,307.70999999999998,null,"NA",null,"NA",1000,63,10,"UT","UTGS","RES",26127766,261,0.25,1,250,320,"IHP","N",0.25,320,"Y"]
["SL0000915715",2550,"N","N",0.5,55,null,"NA",null,"NA","NA","NA",2,372,1.25,628,null,"NA",null,"NA",null,"NA",1000,55,19,"UT","UTGS","RES",36016825,360,0.25,1,250,320,"IHP","N",0.25,320,"Y"]
["SL0000921671",2555,"N","Y",0.5,18,null,"NA",null,"NA","NA","NA",1,40.14,2,5.14,3,469.72,1.25,65,2.5,420,1000,18,26,"UT","UTGS","RES",46079038,460,0.25,1,250,320,"IHP","N",0.25,320,"Y"]
["SL0000921983",2556,"N","N",0.75,38,null,"NA",null,"NA","NA","NA",2,725,0.75,275,null,"NA",null,"NA",null,"NA",1000,38,20,"UT","UTGS","RES",26004877,260,0.25,1,250,320,"IHP","N",0.25,320,"Y"]
["SL0000922405",2560,"N","N",0.5,58,null,"NA",null,"NA","NA","NA",2,74.64,4,925.36,null,"NA",null,"NA",null,"NA",1000,58,7,"UT","UTGS","RES",46021096,460,0.25,1,250,320,"IHP","N",0.25,320,"Y"]
["SL0000923998",2565,"N","N",0.75,47,null,"NA",null,"NA","NA","NA",2,1000,null,"NA",null,"NA",null,"NA",null,"NA",1000,47,7,"UT","UTGS","RES",16049951,160,0.25,1,250,320,"IHP","N",0.25,320,"Y"]
["SL0000925756",2568,"N","N",0.5,116,null,"NA",null,"NA","NA","NA",2,944.07,3,55.93,null,"NA",null,"NA",null,"NA",1000,116,10,"UT","UTGS","RES",36053634,360,0.25,1,250,320,"IHP","N",0.25,320,"Y"]
["SL0000926606",2570,"Y","N",0.5,59,null,"NA",null,"NA","NA","NA",2,268.66000000000003,4,731.34,null,"NA",null,"NA",null,"NA",1000,59,6,"UT","UTGS","RES",16003429,160,0.25,1,250,320,"IHP","N",0.25,320,"Y"]
["SL0000929203",2575,"N","N",0.5,72,null,"NA",null,"NA","NA","NA",2,854.91,1.25,145.09,null,"NA",null,"NA",null,"NA",1000,72,11,"UT","UTGS","RES",16105872,161,0.25,1,250,320,"IHP","N",0.25,320,"Y"]
["SL0000930813",2580,"N","N",0.75,116,null,"NA",null,"NA","NA","NA",2,165.65,3,185.71,4,648.65,null,"NA",null,"NA",1000.01,116,6,"UT","UTGS","RES",46163822,461,0.25,1,250,320,"IHP","N",0.25,320,"Y"]
["SL0000931909",2584,"N","N",0.5,41,null,"NA",null,"NA","NA","NA",2,1000,null,"NA",null,"NA",null,"NA",null,"NA",1000,41,11,"UT","UTGS","RES",36046106,360,0.25,1,250,320,"IHP","N",0.25,320,"Y"]
["SL0000932113",2585,"N","N",0.75,66,null,"NA",null,"NA","NA","NA",2,1000,null,"NA",null,"NA",null,"NA",null,"NA",1000,66,5,"UT","UTGS","RES",751000183,751,0.25,1,0,800,"IHP","N",0.25,800,"Y"]
["SL0000933426",2590,"N","Y",0.5,29,0.75,1,null,"NA","NA","NA",2,680,0.75,320,null,"NA",null,"NA",null,"NA",1000,30,15,"UT","UTGS","RES",46068433,460,0.25,1,250,320,"IHP","N",0.25,320,"Y"]
["SL0000933912",2594,"N","N",0.5,74,null,"NA",null,"NA","NA","NA",2,264.11,3,735.89,null,"NA",null,"NA",null,"NA",1000,74,8,"UT","UTGS","RES",16089582,160,0.25,1,250,320,"IHP","N",0.25,320,"Y"]
["SL0000935852",2599,"N","Y",0.5,122,0.75,24,null,"NA","NA","NA",2,1000,null,"NA",null,"NA",null,"NA",null,"NA",1000,146,36,"UT","UTGS","RES",36044801,360,0.25,1,250,320,"IHP","N",0.25,320,"Y"]
["SL0000935876",2600,"N","N",1.25,32,null,"NA",null,"NA","NA","NA",2,408.78,4,591.22,null,"NA",null,"NA",null,"NA",1000,32,14,"UT","UTGS","RES",16068365,160,0.25,1,250,320,"IHP","N",0.25,320,"Y"]
["SL0000937729",2606,"N","N",0.5,30,null,"NA",null,"NA","NA","NA",2,1000,null,"NA",null,"NA",null,"NA",null,"NA",1000,30,10,"UT","UTGS","RES",36180044,361,0.25,1,250,320,"IHP","N",0.25,320,"Y"]
["SL0000938869",2609,"Y","N",0.75,49,null,"NA",null,"NA","NA","NA",2,397.71,4,602.29,null,"NA",null,"NA",null,"NA",1000,49,17,"UT","UTGS","RES",12626613,126,0.25,1,250,175,"IHP","N",0.25,175,"Y"]
["SL0000941389",2614,"N","N",0.5,74,null,"NA",null,"NA","NA","NA",2,652.29,4,347.72,null,"NA",null,"NA",null,"NA",1000.01,74,7,"UT","UTGS","RES",46140796,461,2,1,250,550,"IHP","N",2,550,"Y"]
["SL0000941406",2615,"N","N",0.75,112,null,"NA",null,"NA","NA","NA",1.25,1000,null,"NA",null,"NA",null,"NA",null,"NA",1000,112,7,"UT","UTGS","RES",25913166,259,0.25,1,400,540,"IHP","N",0.25,540,"Y"]
["SL0000942415",2619,"N","N",0.5,27,null,"NA",null,"NA","NA","NA",2,835.99,1.25,164.01,null,"NA",null,"NA",null,"NA",1000,27,19,"UT","UTGS","RES",12627522,126,0.25,1,250,175,"IHP","N",0.25,175,"Y"]
["SL0000943617",2624,"N","N",1.25,181,null,"NA",null,"NA","NA","NA",4,1000,null,"NA",null,"NA",null,"NA",null,"NA",1000,181,15,"UT","UTGS","RES",760039085,760,0.25,1,0,320,"IHP","N",0.25,320,"Y"]
["SL0000945039",2627,"Y","Y",1.25,47,null,"NA",null,"NA","NA","NA",2,632,1.25,368,null,"NA",null,"NA",null,"NA",1000,47,11,"UT","UTGS","RES",760009489,760,0.25,1,0,320,"IHP","N",0.25,320,"Y"]
["SL0000945703",2629,"N","N",0.5,12,null,"NA",null,"NA","NA","NA",2,1000,null,"NA",null,"NA",null,"NA",null,"NA",1000,12,13,"UT","UTGS","RES",26102410,261,0.25,1,250,320,"IHP","N",0.25,320,"Y"]
["SL0000946088",2634,"N","N",0.5,80,null,"NA",null,"NA","NA","NA",2,1000,null,"NA",null,"NA",null,"NA",null,"NA",1000,80,17,"UT","UTGS","RES",15900343,159,0.25,1,400,540,"IHP","N",0.25,540,"Y"]
["SL0001001128",2639,"N","N",0.75,88,null,"NA",null,"NA","NA","NA",2,664,4,27,1.25,309,null,"NA",null,"NA",1000,88,19,"UT","UTGS","RES",26137383,261,0.25,1,250,320,"IHP","N",0.25,320,"Y"]
["SL0001002140",2643,"N","N",0.75,40,null,"NA",null,"NA","NA","NA",2,1000,null,"NA",null,"NA",null,"NA",null,"NA",1000,40,18,"UT","UTGS","RES",46089895,460,0.25,1,250,320,"IHP","N",0.25,320,"Y"]
["SL0001002141",2644,"N","Y",0.75,1,null,"NA",null,"NA","NA","NA",2,1000,null,"NA",null,"NA",null,"NA",null,"NA",1000,1,8,"UT","UTGS","RES",46152235,461,0.25,1,250,320,"IHP","N",0.25,320,"Y"]
["SL0001003312",2649,"N","N",0.5,46,0.75,35,null,"NA","NA","NA",2,223,1.25,777,null,"NA",null,"NA",null,"NA",1000,81,16,"UT","UTGS","RES",46067642,460,0.25,1,250,320,"IHP","N",0.25,320,"Y"]
["SL0001003970",2653,"N","N",0.75,132,null,"NA",null,"NA","NA","NA",2,466.96,4,533.04,null,"NA",null,"NA",null,"NA",1000,132,9,"UT","UTGS","RES",46086856,460,0.25,1,250,320,"IHP","N",0.25,320,"Y"]
["SL0001004407",2658,"N","N",1.25,140,null,"NA",null,"NA","NA","NA",2,322.5,4,677.5,null,"NA",null,"NA",null,"NA",1000,140,8,"UT","UTGS","NRES",27101080,271,2,2,3000,3300,"IHP","N",2,3300,"Y"]
["SL0001005647",2661,"N","Y",0.75,1,null,"NA",null,"NA","NA","NA",2,1000,null,"NA",null,"NA",null,"NA",null,"NA",1000,1,8,"UT","UTGS","RES",46151667,461,0.25,1,250,320,"IHP","N",0.25,320,"Y"]
["SL0001005847",2663,"N","N",0.5,71,null,"NA",null,"NA","NA","NA",2,974.73,1.25,25.27,null,"NA",null,"NA",null,"NA",1000,71,23,"UT","UTGS","RES",22002458,220,0.25,1,400,500,"IHP","N",0.25,500,"Y"]
["SL0001007242",2668,"N","N",0.75,81,null,"NA",null,"NA","NA","NA",2,1000,null,"NA",null,"NA",null,"NA",null,"NA",1000,81,14,"UT","UTGS","RES",12707712,127,0.25,1,250,320,"IHP","N",0.25,320,"Y"]
["SL0001008156",2670,"N","N",0.75,139,null,"NA",null,"NA","NA","NA",2,48.19,3,851,0.75,32.6,1.25,68.209999999999994,null,"NA",1000,139,12,"UT","UTGS","RES",26112759,261,0.25,1,250,320,"IHP","N",0.25,320,"Y"]
["SL0001008668",2673,"N","N",0.5,50,null,"NA",null,"NA","NA","NA",2,853.07,1.25,146.93,null,"NA",null,"NA",null,"NA",1000,50,22,"UT","UTGS","RES",760071111,760,0.25,1,0,320,"IHP","N",0.25,320,"Y"]
["SL0001009387",2678,"N","Y",0.5,5,null,"NA",null,"NA","NA","NA",2,940,0.75,60,null,"NA",null,"NA",null,"NA",1000,5,16,"UT","UTGS","RES",46146876,461,0.25,1,250,320,"IHP","N",0.25,320,"Y"]
["SL0001010145",2682,"N","N",0.75,99,null,"NA",null,"NA","NA","NA",2,884.28,3,19.239999999999998,4,96.48,null,"NA",null,"NA",1000,99,8,"UT","UTGS","RES",36147591,361,0.25,1,250,320,"IHP","N",0.25,320,"Y"]
["SL0001011344",2687,"N","N",1.25,150,null,"NA",null,"NA","NA","NA",2,871.19,6,83.61,0.75,45.19,null,"NA",null,"NA",999.99,150,13,"UT","UTGS","NRES",23200017,232,2,2,5000,5565,"IHP","N",2,5565,"Y"]
["SL0001011406",2688,"N","Y",0.75,139,null,"NA",null,"NA","NA","NA",2,233.25,6,766.75,null,"NA",null,"NA",null,"NA",1000,139,9,"UT","UTGS","RES",760069526,760,0.25,1,0,320,"IHP","N",0.25,320,"Y"]
["SL0001012134",2693,"N","N",0.5,75,null,"NA",null,"NA","NA","NA",2,1000,null,"NA",null,"NA",null,"NA",null,"NA",1000,75,6,"UT","UTGS","RES",46089836,460,0.25,1,250,320,"IHP","N",0.25,320,"Y"]
["SL0001013170",2696,"N","Y",0.75,88,null,"NA",null,"NA","NA","NA",2,1000,null,"NA",null,"NA",null,"NA",null,"NA",1000,88,10,"UT","UTGS","RES",46048233,460,0.25,1,250,320,"IHP","N",0.25,320,"Y"]
["SL0001014639",2702,"N","N",0.75,15,null,"NA",null,"NA","NA","NA",2,946,1.25,54,null,"NA",null,"NA",null,"NA",1000,15,6,"UT","UTGS","RES",760077660,760,2,1,0,550,"IHP","N",2,550,"Y"]
["SL0001014760",2703,"N","N",0.5,47,null,"NA",null,"NA","NA","NA",2,514,0.75,67,1.25,419,null,"NA",null,"NA",1000,47,8,"UT","UTGS","RES",36075423,360,0.25,1,250,320,"IHP","N",0.25,320,"Y"]
["SL0001016570",2708,"N","N",0.5,18,null,"NA",null,"NA","NA","NA",2,908.54,6,43.77,1.25,47.68,null,"NA",null,"NA",999.99,18,14,"UT","UTGS","RES",46083330,460,0.25,1,250,320,"IHP","N",0.25,320,"Y"]
["SL0001016834",2712,"N","N",0.5,30,null,"NA",null,"NA","NA","NA",2,141.43,3,464.43,4,94.04,6,300.11,null,"NA",1000.01,30,10,"UT","UTGS","RES",26049097,260,0.25,1,250,320,"IHP","N",0.25,320,"Y"]
["SL0001017979",2717,"N","N",0.5,95,null,"NA",null,"NA","NA","NA",2,1000,null,"NA",null,"NA",null,"NA",null,"NA",1000,95,26,"UT","UTGS","RES",26162658,261,0.25,1,250,320,"IHP","N",0.25,320,"Y"]
["SL0001018096",2720,"Y","N",0.5,49,null,"NA",null,"NA","NA","NA",2,655,1.25,345,null,"NA",null,"NA",null,"NA",1000,49,18,"UT","UTGS","RES",26171263,261,0.25,1,250,320,"IHP","N",0.25,320,"Y"]
["SL0001018270",2722,"N","N",0.75,186,null,"NA",null,"NA","NA","NA",2,5,1.25,995,null,"NA",null,"NA",null,"NA",1000,186,11,"UT","UTGS","RES",22002591,220,0.25,1,400,500,"IHP","N",0.25,500,"Y"]
["SL0001020486",2727,"N","N",0.5,31,null,"NA",null,"NA","NA","NA",2,1000,null,"NA",null,"NA",null,"NA",null,"NA",1000,31,8,"UT","UTGS","RES",36159504,361,0.25,1,250,320,"IHP","N",0.25,320,"Y"]
["SL0001020683",2729,"N","N",0.5,93,null,"NA",null,"NA","NA","NA",2,867,1.25,133,null,"NA",null,"NA",null,"NA",1000,93,29,"UT","UTGS","RES",26129985,261,0.25,1,250,320,"IHP","N",0.25,320,"Y"]
["SL0001021382",2732,"Y","N",0.75,31,null,"NA",null,"NA","NA","NA",2,1000,null,"NA",null,"NA",null,"NA",null,"NA",1000,31,10,"UT","UTGS","RES",760033056,760,0.25,1,0,320,"IHP","N",0.25,320,"Y"]
["SL0001022076",2737,"N","N",0.5,56,null,"NA",null,"NA","NA","NA",2,1000,null,"NA",null,"NA",null,"NA",null,"NA",1000,56,7,"UT","UTGS","RES",36114163,361,0.25,1,250,320,"IHP","N",0.25,320,"Y"]
["SL0001022692",2741,"N","N",0.5,34,null,"NA",null,"NA","NA","NA",2,1000,null,"NA",null,"NA",null,"NA",null,"NA",1000,34,8,"UT","UTGS","RES",26084923,260,0.25,1,250,320,"IHP","N",0.25,320,"Y"]
["SL0001024322",2746,"Y","Y",0.75,70,null,"NA",null,"NA","NA","NA",2,1000,null,"NA",null,"NA",null,"NA",null,"NA",1000,70,17,"UT","UTGS","RES",16046694,160,0.25,1,250,320,"IHP","N",0.25,320,"Y"]
["SL0001024346",2747,"Y","N",0.5,118,null,"NA",null,"NA","NA","NA",2,968.91,8,31.09,null,"NA",null,"NA",null,"NA",1000,118,9,"UT","UTGS","RES",760055380,760,0.25,1,0,320,"IHP","N",0.25,320,"Y"]
["SL0001025857",2753,"N","Y",0.5,135,null,"NA",null,"NA","NA","NA",2,879.12,6,88.88,1.25,32,null,"NA",null,"NA",1000,135,10,"UT","UTGS","RES",16001995,160,0.25,1,250,320,"IHP","N",0.25,320,"Y"]
["SL0001026399",2756,"N","N",0.75,50,null,"NA",null,"NA","NA","NA",2,606.25,4,383.25,6,10.5,null,"NA",null,"NA",1000,50,7,"UT","UTGS","RES",760058592,760,0.25,1,0,320,"IHP","N",0.25,320,"Y"]
["SL0001027798",2761,"Y","N",0.5,43,null,"NA",null,"NA","NA","NA",2,966.24,3,33.76,null,"NA",null,"NA",null,"NA",1000,43,17,"UT","UTGS","RES",26040939,260,0.25,1,250,320,"IHP","N",0.25,320,"Y"]
["SL0001027799",2762,"N","N",0.75,31,null,"NA",null,"NA","NA","NA",2,441,4,559,null,"NA",null,"NA",null,"NA",1000,31,6,"UT","UTGS","RES",760040428,760,0.25,1,0,320,"IHP","N",0.25,320,"Y"]
["SL0001029427",2766,"N","N",0.5,111,null,"NA",null,"NA","NA","NA",2,1000,null,"NA",null,"NA",null,"NA",null,"NA",1000,111,19,"UT","UTGS","RES",36027404,360,0.25,1,250,320,"IHP","N",0.25,320,"Y"]
["SL0001030797",2771,"N","N",0.5,36,null,"NA",null,"NA","NA","NA",2,917.82,0.75,71.37,1.25,10.82,null,"NA",null,"NA",1000.01,36,12,"UT","UTGS","RES",26031236,260,0.25,1,250,320,"IHP","N",0.25,320,"Y"]
["SL0001031487",2775,"N","N",0.75,42,null,"NA",null,"NA","NA","NA",2,999.01,null,"NA",null,"NA",null,"NA",null,"NA",999.01,42,6,"UT","UTGS","RES",761000006,761,0.25,1,0,0,"IHP","N",0.25,320,"Y"]
["SL0001031489",2776,"N","N",0.5,48,null,"NA",null,"NA","NA","NA",2,1000,null,"NA",null,"NA",null,"NA",null,"NA",1000,48,13,"UT","UTGS","RES",46096858,460,0.25,1,250,320,"IHP","N",0.25,320,"Y"]
["SL0001032127",2781,"N","N",0.5,67,0.75,41,null,"NA","NA","NA",2,878.85,1.25,121.15,null,"NA",null,"NA",null,"NA",1000,108,17,"UT","UTGS","RES",16004188,160,0.25,1,250,320,"IHP","N",0.25,320,"Y"]
["SL0001033623",2784,"N","N",0.5,100,null,"NA",null,"NA","NA","NA",2,278.95999999999998,4,503.57,8,217.47,null,"NA",null,"NA",1000,100,15,"UT","UTGS","RES",760079758,760,0.25,1,0,320,"IHP","N",0.25,320,"Y"]
["SL0001037412",2790,"N","N",0.5,35,null,"NA",null,"NA","NA","NA",2,766.02,3,41.99,4,191.99,null,"NA",null,"NA",1000,35,8,"UT","UTGS","RES",12638332,126,0.25,1,250,175,"IHP","N",0.25,175,"Y"]
["SL0001037428",2791,"N","N",0.5,58,null,"NA",null,"NA","NA","NA",2,173,3,18.989999999999998,4,808.01,null,"NA",null,"NA",1000,58,14,"UT","UTGS","RES",760061401,760,0.25,1,0,320,"IHP","N",0.25,320,"Y"]
["SL0001039430",2796,"N","N",0.5,35,null,"NA",null,"NA","NA","NA",2,713.59,4,286.41000000000003,null,"NA",null,"NA",null,"NA",1000,35,20,"UT","UTGS","RES",16046872,160,0.25,1,250,320,"IHP","N",0.25,320,"Y"]
["SL0001040117",2800,"N","N",0.5,48,null,"NA",null,"NA","NA","NA",4,1000,null,"NA",null,"NA",null,"NA",null,"NA",1000,48,16,"UT","UTGS","RES",36011450,360,0.25,1,250,320,"IHP","N",0.25,320,"Y"]
["SL0001042891",2805,"N","N",0.75,34,null,"NA",null,"NA","NA","NA",2,1000,null,"NA",null,"NA",null,"NA",null,"NA",1000,34,4,"UT","UTGS","RES",22003835,220,0.25,1,400,500,"IHP","N",0.25,500,"Y"]
["SL0001042915",2806,"N","Y",0.75,4,null,"NA",null,"NA","NA","NA",2,512,3,142.94,4,142.94,1.25,202.12,null,"NA",1000,4,14,"UT","UTGS","RES",760004315,760,0.25,1,0,320,"IHP","N",0.25,320,"Y"]
["SL0001044293",2812,"N","N",0.75,64,null,"NA",null,"NA","NA","NA",2,848.95,4,31.53,1.5,119.53,null,"NA",null,"NA",1000.01,64,11,"UT","UTGS","RES",26117445,261,0.25,1,250,320,"IHP","N",0.25,320,"Y"]
["SL0001044953",2815,"N","N",0.5,55,null,"NA",null,"NA","NA","NA",2,1000,null,"NA",null,"NA",null,"NA",null,"NA",1000,55,26,"UT","UTGS","RES",46003068,460,0.25,1,250,320,"IHP","N",0.25,320,"Y"]
["SL0001047746",2820,"N","N",0.5,24,null,"NA",null,"NA","NA","NA",2,837.47,4,95.53,0.75,67,null,"NA",null,"NA",1000,24,6,"UT","UTGS","RES",36137369,361,0.25,1,250,320,"IHP","N",0.25,320,"Y"]
["SL0001048290",2822,"N","Y",0.5,42,null,"NA",null,"NA","NA","NA",2,1000,null,"NA",null,"NA",null,"NA",null,"NA",1000,42,12,"UT","UTGS","RES",12648777,126,0.25,1,250,175,"IHP","N",0.25,175,"Y"]
["SL0001048772",2825,"N","N",0.5,19,null,"NA",null,"NA","NA","NA",2,420.63,1.25,579.37,null,"NA",null,"NA",null,"NA",1000,19,8,"UT","UTGS","RES",46095996,460,0.25,1,250,320,"IHP","N",0.25,320,"Y"]
["SL0001050030",2830,"Y","N",0.5,48,null,"NA",null,"NA","NA","NA",2,1000,null,"NA",null,"NA",null,"NA",null,"NA",1000,48,17,"UT","UTGS","RES",46152635,461,0.25,1,250,320,"IHP","N",0.25,320,"Y"]
["SL0001050814",2834,"N","N",0.75,94,null,"NA",null,"NA","NA","NA",2,1000,null,"NA",null,"NA",null,"NA",null,"NA",1000,94,14,"UT","UTGS","RES",46006050,460,0.25,1,250,320,"IHP","N",0.25,320,"Y"]
["SL0001050921",2835,"N","N",2,2,1.25,19,null,"NA","NA","NA",2,1000,null,"NA",null,"NA",null,"NA",null,"NA",1000,21,7,"UT","UTGS","NRES",11112673,111,2,1,250,428,"IHP","N",2,428,"Y"]
["SL0001053126",2840,"Y","N",0.75,30,null,"NA",null,"NA","NA","NA",2,839,4,161,null,"NA",null,"NA",null,"NA",1000,30,7,"UT","UTGS","RES",26048452,260,2,1,250,550,"IHP","N",2,550,"Y"]
["SL0001053181",2843,"N","N",0.5,39,null,"NA",null,"NA","NA","NA",2,668.5,4,121.5,1.25,210,null,"NA",null,"NA",1000,39,17,"UT","UTGS","RES",26195605,261,0.25,1,250,320,"IHP","N",0.25,320,"Y"]
["SL0001054930",2849,"N","N",0.5,42,null,"NA",null,"NA","NA","NA",2,207,4,551.25,1.25,241.75,null,"NA",null,"NA",1000,42,11,"UT","UTGS","RES",36180029,361,0.25,1,250,320,"IHP","N",0.25,320,"Y"]
["SL0001055001",2850,"N","N","Unknown",28,null,"NA",null,"NA","NA","NA",2,1000,null,"NA",null,"NA",null,"NA",null,"NA",1000,28,8,"UT","UTGS","RES",26099270,260,0.25,1,250,320,"IHP","N",0.25,320,"Y"]
["SL0001058598",2855,"N","N",0.75,76,null,"NA",null,"NA","NA","NA",2,1000,null,"NA",null,"NA",null,"NA",null,"NA",1000,76,13,"UT","UTGS","RES",26149269,261,0.25,1,250,320,"IHP","N",0.25,320,"Y"]
["SL0001059852",2859,"N","Y",0.5,64,0.75,31,null,"NA","NA","NA",2,966.93,1.25,33.07,null,"NA",null,"NA",null,"NA",1000,95,18,"UT","UTGS","RES",16030772,160,0.25,1,250,320,"IHP","N",0.25,320,"Y"]
["SL0001060959",2864,"Y","N",0.5,49,null,"NA",null,"NA","NA","NA",2,929.5,1.25,70.5,null,"NA",null,"NA",null,"NA",1000,49,11,"UT","UTGS","RES",46027287,460,0.25,1,250,320,"IHP","N",0.25,320,"Y"]
["SL0001061966",2867,"N","N",0.5,95,null,"NA",null,"NA","NA","NA",2,94.89,3,836.22,1.25,68.89,null,"NA",null,"NA",1000,95,6,"UT","UTGS","RES",26063679,260,0.25,1,250,320,"IHP","N",0.25,320,"Y"]
["SL0001062167",2869,"N","N",0.5,19,null,"NA",null,"NA","NA","NA",2,1000,null,"NA",null,"NA",null,"NA",null,"NA",1000,19,15,"UT","UTGS","RES",26030626,260,0.25,1,250,320,"IHP","N",0.25,320,"Y"]
["SL0001063518",2874,"N","N",0.75,22,null,"NA",null,"NA","NA","NA",2,1000,null,"NA",null,"NA",null,"NA",null,"NA",1000,22,9,"UT","UTGS","RES",36106774,361,2,1,250,550,"IHP","N",2,550,"Y"]
["SL0001064128",2876,"N","N",1.25,125,null,"NA",null,"NA","NA","NA",2,180.08,4,201.92,6,618,null,"NA",null,"NA",1000,125,6,"UT","UTGS","RES",760003777,760,0.25,1,0,320,"IHP","N",0.25,320,"Y"]
["SL0001064624",2879,"Y","N",0.5,59,0.75,45,null,"NA","NA","NA",2,1000,null,"NA",null,"NA",null,"NA",null,"NA",1000,104,17,"UT","UTGS","RES",36106316,361,0.25,1,250,320,"IHP","N",0.25,320,"Y"]
["SL0001065807",2884,"N","N",0.75,117,null,"NA",null,"NA","NA","NA",2,1000,null,"NA",null,"NA",null,"NA",null,"NA",1000,117,21,"UT","UTGS","RES",46092436,460,0.25,1,250,320,"IHP","N",0.25,320,"Y"]
["SL0001066937",2889,"N","N",0.5,39,null,"NA",null,"NA","NA","NA",2,462.06,1.25,537.94000000000005,null,"NA",null,"NA",null,"NA",1000,39,4,"UT","UTGS","RES",36046860,360,0.25,1,250,320,"IHP","N",0.25,320,"Y"]
["SL0001067798",2893,"Y","N",1.25,176,null,"NA",null,"NA","NA","NA",2,717.21,1.25,282.79000000000002,null,"NA",null,"NA",null,"NA",1000,176,17,"UT","UTGS","NRES",26195502,261,2,1,250,550,"IHP","N",2,550,"Y"]
["SL0001067840",2894,"N","N",0.5,85,null,"NA",null,"NA","NA","NA",2,1000,null,"NA",null,"NA",null,"NA",null,"NA",1000,85,14,"UT","UTGS","RES",26067837,260,0.25,1,250,320,"IHP","N",0.25,320,"Y"]
["SL0001068877",2899,"N","N",0.75,43,null,"NA",null,"NA","NA","NA",2,1000,null,"NA",null,"NA",null,"NA",null,"NA",1000,43,16,"UT","UTGS","RES",46024518,460,0.25,1,250,320,"IHP","N",0.25,320,"Y"]
["SL0001069896",2902,"N","N",0.5,37,null,"NA",null,"NA","NA","NA",2,21.16,4,978.84,null,"NA",null,"NA",null,"NA",1000,37,16,"UT","UTGS","RES",25901155,259,0.25,1,400,540,"IHP","N",0.25,540,"Y"]
["SL0001070997",2908,"N","N",0.5,46,0.75,45,null,"NA","NA","NA",2,899.88,4,100.12,null,"NA",null,"NA",null,"NA",1000,91,18,"UT","UTGS","RES",46033086,460,0.25,1,250,320,"IHP","N",0.25,320,"Y"]
["SL0001071150",2909,"N","N",0.5,74,null,"NA",null,"NA","NA","NA",2,687.76,1.25,312.24,null,"NA",null,"NA",null,"NA",1000,74,26,"UT","UTGS","RES",36065928,360,0.25,1,250,320,"IHP","N",0.25,320,"Y"]
["SL0001073349",2914,"N","N",0.5,52,null,"NA",null,"NA","NA","NA",2,613.20000000000005,1.25,386.8,null,"NA",null,"NA",null,"NA",1000,52,7,"UT","UTGS","RES",26186210,261,0.25,1,250,320,"IHP","N",0.25,320,"Y"]
["SL0001074440",2918,"N","N",0.5,40,null,"NA",null,"NA","NA","NA",2,1000,null,"NA",null,"NA",null,"NA",null,"NA",1000,40,8,"UT","UTGS","RES",46120699,461,0.25,1,250,320,"IHP","N",0.25,320,"Y"]
["SL0001075710",2923,"N","Y",0.75,29,null,"NA",null,"NA","NA","NA",2,724,0.75,276,null,"NA",null,"NA",null,"NA",1000,29,11,"UT","UTGS","RES",760061897,760,0.25,1,0,320,"IHP","N",0.25,320,"Y"]
["SL0001076246",2926,"N","N",0.75,191,null,"NA",null,"NA","NA","NA",2,892.52,4,107.48,null,"NA",null,"NA",null,"NA",1000,191,5,"UT","UTGS","RES",720000181,720,2,2,0,0,"IHP","N",2,930,"Y"]
["SL0001077196",2928,"N","N",0.75,25,null,"NA",null,"NA","NA","NA",2,996.5,1.25,1.5,1.5,2,null,"NA",null,"NA",1000,25,14,"UT","UTGS","RES",26060362,260,0.25,1,250,320,"IHP","N",0.25,320,"Y"]
["SL0001077791",2933,"N","N",0.5,30,null,"NA",null,"NA","NA","NA",2,842.75,0.75,157.25,null,"NA",null,"NA",null,"NA",1000,30,7,"UT","UTGS","RES",26112058,261,0.25,1,250,320,"IHP","N",0.25,320,"Y"]
["SL0001078239",2935,"N","N",0.5,40,null,"NA",null,"NA","NA","NA",2,660,1.25,340,null,"NA",null,"NA",null,"NA",1000,40,16,"UT","UTGS","RES",11115433,111,0.25,1,250,306,"IHP","N",0.25,306,"Y"]
["SL0001078850",2938,"N","N",0.75,40,null,"NA",null,"NA","NA","NA",2,40,3,960,null,"NA",null,"NA",null,"NA",1000,40,9,"UT","UTGS","RES",36136843,361,0.25,1,250,320,"IHP","N",0.25,320,"Y"]
["SL0001079659",2943,"N","N",0.75,39,null,"NA",null,"NA","NA","NA",2,692.38,1.25,307.62,null,"NA",null,"NA",null,"NA",1000,39,9,"UT","UTGS","RES",26034661,260,0.25,1,250,320,"IHP","N",0.25,320,"Y"]
["SL0001080501",2948,"N","N",0.5,67,null,"NA",null,"NA","NA","NA",2,258.45,4,741.55,null,"NA",null,"NA",null,"NA",1000,67,15,"UT","UTGS","RES",46090777,460,0.25,1,250,320,"IHP","N",0.25,320,"Y"]
["SL0001081458",2952,"N","N",0.5,43,null,"NA",null,"NA","NA","NA",2,525.5,1.25,474.5,null,"NA",null,"NA",null,"NA",1000,43,15,"UT","UTGS","RES",16054112,160,0.25,1,250,320,"IHP","N",0.25,320,"Y"]
["SL0001082342",2953,"N","N",0.5,36,null,"NA",null,"NA","NA","NA",2,1000,null,"NA",null,"NA",null,"NA",null,"NA",1000,36,13,"UT","UTGS","RES",46135524,461,0.25,1,250,320,"IHP","N",0.25,320,"Y"]
["SL0001083512",2957,"N","N",0.5,33,null,"NA",null,"NA","NA","NA",2,1000,null,"NA",null,"NA",null,"NA",null,"NA",1000,33,22,"UT","UTGS","RES",36069160,360,0.25,1,250,320,"IHP","N",0.25,320,"Y"]
["SL0001086537",2962,"N","N",0.75,9,null,"NA",null,"NA","NA","NA",2,1000,null,"NA",null,"NA",null,"NA",null,"NA",1000,9,18,"UT","UTGS","RES",21121823,211,0.25,1,250,306,"IHP","N",0.25,306,"Y"]
["SL0001088284",2967,"N","N",0.5,42,null,"NA",null,"NA","NA","NA",2,1000,null,"NA",null,"NA",null,"NA",null,"NA",1000,42,14,"UT","UTGS","RES",12727073,127,0.25,1,250,320,"IHP","N",0.25,320,"Y"]
["SL0001089307",2969,"N","N",0.75,42,null,"NA",null,"NA","NA","NA",2,1000,null,"NA",null,"NA",null,"NA",null,"NA",1000,42,20,"UT","UTGS","RES",46034386,460,0.25,1,250,320,"IHP","N",0.25,320,"Y"]
["SL0001090091",2972,"N","N",0.75,73,null,"NA",null,"NA","NA","NA",2,632.5,1.25,367.5,null,"NA",null,"NA",null,"NA",1000,73,13,"UT","UTGS","RES",12733148,127,0.25,1,250,320,"IHP","N",0.25,320,"Y"]
["SL0001090911",2977,"N","N",0.5,138,null,"NA",null,"NA","NA","NA",2,1000,null,"NA",null,"NA",null,"NA",null,"NA",1000,138,10,"UT","UTGS","RES",21102042,211,0.25,1,250,306,"IHP","N",0.25,306,"Y"]
["SL0001091602",2981,"N","N",0.75,138,null,"NA",null,"NA","NA","NA",4,1000,null,"NA",null,"NA",null,"NA",null,"NA",1000,138,3,"UT","UTGS","RES",46100557,461,0.25,1,250,320,"IHP","N",0.25,320,"Y"]
["SL0001091699",2982,"N","N",0.5,22,null,"NA",null,"NA","NA","NA",2,799.4,1.25,200.6,null,"NA",null,"NA",null,"NA",1000,22,12,"UT","UTGS","RES",46046506,460,0.25,1,250,320,"IHP","N",0.25,320,"Y"]
["SL0001092545",2987,"N","N",0.5,47,null,"NA",null,"NA","NA","NA",2,1000,null,"NA",null,"NA",null,"NA",null,"NA",1000,47,18,"UT","UTGS","RES",26103037,261,0.25,1,250,320,"IHP","N",0.25,320,"Y"]
["SL0001093311",2992,"N","N",0.75,83,null,"NA",null,"NA","NA","NA",2,809.41,4,2.65,8,187.94,null,"NA",null,"NA",1000,83,18,"UT","UTGS","RES",12725691,127,0.25,1,250,320,"IHP","N",0.25,320,"Y"]
["SL0001093701",2995,"N","N",0.75,33,null,"NA",null,"NA","NA","NA",2,684.49,6,315.51,null,"NA",null,"NA",null,"NA",1000,33,8,"UT","UTGS","RES",36050455,360,0.25,1,250,320,"IHP","N",0.25,320,"N"]
["SL0001093748",2997,"N","N",0.5,84,null,"NA",null,"NA","NA","NA",2,340.61,1.25,659.39,null,"NA",null,"NA",null,"NA",1000,84,19,"UT","UTGS","RES",12642028,126,0.25,1,250,175,"IHP","N",0.25,175,"Y"]
["SL0001094590",3002,"N","N",0.75,82,null,"NA",null,"NA","NA","NA",2,81.84,4,918.16,null,"NA",null,"NA",null,"NA",1000,82,19,"UT","UTGS","RES",46161745,461,0.25,1,250,320,"IHP","N",0.25,320,"Y"]
["SL0001096280",3007,"N","N",0.5,92,null,"NA",null,"NA","NA","NA",2,860.63,4,139.37,null,"NA",null,"NA",null,"NA",1000,92,31,"UT","UTGS","RES",16044260,160,0.25,1,250,320,"IHP","N",0.25,320,"Y"]
["SL0001098279",3011,"N","N",0.75,32,null,"NA",null,"NA","NA","NA",2,1000,null,"NA",null,"NA",null,"NA",null,"NA",1000,32,5,"UT","UTGS","RES",760077136,760,0.25,1,0,320,"IHP","N",0.25,320,"Y"]
["SL0001098419",3012,"N","Y",0.5,26,null,"NA",null,"NA","NA","NA",2,728,0.75,272,null,"NA",null,"NA",null,"NA",1000,26,18,"UT","UTGS","RES",36158336,361,0.25,1,250,320,"IHP","N",0.25,320,"Y"]
["SL0001099413",3016,"N","N",0.5,21,null,"NA",null,"NA","NA","NA",2,198.79,1.25,801.21,null,"NA",null,"NA",null,"NA",1000,21,13,"UT","UTGS","RES",16038286,160,0.25,1,250,320,"IHP","N",0.25,320,"Y"]
["SL0001100594",3021,"N","N",0.75,115,null,"NA",null,"NA","NA","NA",2,888.31,1.25,111.69,null,"NA",null,"NA",null,"NA",1000,115,4,"UT","UTGS","RES",760037315,760,0.25,1,0,320,"IHP","N",0.25,320,"Y"]
["SL0001102192",3026,"N","N",0.5,54,null,"NA",null,"NA","NA","NA",2,660.09,4,339.91,null,"NA",null,"NA",null,"NA",1000,54,13,"UT","UTGS","RES",11136684,111,0.25,1,250,306,"IHP","N",0.25,306,"Y"]
["SL0001102361",3028,"N","Y",0.75,95,null,"NA",null,"NA","NA","NA",2,1000,null,"NA",null,"NA",null,"NA",null,"NA",1000,95,6,"UT","UTGS","NRES",760076673,760,0.25,1,0,320,"IHP","N",0.25,320,"Y"]
["SL0001103047",3031,"N","N",0.5,36,null,"NA",null,"NA","NA","NA",2,138.47999999999999,1.25,861.52,null,"NA",null,"NA",null,"NA",1000,36,8,"UT","UTGS","RES",12780451,127,0.25,1,250,320,"IHP","N",0.25,320,"Y"]
["SL0001104364",3036,"N","N",0.5,30,null,"NA",null,"NA","NA","NA",2,989.69,1.25,10.31,null,"NA",null,"NA",null,"NA",1000,30,8,"UT","UTGS","RES",21120955,211,0.25,1,250,306,"IHP","N",0.25,306,"Y"]
["SL0001105778",3040,"N","N",0.5,28,null,"NA",null,"NA","NA","NA",2,0.48,3,283.45,1.25,716.07,null,"NA",null,"NA",1000,28,10,"UT","UTGS","RES",26049069,260,0.25,1,250,320,"IHP","N",0.25,320,"Y"]
["SL0001105984",3041,"N","N",0.5,32,null,"NA",null,"NA","NA","NA",2,778,0.75,222,null,"NA",null,"NA",null,"NA",1000,32,13,"UT","UTGS","RES",36019013,360,0.25,1,250,320,"IHP","N",0.25,320,"Y"]
["SL0001107839",3046,"N","N",0.75,37,null,"NA",null,"NA","NA","NA",2,658.88,6,341.12,null,"NA",null,"NA",null,"NA",1000,37,11,"UT","UTGS","RES",26192172,261,0.25,1,250,320,"IHP","N",0.25,320,"Y"]
["SL0001109266",3049,"N","N",0.75,20,null,"NA",null,"NA","NA","NA",2,492.77,4,281.23,1.25,226,null,"NA",null,"NA",1000,20,12,"UT","UTGS","RES",36051635,360,0.25,1,250,320,"IHP","N",0.25,320,"Y"]
["SL0001110897",3055,"N","N",0.5,52,null,"NA",null,"NA","NA","NA",2,879.59,1.25,120.41,null,"NA",null,"NA",null,"NA",1000,52,7,"UT","UTGS","RES",36081050,360,0.25,1,250,320,"IHP","N",0.25,320,"Y"]
["SL0001111197",3056,"N","N",0.5,39,null,"NA",null,"NA","NA","NA",2,950,0.5,50,null,"NA",null,"NA",null,"NA",1000,39,11,"UT","UTGS","RES",36107835,361,2,1,250,550,"IHP","N",2,550,"Y"]
["SL0001112437",3061,"N","N",0.75,53,null,"NA",null,"NA","NA","NA",2,1000,null,"NA",null,"NA",null,"NA",null,"NA",1000,53,11,"UT","UTGS","RES",26052314,260,0.25,1,250,320,"IHP","N",0.25,320,"Y"]
["SL0001112824",3065,"N","N",0.5,39,null,"NA",null,"NA","NA","NA",2,910.39,4,89.61,null,"NA",null,"NA",null,"NA",1000,39,18,"UT","UTGS","RES",26053256,260,0.25,1,250,320,"IHP","N",0.25,320,"Y"]
["SL0001114712",3070,"N","N",0.5,119,null,"NA",null,"NA","NA","NA",2,548,1.25,452,null,"NA",null,"NA",null,"NA",1000,119,9,"UT","UTGS","RES",46137635,461,0.25,1,250,320,"IHP","N",0.25,320,"Y"]
["SL0001114725",3071,"N","N",0.5,122,null,"NA",null,"NA","NA","NA",2,530,4,470,null,"NA",null,"NA",null,"NA",1000,122,2,"UT","UTGS","RES",25900776,259,0.25,1,400,540,"IHP","N",0.25,540,"Y"]
["SL0001116882",3075,"N","Y",0.75,109,null,"NA",null,"NA","NA","NA",4,1000,null,"NA",null,"NA",null,"NA",null,"NA",1000,109,5,"UT","UTGS","NRES",15907741,159,2,2,400,955,"IHP","N",2,955,"Y"]
["SL0001119319",3080,"N","N",0.75,19,null,"NA",null,"NA","NA","NA",2,795,3,169,4,36,null,"NA",null,"NA",1000,19,11,"UT","UTGS","RES",26188840,261,0.25,1,250,320,"IHP","N",0.25,320,"Y"]
["SL0001121444",3083,"N","N",0.75,93,null,"NA",null,"NA","NA","NA",2,178.06,0.75,43,1.25,778.94,null,"NA",null,"NA",1000,93,11,"UT","UTGS","RES",36195050,361,0.25,1,250,320,"IHP","N",0.25,320,"Y"]
["SL0001121831",3085,"N","N",0.5,62,null,"NA",null,"NA","NA","NA",2,307.58999999999997,3,90.94,4,601.47,null,"NA",null,"NA",1000,62,13,"UT","UTGS","RES",11165465,111,0.25,1,250,306,"IHP","N",0.25,306,"Y"]
["SL0001122270",3090,"N","N",0.5,85,null,"NA",null,"NA","NA","NA",2,1000,null,"NA",null,"NA",null,"NA",null,"NA",1000,85,18,"UT","UTGS","RES",46093572,460,0.25,1,250,320,"IHP","N",0.25,320,"Y"]
["SL0001123461",3095,"N","N",0.75,50,null,"NA",null,"NA","NA","NA",2,587.57000000000005,4,412.43,null,"NA",null,"NA",null,"NA",1000,50,18,"UT","UTGS","NRES",760014898,760,0.25,1,0,320,"IHP","N",0.25,320,"Y"]
["SL0001125145",3099,"N","N",0.5,66,null,"NA",null,"NA","NA","NA",2,1000,null,"NA",null,"NA",null,"NA",null,"NA",1000,66,6,"UT","UTGS","RES",46016570,460,0.25,1,250,320,"IHP","N",0.25,320,"Y"]
["SL0001125151",3100,"N","N",0.5,46,0.75,38,null,"NA","NA","NA",2,792.62,1.25,207.38,null,"NA",null,"NA",null,"NA",1000,84,18,"UT","UTGS","RES",46007465,460,0.25,1,250,320,"IHP","N",0.25,320,"Y"]
["SL0001126653",3105,"N","N",0.5,33,null,"NA",null,"NA","NA","NA",2,781.17,4,218.83,null,"NA",null,"NA",null,"NA",1000,33,26,"UT","UTGS","RES",16020946,160,0.25,1,250,320,"IHP","N",0.25,320,"Y"]
["SL0001127556",3108,"N","N",0.75,71,null,"NA",null,"NA","NA","NA",2,1000,null,"NA",null,"NA",null,"NA",null,"NA",1000,71,14,"UT","UTGS","RES",36072361,360,0.25,1,250,320,"IHP","N",0.25,320,"Y"]
["SL0001128525",3114,"N","N",0.5,53,null,"NA",null,"NA","NA","NA",2,1000,null,"NA",null,"NA",null,"NA",null,"NA",1000,53,17,"UT","UTGS","RES",36005862,360,0.25,1,250,320,"IHP","N",0.25,320,"Y"]
["SL0001128572",3115,"N","Y",1.25,10,null,"NA",null,"NA","NA","NA",2,1000,null,"NA",null,"NA",null,"NA",null,"NA",1000,10,23,"UT","UTGS","RES",36033273,360,0.25,1,250,320,"IHP","N",0.25,320,"Y"]
["SL0001130336",3121,"N","N",0.75,77,null,"NA",null,"NA","NA","NA",2,442.19,4,456,1.25,101.81,null,"NA",null,"NA",1000,77,13,"UT","UTGS","RES",11197483,111,0.25,1,250,306,"IHP","N",0.25,306,"Y"]
["SL0001131742",3124,"N","N",0.5,80,null,"NA",null,"NA","NA","NA",2,201.38,1.25,798.62,null,"NA",null,"NA",null,"NA",1000,80,15,"UT","UTGS","RES",46076544,460,0.25,1,250,320,"IHP","N",0.25,320,"Y"]
["SL0001134414",3129,"N","N",0.75,71,null,"NA",null,"NA","NA","NA",2,752.24,3,247.76,null,"NA",null,"NA",null,"NA",1000,71,11,"UT","UTGS","RES",16042711,160,0.25,1,250,320,"IHP","N",0.25,320,"Y"]
["SL0001134470",3130,"N","N",0.75,56,null,"NA",null,"NA","NA","NA",2,758.96,4,241.04,null,"NA",null,"NA",null,"NA",1000,56,11,"UT","UTGS","RES",760042380,760,0.25,1,0,320,"IHP","N",0.25,320,"Y"]
["SL0001135687",3134,"Y","N",0.5,41,null,"NA",null,"NA","NA","NA",2,960,1.25,40,null,"NA",null,"NA",null,"NA",1000,41,21,"UT","UTGS","RES",12740070,127,0.25,1,250,320,"IHP","N",0.25,320,"Y"]
["SL0001138353",3139,"N","N",0.5,75,null,"NA",null,"NA","NA","NA",2,215.29,4,719.73,1.25,64.98,null,"NA",null,"NA",1000,75,15,"UT","UTGS","RES",16086233,160,0.25,1,250,320,"IHP","N",0.25,320,"Y"]
["SL0001138641",3142,"N","N",0.5,84,null,"NA",null,"NA","NA","NA",2,1000,null,"NA",null,"NA",null,"NA",null,"NA",1000,84,6,"UT","UTGS","RES",36082782,360,0.25,1,250,320,"IHP","N",0.25,320,"Y"]
["SL0001138845",3144,"N","N",0.5,108,null,"NA",null,"NA","NA","NA",4,647.88,6,352.12,null,"NA",null,"NA",null,"NA",1000,108,9,"UT","UTGS","NRES",46089213,460,0.25,1,250,320,"IHP","N",0.25,320,"Y"]
["SL0001139440",3149,"N","N",0.75,62,null,"NA",null,"NA","NA","NA",2,1000,null,"NA",null,"NA",null,"NA",null,"NA",1000,62,9,"UT","UTGS","RES",36150455,361,0.25,1,250,320,"IHP","N",0.25,320,"N"]
["SL0001139904",3154,"N","N",0.5,55,null,"NA",null,"NA","NA","NA",2,107,6,893,null,"NA",null,"NA",null,"NA",1000,55,3,"UT","UTGS","RES",21104109,211,0.25,1,250,306,"IHP","N",0.25,306,"Y"]
["SL0001140978",3158,"N","N",0.75,107,null,"NA",null,"NA","NA","NA",2,320.5,4,585.25,1.25,94.25,null,"NA",null,"NA",1000,107,9,"UT","UTGS","RES",25904595,259,2,2,400,955,"IHP","N",2,955,"Y"]
["SL0001141140",3159,"N","N",0.75,17,null,"NA",null,"NA","NA","NA",2,581.51,1.25,418.49,null,"NA",null,"NA",null,"NA",1000,17,9,"UT","UTGS","RES",26073441,260,0.25,1,250,320,"IHP","N",0.25,320,"Y"]
["SL0001142897",3163,"N","N",0.5,52,null,"NA",null,"NA","NA","NA",2,1000,null,"NA",null,"NA",null,"NA",null,"NA",1000,52,26,"UT","UTGS","RES",16089329,160,0.25,1,250,320,"IHP","N",0.25,320,"Y"]
["SL0001148139",3168,"N","N",0.75,94,null,"NA",null,"NA","NA","NA",4,1000,null,"NA",null,"NA",null,"NA",null,"NA",1000,94,9,"UT","UTGS","RES",16053627,160,0.25,1,250,320,"IHP","N",0.25,320,"Y"]
["SL0001149674",3173,"N","N",0.75,35,null,"NA",null,"NA","NA","NA",2,1000,null,"NA",null,"NA",null,"NA",null,"NA",1000,35,8,"UT","UTGS","RES",26082050,260,2,1,250,550,"IHP","N",2,550,"Y"]
["SL0001150319",3175,"N","N",0.5,77,null,"NA",null,"NA","NA","NA",2,421,6,579,null,"NA",null,"NA",null,"NA",1000,77,15,"UT","UTGS","RES",46029772,460,0.25,1,250,320,"IHP","N",0.25,320,"Y"]
["SL0001154740",3178,"N","N",0.5,33,null,"NA",null,"NA","NA","NA",2,775,0.75,225,null,"NA",null,"NA",null,"NA",1000,33,8,"UT","UTGS","RES",36091834,360,0.25,1,250,320,"IHP","N",0.25,320,"Y"]
["SL0001155850",3183,"N","N",0.75,53,null,"NA",null,"NA","NA","NA",2,183.56,4,816.44,null,"NA",null,"NA",null,"NA",1000,53,8,"UT","UTGS","RES",36152943,361,0.25,1,250,320,"IHP","N",0.25,320,"Y"]
["SL0001157742",3188,"N","N",0.5,76,null,"NA",null,"NA","NA","NA",2,1000,null,"NA",null,"NA",null,"NA",null,"NA",1000,76,15,"UT","UTGS","RES",36043135,360,0.25,1,250,320,"IHP","N",0.25,320,"N"]
["SL0001158726",3189,"N","N",0.75,3,1.25,180,null,"NA","NA","NA",2,1000,null,"NA",null,"NA",null,"NA",null,"NA",1000,183,23,"UT","UTGS","RES",36132144,361,0.25,1,250,320,"IHP","N",0.25,320,"N"]
["SL0001159245",3193,"N","N",0.5,21,null,"NA",null,"NA","NA","NA",2,971.37,4,28.63,null,"NA",null,"NA",null,"NA",1000,21,10,"UT","UTGS","RES",22009475,220,0.25,1,400,500,"IHP","N",0.25,500,"N"]
["SL0001161835",3198,"Y","N",0.5,28,null,"NA",null,"NA","NA","NA",2,758.89,1.25,241.11,null,"NA",null,"NA",null,"NA",1000,28,9,"UT","UTGS","RES",16072549,160,0.25,1,250,320,"IHP","N",0.25,320,"N"]
["SL0001162887",3201,"N","N",0.5,37,null,"NA",null,"NA","NA","NA",2,909.44,4,90.56,null,"NA",null,"NA",null,"NA",1000,37,8,"UT","UTGS","RES",46073654,460,0.25,1,250,320,"IHP","N",0.25,320,"N"]
["SL0001163768",3203,"N","Y",0.5,30,0.75,69,null,"NA","NA","NA",4,1000,null,"NA",null,"NA",null,"NA",null,"NA",1000,99,11,"UT","UTGS","RES",26074940,260,0.25,1,250,320,"IHP","N",0.25,320,"N"]
["SL0001164030",3208,"N","N",0.75,41,null,"NA",null,"NA","NA","NA",2,1000,null,"NA",null,"NA",null,"NA",null,"NA",1000,41,8,"UT","UTGS","RES",728001308,728,0.25,1,0,0,"IHP","N",0.25,325,"N"]
["SL0001164816",3213,"N","N",0.5,55,0.75,45,null,"NA","NA","NA",2,793.62,1.25,206.38,null,"NA",null,"NA",null,"NA",1000,100,17,"UT","UTGS","RES",26015945,260,0.25,1,250,320,"IHP","N",0.25,320,"N"]
["SL0001165409",3217,"N","N",0.5,59,null,"NA",null,"NA","NA","NA",2,688.1,4,188.13,1.25,123.77,null,"NA",null,"NA",1000,59,9,"UT","UTGS","NRES",12753174,127,0.25,1,250,320,"IHP","N",0.25,320,"N"]
["SL0001165497",3218,"N","N",0.75,79,null,"NA",null,"NA","NA","NA",2,657,0.5,58,1.5,285,null,"NA",null,"NA",1000,79,10,"UT","UTGS","RES",12762884,127,2,1,250,550,"IHP","N",2,550,"N"]
["SL0001166093",3222,"N","N",1.25,78,null,"NA",null,"NA","NA","NA",2,375.11,6,624.89,null,"NA",null,"NA",null,"NA",1000,78,16,"UT","UTGS","RES",26199787,261,0.25,1,250,320,"IHP","N",0.25,320,"N"]
["SL0001167762",3227,"N","N",0.5,78,null,"NA",null,"NA","NA","NA",2,1000,null,"NA",null,"NA",null,"NA",null,"NA",1000,78,27,"UT","UTGS","RES",16094880,160,0.25,1,250,320,"IHP","N",0.25,320,"N"]
["SL0001169643",3232,"N","N",0.75,53,null,"NA",null,"NA","NA","NA",3,813.63,4,186.37,null,"NA",null,"NA",null,"NA",1000,53,19,"UT","UTGS","RES",22010636,220,0.25,1,400,500,"IHP","N",0.25,500,"N"]
["SL0001170108",3234,"N","N",0.5,31,null,"NA",null,"NA","NA","NA",2,1000,null,"NA",null,"NA",null,"NA",null,"NA",1000,31,9,"UT","UTGS","RES",11176572,111,0.25,1,250,306,"IHP","N",0.25,306,"N"]
["SL0001170296",3237,"N","N",0.5,28,null,"NA",null,"NA","NA","NA",2,1000,null,"NA",null,"NA",null,"NA",null,"NA",1000,28,9,"UT","UTGS","RES",46101301,461,2,1,250,550,"IHP","N",2,550,"N"]
["SL0001171589",3242,"N","Y",0.75,88,null,"NA",null,"NA","NA","NA",2,462.33,6,406.67,0.75,131,null,"NA",null,"NA",1000,88,10,"UT","UTGS","RES",46132971,461,0.25,1,250,320,"IHP","N",0.25,320,"N"]
["SL0001172450",3246,"N","N",0.75,12,null,"NA",null,"NA","NA","NA",2,927,0.75,73,null,"NA",null,"NA",null,"NA",1000,12,10,"UT","UTGS","RES",46096831,460,2,1,250,550,"IHP","N",2,550,"N"]
["SL0001173067",3247,"N","N",0.75,35,null,"NA",null,"NA","NA","NA",2,1000,null,"NA",null,"NA",null,"NA",null,"NA",1000,35,20,"UT","UTGS","RES",22003935,220,2,2,400,930,"IHP","N",2,930,"N"]
["SL0001173932",3252,"N","N",0.5,46,null,"NA",null,"NA","NA","NA",2,680.25,1.25,319.75,null,"NA",null,"NA",null,"NA",1000,46,17,"UT","UTGS","RES",11116325,111,0.25,1,250,306,"IHP","N",0.25,306,"N"]
["SL0001176391",3256,"N","N",0.75,104,null,"NA",null,"NA","NA","NA",2,188.04,0.75,444,1.25,367.96,null,"NA",null,"NA",1000,104,10,"UT","UTGS","RES",16084049,160,0.25,1,250,320,"IHP","N",0.25,320,"N"]
["SL0001177128",3261,"N","N",0.5,28,null,"NA",null,"NA","NA","NA",2,946,0.75,54,null,"NA",null,"NA",null,"NA",1000,28,7,"UT","UTGS","RES",46147430,461,0.25,1,250,320,"IHP","N",0.25,320,"N"]
["SL0001178097",3262,"N","N",0.5,41,null,"NA",null,"NA","NA","NA",2,1000,null,"NA",null,"NA",null,"NA",null,"NA",1000,41,11,"UT","UTGS","RES",16002232,160,0.25,1,250,320,"IHP","N",0.25,320,"N"]
["SL0001178974",3268,"N","N",0.75,17,null,"NA",null,"NA","NA","NA",2,219.03,6,780.97,null,"NA",null,"NA",null,"NA",1000,17,14,"UT","UTGS","NRES",36044099,360,0.25,1,250,320,"IHP","N",0.25,320,"N"]
["SL0001179539",3271,"N","Y",0.5,38,null,"NA",null,"NA","NA","NA",2,1000,null,"NA",null,"NA",null,"NA",null,"NA",1000,38,31,"UT","UTGS","RES",36120928,361,0.25,1,250,320,"IHP","N",0.25,320,"N"]
["SL0001180551",3276,"N","N",0.75,38,null,"NA",null,"NA","NA","NA",2,1000,null,"NA",null,"NA",null,"NA",null,"NA",1000,38,32,"UT","UTGS","RES",12781242,127,0.25,1,250,320,"IHP","N",0.25,320,"N"]
["SL0001181431",3277,"Y","N",0.5,75,null,"NA",null,"NA","NA","NA",2,925,1.25,75,null,"NA",null,"NA",null,"NA",1000,75,20,"UT","UTGS","RES",26171307,261,0.25,1,250,320,"IHP","N",0.25,320,"N"]
["SL0001182062",3281,"N","N",0.5,24,null,"NA",null,"NA","NA","NA",2,1000,null,"NA",null,"NA",null,"NA",null,"NA",1000,24,9,"UT","UTGS","RES",36186362,361,0.25,1,250,320,"IHP","N",0.25,320,"N"]
["SL0001183723",3286,"N","N",0.5,27,null,"NA",null,"NA","NA","NA",2,821.86,3,40.71,4,137.43,null,"NA",null,"NA",1000,27,11,"UT","UTGS","NRES",46100929,461,0.25,1,250,320,"IHP","N",0.25,320,"N"]
["SL0001183908",3291,"Y","N",0.75,117,null,"NA",null,"NA","NA","NA",2,628.75,3,371.25,null,"NA",null,"NA",null,"NA",1000,117,11,"UT","UTGS","RES",760029872,760,2,1,0,550,"IHP","N",2,550,"N"]
["SL0001184613",3293,"N","N",0.5,33,null,"NA",null,"NA","NA","NA",2,850.79,4,149.21,null,"NA",null,"NA",null,"NA",1000,33,12,"UT","UTGS","RES",46101623,461,2,1,250,550,"IHP","N",2,550,"N"]
["SL0001185819",3296,"N","N",0.75,31,null,"NA",null,"NA","NA","NA",2,822,4,113,1.25,65,null,"NA",null,"NA",1000,31,13,"UT","UTGS","RES",26190042,261,0.25,1,250,320,"IHP","N",0.25,320,"N"]
["SL0001187278",3301,"N","N",0.5,35,null,"NA",null,"NA","NA","NA",2,1000,null,"NA",null,"NA",null,"NA",null,"NA",1000,35,12,"UT","UTGS","RES",16079230,160,0.25,1,250,320,"IHP","N",0.25,320,"N"]
["SL0001187411",3303,"N","N",0.75,38,null,"NA",null,"NA","NA","NA",2,1000,null,"NA",null,"NA",null,"NA",null,"NA",1000,38,16,"UT","UTGS","RES",36003340,360,0.25,1,250,320,"IHP","N",0.25,320,"N"]
["SL0001187963",3306,"N","Y",1.25,138,null,"NA",null,"NA","NA","NA",2,1000,null,"NA",null,"NA",null,"NA",null,"NA",1000,138,17,"UT","UTGS","RES",36112668,361,0.25,1,250,320,"IHP","N",0.25,320,"N"]
["SL0001192550",3311,"N","N",0.5,26,null,"NA",null,"NA","NA","NA",2,497.24,4,219.03,1.25,283.73,null,"NA",null,"NA",1000,26,4,"UT","UTGS","RES",26116330,261,0.25,1,250,320,"IHP","N",0.25,320,"N"]
["SL0001193810",3315,"N","N",0.5,69,null,"NA",null,"NA","NA","NA",2,30.45,3,73.52,4,896.03,null,"NA",null,"NA",1000,69,4,"UT","UTGS","RES",36134637,361,0.25,1,250,320,"IHP","N",0.25,320,"N"]
["SL0001194554",3320,"Y","N",0.5,49,null,"NA",null,"NA","NA","NA",3,192.51,10,807.49,null,"NA",null,"NA",null,"NA",1000,49,8,"UT","UTGS","RES",36022821,360,0.25,1,250,320,"IHP","N",0.25,320,"N"]
["SL0001194570",3321,"N","N",0.5,66,null,"NA",null,"NA","NA","NA",2,807,0.75,193,null,"NA",null,"NA",null,"NA",1000,66,13,"UT","UTGS","RES",36058020,360,0.25,1,250,320,"IHP","N",0.25,320,"N"]
["SL0001196723",3327,"N","N",0.75,77,null,"NA",null,"NA","NA","NA",2,890.33,1.25,109.67,null,"NA",null,"NA",null,"NA",1000,77,12,"UT","UTGS","RES",760084379,760,0.25,1,0,320,"IHP","N",0.25,320,"N"]
["SL0001197272",3330,"N","N",0.5,30,null,"NA",null,"NA","NA","NA",2,879,1.25,121,null,"NA",null,"NA",null,"NA",1000,30,15,"UT","UTGS","RES",26139335,261,0.25,1,250,320,"IHP","N",0.25,320,"N"]
["SL0001199044",3335,"N","N",0.5,42,null,"NA",null,"NA","NA","NA",2,1000,null,"NA",null,"NA",null,"NA",null,"NA",1000,42,16,"UT","UTGS","RES",760007811,760,0.25,1,0,320,"IHP","N",0.25,320,"N"]
["SL0001199084",3336,"N","N",1.25,60,null,"NA",null,"NA","NA","NA",2,858.77,4,141.22999999999999,null,"NA",null,"NA",null,"NA",1000,60,6,"UT","UTGS","RES",760043571,760,2,1,0,550,"IHP","N",2,550,"N"]
["SL0001199820",3340,"N","N",0.5,39,null,"NA",null,"NA","NA","NA",2,985.52,4,14.48,null,"NA",null,"NA",null,"NA",1000,39,15,"UT","UTGS","RES",26025603,260,0.25,1,250,320,"IHP","N",0.25,320,"N"]
["SL0001200872",3345,"N","N",0.5,27,null,"NA",null,"NA","NA","NA",2,839.03,1.25,160.97,null,"NA",null,"NA",null,"NA",1000,27,10,"UT","UTGS","RES",26190335,261,0.25,1,250,320,"IHP","N",0.25,320,"N"]
["SL0001201143",3348,"N","N",0.5,27,null,"NA",null,"NA","NA","NA",1.25,1000,null,"NA",null,"NA",null,"NA",null,"NA",1000,27,9,"UT","UTGS","RES",760019777,760,0.25,1,0,320,"IHP","N",0.25,320,"N"]
["SL0001201175",3350,"N","N",0.5,78,null,"NA",null,"NA","NA","NA",2,173.73,4,826.27,null,"NA",null,"NA",null,"NA",1000,78,8,"UT","UTGS","RES",26127994,261,0.25,1,250,320,"IHP","N",0.25,320,"N"]
["SL0001202955",3355,"Y","N",0.75,56,null,"NA",null,"NA","NA","NA",2,205.17,4,794.83,null,"NA",null,"NA",null,"NA",1000,56,10,"UT","UTGS","RES",36120250,361,2,1,250,550,"IHP","N",2,550,"N"]
["SL0001204587",3360,"N","N",0.5,60,null,"NA",null,"NA","NA","NA",2,743.88,1.25,256.12,null,"NA",null,"NA",null,"NA",1000,60,9,"UT","UTGS","RES",16015525,160,0.25,1,250,320,"IHP","N",0.25,320,"N"]
["SL0001206820",3364,"N","N",0.5,7,null,"NA",null,"NA","NA","NA",2,1000,null,"NA",null,"NA",null,"NA",null,"NA",1000,7,35,"UT","UTGS","RES",26143426,261,0.25,1,250,320,"IHP","N",0.25,320,"N"]
["SL0001206934",3365,"N","N",0.5,98,null,"NA",null,"NA","NA","NA",2,927.59,4,69.31,1.25,3.1,null,"NA",null,"NA",1000,98,8,"UT","UTGS","RES",12668698,126,0.25,1,250,175,"IHP","N",0.25,175,"N"]
["SL0001207852",3369,"N","N",0.5,47,null,"NA",null,"NA","NA","NA",4,1000,null,"NA",null,"NA",null,"NA",null,"NA",1000,47,3,"UT","UTGS","RES",26048439,260,0.25,1,250,320,"IHP","N",0.25,320,"N"]
["SL0001209484",3374,"N","N",0.5,38,null,"NA",null,"NA","NA","NA",2,782.9,1.25,217.1,null,"NA",null,"NA",null,"NA",1000,38,11,"UT","UTGS","RES",26168429,261,0.25,1,250,320,"IHP","N",0.25,320,"N"]
["SL0001210719",3379,"N","N",0.75,66,null,"NA",null,"NA","NA","NA",2,53.54,4,946.46,null,"NA",null,"NA",null,"NA",1000,66,3,"UT","UTGS","RES",26061670,260,0.25,1,250,320,"IHP","N",0.25,320,"N"]
["SL0001211409",3382,"N","N",0.75,40,null,"NA",null,"NA","NA","NA",2,891.07,1.25,108.93,null,"NA",null,"NA",null,"NA",1000,40,13,"UT","UTGS","RES",26061963,260,0.25,1,250,320,"IHP","N",0.25,320,"N"]
["SL0001211853",3384,"N","N",0.5,27,null,"NA",null,"NA","NA","NA",2,979,3,21,null,"NA",null,"NA",null,"NA",1000,27,11,"UT","UTGS","RES",36084108,360,0.25,1,250,320,"IHP","N",0.25,320,"N"]
["SL0001212538",3389,"N","N",0.5,54,null,"NA",null,"NA","NA","NA",2,64,4,630,1.25,306,null,"NA",null,"NA",1000,54,8,"UT","UTGS","RES",26018572,260,0.25,1,250,320,"IHP","N",0.25,320,"N"]
["SL0001214452",3394,"N","N",0.75,43,null,"NA",null,"NA","NA","NA",2,1000,null,"NA",null,"NA",null,"NA",null,"NA",1000,43,15,"UT","UTGS","RES",26150472,261,0.25,1,250,320,"IHP","N",0.25,320,"N"]
["SL0001215253",3395,"N","N",0.5,124,null,"NA",null,"NA","NA","NA",4,966.44,6,33.56,null,"NA",null,"NA",null,"NA",1000,124,8,"UT","UTGS","RES",36075280,360,0.25,1,250,320,"IHP","N",0.25,320,"N"]
["SL0001215961",3399,"N","N",0.5,39,null,"NA",null,"NA","NA","NA",2,830.06,1.25,169.94,null,"NA",null,"NA",null,"NA",1000,39,20,"UT","UTGS","RES",26054517,260,0.25,1,250,320,"IHP","N",0.25,320,"N"]
["SL0001217254",3404,"N","N",0.75,142,null,"NA",null,"NA","NA","NA",2,683.23,6,316.77,null,"NA",null,"NA",null,"NA",1000,142,15,"UT","UTGS","NRES",36176379,361,2,1,250,550,"IHP","N",2,550,"N"]
["SL0001217499",3407,"N","Y",0.5,29,null,"NA",null,"NA","NA","NA",6,634.5,0.75,365.5,null,"NA",null,"NA",null,"NA",1000,29,22,"UT","UTGS","RES",26196854,261,0.25,1,250,320,"IHP","N",0.25,320,"N"]
["SL0001219144",3409,"N","N",0.5,16,null,"NA",null,"NA","NA","NA",2,777.5,3,89.5,1.25,133,null,"NA",null,"NA",1000,16,13,"UT","UTGS","RES",16031901,160,0.25,1,250,320,"IHP","N",0.25,320,"N"]
["SL0001220013",3414,"N","N",0.5,42,null,"NA",null,"NA","NA","NA",2,73.78,3,190.36,4,735.86,null,"NA",null,"NA",1000,42,6,"UT","UTGS","RES",26134137,261,2,1,250,550,"IHP","N",2,550,"N"]
["SL0001221117",3419,"N","N",0.75,79,null,"NA",null,"NA","NA","NA",2,714.35,4,285.64999999999998,null,"NA",null,"NA",null,"NA",1000,79,19,"UT","UTGS","RES",12750535,127,0.25,1,250,320,"IHP","N",0.25,320,"N"]
["SL0001221846",3423,"N","N",0.75,43,null,"NA",null,"NA","NA","NA",2,1000,null,"NA",null,"NA",null,"NA",null,"NA",1000,43,18,"UT","UTGS","RES",46060515,460,0.25,1,250,320,"IHP","N",0.25,320,"N"]
["SL0001222169",3424,"Y","N",0.5,39,null,"NA",null,"NA","NA","NA",2,968.72,1.25,31.28,null,"NA",null,"NA",null,"NA",1000,39,16,"UT","UTGS","RES",26012883,260,0.25,1,250,320,"IHP","N",0.25,320,"N"]
["SL0001223754",3429,"N","N",0.5,78,null,"NA",null,"NA","NA","NA",2,1000,null,"NA",null,"NA",null,"NA",null,"NA",1000,78,18,"UT","UTGS","RES",36031073,360,0.25,1,250,320,"IHP","N",0.25,320,"N"]
["SL0001225222",3433,"N","N",0.5,75,null,"NA",null,"NA","NA","NA",2,805,1.25,195,null,"NA",null,"NA",null,"NA",1000,75,42,"UT","UTGS","RES",16073798,160,0.25,1,250,320,"IHP","N",0.25,320,"N"]
["SL0001226453",3438,"N","N",0.5,46,null,"NA",null,"NA","NA","NA",2,1000,null,"NA",null,"NA",null,"NA",null,"NA",1000,46,14,"UT","UTGS","RES",26036487,260,0.25,1,250,320,"IHP","N",0.25,320,"N"]
["SL0001226702",3441,"N","N",0.75,11,null,"NA",null,"NA","NA","NA",2,1000,null,"NA",null,"NA",null,"NA",null,"NA",1000,11,5,"UT","UTGS","RES",12711999,127,0.25,1,250,320,"IHP","N",0.25,320,"N"]
["SL0001227634",3443,"N","N",0.75,4,null,"NA",null,"NA","NA","NA",2,265,10,735,null,"NA",null,"NA",null,"NA",1000,4,19,"UT","UTGS","RES",760006235,760,0.25,1,0,320,"IHP","N",0.25,320,"N"]
["SL0001228266",3448,"Y","N",0.75,36,null,"NA",null,"NA","NA","NA",2,699.72,4,72.28,0.75,228,null,"NA",null,"NA",1000,36,9,"UT","UTGS","RES",34605014,346,2,2,650,1390,"IHP","N",2,1390,"N"]
["SL0001228981",3450,"N","N",0.75,50,null,"NA",null,"NA","NA","NA",3,1000,null,"NA",null,"NA",null,"NA",null,"NA",1000,50,6,"UT","UTGS","RES",36097284,360,0.25,1,250,320,"IHP","N",0.25,320,"N"]
["SL0001229605",3453,"N","N",0.5,49,null,"NA",null,"NA","NA","NA",2,1000,null,"NA",null,"NA",null,"NA",null,"NA",1000,49,3,"UT","UTGS","RES",760044263,760,2,1,0,550,"IHP","N",2,550,"N"]
["SL0001230256",3458,"N","N",0.75,20,null,"NA",null,"NA","NA","NA",2,916.73,0.75,83.27,null,"NA",null,"NA",null,"NA",1000,20,5,"UT","UTGS","RES",26132987,261,0.25,1,250,320,"IHP","N",0.25,320,"N"]
["SL0001232140",3462,"N","N",0.5,43,null,"NA",null,"NA","NA","NA",1.25,1000,null,"NA",null,"NA",null,"NA",null,"NA",1000,43,15,"UT","UTGS","RES",16055435,160,0.25,1,250,320,"IHP","N",0.25,320,"N"]
["SL0001232881",3467,"N","N",0.5,89,null,"NA",null,"NA","NA","NA",2,1000,null,"NA",null,"NA",null,"NA",null,"NA",1000,89,13,"UT","UTGS","RES",36187416,361,0.25,1,250,320,"IHP","N",0.25,320,"N"]
["SL0001233589",3468,"N","N",0.75,52,null,"NA",null,"NA","NA","NA",2,413.75,4,586.25,null,"NA",null,"NA",null,"NA",1000,52,29,"UT","UTGS","RES",36025680,360,0.25,1,250,320,"IHP","N",0.25,320,"N"]
["SL0001234527",3474,"N","Y",1.25,27,null,"NA",null,"NA","NA","NA",2,535.88,4,464.12,null,"NA",null,"NA",null,"NA",1000,27,15,"UT","UTGS","RES",15600158,156,0.25,2,1400,1400,"IHP","N",0.25,1400,"N"]
["SL0001235849",3477,"Y","N",0.5,25,null,"NA",null,"NA","NA","NA",2,1000,null,"NA",null,"NA",null,"NA",null,"NA",1000,25,12,"UT","UTGS","RES",46002818,460,0.25,1,250,320,"IHP","N",0.25,320,"N"]
["SL0001237969",3482,"N","N",0.75,138,null,"NA",null,"NA","NA","NA",2,204.5,4,795.5,null,"NA",null,"NA",null,"NA",1000,138,4,"UT","UTGS","RES",36046653,360,0.25,1,250,320,"IHP","N",0.25,320,"N"]
["SL0001238238",3483,"N","N",0.5,50,null,"NA",null,"NA","NA","NA",2,1000,null,"NA",null,"NA",null,"NA",null,"NA",1000,50,6,"UT","UTGS","RES",46160970,461,0.25,1,250,320,"IHP","N",0.25,320,"N"]
["SL0001239695",3488,"N","N",1.25,61,null,"NA",null,"NA","NA","NA",2,341,8,659,null,"NA",null,"NA",null,"NA",1000,61,3,"UT","UTGS","NRES",34606040,346,2,2,650,1390,"IHP","N",2,1390,"N"]
["SL0001241611",3492,"N","N",0.75,85,null,"NA",null,"NA","NA","NA",2,1000,null,"NA",null,"NA",null,"NA",null,"NA",1000,85,19,"UT","UTGS","RES",11193277,111,0.25,1,250,306,"IHP","N",0.25,306,"N"]
["SL0001244337",3497,"N","N",0.5,22,null,"NA",null,"NA","NA","NA",2,267.11,3,97.18,1.25,635.71,null,"NA",null,"NA",1000,22,9,"UT","UTGS","RES",26080325,260,0.25,1,250,320,"IHP","N",0.25,320,"N"]
["SL0001245023",3500,"N","N",1.25,69,null,"NA",null,"NA","NA","NA",2,348.78,4,555.22,1.25,96,null,"NA",null,"NA",1000,69,4,"UT","UTGS","NRES",15903002,159,0.25,1,400,540,"IHP","N",0.25,540,"N"]
["SL0001246025",3502,"N","N",0.75,12,null,"NA",null,"NA","NA","NA",2,1000,null,"NA",null,"NA",null,"NA",null,"NA",1000,12,9,"UT","UTGS","RES",760021794,760,0.25,1,0,320,"IHP","N",0.25,320,"N"]
["SL0001249146",3507,"Y","N",0.5,36,null,"NA",null,"NA","NA","NA",2,1000,null,"NA",null,"NA",null,"NA",null,"NA",1000,36,10,"UT","UTGS","RES",36174004,361,0.25,1,250,320,"IHP","N",0.25,320,"N"]
["SL0001250178",3509,"N","N",0.5,56,null,"NA",null,"NA","NA","NA",2,235.35,4,764.65,null,"NA",null,"NA",null,"NA",1000,56,9,"UT","UTGS","RES",46022472,460,0.25,1,250,320,"IHP","N",0.25,320,"N"]
["SL0001532284",3512,"N","N",0.75,93,null,"NA",null,"NA","NA","NA",2,577,3,253,0.75,170,null,"NA",null,"NA",1000,93,12,"UT","UTGS","RES",11163828,111,0.25,1,250,306,"IHP","N",0.25,306,"N"]
["SL0001533862",3517,"N","N",0.75,99,null,"NA",null,"NA","NA","NA",3,455,1.25,545,null,"NA",null,"NA",null,"NA",1000,99,5,"UT","UTGS","RES",25908277,259,0.25,1,400,540,"IHP","N",0.25,540,"N"]
["SL0001535094",3521,"Y","N",0.75,62,null,"NA",null,"NA","NA","NA",2,929.71,6,70.290000000000006,null,"NA",null,"NA",null,"NA",1000,62,8,"UT","UTGS","RES",760080913,760,2,1,0,550,"IHP","N",2,550,"N"]
["SL0001535529",3526,"N","N",0.5,34,null,"NA",null,"NA","NA","NA",2,1000,null,"NA",null,"NA",null,"NA",null,"NA",1000,34,7,"UT","UTGS","RES",46049208,460,0.25,1,250,320,"IHP","N",0.25,320,"N"]
["SL0001535944",3527,"Y","N",0.5,37,null,"NA",null,"NA","NA","NA",4,633.5,1.25,366.5,null,"NA",null,"NA",null,"NA",1000,37,10,"UT","UTGS","RES",760080088,760,2,1,0,550,"IHP","N",2,550,"N"]
["SL0001536996",3533,"N","N",0.75,17,null,"NA",null,"NA","NA","NA",2,879,3,40,1.25,81,null,"NA",null,"NA",1000,17,10,"UT","UTGS","RES",26184758,261,2,1,250,550,"IHP","N",2,550,"N"]
["SL0001538421",3536,"Y","N",0.5,40,null,"NA",null,"NA","NA","NA",2,727,1.25,273,null,"NA",null,"NA",null,"NA",1000,40,14,"UT","UTGS","RES",16002794,160,0.25,1,250,320,"IHP","N",0.25,320,"N"]
["SL0001540912",3541,"N","N",0.5,44,null,"NA",null,"NA","NA","NA",2,866,0.75,134,null,"NA",null,"NA",null,"NA",1000,44,16,"UT","UTGS","RES",46030721,460,0.25,1,250,320,"IHP","N",0.25,320,"N"]
["SL0001540983",3542,"N","N",0.75,26,null,"NA",null,"NA","NA","NA",2,1000,null,"NA",null,"NA",null,"NA",null,"NA",1000,26,5,"UT","UTGS","RES",760073646,760,0.25,1,0,320,"IHP","N",0.25,320,"N"]
["SL0001542417",3546,"N","N",1.25,51,null,"NA",null,"NA","NA","NA",2,209.57,4,790.43,null,"NA",null,"NA",null,"NA",1000,51,6,"UT","UTGS","NRES",12758806,127,0.25,1,250,320,"IHP","N",0.25,320,"N"]
["SL0001543556",3551,"N","N",0.75,85,null,"NA",null,"NA","NA","NA",2,1000,null,"NA",null,"NA",null,"NA",null,"NA",1000,85,29,"UT","UTGS","RES",46125114,461,0.25,1,250,320,"IHP","N",0.25,320,"N"]
["SL0001544249",3555,"N","N",0.5,72,null,"NA",null,"NA","NA","NA",2,262,4,632.75,6,105.25,null,"NA",null,"NA",1000,72,8,"UT","UTGS","RES",46032635,460,0.25,1,250,320,"IHP","N",0.25,320,"N"]
["SL0001544292",3556,"N","N",0.75,114,null,"NA",null,"NA","NA","NA",2,196.64,3,656,4,147.36000000000001,null,"NA",null,"NA",1000,114,3,"UT","UTGS","NRES",25503196,255,0.25,2,1000,1000,"IHP","N",0.25,1000,"N"]
["SL0001546622",3561,"N","N",0.75,51,null,"NA",null,"NA","NA","NA",2,417.5,4,582.5,null,"NA",null,"NA",null,"NA",1000,51,15,"UT","UTGS","RES",46082675,460,0.25,1,250,320,"IHP","N",0.25,320,"N"]
["SL0001548057",3564,"N","N",0.75,7,null,"NA",null,"NA","NA","NA",2,792,1.25,208,null,"NA",null,"NA",null,"NA",1000,7,13,"UT","UTGS","RES",46114290,461,0.25,1,250,320,"IHP","N",0.25,320,"N"]
["SL0001548765",3570,"N","N",0.5,60,null,"NA",null,"NA","NA","NA",2,820.41,1.25,179.59,null,"NA",null,"NA",null,"NA",1000,60,8,"UT","UTGS","RES",12738236,127,0.25,1,250,320,"IHP","N",0.25,320,"N"]
["SL0001549045",3571,"Y","N",0.75,71,null,"NA",null,"NA","NA","NA",2,1000,null,"NA",null,"NA",null,"NA",null,"NA",1000,71,18,"UT","UTGS","RES",36085607,360,0.25,1,250,320,"IHP","N",0.25,320,"N"]
["SL0001551110",3576,"N","N",0.75,84,null,"NA",null,"NA","NA","NA",2,849.01,4,150.99,null,"NA",null,"NA",null,"NA",1000,84,17,"UT","UTGS","RES",26026490,260,0.25,1,250,320,"IHP","N",0.25,320,"N"]
["SL0001551325",3580,"N","N",0.75,37,null,"NA",null,"NA","NA","NA",2,772.51,3,126.98,1.25,100.51,null,"NA",null,"NA",1000,37,19,"UT","UTGS","RES",16072517,160,0.25,1,250,320,"IHP","N",0.25,320,"N"]
["SL0001552502",3585,"N","N",0.5,44,null,"NA",null,"NA","NA","NA",2,1000,null,"NA",null,"NA",null,"NA",null,"NA",1000,44,21,"UT","UTGS","RES",26102243,261,0.25,1,250,320,"IHP","N",0.25,320,"N"]
["SL0001553467",3586,"N","N",0.5,57,null,"NA",null,"NA","NA","NA",2,9.16,3,647.87,4,135.71,1.25,207.26,null,"NA",1000,57,8,"UT","UTGS","RES",36157320,361,0.25,1,250,320,"IHP","N",0.25,320,"N"]
["SL0001555570",3592,"N","N",0.5,16,null,"NA",null,"NA","NA","NA",2,1000,null,"NA",null,"NA",null,"NA",null,"NA",1000,16,11,"UT","UTGS","RES",46101696,461,0.25,1,250,320,"IHP","N",0.25,320,"N"]
["SL0001557830",3595,"N","N",0.75,24,null,"NA",null,"NA","NA","NA",2,596,1.25,404,null,"NA",null,"NA",null,"NA",1000,24,7,"UT","UTGS","RES",36079430,360,0.25,1,250,320,"IHP","N",0.25,320,"N"]
["SL0001558875",3600,"N","N",0.5,26,null,"NA",null,"NA","NA","NA",2,828.01,1.25,171.99,null,"NA",null,"NA",null,"NA",1000,26,14,"UT","UTGS","RES",16083876,160,0.25,1,250,320,"IHP","N",0.25,320,"N"]
["SL0001559450",3602,"N","N",1.25,33,null,"NA",null,"NA","NA","NA",4,1000,null,"NA",null,"NA",null,"NA",null,"NA",1000,33,4,"UT","UTGS","NRES",27100377,271,2,2,3000,3300,"IHP","N",2,3300,"N"]
["SL0001559919",3605,"N","N",0.5,21,null,"NA",null,"NA","NA","NA",2,714.96,4,285.04000000000002,null,"NA",null,"NA",null,"NA",1000,21,7,"UT","UTGS","RES",12780696,127,0.25,1,250,320,"IHP","N",0.25,320,"N"]
["SL0001560829",3610,"N","N",0.5,6,null,"NA",null,"NA","NA","NA",2,476.75,1.25,523.25,null,"NA",null,"NA",null,"NA",1000,6,15,"UT","UTGS","RES",46083601,460,0.25,1,250,320,"IHP","N",0.25,320,"N"]
["SL0001561515",3614,"Y","N",0.75,88,null,"NA",null,"NA","NA","NA",2,770.68,4,222.97,1.25,6.34,null,"NA",null,"NA",999.99,88,23,"UT","UTGS","RES",36085719,360,0.25,1,250,320,"IHP","N",0.25,320,"N"]
["SL0001561543",3615,"N","N",0.5,36,null,"NA",null,"NA","NA","NA",2,1000,null,"NA",null,"NA",null,"NA",null,"NA",1000,36,17,"UT","UTGS","RES",26108762,261,0.25,1,250,320,"IHP","N",0.25,320,"N"]
["SL0001563422",3620,"N","Y",0.75,112,null,"NA",null,"NA","NA","NA",4,934,0.75,66,null,"NA",null,"NA",null,"NA",1000,112,7,"UT","UTGS","RES",25913601,259,0.25,1,400,540,"IHP","N",0.25,540,"N"]
["SL0001564389",3623,"N","N",0.75,31,null,"NA",null,"NA","NA","NA",2,1000,null,"NA",null,"NA",null,"NA",null,"NA",1000,31,8,"UT","UTGS","RES",36079462,360,0.25,1,250,320,"IHP","N",0.25,320,"N"]
["SL0001565697",3629,"N","N",0.75,52,null,"NA",null,"NA","NA","NA",2,838.14,0.75,161.86000000000001,null,"NA",null,"NA",null,"NA",1000,52,9,"UT","UTGS","RES",36071617,360,0.25,1,250,320,"IHP","N",0.25,320,"N"]
["SL0001565946",3630,"N","N",0.5,25,null,"NA",null,"NA","NA","NA",2,1000,null,"NA",null,"NA",null,"NA",null,"NA",1000,25,7,"UT","UTGS","RES",36177494,361,0.25,1,250,320,"IHP","N",0.25,320,"N"]
["SL0001570240",3635,"N","N",0.5,78,null,"NA",null,"NA","NA","NA",2,355.4,1.25,644.6,null,"NA",null,"NA",null,"NA",1000,78,5,"UT","UTGS","RES",36020018,360,0.25,1,250,320,"IHP","N",0.25,320,"N"]
["SL0001571977",3639,"N","Y",0.5,89,null,"NA",null,"NA","NA","NA",2,934.81,0.75,65.19,null,"NA",null,"NA",null,"NA",1000,89,16,"UT","UTGS","RES",12628212,126,0.25,1,250,175,"IHP","N",0.25,175,"N"]
["SL0001573505",3644,"Y","Y",0.5,52,null,"NA",null,"NA","NA","NA",2,1000,null,"NA",null,"NA",null,"NA",null,"NA",1000,52,10,"UT","UTGS","RES",26094816,260,0.25,1,250,320,"IHP","N",0.25,320,"N"]
["SL0001574292",3647,"N","N",1.25,75,null,"NA",null,"NA","NA","NA",2,960,0.75,40,null,"NA",null,"NA",null,"NA",1000,75,4,"UT","UTGS","NRES",759005047,759,5,2,0,1100,"IHP","N",5,1100,"N"]
["SL0001574495",3649,"N","N",0.5,56,null,"NA",null,"NA","NA","NA",2,1000,null,"NA",null,"NA",null,"NA",null,"NA",1000,56,4,"UT","UTGS","RES",34604440,346,0.25,1,650,630,"IHP","N",0.25,630,"N"]
["SL0001575496",3654,"N","N",0.75,34,null,"NA",null,"NA","NA","NA",2,494,null,"NA",null,"NA",null,"NA",null,"NA",494,34,10,"UT","UTGS","RES",46077147,460,0.25,1,250,320,"IHP","N",0.25,320,"N"]
["SL0001575929",3656,"N","N",0.75,32,null,"NA",null,"NA","NA","NA",2,1000,null,"NA",null,"NA",null,"NA",null,"NA",1000,32,22,"UT","UTGS","RES",26098842,260,0.25,1,250,320,"IHP","N",0.25,320,"N"]
["SL0001576920",3659,"N","N",0.5,112,null,"NA",null,"NA","NA","NA",2,867,1.25,133,null,"NA",null,"NA",null,"NA",1000,112,29,"UT","UTGS","RES",26012253,260,0.25,1,250,320,"IHP","N",0.25,320,"N"]
["SL0001577751",3664,"N","N",0.5,52,null,"NA",null,"NA","NA","NA",2,1000,null,"NA",null,"NA",null,"NA",null,"NA",1000,52,18,"UT","UTGS","RES",46033887,460,0.25,1,250,320,"IHP","N",0.25,320,"N"]
["SL0001578601",3668,"N","N",1.25,49,null,"NA",null,"NA","NA","NA",2,16.690000000000001,4,983.31,null,"NA",null,"NA",null,"NA",1000,49,4,"UT","UTGS","RES",36109057,361,2,1,250,550,"IHP","N",2,550,"N"]
["SL0004000149",3673,"Y","N",0.5,61,null,"NA",null,"NA","NA","NA",2,1000,null,"NA",null,"NA",null,"NA",null,"NA",1000,61,21,"UT","UTGS","RES",26159126,261,0.25,1,250,320,"IHP","N",0.25,320,"N"]
["SL0004000252",3674,"N","N",0.5,74,null,"NA",null,"NA","NA","NA",2,1000,null,"NA",null,"NA",null,"NA",null,"NA",1000,74,12,"UT","UTGS","RES",12624307,126,0.25,1,250,175,"IHP","N",0.25,175,"N"]
["SL0004000812",3678,"N","N",0.5,132,null,"NA",null,"NA","NA","NA",2,660.85,4,339.15,null,"NA",null,"NA",null,"NA",1000,132,19,"UT","UTGS","RES",36194453,361,0.25,1,250,320,"IHP","N",0.25,320,"N"]
["SL0004001396",3683,"N","N",0.5,73,null,"NA",null,"NA","NA","NA",2,809.21,0.75,190.79,null,"NA",null,"NA",null,"NA",1000,73,15,"UT","UTGS","RES",12772635,127,0.25,1,250,320,"IHP","N",0.25,320,"N"]
["SL0004002143",3688,"N","N",1.25,43,null,"NA",null,"NA","NA","NA",2,969,1.25,31,null,"NA",null,"NA",null,"NA",1000,43,6,"UT","UTGS","RES",26005542,260,0.25,1,250,320,"IHP","N",0.25,320,"N"]
["SL0004002158",3689,"N","N",0.75,45,null,"NA",null,"NA","NA","NA",2,219.3,4,780.7,null,"NA",null,"NA",null,"NA",1000,45,10,"UT","UTGS","NRES",25900901,259,0.25,1,400,540,"IHP","N",0.25,540,"N"]
["SL0004003449",3694,"N","N",0.75,26,null,"NA",null,"NA","NA","NA",2,160.37,3,839.63,null,"NA",null,"NA",null,"NA",1000,26,12,"UT","UTGS","RES",26001926,260,0.25,1,250,320,"IHP","N",0.25,320,"N"]
["SL0004004129",3698,"N","N",0.5,39,null,"NA",null,"NA","NA","NA",2,851.37,1.25,148.63,null,"NA",null,"NA",null,"NA",1000,39,15,"UT","UTGS","RES",11124185,111,0.25,1,250,306,"IHP","N",0.25,306,"N"]
["SL0004006095",3703,"N","N",0.5,37,null,"NA",null,"NA","NA","NA",2,824.43,4,175.57,null,"NA",null,"NA",null,"NA",1000,37,5,"UT","UTGS","RES",25905137,259,0.25,1,400,540,"IHP","N",0.25,540,"N"]
["SL0004006428",3706,"N","N",0.75,41,null,"NA",null,"NA","NA","NA",2,446.24,8,193.76,1.25,360,null,"NA",null,"NA",1000,41,7,"UT","UTGS","RES",26078215,260,0.25,1,250,320,"IHP","N",0.25,320,"N"]
["SL0004006840",3708,"N","N",0.75,81,null,"NA",null,"NA","NA","NA",2,1000,null,"NA",null,"NA",null,"NA",null,"NA",1000,81,20,"UT","UTGS","RES",46119127,461,0.25,1,250,320,"IHP","N",0.25,320,"N"]
["SL0004008050",3713,"N","N",0.75,34,null,"NA",null,"NA","NA","NA",2,1000,null,"NA",null,"NA",null,"NA",null,"NA",1000,34,6,"UT","UTGS","RES",760000330,760,0.25,1,0,320,"IHP","N",0.25,320,"N"]
["SL0004008793",3715,"N","N",0.5,24,null,"NA",null,"NA","NA","NA",2,1000,null,"NA",null,"NA",null,"NA",null,"NA",1000,24,15,"UT","UTGS","RES",36143117,361,0.25,1,250,320,"IHP","N",0.25,320,"N"]
["SL0004009199",3718,"N","N",0.75,102,null,"NA",null,"NA","NA","NA",2,941.5,3,58.5,null,"NA",null,"NA",null,"NA",1000,102,12,"UT","UTGS","RES",25908046,259,0.25,1,400,540,"IHP","N",0.25,540,"N"]
["SL0004010308",3723,"N","N",0.75,71,null,"NA",null,"NA","NA","NA",2,713.97,4,286.02999999999997,null,"NA",null,"NA",null,"NA",1000,71,18,"UT","UTGS","RES",16030139,160,0.25,1,250,320,"IHP","N",0.25,320,"N"]
["SL0004011491",3728,"N","N",1.25,289,null,"NA",null,"NA","NA","NA",4,1000,null,"NA",null,"NA",null,"NA",null,"NA",1000,289,3,"UT","UTGS","NRES",36041728,360,2,1,250,550,"IHP","N",2,550,"N"]
["SL0004012520",3732,"N","N",0.75,66,null,"NA",null,"NA","NA","NA",2,588.86,4,411.14,null,"NA",null,"NA",null,"NA",1000,66,14,"UT","UTGS","RES",12633755,126,0.25,1,250,175,"IHP","N",0.25,175,"N"]
["SL0004012865",3733,"N","N",0.75,69,null,"NA",null,"NA","NA","NA",2,632.86,4,19.14,6,348,null,"NA",null,"NA",1000,69,15,"UT","UTGS","RES",12629362,126,0.25,1,250,175,"IHP","N",0.25,175,"N"]
["SL0004013839",3737,"N","N",0.5,55,null,"NA",null,"NA","NA","NA",2,639,1.25,361,null,"NA",null,"NA",null,"NA",1000,55,21,"UT","UTGS","RES",11153752,111,0.25,1,250,306,"IHP","N",0.25,306,"N"]
["SL0004014955",3742,"N","N",0.5,36,null,"NA",null,"NA","NA","NA",2,390.12,4,609.88,null,"NA",null,"NA",null,"NA",1000,36,11,"UT","UTGS","RES",26003506,260,0.25,1,250,320,"IHP","N",0.25,320,"N"]
["SL0004016112",3747,"N","N",0.75,40,null,"NA",null,"NA","NA","NA",2,1000,null,"NA",null,"NA",null,"NA",null,"NA",1000,40,10,"UT","UTGS","RES",46069403,460,0.25,1,250,320,"IHP","N",0.25,320,"N"]
["SL0004016865",3749,"N","N",0.5,30,null,"NA",null,"NA","NA","NA",2,929.85,0.75,70.150000000000006,null,"NA",null,"NA",null,"NA",1000,30,6,"UT","UTGS","RES",26188399,261,0.25,1,250,320,"IHP","N",0.25,320,"N"]
["SL0004018033",3752,"N","Y",2,143,null,"NA",null,"NA","NA","NA",2,1000,null,"NA",null,"NA",null,"NA",null,"NA",1000,143,12,"UT","UTGS","RES",36089179,360,0.25,1,250,320,"IHP","N",0.25,320,"N"]
["SL0004018838",3757,"Y","N",0.5,79,null,"NA",null,"NA","NA","NA",2,1000,null,"NA",null,"NA",null,"NA",null,"NA",1000,79,13,"UT","UTGS","RES",12727477,127,0.25,1,250,320,"IHP","N",0.25,320,"N"]
["SL0004019877",3761,"N","N",0.5,36,null,"NA",null,"NA","NA","NA",2,794,4,206,null,"NA",null,"NA",null,"NA",1000,36,8,"UT","UTGS","RES",25910149,259,2,2,400,955,"IHP","N",2,955,"N"]
["SL0004019979",3762,"N","N",0.5,39,null,"NA",null,"NA","NA","NA",2,796.09,3,203.91,null,"NA",null,"NA",null,"NA",1000,39,22,"UT","UTGS","RES",36052252,360,0.25,1,250,320,"IHP","N",0.25,320,"N"]
["SL0004022636",3767,"N","N",0.5,60,null,"NA",null,"NA","NA","NA",2,172.07,3,747.89,0.75,72.040000000000006,1.25,8,null,"NA",1000,60,14,"UT","UTGS","RES",26070341,260,0.25,1,250,320,"IHP","N",0.25,320,"N"]
["SL0004023423",3770,"N","Y",0.5,62,0.75,36,null,"NA","NA","NA",2,1000,null,"NA",null,"NA",null,"NA",null,"NA",1000,98,20,"UT","UTGS","RES",26040668,260,0.25,1,250,320,"IHP","N",0.25,320,"N"]
["SL0004024641",3776,"N","N",0.75,70,null,"NA",null,"NA","NA","NA",2,876.11,4,123.89,null,"NA",null,"NA",null,"NA",1000,70,20,"UT","UTGS","RES",26142026,261,0.25,1,250,320,"IHP","N",0.25,320,"N"]
["SL0004024980",3777,"N","N",0.75,52,null,"NA",null,"NA","NA","NA",2,1000,null,"NA",null,"NA",null,"NA",null,"NA",1000,52,8,"UT","UTGS","RES",12771365,127,0.25,1,250,320,"IHP","N",0.25,320,"N"]
["SL0004029425",3782,"N","N",0.5,28,null,"NA",null,"NA","NA","NA",2,191.96,3,721.52,1.25,86.52,null,"NA",null,"NA",1000,28,9,"UT","UTGS","RES",12719765,127,0.25,1,250,320,"IHP","N",0.25,320,"N"]
["SL0004032045",3787,"N","Y",0.75,82,null,"NA",null,"NA","NA","NA",2,1000,null,"NA",null,"NA",null,"NA",null,"NA",1000,82,14,"UT","UTGS","RES",12626995,126,0.25,1,250,175,"IHP","N",0.25,175,"N"]
["SL0008091967",3791,"Y","N",0.5,46,null,"NA",null,"NA","NA","NA",2,928.13,1.25,71.87,null,"NA",null,"NA",null,"NA",1000,46,11,"UT","UTGS","RES",16064471,160,0.25,1,250,320,"IHP","N",0.25,320,"N"]
["SL0008092045",3792,"N","N",0.75,30,null,"NA",null,"NA","NA","NA",2,205.5,0.75,558.5,1.25,236,null,"NA",null,"NA",1000,30,13,"UT","UTGS","RES",46087329,460,0.25,1,250,320,"IHP","N",0.25,320,"N"]
["SL0008094460",3796,"N","N",0.75,13,null,"NA",null,"NA","NA","NA",2,1000,null,"NA",null,"NA",null,"NA",null,"NA",1000,13,9,"UT","UTGS","RES",36188627,361,2,1,250,550,"IHP","N",2,550,"N"]
["SL0008096487",3801,"N","N",0.75,38,null,"NA",null,"NA","NA","NA",2,938.52,4,61.48,null,"NA",null,"NA",null,"NA",1000,38,11,"UT","UTGS","RES",46145363,461,2,1,250,550,"IHP","N",2,550,"N"]
["SL0008097265",3806,"N","Y",0.5,38,null,"NA",null,"NA","NA","NA",2,779.15,0.75,220.85,null,"NA",null,"NA",null,"NA",1000,38,7,"UT","UTGS","RES",36159271,361,0.25,1,250,320,"IHP","N",0.25,320,"N"]
["SL0008098184",3808,"N","N",0.75,43,null,"NA",null,"NA","NA","NA",2,1000,null,"NA",null,"NA",null,"NA",null,"NA",1000,43,11,"UT","UTGS","RES",760052619,760,0.25,1,0,320,"IHP","N",0.25,320,"N"]
["SL0008100155",3811,"N","N",0.5,21,null,"NA",null,"NA","NA","NA",2,1000,null,"NA",null,"NA",null,"NA",null,"NA",1000,21,16,"UT","UTGS","RES",21117059,211,2,1,250,428,"IHP","N",2,428,"N"]
["SL0009291882",3816,"Y","N",0.75,45,null,"NA",null,"NA","NA","NA",2,150.5,4,849.5,null,"NA",null,"NA",null,"NA",1000,45,7,"UT","UTGS","RES",46094572,460,0.25,1,250,320,"IHP","N",0.25,320,"N"]
["SL0009292712",3820,"N","N",0.75,24,null,"NA",null,"NA","NA","NA",2,713.69,4,286.31,null,"NA",null,"NA",null,"NA",1000,24,8,"UT","UTGS","RES",46117221,461,0.25,1,250,320,"IHP","N",0.25,320,"N"]
["SL0009292746",3821,"N","N",0.5,8,null,"NA",null,"NA","NA","NA",2,1000,null,"NA",null,"NA",null,"NA",null,"NA",1000,8,17,"UT","UTGS","RES",46000762,460,0.25,1,250,320,"IHP","N",0.25,320,"N"]
["SL0009293402",3826,"N","N",0.5,36,null,"NA",null,"NA","NA","NA",3,72.150000000000006,1.5,927.85,null,"NA",null,"NA",null,"NA",1000,36,11,"UT","UTGS","RES",36108908,361,0.25,1,250,320,"IHP","N",0.25,320,"N"]
["SL0009295879",3829,"N","N",0.75,48,null,"NA",null,"NA","NA","NA",2,630.47,4,369.53,null,"NA",null,"NA",null,"NA",1000,48,16,"UT","UTGS","RES",46022440,460,0.25,1,250,320,"IHP","N",0.25,320,"N"]
["SL0009299701",3835,"N","N",0.5,39,null,"NA",null,"NA","NA","NA",2,36.03,6,244.08,1.25,719.9,null,"NA",null,"NA",1000.01,39,11,"UT","UTGS","RES",36072982,360,0.25,1,250,320,"IHP","N",0.25,320,"N"]
["SL0009299710",3836,"N","N",0.5,74,null,"NA",null,"NA","NA","NA",2,858.38,1.25,141.62,null,"NA",null,"NA",null,"NA",1000,74,29,"UT","UTGS","RES",36118149,361,0.25,1,250,320,"IHP","N",0.25,320,"N"]
["SL0009300286",3841,"Y","N",0.5,30,0.75,10,null,"NA","NA","NA",2,3.31,3,19.93,1.25,976.76,null,"NA",null,"NA",1000,40,15,"UT","UTGS","RES",26014345,260,0.25,1,250,320,"IHP","N",0.25,320,"N"]
["SL0009302857",3845,"N","N",0.5,54,null,"NA",null,"NA","NA","NA",2,699.46,1.25,300.54000000000002,null,"NA",null,"NA",null,"NA",1000,54,13,"UT","UTGS","RES",36003339,360,0.25,1,250,320,"IHP","N",0.25,320,"N"]
["SL0009303046",3850,"N","N",0.75,79,null,"NA",null,"NA","NA","NA",2,1000,null,"NA",null,"NA",null,"NA",null,"NA",1000,79,17,"UT","UTGS","RES",21133834,211,0.25,1,250,306,"IHP","N",0.25,306,"N"]
["SL0009303479",3851,"Y","N",0.5,35,null,"NA",null,"NA","NA","NA",2,1000,null,"NA",null,"NA",null,"NA",null,"NA",1000,35,10,"UT","UTGS","RES",36165839,361,0.25,1,250,320,"IHP","N",0.25,320,"N"]
["SL0009304024",3855,"N","N",0.5,35,null,"NA",null,"NA","NA","NA",2,612.91999999999996,8,387.08,null,"NA",null,"NA",null,"NA",1000,35,9,"UT","UTGS","RES",760048699,760,0.25,1,0,320,"IHP","N",0.25,320,"N"]
["SL0009304984",3860,"N","N",0.5,36,null,"NA",null,"NA","NA","NA",2,1000,null,"NA",null,"NA",null,"NA",null,"NA",1000,36,6,"UT","UTGS","RES",46104369,461,0.25,1,250,320,"IHP","N",0.25,320,"N"]
["SL0009305338",3863,"Y","N",0.5,21,null,"NA",null,"NA","NA","NA",2,199.67,3,238.68,1.25,561.66,null,"NA",null,"NA",1000.01,21,35,"UT","UTGS","RES",36003183,360,0.25,1,250,320,"IHP","N",0.25,320,"N"]
["SL0009307675",3865,"N","N",1.25,112,null,"NA",null,"NA","NA","NA",4,1000,null,"NA",null,"NA",null,"NA",null,"NA",1000,112,18,"UT","UTGS","RES",26198479,261,0.25,1,250,320,"IHP","N",0.25,320,"N"]
["SL0009309248",3870,"N","N",0.75,52,null,"NA",null,"NA","NA","NA",2,635.4,4,364.6,null,"NA",null,"NA",null,"NA",1000,52,19,"UT","UTGS","RES",46007284,460,0.25,1,250,320,"IHP","N",0.25,320,"N"]
["SL0009309798",3875,"N","N",0.75,34,null,"NA",null,"NA","NA","NA",2,903.08,6,96.92,null,"NA",null,"NA",null,"NA",1000,34,12,"UT","UTGS","RES",46147313,461,0.25,1,250,320,"IHP","N",0.25,320,"N"]
["SL0009756233",3879,"Y","N",0.75,41,null,"NA",null,"NA","NA","NA",2,1000,null,"NA",null,"NA",null,"NA",null,"NA",1000,41,8,"UT","UTGS","RES",26168342,261,0.25,1,250,320,"IHP","N",0.25,320,"N"]
["SL0009756962",3880,"N","N",0.5,33,null,"NA",null,"NA","NA","NA",2,262.77999999999997,4,1.22,1.25,736,null,"NA",null,"NA",1000,33,25,"UT","UTGS","RES",26171472,261,0.25,1,250,320,"IHP","N",0.25,320,"N"]
["SL0009758275",3885,"N","N",0.5,43,null,"NA",null,"NA","NA","NA",2,1000,null,"NA",null,"NA",null,"NA",null,"NA",1000,43,28,"UT","UTGS","RES",26058997,260,0.25,1,250,320,"IHP","N",0.25,320,"N"]
["SL0009758589",3888,"N","N",0.75,93,null,"NA",null,"NA","NA","NA",2,1000,null,"NA",null,"NA",null,"NA",null,"NA",1000,93,18,"UT","UTGS","RES",26087824,260,0.25,1,250,320,"IHP","N",0.25,320,"N"]
["SL0009760497",3894,"N","N",0.75,92,null,"NA",null,"NA","NA","NA",2,142.57,0.75,800.47,1.25,56.97,null,"NA",null,"NA",1000.01,92,9,"UT","UTGS","RES",46021506,460,0.25,1,250,320,"IHP","N",0.25,320,"N"]
["SL0009761071",3895,"N","N",0.75,11,1.25,47,null,"NA","NA","NA",2,735.42,4,264.58,null,"NA",null,"NA",null,"NA",1000,58,19,"UT","UTGS","RES",16011059,160,0.25,1,250,320,"IHP","N",0.25,320,"N"]
["SL0009762681",3900,"N","N",1.25,20,null,"NA",null,"NA","NA","NA",2,648.72,4,351.28,null,"NA",null,"NA",null,"NA",1000,20,6,"UT","UTGS","NRES",16036859,160,0.25,1,250,320,"IHP","N",0.25,320,"N"]
["SL0009763585",3904,"N","N",0.75,44,null,"NA",null,"NA","NA","NA",4,1000,null,"NA",null,"NA",null,"NA",null,"NA",1000,44,21,"UT","UTGS","RES",26109121,261,0.25,1,250,320,"IHP","N",0.25,320,"N"]
["SL0009765169",3909,"N","N",0.5,30,null,"NA",null,"NA","NA","NA",2,1000,null,"NA",null,"NA",null,"NA",null,"NA",1000,30,7,"UT","UTGS","RES",26127754,261,0.25,1,250,320,"IHP","N",0.25,320,"N"]
["SL0009765211",3910,"N","N",0.5,60,null,"NA",null,"NA","NA","NA",2,694.14,3,231.41,1.25,74.45,null,"NA",null,"NA",1000,60,9,"UT","UTGS","RES",46029282,460,2,1,250,550,"IHP","N",2,550,"N"]
["SL0009766497",3914,"N","N",0.5,62,null,"NA",null,"NA","NA","NA",2,540.5,1.25,459.5,null,"NA",null,"NA",null,"NA",1000,62,13,"UT","UTGS","RES",36003712,360,0.25,1,250,320,"IHP","N",0.25,320,"N"]
["SL0009768518",3919,"N","N",0.75,23,null,"NA",null,"NA","NA","NA",2,863,0.75,137,null,"NA",null,"NA",null,"NA",1000,23,7,"UT","UTGS","RES",760033430,760,2,1,0,550,"IHP","N",2,550,"N"]
["SL0009768839",3922,"N","N",0.75,49,null,"NA",null,"NA","NA","NA",2,793,0.75,207,null,"NA",null,"NA",null,"NA",1000,49,15,"UT","UTGS","RES",21123227,211,0.25,1,250,306,"IHP","N",0.25,306,"N"]
["SL0009768870",3924,"N","N",0.75,12,null,"NA",null,"NA","NA","NA",2,538.05999999999995,4,100,6,361.94,null,"NA",null,"NA",1000,12,7,"UT","UTGS","RES",26052569,260,2,1,250,550,"IHP","N",2,550,"N"]
["SL0009771493",3929,"N","N",0.75,84,null,"NA",null,"NA","NA","NA",2,611,4,389,null,"NA",null,"NA",null,"NA",1000,84,19,"UT","UTGS","RES",16068734,160,0.25,1,250,320,"IHP","N",0.25,320,"N"]
["SL0009772827",3934,"N","N",0.75,36,null,"NA",null,"NA","NA","NA",2,867.46,0.75,132.54,null,"NA",null,"NA",null,"NA",1000,36,21,"UT","UTGS","RES",46063094,460,0.25,1,250,320,"IHP","N",0.25,320,"N"]
["SL0009773736",3938,"Y","N",0.75,238,null,"NA",null,"NA","NA","NA",4,1000,null,"NA",null,"NA",null,"NA",null,"NA",1000,238,4,"UT","UTGS","NRES",25500013,255,2,2,1000,2400,"IHP","N",2,2400,"N"]
["SL0009774148",3939,"Y","N",0.5,54,null,"NA",null,"NA","NA","NA",2,1000,null,"NA",null,"NA",null,"NA",null,"NA",1000,54,14,"UT","UTGS","RES",26013769,260,0.25,1,250,320,"IHP","N",0.25,320,"N"]
["SL0009774803",3943,"N","N",0.75,38,null,"NA",null,"NA","NA","NA",2,737.35,4,262.64999999999998,null,"NA",null,"NA",null,"NA",1000,38,16,"UT","UTGS","RES",16084363,160,0.25,1,250,320,"IHP","N",0.25,320,"N"]
["SL0009775327",3948,"N","Y",0.75,85,null,"NA",null,"NA","NA","NA",3,46,4,849.46,1.25,104.54,null,"NA",null,"NA",1000,85,9,"UT","UTGS","RES",25914655,259,2,2,400,955,"IHP","N",2,955,"N"]
["SL0009776818",3953,"N","N",0.5,22,null,"NA",null,"NA","NA","NA",2,208.48,4,470,6,272.77999999999997,1.25,48.75,null,"NA",1000.01,22,7,"UT","UTGS","RES",12717548,127,0.25,1,250,320,"IHP","N",0.25,320,"N"]
["SL0009777562",3955,"Y","N",0.5,51,null,"NA",null,"NA","NA","NA",2,1000,null,"NA",null,"NA",null,"NA",null,"NA",1000,51,7,"UT","UTGS","RES",26148484,261,0.25,1,250,320,"IHP","N",0.25,320,"N"]
["SL0009778610",3958,"N","Y",0.5,54,null,"NA",null,"NA","NA","NA",2,1000,null,"NA",null,"NA",null,"NA",null,"NA",1000,54,16,"UT","UTGS","RES",26052091,260,0.25,1,250,320,"IHP","N",0.25,320,"N"]
["SL0009780021",3963,"N","Y",0.5,42,null,"NA",null,"NA","NA","NA",2,598.17999999999995,4,401.82,null,"NA",null,"NA",null,"NA",1000,42,9,"UT","UTGS","RES",16032968,160,0.25,1,250,320,"IHP","N",0.25,320,"N"]
["SL0009781044",3967,"N","N",0.5,89,null,"NA",null,"NA","NA","NA",2,747.85,4,252.15,null,"NA",null,"NA",null,"NA",1000,89,27,"UT","UTGS","RES",12773170,127,0.25,1,250,320,"IHP","N",0.25,320,"N"]
["SL0009781789",3968,"N","N",0.5,98,null,"NA",null,"NA","NA","NA",2,985.35,1.25,14.65,null,"NA",null,"NA",null,"NA",1000,98,22,"UT","UTGS","RES",12765177,127,0.25,1,250,320,"IHP","N",0.25,320,"N"]
["SL0009783738",3973,"N","N",0.75,35,null,"NA",null,"NA","NA","NA",2,1000,null,"NA",null,"NA",null,"NA",null,"NA",1000,35,13,"UT","UTGS","RES",760058002,760,0.25,1,0,320,"IHP","N",0.25,320,"N"]
["SL0009784546",3977,"N","Y",0.5,37,null,"NA",null,"NA","NA","NA",2,819.5,0.75,180.5,null,"NA",null,"NA",null,"NA",1000,37,11,"UT","UTGS","RES",46009517,460,0.25,1,250,320,"IHP","N",0.25,320,"N"]
["SL0009789079",3982,"N","N",0.75,65,null,"NA",null,"NA","NA","NA",2,1000,null,"NA",null,"NA",null,"NA",null,"NA",1000,65,8,"UT","UTGS","RES",16014786,160,0.25,1,250,320,"IHP","N",0.25,320,"N"]
["SL0009790632",3983,"N","N",0.5,44,null,"NA",null,"NA","NA","NA",3,1000,null,"NA",null,"NA",null,"NA",null,"NA",1000,44,19,"UT","UTGS","RES",760007169,760,0.25,1,0,320,"IHP","N",0.25,320,"N"]
["SL0009792205",3988,"N","N",0.75,127,null,"NA",null,"NA","NA","NA",2,1000,null,"NA",null,"NA",null,"NA",null,"NA",1000,127,9,"UT","UTGS","RES",760063631,760,0.25,1,0,320,"IHP","N",0.25,320,"N"]
["SL0009793115",3993,"N","Y",0.75,50,null,"NA",null,"NA","NA","NA",2,386.3,0.75,162.85,1.25,450.85,null,"NA",null,"NA",1000,50,8,"UT","UTGS","RES",12713076,127,0.25,1,250,320,"IHP","N",0.25,320,"N"]
["SL0009794342",3997,"N","N",0.5,64,null,"NA",null,"NA","NA","NA",2,1000,null,"NA",null,"NA",null,"NA",null,"NA",1000,64,16,"UT","UTGS","NRES",26047495,260,0.25,1,250,320,"IHP","N",0.25,320,"N"]
["SL0009794632",3998,"N","N",0.5,21,null,"NA",null,"NA","NA","NA",2,570.79999999999995,0.75,417,1.25,12.2,null,"NA",null,"NA",1000,21,32,"UT","UTGS","RES",16040268,160,0.25,1,250,320,"IHP","N",0.25,320,"N"]
["SL0009795642",4002,"N","N",0.5,38,null,"NA",null,"NA","NA","NA",2,580.95000000000005,4,419.05,null,"NA",null,"NA",null,"NA",1000,38,17,"UT","UTGS","RES",26072642,260,0.25,1,250,320,"IHP","N",0.25,320,"N"]
["SL0009796877",4007,"N","Y",0.75,18,1.25,11,null,"NA","NA","NA",2,1000,null,"NA",null,"NA",null,"NA",null,"NA",1000,29,11,"UT","UTGS","RES",36085838,360,0.25,1,250,320,"IHP","N",0.25,320,"N"]
["SL0009797695",4012,"Y","N",0.5,27,null,"NA",null,"NA","NA","NA",4,1000,null,"NA",null,"NA",null,"NA",null,"NA",1000,27,14,"UT","UTGS","RES",16050641,160,0.25,1,250,320,"IHP","N",0.25,320,"N"]
["SL0009799061",4014,"N","N",0.75,114,null,"NA",null,"NA","NA","NA",4,1000,null,"NA",null,"NA",null,"NA",null,"NA",1000,114,6,"UT","UTGS","NRES",34606032,346,0.25,1,650,630,"IHP","N",0.25,630,"N"]
["SL0009799577",4017,"N","Y",0.5,44,null,"NA",null,"NA","NA","NA",2,644.57000000000005,0.75,355.43,null,"NA",null,"NA",null,"NA",1000,44,23,"UT","UTGS","RES",26111986,261,0.25,1,250,320,"IHP","N",0.25,320,"N"]
["SL0009802150",4022,"N","N",0.5,42,null,"NA",null,"NA","NA","NA",2,1000,null,"NA",null,"NA",null,"NA",null,"NA",1000,42,24,"UT","UTGS","RES",26155867,261,0.25,1,250,320,"IHP","N",0.25,320,"N"]
["SL0009803295",4026,"N","N",1.25,28,null,"NA",null,"NA","NA","NA",2,1000,null,"NA",null,"NA",null,"NA",null,"NA",1000,28,10,"UT","UTGS","RES",26116022,261,0.25,1,250,320,"IHP","N",0.25,320,"N"]
["SL0009803495",4027,"N","N",0.75,231,null,"NA",null,"NA","NA","NA",2,346.6,3,499,6,154.4,null,"NA",null,"NA",1000,231,9,"UT","UTGS","RES",46133277,461,0.25,1,250,320,"IHP","N",0.25,320,"N"]
["SL0009804708",4032,"N","N",0.75,8,null,"NA",null,"NA","NA","NA",2,1000,null,"NA",null,"NA",null,"NA",null,"NA",1000,8,4,"UT","UTGS","RES",46142629,461,2,1,250,550,"IHP","N",2,550,"N"]
["SL0009805947",4036,"N","N",0.5,69,null,"NA",null,"NA","NA","NA",2,169.95,4,830.05,null,"NA",null,"NA",null,"NA",1000,69,15,"UT","UTGS","RES",26161116,261,0.25,1,250,320,"IHP","N",0.25,320,"N"]
["SL0009807387",4041,"N","N",0.75,67,null,"NA",null,"NA","NA","NA",2,35.799999999999997,3,309.2,4,655,null,"NA",null,"NA",1000,67,6,"UT","UTGS","RES",21116924,211,0.25,1,250,306,"IHP","N",0.25,306,"N"]
["SL0009807390",4042,"N","N",0.75,19,null,"NA",null,"NA","NA","NA",1.25,1000,null,"NA",null,"NA",null,"NA",null,"NA",1000,19,10,"UT","UTGS","RES",760028936,760,0.25,1,0,320,"IHP","N",0.25,320,"N"]
["SL0009808870",4048,"N","N",2,424,null,"NA",null,"NA","NA","NA",2,93.87,3,866.06,0.75,40.06,null,"NA",null,"NA",999.99,424,12,"UT","UTGS","NRES",28300076,283,2,3,7000,7794,"IHP","N",2,7794,"N"]
["SL0009809164",4051,"N","N",0.5,50,null,"NA",null,"NA","NA","NA",2,1000,null,"NA",null,"NA",null,"NA",null,"NA",1000,50,18,"UT","UTGS","RES",26127203,261,0.25,1,250,320,"IHP","N",0.25,320,"N"]
["SL0009809840",4056,"N","N",0.5,45,null,"NA",null,"NA","NA","NA",2,1000,null,"NA",null,"NA",null,"NA",null,"NA",1000,45,11,"UT","UTGS","RES",46152587,461,0.25,1,250,320,"IHP","N",0.25,320,"N"]
["SL0009810124",4057,"N","Y",0.75,10,null,"NA",null,"NA","NA","NA",2,512,3,127.5,4,127.5,1.25,233,null,"NA",1000,10,18,"UT","UTGS","RES",36013440,360,0.25,1,250,320,"IHP","N",0.25,320,"N"]
["SL0009810690",4061,"N","N",0.5,112,null,"NA",null,"NA","NA","NA",2,1000,null,"NA",null,"NA",null,"NA",null,"NA",1000,112,9,"UT","UTGS","RES",16079083,160,0.25,1,250,320,"IHP","N",0.25,320,"N"]
["SL0009811347",4066,"N","N",0.5,35,null,"NA",null,"NA","NA","NA",2,517.52,1.25,482.48,null,"NA",null,"NA",null,"NA",1000,35,9,"UT","UTGS","RES",46050699,460,0.25,1,250,320,"IHP","N",0.25,320,"N"]
["SL0009812036",4069,"N","N",0.5,116,null,"NA",null,"NA","NA","NA",2,232.8,4,729.68,1.25,37.520000000000003,null,"NA",null,"NA",1000,116,15,"UT","UTGS","RES",12718151,127,0.25,1,250,320,"IHP","N",0.25,320,"N"]
["SL0009812101",4071,"N","N",0.5,55,null,"NA",null,"NA","NA","NA",2,1000,null,"NA",null,"NA",null,"NA",null,"NA",1000,55,9,"UT","UTGS","RES",46104430,461,0.25,1,250,320,"IHP","N",0.25,320,"N"]
["SL0009813727",4076,"N","N",0.75,87,null,"NA",null,"NA","NA","NA",2,981.33,1.25,18.670000000000002,null,"NA",null,"NA",null,"NA",1000,87,17,"UT","UTGS","RES",16086250,160,0.25,1,250,320,"IHP","N",0.25,320,"N"]
["SL0009814447",4081,"N","N",0.5,92,null,"NA",null,"NA","NA","NA",2,689,1.25,311,null,"NA",null,"NA",null,"NA",1000,92,8,"UT","UTGS","RES",26129615,261,0.25,1,250,320,"IHP","N",0.25,320,"N"]
["SL0009815251",4083,"N","N",0.75,77,null,"NA",null,"NA","NA","NA",2,996.24,0.75,3.76,null,"NA",null,"NA",null,"NA",1000,77,16,"UT","UTGS","RES",21122695,211,0.25,1,250,306,"IHP","N",0.25,306,"N"]
["SL0009815603",4086,"N","N",0.75,219,null,"NA",null,"NA","NA","NA",2,1000,null,"NA",null,"NA",null,"NA",null,"NA",1000,219,3,"UT","UTGS","NRES",26900119,269,15,2,800,1600,"IHP","N",15,1600,"N"]
["SL0009816002",4091,"N","N",0.75,25,null,"NA",null,"NA","NA","NA",2,1000,null,"NA",null,"NA",null,"NA",null,"NA",1000,25,6,"UT","UTGS","RES",22010819,220,2,2,400,930,"IHP","N",2,930,"N"]
["SL0009817531",4095,"N","N",0.75,35,null,"NA",null,"NA","NA","NA",2,389,4,611,null,"NA",null,"NA",null,"NA",1000,35,30,"UT","UTGS","RES",26045611,260,0.25,1,250,320,"IHP","N",0.25,320,"N"]
["SL0009819225",4100,"N","N",0.75,77,null,"NA",null,"NA","NA","NA",2,1000,null,"NA",null,"NA",null,"NA",null,"NA",1000,77,8,"UT","UTGS","RES",25903834,259,2,2,400,955,"IHP","N",2,955,"N"]
["SL0009819256",4101,"N","N",0.5,9,null,"NA",null,"NA","NA","NA",2,708.89,4,103.23,1.25,187.89,null,"NA",null,"NA",1000.01,9,20,"UT","UTGS","RES",26107362,261,0.25,1,250,320,"IHP","N",0.25,320,"N"]
["SL0009821309",4107,"N","N",0.5,46,null,"NA",null,"NA","NA","NA",2,979.13,1.25,20.87,null,"NA",null,"NA",null,"NA",1000,46,16,"UT","UTGS","RES",26013203,260,0.25,1,250,320,"IHP","N",0.25,320,"N"]
["SL0009821784",4110,"N","N",0.75,74,null,"NA",null,"NA","NA","NA",2,1000,null,"NA",null,"NA",null,"NA",null,"NA",1000,74,15,"UT","UTGS","RES",26112547,261,0.25,1,250,320,"IHP","N",0.25,320,"N"]
["SL0009823443",4115,"N","Y",0.75,103,null,"NA",null,"NA","NA","NA",2,1000,null,"NA",null,"NA",null,"NA",null,"NA",1000,103,9,"UT","UTGS","NRES",46086737,460,2,1,250,550,"IHP","N",2,550,"N"]
["SL0009823746",4116,"N","N",0.5,34,null,"NA",null,"NA","NA","NA",2,1000,null,"NA",null,"NA",null,"NA",null,"NA",1000,34,19,"UT","UTGS","RES",21127834,211,0.25,1,250,306,"IHP","N",0.25,306,"N"]
["SL0009826140",4120,"Y","N",0.5,25,null,"NA",null,"NA","NA","NA",2,775.32,3,196.55,1.25,28.14,null,"NA",null,"NA",1000.01,25,14,"UT","UTGS","RES",16010287,160,0.25,1,250,320,"IHP","N",0.25,320,"N"]
["SL0009827758",4125,"N","N",0.5,30,null,"NA",null,"NA","NA","NA",2,596,3,288,0.75,116,null,"NA",null,"NA",1000,30,9,"UT","UTGS","RES",36033189,360,0.25,1,250,320,"IHP","N",0.25,320,"N"]
["SL0009828066",4128,"N","N",0.75,131,null,"NA",null,"NA","NA","NA",2,245.47,6,754.53,null,"NA",null,"NA",null,"NA",1000,131,7,"UT","UTGS","RES",46141024,461,0.25,1,250,320,"IHP","N",0.25,320,"N"]
["SL0009828220",4130,"N","N",1.25,95,null,"NA",null,"NA","NA","NA",2,142.72,4,150.78,8,176.78,1.5,529.72,null,"NA",1000,95,8,"UT","UTGS","NRES",15501561,155,0.25,2,1000,1000,"IHP","N",0.25,1000,"N"]
["SL0009828569",4135,"N","N",0.75,33,null,"NA",null,"NA","NA","NA",0.75,1000,null,"NA",null,"NA",null,"NA",null,"NA",1000,33,10,"UT","UTGS","RES",12622679,126,0.25,1,250,175,"IHP","N",0.25,175,"N"]
["SL0009830328",4140,"N","N",0.5,73,null,"NA",null,"NA","NA","NA",2,1000,null,"NA",null,"NA",null,"NA",null,"NA",1000,73,27,"UT","UTGS","RES",16096506,160,0.25,1,250,320,"IHP","N",0.25,320,"N"]
["SL0009830965",4144,"Y","N",0.75,76,null,"NA",null,"NA","NA","NA",2,654.41999999999996,4,345.58,null,"NA",null,"NA",null,"NA",1000,76,19,"UT","UTGS","RES",12629434,126,0.25,1,250,175,"IHP","N",0.25,175,"N"]
["SL0009831000",4145,"N","N",0.5,61,null,"NA",null,"NA","NA","NA",2,938.08,1.25,61.92,null,"NA",null,"NA",null,"NA",1000,61,9,"UT","UTGS","RES",16040442,160,0.25,1,250,320,"IHP","N",0.25,320,"N"]
["SL0009831768",4149,"N","N",0.75,40,null,"NA",null,"NA","NA","NA",2,44.38,4,161.62,1.25,794,null,"NA",null,"NA",1000,40,22,"UT","UTGS","RES",36004513,360,0.25,1,250,320,"IHP","N",0.25,320,"N"]
["SL0009832895",4154,"N","N",0.5,85,null,"NA",null,"NA","NA","NA",2,924.85,1.25,75.150000000000006,null,"NA",null,"NA",null,"NA",1000,85,29,"UT","UTGS","RES",46119124,461,0.25,1,250,320,"IHP","N",0.25,320,"N"]
["SL0009833626",4159,"N","N",0.5,43,null,"NA",null,"NA","NA","NA",2,1000,null,"NA",null,"NA",null,"NA",null,"NA",1000,43,5,"UT","UTGS","RES",760024682,760,0.25,1,0,320,"IHP","N",0.25,320,"N"]
["SL0009834384",4162,"N","N",0.75,7,null,"NA",null,"NA","NA","NA",2,1000,null,"NA",null,"NA",null,"NA",null,"NA",1000,7,12,"UT","UTGS","RES",36142619,361,0.25,1,250,320,"IHP","N",0.25,320,"N"]
["SL0009834715",4164,"N","N",0.5,82,null,"NA",null,"NA","NA","NA",2,970.83,1.25,29.17,null,"NA",null,"NA",null,"NA",1000,82,32,"UT","UTGS","RES",46034275,460,0.25,1,250,320,"IHP","N",0.25,320,"N"]
["SL0009835609",4169,"Y","Y",0.75,2,1.25,1,null,"NA","NA","NA",2,778.73,4,221.27,null,"NA",null,"NA",null,"NA",1000,3,8,"UT","UTGS","RES",760069439,760,0.25,1,0,320,"IHP","N",0.25,320,"N"]
["SL0009835888",4171,"N","N",0.5,30,null,"NA",null,"NA","NA","NA",2,1000,null,"NA",null,"NA",null,"NA",null,"NA",1000,30,28,"UT","UTGS","RES",36029722,360,0.25,1,250,320,"IHP","N",0.25,320,"N"]
["SL0009836019",4174,"N","N",0.5,64,null,"NA",null,"NA","NA","NA",2,890.74,3,109.26,null,"NA",null,"NA",null,"NA",1000,64,24,"UT","UTGS","RES",46102454,461,0.25,1,250,320,"IHP","N",0.25,320,"N"]
["SL0009837477",4179,"N","N",0.75,78,null,"NA",null,"NA","NA","NA",2,1000,null,"NA",null,"NA",null,"NA",null,"NA",1000,78,14,"UT","UTGS","RES",11145943,111,0.25,1,250,306,"IHP","N",0.25,306,"N"]
["SL0009838761",4184,"N","N",0.5,45,null,"NA",null,"NA","NA","NA",3,1000,null,"NA",null,"NA",null,"NA",null,"NA",1000,45,18,"UT","UTGS","RES",36083704,360,0.25,1,250,320,"IHP","N",0.25,320,"N"]
["SL0009839799",4187,"N","N",0.5,38,null,"NA",null,"NA","NA","NA",2,922.8,1.25,77.2,null,"NA",null,"NA",null,"NA",1000,38,14,"UT","UTGS","RES",760061418,760,0.25,1,0,320,"IHP","N",0.25,320,"N"]
["SL0009839812",4189,"N","N",0.5,9,null,"NA",null,"NA","NA","NA",2,1000,null,"NA",null,"NA",null,"NA",null,"NA",1000,9,9,"UT","UTGS","RES",36123566,361,0.25,1,250,320,"IHP","N",0.25,320,"N"]
["SL0009840776",4194,"N","Y",0.5,88,null,"NA",null,"NA","NA","NA",2,1000,null,"NA",null,"NA",null,"NA",null,"NA",1000,88,6,"UT","UTGS","RES",26158392,261,0.25,1,250,320,"IHP","N",0.25,320,"N"]
["SL0009841419",4199,"Y","N",0.5,45,null,"NA",null,"NA","NA","NA",2,1,4,756.24,1.25,242.76,null,"NA",null,"NA",1000,45,5,"UT","UTGS","RES",22002556,220,0.25,1,400,500,"IHP","N",0.25,500,"N"]
["SL0009841919",4203,"N","N",0.75,15,null,"NA",null,"NA","NA","NA",3,199.55,4,635.27,6,66.72,1.25,98.45,null,"NA",999.99,15,6,"UT","UTGS","RES",760057402,760,0.25,1,0,320,"IHP","N",0.25,320,"N"]
["SL0009841978",4204,"N","N",0.5,83,null,"NA",null,"NA","NA","NA",2,326.27,4,673.73,null,"NA",null,"NA",null,"NA",1000,83,16,"UT","UTGS","RES",12623783,126,0.25,1,250,175,"IHP","N",0.25,175,"N"]
["SL0009843055",4209,"N","N",0.5,45,null,"NA",null,"NA","NA","NA",2,63.25,4,639.75,0.75,31,1.25,266,null,"NA",1000,45,13,"UT","UTGS","RES",36094050,360,2,1,250,550,"IHP","N",2,550,"N"]
["SL0009844123",4213,"N","N",0.75,141,null,"NA",null,"NA","NA","NA",2,790.64,6,209.36,null,"NA",null,"NA",null,"NA",1000,141,19,"UT","UTGS","RES",12707697,127,0.25,1,250,320,"IHP","N",0.25,320,"N"]
["SL0009844794",4218,"N","N",0.5,37,null,"NA",null,"NA","NA","NA",2,487.33,4,512.66999999999996,null,"NA",null,"NA",null,"NA",1000,37,13,"UT","UTGS","RES",12773951,127,0.25,1,250,320,"IHP","N",0.25,320,"N"]
["SL0009845043",4221,"N","N",0.5,74,null,"NA",null,"NA","NA","NA",2,1000,null,"NA",null,"NA",null,"NA",null,"NA",1000,74,11,"UT","UTGS","RES",36040192,360,0.25,1,250,320,"IHP","N",0.25,320,"N"]
["SL0009845410",4223,"N","N",0.5,77,null,"NA",null,"NA","NA","NA",2,1000,null,"NA",null,"NA",null,"NA",null,"NA",1000,77,12,"UT","UTGS","RES",12708561,127,0.25,1,250,320,"IHP","N",0.25,320,"N"]
["SL0009845838",4228,"N","N",0.5,54,null,"NA",null,"NA","NA","NA",2,682,1.25,318,null,"NA",null,"NA",null,"NA",1000,54,12,"UT","UTGS","RES",26099087,260,0.25,1,250,320,"IHP","N",0.25,320,"N"]
["SL0009846200",4230,"N","N",0.75,34,null,"NA",null,"NA","NA","NA",2,935.32,4,64.680000000000007,null,"NA",null,"NA",null,"NA",1000,34,24,"UT","UTGS","RES",12742857,127,0.25,1,250,320,"IHP","N",0.25,320,"N"]
["SL0009846904",4233,"Y","N",0.75,100,null,"NA",null,"NA","NA","NA",1.25,1000,null,"NA",null,"NA",null,"NA",null,"NA",1000,100,8,"UT","UTGS","RES",36062770,360,0.25,1,250,320,"IHP","N",0.25,320,"N"]
["SL0009847885",4238,"N","N",0.75,21,null,"NA",null,"NA","NA","NA",2,366,4,634,null,"NA",null,"NA",null,"NA",1000,21,11,"UT","UTGS","RES",46013570,460,0.25,1,250,320,"IHP","N",0.25,320,"N"]
["SL0009848470",4242,"N","N",0.5,29,null,"NA",null,"NA","NA","NA",2,322.94,1.25,677.06,null,"NA",null,"NA",null,"NA",1000,29,6,"UT","UTGS","RES",36016455,360,0.25,1,250,320,"IHP","N",0.25,320,"N"]
["SL0009849885",4247,"N","N",0.75,93,null,"NA",null,"NA","NA","NA",2,1000,null,"NA",null,"NA",null,"NA",null,"NA",1000,93,19,"UT","UTGS","RES",16063699,160,0.25,1,250,320,"IHP","N",0.25,320,"N"]
["SL0009849912",4248,"N","N",0.75,29,null,"NA",null,"NA","NA","NA",2,811.45,1.25,188.55,null,"NA",null,"NA",null,"NA",1000,29,7,"UT","UTGS","RES",12624199,126,0.25,1,250,175,"IHP","N",0.25,175,"N"]
["SL0009850344",4254,"Y","N",1.25,28,null,"NA",null,"NA","NA","NA",2,473,3,527,null,"NA",null,"NA",null,"NA",1000,28,16,"UT","UTGS","RES",26101761,261,0.25,1,250,320,"IHP","N",0.25,320,"N"]
["SL0009850695",4257,"N","Y",0.75,129,1.25,971,null,"NA","NA","NA",4,1000,null,"NA",null,"NA",null,"NA",null,"NA",1000,1100,9,"UT","UTGS","NRES",26171729,261,0.25,1,250,320,"IHP","N",0.25,320,"N"]
["SL0009851867",4262,"N","N",0.5,50,null,"NA",null,"NA","NA","NA",2,200.25,6,799.75,null,"NA",null,"NA",null,"NA",1000,50,7,"UT","UTGS","RES",36068987,360,0.25,1,250,320,"IHP","N",0.25,320,"N"]
["SL0009851953",4263,"N","N",0.5,21,null,"NA",null,"NA","NA","NA",2,823.5,0.75,176.5,null,"NA",null,"NA",null,"NA",1000,21,17,"UT","UTGS","RES",46081536,460,0.25,1,250,320,"IHP","N",0.25,320,"N"]
["SL0009852473",4267,"N","N",0.5,45,null,"NA",null,"NA","NA","NA",2,63.25,3,339.75,1.25,597,null,"NA",null,"NA",1000,45,17,"UT","UTGS","RES",21115124,211,0.25,1,250,306,"IHP","N",0.25,306,"N"]
["SL0009852551",4272,"N","N",0.5,15,null,"NA",null,"NA","NA","NA",2,1000,null,"NA",null,"NA",null,"NA",null,"NA",1000,15,9,"UT","UTGS","RES",46143544,461,0.25,1,250,320,"IHP","N",0.25,320,"N"]
["SL0009852813",4275,"Y","N",0.5,33,null,"NA",null,"NA","NA","NA",2,378.97,1.25,621.03,null,"NA",null,"NA",null,"NA",1000,33,10,"UT","UTGS","RES",46152302,461,0.25,1,250,320,"IHP","N",0.25,320,"N"]
["SL0009852929",4277,"N","N",0.75,35,null,"NA",null,"NA","NA","NA",2,795.08,4,204.92,null,"NA",null,"NA",null,"NA",1000,35,21,"UT","UTGS","RES",26055244,260,0.25,1,250,320,"IHP","N",0.25,320,"N"]
["SL0009853539",4282,"N","N",0.75,54,null,"NA",null,"NA","NA","NA",2,204.2,3,54.2,4,549.79999999999995,1.25,141.6,2.5,50.2,1000,54,9,"UT","UTGS","RES",16099546,160,0.25,1,250,320,"IHP","N",0.25,320,"N"]
["SL0009854148",4287,"N","N",0.5,50,null,"NA",null,"NA","NA","NA",2,860,1.25,140,null,"NA",null,"NA",null,"NA",1000,50,19,"UT","UTGS","RES",36070713,360,0.25,1,250,320,"IHP","N",0.25,320,"N"]
["SL0009854430",4289,"N","N",0.75,81,null,"NA",null,"NA","NA","NA",2,994.39,0.75,5.61,null,"NA",null,"NA",null,"NA",1000,81,5,"UT","UTGS","RES",25910501,259,0.25,1,400,540,"IHP","N",0.25,540,"N"]
["SL0009854886",4292,"N","Y",0.5,20,0.75,13,null,"NA","NA","NA",2,734,0.75,266,null,"NA",null,"NA",null,"NA",1000,33,18,"UT","UTGS","RES",46109899,461,0.25,1,250,320,"IHP","N",0.25,320,"N"]
["SL0009855522",4297,"N","N",0.5,40,null,"NA",null,"NA","NA","NA",2,1000,null,"NA",null,"NA",null,"NA",null,"NA",1000,40,17,"UT","UTGS","RES",11199611,111,0.25,1,250,306,"IHP","N",0.25,306,"N"]
["SL0009856494",4301,"N","N",0.75,25,null,"NA",null,"NA","NA","NA",2,960.5,0.5,2.02,1.25,37.479999999999997,null,"NA",null,"NA",1000,25,15,"UT","UTGS","RES",26138533,261,0.25,1,250,320,"IHP","N",0.25,320,"N"]
["SL0009857329",4306,"N","N",2,12,null,"NA",null,"NA","NA","NA",null,"NA",null,"NA",null,"NA",null,"NA",null,"NA",0,12,1,"UT","UTGS","NRES",15800206,158,45,4,5000,31000,"HP","Y",125,60000,"N"]
["SL0009857485",4307,"N","N",4,1766,null,"NA",null,"NA","NA","NA",4,278.5,6,1,8,720.5,null,"NA",null,"NA",1000,1766,1,"UT","UTGS","NRES",27900048,279,45,4,23000,92750,"IHP","Y",25,61500,"N"]
["SL0009859075",4313,"N","N",2,1,null,"NA",null,"NA","NA","NA",null,"NA",null,"NA",null,"NA",null,"NA",null,"NA",0,1,1,"UT","UTGS","NRES",27200828,272,45,4,5000,20200,"HP","Y",125,47300,"N"]
["SL0009859347",4316,"N","N",4,1,null,"NA",null,"NA","NA","NA",null,"NA",null,"NA",null,"NA",null,"NA",null,"NA",0,1,1,"UT","UTGS","NRES",28400104,284,45,4,11000,44336,"HP","Y",125,104100,"N"]
["SL0009859709",4321,"N","N",3,76,null,"NA",null,"NA","NA","NA",10,1000,null,"NA",null,"NA",null,"NA",null,"NA",1000,76,2,"UT","UTGS","NRES",20800245,208,45,3,3000,10250,"IHP","Y",25,8250,"N"]
["SL0009860027",4322,"N","Y",3,75,null,"NA",null,"NA","NA","NA",4,1000,null,"NA",null,"NA",null,"NA",null,"NA",1000,75,4,"UT","UTGS","NRES",23400112,234,45,4,11000,44352,"IHP","Y",25,29425,"N"]
["SL0009861280",4326,"N"]
["SL0009862157",4331,"N"]
["SL0009862616",4335,"N"]
["SL0009862617",4336,"N"]
["SL0009863762",4341,"N"]
["SL0009864185",4344,"N"]
["SL0009864878",4350,"N"]
["SL0009864934",4351,"N"]
["SL0009865191",4356,"N"]
["SL0009866091",4360,"N"]
["SL0009869189",4365,"N"]
["SL0009869949",4368,"N"]
["SL0009870351",4370,"N"]
["SL0009871424",4375,"N"]
["SL0009871698",4380,"N"]
["SL0009871735",4382,"Y"]
["SL0009872571",4385,"N"]
["SL0009873137",4390,"N"]
["SL0009873599",4394,"N"]
["SL0009873994",4395,"N"]
["SL0009874718",4400,"N"]
["SL0009875063",4403,"N"]
["SL0009876013",4409,"N"]
["SL0009876018",4410,"N"]
["SL0009876266",4415,"N"]
["SL0009876934",4419,"N"]
["SL0009877138",4424,"N"]
["SL0009877960",4427,"N"]
["SL0009878242",4429,"N"]
["SL0009878789",4434,"N"]
["SL0009878794",4436,"Y"]
["SL0009879178",4439,"Y"]
["SL0009879824",4444,"N"]
["SL0009881001",4448,"N"]
["SL0009881623",4453,"N"]
["SL0009881632",4454,"N"]
["SL0009881956",4458,"N"]
["SL0009882981",4463,"N"]
["SL0009884222",4468,"N"]
["SL0009884302",4470,"N"]
["SL0009884424",4473,"N"]
["SL0009885013",4478,"N"]
["SL0009885671",4483,"N"]
["SL0009886127",4486,"N"]
["SL0009886528",4488,"N"]
["SL0009887406",4493,"Y"]
["SL0009887421",4495,"N"]
["SL0009887906",4498,"N"]
["SL0009889048",4503,"N"]
["SL0009890267",4508,"Y"]
["SL0009890667",4512,"N"]
["SL0009890824",4513,"N"]
["SL0009891189",4517,"N"]
["SL0009891891",4522,"N"]
["SL0009892172",4527,"N"]
["SL0009892227",4529,"N"]
["SL0009892566",4532,"N"]
["SL0009893051",4537,"N"]
["SL0009893534",4541,"N"]
["SL0009893681",4542,"N"]
["SL0009894464",4547,"N"]
["SL0009895034",4550,"Y"]
["SL0009895919",4556,"N"]
["SL0009896624",4557,"N"]
["SL0009897845",4562,"N"]
["SL0009898444",4566,"N"]
["SL0009899379",4571,"N"]
["SL0009900184",4574,"N"]
["SL0009900704",4576,"N"]
["SL0009901999",4581,"Y"]
["SL0009902911",4586,"N"]
["SL0009903543",4588,"N"]
["SL0009904039",4591,"Y"]
["SL0009904847",4596,"N"]
["SL0009905338",4600,"N"]
["SL0009905589",4601,"N"]
["SL0009906103",4606,"N"]
["SL0009906485",4609,"N"]
["SL0009907597",4615,"N"]
["SL0009907707",4616,"N"]
["SL0009909909",4621,"N"]
["SL0009910586",4625,"N"]
["SL0009912388",4630,"N"]
["SL0009912390",4631,"N"]
["SL0009912925",4635,"Y"]
["SL0009915243",4640,"N"]
["SL0009915857",4643,"N"]
["SL0009916372",4645,"N"]
["SL0009918098",4650,"N"]
["SL0009919355",4655,"N"]
["SL0009920483",4659,"N"]
["SL0009920512",4660,"N"]
["SL0009921195",4664,"N"]
["SL0009922622",4669,"N"]
["SL0009923348",4674,"N"]
["SL0009923351",4675,"N"]
["SL0009924343",4679,"N"]
["SL0009924541",4680,"N"]
["SL0009924716",4681,"N"]
["SL0009925226",4682,"N"]
["SL0009926013",4683,"N"]
["SL0009926190",4684,"N"]
["SL0009926435",4685,"N"]
["SL0009926895",4686,"N"]
["SL0009927032",4687,"Y"]
["SL0009927071",4688,"Y"]
["SL0009927500",4689,"Y"]
["SL0009927515",4690,"N"]
["SL0009927526",4691,"N"]
["SL0009928214",4692,"N"]
["SL0009928365",4693,"N"]
["SL0009928512",4694,"N"]
["SL0009929426",4695,"N"]
["SL0009929429",4696,"N"]
["SL0009929446",4697,"N"]
["SL0009929967",4698,"N"]
["SL0009929995",4699,"N"]
["SL0009930012",4700,"N"]
["SL0009931364",4701,"N"]
["SL0009931387",4702,"N"]
["SL0009931510",4703,"N"]
["SL0009931924",4704,"Y"]
["SL0009931952",4705,"Y"]
["SL0009931966",4706,"N"]
["SL0009932102",4707,"N"]
["SL0009932226",4708,"N"]
["SL0009933040",4709,"N"]
["SL0009933071",4710,"Y"]
["SL0009933838",4711,"Y"]
["SL0009933950",4712,"N"]
["SL0009935716",4713,"N"]
["SL0009935882",4714,"N"]
["SL0009936584",4715,"N"]
["SL0009937478",4716,"N"]
["SL0009937550",4717,"N"]
["SL0009937592",4718,"N"]
["SL0009940214",4719,"N"]
["SL0009940562",4720,"N"]
["SL0009940630",4721,"N"]
["SL0009942152",4722,"N"]
["SL0009942548",4723,"N"]
["SL0009942760",4724,"N"]
["SL0009943024",4725,"N"]
["SL0009943148",4726,"N"]
["SL0009943902",4727,"N"]
["SL0009943916",4728,"N"]
["SL0009943970",4729,"N"]
["SL0009944662",4730,"N"]
["SL0009945402",4731,"N"]
["SL0009945972",4732,"N"]
["SL0009946065",4733,"N"]
["SL0009946390",4734,"N"]
["SL0009946681",4735,"Y"]
["SL0009947862",4736,"N"]
["SL0009947976",4737,"N"]
["SL0009948263",4738,"N"]
["SL0009948347",4739,"N"]
["SL0009948506",4740,"Y"]
["SL0009949252",4741,"N"]
["SL0009949475",4742,"N"]
["SL0009949853",4743,"N"]
["SL0009950031",4744,"N"]
["SL0009950403",4745,"N"]
["SL0009950684",4746,"N"]
["SL0009950721",4747,"N"]
["SL0009950735",4748,"N"]
["SL0009951180",4749,"N"]
["SL0009951592",4750,"N"]
["SL0009951601",4751,"N"]
["SL0009951753",4752,"N"]
["SL0009952084",4753,"N"]
["SL0009952397",4754,"N"]
["SL0009952407",4755,"N"]
["SL0009952438",4756,"N"]
["SL0009952511",4757,"N"]
["SL0009952606",4758,"Y"]
["SL0009953198",4759,"N"]
["SL0009953343",4760,"N"]
["SL0009953349",4761,"N"]
["SL0009953483",4762,"N"]
["SL0009953514",4763,"N"]
["SL0009954006",4764,"N"]
["SL0009954110",4765,"N"]
["SL0009954556",4766,"N"]
["SL0009954575",4767,"N"]
["SL0009954901",4768,"N"]
["SL0009955157",4769,"N"]
["SL0009955742",4770,"Y"]
["SL0009955814",4771,"N"]
["SL0009955850",4772,"Y"]
["SL0009956395",4773,"N"]
["SL0009956624",4774,"N"]
["SL0009956724",4775,"N"]
["SL0009956874",4776,"N"]
["SL0009957430",4777,"N"]
["SL0009957747",4778,"N"]
["SL0009957794",4779,"N"]
["SL0009958085",4780,"N"]
["SL0009958951",4781,"N"]
["SL0009959007",4782,"N"]
["SL0009959420",4783,"N"]
["SL0009959643",4784,"N"]
["SL0009959751",4785,"N"]
["SL0009959792",4786,"N"]
["SL0009959849",4787,"N"]
["SL0009959992",4788,"N"]
["SL0009960439",4789,"N"]
["SL0009960577",4790,"N"]
["SL0009960595",4791,"N"]
["SL0009961324",4792,"N"]
["SL0009961438",4793,"N"]
["SL0009961652",4794,"N"]
["SL0009962582",4795,"Y"]
["SL0009963121",4796,"N"]
["SL0009963220",4797,"N"]
["SL0009963749",4798,"N"]
["SL0009963868",4799,"N"]
["SL0009964580",4800,"N"]
["SL0009964617",4801,"N"]
["SL0009964810",4802,"N"]
["SL0009965269",4803,"N"]
["SL0009965491",4804,"N"]
["SL0009966211",4805,"N"]
["SL0009966757",4806,"N"]
["SL0009966802",4807,"N"]
["SL0009967073",4808,"N"]
["SL0009967366",4809,"N"]
["SL0009967530",4810,"N"]
["SL0009967615",4811,"N"]
["SL0009967793",4812,"N"]
["SL0009967891",4813,"N"]
["SL0009967919",4814,"N"]
["SL0009967979",4815,"N"]
["SL0009967981",4816,"N"]
["SL0009967982",4817,"N"]
["SL0009968521",4818,"N"]
["SL0009968527",4819,"N"]
["SL0009968612",4820,"N"]
["SL0009968615",4821,"N"]
["SL0009968689",4822,"N"]
["SL0009969164",4823,"N"]
["SL0009969269",4824,"Y"]
["SL0009969491",4825,"N"]
["SL0009969583",4826,"N"]
["SL0009969872",4827,"N"]
["SL0009970798",4828,"Y"]
["SL0009970844",4829,"N"]
["SL0009970849",4830,"N"]
["SL0009971892",4831,"N"]
["SL0009972487",4832,"N"]
["SL0009972563",4833,"N"]
["SL0009973521",4834,"Y"]
["SL0009973534",4835,"N"]
["SL0009973643",4836,"N"]
["SL0009973905",4837,"N"]
["SL0009973998",4838,"N"]
["SL0009974260",4839,"N"]
["SL0009974493",4840,"N"]
["SL0009975294",4841,"N"]
["SL0009975685",4842,"N"]
["SL0009976023",4843,"N"]
["SL0009976062",4844,"N"]
["SL0009976765",4845,"N"]
["SL0009977647",4846,"N"]
["SL0009977813",4847,"N"]
["SL0009978669",4848,"N"]
["SL0009978815",4849,"N"]
["SL0009979086",4850,"N"]
["SL0009979366",4851,"N"]
["SL0009979613",4852,"N"]
["SL0009979669",4853,"N"]
["SL0009980494",4854,"N"]
["SL0009980665",4855,"N"]
["SL0009981106",4856,"N"]
["SL0009981116",4857,"N"]
["SL0009981226",4858,"N"]
["SL0009981545",4859,"N"]
["SL0009982202",4860,"N"]
["SL0009982292",4861,"N"]
["SL0009982701",4862,"N"]
["SL0009982837",4863,"N"]
["SL0009982842",4864,"N"]
["SL0009982844",4865,"N"]
["SL0009983163",4866,"N"]
["SL0009983232",4867,"N"]
["SL0009983246",4868,"N"]
["SL0009983777",4869,"N"]
["SL0009983918",4870,"N"]
["SL0009983942",4871,"N"]
["SL0009984700",4872,"N"]
["SL0009984883",4873,"N"]
["SL0009984890",4874,"N"]
["SL0009984891",4875,"N"]
["SL0009984906",4876,"N"]
["SL0009985131",4877,"N"]
["SL0009985412",4878,"N"]
["SL0009985509",4879,"N"]
["SL0009985924",4880,"N"]
["SL0009986595",4881,"N"]
["SL0009986795",4882,"N"]
["SL0009987138",4883,"N"]
["SL0009987152",4884,"N"]
["SL0009987154",4885,"N"]
["SL0009987433",4886,"N"]
["SL0009987901",4887,"N"]
["SL0009988010",4888,"N"]
["SL0009988053",4889,"N"]
["SL0009988088",4890,"N"]
["SL0009988689",4891,"N"]
["SL0009988722",4892,"N"]
["SL0009988917",4893,"N"]
["SL0009988946",4894,"N"]
["SL0009990147",4895,"N"]
["SL0009990149",4896,"N"]
["SL0009991206",4897,"N"]
["SL0009991597",4898,"N"]
["SL0009991603",4899,"N"]
["SL0009992778",4900,"N"]
["SL0009992780",4901,"N"]
["SL0009992876",4902,"N"]
["SL0009992892",4903,"N"]
["SL0009994071",4904,"N"]
["SL0009994101",4905,"N"]
["SL0009994154",4906,"N"]
["SL0009994274",4907,"N"]
["SL0009994346",4908,"N"]
["SL0009994349",4909,"N"]
["SL0009994842",4910,"N"]
["SL0009994875",4911,"N"]
["SL0009994978",4912,"N"]
["SL0009995109",4913,"N"]
["SL0009995454",4914,"N"]
["SL0009995910",4915,"N"]
["SL0009995964",4916,"N"]
["SL0009996455",4917,"N"]
["SL0009996461",4918,"N"]
["SL0009996612",4919,"N"]
["SL0009996637",4920,"N"]
["SL0009996690",4921,"Y"]
["SL0009997393",4922,"N"]
["SL0009997962",4923,"N"]
["SL0009998001",4924,"N"]
["SL0009998088",4925,"Y"]
["SL0009998338",4926,"N"]
["SL0009998937",4927,"N"]
["SL0009999025",4928,"N"]

{"sheet":"Plant AB TS S&L","index":4,"n_rows":336,"n_cols":27,"rows_kept":336,"cut":false,"hidden":true,"merged":[]}
["POPULATION",null,null,null,null,"GS","FS","IS","TS","TSS","TSL","FT1","NGV",null,null,null,null,null,null,"MtrCount","GS","FS","IS","TS","TSS","TSL","FT1"]
[null,"Meter Rating",null,null,null,null,null,null,null,null,null,null,null,null,"Total Meters"]
[{"$f":"#REF!","v":{"$error":"#REF!"}},{"$f":"#REF!","v":{"$error":"#REF!"}},{"$f":"#REF!","v":{"$error":"#REF!"}},null,null,{"$f":"SUMIFS(U$5:U$90,$S$5:$S$90,$A3,$S$5:$S$90,$B3,$T$5:$T$90,$C3)","v":{"$error":"#REF!"}},{"$f":"SUMIFS(V$5:V$90,$S$5:$S$90,$A3,$S$5:$S$90,$B3,$T$5:$T$90,$C3)","v":{"$error":"#REF!"}},{"$f":"SUMIFS(W$5:W$90,$S$5:$S$90,$A3,$S$5:$S$90,$B3,$T$5:$T$90,$C3)","v":{"$error":"#REF!"}},{"$f":"SUMIFS(X$5:X$90,$S$5:$S$90,$A3,$S$5:$S$90,$B3,$T$5:$T$90,$C3)","v":{"$error":"#REF!"}},{"$f":"SUMIFS(Y$5:Y$90,$S$5:$S$90,$A3,$S$5:$S$90,$B3,$T$5:$T$90,$C3)","v":0},{"$f":"SUMIFS(Z$5:Z$90,$S$5:$S$90,$A3,$S$5:$S$90,$B3,$T$5:$T$90,$C3)","v":1},{"$f":"SUMIFS(AA$5:AA$90,$S$5:$S$90,$A3,$S$5:$S$90,$B3,$T$5:$T$90,$C3)","v":{"$error":"#REF!"}},null,null,{"$f":"SUM(F3:M3)-I3","v":{"$error":"#REF!"}}]
[{"$f":"#REF!","v":{"$error":"#REF!"}},{"$f":"#REF!","v":{"$error":"#REF!"}},{"$f":"#REF!","v":{"$error":"#REF!"}},null,null,{"$error":"#REF!"},{"$error":"#REF!"},{"$error":"#REF!"},{"$error":"#REF!"},0,1,{"$error":"#REF!"},null,null,{"$f":"SUM(F4:M4)-I4","v":{"$error":"#REF!"}},null,null,null,null,"Meter Rating"]
[{"$f":"#REF!","v":{"$error":"#REF!"}},{"$f":"#REF!","v":{"$error":"#REF!"}},{"$f":"#REF!","v":{"$error":"#REF!"}},null,null,{"$error":"#REF!"},{"$error":"#REF!"},{"$error":"#REF!"},{"$error":"#REF!"},0,1,{"$error":"#REF!"},null,null,{"$error":"#REF!"},null,{"$f":"A3","v":{"$error":"#REF!"}},{"$f":"B3","v":{"$error":"#REF!"}},{"$f":"VALUE(MID(A3,3,10))","v":{"$error":"#REF!"}},{"$f":"#REF!","v":{"$error":"#REF!"}},{"$f":"+#REF!","v":{"$error":"#REF!"}},{"$f":"+#REF!","v":{"$error":"#REF!"}},{"$f":"+#REF!","v":{"$error":"#REF!"}},{"$f":"+#REF!","v":{"$error":"#REF!"}},0,0,{"$f":"+#REF!","v":{"$error":"#REF!"}}]
[{"$f":"#REF!","v":{"$error":"#REF!"}},{"$f":"#REF!","v":{"$error":"#REF!"}},{"$f":"#REF!","v":{"$error":"#REF!"}},null,null,{"$error":"#REF!"},{"$error":"#REF!"},{"$error":"#REF!"},{"$error":"#REF!"},0,1,{"$error":"#REF!"},null,null,{"$error":"#REF!"},null,{"$error":"#REF!"},{"$error":"#REF!"},{"$f":"VALUE(MID(A4,3,10))","v":{"$error":"#REF!"}},{"$f":"#REF!","v":{"$error":"#REF!"}},{"$f":"+#REF!","v":{"$error":"#REF!"}},{"$f":"+#REF!","v":{"$error":"#REF!"}},{"$f":"+#REF!","v":{"$error":"#REF!"}},{"$f":"+#REF!","v":{"$error":"#REF!"}},0,0,{"$f":"+#REF!","v":{"$error":"#REF!"}}]
[{"$f":"#REF!","v":{"$error":"#REF!"}},{"$f":"#REF!","v":{"$error":"#REF!"}},{"$f":"#REF!","v":{"$error":"#REF!"}},null,null,{"$error":"#REF!"},{"$error":"#REF!"},{"$error":"#REF!"},{"$error":"#REF!"},0,1,{"$error":"#REF!"},null,null,{"$error":"#REF!"},null,{"$error":"#REF!"},{"$error":"#REF!"},{"$error":"#REF!"},{"$f":"#REF!","v":{"$error":"#REF!"}},{"$f":"+#REF!","v":{"$error":"#REF!"}},{"$f":"+#REF!","v":{"$error":"#REF!"}},{"$f":"+#REF!","v":{"$error":"#REF!"}},{"$f":"+#REF!","v":{"$error":"#REF!"}},0,0,{"$f":"+#REF!","v":{"$error":"#REF!"}}]
[{"$f":"#REF!","v":{"$error":"#REF!"}},{"$f":"#REF!","v":{"$error":"#REF!"}},{"$f":"#REF!","v":{"$error":"#REF!"}},null,null,{"$error":"#REF!"},{"$error":"#REF!"},{"$error":"#REF!"},{"$error":"#REF!"},0,1,{"$error":"#REF!"},null,null,{"$error":"#REF!"},null,{"$error":"#REF!"},{"$error":"#REF!"},{"$error":"#REF!"},{"$f":"#REF!","v":{"$error":"#REF!"}},{"$f":"+#REF!","v":{"$error":"#REF!"}},{"$f":"+#REF!","v":{"$error":"#REF!"}},{"$f":"+#REF!","v":{"$error":"#REF!"}},{"$f":"+#REF!","v":{"$error":"#REF!"}},0,0,{"$f":"+#REF!","v":{"$error":"#REF!"}}]
[{"$f":"#REF!","v":{"$error":"#REF!"}},{"$f":"#REF!","v":{"$error":"#REF!"}},{"$f":"#REF!","v":{"$error":"#REF!"}},null,null,{"$error":"#REF!"},{"$error":"#REF!"},{"$error":"#REF!"},{"$error":"#REF!"},0,1,{"$error":"#REF!"},null,null,{"$error":"#REF!"},null,{"$error":"#REF!"},{"$error":"#REF!"},{"$error":"#REF!"},{"$f":"#REF!","v":{"$error":"#REF!"}},{"$f":"+#REF!","v":{"$error":"#REF!"}},{"$f":"+#REF!","v":{"$error":"#REF!"}},{"$f":"+#REF!","v":{"$error":"#REF!"}},{"$f":"+#REF!","v":{"$error":"#REF!"}},0,0,{"$f":"+#REF!","v":{"$error":"#REF!"}}]
[{"$f":"#REF!","v":{"$error":"#REF!"}},{"$f":"#REF!","v":{"$error":"#REF!"}},{"$f":"#REF!","v":{"$error":"#REF!"}},null,null,{"$error":"#REF!"},{"$error":"#REF!"},{"$error":"#REF!"},{"$error":"#REF!"},0,1,{"$error":"#REF!"},null,null,{"$error":"#REF!"},null,{"$error":"#REF!"},{"$error":"#REF!"},{"$error":"#REF!"},{"$f":"#REF!","v":{"$error":"#REF!"}},{"$f":"+#REF!","v":{"$error":"#REF!"}},{"$f":"+#REF!","v":{"$error":"#REF!"}},{"$f":"+#REF!","v":{"$error":"#REF!"}},{"$f":"+#REF!","v":{"$error":"#REF!"}},0,0,{"$f":"+#REF!","v":{"$error":"#REF!"}}]
[{"$f":"#REF!","v":{"$error":"#REF!"}},{"$f":"#REF!","v":{"$error":"#REF!"}},{"$f":"#REF!","v":{"$error":"#REF!"}},null,null,{"$error":"#REF!"},{"$error":"#REF!"},{"$error":"#REF!"},{"$error":"#REF!"},0,1,{"$error":"#REF!"},null,null,{"$error":"#REF!"},null,{"$error":"#REF!"},{"$error":"#REF!"},{"$error":"#REF!"},{"$f":"#REF!","v":{"$error":"#REF!"}},{"$f":"+#REF!","v":{"$error":"#REF!"}},{"$f":"+#REF!","v":{"$error":"#REF!"}},{"$f":"+#REF!","v":{"$error":"#REF!"}},{"$f":"+#REF!","v":{"$error":"#REF!"}},0,0,{"$f":"+#REF!","v":{"$error":"#REF!"}}]
[{"$f":"#REF!","v":{"$error":"#REF!"}},{"$f":"#REF!","v":{"$error":"#REF!"}},{"$f":"#REF!","v":{"$error":"#REF!"}},null,null,{"$error":"#REF!"},{"$error":"#REF!"},{"$error":"#REF!"},{"$error":"#REF!"},0,1,{"$error":"#REF!"},null,null,{"$error":"#REF!"},null,{"$error":"#REF!"},{"$error":"#REF!"},{"$error":"#REF!"},{"$f":"#REF!","v":{"$error":"#REF!"}},{"$f":"+#REF!","v":{"$error":"#REF!"}},{"$f":"+#REF!","v":{"$error":"#REF!"}},{"$f":"+#REF!","v":{"$error":"#REF!"}},{"$f":"+#REF!","v":{"$error":"#REF!"}},0,0,{"$f":"+#REF!","v":{"$error":"#REF!"}}]
[{"$f":"#REF!","v":{"$error":"#REF!"}},{"$f":"#REF!","v":{"$error":"#REF!"}},{"$f":"#REF!","v":{"$error":"#REF!"}},null,null,{"$error":"#REF!"},{"$error":"#REF!"},{"$error":"#REF!"},{"$error":"#REF!"},0,1,{"$error":"#REF!"},null,null,{"$error":"#REF!"},null,{"$error":"#REF!"},{"$error":"#REF!"},{"$error":"#REF!"},{"$f":"#REF!","v":{"$error":"#REF!"}},{"$f":"+#REF!","v":{"$error":"#REF!"}},{"$f":"+#REF!","v":{"$error":"#REF!"}},{"$f":"+#REF!","v":{"$error":"#REF!"}},{"$f":"+#REF!","v":{"$error":"#REF!"}},0,0,{"$f":"+#REF!","v":{"$error":"#REF!"}}]
[{"$f":"#REF!","v":{"$error":"#REF!"}},{"$f":"#REF!","v":{"$error":"#REF!"}},{"$f":"#REF!","v":{"$error":"#REF!"}},null,null,{"$error":"#REF!"},{"$error":"#REF!"},{"$error":"#REF!"},{"$error":"#REF!"},0,1,{"$error":"#REF!"},null,null,{"$error":"#REF!"},null,{"$error":"#REF!"},{"$error":"#REF!"},{"$error":"#REF!"},{"$f":"#REF!","v":{"$error":"#REF!"}},{"$f":"+#REF!","v":{"$error":"#REF!"}},{"$f":"+#REF!","v":{"$error":"#REF!"}},{"$f":"+#REF!","v":{"$error":"#REF!"}},{"$f":"+#REF!","v":{"$error":"#REF!"}},0,0,{"$f":"+#REF!","v":{"$error":"#REF!"}}]
[{"$f":"#REF!","v":{"$error":"#REF!"}},{"$f":"#REF!","v":{"$error":"#REF!"}},{"$f":"#REF!","v":{"$error":"#REF!"}},null,null,{"$error":"#REF!"},{"$error":"#REF!"},{"$error":"#REF!"},{"$error":"#REF!"},0,1,{"$error":"#REF!"},null,null,{"$error":"#REF!"},null,{"$error":"#REF!"},{"$error":"#REF!"},{"$error":"#REF!"},{"$f":"#REF!","v":{"$error":"#REF!"}},{"$f":"+#REF!","v":{"$error":"#REF!"}},{"$f":"+#REF!","v":{"$error":"#REF!"}},{"$f":"+#REF!","v":{"$error":"#REF!"}},{"$f":"+#REF!","v":{"$error":"#REF!"}},0,0,{"$f":"+#REF!","v":{"$error":"#REF!"}}]
[{"$f":"#REF!","v":{"$error":"#REF!"}},{"$f":"#REF!","v":{"$error":"#REF!"}},{"$f":"#REF!","v":{"$error":"#REF!"}},null,null,{"$error":"#REF!"},{"$error":"#REF!"},{"$error":"#REF!"},{"$error":"#REF!"},0,1,{"$error":"#REF!"},null,null,{"$error":"#REF!"},null,{"$error":"#REF!"},{"$error":"#REF!"},{"$error":"#REF!"},{"$f":"#REF!","v":{"$error":"#REF!"}},{"$f":"+#REF!","v":{"$error":"#REF!"}},{"$f":"+#REF!","v":{"$error":"#REF!"}},{"$f":"+#REF!","v":{"$error":"#REF!"}},{"$f":"+#REF!","v":{"$error":"#REF!"}},0,0,{"$f":"+#REF!","v":{"$error":"#REF!"}}]
[{"$f":"#REF!","v":{"$error":"#REF!"}},{"$f":"#REF!","v":{"$error":"#REF!"}},{"$f":"#REF!","v":{"$error":"#REF!"}},null,null,{"$error":"#REF!"},{"$error":"#REF!"},{"$error":"#REF!"},{"$error":"#REF!"},0,1,{"$error":"#REF!"},null,null,{"$error":"#REF!"},null,{"$error":"#REF!"},{"$error":"#REF!"},{"$error":"#REF!"},{"$f":"#REF!","v":{"$error":"#REF!"}},{"$f":"+#REF!","v":{"$error":"#REF!"}},{"$f":"+#REF!","v":{"$error":"#REF!"}},{"$f":"+#REF!","v":{"$error":"#REF!"}},{"$f":"+#REF!","v":{"$error":"#REF!"}},0,0,{"$f":"+#REF!","v":{"$error":"#REF!"}}]
[{"$f":"#REF!","v":{"$error":"#REF!"}},{"$f":"#REF!","v":{"$error":"#REF!"}},{"$f":"#REF!","v":{"$error":"#REF!"}},null,null,{"$error":"#REF!"},{"$error":"#REF!"},{"$error":"#REF!"},{"$error":"#REF!"},0,1,{"$error":"#REF!"},null,null,{"$error":"#REF!"},null,{"$error":"#REF!"},{"$error":"#REF!"},{"$error":"#REF!"},{"$f":"#REF!","v":{"$error":"#REF!"}},{"$f":"+#REF!","v":{"$error":"#REF!"}},{"$f":"+#REF!","v":{"$error":"#REF!"}},{"$f":"+#REF!","v":{"$error":"#REF!"}},{"$f":"+#REF!","v":{"$error":"#REF!"}},0,0,{"$f":"+#REF!","v":{"$error":"#REF!"}}]
[{"$f":"#REF!","v":{"$error":"#REF!"}},{"$f":"#REF!","v":{"$error":"#REF!"}},{"$f":"#REF!","v":{"$error":"#REF!"}},null,null,{"$error":"#REF!"},{"$error":"#REF!"},{"$error":"#REF!"},{"$error":"#REF!"},0,1,{"$error":"#REF!"},null,null,{"$error":"#REF!"},null,{"$error":"#REF!"},{"$error":"#REF!"},{"$error":"#REF!"},{"$f":"#REF!","v":{"$error":"#REF!"}},{"$f":"+#REF!","v":{"$error":"#REF!"}},{"$f":"+#REF!","v":{"$error":"#REF!"}},{"$f":"+#REF!","v":{"$error":"#REF!"}},{"$f":"+#REF!","v":{"$error":"#REF!"}},0,0,{"$f":"+#REF!","v":{"$error":"#REF!"}}]
[{"$f":"#REF!","v":{"$error":"#REF!"}},{"$f":"#REF!","v":{"$error":"#REF!"}},{"$f":"#REF!","v":{"$error":"#REF!"}},null,null,{"$error":"#REF!"},{"$error":"#REF!"},{"$error":"#REF!"},{"$error":"#REF!"},0,1,{"$error":"#REF!"},null,null,{"$error":"#REF!"},null,{"$error":"#REF!"},{"$error":"#REF!"},{"$error":"#REF!"},{"$f":"#REF!","v":{"$error":"#REF!"}},{"$f":"+#REF!","v":{"$error":"#REF!"}},{"$f":"+#REF!","v":{"$error":"#REF!"}},{"$f":"+#REF!","v":{"$error":"#REF!"}},{"$f":"+#REF!","v":{"$error":"#REF!"}},0,0,{"$f":"+#REF!","v":{"$error":"#REF!"}}]
[{"$f":"#REF!","v":{"$error":"#REF!"}},{"$f":"#REF!","v":{"$error":"#REF!"}},{"$f":"#REF!","v":{"$error":"#REF!"}},null,null,{"$error":"#REF!"},{"$error":"#REF!"},{"$error":"#REF!"},{"$error":"#REF!"},0,1,{"$error":"#REF!"},null,null,{"$error":"#REF!"},null,{"$error":"#REF!"},{"$error":"#REF!"},{"$error":"#REF!"},{"$f":"#REF!","v":{"$error":"#REF!"}},{"$f":"+#REF!","v":{"$error":"#REF!"}},{"$f":"+#REF!","v":{"$error":"#REF!"}},{"$f":"+#REF!","v":{"$error":"#REF!"}},{"$f":"+#REF!","v":{"$error":"#REF!"}},0,0,{"$f":"+#REF!","v":{"$error":"#REF!"}}]
[{"$f":"#REF!","v":{"$error":"#REF!"}},{"$f":"#REF!","v":{"$error":"#REF!"}},{"$f":"#REF!","v":{"$error":"#REF!"}},null,null,{"$error":"#REF!"},{"$error":"#REF!"},{"$error":"#REF!"},{"$error":"#REF!"},0,1,{"$error":"#REF!"},{"$f":"#REF!","v":{"$error":"#REF!"}},null,{"$error":"#REF!"},null,{"$error":"#REF!"},{"$error":"#REF!"},{"$error":"#REF!"},{"$f":"#REF!","v":{"$error":"#REF!"}},{"$f":"+#REF!","v":{"$error":"#REF!"}},{"$f":"+#REF!","v":{"$error":"#REF!"}},{"$f":"+#REF!","v":{"$error":"#REF!"}},{"$f":"+#REF!","v":{"$error":"#REF!"}},0,0,{"$f":"+#REF!","v":{"$error":"#REF!"}}]
[{"$f":"#REF!","v":{"$error":"#REF!"}},{"$f":"#REF!","v":{"$error":"#REF!"}},{"$f":"#REF!","v":{"$error":"#REF!"}},null,null,{"$error":"#REF!"},{"$error":"#REF!"},{"$error":"#REF!"},{"$error":"#REF!"},0,1,{"$error":"#REF!"},null,null,{"$error":"#REF!"},null,{"$error":"#REF!"},{"$error":"#REF!"},{"$error":"#REF!"},{"$f":"#REF!","v":{"$error":"#REF!"}},{"$f":"+#REF!","v":{"$error":"#REF!"}},{"$f":"+#REF!","v":{"$error":"#REF!"}},{"$f":"+#REF!","v":{"$error":"#REF!"}},{"$f":"+#REF!","v":{"$error":"#REF!"}},0,0,{"$f":"+#REF!","v":{"$error":"#REF!"}}]
[{"$f":"#REF!","v":{"$error":"#REF!"}},{"$f":"#REF!","v":{"$error":"#REF!"}},{"$f":"#REF!","v":{"$error":"#REF!"}},null,null,{"$error":"#REF!"},{"$error":"#REF!"},{"$error":"#REF!"},{"$error":"#REF!"},0,1,{"$error":"#REF!"},null,null,{"$error":"#REF!"},null,{"$error":"#REF!"},{"$error":"#REF!"},{"$error":"#REF!"},{"$f":"#REF!","v":{"$error":"#REF!"}},{"$f":"+#REF!","v":{"$error":"#REF!"}},{"$f":"+#REF!","v":{"$error":"#REF!"}},{"$f":"+#REF!","v":{"$error":"#REF!"}},{"$f":"+#REF!","v":{"$error":"#REF!"}},0,0,{"$f":"+#REF!","v":{"$error":"#REF!"}}]
[{"$f":"#REF!","v":{"$error":"#REF!"}},{"$f":"#REF!","v":{"$error":"#REF!"}},{"$f":"#REF!","v":{"$error":"#REF!"}},null,null,{"$error":"#REF!"},{"$error":"#REF!"},{"$error":"#REF!"},{"$error":"#REF!"},0,1,{"$error":"#REF!"},null,null,{"$error":"#REF!"},null,{"$error":"#REF!"},{"$error":"#REF!"},{"$error":"#REF!"},{"$f":"#REF!","v":{"$error":"#REF!"}},{"$f":"+#REF!","v":{"$error":"#REF!"}},{"$f":"+#REF!","v":{"$error":"#REF!"}},{"$f":"+#REF!","v":{"$error":"#REF!"}},{"$f":"+#REF!","v":{"$error":"#REF!"}},0,0,{"$f":"+#REF!","v":{"$error":"#REF!"}}]
[{"$f":"#REF!","v":{"$error":"#REF!"}},{"$f":"#REF!","v":{"$error":"#REF!"}},{"$f":"#REF!","v":{"$error":"#REF!"}},null,null,{"$error":"#REF!"},{"$error":"#REF!"},{"$error":"#REF!"},{"$error":"#REF!"},0,1,{"$error":"#REF!"},null,null,{"$error":"#REF!"},null,{"$error":"#REF!"},{"$error":"#REF!"},{"$error":"#REF!"},{"$f":"#REF!","v":{"$error":"#REF!"}},{"$f":"+#REF!","v":{"$error":"#REF!"}},{"$f":"+#REF!","v":{"$error":"#REF!"}},{"$f":"+#REF!","v":{"$error":"#REF!"}},{"$f":"+#REF!","v":{"$error":"#REF!"}},0,0,{"$f":"+#REF!","v":{"$error":"#REF!"}}]
[{"$f":"#REF!","v":{"$error":"#REF!"}},{"$f":"#REF!","v":{"$error":"#REF!"}},{"$f":"#REF!","v":{"$error":"#REF!"}},null,null,{"$error":"#REF!"},{"$error":"#REF!"},{"$error":"#REF!"},{"$error":"#REF!"},0,1,{"$error":"#REF!"},null,null,{"$error":"#REF!"},null,{"$error":"#REF!"},{"$error":"#REF!"},{"$error":"#REF!"},{"$f":"#REF!","v":{"$error":"#REF!"}},{"$f":"+#REF!","v":{"$error":"#REF!"}},{"$f":"+#REF!","v":{"$error":"#REF!"}},{"$f":"+#REF!","v":{"$error":"#REF!"}},{"$f":"+#REF!","v":{"$error":"#REF!"}},0,0,{"$f":"+#REF!","v":{"$error":"#REF!"}}]
[{"$f":"#REF!","v":{"$error":"#REF!"}},{"$f":"#REF!","v":{"$error":"#REF!"}},{"$f":"#REF!","v":{"$error":"#REF!"}},null,null,{"$error":"#REF!"},{"$error":"#REF!"},{"$error":"#REF!"},{"$error":"#REF!"},0,1,{"$error":"#REF!"},null,null,{"$error":"#REF!"},null,{"$error":"#REF!"},{"$error":"#REF!"},{"$error":"#REF!"},{"$f":"#REF!","v":{"$error":"#REF!"}},{"$f":"+#REF!","v":{"$error":"#REF!"}},{"$f":"+#REF!","v":{"$error":"#REF!"}},{"$f":"+#REF!","v":{"$error":"#REF!"}},{"$f":"+#REF!","v":{"$error":"#REF!"}},0,0,{"$f":"+#REF!","v":{"$error":"#REF!"}}]
[{"$f":"#REF!","v":{"$error":"#REF!"}},{"$f":"#REF!","v":{"$error":"#REF!"}},{"$f":"#REF!","v":{"$error":"#REF!"}},null,null,{"$error":"#REF!"},{"$error":"#REF!"},{"$error":"#REF!"},{"$error":"#REF!"},0,1,{"$error":"#REF!"},null,null,{"$error":"#REF!"},null,{"$error":"#REF!"},{"$error":"#REF!"},{"$error":"#REF!"},{"$f":"#REF!","v":{"$error":"#REF!"}},{"$f":"+#REF!","v":{"$error":"#REF!"}},{"$f":"+#REF!","v":{"$error":"#REF!"}},{"$f":"+#REF!","v":{"$error":"#REF!"}},{"$f":"+#REF!","v":{"$error":"#REF!"}},0,0,{"$f":"+#REF!","v":{"$error":"#REF!"}}]
[{"$f":"#REF!","v":{"$error":"#REF!"}},{"$f":"#REF!","v":{"$error":"#REF!"}},{"$f":"#REF!","v":{"$error":"#REF!"}},null,null,{"$error":"#REF!"},{"$error":"#REF!"},{"$error":"#REF!"},{"$error":"#REF!"},0,1,{"$error":"#REF!"},null,null,{"$error":"#REF!"},null,{"$error":"#REF!"},{"$error":"#REF!"},{"$error":"#REF!"},{"$f":"#REF!","v":{"$error":"#REF!"}},{"$f":"+#REF!","v":{"$error":"#REF!"}},{"$f":"+#REF!","v":{"$error":"#REF!"}},{"$f":"+#REF!","v":{"$error":"#REF!"}},{"$f":"+#REF!","v":{"$error":"#REF!"}},0,0,{"$f":"+#REF!","v":{"$error":"#REF!"}}]
[{"$f":"#REF!","v":{"$error":"#REF!"}},{"$f":"#REF!","v":{"$error":"#REF!"}},{"$f":"#REF!","v":{"$error":"#REF!"}},null,null,{"$error":"#REF!"},{"$error":"#REF!"},{"$error":"#REF!"},{"$error":"#REF!"},0,1,{"$error":"#REF!"},null,null,{"$error":"#REF!"},null,{"$error":"#REF!"},{"$error":"#REF!"},{"$error":"#REF!"},{"$f":"#REF!","v":{"$error":"#REF!"}},{"$f":"+#REF!","v":{"$error":"#REF!"}},{"$f":"+#REF!","v":{"$error":"#REF!"}},{"$f":"+#REF!","v":{"$error":"#REF!"}},{"$f":"+#REF!","v":{"$error":"#REF!"}},0,1,{"$f":"+#REF!","v":{"$error":"#REF!"}}]
[{"$f":"#REF!","v":{"$error":"#REF!"}},{"$f":"#REF!","v":{"$error":"#REF!"}},{"$f":"#REF!","v":{"$error":"#REF!"}},null,null,{"$error":"#REF!"},{"$error":"#REF!"},{"$error":"#REF!"},{"$error":"#REF!"},0,1,{"$error":"#REF!"},null,null,{"$error":"#REF!"},null,{"$error":"#REF!"},{"$error":"#REF!"},{"$error":"#REF!"},{"$f":"#REF!","v":{"$error":"#REF!"}},{"$f":"+#REF!","v":{"$error":"#REF!"}},{"$f":"+#REF!","v":{"$error":"#REF!"}},{"$f":"+#REF!","v":{"$error":"#REF!"}},{"$f":"+#REF!","v":{"$error":"#REF!"}},0,0,{"$f":"+#REF!","v":{"$error":"#REF!"}}]
[{"$f":"#REF!","v":{"$error":"#REF!"}},{"$f":"#REF!","v":{"$error":"#REF!"}},{"$f":"#REF!","v":{"$error":"#REF!"}},null,null,{"$error":"#REF!"},{"$error":"#REF!"},{"$error":"#REF!"},{"$error":"#REF!"},0,1,{"$error":"#REF!"},null,null,{"$error":"#REF!"},null,{"$error":"#REF!"},{"$error":"#REF!"},{"$error":"#REF!"},{"$f":"#REF!","v":{"$error":"#REF!"}},{"$f":"+#REF!","v":{"$error":"#REF!"}},{"$f":"+#REF!","v":{"$error":"#REF!"}},{"$f":"+#REF!","v":{"$error":"#REF!"}},{"$f":"+#REF!","v":{"$error":"#REF!"}},0,0,{"$f":"+#REF!","v":{"$error":"#REF!"}}]
[{"$f":"#REF!","v":{"$error":"#REF!"}},{"$f":"#REF!","v":{"$error":"#REF!"}},{"$f":"#REF!","v":{"$error":"#REF!"}},null,null,{"$error":"#REF!"},{"$error":"#REF!"},{"$error":"#REF!"},{"$error":"#REF!"},0,1,{"$error":"#REF!"},null,null,{"$error":"#REF!"},null,{"$error":"#REF!"},{"$error":"#REF!"},{"$error":"#REF!"},{"$f":"#REF!","v":{"$error":"#REF!"}},{"$f":"+#REF!","v":{"$error":"#REF!"}},{"$f":"+#REF!","v":{"$error":"#REF!"}},{"$f":"+#REF!","v":{"$error":"#REF!"}},{"$f":"+#REF!","v":{"$error":"#REF!"}},0,0,{"$f":"+#REF!","v":{"$error":"#REF!"}}]
[{"$f":"#REF!","v":{"$error":"#REF!"}},{"$f":"#REF!","v":{"$error":"#REF!"}},{"$f":"#REF!","v":{"$error":"#REF!"}},null,null,{"$f":"SUMIFS(U$5:U$90,$S$5:$S$90,$A35,$S$5:$S$90,$B35,$T$5:$T$90,$C35)","v":{"$error":"#REF!"}},{"$f":"SUMIFS(V$5:V$90,$S$5:$S$90,$A35,$S$5:$S$90,$B35,$T$5:$T$90,$C35)","v":{"$error":"#REF!"}},{"$f":"SUMIFS(W$5:W$90,$S$5:$S$90,$A35,$S$5:$S$90,$B35,$T$5:$T$90,$C35)","v":{"$error":"#REF!"}},{"$f":"SUMIFS(X$5:X$90,$S$5:$S$90,$A35,$S$5:$S$90,$B35,$T$5:$T$90,$C35)","v":{"$error":"#REF!"}},{"$f":"SUMIFS(Y$5:Y$90,$S$5:$S$90,$A35,$S$5:$S$90,$B35,$T$5:$T$90,$C35)","v":0},{"$f":"SUMIFS(Z$5:Z$90,$S$5:$S$90,$A35,$S$5:$S$90,$B35,$T$5:$T$90,$C35)","v":1},{"$f":"SUMIFS(AA$5:AA$90,$S$5:$S$90,$A35,$S$5:$S$90,$B35,$T$5:$T$90,$C35)","v":{"$error":"#REF!"}},null,null,{"$error":"#REF!"},null,{"$error":"#REF!"},{"$error":"#REF!"},{"$error":"#REF!"},{"$f":"#REF!","v":{"$error":"#REF!"}},{"$f":"+#REF!","v":{"$error":"#REF!"}},{"$f":"+#REF!","v":{"$error":"#REF!"}},{"$f":"+#REF!","v":{"$error":"#REF!"}},{"$f":"+#REF!","v":{"$error":"#REF!"}},0,0,{"$f":"+#REF!","v":{"$error":"#REF!"}}]
[{"$f":"#REF!","v":{"$error":"#REF!"}},{"$f":"#REF!","v":{"$error":"#REF!"}},{"$f":"#REF!","v":{"$error":"#REF!"}},null,null,{"$error":"#REF!"},{"$error":"#REF!"},{"$error":"#REF!"},{"$error":"#REF!"},0,1,{"$error":"#REF!"},null,null,{"$error":"#REF!"},null,{"$error":"#REF!"},{"$error":"#REF!"},{"$error":"#REF!"},{"$f":"#REF!","v":{"$error":"#REF!"}},{"$f":"+#REF!","v":{"$error":"#REF!"}},{"$f":"+#REF!","v":{"$error":"#REF!"}},{"$f":"+#REF!","v":{"$error":"#REF!"}},{"$f":"+#REF!","v":{"$error":"#REF!"}},0,0,{"$f":"+#REF!","v":{"$error":"#REF!"}}]
[{"$f":"#REF!","v":{"$error":"#REF!"}},{"$f":"#REF!","v":{"$error":"#REF!"}},{"$f":"#REF!","v":{"$error":"#REF!"}},null,null,{"$error":"#REF!"},{"$error":"#REF!"},{"$error":"#REF!"},{"$error":"#REF!"},0,1,{"$error":"#REF!"},null,null,{"$error":"#REF!"},null,{"$f":"A35","v":{"$error":"#REF!"}},{"$f":"B35","v":{"$error":"#REF!"}},{"$error":"#REF!"},{"$f":"#REF!","v":{"$error":"#REF!"}},{"$f":"+#REF!","v":{"$error":"#REF!"}},{"$f":"+#REF!","v":{"$error":"#REF!"}},{"$f":"+#REF!","v":{"$error":"#REF!"}},{"$f":"+#REF!","v":{"$error":"#REF!"}},0,0,{"$f":"+#REF!","v":{"$error":"#REF!"}}]
[{"$f":"#REF!","v":{"$error":"#REF!"}},{"$f":"#REF!","v":{"$error":"#REF!"}},{"$f":"#REF!","v":{"$error":"#REF!"}},null,null,{"$error":"#REF!"},{"$error":"#REF!"},{"$error":"#REF!"},{"$error":"#REF!"},0,1,{"$error":"#REF!"},null,null,{"$error":"#REF!"},null,{"$error":"#REF!"},{"$error":"#REF!"},{"$error":"#REF!"},{"$f":"#REF!","v":{"$error":"#REF!"}},{"$f":"+#REF!","v":{"$error":"#REF!"}},{"$f":"+#REF!","v":{"$error":"#REF!"}},{"$f":"+#REF!","v":{"$error":"#REF!"}},{"$f":"+#REF!","v":{"$error":"#REF!"}},0,0,{"$f":"+#REF!","v":{"$error":"#REF!"}}]
[{"$f":"#REF!","v":{"$error":"#REF!"}},{"$f":"#REF!","v":{"$error":"#REF!"}},{"$f":"#REF!","v":{"$error":"#REF!"}},null,null,{"$error":"#REF!"},{"$error":"#REF!"},{"$error":"#REF!"},{"$error":"#REF!"},0,1,{"$error":"#REF!"},null,null,{"$error":"#REF!"},null,{"$error":"#REF!"},{"$error":"#REF!"},{"$error":"#REF!"},{"$f":"#REF!","v":{"$error":"#REF!"}},{"$f":"+#REF!","v":{"$error":"#REF!"}},{"$f":"+#REF!","v":{"$error":"#REF!"}},{"$f":"+#REF!","v":{"$error":"#REF!"}},{"$f":"+#REF!","v":{"$error":"#REF!"}},0,0,{"$f":"+#REF!","v":{"$error":"#REF!"}}]
[{"$f":"#REF!","v":{"$error":"#REF!"}},{"$f":"#REF!","v":{"$error":"#REF!"}},{"$f":"#REF!","v":{"$error":"#REF!"}},null,null,{"$error":"#REF!"},{"$error":"#REF!"},{"$error":"#REF!"},{"$error":"#REF!"},0,1,{"$error":"#REF!"},null,null,{"$error":"#REF!"},null,{"$error":"#REF!"},{"$error":"#REF!"},{"$error":"#REF!"},{"$f":"#REF!","v":{"$error":"#REF!"}},{"$f":"+#REF!","v":{"$error":"#REF!"}},{"$f":"+#REF!","v":{"$error":"#REF!"}},{"$f":"+#REF!","v":{"$error":"#REF!"}},{"$f":"+#REF!","v":{"$error":"#REF!"}},0,0,{"$f":"+#REF!","v":{"$error":"#REF!"}}]
[{"$f":"#REF!","v":{"$error":"#REF!"}},{"$f":"#REF!","v":{"$error":"#REF!"}},{"$f":"#REF!","v":{"$error":"#REF!"}},null,null,{"$error":"#REF!"},{"$error":"#REF!"},{"$error":"#REF!"},{"$error":"#REF!"},0,1,{"$error":"#REF!"},null,null,{"$error":"#REF!"},null,{"$error":"#REF!"},{"$error":"#REF!"},{"$error":"#REF!"},{"$f":"#REF!","v":{"$error":"#REF!"}},{"$f":"+#REF!","v":{"$error":"#REF!"}},{"$f":"+#REF!","v":{"$error":"#REF!"}},{"$f":"+#REF!","v":{"$error":"#REF!"}},{"$f":"+#REF!","v":{"$error":"#REF!"}},0,0,{"$f":"+#REF!","v":{"$error":"#REF!"}}]
[{"$f":"#REF!","v":{"$error":"#REF!"}},{"$f":"#REF!","v":{"$error":"#REF!"}},{"$f":"#REF!","v":{"$error":"#REF!"}},null,null,{"$error":"#REF!"},{"$error":"#REF!"},{"$error":"#REF!"},{"$error":"#REF!"},0,1,{"$error":"#REF!"},null,null,{"$error":"#REF!"},null,{"$error":"#REF!"},{"$error":"#REF!"},{"$error":"#REF!"},{"$f":"#REF!","v":{"$error":"#REF!"}},{"$f":"+#REF!","v":{"$error":"#REF!"}},{"$f":"+#REF!","v":{"$error":"#REF!"}},{"$f":"+#REF!","v":{"$error":"#REF!"}},{"$f":"+#REF!","v":{"$error":"#REF!"}},0,0,{"$f":"+#REF!","v":{"$error":"#REF!"}}]
[{"$f":"#REF!","v":{"$error":"#REF!"}},{"$f":"#REF!","v":{"$error":"#REF!"}},{"$f":"#REF!","v":{"$error":"#REF!"}},null,null,{"$error":"#REF!"},{"$error":"#REF!"},{"$error":"#REF!"},{"$error":"#REF!"},0,1,{"$error":"#REF!"},null,null,{"$error":"#REF!"},null,{"$error":"#REF!"},{"$error":"#REF!"},{"$error":"#REF!"},{"$f":"#REF!","v":{"$error":"#REF!"}},{"$f":"+#REF!","v":{"$error":"#REF!"}},{"$f":"+#REF!","v":{"$error":"#REF!"}},{"$f":"+#REF!","v":{"$error":"#REF!"}},{"$f":"+#REF!","v":{"$error":"#REF!"}},0,0,{"$f":"+#REF!","v":{"$error":"#REF!"}}]
[{"$f":"#REF!","v":{"$error":"#REF!"}},{"$f":"#REF!","v":{"$error":"#REF!"}},{"$f":"#REF!","v":{"$error":"#REF!"}},null,null,{"$error":"#REF!"},{"$error":"#REF!"},{"$error":"#REF!"},{"$error":"#REF!"},0,1,{"$error":"#REF!"},null,null,{"$error":"#REF!"},null,{"$error":"#REF!"},{"$error":"#REF!"},{"$error":"#REF!"},{"$f":"#REF!","v":{"$error":"#REF!"}},{"$f":"+#REF!","v":{"$error":"#REF!"}},{"$f":"+#REF!","v":{"$error":"#REF!"}},{"$f":"+#REF!","v":{"$error":"#REF!"}},{"$f":"+#REF!","v":{"$error":"#REF!"}},0,0,{"$f":"+#REF!","v":{"$error":"#REF!"}}]
[{"$f":"#REF!","v":{"$error":"#REF!"}},{"$f":"#REF!","v":{"$error":"#REF!"}},{"$f":"#REF!","v":{"$error":"#REF!"}},null,null,{"$error":"#REF!"},{"$error":"#REF!"},{"$error":"#REF!"},{"$error":"#REF!"},0,1,{"$error":"#REF!"},null,null,{"$error":"#REF!"},null,{"$error":"#REF!"},{"$error":"#REF!"},{"$error":"#REF!"},{"$f":"#REF!","v":{"$error":"#REF!"}},{"$f":"+#REF!","v":{"$error":"#REF!"}},{"$f":"+#REF!","v":{"$error":"#REF!"}},{"$f":"+#REF!","v":{"$error":"#REF!"}},{"$f":"+#REF!","v":{"$error":"#REF!"}},0,0,{"$f":"+#REF!","v":{"$error":"#REF!"}}]
[{"$f":"#REF!","v":{"$error":"#REF!"}},{"$f":"#REF!","v":{"$error":"#REF!"}},{"$f":"#REF!","v":{"$error":"#REF!"}},null,null,{"$error":"#REF!"},{"$error":"#REF!"},{"$error":"#REF!"},{"$error":"#REF!"},0,1,{"$error":"#REF!"},null,null,{"$error":"#REF!"},null,{"$error":"#REF!"},{"$error":"#REF!"},{"$error":"#REF!"},{"$f":"#REF!","v":{"$error":"#REF!"}},{"$f":"+#REF!","v":{"$error":"#REF!"}},{"$f":"+#REF!","v":{"$error":"#REF!"}},{"$f":"+#REF!","v":{"$error":"#REF!"}},{"$f":"+#REF!","v":{"$error":"#REF!"}},0,0,{"$f":"+#REF!","v":{"$error":"#REF!"}}]
[{"$f":"#REF!","v":{"$error":"#REF!"}},{"$f":"#REF!","v":{"$error":"#REF!"}},{"$f":"#REF!","v":{"$error":"#REF!"}},null,null,{"$error":"#REF!"},{"$error":"#REF!"},{"$error":"#REF!"},{"$error":"#REF!"},0,1,{"$error":"#REF!"},null,null,{"$error":"#REF!"},null,{"$error":"#REF!"},{"$error":"#REF!"},{"$error":"#REF!"},{"$f":"#REF!","v":{"$error":"#REF!"}},{"$f":"+#REF!","v":{"$error":"#REF!"}},{"$f":"+#REF!","v":{"$error":"#REF!"}},{"$f":"+#REF!","v":{"$error":"#REF!"}},{"$f":"+#REF!","v":{"$error":"#REF!"}},0,0,{"$f":"+#REF!","v":{"$error":"#REF!"}}]
[{"$f":"#REF!","v":{"$error":"#REF!"}},{"$f":"#REF!","v":{"$error":"#REF!"}},{"$f":"#REF!","v":{"$error":"#REF!"}},null,null,{"$error":"#REF!"},{"$error":"#REF!"},{"$error":"#REF!"},{"$error":"#REF!"},0,1,{"$error":"#REF!"},null,null,{"$error":"#REF!"},null,{"$error":"#REF!"},{"$error":"#REF!"},{"$error":"#REF!"},{"$f":"#REF!","v":{"$error":"#REF!"}},{"$f":"+#REF!","v":{"$error":"#REF!"}},{"$f":"+#REF!","v":{"$error":"#REF!"}},{"$f":"+#REF!","v":{"$error":"#REF!"}},{"$f":"+#REF!","v":{"$error":"#REF!"}},0,0,{"$f":"+#REF!","v":{"$error":"#REF!"}}]
[{"$f":"#REF!","v":{"$error":"#REF!"}},{"$f":"#REF!","v":{"$error":"#REF!"}},{"$f":"#REF!","v":{"$error":"#REF!"}},null,null,{"$error":"#REF!"},{"$error":"#REF!"},{"$error":"#REF!"},{"$error":"#REF!"},0,1,{"$error":"#REF!"},null,null,{"$error":"#REF!"},null,{"$error":"#REF!"},{"$error":"#REF!"},{"$error":"#REF!"},{"$f":"#REF!","v":{"$error":"#REF!"}},{"$f":"+#REF!","v":{"$error":"#REF!"}},{"$f":"+#REF!","v":{"$error":"#REF!"}},{"$f":"+#REF!","v":{"$error":"#REF!"}},{"$f":"+#REF!","v":{"$error":"#REF!"}},0,0,{"$f":"+#REF!","v":{"$error":"#REF!"}}]
[{"$f":"#REF!","v":{"$error":"#REF!"}},{"$f":"#REF!","v":{"$error":"#REF!"}},{"$f":"#REF!","v":{"$error":"#REF!"}},null,null,{"$error":"#REF!"},{"$error":"#REF!"},{"$error":"#REF!"},{"$error":"#REF!"},0,1,{"$error":"#REF!"},null,null,{"$error":"#REF!"},null,{"$error":"#REF!"},{"$error":"#REF!"},{"$error":"#REF!"},{"$f":"#REF!","v":{"$error":"#REF!"}},{"$f":"+#REF!","v":{"$error":"#REF!"}},{"$f":"+#REF!","v":{"$error":"#REF!"}},{"$f":"+#REF!","v":{"$error":"#REF!"}},{"$f":"+#REF!","v":{"$error":"#REF!"}},0,0,{"$f":"+#REF!","v":{"$error":"#REF!"}}]
[{"$f":"#REF!","v":{"$error":"#REF!"}},{"$f":"#REF!","v":{"$error":"#REF!"}},{"$f":"#REF!","v":{"$error":"#REF!"}},null,null,{"$error":"#REF!"},{"$error":"#REF!"},{"$error":"#REF!"},{"$error":"#REF!"},0,1,{"$error":"#REF!"},null,null,{"$error":"#REF!"},null,{"$error":"#REF!"},{"$error":"#REF!"},{"$error":"#REF!"},{"$f":"#REF!","v":{"$error":"#REF!"}},{"$f":"+#REF!","v":{"$error":"#REF!"}},{"$f":"+#REF!","v":{"$error":"#REF!"}},{"$f":"+#REF!","v":{"$error":"#REF!"}},{"$f":"+#REF!","v":{"$error":"#REF!"}},0,0,{"$f":"+#REF!","v":{"$error":"#REF!"}}]
[{"$f":"#REF!","v":{"$error":"#REF!"}},{"$f":"#REF!","v":{"$error":"#REF!"}},{"$f":"#REF!","v":{"$error":"#REF!"}},null,null,{"$error":"#REF!"},{"$error":"#REF!"},{"$error":"#REF!"},{"$error":"#REF!"},0,1,{"$error":"#REF!"},null,null,{"$error":"#REF!"},null,{"$error":"#REF!"},{"$error":"#REF!"},{"$error":"#REF!"},{"$f":"#REF!","v":{"$error":"#REF!"}},{"$f":"+#REF!","v":{"$error":"#REF!"}},{"$f":"+#REF!","v":{"$error":"#REF!"}},{"$f":"+#REF!","v":{"$error":"#REF!"}},{"$f":"+#REF!","v":{"$error":"#REF!"}},0,0,{"$f":"+#REF!","v":{"$error":"#REF!"}}]
[{"$f":"#REF!","v":{"$error":"#REF!"}},{"$f":"#REF!","v":{"$error":"#REF!"}},{"$f":"#REF!","v":{"$error":"#REF!"}},null,null,{"$error":"#REF!"},{"$error":"#REF!"},{"$error":"#REF!"},{"$error":"#REF!"},0,1,{"$error":"#REF!"},null,null,{"$error":"#REF!"},null,{"$error":"#REF!"},{"$error":"#REF!"},{"$error":"#REF!"},{"$f":"#REF!","v":{"$error":"#REF!"}},{"$f":"+#REF!","v":{"$error":"#REF!"}},{"$f":"+#REF!","v":{"$error":"#REF!"}},{"$f":"+#REF!","v":{"$error":"#REF!"}},{"$f":"+#REF!","v":{"$error":"#REF!"}},0,0,{"$f":"+#REF!","v":{"$error":"#REF!"}}]
[{"$f":"#REF!","v":{"$error":"#REF!"}},{"$f":"#REF!","v":{"$error":"#REF!"}},{"$f":"#REF!","v":{"$error":"#REF!"}},null,null,{"$error":"#REF!"},{"$error":"#REF!"},{"$error":"#REF!"},{"$error":"#REF!"},0,1,{"$error":"#REF!"},null,null,{"$error":"#REF!"},null,{"$error":"#REF!"},{"$error":"#REF!"},{"$error":"#REF!"},{"$f":"#REF!","v":{"$error":"#REF!"}},{"$f":"+#REF!","v":{"$error":"#REF!"}},{"$f":"+#REF!","v":{"$error":"#REF!"}},{"$f":"+#REF!","v":{"$error":"#REF!"}},{"$f":"+#REF!","v":{"$error":"#REF!"}},0,0,{"$f":"+#REF!","v":{"$error":"#REF!"}}]
[{"$f":"#REF!","v":{"$error":"#REF!"}},{"$f":"#REF!","v":{"$error":"#REF!"}},{"$f":"#REF!","v":{"$error":"#REF!"}},null,null,{"$error":"#REF!"},{"$error":"#REF!"},{"$error":"#REF!"},{"$error":"#REF!"},0,1,{"$error":"#REF!"},null,null,{"$error":"#REF!"},null,{"$error":"#REF!"},{"$error":"#REF!"},{"$error":"#REF!"},{"$f":"#REF!","v":{"$error":"#REF!"}},{"$f":"+#REF!","v":{"$error":"#REF!"}},{"$f":"+#REF!","v":{"$error":"#REF!"}},{"$f":"+#REF!","v":{"$error":"#REF!"}},{"$f":"+#REF!","v":{"$error":"#REF!"}},0,0,{"$f":"+#REF!","v":{"$error":"#REF!"}}]
[{"$f":"#REF!","v":{"$error":"#REF!"}},{"$f":"#REF!","v":{"$error":"#REF!"}},{"$f":"#REF!","v":{"$error":"#REF!"}},null,null,{"$error":"#REF!"},{"$error":"#REF!"},{"$error":"#REF!"},{"$error":"#REF!"},0,1,{"$error":"#REF!"},null,null,{"$error":"#REF!"},null,{"$error":"#REF!"},{"$error":"#REF!"},{"$error":"#REF!"},{"$f":"#REF!","v":{"$error":"#REF!"}},{"$f":"+#REF!","v":{"$error":"#REF!"}},{"$f":"+#REF!","v":{"$error":"#REF!"}},{"$f":"+#REF!","v":{"$error":"#REF!"}},{"$f":"+#REF!","v":{"$error":"#REF!"}},0,0,{"$f":"+#REF!","v":{"$error":"#REF!"}}]
[{"$f":"#REF!","v":{"$error":"#REF!"}},{"$f":"#REF!","v":{"$error":"#REF!"}},{"$f":"#REF!","v":{"$error":"#REF!"}},null,null,{"$error":"#REF!"},{"$error":"#REF!"},{"$error":"#REF!"},{"$error":"#REF!"},0,1,{"$error":"#REF!"},null,null,{"$error":"#REF!"},null,{"$error":"#REF!"},{"$error":"#REF!"},{"$error":"#REF!"},{"$f":"#REF!","v":{"$error":"#REF!"}},{"$f":"+#REF!","v":{"$error":"#REF!"}},{"$f":"+#REF!","v":{"$error":"#REF!"}},{"$f":"+#REF!","v":{"$error":"#REF!"}},{"$f":"+#REF!","v":{"$error":"#REF!"}},0,0,{"$f":"+#REF!","v":{"$error":"#REF!"}}]
[{"$f":"#REF!","v":{"$error":"#REF!"}},{"$f":"#REF!","v":{"$error":"#REF!"}},{"$f":"#REF!","v":{"$error":"#REF!"}},null,null,{"$error":"#REF!"},{"$error":"#REF!"},{"$error":"#REF!"},{"$error":"#REF!"},0,1,{"$error":"#REF!"},null,null,{"$error":"#REF!"},null,{"$error":"#REF!"},{"$error":"#REF!"},{"$error":"#REF!"},{"$f":"#REF!","v":{"$error":"#REF!"}},{"$f":"+#REF!","v":{"$error":"#REF!"}},{"$f":"+#REF!","v":{"$error":"#REF!"}},{"$f":"+#REF!","v":{"$error":"#REF!"}},{"$f":"+#REF!","v":{"$error":"#REF!"}},0,0,{"$f":"+#REF!","v":{"$error":"#REF!"}}]
[{"$f":"#REF!","v":{"$error":"#REF!"}},{"$f":"#REF!","v":{"$error":"#REF!"}},{"$f":"#REF!","v":{"$error":"#REF!"}},null,null,{"$error":"#REF!"},{"$error":"#REF!"},{"$error":"#REF!"},{"$error":"#REF!"},0,1,{"$error":"#REF!"},null,null,{"$error":"#REF!"},null,{"$error":"#REF!"},{"$error":"#REF!"},{"$error":"#REF!"},{"$f":"#REF!","v":{"$error":"#REF!"}},{"$f":"+#REF!","v":{"$error":"#REF!"}},{"$f":"+#REF!","v":{"$error":"#REF!"}},{"$f":"+#REF!","v":{"$error":"#REF!"}},{"$f":"+#REF!","v":{"$error":"#REF!"}},0,0,{"$f":"+#REF!","v":{"$error":"#REF!"}}]
[{"$f":"#REF!","v":{"$error":"#REF!"}},{"$f":"#REF!","v":{"$error":"#REF!"}},{"$f":"#REF!","v":{"$error":"#REF!"}},null,null,{"$error":"#REF!"},{"$error":"#REF!"},{"$error":"#REF!"},{"$error":"#REF!"},0,1,{"$error":"#REF!"},null,null,{"$error":"#REF!"},null,{"$error":"#REF!"},{"$error":"#REF!"},{"$error":"#REF!"},{"$f":"#REF!","v":{"$error":"#REF!"}},{"$f":"+#REF!","v":{"$error":"#REF!"}},{"$f":"+#REF!","v":{"$error":"#REF!"}},{"$f":"+#REF!","v":{"$error":"#REF!"}},{"$f":"+#REF!","v":{"$error":"#REF!"}},0,0,{"$f":"+#REF!","v":{"$error":"#REF!"}}]
[{"$f":"#REF!","v":{"$error":"#REF!"}},{"$f":"#REF!","v":{"$error":"#REF!"}},{"$f":"#REF!","v":{"$error":"#REF!"}},null,null,{"$error":"#REF!"},{"$error":"#REF!"},{"$error":"#REF!"},{"$error":"#REF!"},0,1,{"$error":"#REF!"},null,null,{"$error":"#REF!"},null,{"$error":"#REF!"},{"$error":"#REF!"},{"$error":"#REF!"},{"$f":"#REF!","v":{"$error":"#REF!"}},{"$f":"+#REF!","v":{"$error":"#REF!"}},{"$f":"+#REF!","v":{"$error":"#REF!"}},{"$f":"+#REF!","v":{"$error":"#REF!"}},{"$f":"+#REF!","v":{"$error":"#REF!"}},0,0,{"$f":"+#REF!","v":{"$error":"#REF!"}}]
[{"$f":"#REF!","v":{"$error":"#REF!"}},{"$f":"#REF!","v":{"$error":"#REF!"}},{"$f":"#REF!","v":{"$error":"#REF!"}},null,null,{"$error":"#REF!"},{"$error":"#REF!"},{"$error":"#REF!"},{"$error":"#REF!"},0,1,{"$error":"#REF!"},null,null,{"$error":"#REF!"},null,{"$error":"#REF!"},{"$error":"#REF!"},{"$error":"#REF!"},{"$f":"#REF!","v":{"$error":"#REF!"}},{"$f":"+#REF!","v":{"$error":"#REF!"}},{"$f":"+#REF!","v":{"$error":"#REF!"}},{"$f":"+#REF!","v":{"$error":"#REF!"}},{"$f":"+#REF!","v":{"$error":"#REF!"}},0,0,{"$f":"+#REF!","v":{"$error":"#REF!"}}]
[{"$f":"#REF!","v":{"$error":"#REF!"}},{"$f":"#REF!","v":{"$error":"#REF!"}},{"$f":"#REF!","v":{"$error":"#REF!"}},null,null,{"$error":"#REF!"},{"$error":"#REF!"},{"$error":"#REF!"},{"$error":"#REF!"},0,1,{"$error":"#REF!"},null,null,{"$error":"#REF!"},null,{"$error":"#REF!"},{"$error":"#REF!"},{"$error":"#REF!"},{"$f":"#REF!","v":{"$error":"#REF!"}},{"$f":"+#REF!","v":{"$error":"#REF!"}},{"$f":"+#REF!","v":{"$error":"#REF!"}},{"$f":"+#REF!","v":{"$error":"#REF!"}},{"$f":"+#REF!","v":{"$error":"#REF!"}},0,0,{"$f":"+#REF!","v":{"$error":"#REF!"}}]
[{"$f":"#REF!","v":{"$error":"#REF!"}},{"$f":"#REF!","v":{"$error":"#REF!"}},{"$f":"#REF!","v":{"$error":"#REF!"}},null,null,{"$error":"#REF!"},{"$error":"#REF!"},{"$error":"#REF!"},{"$error":"#REF!"},0,1,{"$error":"#REF!"},null,null,{"$error":"#REF!"},null,{"$error":"#REF!"},{"$error":"#REF!"},{"$error":"#REF!"},{"$f":"#REF!","v":{"$error":"#REF!"}},{"$f":"+#REF!","v":{"$error":"#REF!"}},{"$f":"+#REF!","v":{"$error":"#REF!"}},{"$f":"+#REF!","v":{"$error":"#REF!"}},{"$f":"+#REF!","v":{"$error":"#REF!"}},0,0,{"$f":"+#REF!","v":{"$error":"#REF!"}}]
[{"$f":"#REF!","v":{"$error":"#REF!"}},{"$f":"#REF!","v":{"$error":"#REF!"}},{"$f":"#REF!","v":{"$error":"#REF!"}},null,null,{"$error":"#REF!"},{"$error":"#REF!"},{"$error":"#REF!"},{"$error":"#REF!"},0,1,{"$error":"#REF!"},null,null,{"$error":"#REF!"},null,{"$error":"#REF!"},{"$error":"#REF!"},{"$error":"#REF!"},{"$f":"#REF!","v":{"$error":"#REF!"}},{"$f":"+#REF!","v":{"$error":"#REF!"}},{"$f":"+#REF!","v":{"$error":"#REF!"}},{"$f":"+#REF!","v":{"$error":"#REF!"}},{"$f":"+#REF!","v":{"$error":"#REF!"}},0,0,{"$f":"+#REF!","v":{"$error":"#REF!"}}]
[{"$f":"#REF!","v":{"$error":"#REF!"}},{"$f":"#REF!","v":{"$error":"#REF!"}},{"$f":"#REF!","v":{"$error":"#REF!"}},null,null,{"$error":"#REF!"},{"$error":"#REF!"},{"$error":"#REF!"},{"$error":"#REF!"},0,1,{"$error":"#REF!"},null,null,{"$error":"#REF!"},null,{"$error":"#REF!"},{"$error":"#REF!"},{"$error":"#REF!"},{"$f":"#REF!","v":{"$error":"#REF!"}},{"$f":"+#REF!","v":{"$error":"#REF!"}},{"$f":"+#REF!","v":{"$error":"#REF!"}},{"$f":"+#REF!","v":{"$error":"#REF!"}},{"$f":"+#REF!","v":{"$error":"#REF!"}},0,0,{"$f":"+#REF!","v":{"$error":"#REF!"}}]
[{"$f":"#REF!","v":{"$error":"#REF!"}},{"$f":"#REF!","v":{"$error":"#REF!"}},{"$f":"#REF!","v":{"$error":"#REF!"}},null,null,{"$error":"#REF!"},{"$error":"#REF!"},{"$error":"#REF!"},{"$error":"#REF!"},0,1,{"$error":"#REF!"},null,null,{"$error":"#REF!"},null,{"$error":"#REF!"},{"$error":"#REF!"},{"$error":"#REF!"},{"$f":"#REF!","v":{"$error":"#REF!"}},{"$f":"+#REF!","v":{"$error":"#REF!"}},{"$f":"+#REF!","v":{"$error":"#REF!"}},{"$f":"+#REF!","v":{"$error":"#REF!"}},{"$f":"+#REF!","v":{"$error":"#REF!"}},0,0,{"$f":"+#REF!","v":{"$error":"#REF!"}}]
[{"$f":"#REF!","v":{"$error":"#REF!"}},{"$f":"#REF!","v":{"$error":"#REF!"}},{"$f":"#REF!","v":{"$error":"#REF!"}},null,null,{"$error":"#REF!"},{"$error":"#REF!"},{"$error":"#REF!"},{"$error":"#REF!"},0,1,{"$error":"#REF!"},null,null,{"$f":"SUM(F68:M68)-I68","v":{"$error":"#REF!"}},null,{"$error":"#REF!"},{"$error":"#REF!"},{"$error":"#REF!"},{"$f":"#REF!","v":{"$error":"#REF!"}},{"$f":"+#REF!","v":{"$error":"#REF!"}},{"$f":"+#REF!","v":{"$error":"#REF!"}},{"$f":"+#REF!","v":{"$error":"#REF!"}},{"$f":"+#REF!","v":{"$error":"#REF!"}},0,0,{"$f":"+#REF!","v":{"$error":"#REF!"}}]
[{"$f":"#REF!","v":{"$error":"#REF!"}},{"$f":"#REF!","v":{"$error":"#REF!"}},{"$f":"#REF!","v":{"$error":"#REF!"}},null,null,{"$error":"#REF!"},{"$error":"#REF!"},{"$error":"#REF!"},{"$error":"#REF!"},0,1,{"$error":"#REF!"},null,null,{"$f":"SUM(F69:M69)-I69","v":{"$error":"#REF!"}},null,{"$f":"A67","v":{"$error":"#REF!"}},{"$error":"#REF!"},{"$error":"#REF!"},{"$f":"#REF!","v":{"$error":"#REF!"}},{"$f":"+#REF!","v":{"$error":"#REF!"}},{"$f":"+#REF!","v":{"$error":"#REF!"}},{"$f":"+#REF!","v":{"$error":"#REF!"}},{"$f":"+#REF!","v":{"$error":"#REF!"}},0,0,{"$f":"+#REF!","v":{"$error":"#REF!"}}]
[{"$f":"#REF!","v":{"$error":"#REF!"}},{"$f":"#REF!","v":{"$error":"#REF!"}},{"$f":"#REF!","v":{"$error":"#REF!"}},null,null,{"$error":"#REF!"},{"$error":"#REF!"},{"$error":"#REF!"},{"$error":"#REF!"},0,1,{"$error":"#REF!"},null,null,{"$f":"SUM(F70:M70)-I70","v":{"$error":"#REF!"}},null,{"$error":"#REF!"},{"$error":"#REF!"},{"$f":"VALUE(MID(A68,3,10))","v":{"$error":"#REF!"}},{"$f":"#REF!","v":{"$error":"#REF!"}},{"$f":"+#REF!","v":{"$error":"#REF!"}},{"$f":"+#REF!","v":{"$error":"#REF!"}},{"$f":"+#REF!","v":{"$error":"#REF!"}},{"$f":"+#REF!","v":{"$error":"#REF!"}},0,0,{"$f":"+#REF!","v":{"$error":"#REF!"}}]
[{"$f":"#REF!","v":{"$error":"#REF!"}},{"$f":"#REF!","v":{"$error":"#REF!"}},{"$f":"#REF!","v":{"$error":"#REF!"}},null,null,{"$error":"#REF!"},{"$error":"#REF!"},{"$error":"#REF!"},{"$error":"#REF!"},0,1,{"$error":"#REF!"},null,null,{"$f":"SUM(F71:M71)-I71","v":{"$error":"#REF!"}},null,{"$error":"#REF!"},{"$error":"#REF!"},{"$f":"VALUE(MID(A69,3,10))","v":{"$error":"#REF!"}},{"$f":"#REF!","v":{"$error":"#REF!"}},{"$f":"+#REF!","v":{"$error":"#REF!"}},{"$f":"+#REF!","v":{"$error":"#REF!"}},{"$f":"+#REF!","v":{"$error":"#REF!"}},{"$f":"+#REF!","v":{"$error":"#REF!"}},0,0,{"$f":"+#REF!","v":{"$error":"#REF!"}}]
[null,null,null,null,null,{"$f":"SUM(F3:F71)","v":{"$error":"#REF!"}},{"$error":"#REF!"},{"$error":"#REF!"},{"$error":"#REF!"},0,69,{"$error":"#REF!"},null,null,null,null,{"$error":"#REF!"},{"$error":"#REF!"},{"$f":"VALUE(MID(A70,3,10))","v":{"$error":"#REF!"}},{"$f":"#REF!","v":{"$error":"#REF!"}},{"$f":"+#REF!","v":{"$error":"#REF!"}},{"$f":"+#REF!","v":{"$error":"#REF!"}},{"$f":"+#REF!","v":{"$error":"#REF!"}},{"$f":"+#REF!","v":{"$error":"#REF!"}},0,0,{"$f":"+#REF!","v":{"$error":"#REF!"}}]
[null,null,null,null,null,null,null,null,null,null,{"$f":"SUM(J72:K72)","v":69},null,null,null,null,null,{"$error":"#REF!"},{"$error":"#REF!"},{"$f":"VALUE(MID(A71,3,10))","v":{"$error":"#REF!"}},{"$f":"#REF!","v":{"$error":"#REF!"}},{"$f":"+#REF!","v":{"$error":"#REF!"}},{"$f":"+#REF!","v":{"$error":"#REF!"}},{"$f":"+#REF!","v":{"$error":"#REF!"}},{"$f":"+#REF!","v":{"$error":"#REF!"}},0,0,{"$f":"+#REF!","v":{"$error":"#REF!"}}]
[null,null,null,null,null,null,null,null,null,null,null,null,null,null,null,null,null,null,null,null,{"$f":"SUM(U5:U73)","v":{"$error":"#REF!"}},{"$f":"SUM(V5:V73)","v":{"$error":"#REF!"}},{"$error":"#REF!"},{"$error":"#REF!"},0,1,{"$error":"#REF!"}]
[]
[]
[]
[]
[]
[]
[]
[]
[]
[]
[]
[]
[]
[]
[]
[]
[]
[null,"S.D. MAINS",null,"unadj. Avg"]
[null,"mtr rating",null,"cost","population #",{"$f":"F1","v":"GS"},"FS","IS","TS","TSS","TSL","FT1","NGV","Tot. S.D. Main","Adj. S.D. Main","TS Check"]
[]
[{"$f":"#REF!","v":{"$error":"#REF!"}},{"$f":"#REF!","v":{"$error":"#REF!"}},{"$f":"#REF!","v":{"$error":"#REF!"}},{"$f":"IFERROR(AVERAGEIFS(maindollars,rating,A95,rating,B95,pressure,C95),0)","v":0},{"$f":"O3","v":{"$error":"#REF!"}},{"$f":"F3*$D95","v":{"$error":"#REF!"}},{"$error":"#REF!"},{"$error":"#REF!"},{"$error":"#REF!"},0,0,{"$error":"#REF!"},0,{"$f":"SUM(F95:M95)-I95","v":{"$error":"#REF!"}},{"$f":"N95*$N$166","v":{"$error":"#REF!"}},{"$f":"I95-J95-K95","v":{"$error":"#REF!"}}]
[{"$f":"#REF!","v":{"$error":"#REF!"}},{"$f":"#REF!","v":{"$error":"#REF!"}},{"$f":"#REF!","v":{"$error":"#REF!"}},0,{"$f":"O4","v":{"$error":"#REF!"}},{"$error":"#REF!"},{"$error":"#REF!"},{"$error":"#REF!"},{"$error":"#REF!"},{"$f":"J4*$D96","v":0},0,{"$error":"#REF!"},0,{"$f":"SUM(F96:M96)-I96","v":{"$error":"#REF!"}},{"$f":"N96*$N$166","v":{"$error":"#REF!"}},{"$f":"I96-J96-K96","v":{"$error":"#REF!"}}]
[{"$f":"#REF!","v":{"$error":"#REF!"}},{"$f":"#REF!","v":{"$error":"#REF!"}},{"$f":"#REF!","v":{"$error":"#REF!"}},0,{"$error":"#REF!"},{"$error":"#REF!"},{"$error":"#REF!"},{"$error":"#REF!"},{"$error":"#REF!"},0,0,{"$error":"#REF!"},0,{"$error":"#REF!"},{"$error":"#REF!"},{"$error":"#REF!"}]
[{"$f":"#REF!","v":{"$error":"#REF!"}},{"$f":"#REF!","v":{"$error":"#REF!"}},{"$f":"#REF!","v":{"$error":"#REF!"}},0,{"$error":"#REF!"},{"$error":"#REF!"},{"$error":"#REF!"},{"$error":"#REF!"},{"$error":"#REF!"},0,0,{"$error":"#REF!"},0,{"$error":"#REF!"},{"$error":"#REF!"},{"$error":"#REF!"}]
[{"$f":"#REF!","v":{"$error":"#REF!"}},{"$f":"#REF!","v":{"$error":"#REF!"}},{"$f":"#REF!","v":{"$error":"#REF!"}},0,{"$error":"#REF!"},{"$error":"#REF!"},{"$error":"#REF!"},{"$error":"#REF!"},{"$error":"#REF!"},0,0,{"$error":"#REF!"},0,{"$error":"#REF!"},{"$error":"#REF!"},{"$error":"#REF!"}]
[{"$f":"#REF!","v":{"$error":"#REF!"}},{"$f":"#REF!","v":{"$error":"#REF!"}},{"$f":"#REF!","v":{"$error":"#REF!"}},0,{"$error":"#REF!"},{"$error":"#REF!"},{"$error":"#REF!"},{"$error":"#REF!"},{"$error":"#REF!"},0,0,{"$error":"#REF!"},0,{"$error":"#REF!"},{"$error":"#REF!"},{"$error":"#REF!"}]
[{"$f":"#REF!","v":{"$error":"#REF!"}},{"$f":"#REF!","v":{"$error":"#REF!"}},{"$f":"#REF!","v":{"$error":"#REF!"}},0,{"$error":"#REF!"},{"$error":"#REF!"},{"$error":"#REF!"},{"$error":"#REF!"},{"$error":"#REF!"},0,0,{"$error":"#REF!"},0,{"$error":"#REF!"},{"$error":"#REF!"},{"$error":"#REF!"}]
[{"$f":"#REF!","v":{"$error":"#REF!"}},{"$f":"#REF!","v":{"$error":"#REF!"}},{"$f":"#REF!","v":{"$error":"#REF!"}},0,{"$error":"#REF!"},{"$error":"#REF!"},{"$error":"#REF!"},{"$error":"#REF!"},{"$error":"#REF!"},0,0,{"$error":"#REF!"},0,{"$error":"#REF!"},{"$error":"#REF!"},{"$error":"#REF!"}]
[{"$f":"#REF!","v":{"$error":"#REF!"}},{"$f":"#REF!","v":{"$error":"#REF!"}},{"$f":"#REF!","v":{"$error":"#REF!"}},0,{"$error":"#REF!"},{"$error":"#REF!"},{"$error":"#REF!"},{"$error":"#REF!"},{"$error":"#REF!"},0,0,{"$error":"#REF!"},0,{"$error":"#REF!"},{"$error":"#REF!"},{"$error":"#REF!"}]
[{"$f":"#REF!","v":{"$error":"#REF!"}},{"$f":"#REF!","v":{"$error":"#REF!"}},{"$f":"#REF!","v":{"$error":"#REF!"}},0,{"$error":"#REF!"},{"$error":"#REF!"},{"$error":"#REF!"},{"$error":"#REF!"},{"$error":"#REF!"},0,0,{"$error":"#REF!"},0,{"$error":"#REF!"},{"$error":"#REF!"},{"$error":"#REF!"}]
[{"$f":"#REF!","v":{"$error":"#REF!"}},{"$f":"#REF!","v":{"$error":"#REF!"}},{"$f":"#REF!","v":{"$error":"#REF!"}},0,{"$error":"#REF!"},{"$error":"#REF!"},{"$error":"#REF!"},{"$error":"#REF!"},{"$error":"#REF!"},0,0,{"$error":"#REF!"},0,{"$error":"#REF!"},{"$error":"#REF!"},{"$error":"#REF!"}]
[{"$f":"#REF!","v":{"$error":"#REF!"}},{"$f":"#REF!","v":{"$error":"#REF!"}},{"$f":"#REF!","v":{"$error":"#REF!"}},0,{"$error":"#REF!"},{"$error":"#REF!"},{"$error":"#REF!"},{"$error":"#REF!"},{"$error":"#REF!"},0,0,{"$error":"#REF!"},0,{"$error":"#REF!"},{"$error":"#REF!"},{"$error":"#REF!"}]
[{"$f":"#REF!","v":{"$error":"#REF!"}},{"$f":"#REF!","v":{"$error":"#REF!"}},{"$f":"#REF!","v":{"$error":"#REF!"}},0,{"$error":"#REF!"},{"$error":"#REF!"},{"$error":"#REF!"},{"$error":"#REF!"},{"$error":"#REF!"},0,0,{"$error":"#REF!"},0,{"$error":"#REF!"},{"$error":"#REF!"},{"$error":"#REF!"}]
[{"$f":"#REF!","v":{"$error":"#REF!"}},{"$f":"#REF!","v":{"$error":"#REF!"}},{"$f":"#REF!","v":{"$error":"#REF!"}},0,{"$error":"#REF!"},{"$error":"#REF!"},{"$error":"#REF!"},{"$error":"#REF!"},{"$error":"#REF!"},0,0,{"$error":"#REF!"},0,{"$error":"#REF!"},{"$error":"#REF!"},{"$error":"#REF!"}]
[{"$f":"#REF!","v":{"$error":"#REF!"}},{"$f":"#REF!","v":{"$error":"#REF!"}},{"$f":"#REF!","v":{"$error":"#REF!"}},0,{"$error":"#REF!"},{"$error":"#REF!"},{"$error":"#REF!"},{"$error":"#REF!"},{"$error":"#REF!"},0,0,{"$error":"#REF!"},0,{"$error":"#REF!"},{"$error":"#REF!"},{"$error":"#REF!"}]
[{"$f":"#REF!","v":{"$error":"#REF!"}},{"$f":"#REF!","v":{"$error":"#REF!"}},{"$f":"#REF!","v":{"$error":"#REF!"}},0,{"$error":"#REF!"},{"$error":"#REF!"},{"$error":"#REF!"},{"$error":"#REF!"},{"$error":"#REF!"},0,0,{"$error":"#REF!"},0,{"$error":"#REF!"},{"$error":"#REF!"},{"$error":"#REF!"}]
[{"$f":"#REF!","v":{"$error":"#REF!"}},{"$f":"#REF!","v":{"$error":"#REF!"}},{"$f":"#REF!","v":{"$error":"#REF!"}},0,{"$error":"#REF!"},{"$f":"F19*$D111","v":{"$error":"#REF!"}},{"$error":"#REF!"},{"$error":"#REF!"},{"$error":"#REF!"},0,0,{"$error":"#REF!"},0,{"$error":"#REF!"},{"$error":"#REF!"},{"$error":"#REF!"}]
[{"$f":"#REF!","v":{"$error":"#REF!"}},{"$f":"#REF!","v":{"$error":"#REF!"}},{"$f":"#REF!","v":{"$error":"#REF!"}},0,{"$error":"#REF!"},{"$error":"#REF!"},{"$error":"#REF!"},{"$error":"#REF!"},{"$error":"#REF!"},0,0,{"$error":"#REF!"},0,{"$error":"#REF!"},{"$error":"#REF!"},{"$error":"#REF!"}]
[{"$f":"#REF!","v":{"$error":"#REF!"}},{"$f":"#REF!","v":{"$error":"#REF!"}},{"$f":"#REF!","v":{"$error":"#REF!"}},0,{"$error":"#REF!"},{"$error":"#REF!"},{"$error":"#REF!"},{"$error":"#REF!"},{"$error":"#REF!"},0,0,{"$error":"#REF!"},0,{"$error":"#REF!"},{"$error":"#REF!"},{"$error":"#REF!"}]
[{"$f":"#REF!","v":{"$error":"#REF!"}},{"$f":"#REF!","v":{"$error":"#REF!"}},{"$f":"#REF!","v":{"$error":"#REF!"}},0,{"$error":"#REF!"},{"$error":"#REF!"},{"$error":"#REF!"},{"$error":"#REF!"},{"$error":"#REF!"},0,0,{"$error":"#REF!"},{"$error":"#REF!"},{"$error":"#REF!"},{"$error":"#REF!"},{"$error":"#REF!"}]
[{"$f":"#REF!","v":{"$error":"#REF!"}},{"$f":"#REF!","v":{"$error":"#REF!"}},{"$f":"#REF!","v":{"$error":"#REF!"}},0,{"$error":"#REF!"},{"$error":"#REF!"},{"$error":"#REF!"},{"$error":"#REF!"},{"$error":"#REF!"},0,0,{"$error":"#REF!"},0,{"$error":"#REF!"},{"$error":"#REF!"},{"$error":"#REF!"}]
[{"$f":"#REF!","v":{"$error":"#REF!"}},{"$f":"#REF!","v":{"$error":"#REF!"}},{"$f":"#REF!","v":{"$error":"#REF!"}},0,{"$error":"#REF!"},{"$error":"#REF!"},{"$error":"#REF!"},{"$error":"#REF!"},{"$error":"#REF!"},0,0,{"$error":"#REF!"},0,{"$error":"#REF!"},{"$error":"#REF!"},{"$error":"#REF!"}]
[{"$f":"#REF!","v":{"$error":"#REF!"}},{"$f":"#REF!","v":{"$error":"#REF!"}},{"$f":"#REF!","v":{"$error":"#REF!"}},0,{"$error":"#REF!"},{"$error":"#REF!"},{"$error":"#REF!"},{"$error":"#REF!"},{"$error":"#REF!"},0,0,{"$error":"#REF!"},0,{"$error":"#REF!"},{"$error":"#REF!"},{"$error":"#REF!"}]
[{"$f":"#REF!","v":{"$error":"#REF!"}},{"$f":"#REF!","v":{"$error":"#REF!"}},{"$f":"#REF!","v":{"$error":"#REF!"}},0,{"$error":"#REF!"},{"$error":"#REF!"},{"$error":"#REF!"},{"$error":"#REF!"},{"$error":"#REF!"},0,0,{"$error":"#REF!"},0,{"$error":"#REF!"},{"$error":"#REF!"},{"$error":"#REF!"}]
[{"$f":"#REF!","v":{"$error":"#REF!"}},{"$f":"#REF!","v":{"$error":"#REF!"}},{"$f":"#REF!","v":{"$error":"#REF!"}},0,{"$error":"#REF!"},{"$error":"#REF!"},{"$error":"#REF!"},{"$error":"#REF!"},{"$error":"#REF!"},0,0,{"$error":"#REF!"},0,{"$error":"#REF!"},{"$error":"#REF!"},{"$error":"#REF!"}]
[{"$f":"#REF!","v":{"$error":"#REF!"}},{"$f":"#REF!","v":{"$error":"#REF!"}},{"$f":"#REF!","v":{"$error":"#REF!"}},0,{"$error":"#REF!"},{"$error":"#REF!"},{"$error":"#REF!"},{"$error":"#REF!"},{"$error":"#REF!"},0,0,{"$error":"#REF!"},0,{"$error":"#REF!"},{"$error":"#REF!"},{"$error":"#REF!"}]
[{"$f":"#REF!","v":{"$error":"#REF!"}},{"$f":"#REF!","v":{"$error":"#REF!"}},{"$f":"#REF!","v":{"$error":"#REF!"}},0,{"$error":"#REF!"},{"$error":"#REF!"},{"$error":"#REF!"},{"$error":"#REF!"},{"$error":"#REF!"},0,0,{"$error":"#REF!"},0,{"$error":"#REF!"},{"$error":"#REF!"},{"$error":"#REF!"}]
[{"$f":"#REF!","v":{"$error":"#REF!"}},{"$f":"#REF!","v":{"$error":"#REF!"}},{"$f":"#REF!","v":{"$error":"#REF!"}},0,{"$error":"#REF!"},{"$error":"#REF!"},{"$error":"#REF!"},{"$error":"#REF!"},{"$error":"#REF!"},0,0,{"$error":"#REF!"},0,{"$error":"#REF!"},{"$error":"#REF!"},{"$error":"#REF!"}]
[{"$f":"#REF!","v":{"$error":"#REF!"}},{"$f":"#REF!","v":{"$error":"#REF!"}},{"$f":"#REF!","v":{"$error":"#REF!"}},0,{"$error":"#REF!"},{"$error":"#REF!"},{"$error":"#REF!"},{"$error":"#REF!"},{"$error":"#REF!"},0,0,{"$error":"#REF!"},0,{"$error":"#REF!"},{"$error":"#REF!"},{"$error":"#REF!"}]
[{"$f":"#REF!","v":{"$error":"#REF!"}},{"$f":"#REF!","v":{"$error":"#REF!"}},{"$f":"#REF!","v":{"$error":"#REF!"}},0,{"$error":"#REF!"},{"$error":"#REF!"},{"$error":"#REF!"},{"$error":"#REF!"},{"$error":"#REF!"},0,0,{"$error":"#REF!"},0,{"$error":"#REF!"},{"$error":"#REF!"},{"$error":"#REF!"}]
[{"$f":"#REF!","v":{"$error":"#REF!"}},{"$f":"#REF!","v":{"$error":"#REF!"}},{"$f":"#REF!","v":{"$error":"#REF!"}},0,{"$error":"#REF!"},{"$error":"#REF!"},{"$error":"#REF!"},{"$error":"#REF!"},{"$error":"#REF!"},0,0,{"$error":"#REF!"},0,{"$error":"#REF!"},{"$error":"#REF!"},{"$error":"#REF!"}]
[{"$f":"#REF!","v":{"$error":"#REF!"}},{"$f":"#REF!","v":{"$error":"#REF!"}},{"$f":"#REF!","v":{"$error":"#REF!"}},0,{"$error":"#REF!"},{"$error":"#REF!"},{"$error":"#REF!"},{"$error":"#REF!"},{"$error":"#REF!"},0,0,{"$error":"#REF!"},0,{"$error":"#REF!"},{"$error":"#REF!"},{"$error":"#REF!"}]
[{"$f":"#REF!","v":{"$error":"#REF!"}},{"$f":"#REF!","v":{"$error":"#REF!"}},{"$f":"#REF!","v":{"$error":"#REF!"}},{"$f":"IFERROR(AVERAGEIFS(maindollars,rating,A127,rating,B127,pressure,C127),0)","v":0},{"$error":"#REF!"},{"$f":"F35*$D127","v":{"$error":"#REF!"}},{"$error":"#REF!"},{"$error":"#REF!"},{"$error":"#REF!"},0,0,{"$error":"#REF!"},0,{"$error":"#REF!"},{"$error":"#REF!"},{"$error":"#REF!"}]
[{"$f":"#REF!","v":{"$error":"#REF!"}},{"$f":"#REF!","v":{"$error":"#REF!"}},{"$f":"#REF!","v":{"$error":"#REF!"}},0,{"$error":"#REF!"},{"$error":"#REF!"},{"$error":"#REF!"},{"$error":"#REF!"},{"$error":"#REF!"},0,0,{"$error":"#REF!"},0,{"$error":"#REF!"},{"$error":"#REF!"},{"$error":"#REF!"}]
[{"$f":"#REF!","v":{"$error":"#REF!"}},{"$f":"#REF!","v":{"$error":"#REF!"}},{"$f":"#REF!","v":{"$error":"#REF!"}},0,{"$error":"#REF!"},{"$error":"#REF!"},{"$error":"#REF!"},{"$error":"#REF!"},{"$error":"#REF!"},0,0,{"$error":"#REF!"},0,{"$error":"#REF!"},{"$error":"#REF!"},{"$error":"#REF!"}]
[{"$f":"#REF!","v":{"$error":"#REF!"}},{"$f":"#REF!","v":{"$error":"#REF!"}},{"$f":"#REF!","v":{"$error":"#REF!"}},0,{"$error":"#REF!"},{"$error":"#REF!"},{"$error":"#REF!"},{"$error":"#REF!"},{"$error":"#REF!"},0,0,{"$error":"#REF!"},0,{"$error":"#REF!"},{"$error":"#REF!"},{"$error":"#REF!"}]
[{"$f":"#REF!","v":{"$error":"#REF!"}},{"$f":"#REF!","v":{"$error":"#REF!"}},{"$f":"#REF!","v":{"$error":"#REF!"}},0,{"$error":"#REF!"},{"$error":"#REF!"},{"$error":"#REF!"},{"$error":"#REF!"},{"$error":"#REF!"},0,0,{"$f":"L39*$D131","v":{"$error":"#REF!"}},0,{"$error":"#REF!"},{"$error":"#REF!"},{"$error":"#REF!"}]
[{"$f":"#REF!","v":{"$error":"#REF!"}},{"$f":"#REF!","v":{"$error":"#REF!"}},{"$f":"#REF!","v":{"$error":"#REF!"}},0,{"$error":"#REF!"},{"$error":"#REF!"},{"$error":"#REF!"},{"$error":"#REF!"},{"$error":"#REF!"},0,0,{"$error":"#REF!"},0,{"$error":"#REF!"},{"$error":"#REF!"},{"$error":"#REF!"}]
[{"$f":"#REF!","v":{"$error":"#REF!"}},{"$f":"#REF!","v":{"$error":"#REF!"}},{"$f":"#REF!","v":{"$error":"#REF!"}},0,{"$error":"#REF!"},{"$error":"#REF!"},{"$error":"#REF!"},{"$error":"#REF!"},{"$error":"#REF!"},0,0,{"$error":"#REF!"},0,{"$error":"#REF!"},{"$error":"#REF!"},{"$error":"#REF!"}]
[{"$f":"#REF!","v":{"$error":"#REF!"}},{"$f":"#REF!","v":{"$error":"#REF!"}},{"$f":"#REF!","v":{"$error":"#REF!"}},0,{"$error":"#REF!"},{"$error":"#REF!"},{"$error":"#REF!"},{"$error":"#REF!"},{"$error":"#REF!"},0,0,{"$error":"#REF!"},0,{"$error":"#REF!"},{"$error":"#REF!"},{"$error":"#REF!"}]
[{"$f":"#REF!","v":{"$error":"#REF!"}},{"$f":"#REF!","v":{"$error":"#REF!"}},{"$f":"#REF!","v":{"$error":"#REF!"}},0,{"$error":"#REF!"},{"$error":"#REF!"},{"$error":"#REF!"},{"$error":"#REF!"},{"$error":"#REF!"},0,0,{"$error":"#REF!"},0,{"$error":"#REF!"},{"$error":"#REF!"},{"$error":"#REF!"}]
[{"$f":"#REF!","v":{"$error":"#REF!"}},{"$f":"#REF!","v":{"$error":"#REF!"}},{"$f":"#REF!","v":{"$error":"#REF!"}},0,{"$error":"#REF!"},{"$error":"#REF!"},{"$error":"#REF!"},{"$error":"#REF!"},{"$error":"#REF!"},0,0,{"$error":"#REF!"},0,{"$error":"#REF!"},{"$error":"#REF!"},{"$error":"#REF!"}]
[{"$f":"#REF!","v":{"$error":"#REF!"}},{"$f":"#REF!","v":{"$error":"#REF!"}},{"$f":"#REF!","v":{"$error":"#REF!"}},0,{"$error":"#REF!"},{"$error":"#REF!"},{"$error":"#REF!"},{"$error":"#REF!"},{"$error":"#REF!"},0,0,{"$error":"#REF!"},0,{"$error":"#REF!"},{"$error":"#REF!"},{"$error":"#REF!"}]
[{"$f":"#REF!","v":{"$error":"#REF!"}},{"$f":"#REF!","v":{"$error":"#REF!"}},{"$f":"#REF!","v":{"$error":"#REF!"}},0,{"$error":"#REF!"},{"$error":"#REF!"},{"$error":"#REF!"},{"$error":"#REF!"},{"$error":"#REF!"},0,0,{"$error":"#REF!"},0,{"$error":"#REF!"},{"$error":"#REF!"},{"$error":"#REF!"}]
[{"$f":"#REF!","v":{"$error":"#REF!"}},{"$f":"#REF!","v":{"$error":"#REF!"}},{"$f":"#REF!","v":{"$error":"#REF!"}},0,{"$error":"#REF!"},{"$error":"#REF!"},{"$error":"#REF!"},{"$error":"#REF!"},{"$error":"#REF!"},0,0,{"$error":"#REF!"},0,{"$error":"#REF!"},{"$error":"#REF!"},{"$error":"#REF!"}]
[{"$f":"#REF!","v":{"$error":"#REF!"}},{"$f":"#REF!","v":{"$error":"#REF!"}},{"$f":"#REF!","v":{"$error":"#REF!"}},0,{"$error":"#REF!"},{"$error":"#REF!"},{"$error":"#REF!"},{"$error":"#REF!"},{"$error":"#REF!"},0,0,{"$error":"#REF!"},0,{"$error":"#REF!"},{"$error":"#REF!"},{"$error":"#REF!"}]
[{"$f":"#REF!","v":{"$error":"#REF!"}},{"$f":"#REF!","v":{"$error":"#REF!"}},{"$f":"#REF!","v":{"$error":"#REF!"}},0,{"$error":"#REF!"},{"$error":"#REF!"},{"$error":"#REF!"},{"$error":"#REF!"},{"$error":"#REF!"},0,0,{"$error":"#REF!"},0,{"$error":"#REF!"},{"$error":"#REF!"},{"$error":"#REF!"}]
[{"$f":"#REF!","v":{"$error":"#REF!"}},{"$f":"#REF!","v":{"$error":"#REF!"}},{"$f":"#REF!","v":{"$error":"#REF!"}},0,{"$error":"#REF!"},{"$error":"#REF!"},{"$error":"#REF!"},{"$error":"#REF!"},{"$error":"#REF!"},0,0,{"$error":"#REF!"},0,{"$error":"#REF!"},{"$error":"#REF!"},{"$error":"#REF!"}]
[{"$f":"#REF!","v":{"$error":"#REF!"}},{"$f":"#REF!","v":{"$error":"#REF!"}},{"$f":"#REF!","v":{"$error":"#REF!"}},0,{"$error":"#REF!"},{"$f":"F51*$D143","v":{"$error":"#REF!"}},{"$error":"#REF!"},{"$error":"#REF!"},{"$error":"#REF!"},0,0,{"$error":"#REF!"},0,{"$error":"#REF!"},{"$error":"#REF!"},{"$error":"#REF!"}]
[{"$f":"#REF!","v":{"$error":"#REF!"}},{"$f":"#REF!","v":{"$error":"#REF!"}},{"$f":"#REF!","v":{"$error":"#REF!"}},0,{"$error":"#REF!"},{"$error":"#REF!"},{"$error":"#REF!"},{"$error":"#REF!"},{"$error":"#REF!"},0,0,{"$error":"#REF!"},0,{"$error":"#REF!"},{"$error":"#REF!"},{"$error":"#REF!"}]
[{"$f":"#REF!","v":{"$error":"#REF!"}},{"$f":"#REF!","v":{"$error":"#REF!"}},{"$f":"#REF!","v":{"$error":"#REF!"}},0,{"$error":"#REF!"},{"$error":"#REF!"},{"$error":"#REF!"},{"$error":"#REF!"},{"$error":"#REF!"},0,0,{"$error":"#REF!"},0,{"$error":"#REF!"},{"$error":"#REF!"},{"$error":"#REF!"}]
[{"$f":"#REF!","v":{"$error":"#REF!"}},{"$f":"#REF!","v":{"$error":"#REF!"}},{"$f":"#REF!","v":{"$error":"#REF!"}},0,{"$error":"#REF!"},{"$error":"#REF!"},{"$error":"#REF!"},{"$error":"#REF!"},{"$error":"#REF!"},0,0,{"$error":"#REF!"},0,{"$error":"#REF!"},{"$error":"#REF!"},{"$error":"#REF!"}]
[{"$f":"#REF!","v":{"$error":"#REF!"}},{"$f":"#REF!","v":{"$error":"#REF!"}},{"$f":"#REF!","v":{"$error":"#REF!"}},0,{"$error":"#REF!"},{"$error":"#REF!"},{"$error":"#REF!"},{"$error":"#REF!"},{"$error":"#REF!"},0,0,{"$error":"#REF!"},0,{"$error":"#REF!"},{"$error":"#REF!"},{"$error":"#REF!"}]
[{"$f":"#REF!","v":{"$error":"#REF!"}},{"$f":"#REF!","v":{"$error":"#REF!"}},{"$f":"#REF!","v":{"$error":"#REF!"}},0,{"$error":"#REF!"},{"$error":"#REF!"},{"$error":"#REF!"},{"$error":"#REF!"},{"$error":"#REF!"},0,0,{"$error":"#REF!"},0,{"$error":"#REF!"},{"$error":"#REF!"},{"$error":"#REF!"}]
[{"$f":"#REF!","v":{"$error":"#REF!"}},{"$f":"#REF!","v":{"$error":"#REF!"}},{"$f":"#REF!","v":{"$error":"#REF!"}},0,{"$error":"#REF!"},{"$error":"#REF!"},{"$error":"#REF!"},{"$error":"#REF!"},{"$error":"#REF!"},0,0,{"$error":"#REF!"},0,{"$error":"#REF!"},{"$error":"#REF!"},{"$error":"#REF!"}]
[{"$f":"#REF!","v":{"$error":"#REF!"}},{"$f":"#REF!","v":{"$error":"#REF!"}},{"$f":"#REF!","v":{"$error":"#REF!"}},0,{"$error":"#REF!"},{"$error":"#REF!"},{"$error":"#REF!"},{"$error":"#REF!"},{"$error":"#REF!"},0,0,{"$error":"#REF!"},0,{"$error":"#REF!"},{"$error":"#REF!"},{"$error":"#REF!"}]
[{"$f":"#REF!","v":{"$error":"#REF!"}},{"$f":"#REF!","v":{"$error":"#REF!"}},{"$f":"#REF!","v":{"$error":"#REF!"}},0,{"$error":"#REF!"},{"$error":"#REF!"},{"$error":"#REF!"},{"$error":"#REF!"},{"$error":"#REF!"},0,0,{"$error":"#REF!"},0,{"$error":"#REF!"},{"$error":"#REF!"},{"$error":"#REF!"}]
[{"$f":"#REF!","v":{"$error":"#REF!"}},{"$f":"#REF!","v":{"$error":"#REF!"}},{"$f":"#REF!","v":{"$error":"#REF!"}},0,{"$error":"#REF!"},{"$error":"#REF!"},{"$error":"#REF!"},{"$error":"#REF!"},{"$error":"#REF!"},0,0,{"$error":"#REF!"},0,{"$error":"#REF!"},{"$error":"#REF!"},{"$error":"#REF!"}]
[{"$f":"#REF!","v":{"$error":"#REF!"}},{"$f":"#REF!","v":{"$error":"#REF!"}},{"$f":"#REF!","v":{"$error":"#REF!"}},0,{"$error":"#REF!"},{"$error":"#REF!"},{"$error":"#REF!"},{"$error":"#REF!"},{"$error":"#REF!"},0,0,{"$error":"#REF!"},0,{"$error":"#REF!"},{"$error":"#REF!"},{"$error":"#REF!"}]
[{"$f":"#REF!","v":{"$error":"#REF!"}},{"$f":"#REF!","v":{"$error":"#REF!"}},{"$f":"#REF!","v":{"$error":"#REF!"}},0,{"$error":"#REF!"},{"$error":"#REF!"},{"$error":"#REF!"},{"$error":"#REF!"},{"$error":"#REF!"},0,0,{"$error":"#REF!"},0,{"$error":"#REF!"},{"$error":"#REF!"},{"$error":"#REF!"}]
[{"$f":"#REF!","v":{"$error":"#REF!"}},{"$f":"#REF!","v":{"$error":"#REF!"}},{"$f":"#REF!","v":{"$error":"#REF!"}},0,{"$error":"#REF!"},{"$error":"#REF!"},{"$error":"#REF!"},{"$error":"#REF!"},{"$error":"#REF!"},0,0,{"$error":"#REF!"},0,{"$error":"#REF!"},{"$error":"#REF!"},{"$error":"#REF!"}]
[{"$f":"#REF!","v":{"$error":"#REF!"}},{"$f":"#REF!","v":{"$error":"#REF!"}},{"$f":"#REF!","v":{"$error":"#REF!"}},0,{"$error":"#REF!"},{"$error":"#REF!"},{"$error":"#REF!"},{"$error":"#REF!"},{"$error":"#REF!"},0,0,{"$error":"#REF!"},0,{"$error":"#REF!"},{"$error":"#REF!"},{"$error":"#REF!"}]
[{"$f":"#REF!","v":{"$error":"#REF!"}},{"$f":"#REF!","v":{"$error":"#REF!"}},{"$f":"#REF!","v":{"$error":"#REF!"}},0,{"$error":"#REF!"},{"$error":"#REF!"},{"$error":"#REF!"},{"$error":"#REF!"},{"$error":"#REF!"},0,0,{"$error":"#REF!"},0,{"$error":"#REF!"},{"$error":"#REF!"},{"$error":"#REF!"}]
[{"$f":"#REF!","v":{"$error":"#REF!"}},{"$f":"#REF!","v":{"$error":"#REF!"}},{"$f":"#REF!","v":{"$error":"#REF!"}},0,{"$error":"#REF!"},{"$error":"#REF!"},{"$error":"#REF!"},{"$error":"#REF!"},{"$error":"#REF!"},0,0,{"$error":"#REF!"},0,{"$error":"#REF!"},{"$error":"#REF!"},{"$error":"#REF!"}]
[{"$f":"#REF!","v":{"$error":"#REF!"}},{"$f":"#REF!","v":{"$error":"#REF!"}},{"$f":"#REF!","v":{"$error":"#REF!"}},{"$f":"IFERROR(AVERAGEIFS(maindollars,rating,A159,rating,B159,pressure,C159),0)","v":0},{"$f":"O67","v":{"$error":"#REF!"}},{"$f":"F67*$D159","v":{"$error":"#REF!"}},{"$error":"#REF!"},{"$error":"#REF!"},{"$error":"#REF!"},0,0,{"$error":"#REF!"},0,{"$error":"#REF!"},{"$f":"N159*$N$166","v":{"$error":"#REF!"}},{"$error":"#REF!"}]
[{"$f":"#REF!","v":{"$error":"#REF!"}},{"$f":"#REF!","v":{"$error":"#REF!"}},{"$f":"#REF!","v":{"$error":"#REF!"}},{"$f":"IFERROR(AVERAGEIFS(maindollars,rating,A160,rating,B160,pressure,C160),0)","v":0},{"$f":"O68","v":{"$error":"#REF!"}},{"$error":"#REF!"},{"$error":"#REF!"},{"$error":"#REF!"},{"$error":"#REF!"},0,0,{"$error":"#REF!"},0,{"$f":"SUM(F160:M160)-I160","v":{"$error":"#REF!"}},{"$f":"N160*$N$166","v":{"$error":"#REF!"}},{"$f":"I160-J160-K160","v":{"$error":"#REF!"}}]
[{"$f":"#REF!","v":{"$error":"#REF!"}},{"$f":"#REF!","v":{"$error":"#REF!"}},{"$f":"#REF!","v":{"$error":"#REF!"}},{"$f":"IFERROR(AVERAGEIFS(maindollars,rating,A161,rating,B161,pressure,C161),0)","v":0},{"$f":"O69","v":{"$error":"#REF!"}},{"$error":"#REF!"},{"$error":"#REF!"},{"$error":"#REF!"},{"$error":"#REF!"},0,0,{"$error":"#REF!"},0,{"$f":"SUM(F161:M161)-I161","v":{"$error":"#REF!"}},{"$f":"N161*$N$166","v":{"$error":"#REF!"}},{"$error":"#REF!"}]
[{"$f":"#REF!","v":{"$error":"#REF!"}},{"$f":"#REF!","v":{"$error":"#REF!"}},{"$f":"#REF!","v":{"$error":"#REF!"}},{"$f":"IFERROR(AVERAGEIFS(maindollars,rating,A162,rating,B162,pressure,C162),0)","v":0},{"$f":"O70","v":{"$error":"#REF!"}},{"$error":"#REF!"},{"$error":"#REF!"},{"$error":"#REF!"},{"$error":"#REF!"},0,0,{"$error":"#REF!"},0,{"$f":"SUM(F162:M162)-I162","v":{"$error":"#REF!"}},{"$f":"N162*$N$166","v":{"$error":"#REF!"}},{"$error":"#REF!"}]
[{"$f":"#REF!","v":{"$error":"#REF!"}},{"$f":"#REF!","v":{"$error":"#REF!"}},{"$f":"#REF!","v":{"$error":"#REF!"}},{"$f":"IFERROR(AVERAGEIFS(maindollars,rating,A163,rating,B163,pressure,C163),0)","v":0},{"$f":"O71","v":{"$error":"#REF!"}},{"$error":"#REF!"},{"$error":"#REF!"},{"$error":"#REF!"},{"$error":"#REF!"},0,0,{"$error":"#REF!"},0,{"$f":"SUM(F163:M163)-I163","v":{"$error":"#REF!"}},{"$f":"N163*$N$166","v":{"$error":"#REF!"}},{"$error":"#REF!"}]
[null,"unadjusted total cost",null,null,null,{"$f":"SUM(F94:F163)","v":{"$error":"#REF!"}},{"$f":"SUM(G94:G163)","v":{"$error":"#REF!"}},{"$error":"#REF!"},{"$error":"#REF!"},{"$f":"SUM(J94:J163)","v":0},{"$f":"SUM(K94:K163)","v":0},{"$error":"#REF!"},{"$error":"#REF!"},{"$f":"SUM(F164:M164)-I164","v":{"$error":"#REF!"}},{"$f":"SUM(O95:O163)","v":{"$error":"#REF!"}},{"$error":"#REF!"}]
[null,null,null,null,null,{"$f":"F164/$N$164","v":{"$error":"#REF!"}},{"$error":"#REF!"},{"$error":"#REF!"},{"$error":"#REF!"},{"$error":"#REF!"},{"$error":"#REF!"},{"$error":"#REF!"},{"$error":"#REF!"},null,null,{"$error":"#REF!"}]
[null,"adjusted total cost",null,null,null,{"$f":"F164/$N$164*$O$166","v":{"$error":"#REF!"}},{"$error":"#REF!"},{"$error":"#REF!"},{"$error":"#REF!"},{"$error":"#REF!"},{"$error":"#REF!"},{"$error":"#REF!"},{"$error":"#REF!"},{"$f":"O166/N164","v":{"$error":"#REF!"}},{"$f":"#REF!","v":{"$error":"#REF!"}},{"$error":"#REF!"}]
[]
[]
[null,"SERVICE",null,"unadjusted"]
[null,"mtr rating",null,"avg cost",null,{"$f":"+F93","v":"GS"},"FS","IS","TS","TSS","TSL","FT1","NGV","Total Service","Adj. Service","TS Check"]
[]
[{"$f":"#REF!","v":{"$error":"#REF!"}},{"$f":"#REF!","v":{"$error":"#REF!"}},{"$f":"#REF!","v":{"$error":"#REF!"}},{"$f":"IFERROR(AVERAGEIFS(servicedollars,rating,A172,rating,B172,pressure,C172),0)","v":0},{"$f":"E95","v":{"$error":"#REF!"}},{"$f":"F3*$D172","v":{"$error":"#REF!"}},{"$error":"#REF!"},{"$error":"#REF!"},{"$error":"#REF!"},{"$f":"J3*$D172","v":0},0,{"$error":"#REF!"},0,{"$f":"SUM(F172:M172)-I172","v":{"$error":"#REF!"}},{"$f":"N172*$N$243","v":{"$error":"#REF!"}},{"$f":"I172-J172-K172","v":{"$error":"#REF!"}}]
[{"$f":"#REF!","v":{"$error":"#REF!"}},{"$f":"#REF!","v":{"$error":"#REF!"}},{"$f":"#REF!","v":{"$error":"#REF!"}},0,{"$error":"#REF!"},{"$error":"#REF!"},{"$error":"#REF!"},{"$error":"#REF!"},{"$error":"#REF!"},0,0,{"$error":"#REF!"},0,{"$f":"SUM(F173:M173)-I173","v":{"$error":"#REF!"}},{"$error":"#REF!"},{"$f":"I173-J173-K173","v":{"$error":"#REF!"}}]
[{"$f":"#REF!","v":{"$error":"#REF!"}},{"$f":"#REF!","v":{"$error":"#REF!"}},{"$f":"#REF!","v":{"$error":"#REF!"}},0,{"$error":"#REF!"},{"$error":"#REF!"},{"$error":"#REF!"},{"$error":"#REF!"},{"$error":"#REF!"},0,0,{"$error":"#REF!"},0,{"$error":"#REF!"},{"$error":"#REF!"},{"$error":"#REF!"}]
[{"$f":"#REF!","v":{"$error":"#REF!"}},{"$f":"#REF!","v":{"$error":"#REF!"}},{"$f":"#REF!","v":{"$error":"#REF!"}},0,{"$error":"#REF!"},{"$error":"#REF!"},{"$error":"#REF!"},{"$error":"#REF!"},{"$error":"#REF!"},0,0,{"$error":"#REF!"},0,{"$error":"#REF!"},{"$error":"#REF!"},{"$error":"#REF!"}]
[{"$f":"#REF!","v":{"$error":"#REF!"}},{"$f":"#REF!","v":{"$error":"#REF!"}},{"$f":"#REF!","v":{"$error":"#REF!"}},0,{"$error":"#REF!"},{"$error":"#REF!"},{"$error":"#REF!"},{"$error":"#REF!"},{"$error":"#REF!"},0,0,{"$error":"#REF!"},0,{"$error":"#REF!"},{"$error":"#REF!"},{"$error":"#REF!"}]
[{"$f":"#REF!","v":{"$error":"#REF!"}},{"$f":"#REF!","v":{"$error":"#REF!"}},{"$f":"#REF!","v":{"$error":"#REF!"}},0,{"$error":"#REF!"},{"$error":"#REF!"},{"$error":"#REF!"},{"$error":"#REF!"},{"$error":"#REF!"},0,0,{"$error":"#REF!"},0,{"$error":"#REF!"},{"$error":"#REF!"},{"$error":"#REF!"}]
[{"$f":"#REF!","v":{"$error":"#REF!"}},{"$f":"#REF!","v":{"$error":"#REF!"}},{"$f":"#REF!","v":{"$error":"#REF!"}},0,{"$error":"#REF!"},{"$error":"#REF!"},{"$error":"#REF!"},{"$error":"#REF!"},{"$error":"#REF!"},0,0,{"$error":"#REF!"},0,{"$error":"#REF!"},{"$error":"#REF!"},{"$error":"#REF!"}]
[{"$f":"#REF!","v":{"$error":"#REF!"}},{"$f":"#REF!","v":{"$error":"#REF!"}},{"$f":"#REF!","v":{"$error":"#REF!"}},0,{"$error":"#REF!"},{"$error":"#REF!"},{"$error":"#REF!"},{"$error":"#REF!"},{"$error":"#REF!"},0,0,{"$error":"#REF!"},0,{"$error":"#REF!"},{"$error":"#REF!"},{"$error":"#REF!"}]
[{"$f":"#REF!","v":{"$error":"#REF!"}},{"$f":"#REF!","v":{"$error":"#REF!"}},{"$f":"#REF!","v":{"$error":"#REF!"}},0,{"$error":"#REF!"},{"$error":"#REF!"},{"$error":"#REF!"},{"$error":"#REF!"},{"$error":"#REF!"},0,0,{"$error":"#REF!"},0,{"$error":"#REF!"},{"$error":"#REF!"},{"$error":"#REF!"}]
[{"$f":"#REF!","v":{"$error":"#REF!"}},{"$f":"#REF!","v":{"$error":"#REF!"}},{"$f":"#REF!","v":{"$error":"#REF!"}},0,{"$error":"#REF!"},{"$error":"#REF!"},{"$error":"#REF!"},{"$error":"#REF!"},{"$error":"#REF!"},0,0,{"$error":"#REF!"},0,{"$error":"#REF!"},{"$error":"#REF!"},{"$error":"#REF!"}]
[{"$f":"#REF!","v":{"$error":"#REF!"}},{"$f":"#REF!","v":{"$error":"#REF!"}},{"$f":"#REF!","v":{"$error":"#REF!"}},0,{"$error":"#REF!"},{"$error":"#REF!"},{"$error":"#REF!"},{"$error":"#REF!"},{"$error":"#REF!"},0,0,{"$error":"#REF!"},0,{"$error":"#REF!"},{"$error":"#REF!"},{"$error":"#REF!"}]
[{"$f":"#REF!","v":{"$error":"#REF!"}},{"$f":"#REF!","v":{"$error":"#REF!"}},{"$f":"#REF!","v":{"$error":"#REF!"}},0,{"$error":"#REF!"},{"$error":"#REF!"},{"$error":"#REF!"},{"$error":"#REF!"},{"$error":"#REF!"},0,0,{"$error":"#REF!"},0,{"$error":"#REF!"},{"$error":"#REF!"},{"$error":"#REF!"}]
[{"$f":"#REF!","v":{"$error":"#REF!"}},{"$f":"#REF!","v":{"$error":"#REF!"}},{"$f":"#REF!","v":{"$error":"#REF!"}},0,{"$error":"#REF!"},{"$error":"#REF!"},{"$error":"#REF!"},{"$error":"#REF!"},{"$error":"#REF!"},0,0,{"$error":"#REF!"},0,{"$error":"#REF!"},{"$error":"#REF!"},{"$error":"#REF!"}]
[{"$f":"#REF!","v":{"$error":"#REF!"}},{"$f":"#REF!","v":{"$error":"#REF!"}},{"$f":"#REF!","v":{"$error":"#REF!"}},0,{"$error":"#REF!"},{"$error":"#REF!"},{"$error":"#REF!"},{"$error":"#REF!"},{"$error":"#REF!"},0,0,{"$error":"#REF!"},0,{"$error":"#REF!"},{"$error":"#REF!"},{"$error":"#REF!"}]
[{"$f":"#REF!","v":{"$error":"#REF!"}},{"$f":"#REF!","v":{"$error":"#REF!"}},{"$f":"#REF!","v":{"$error":"#REF!"}},0,{"$error":"#REF!"},{"$error":"#REF!"},{"$error":"#REF!"},{"$error":"#REF!"},{"$error":"#REF!"},0,0,{"$error":"#REF!"},0,{"$error":"#REF!"},{"$error":"#REF!"},{"$error":"#REF!"}]
[{"$f":"#REF!","v":{"$error":"#REF!"}},{"$f":"#REF!","v":{"$error":"#REF!"}},{"$f":"#REF!","v":{"$error":"#REF!"}},0,{"$error":"#REF!"},{"$error":"#REF!"},{"$error":"#REF!"},{"$error":"#REF!"},{"$error":"#REF!"},0,0,{"$error":"#REF!"},0,{"$error":"#REF!"},{"$error":"#REF!"},{"$error":"#REF!"}]
[{"$f":"#REF!","v":{"$error":"#REF!"}},{"$f":"#REF!","v":{"$error":"#REF!"}},{"$f":"#REF!","v":{"$error":"#REF!"}},0,{"$error":"#REF!"},{"$f":"F19*$D188","v":{"$error":"#REF!"}},{"$error":"#REF!"},{"$error":"#REF!"},{"$error":"#REF!"},0,0,{"$error":"#REF!"},0,{"$error":"#REF!"},{"$error":"#REF!"},{"$error":"#REF!"}]
[{"$f":"#REF!","v":{"$error":"#REF!"}},{"$f":"#REF!","v":{"$error":"#REF!"}},{"$f":"#REF!","v":{"$error":"#REF!"}},0,{"$error":"#REF!"},{"$error":"#REF!"},{"$error":"#REF!"},{"$error":"#REF!"},{"$error":"#REF!"},0,0,{"$error":"#REF!"},0,{"$error":"#REF!"},{"$error":"#REF!"},{"$error":"#REF!"}]
[{"$f":"#REF!","v":{"$error":"#REF!"}},{"$f":"#REF!","v":{"$error":"#REF!"}},{"$f":"#REF!","v":{"$error":"#REF!"}},0,{"$error":"#REF!"},{"$error":"#REF!"},{"$error":"#REF!"},{"$error":"#REF!"},{"$error":"#REF!"},0,0,{"$error":"#REF!"},0,{"$error":"#REF!"},{"$error":"#REF!"},{"$error":"#REF!"}]
[{"$f":"#REF!","v":{"$error":"#REF!"}},{"$f":"#REF!","v":{"$error":"#REF!"}},{"$f":"#REF!","v":{"$error":"#REF!"}},0,{"$error":"#REF!"},{"$error":"#REF!"},{"$error":"#REF!"},{"$error":"#REF!"},{"$error":"#REF!"},0,0,{"$error":"#REF!"},{"$error":"#REF!"},{"$error":"#REF!"},{"$error":"#REF!"},{"$error":"#REF!"}]
[{"$f":"#REF!","v":{"$error":"#REF!"}},{"$f":"#REF!","v":{"$error":"#REF!"}},{"$f":"#REF!","v":{"$error":"#REF!"}},0,{"$error":"#REF!"},{"$error":"#REF!"},{"$error":"#REF!"},{"$error":"#REF!"},{"$error":"#REF!"},0,0,{"$error":"#REF!"},0,{"$error":"#REF!"},{"$error":"#REF!"},{"$error":"#REF!"}]
[{"$f":"#REF!","v":{"$error":"#REF!"}},{"$f":"#REF!","v":{"$error":"#REF!"}},{"$f":"#REF!","v":{"$error":"#REF!"}},0,{"$error":"#REF!"},{"$error":"#REF!"},{"$error":"#REF!"},{"$error":"#REF!"},{"$error":"#REF!"},0,0,{"$error":"#REF!"},0,{"$error":"#REF!"},{"$error":"#REF!"},{"$error":"#REF!"}]
[{"$f":"#REF!","v":{"$error":"#REF!"}},{"$f":"#REF!","v":{"$error":"#REF!"}},{"$f":"#REF!","v":{"$error":"#REF!"}},0,{"$error":"#REF!"},{"$error":"#REF!"},{"$error":"#REF!"},{"$error":"#REF!"},{"$error":"#REF!"},0,0,{"$error":"#REF!"},0,{"$error":"#REF!"},{"$error":"#REF!"},{"$error":"#REF!"}]
[{"$f":"#REF!","v":{"$error":"#REF!"}},{"$f":"#REF!","v":{"$error":"#REF!"}},{"$f":"#REF!","v":{"$error":"#REF!"}},0,{"$error":"#REF!"},{"$error":"#REF!"},{"$error":"#REF!"},{"$error":"#REF!"},{"$error":"#REF!"},0,0,{"$error":"#REF!"},0,{"$error":"#REF!"},{"$error":"#REF!"},{"$error":"#REF!"}]
[{"$f":"#REF!","v":{"$error":"#REF!"}},{"$f":"#REF!","v":{"$error":"#REF!"}},{"$f":"#REF!","v":{"$error":"#REF!"}},0,{"$error":"#REF!"},{"$error":"#REF!"},{"$error":"#REF!"},{"$error":"#REF!"},{"$error":"#REF!"},0,0,{"$error":"#REF!"},0,{"$error":"#REF!"},{"$error":"#REF!"},{"$error":"#REF!"}]
[{"$f":"#REF!","v":{"$error":"#REF!"}},{"$f":"#REF!","v":{"$error":"#REF!"}},{"$f":"#REF!","v":{"$error":"#REF!"}},0,{"$error":"#REF!"},{"$error":"#REF!"},{"$error":"#REF!"},{"$error":"#REF!"},{"$error":"#REF!"},0,0,{"$error":"#REF!"},0,{"$error":"#REF!"},{"$error":"#REF!"},{"$error":"#REF!"}]
[{"$f":"#REF!","v":{"$error":"#REF!"}},{"$f":"#REF!","v":{"$error":"#REF!"}},{"$f":"#REF!","v":{"$error":"#REF!"}},0,{"$error":"#REF!"},{"$error":"#REF!"},{"$error":"#REF!"},{"$error":"#REF!"},{"$error":"#REF!"},0,0,{"$error":"#REF!"},0,{"$error":"#REF!"},{"$error":"#REF!"},{"$error":"#REF!"}]
[{"$f":"#REF!","v":{"$error":"#REF!"}},{"$f":"#REF!","v":{"$error":"#REF!"}},{"$f":"#REF!","v":{"$error":"#REF!"}},0,{"$error":"#REF!"},{"$error":"#REF!"},{"$error":"#REF!"},{"$error":"#REF!"},{"$error":"#REF!"},0,0,{"$error":"#REF!"},0,{"$error":"#REF!"},{"$error":"#REF!"},{"$error":"#REF!"}]
[{"$f":"#REF!","v":{"$error":"#REF!"}},{"$f":"#REF!","v":{"$error":"#REF!"}},{"$f":"#REF!","v":{"$error":"#REF!"}},0,{"$error":"#REF!"},{"$error":"#REF!"},{"$error":"#REF!"},{"$error":"#REF!"},{"$error":"#REF!"},0,0,{"$error":"#REF!"},0,{"$error":"#REF!"},{"$error":"#REF!"},{"$error":"#REF!"}]
[{"$f":"#REF!","v":{"$error":"#REF!"}},{"$f":"#REF!","v":{"$error":"#REF!"}},{"$f":"#REF!","v":{"$error":"#REF!"}},0,{"$error":"#REF!"},{"$error":"#REF!"},{"$error":"#REF!"},{"$error":"#REF!"},{"$error":"#REF!"},0,0,{"$error":"#REF!"},0,{"$error":"#REF!"},{"$error":"#REF!"},{"$error":"#REF!"}]
[{"$f":"#REF!","v":{"$error":"#REF!"}},{"$f":"#REF!","v":{"$error":"#REF!"}},{"$f":"#REF!","v":{"$error":"#REF!"}},0,{"$error":"#REF!"},{"$error":"#REF!"},{"$error":"#REF!"},{"$error":"#REF!"},{"$error":"#REF!"},0,0,{"$error":"#REF!"},0,{"$error":"#REF!"},{"$error":"#REF!"},{"$error":"#REF!"}]
[{"$f":"#REF!","v":{"$error":"#REF!"}},{"$f":"#REF!","v":{"$error":"#REF!"}},{"$f":"#REF!","v":{"$error":"#REF!"}},0,{"$error":"#REF!"},{"$error":"#REF!"},{"$error":"#REF!"},{"$error":"#REF!"},{"$error":"#REF!"},0,0,{"$error":"#REF!"},0,{"$error":"#REF!"},{"$error":"#REF!"},{"$error":"#REF!"}]
[{"$f":"#REF!","v":{"$error":"#REF!"}},{"$f":"#REF!","v":{"$error":"#REF!"}},{"$f":"#REF!","v":{"$error":"#REF!"}},0,{"$error":"#REF!"},{"$f":"F35*$D204","v":{"$error":"#REF!"}},{"$error":"#REF!"},{"$error":"#REF!"},{"$error":"#REF!"},0,0,{"$error":"#REF!"},0,{"$error":"#REF!"},{"$error":"#REF!"},{"$error":"#REF!"}]
[{"$f":"#REF!","v":{"$error":"#REF!"}},{"$f":"#REF!","v":{"$error":"#REF!"}},{"$f":"#REF!","v":{"$error":"#REF!"}},0,{"$error":"#REF!"},{"$error":"#REF!"},{"$error":"#REF!"},{"$error":"#REF!"},{"$error":"#REF!"},0,0,{"$error":"#REF!"},0,{"$error":"#REF!"},{"$error":"#REF!"},{"$error":"#REF!"}]
[{"$f":"#REF!","v":{"$error":"#REF!"}},{"$f":"#REF!","v":{"$error":"#REF!"}},{"$f":"#REF!","v":{"$error":"#REF!"}},0,{"$error":"#REF!"},{"$error":"#REF!"},{"$error":"#REF!"},{"$error":"#REF!"},{"$error":"#REF!"},0,0,{"$error":"#REF!"},0,{"$error":"#REF!"},{"$error":"#REF!"},{"$error":"#REF!"}]
[{"$f":"#REF!","v":{"$error":"#REF!"}},{"$f":"#REF!","v":{"$error":"#REF!"}},{"$f":"#REF!","v":{"$error":"#REF!"}},0,{"$error":"#REF!"},{"$error":"#REF!"},{"$error":"#REF!"},{"$error":"#REF!"},{"$error":"#REF!"},0,0,{"$error":"#REF!"},0,{"$error":"#REF!"},{"$error":"#REF!"},{"$error":"#REF!"}]
[{"$f":"#REF!","v":{"$error":"#REF!"}},{"$f":"#REF!","v":{"$error":"#REF!"}},{"$f":"#REF!","v":{"$error":"#REF!"}},0,{"$error":"#REF!"},{"$error":"#REF!"},{"$error":"#REF!"},{"$error":"#REF!"},{"$error":"#REF!"},0,0,{"$error":"#REF!"},0,{"$error":"#REF!"},{"$error":"#REF!"},{"$error":"#REF!"}]
[{"$f":"#REF!","v":{"$error":"#REF!"}},{"$f":"#REF!","v":{"$error":"#REF!"}},{"$f":"#REF!","v":{"$error":"#REF!"}},0,{"$error":"#REF!"},{"$error":"#REF!"},{"$error":"#REF!"},{"$error":"#REF!"},{"$error":"#REF!"},0,0,{"$error":"#REF!"},0,{"$error":"#REF!"},{"$error":"#REF!"},{"$error":"#REF!"}]
[{"$f":"#REF!","v":{"$error":"#REF!"}},{"$f":"#REF!","v":{"$error":"#REF!"}},{"$f":"#REF!","v":{"$error":"#REF!"}},0,{"$error":"#REF!"},{"$error":"#REF!"},{"$error":"#REF!"},{"$error":"#REF!"},{"$error":"#REF!"},0,0,{"$error":"#REF!"},0,{"$error":"#REF!"},{"$error":"#REF!"},{"$error":"#REF!"}]
[{"$f":"#REF!","v":{"$error":"#REF!"}},{"$f":"#REF!","v":{"$error":"#REF!"}},{"$f":"#REF!","v":{"$error":"#REF!"}},0,{"$error":"#REF!"},{"$error":"#REF!"},{"$error":"#REF!"},{"$error":"#REF!"},{"$error":"#REF!"},0,0,{"$error":"#REF!"},0,{"$error":"#REF!"},{"$error":"#REF!"},{"$error":"#REF!"}]
[{"$f":"#REF!","v":{"$error":"#REF!"}},{"$f":"#REF!","v":{"$error":"#REF!"}},{"$f":"#REF!","v":{"$error":"#REF!"}},0,{"$error":"#REF!"},{"$error":"#REF!"},{"$error":"#REF!"},{"$error":"#REF!"},{"$error":"#REF!"},0,0,{"$error":"#REF!"},0,{"$error":"#REF!"},{"$error":"#REF!"},{"$error":"#REF!"}]
[{"$f":"#REF!","v":{"$error":"#REF!"}},{"$f":"#REF!","v":{"$error":"#REF!"}},{"$f":"#REF!","v":{"$error":"#REF!"}},0,{"$error":"#REF!"},{"$error":"#REF!"},{"$error":"#REF!"},{"$error":"#REF!"},{"$error":"#REF!"},0,0,{"$error":"#REF!"},0,{"$error":"#REF!"},{"$error":"#REF!"},{"$error":"#REF!"}]
[{"$f":"#REF!","v":{"$error":"#REF!"}},{"$f":"#REF!","v":{"$error":"#REF!"}},{"$f":"#REF!","v":{"$error":"#REF!"}},0,{"$error":"#REF!"},{"$error":"#REF!"},{"$error":"#REF!"},{"$error":"#REF!"},{"$error":"#REF!"},0,0,{"$error":"#REF!"},0,{"$error":"#REF!"},{"$error":"#REF!"},{"$error":"#REF!"}]
[{"$f":"#REF!","v":{"$error":"#REF!"}},{"$f":"#REF!","v":{"$error":"#REF!"}},{"$f":"#REF!","v":{"$error":"#REF!"}},0,{"$error":"#REF!"},{"$error":"#REF!"},{"$error":"#REF!"},{"$error":"#REF!"},{"$error":"#REF!"},0,0,{"$error":"#REF!"},0,{"$error":"#REF!"},{"$error":"#REF!"},{"$error":"#REF!"}]
[{"$f":"#REF!","v":{"$error":"#REF!"}},{"$f":"#REF!","v":{"$error":"#REF!"}},{"$f":"#REF!","v":{"$error":"#REF!"}},0,{"$error":"#REF!"},{"$error":"#REF!"},{"$error":"#REF!"},{"$error":"#REF!"},{"$error":"#REF!"},0,0,{"$error":"#REF!"},0,{"$error":"#REF!"},{"$error":"#REF!"},{"$error":"#REF!"}]
[{"$f":"#REF!","v":{"$error":"#REF!"}},{"$f":"#REF!","v":{"$error":"#REF!"}},{"$f":"#REF!","v":{"$error":"#REF!"}},0,{"$error":"#REF!"},{"$error":"#REF!"},{"$error":"#REF!"},{"$error":"#REF!"},{"$error":"#REF!"},0,0,{"$error":"#REF!"},0,{"$error":"#REF!"},{"$error":"#REF!"},{"$error":"#REF!"}]
[{"$f":"#REF!","v":{"$error":"#REF!"}},{"$f":"#REF!","v":{"$error":"#REF!"}},{"$f":"#REF!","v":{"$error":"#REF!"}},0,{"$error":"#REF!"},{"$error":"#REF!"},{"$error":"#REF!"},{"$error":"#REF!"},{"$error":"#REF!"},0,0,{"$error":"#REF!"},0,{"$error":"#REF!"},{"$error":"#REF!"},{"$error":"#REF!"}]
[{"$f":"#REF!","v":{"$error":"#REF!"}},{"$f":"#REF!","v":{"$error":"#REF!"}},{"$f":"#REF!","v":{"$error":"#REF!"}},0,{"$error":"#REF!"},{"$error":"#REF!"},{"$error":"#REF!"},{"$error":"#REF!"},{"$error":"#REF!"},0,0,{"$error":"#REF!"},0,{"$error":"#REF!"},{"$error":"#REF!"},{"$error":"#REF!"}]
[{"$f":"#REF!","v":{"$error":"#REF!"}},{"$f":"#REF!","v":{"$error":"#REF!"}},{"$f":"#REF!","v":{"$error":"#REF!"}},0,{"$error":"#REF!"},{"$f":"F51*$D220","v":{"$error":"#REF!"}},{"$error":"#REF!"},{"$error":"#REF!"},{"$error":"#REF!"},0,0,{"$error":"#REF!"},0,{"$error":"#REF!"},{"$error":"#REF!"},{"$error":"#REF!"}]
[{"$f":"#REF!","v":{"$error":"#REF!"}},{"$f":"#REF!","v":{"$error":"#REF!"}},{"$f":"#REF!","v":{"$error":"#REF!"}},0,{"$error":"#REF!"},{"$error":"#REF!"},{"$error":"#REF!"},{"$error":"#REF!"},{"$error":"#REF!"},0,0,{"$error":"#REF!"},0,{"$error":"#REF!"},{"$error":"#REF!"},{"$error":"#REF!"}]
[{"$f":"#REF!","v":{"$error":"#REF!"}},{"$f":"#REF!","v":{"$error":"#REF!"}},{"$f":"#REF!","v":{"$error":"#REF!"}},0,{"$error":"#REF!"},{"$error":"#REF!"},{"$error":"#REF!"},{"$error":"#REF!"},{"$error":"#REF!"},0,0,{"$error":"#REF!"},0,{"$error":"#REF!"},{"$error":"#REF!"},{"$error":"#REF!"}]
[{"$f":"#REF!","v":{"$error":"#REF!"}},{"$f":"#REF!","v":{"$error":"#REF!"}},{"$f":"#REF!","v":{"$error":"#REF!"}},0,{"$error":"#REF!"},{"$error":"#REF!"},{"$error":"#REF!"},{"$error":"#REF!"},{"$error":"#REF!"},0,0,{"$error":"#REF!"},0,{"$error":"#REF!"},{"$error":"#REF!"},{"$error":"#REF!"}]
[{"$f":"#REF!","v":{"$error":"#REF!"}},{"$f":"#REF!","v":{"$error":"#REF!"}},{"$f":"#REF!","v":{"$error":"#REF!"}},0,{"$error":"#REF!"},{"$error":"#REF!"},{"$error":"#REF!"},{"$error":"#REF!"},{"$error":"#REF!"},0,0,{"$error":"#REF!"},0,{"$error":"#REF!"},{"$error":"#REF!"},{"$error":"#REF!"}]
[{"$f":"#REF!","v":{"$error":"#REF!"}},{"$f":"#REF!","v":{"$error":"#REF!"}},{"$f":"#REF!","v":{"$error":"#REF!"}},0,{"$error":"#REF!"},{"$error":"#REF!"},{"$error":"#REF!"},{"$error":"#REF!"},{"$error":"#REF!"},0,0,{"$error":"#REF!"},0,{"$error":"#REF!"},{"$error":"#REF!"},{"$error":"#REF!"}]
[{"$f":"#REF!","v":{"$error":"#REF!"}},{"$f":"#REF!","v":{"$error":"#REF!"}},{"$f":"#REF!","v":{"$error":"#REF!"}},0,{"$error":"#REF!"},{"$error":"#REF!"},{"$error":"#REF!"},{"$error":"#REF!"},{"$error":"#REF!"},0,0,{"$error":"#REF!"},0,{"$error":"#REF!"},{"$error":"#REF!"},{"$error":"#REF!"}]
[{"$f":"#REF!","v":{"$error":"#REF!"}},{"$f":"#REF!","v":{"$error":"#REF!"}},{"$f":"#REF!","v":{"$error":"#REF!"}},0,{"$error":"#REF!"},{"$error":"#REF!"},{"$error":"#REF!"},{"$error":"#REF!"},{"$error":"#REF!"},0,0,{"$error":"#REF!"},0,{"$error":"#REF!"},{"$error":"#REF!"},{"$error":"#REF!"}]
[{"$f":"#REF!","v":{"$error":"#REF!"}},{"$f":"#REF!","v":{"$error":"#REF!"}},{"$f":"#REF!","v":{"$error":"#REF!"}},0,{"$error":"#REF!"},{"$error":"#REF!"},{"$error":"#REF!"},{"$error":"#REF!"},{"$error":"#REF!"},0,0,{"$error":"#REF!"},0,{"$error":"#REF!"},{"$error":"#REF!"},{"$error":"#REF!"}]
[{"$f":"#REF!","v":{"$error":"#REF!"}},{"$f":"#REF!","v":{"$error":"#REF!"}},{"$f":"#REF!","v":{"$error":"#REF!"}},0,{"$error":"#REF!"},{"$error":"#REF!"},{"$error":"#REF!"},{"$error":"#REF!"},{"$error":"#REF!"},0,0,{"$error":"#REF!"},0,{"$error":"#REF!"},{"$error":"#REF!"},{"$error":"#REF!"}]
[{"$f":"#REF!","v":{"$error":"#REF!"}},{"$f":"#REF!","v":{"$error":"#REF!"}},{"$f":"#REF!","v":{"$error":"#REF!"}},0,{"$error":"#REF!"},{"$error":"#REF!"},{"$error":"#REF!"},{"$error":"#REF!"},{"$error":"#REF!"},0,0,{"$error":"#REF!"},0,{"$error":"#REF!"},{"$error":"#REF!"},{"$error":"#REF!"}]
[{"$f":"#REF!","v":{"$error":"#REF!"}},{"$f":"#REF!","v":{"$error":"#REF!"}},{"$f":"#REF!","v":{"$error":"#REF!"}},0,{"$error":"#REF!"},{"$error":"#REF!"},{"$error":"#REF!"},{"$error":"#REF!"},{"$error":"#REF!"},0,0,{"$error":"#REF!"},0,{"$error":"#REF!"},{"$error":"#REF!"},{"$error":"#REF!"}]
[{"$f":"#REF!","v":{"$error":"#REF!"}},{"$f":"#REF!","v":{"$error":"#REF!"}},{"$f":"#REF!","v":{"$error":"#REF!"}},0,{"$error":"#REF!"},{"$error":"#REF!"},{"$error":"#REF!"},{"$error":"#REF!"},{"$error":"#REF!"},0,0,{"$error":"#REF!"},0,{"$error":"#REF!"},{"$error":"#REF!"},{"$error":"#REF!"}]
[{"$f":"#REF!","v":{"$error":"#REF!"}},{"$f":"#REF!","v":{"$error":"#REF!"}},{"$f":"#REF!","v":{"$error":"#REF!"}},0,{"$error":"#REF!"},{"$error":"#REF!"},{"$error":"#REF!"},{"$error":"#REF!"},{"$error":"#REF!"},0,0,{"$error":"#REF!"},0,{"$error":"#REF!"},{"$error":"#REF!"},{"$error":"#REF!"}]
[{"$f":"#REF!","v":{"$error":"#REF!"}},{"$f":"#REF!","v":{"$error":"#REF!"}},{"$f":"#REF!","v":{"$error":"#REF!"}},0,{"$error":"#REF!"},{"$error":"#REF!"},{"$error":"#REF!"},{"$error":"#REF!"},{"$error":"#REF!"},0,0,{"$error":"#REF!"},0,{"$error":"#REF!"},{"$error":"#REF!"},{"$error":"#REF!"}]
[{"$f":"#REF!","v":{"$error":"#REF!"}},{"$f":"#REF!","v":{"$error":"#REF!"}},{"$f":"#REF!","v":{"$error":"#REF!"}},0,{"$error":"#REF!"},{"$error":"#REF!"},{"$error":"#REF!"},{"$error":"#REF!"},{"$error":"#REF!"},0,0,{"$error":"#REF!"},0,{"$error":"#REF!"},{"$error":"#REF!"},{"$error":"#REF!"}]
[{"$f":"#REF!","v":{"$error":"#REF!"}},{"$f":"#REF!","v":{"$error":"#REF!"}},{"$f":"#REF!","v":{"$error":"#REF!"}},{"$f":"IFERROR(AVERAGEIFS(servicedollars,rating,A236,rating,B236,pressure,C236),0)","v":0},{"$f":"E159","v":{"$error":"#REF!"}},{"$f":"F67*$D236","v":{"$error":"#REF!"}},{"$error":"#REF!"},{"$error":"#REF!"},{"$error":"#REF!"},0,0,{"$error":"#REF!"},0,{"$error":"#REF!"},{"$f":"N236*$N$243","v":{"$error":"#REF!"}},{"$error":"#REF!"}]
[{"$f":"#REF!","v":{"$error":"#REF!"}},{"$f":"#REF!","v":{"$error":"#REF!"}},{"$f":"#REF!","v":{"$error":"#REF!"}},{"$f":"IFERROR(AVERAGEIFS(servicedollars,rating,A237,rating,B237,pressure,C237),0)","v":0},{"$f":"E160","v":{"$error":"#REF!"}},{"$error":"#REF!"},{"$error":"#REF!"},{"$error":"#REF!"},{"$error":"#REF!"},0,0,{"$error":"#REF!"},0,{"$f":"SUM(F237:M237)-I237","v":{"$error":"#REF!"}},{"$f":"N237*$N$243","v":{"$error":"#REF!"}},{"$f":"I237-J237-K237","v":{"$error":"#REF!"}}]
[{"$f":"#REF!","v":{"$error":"#REF!"}},{"$f":"#REF!","v":{"$error":"#REF!"}},{"$f":"#REF!","v":{"$error":"#REF!"}},{"$f":"IFERROR(AVERAGEIFS(servicedollars,rating,A238,rating,B238,pressure,C238),0)","v":0},{"$f":"E161","v":{"$error":"#REF!"}},{"$error":"#REF!"},{"$error":"#REF!"},{"$error":"#REF!"},{"$error":"#REF!"},0,0,{"$error":"#REF!"},0,{"$f":"SUM(F238:M238)-I238","v":{"$error":"#REF!"}},{"$f":"N238*$N$243","v":{"$error":"#REF!"}},{"$error":"#REF!"}]
[{"$f":"#REF!","v":{"$error":"#REF!"}},{"$f":"#REF!","v":{"$error":"#REF!"}},{"$f":"#REF!","v":{"$error":"#REF!"}},{"$f":"IFERROR(AVERAGEIFS(servicedollars,rating,A239,rating,B239,pressure,C239),0)","v":0},{"$f":"E162","v":{"$error":"#REF!"}},{"$error":"#REF!"},{"$error":"#REF!"},{"$error":"#REF!"},{"$error":"#REF!"},0,0,{"$error":"#REF!"},0,{"$f":"SUM(F239:M239)-I239","v":{"$error":"#REF!"}},{"$f":"N239*$N$243","v":{"$error":"#REF!"}},{"$error":"#REF!"}]
[{"$f":"#REF!","v":{"$error":"#REF!"}},{"$f":"#REF!","v":{"$error":"#REF!"}},{"$f":"#REF!","v":{"$error":"#REF!"}},{"$f":"IFERROR(AVERAGEIFS(servicedollars,rating,A240,rating,B240,pressure,C240),0)","v":0},{"$f":"E163","v":{"$error":"#REF!"}},{"$error":"#REF!"},{"$error":"#REF!"},{"$error":"#REF!"},{"$error":"#REF!"},0,0,{"$error":"#REF!"},0,{"$f":"SUM(F240:M240)-I240","v":{"$error":"#REF!"}},{"$f":"N240*$N$243","v":{"$error":"#REF!"}},{"$error":"#REF!"}]
[null,"unadjusted total cost",null,null,null,{"$f":"SUM(F171:F240)","v":{"$error":"#REF!"}},{"$error":"#REF!"},{"$error":"#REF!"},{"$error":"#REF!"},{"$f":"SUM(J171:J240)","v":0},{"$f":"SUM(K171:K240)","v":0},{"$error":"#REF!"},{"$error":"#REF!"},{"$f":"SUM(F241:M241)-I241","v":{"$error":"#REF!"}},{"$f":"SUM(O172:O240)","v":{"$error":"#REF!"}},{"$error":"#REF!"}]
[null,null,null,null,null,{"$f":"F241/$N$241","v":{"$error":"#REF!"}},{"$error":"#REF!"},{"$error":"#REF!"},{"$error":"#REF!"},{"$error":"#REF!"},{"$error":"#REF!"},{"$error":"#REF!"},{"$error":"#REF!"},null,null,{"$error":"#REF!"}]
[null,"adjusted total cost",null,null,null,{"$f":"F241/$N$241*$O$243","v":{"$error":"#REF!"}},{"$error":"#REF!"},{"$error":"#REF!"},{"$error":"#REF!"},{"$error":"#REF!"},{"$error":"#REF!"},{"$error":"#REF!"},{"$error":"#REF!"},{"$f":"O243/N241","v":{"$error":"#REF!"}},{"$f":"#REF!","v":{"$error":"#REF!"}},{"$error":"#REF!"}]
[]
[]
[null,"MTR & REG",null,"unadjusted"]
[null,"mtr rating",null,"avg cost","sample #",{"$f":"+F93","v":"GS"},"FS","IS","TS",{"$f":"+J93","v":"TSS"},{"$f":"+K93","v":"TSL"},"FT1","NGV","Total Mtr. & Reg.","Adj. Mtr. & Reg.","TS Check"]
[]
[{"$f":"#REF!","v":{"$error":"#REF!"}},{"$f":"#REF!","v":{"$error":"#REF!"}},{"$f":"#REF!","v":{"$error":"#REF!"}},{"$f":"IFERROR(AVERAGEIFS(mtrdollars,rating,A249,rating,B249,pressure,C249),0)","v":0},{"$f":"COUNTIFS(rating,A249,rating,B249,pressure,C249)","v":{"$error":"#REF!"}},{"$f":"F3*$D249","v":{"$error":"#REF!"}},{"$f":"G3*$D249","v":{"$error":"#REF!"}},{"$error":"#REF!"},{"$error":"#REF!"},{"$f":"J3*$D249","v":0},0,{"$error":"#REF!"},0,{"$f":"SUM(F249:M249)-I249","v":{"$error":"#REF!"}},{"$f":"N249*$N$320","v":{"$error":"#REF!"}},{"$f":"I249-J249-K249","v":{"$error":"#REF!"}}]
[{"$f":"#REF!","v":{"$error":"#REF!"}},{"$f":"#REF!","v":{"$error":"#REF!"}},{"$f":"#REF!","v":{"$error":"#REF!"}},0,{"$error":"#REF!"},{"$error":"#REF!"},{"$error":"#REF!"},{"$error":"#REF!"},{"$error":"#REF!"},0,0,{"$error":"#REF!"},0,{"$f":"SUM(F250:M250)-I250","v":{"$error":"#REF!"}},{"$error":"#REF!"},{"$f":"I250-J250-K250","v":{"$error":"#REF!"}}]
[{"$f":"#REF!","v":{"$error":"#REF!"}},{"$f":"#REF!","v":{"$error":"#REF!"}},{"$f":"#REF!","v":{"$error":"#REF!"}},0,{"$error":"#REF!"},{"$error":"#REF!"},{"$error":"#REF!"},{"$error":"#REF!"},{"$error":"#REF!"},0,0,{"$error":"#REF!"},0,{"$error":"#REF!"},{"$error":"#REF!"},{"$error":"#REF!"}]
[{"$f":"#REF!","v":{"$error":"#REF!"}},{"$f":"#REF!","v":{"$error":"#REF!"}},{"$f":"#REF!","v":{"$error":"#REF!"}},0,{"$error":"#REF!"},{"$error":"#REF!"},{"$error":"#REF!"},{"$error":"#REF!"},{"$error":"#REF!"},0,0,{"$error":"#REF!"},0,{"$error":"#REF!"},{"$error":"#REF!"},{"$error":"#REF!"}]
[{"$f":"#REF!","v":{"$error":"#REF!"}},{"$f":"#REF!","v":{"$error":"#REF!"}},{"$f":"#REF!","v":{"$error":"#REF!"}},0,{"$error":"#REF!"},{"$error":"#REF!"},{"$error":"#REF!"},{"$error":"#REF!"},{"$error":"#REF!"},0,0,{"$error":"#REF!"},0,{"$error":"#REF!"},{"$error":"#REF!"},{"$error":"#REF!"}]
[{"$f":"#REF!","v":{"$error":"#REF!"}},{"$f":"#REF!","v":{"$error":"#REF!"}},{"$f":"#REF!","v":{"$error":"#REF!"}},0,{"$error":"#REF!"},{"$error":"#REF!"},{"$error":"#REF!"},{"$error":"#REF!"},{"$error":"#REF!"},0,0,{"$error":"#REF!"},0,{"$error":"#REF!"},{"$error":"#REF!"},{"$error":"#REF!"}]
[{"$f":"#REF!","v":{"$error":"#REF!"}},{"$f":"#REF!","v":{"$error":"#REF!"}},{"$f":"#REF!","v":{"$error":"#REF!"}},0,{"$error":"#REF!"},{"$error":"#REF!"},{"$error":"#REF!"},{"$error":"#REF!"},{"$error":"#REF!"},0,0,{"$error":"#REF!"},0,{"$error":"#REF!"},{"$error":"#REF!"},{"$error":"#REF!"}]
[{"$f":"#REF!","v":{"$error":"#REF!"}},{"$f":"#REF!","v":{"$error":"#REF!"}},{"$f":"#REF!","v":{"$error":"#REF!"}},0,{"$error":"#REF!"},{"$error":"#REF!"},{"$error":"#REF!"},{"$error":"#REF!"},{"$error":"#REF!"},0,0,{"$error":"#REF!"},0,{"$error":"#REF!"},{"$error":"#REF!"},{"$error":"#REF!"}]
[{"$f":"#REF!","v":{"$error":"#REF!"}},{"$f":"#REF!","v":{"$error":"#REF!"}},{"$f":"#REF!","v":{"$error":"#REF!"}},0,{"$error":"#REF!"},{"$error":"#REF!"},{"$error":"#REF!"},{"$error":"#REF!"},{"$error":"#REF!"},0,0,{"$error":"#REF!"},0,{"$error":"#REF!"},{"$error":"#REF!"},{"$error":"#REF!"}]
[{"$f":"#REF!","v":{"$error":"#REF!"}},{"$f":"#REF!","v":{"$error":"#REF!"}},{"$f":"#REF!","v":{"$error":"#REF!"}},0,{"$error":"#REF!"},{"$error":"#REF!"},{"$error":"#REF!"},{"$error":"#REF!"},{"$error":"#REF!"},0,0,{"$error":"#REF!"},0,{"$error":"#REF!"},{"$error":"#REF!"},{"$error":"#REF!"}]
[{"$f":"#REF!","v":{"$error":"#REF!"}},{"$f":"#REF!","v":{"$error":"#REF!"}},{"$f":"#REF!","v":{"$error":"#REF!"}},0,{"$error":"#REF!"},{"$error":"#REF!"},{"$error":"#REF!"},{"$error":"#REF!"},{"$error":"#REF!"},0,0,{"$error":"#REF!"},0,{"$error":"#REF!"},{"$error":"#REF!"},{"$error":"#REF!"}]
[{"$f":"#REF!","v":{"$error":"#REF!"}},{"$f":"#REF!","v":{"$error":"#REF!"}},{"$f":"#REF!","v":{"$error":"#REF!"}},0,{"$error":"#REF!"},{"$error":"#REF!"},{"$error":"#REF!"},{"$error":"#REF!"},{"$error":"#REF!"},0,0,{"$error":"#REF!"},0,{"$error":"#REF!"},{"$error":"#REF!"},{"$error":"#REF!"}]
[{"$f":"#REF!","v":{"$error":"#REF!"}},{"$f":"#REF!","v":{"$error":"#REF!"}},{"$f":"#REF!","v":{"$error":"#REF!"}},0,{"$error":"#REF!"},{"$error":"#REF!"},{"$error":"#REF!"},{"$error":"#REF!"},{"$error":"#REF!"},0,0,{"$error":"#REF!"},0,{"$error":"#REF!"},{"$error":"#REF!"},{"$error":"#REF!"}]
[{"$f":"#REF!","v":{"$error":"#REF!"}},{"$f":"#REF!","v":{"$error":"#REF!"}},{"$f":"#REF!","v":{"$error":"#REF!"}},0,{"$error":"#REF!"},{"$error":"#REF!"},{"$error":"#REF!"},{"$error":"#REF!"},{"$error":"#REF!"},0,0,{"$error":"#REF!"},0,{"$error":"#REF!"},{"$error":"#REF!"},{"$error":"#REF!"}]
[{"$f":"#REF!","v":{"$error":"#REF!"}},{"$f":"#REF!","v":{"$error":"#REF!"}},{"$f":"#REF!","v":{"$error":"#REF!"}},0,{"$error":"#REF!"},{"$error":"#REF!"},{"$error":"#REF!"},{"$error":"#REF!"},{"$error":"#REF!"},0,0,{"$error":"#REF!"},0,{"$error":"#REF!"},{"$error":"#REF!"},{"$error":"#REF!"}]
[{"$f":"#REF!","v":{"$error":"#REF!"}},{"$f":"#REF!","v":{"$error":"#REF!"}},{"$f":"#REF!","v":{"$error":"#REF!"}},0,{"$error":"#REF!"},{"$error":"#REF!"},{"$error":"#REF!"},{"$error":"#REF!"},{"$error":"#REF!"},0,0,{"$error":"#REF!"},0,{"$error":"#REF!"},{"$error":"#REF!"},{"$error":"#REF!"}]
[{"$f":"#REF!","v":{"$error":"#REF!"}},{"$f":"#REF!","v":{"$error":"#REF!"}},{"$f":"#REF!","v":{"$error":"#REF!"}},0,{"$error":"#REF!"},{"$f":"F19*$D265","v":{"$error":"#REF!"}},{"$error":"#REF!"},{"$error":"#REF!"},{"$error":"#REF!"},0,0,{"$error":"#REF!"},0,{"$error":"#REF!"},{"$error":"#REF!"},{"$error":"#REF!"}]
[{"$f":"#REF!","v":{"$error":"#REF!"}},{"$f":"#REF!","v":{"$error":"#REF!"}},{"$f":"#REF!","v":{"$error":"#REF!"}},0,{"$error":"#REF!"},{"$error":"#REF!"},{"$error":"#REF!"},{"$error":"#REF!"},{"$error":"#REF!"},0,0,{"$error":"#REF!"},0,{"$error":"#REF!"},{"$error":"#REF!"},{"$error":"#REF!"}]
[{"$f":"#REF!","v":{"$error":"#REF!"}},{"$f":"#REF!","v":{"$error":"#REF!"}},{"$f":"#REF!","v":{"$error":"#REF!"}},0,{"$error":"#REF!"},{"$error":"#REF!"},{"$error":"#REF!"},{"$error":"#REF!"},{"$error":"#REF!"},0,0,{"$error":"#REF!"},0,{"$error":"#REF!"},{"$error":"#REF!"},{"$error":"#REF!"}]
[{"$f":"#REF!","v":{"$error":"#REF!"}},{"$f":"#REF!","v":{"$error":"#REF!"}},{"$f":"#REF!","v":{"$error":"#REF!"}},0,{"$error":"#REF!"},{"$error":"#REF!"},{"$error":"#REF!"},{"$error":"#REF!"},{"$error":"#REF!"},0,0,{"$error":"#REF!"},0,{"$error":"#REF!"},{"$error":"#REF!"},{"$error":"#REF!"}]
[{"$f":"#REF!","v":{"$error":"#REF!"}},{"$f":"#REF!","v":{"$error":"#REF!"}},{"$f":"#REF!","v":{"$error":"#REF!"}},0,{"$error":"#REF!"},{"$error":"#REF!"},{"$error":"#REF!"},{"$error":"#REF!"},{"$error":"#REF!"},0,0,{"$error":"#REF!"},0,{"$error":"#REF!"},{"$error":"#REF!"},{"$error":"#REF!"}]
[{"$f":"#REF!","v":{"$error":"#REF!"}},{"$f":"#REF!","v":{"$error":"#REF!"}},{"$f":"#REF!","v":{"$error":"#REF!"}},0,{"$error":"#REF!"},{"$error":"#REF!"},{"$error":"#REF!"},{"$error":"#REF!"},{"$error":"#REF!"},0,0,{"$error":"#REF!"},0,{"$error":"#REF!"},{"$error":"#REF!"},{"$error":"#REF!"}]
[{"$f":"#REF!","v":{"$error":"#REF!"}},{"$f":"#REF!","v":{"$error":"#REF!"}},{"$f":"#REF!","v":{"$error":"#REF!"}},0,{"$error":"#REF!"},{"$error":"#REF!"},{"$error":"#REF!"},{"$error":"#REF!"},{"$error":"#REF!"},0,0,{"$error":"#REF!"},0,{"$error":"#REF!"},{"$error":"#REF!"},{"$error":"#REF!"}]
[{"$f":"#REF!","v":{"$error":"#REF!"}},{"$f":"#REF!","v":{"$error":"#REF!"}},{"$f":"#REF!","v":{"$error":"#REF!"}},0,{"$error":"#REF!"},{"$error":"#REF!"},{"$error":"#REF!"},{"$error":"#REF!"},{"$error":"#REF!"},0,0,{"$error":"#REF!"},0,{"$error":"#REF!"},{"$error":"#REF!"},{"$error":"#REF!"}]
[{"$f":"#REF!","v":{"$error":"#REF!"}},{"$f":"#REF!","v":{"$error":"#REF!"}},{"$f":"#REF!","v":{"$error":"#REF!"}},0,{"$error":"#REF!"},{"$error":"#REF!"},{"$error":"#REF!"},{"$error":"#REF!"},{"$error":"#REF!"},0,0,{"$error":"#REF!"},0,{"$error":"#REF!"},{"$error":"#REF!"},{"$error":"#REF!"}]
[{"$f":"#REF!","v":{"$error":"#REF!"}},{"$f":"#REF!","v":{"$error":"#REF!"}},{"$f":"#REF!","v":{"$error":"#REF!"}},0,{"$error":"#REF!"},{"$error":"#REF!"},{"$error":"#REF!"},{"$error":"#REF!"},{"$error":"#REF!"},0,0,{"$error":"#REF!"},0,{"$error":"#REF!"},{"$error":"#REF!"},{"$error":"#REF!"}]
[{"$f":"#REF!","v":{"$error":"#REF!"}},{"$f":"#REF!","v":{"$error":"#REF!"}},{"$f":"#REF!","v":{"$error":"#REF!"}},0,{"$error":"#REF!"},{"$error":"#REF!"},{"$error":"#REF!"},{"$error":"#REF!"},{"$error":"#REF!"},0,0,{"$error":"#REF!"},0,{"$error":"#REF!"},{"$error":"#REF!"},{"$error":"#REF!"}]
[{"$f":"#REF!","v":{"$error":"#REF!"}},{"$f":"#REF!","v":{"$error":"#REF!"}},{"$f":"#REF!","v":{"$error":"#REF!"}},0,{"$error":"#REF!"},{"$error":"#REF!"},{"$error":"#REF!"},{"$error":"#REF!"},{"$error":"#REF!"},0,0,{"$error":"#REF!"},0,{"$error":"#REF!"},{"$error":"#REF!"},{"$error":"#REF!"}]
[{"$f":"#REF!","v":{"$error":"#REF!"}},{"$f":"#REF!","v":{"$error":"#REF!"}},{"$f":"#REF!","v":{"$error":"#REF!"}},0,{"$error":"#REF!"},{"$error":"#REF!"},{"$error":"#REF!"},{"$error":"#REF!"},{"$error":"#REF!"},0,0,{"$error":"#REF!"},0,{"$error":"#REF!"},{"$error":"#REF!"},{"$error":"#REF!"}]
[{"$f":"#REF!","v":{"$error":"#REF!"}},{"$f":"#REF!","v":{"$error":"#REF!"}},{"$f":"#REF!","v":{"$error":"#REF!"}},0,{"$error":"#REF!"},{"$error":"#REF!"},{"$error":"#REF!"},{"$error":"#REF!"},{"$error":"#REF!"},0,0,{"$error":"#REF!"},0,{"$error":"#REF!"},{"$error":"#REF!"},{"$error":"#REF!"}]
[{"$f":"#REF!","v":{"$error":"#REF!"}},{"$f":"#REF!","v":{"$error":"#REF!"}},{"$f":"#REF!","v":{"$error":"#REF!"}},0,{"$error":"#REF!"},{"$error":"#REF!"},{"$error":"#REF!"},{"$error":"#REF!"},{"$error":"#REF!"},0,0,{"$error":"#REF!"},0,{"$error":"#REF!"},{"$error":"#REF!"},{"$error":"#REF!"}]
[{"$f":"#REF!","v":{"$error":"#REF!"}},{"$f":"#REF!","v":{"$error":"#REF!"}},{"$f":"#REF!","v":{"$error":"#REF!"}},0,{"$error":"#REF!"},{"$error":"#REF!"},{"$error":"#REF!"},{"$error":"#REF!"},{"$error":"#REF!"},0,0,{"$error":"#REF!"},0,{"$error":"#REF!"},{"$error":"#REF!"},{"$error":"#REF!"}]
[{"$f":"#REF!","v":{"$error":"#REF!"}},{"$f":"#REF!","v":{"$error":"#REF!"}},{"$f":"#REF!","v":{"$error":"#REF!"}},{"$f":"IFERROR(AVERAGEIFS(mtrdollars,rating,A281,rating,B281,pressure,C281),0)","v":0},{"$error":"#REF!"},{"$f":"F35*$D281","v":{"$error":"#REF!"}},{"$error":"#REF!"},{"$error":"#REF!"},{"$error":"#REF!"},0,0,{"$error":"#REF!"},0,{"$error":"#REF!"},{"$error":"#REF!"},{"$error":"#REF!"}]
[{"$f":"#REF!","v":{"$error":"#REF!"}},{"$f":"#REF!","v":{"$error":"#REF!"}},{"$f":"#REF!","v":{"$error":"#REF!"}},0,{"$error":"#REF!"},{"$error":"#REF!"},{"$error":"#REF!"},{"$error":"#REF!"},{"$error":"#REF!"},0,0,{"$error":"#REF!"},0,{"$error":"#REF!"},{"$error":"#REF!"},{"$error":"#REF!"}]
[{"$f":"#REF!","v":{"$error":"#REF!"}},{"$f":"#REF!","v":{"$error":"#REF!"}},{"$f":"#REF!","v":{"$error":"#REF!"}},0,{"$error":"#REF!"},{"$error":"#REF!"},{"$error":"#REF!"},{"$error":"#REF!"},{"$error":"#REF!"},0,0,{"$error":"#REF!"},0,{"$error":"#REF!"},{"$error":"#REF!"},{"$error":"#REF!"}]
[{"$f":"#REF!","v":{"$error":"#REF!"}},{"$f":"#REF!","v":{"$error":"#REF!"}},{"$f":"#REF!","v":{"$error":"#REF!"}},0,{"$error":"#REF!"},{"$error":"#REF!"},{"$error":"#REF!"},{"$error":"#REF!"},{"$error":"#REF!"},0,0,{"$error":"#REF!"},0,{"$error":"#REF!"},{"$error":"#REF!"},{"$error":"#REF!"}]
[{"$f":"#REF!","v":{"$error":"#REF!"}},{"$f":"#REF!","v":{"$error":"#REF!"}},{"$f":"#REF!","v":{"$error":"#REF!"}},0,{"$error":"#REF!"},{"$error":"#REF!"},{"$error":"#REF!"},{"$error":"#REF!"},{"$error":"#REF!"},0,0,{"$error":"#REF!"},0,{"$error":"#REF!"},{"$error":"#REF!"},{"$error":"#REF!"}]
[{"$f":"#REF!","v":{"$error":"#REF!"}},{"$f":"#REF!","v":{"$error":"#REF!"}},{"$f":"#REF!","v":{"$error":"#REF!"}},0,{"$error":"#REF!"},{"$error":"#REF!"},{"$error":"#REF!"},{"$error":"#REF!"},{"$error":"#REF!"},0,0,{"$error":"#REF!"},0,{"$error":"#REF!"},{"$error":"#REF!"},{"$error":"#REF!"}]
[{"$f":"#REF!","v":{"$error":"#REF!"}},{"$f":"#REF!","v":{"$error":"#REF!"}},{"$f":"#REF!","v":{"$error":"#REF!"}},0,{"$error":"#REF!"},{"$error":"#REF!"},{"$error":"#REF!"},{"$error":"#REF!"},{"$error":"#REF!"},0,0,{"$error":"#REF!"},0,{"$error":"#REF!"},{"$error":"#REF!"},{"$error":"#REF!"}]
[{"$f":"#REF!","v":{"$error":"#REF!"}},{"$f":"#REF!","v":{"$error":"#REF!"}},{"$f":"#REF!","v":{"$error":"#REF!"}},0,{"$error":"#REF!"},{"$error":"#REF!"},{"$error":"#REF!"},{"$error":"#REF!"},{"$error":"#REF!"},0,0,{"$error":"#REF!"},0,{"$error":"#REF!"},{"$error":"#REF!"},{"$error":"#REF!"}]
[{"$f":"#REF!","v":{"$error":"#REF!"}},{"$f":"#REF!","v":{"$error":"#REF!"}},{"$f":"#REF!","v":{"$error":"#REF!"}},0,{"$error":"#REF!"},{"$error":"#REF!"},{"$error":"#REF!"},{"$error":"#REF!"},{"$error":"#REF!"},0,0,{"$error":"#REF!"},0,{"$error":"#REF!"},{"$error":"#REF!"},{"$error":"#REF!"}]
[{"$f":"#REF!","v":{"$error":"#REF!"}},{"$f":"#REF!","v":{"$error":"#REF!"}},{"$f":"#REF!","v":{"$error":"#REF!"}},0,{"$error":"#REF!"},{"$error":"#REF!"},{"$error":"#REF!"},{"$error":"#REF!"},{"$error":"#REF!"},0,0,{"$error":"#REF!"},0,{"$error":"#REF!"},{"$error":"#REF!"},{"$error":"#REF!"}]
[{"$f":"#REF!","v":{"$error":"#REF!"}},{"$f":"#REF!","v":{"$error":"#REF!"}},{"$f":"#REF!","v":{"$error":"#REF!"}},0,{"$error":"#REF!"},{"$error":"#REF!"},{"$error":"#REF!"},{"$error":"#REF!"},{"$error":"#REF!"},0,0,{"$error":"#REF!"},0,{"$error":"#REF!"},{"$error":"#REF!"},{"$error":"#REF!"}]
[{"$f":"#REF!","v":{"$error":"#REF!"}},{"$f":"#REF!","v":{"$error":"#REF!"}},{"$f":"#REF!","v":{"$error":"#REF!"}},0,{"$error":"#REF!"},{"$error":"#REF!"},{"$error":"#REF!"},{"$error":"#REF!"},{"$error":"#REF!"},0,0,{"$error":"#REF!"},0,{"$error":"#REF!"},{"$error":"#REF!"},{"$error":"#REF!"}]
[{"$f":"#REF!","v":{"$error":"#REF!"}},{"$f":"#REF!","v":{"$error":"#REF!"}},{"$f":"#REF!","v":{"$error":"#REF!"}},0,{"$error":"#REF!"},{"$f":"F47*$D293","v":{"$error":"#REF!"}},{"$error":"#REF!"},{"$error":"#REF!"},{"$error":"#REF!"},0,0,{"$error":"#REF!"},0,{"$error":"#REF!"},{"$error":"#REF!"},{"$error":"#REF!"}]
[{"$f":"#REF!","v":{"$error":"#REF!"}},{"$f":"#REF!","v":{"$error":"#REF!"}},{"$f":"#REF!","v":{"$error":"#REF!"}},0,{"$error":"#REF!"},{"$error":"#REF!"},{"$error":"#REF!"},{"$error":"#REF!"},{"$error":"#REF!"},0,0,{"$error":"#REF!"},0,{"$error":"#REF!"},{"$error":"#REF!"},{"$error":"#REF!"}]
[{"$f":"#REF!","v":{"$error":"#REF!"}},{"$f":"#REF!","v":{"$error":"#REF!"}},{"$f":"#REF!","v":{"$error":"#REF!"}},0,{"$error":"#REF!"},{"$error":"#REF!"},{"$error":"#REF!"},{"$error":"#REF!"},{"$error":"#REF!"},0,0,{"$error":"#REF!"},0,{"$error":"#REF!"},{"$error":"#REF!"},{"$error":"#REF!"}]
[{"$f":"#REF!","v":{"$error":"#REF!"}},{"$f":"#REF!","v":{"$error":"#REF!"}},{"$f":"#REF!","v":{"$error":"#REF!"}},0,{"$error":"#REF!"},{"$error":"#REF!"},{"$error":"#REF!"},{"$error":"#REF!"},{"$error":"#REF!"},0,0,{"$error":"#REF!"},0,{"$error":"#REF!"},{"$error":"#REF!"},{"$error":"#REF!"}]
[{"$f":"#REF!","v":{"$error":"#REF!"}},{"$f":"#REF!","v":{"$error":"#REF!"}},{"$f":"#REF!","v":{"$error":"#REF!"}},0,{"$error":"#REF!"},{"$f":"F51*$D297","v":{"$error":"#REF!"}},{"$error":"#REF!"},{"$error":"#REF!"},{"$error":"#REF!"},0,0,{"$error":"#REF!"},0,{"$error":"#REF!"},{"$error":"#REF!"},{"$error":"#REF!"}]
[{"$f":"#REF!","v":{"$error":"#REF!"}},{"$f":"#REF!","v":{"$error":"#REF!"}},{"$f":"#REF!","v":{"$error":"#REF!"}},0,{"$error":"#REF!"},{"$error":"#REF!"},{"$error":"#REF!"},{"$error":"#REF!"},{"$error":"#REF!"},0,0,{"$error":"#REF!"},0,{"$error":"#REF!"},{"$error":"#REF!"},{"$error":"#REF!"}]
[{"$f":"#REF!","v":{"$error":"#REF!"}},{"$f":"#REF!","v":{"$error":"#REF!"}},{"$f":"#REF!","v":{"$error":"#REF!"}},0,{"$error":"#REF!"},{"$error":"#REF!"},{"$error":"#REF!"},{"$error":"#REF!"},{"$error":"#REF!"},0,0,{"$error":"#REF!"},0,{"$error":"#REF!"},{"$error":"#REF!"},{"$error":"#REF!"}]
[{"$f":"#REF!","v":{"$error":"#REF!"}},{"$f":"#REF!","v":{"$error":"#REF!"}},{"$f":"#REF!","v":{"$error":"#REF!"}},0,{"$error":"#REF!"},{"$error":"#REF!"},{"$error":"#REF!"},{"$error":"#REF!"},{"$error":"#REF!"},0,0,{"$error":"#REF!"},0,{"$error":"#REF!"},{"$error":"#REF!"},{"$error":"#REF!"}]
[{"$f":"#REF!","v":{"$error":"#REF!"}},{"$f":"#REF!","v":{"$error":"#REF!"}},{"$f":"#REF!","v":{"$error":"#REF!"}},0,{"$error":"#REF!"},{"$error":"#REF!"},{"$error":"#REF!"},{"$error":"#REF!"},{"$error":"#REF!"},0,0,{"$error":"#REF!"},0,{"$error":"#REF!"},{"$error":"#REF!"},{"$error":"#REF!"}]
[{"$f":"#REF!","v":{"$error":"#REF!"}},{"$f":"#REF!","v":{"$error":"#REF!"}},{"$f":"#REF!","v":{"$error":"#REF!"}},0,{"$error":"#REF!"},{"$error":"#REF!"},{"$error":"#REF!"},{"$error":"#REF!"},{"$error":"#REF!"},0,0,{"$error":"#REF!"},0,{"$error":"#REF!"},{"$error":"#REF!"},{"$error":"#REF!"}]
[{"$f":"#REF!","v":{"$error":"#REF!"}},{"$f":"#REF!","v":{"$error":"#REF!"}},{"$f":"#REF!","v":{"$error":"#REF!"}},0,{"$error":"#REF!"},{"$error":"#REF!"},{"$error":"#REF!"},{"$error":"#REF!"},{"$error":"#REF!"},0,0,{"$error":"#REF!"},0,{"$error":"#REF!"},{"$error":"#REF!"},{"$error":"#REF!"}]
[{"$f":"#REF!","v":{"$error":"#REF!"}},{"$f":"#REF!","v":{"$error":"#REF!"}},{"$f":"#REF!","v":{"$error":"#REF!"}},0,{"$error":"#REF!"},{"$error":"#REF!"},{"$error":"#REF!"},{"$error":"#REF!"},{"$error":"#REF!"},0,0,{"$error":"#REF!"},0,{"$error":"#REF!"},{"$error":"#REF!"},{"$error":"#REF!"}]
[{"$f":"#REF!","v":{"$error":"#REF!"}},{"$f":"#REF!","v":{"$error":"#REF!"}},{"$f":"#REF!","v":{"$error":"#REF!"}},0,{"$error":"#REF!"},{"$error":"#REF!"},{"$error":"#REF!"},{"$error":"#REF!"},{"$error":"#REF!"},0,0,{"$error":"#REF!"},0,{"$error":"#REF!"},{"$error":"#REF!"},{"$error":"#REF!"}]
[{"$f":"#REF!","v":{"$error":"#REF!"}},{"$f":"#REF!","v":{"$error":"#REF!"}},{"$f":"#REF!","v":{"$error":"#REF!"}},0,{"$error":"#REF!"},{"$error":"#REF!"},{"$error":"#REF!"},{"$error":"#REF!"},{"$error":"#REF!"},0,0,{"$error":"#REF!"},0,{"$error":"#REF!"},{"$error":"#REF!"},{"$error":"#REF!"}]
[{"$f":"#REF!","v":{"$error":"#REF!"}},{"$f":"#REF!","v":{"$error":"#REF!"}},{"$f":"#REF!","v":{"$error":"#REF!"}},0,{"$error":"#REF!"},{"$error":"#REF!"},{"$error":"#REF!"},{"$error":"#REF!"},{"$error":"#REF!"},0,0,{"$error":"#REF!"},0,{"$error":"#REF!"},{"$error":"#REF!"},{"$error":"#REF!"}]
[{"$f":"#REF!","v":{"$error":"#REF!"}},{"$f":"#REF!","v":{"$error":"#REF!"}},{"$f":"#REF!","v":{"$error":"#REF!"}},0,{"$error":"#REF!"},{"$error":"#REF!"},{"$error":"#REF!"},{"$error":"#REF!"},{"$error":"#REF!"},0,0,{"$error":"#REF!"},0,{"$error":"#REF!"},{"$error":"#REF!"},{"$error":"#REF!"}]
[{"$f":"#REF!","v":{"$error":"#REF!"}},{"$f":"#REF!","v":{"$error":"#REF!"}},{"$f":"#REF!","v":{"$error":"#REF!"}},0,{"$error":"#REF!"},{"$error":"#REF!"},{"$error":"#REF!"},{"$error":"#REF!"},{"$error":"#REF!"},0,0,{"$error":"#REF!"},0,{"$error":"#REF!"},{"$error":"#REF!"},{"$error":"#REF!"}]
[{"$f":"#REF!","v":{"$error":"#REF!"}},{"$f":"#REF!","v":{"$error":"#REF!"}},{"$f":"#REF!","v":{"$error":"#REF!"}},0,{"$error":"#REF!"},{"$error":"#REF!"},{"$error":"#REF!"},{"$error":"#REF!"},{"$error":"#REF!"},0,0,{"$error":"#REF!"},0,{"$error":"#REF!"},{"$error":"#REF!"},{"$error":"#REF!"}]
[{"$f":"#REF!","v":{"$error":"#REF!"}},{"$f":"#REF!","v":{"$error":"#REF!"}},{"$f":"#REF!","v":{"$error":"#REF!"}},0,{"$error":"#REF!"},{"$error":"#REF!"},{"$error":"#REF!"},{"$error":"#REF!"},{"$error":"#REF!"},0,0,{"$error":"#REF!"},0,{"$error":"#REF!"},{"$error":"#REF!"},{"$error":"#REF!"}]
[{"$f":"#REF!","v":{"$error":"#REF!"}},{"$f":"#REF!","v":{"$error":"#REF!"}},{"$f":"#REF!","v":{"$error":"#REF!"}},0,{"$error":"#REF!"},{"$error":"#REF!"},{"$error":"#REF!"},{"$error":"#REF!"},{"$error":"#REF!"},0,0,{"$error":"#REF!"},0,{"$error":"#REF!"},{"$error":"#REF!"},{"$error":"#REF!"}]
[{"$f":"#REF!","v":{"$error":"#REF!"}},{"$f":"#REF!","v":{"$error":"#REF!"}},{"$f":"#REF!","v":{"$error":"#REF!"}},{"$f":"IFERROR(AVERAGEIFS(mtrdollars,rating,A313,rating,B313,pressure,C313),0)","v":0},{"$f":"COUNTIFS(rating,A313,rating,B313,pressure,C313)","v":{"$error":"#REF!"}},{"$f":"F67*$D313","v":{"$error":"#REF!"}},{"$error":"#REF!"},{"$error":"#REF!"},{"$error":"#REF!"},0,0,{"$error":"#REF!"},0,{"$error":"#REF!"},{"$f":"N313*$N$320","v":{"$error":"#REF!"}},{"$error":"#REF!"}]
[{"$f":"#REF!","v":{"$error":"#REF!"}},{"$f":"#REF!","v":{"$error":"#REF!"}},{"$f":"#REF!","v":{"$error":"#REF!"}},{"$f":"IFERROR(AVERAGEIFS(mtrdollars,rating,A314,rating,B314,pressure,C314),0)","v":0},{"$f":"COUNTIFS(rating,A314,rating,B314,pressure,C314)","v":{"$error":"#REF!"}},{"$error":"#REF!"},{"$error":"#REF!"},{"$error":"#REF!"},{"$error":"#REF!"},0,0,{"$error":"#REF!"},0,{"$f":"SUM(F314:M314)-I314","v":{"$error":"#REF!"}},{"$f":"N314*$N$320","v":{"$error":"#REF!"}},{"$f":"I314-J314-K314","v":{"$error":"#REF!"}}]
[{"$f":"#REF!","v":{"$error":"#REF!"}},{"$f":"#REF!","v":{"$error":"#REF!"}},{"$f":"#REF!","v":{"$error":"#REF!"}},{"$f":"IFERROR(AVERAGEIFS(mtrdollars,rating,A315,rating,B315,pressure,C315),0)","v":0},{"$f":"COUNTIFS(rating,A315,rating,B315,pressure,C315)","v":{"$error":"#REF!"}},{"$error":"#REF!"},{"$error":"#REF!"},{"$error":"#REF!"},{"$error":"#REF!"},0,0,{"$error":"#REF!"},0,{"$f":"SUM(F315:M315)-I315","v":{"$error":"#REF!"}},{"$f":"N315*$N$320","v":{"$error":"#REF!"}},{"$error":"#REF!"}]
[{"$f":"#REF!","v":{"$error":"#REF!"}},{"$f":"#REF!","v":{"$error":"#REF!"}},{"$f":"#REF!","v":{"$error":"#REF!"}},{"$f":"IFERROR(AVERAGEIFS(mtrdollars,rating,A316,rating,B316,pressure,C316),0)","v":0},{"$f":"COUNTIFS(rating,A316,rating,B316,pressure,C316)","v":{"$error":"#REF!"}},{"$error":"#REF!"},{"$error":"#REF!"},{"$error":"#REF!"},{"$error":"#REF!"},0,0,{"$error":"#REF!"},0,{"$f":"SUM(F316:M316)-I316","v":{"$error":"#REF!"}},{"$f":"N316*$N$320","v":{"$error":"#REF!"}},{"$error":"#REF!"}]
[{"$f":"#REF!","v":{"$error":"#REF!"}},{"$f":"#REF!","v":{"$error":"#REF!"}},{"$f":"#REF!","v":{"$error":"#REF!"}},{"$f":"IFERROR(AVERAGEIFS(mtrdollars,rating,A317,rating,B317,pressure,C317),0)","v":0},{"$f":"COUNTIFS(rating,A317,rating,B317,pressure,C317)","v":{"$error":"#REF!"}},{"$error":"#REF!"},{"$error":"#REF!"},{"$error":"#REF!"},{"$error":"#REF!"},0,0,{"$error":"#REF!"},0,{"$f":"SUM(F317:M317)-I317","v":{"$error":"#REF!"}},{"$f":"N317*$N$320","v":{"$error":"#REF!"}},{"$error":"#REF!"}]
[null,"unadjusted total cost",null,null,null,{"$f":"SUM(F248:F317)","v":{"$error":"#REF!"}},{"$error":"#REF!"},{"$error":"#REF!"},{"$error":"#REF!"},{"$f":"SUM(J248:J317)","v":0},{"$f":"SUM(K248:K317)","v":0},{"$error":"#REF!"},0,{"$f":"SUM(F318:M318)-I318","v":{"$error":"#REF!"}},{"$f":"SUM(O249:O317)","v":{"$error":"#REF!"}},{"$error":"#REF!"}]
[null,null,null,null,null,{"$f":"F318/$N$318","v":{"$error":"#REF!"}},{"$error":"#REF!"},{"$error":"#REF!"},{"$error":"#REF!"},{"$error":"#REF!"},{"$error":"#REF!"},{"$error":"#REF!"},{"$error":"#REF!"},null,null,{"$error":"#REF!"}]
[null,"adjusted total cost",null,null,null,{"$f":"F318/$N$318*$O$320","v":{"$error":"#REF!"}},{"$error":"#REF!"},{"$error":"#REF!"},{"$error":"#REF!"},{"$error":"#REF!"},{"$error":"#REF!"},{"$error":"#REF!"},{"$error":"#REF!"},{"$f":"O320/N318","v":{"$error":"#REF!"}},{"$f":"#REF!","v":{"$error":"#REF!"}},{"$error":"#REF!"}]
[]
[]
[]
[null,"Rate Schedule Adjusted Investment - Distr. Plant A. B. (#6)"]
[]
[]
[null,"Rate",null,"Feeder","LD Main","SD Main","Service","Meter & Reg","Total","Rate","SD Main","Service","Meter & Reg","Total"]
[null,{"$f":"+F93","v":"GS"},null,null,null,{"$f":"+F166","v":{"$error":"#REF!"}},{"$f":"+F243","v":{"$error":"#REF!"}},{"$f":"+F320","v":{"$error":"#REF!"}},{"$f":"SUM(F328:H328)","v":{"$error":"#REF!"}},{"$f":"B328","v":"GS"},{"$f":"F328/$F$336","v":{"$error":"#REF!"}},{"$f":"G328/$G$336","v":{"$error":"#REF!"}},{"$f":"H328/$H$336","v":{"$error":"#REF!"}},{"$f":"I328/(SUM($I$328:$I$335)-$I$331)","v":{"$error":"#REF!"}}]
[null,{"$f":"+G93","v":"FS"},null,null,null,{"$f":"+G166","v":{"$error":"#REF!"}},{"$f":"+G243","v":{"$error":"#REF!"}},{"$f":"+G320","v":{"$error":"#REF!"}},{"$f":"SUM(F329:H329)","v":{"$error":"#REF!"}},"FS",{"$error":"#REF!"},{"$error":"#REF!"},{"$error":"#REF!"},{"$error":"#REF!"}]
[null,{"$f":"+H93","v":"IS"},null,null,null,{"$f":"+H166","v":{"$error":"#REF!"}},{"$f":"+H243","v":{"$error":"#REF!"}},{"$f":"+H320","v":{"$error":"#REF!"}},{"$error":"#REF!"},"IS",{"$error":"#REF!"},{"$error":"#REF!"},{"$error":"#REF!"},{"$error":"#REF!"}]
[null,{"$f":"+I93","v":"TS"},null,null,null,{"$f":"+I166","v":{"$error":"#REF!"}},{"$f":"+I243","v":{"$error":"#REF!"}},{"$f":"+I320","v":{"$error":"#REF!"}},{"$error":"#REF!"},"TS",{"$error":"#REF!"},{"$error":"#REF!"},{"$error":"#REF!"},{"$error":"#REF!"}]
[null,{"$f":"+J93","v":"TSS"},null,null,null,{"$f":"+J166","v":{"$error":"#REF!"}},{"$f":"+J243","v":{"$error":"#REF!"}},{"$f":"+J320","v":{"$error":"#REF!"}},{"$f":"SUM(F332:H332)","v":{"$error":"#REF!"}},"TSS",{"$error":"#REF!"},{"$error":"#REF!"},{"$error":"#REF!"},{"$error":"#REF!"}]
[null,{"$f":"+K93","v":"TSL"},null,null,null,{"$f":"+K166","v":{"$error":"#REF!"}},{"$f":"+K243","v":{"$error":"#REF!"}},{"$f":"+K320","v":{"$error":"#REF!"}},{"$error":"#REF!"},"TSL",{"$error":"#REF!"},{"$error":"#REF!"},{"$error":"#REF!"},{"$error":"#REF!"}]
[null,{"$f":"+L93","v":"FT1"},null,null,null,{"$f":"+L166","v":{"$error":"#REF!"}},{"$f":"+L243","v":{"$error":"#REF!"}},{"$f":"+L320","v":{"$error":"#REF!"}},{"$error":"#REF!"},"FT1",{"$error":"#REF!"},{"$error":"#REF!"},{"$error":"#REF!"},{"$error":"#REF!"}]
[null,{"$f":"+M93","v":"NGV"},null,null,null,{"$f":"+M166","v":{"$error":"#REF!"}},{"$f":"+M243","v":{"$error":"#REF!"}},{"$f":"+M320","v":{"$error":"#REF!"}},{"$error":"#REF!"},"NGV",{"$error":"#REF!"},{"$error":"#REF!"},{"$error":"#REF!"},{"$error":"#REF!"}]
[null,"Total",null,{"$f":"#REF!","v":{"$error":"#REF!"}},{"$f":"#REF!","v":{"$error":"#REF!"}},{"$f":"SUM(F328:F335)-F331","v":{"$error":"#REF!"}},{"$f":"SUM(G328:G335)-G331","v":{"$error":"#REF!"}},{"$f":"SUM(H328:H335)-H331","v":{"$error":"#REF!"}},null,"Total",{"$f":"SUM(K328:K335)-K331","v":{"$error":"#REF!"}},{"$f":"SUM(L328:L335)-L331","v":{"$error":"#REF!"}},{"$f":"SUM(M328:M335)-M331","v":{"$error":"#REF!"}},{"$f":"SUM(N328:N335)-N331","v":{"$error":"#REF!"}}]

{"sheet":"Plant AB GSR & C TS S&L","index":5,"n_rows":338,"n_cols":31,"rows_kept":338,"cut":false,"hidden":true,"merged":[]}
["POPULATION",null,null,null,null,"GS","GSR","GSC","FS","IS","TS","TSS","TSL","FT1","NGV",null,null,null,null,null,null,"MtrCount","GS","GSR","GSC","FS","IS","TS","TSS","TSL","FT1"]
[null,"Meter Rating",null,null,null,null,null,null,null,null,null,null,null,null,null,null,"Total Meters"]
[{"$f":"#REF!","v":{"$error":"#REF!"}},{"$f":"#REF!","v":{"$error":"#REF!"}},{"$f":"#REF!","v":{"$error":"#REF!"}},{"$f":"VALUE(MID(A3,3,10))","v":{"$error":"#REF!"}},null,{"$f":"SUMIFS(W$5:W$90,$U$5:$U$90,$A3,$U$5:$U$90,$B3,$V$5:$V$90,$C3)","v":{"$error":"#REF!"}},{"$f":"SUMIFS(X$5:X$90,$U$5:$U$90,$A3,$U$5:$U$90,$B3,$V$5:$V$90,$C3)","v":{"$error":"#REF!"}},{"$f":"SUMIFS(Y$5:Y$90,$U$5:$U$90,$A3,$U$5:$U$90,$B3,$V$5:$V$90,$C3)","v":{"$error":"#REF!"}},{"$f":"SUMIFS(Z$5:Z$90,$U$5:$U$90,$A3,$U$5:$U$90,$B3,$V$5:$V$90,$C3)","v":{"$error":"#REF!"}},{"$f":"SUMIFS(AA$5:AA$90,$U$5:$U$90,$A3,$U$5:$U$90,$B3,$V$5:$V$90,$C3)","v":{"$error":"#REF!"}},{"$f":"SUMIFS(AB$5:AB$90,$U$5:$U$90,$A3,$U$5:$U$90,$B3,$V$5:$V$90,$C3)","v":{"$error":"#REF!"}},{"$f":"SUMIFS(AC$5:AC$90,$U$5:$U$90,$A3,$U$5:$U$90,$B3,$V$5:$V$90,$C3)","v":0},{"$f":"SUMIFS(AD$5:AD$90,$U$5:$U$90,$A3,$U$5:$U$90,$B3,$V$5:$V$90,$C3)","v":1},{"$f":"SUMIFS(AE$5:AE$90,$U$5:$U$90,$A3,$U$5:$U$90,$B3,$V$5:$V$90,$C3)","v":{"$error":"#REF!"}},null,null,{"$f":"SUM(G3:O3)-K3","v":{"$error":"#REF!"}}]
[{"$f":"#REF!","v":{"$error":"#REF!"}},{"$f":"#REF!","v":{"$error":"#REF!"}},{"$f":"#REF!","v":{"$error":"#REF!"}},{"$f":"VALUE(MID(A4,3,10))","v":{"$error":"#REF!"}},null,{"$error":"#REF!"},{"$error":"#REF!"},{"$error":"#REF!"},{"$error":"#REF!"},{"$error":"#REF!"},{"$error":"#REF!"},0,1,{"$error":"#REF!"},null,null,{"$f":"SUM(G4:O4)-K4","v":{"$error":"#REF!"}},null,null,null,null,"Meter Rating"]
[{"$f":"#REF!","v":{"$error":"#REF!"}},{"$f":"#REF!","v":{"$error":"#REF!"}},{"$f":"#REF!","v":{"$error":"#REF!"}},{"$error":"#REF!"},null,{"$error":"#REF!"},{"$error":"#REF!"},{"$error":"#REF!"},{"$error":"#REF!"},{"$error":"#REF!"},{"$error":"#REF!"},0,1,{"$error":"#REF!"},null,null,{"$error":"#REF!"},null,{"$f":"A3","v":{"$error":"#REF!"}},{"$f":"B3","v":{"$error":"#REF!"}},{"$f":"VALUE(MID(A3,3,10))","v":{"$error":"#REF!"}},{"$f":"#REF!","v":{"$error":"#REF!"}},{"$f":"+#REF!","v":{"$error":"#REF!"}},{"$f":"+#REF!","v":{"$error":"#REF!"}},{"$f":"+#REF!","v":{"$error":"#REF!"}},{"$f":"+#REF!","v":{"$error":"#REF!"}},{"$f":"+#REF!","v":{"$error":"#REF!"}},{"$f":"+#REF!","v":{"$error":"#REF!"}},{"$f":"+'Plant AB TS S&L'!Y5","v":0},{"$f":"+'Plant AB TS S&L'!Z5","v":0},{"$f":"+#REF!","v":{"$error":"#REF!"}}]
[{"$f":"#REF!","v":{"$error":"#REF!"}},{"$f":"#REF!","v":{"$error":"#REF!"}},{"$f":"#REF!","v":{"$error":"#REF!"}},{"$error":"#REF!"},null,{"$error":"#REF!"},{"$error":"#REF!"},{"$error":"#REF!"},{"$error":"#REF!"},{"$error":"#REF!"},{"$error":"#REF!"},0,1,{"$error":"#REF!"},null,null,{"$error":"#REF!"},null,{"$error":"#REF!"},{"$error":"#REF!"},{"$f":"VALUE(MID(A4,3,10))","v":{"$error":"#REF!"}},{"$f":"#REF!","v":{"$error":"#REF!"}},{"$f":"+#REF!","v":{"$error":"#REF!"}},{"$f":"+#REF!","v":{"$error":"#REF!"}},{"$f":"+#REF!","v":{"$error":"#REF!"}},{"$f":"+#REF!","v":{"$error":"#REF!"}},{"$f":"+#REF!","v":{"$error":"#REF!"}},{"$f":"+#REF!","v":{"$error":"#REF!"}},{"$f":"+'Plant AB TS S&L'!Y6","v":0},{"$f":"+'Plant AB TS S&L'!Z6","v":0},{"$f":"+#REF!","v":{"$error":"#REF!"}}]
[{"$f":"#REF!","v":{"$error":"#REF!"}},{"$f":"#REF!","v":{"$error":"#REF!"}},{"$f":"#REF!","v":{"$error":"#REF!"}},{"$error":"#REF!"},null,{"$error":"#REF!"},{"$error":"#REF!"},{"$error":"#REF!"},{"$error":"#REF!"},{"$error":"#REF!"},{"$error":"#REF!"},0,1,{"$error":"#REF!"},null,null,{"$error":"#REF!"},null,{"$error":"#REF!"},{"$error":"#REF!"},{"$error":"#REF!"},{"$f":"#REF!","v":{"$error":"#REF!"}},{"$f":"+#REF!","v":{"$error":"#REF!"}},{"$f":"+#REF!","v":{"$error":"#REF!"}},{"$f":"+#REF!","v":{"$error":"#REF!"}},{"$f":"+#REF!","v":{"$error":"#REF!"}},{"$f":"+#REF!","v":{"$error":"#REF!"}},{"$f":"+#REF!","v":{"$error":"#REF!"}},{"$f":"+'Plant AB TS S&L'!Y7","v":0},{"$f":"+'Plant AB TS S&L'!Z7","v":0},{"$f":"+#REF!","v":{"$error":"#REF!"}}]
[{"$f":"#REF!","v":{"$error":"#REF!"}},{"$f":"#REF!","v":{"$error":"#REF!"}},{"$f":"#REF!","v":{"$error":"#REF!"}},{"$error":"#REF!"},null,{"$error":"#REF!"},{"$error":"#REF!"},{"$error":"#REF!"},{"$error":"#REF!"},{"$error":"#REF!"},{"$error":"#REF!"},0,1,{"$error":"#REF!"},null,null,{"$error":"#REF!"},null,{"$error":"#REF!"},{"$error":"#REF!"},{"$error":"#REF!"},{"$f":"#REF!","v":{"$error":"#REF!"}},{"$f":"+#REF!","v":{"$error":"#REF!"}},{"$f":"+#REF!","v":{"$error":"#REF!"}},{"$f":"+#REF!","v":{"$error":"#REF!"}},{"$f":"+#REF!","v":{"$error":"#REF!"}},{"$f":"+#REF!","v":{"$error":"#REF!"}},{"$f":"+#REF!","v":{"$error":"#REF!"}},{"$f":"+'Plant AB TS S&L'!Y8","v":0},{"$f":"+'Plant AB TS S&L'!Z8","v":0},{"$f":"+#REF!","v":{"$error":"#REF!"}}]
[{"$f":"#REF!","v":{"$error":"#REF!"}},{"$f":"#REF!","v":{"$error":"#REF!"}},{"$f":"#REF!","v":{"$error":"#REF!"}},{"$error":"#REF!"},null,{"$error":"#REF!"},{"$error":"#REF!"},{"$error":"#REF!"},{"$error":"#REF!"},{"$error":"#REF!"},{"$error":"#REF!"},0,1,{"$error":"#REF!"},null,null,{"$error":"#REF!"},null,{"$error":"#REF!"},{"$error":"#REF!"},{"$error":"#REF!"},{"$f":"#REF!","v":{"$error":"#REF!"}},{"$f":"+#REF!","v":{"$error":"#REF!"}},{"$f":"+#REF!","v":{"$error":"#REF!"}},{"$f":"+#REF!","v":{"$error":"#REF!"}},{"$f":"+#REF!","v":{"$error":"#REF!"}},{"$f":"+#REF!","v":{"$error":"#REF!"}},{"$f":"+#REF!","v":{"$error":"#REF!"}},{"$f":"+'Plant AB TS S&L'!Y9","v":0},{"$f":"+'Plant AB TS S&L'!Z9","v":0},{"$f":"+#REF!","v":{"$error":"#REF!"}}]
[{"$f":"#REF!","v":{"$error":"#REF!"}},{"$f":"#REF!","v":{"$error":"#REF!"}},{"$f":"#REF!","v":{"$error":"#REF!"}},{"$error":"#REF!"},null,{"$error":"#REF!"},{"$error":"#REF!"},{"$error":"#REF!"},{"$error":"#REF!"},{"$error":"#REF!"},{"$error":"#REF!"},0,1,{"$error":"#REF!"},null,null,{"$error":"#REF!"},null,{"$error":"#REF!"},{"$error":"#REF!"},{"$error":"#REF!"},{"$f":"#REF!","v":{"$error":"#REF!"}},{"$f":"+#REF!","v":{"$error":"#REF!"}},{"$f":"+#REF!","v":{"$error":"#REF!"}},{"$f":"+#REF!","v":{"$error":"#REF!"}},{"$f":"+#REF!","v":{"$error":"#REF!"}},{"$f":"+#REF!","v":{"$error":"#REF!"}},{"$f":"+#REF!","v":{"$error":"#REF!"}},{"$f":"+'Plant AB TS S&L'!Y10","v":0},{"$f":"+'Plant AB TS S&L'!Z10","v":0},{"$f":"+#REF!","v":{"$error":"#REF!"}}]
[{"$f":"#REF!","v":{"$error":"#REF!"}},{"$f":"#REF!","v":{"$error":"#REF!"}},{"$f":"#REF!","v":{"$error":"#REF!"}},{"$error":"#REF!"},null,{"$error":"#REF!"},{"$error":"#REF!"},{"$error":"#REF!"},{"$error":"#REF!"},{"$error":"#REF!"},{"$error":"#REF!"},0,1,{"$error":"#REF!"},null,null,{"$error":"#REF!"},null,{"$error":"#REF!"},{"$error":"#REF!"},{"$error":"#REF!"},{"$f":"#REF!","v":{"$error":"#REF!"}},{"$f":"+#REF!","v":{"$error":"#REF!"}},{"$f":"+#REF!","v":{"$error":"#REF!"}},{"$f":"+#REF!","v":{"$error":"#REF!"}},{"$f":"+#REF!","v":{"$error":"#REF!"}},{"$f":"+#REF!","v":{"$error":"#REF!"}},{"$f":"+#REF!","v":{"$error":"#REF!"}},{"$f":"+'Plant AB TS S&L'!Y11","v":0},{"$f":"+'Plant AB TS S&L'!Z11","v":0},{"$f":"+#REF!","v":{"$error":"#REF!"}}]
[{"$f":"#REF!","v":{"$error":"#REF!"}},{"$f":"#REF!","v":{"$error":"#REF!"}},{"$f":"#REF!","v":{"$error":"#REF!"}},{"$error":"#REF!"},null,{"$error":"#REF!"},{"$error":"#REF!"},{"$error":"#REF!"},{"$error":"#REF!"},{"$error":"#REF!"},{"$error":"#REF!"},0,1,{"$error":"#REF!"},null,null,{"$error":"#REF!"},null,{"$error":"#REF!"},{"$error":"#REF!"},{"$error":"#REF!"},{"$f":"#REF!","v":{"$error":"#REF!"}},{"$f":"+#REF!","v":{"$error":"#REF!"}},{"$f":"+#REF!","v":{"$error":"#REF!"}},{"$f":"+#REF!","v":{"$error":"#REF!"}},{"$f":"+#REF!","v":{"$error":"#REF!"}},{"$f":"+#REF!","v":{"$error":"#REF!"}},{"$f":"+#REF!","v":{"$error":"#REF!"}},{"$f":"+'Plant AB TS S&L'!Y12","v":0},{"$f":"+'Plant AB TS S&L'!Z12","v":0},{"$f":"+#REF!","v":{"$error":"#REF!"}}]
[{"$f":"#REF!","v":{"$error":"#REF!"}},{"$f":"#REF!","v":{"$error":"#REF!"}},{"$f":"#REF!","v":{"$error":"#REF!"}},{"$error":"#REF!"},null,{"$error":"#REF!"},{"$error":"#REF!"},{"$error":"#REF!"},{"$error":"#REF!"},{"$error":"#REF!"},{"$error":"#REF!"},0,1,{"$error":"#REF!"},null,null,{"$error":"#REF!"},null,{"$error":"#REF!"},{"$error":"#REF!"},{"$error":"#REF!"},{"$f":"#REF!","v":{"$error":"#REF!"}},{"$f":"+#REF!","v":{"$error":"#REF!"}},{"$f":"+#REF!","v":{"$error":"#REF!"}},{"$f":"+#REF!","v":{"$error":"#REF!"}},{"$f":"+#REF!","v":{"$error":"#REF!"}},{"$f":"+#REF!","v":{"$error":"#REF!"}},{"$f":"+#REF!","v":{"$error":"#REF!"}},{"$f":"+'Plant AB TS S&L'!Y13","v":0},{"$f":"+'Plant AB TS S&L'!Z13","v":0},{"$f":"+#REF!","v":{"$error":"#REF!"}}]
[{"$f":"#REF!","v":{"$error":"#REF!"}},{"$f":"#REF!","v":{"$error":"#REF!"}},{"$f":"#REF!","v":{"$error":"#REF!"}},{"$error":"#REF!"},null,{"$error":"#REF!"},{"$error":"#REF!"},{"$error":"#REF!"},{"$error":"#REF!"},{"$error":"#REF!"},{"$error":"#REF!"},0,1,{"$error":"#REF!"},null,null,{"$error":"#REF!"},null,{"$error":"#REF!"},{"$error":"#REF!"},{"$error":"#REF!"},{"$f":"#REF!","v":{"$error":"#REF!"}},{"$f":"+#REF!","v":{"$error":"#REF!"}},{"$f":"+#REF!","v":{"$error":"#REF!"}},{"$f":"+#REF!","v":{"$error":"#REF!"}},{"$f":"+#REF!","v":{"$error":"#REF!"}},{"$f":"+#REF!","v":{"$error":"#REF!"}},{"$f":"+#REF!","v":{"$error":"#REF!"}},{"$f":"+'Plant AB TS S&L'!Y14","v":0},{"$f":"+'Plant AB TS S&L'!Z14","v":0},{"$f":"+#REF!","v":{"$error":"#REF!"}}]
[{"$f":"#REF!","v":{"$error":"#REF!"}},{"$f":"#REF!","v":{"$error":"#REF!"}},{"$f":"#REF!","v":{"$error":"#REF!"}},{"$error":"#REF!"},null,{"$error":"#REF!"},{"$error":"#REF!"},{"$error":"#REF!"},{"$error":"#REF!"},{"$error":"#REF!"},{"$error":"#REF!"},0,1,{"$error":"#REF!"},null,null,{"$error":"#REF!"},null,{"$error":"#REF!"},{"$error":"#REF!"},{"$error":"#REF!"},{"$f":"#REF!","v":{"$error":"#REF!"}},{"$f":"+#REF!","v":{"$error":"#REF!"}},{"$f":"+#REF!","v":{"$error":"#REF!"}},{"$f":"+#REF!","v":{"$error":"#REF!"}},{"$f":"+#REF!","v":{"$error":"#REF!"}},{"$f":"+#REF!","v":{"$error":"#REF!"}},{"$f":"+#REF!","v":{"$error":"#REF!"}},{"$f":"+'Plant AB TS S&L'!Y15","v":0},{"$f":"+'Plant AB TS S&L'!Z15","v":0},{"$f":"+#REF!","v":{"$error":"#REF!"}}]
[{"$f":"#REF!","v":{"$error":"#REF!"}},{"$f":"#REF!","v":{"$error":"#REF!"}},{"$f":"#REF!","v":{"$error":"#REF!"}},{"$error":"#REF!"},null,{"$error":"#REF!"},{"$error":"#REF!"},{"$error":"#REF!"},{"$error":"#REF!"},{"$error":"#REF!"},{"$error":"#REF!"},0,1,{"$error":"#REF!"},null,null,{"$error":"#REF!"},null,{"$error":"#REF!"},{"$error":"#REF!"},{"$error":"#REF!"},{"$f":"#REF!","v":{"$error":"#REF!"}},{"$f":"+#REF!","v":{"$error":"#REF!"}},{"$f":"+#REF!","v":{"$error":"#REF!"}},{"$f":"+#REF!","v":{"$error":"#REF!"}},{"$f":"+#REF!","v":{"$error":"#REF!"}},{"$f":"+#REF!","v":{"$error":"#REF!"}},{"$f":"+#REF!","v":{"$error":"#REF!"}},{"$f":"+'Plant AB TS S&L'!Y16","v":0},{"$f":"+'Plant AB TS S&L'!Z16","v":0},{"$f":"+#REF!","v":{"$error":"#REF!"}}]
[{"$f":"#REF!","v":{"$error":"#REF!"}},{"$f":"#REF!","v":{"$error":"#REF!"}},{"$f":"#REF!","v":{"$error":"#REF!"}},{"$error":"#REF!"},null,{"$error":"#REF!"},{"$error":"#REF!"},{"$error":"#REF!"},{"$error":"#REF!"},{"$error":"#REF!"},{"$error":"#REF!"},0,1,{"$error":"#REF!"},null,null,{"$error":"#REF!"},null,{"$error":"#REF!"},{"$error":"#REF!"},{"$error":"#REF!"},{"$f":"#REF!","v":{"$error":"#REF!"}},{"$f":"+#REF!","v":{"$error":"#REF!"}},{"$f":"+#REF!","v":{"$error":"#REF!"}},{"$f":"+#REF!","v":{"$error":"#REF!"}},{"$f":"+#REF!","v":{"$error":"#REF!"}},{"$f":"+#REF!","v":{"$error":"#REF!"}},{"$f":"+#REF!","v":{"$error":"#REF!"}},{"$f":"+'Plant AB TS S&L'!Y17","v":0},{"$f":"+'Plant AB TS S&L'!Z17","v":0},{"$f":"+#REF!","v":{"$error":"#REF!"}}]
[{"$f":"#REF!","v":{"$error":"#REF!"}},{"$f":"#REF!","v":{"$error":"#REF!"}},{"$f":"#REF!","v":{"$error":"#REF!"}},{"$error":"#REF!"},null,{"$error":"#REF!"},{"$error":"#REF!"},{"$error":"#REF!"},{"$error":"#REF!"},{"$error":"#REF!"},{"$error":"#REF!"},0,1,{"$error":"#REF!"},null,null,{"$error":"#REF!"},null,{"$error":"#REF!"},{"$error":"#REF!"},{"$error":"#REF!"},{"$f":"#REF!","v":{"$error":"#REF!"}},{"$f":"+#REF!","v":{"$error":"#REF!"}},{"$f":"+#REF!","v":{"$error":"#REF!"}},{"$f":"+#REF!","v":{"$error":"#REF!"}},{"$f":"+#REF!","v":{"$error":"#REF!"}},{"$f":"+#REF!","v":{"$error":"#REF!"}},{"$f":"+#REF!","v":{"$error":"#REF!"}},{"$f":"+'Plant AB TS S&L'!Y18","v":0},{"$f":"+'Plant AB TS S&L'!Z18","v":0},{"$f":"+#REF!","v":{"$error":"#REF!"}}]
[{"$f":"#REF!","v":{"$error":"#REF!"}},{"$f":"#REF!","v":{"$error":"#REF!"}},{"$f":"#REF!","v":{"$error":"#REF!"}},{"$error":"#REF!"},null,{"$error":"#REF!"},{"$error":"#REF!"},{"$error":"#REF!"},{"$error":"#REF!"},{"$error":"#REF!"},{"$error":"#REF!"},0,1,{"$error":"#REF!"},null,null,{"$error":"#REF!"},null,{"$error":"#REF!"},{"$error":"#REF!"},{"$error":"#REF!"},{"$f":"#REF!","v":{"$error":"#REF!"}},{"$f":"+#REF!","v":{"$error":"#REF!"}},{"$f":"+#REF!","v":{"$error":"#REF!"}},{"$f":"+#REF!","v":{"$error":"#REF!"}},{"$f":"+#REF!","v":{"$error":"#REF!"}},{"$f":"+#REF!","v":{"$error":"#REF!"}},{"$f":"+#REF!","v":{"$error":"#REF!"}},{"$f":"+'Plant AB TS S&L'!Y19","v":0},{"$f":"+'Plant AB TS S&L'!Z19","v":0},{"$f":"+#REF!","v":{"$error":"#REF!"}}]
[{"$f":"#REF!","v":{"$error":"#REF!"}},{"$f":"#REF!","v":{"$error":"#REF!"}},{"$f":"#REF!","v":{"$error":"#REF!"}},{"$error":"#REF!"},null,{"$error":"#REF!"},{"$error":"#REF!"},{"$error":"#REF!"},{"$error":"#REF!"},{"$error":"#REF!"},{"$error":"#REF!"},0,1,{"$error":"#REF!"},null,null,{"$error":"#REF!"},null,{"$error":"#REF!"},{"$error":"#REF!"},{"$error":"#REF!"},{"$f":"#REF!","v":{"$error":"#REF!"}},{"$f":"+#REF!","v":{"$error":"#REF!"}},{"$f":"+#REF!","v":{"$error":"#REF!"}},{"$f":"+#REF!","v":{"$error":"#REF!"}},{"$f":"+#REF!","v":{"$error":"#REF!"}},{"$f":"+#REF!","v":{"$error":"#REF!"}},{"$f":"+#REF!","v":{"$error":"#REF!"}},{"$f":"+'Plant AB TS S&L'!Y20","v":0},{"$f":"+'Plant AB TS S&L'!Z20","v":0},{"$f":"+#REF!","v":{"$error":"#REF!"}}]
[{"$f":"#REF!","v":{"$error":"#REF!"}},{"$f":"#REF!","v":{"$error":"#REF!"}},{"$f":"#REF!","v":{"$error":"#REF!"}},{"$error":"#REF!"},null,{"$error":"#REF!"},{"$error":"#REF!"},{"$error":"#REF!"},{"$error":"#REF!"},{"$error":"#REF!"},{"$error":"#REF!"},0,1,{"$error":"#REF!"},null,null,{"$error":"#REF!"},null,{"$error":"#REF!"},{"$error":"#REF!"},{"$error":"#REF!"},{"$f":"#REF!","v":{"$error":"#REF!"}},{"$f":"+#REF!","v":{"$error":"#REF!"}},{"$f":"+#REF!","v":{"$error":"#REF!"}},{"$f":"+#REF!","v":{"$error":"#REF!"}},{"$f":"+#REF!","v":{"$error":"#REF!"}},{"$f":"+#REF!","v":{"$error":"#REF!"}},{"$f":"+#REF!","v":{"$error":"#REF!"}},{"$f":"+'Plant AB TS S&L'!Y21","v":0},{"$f":"+'Plant AB TS S&L'!Z21","v":0},{"$f":"+#REF!","v":{"$error":"#REF!"}}]
[{"$f":"#REF!","v":{"$error":"#REF!"}},{"$f":"#REF!","v":{"$error":"#REF!"}},{"$f":"#REF!","v":{"$error":"#REF!"}},{"$error":"#REF!"},null,{"$error":"#REF!"},{"$error":"#REF!"},{"$error":"#REF!"},{"$error":"#REF!"},{"$error":"#REF!"},{"$error":"#REF!"},0,1,{"$error":"#REF!"},{"$f":"#REF!","v":{"$error":"#REF!"}},null,{"$error":"#REF!"},null,{"$error":"#REF!"},{"$error":"#REF!"},{"$error":"#REF!"},{"$f":"#REF!","v":{"$error":"#REF!"}},{"$f":"+#REF!","v":{"$error":"#REF!"}},{"$f":"+#REF!","v":{"$error":"#REF!"}},{"$f":"+#REF!","v":{"$error":"#REF!"}},{"$f":"+#REF!","v":{"$error":"#REF!"}},{"$f":"+#REF!","v":{"$error":"#REF!"}},{"$f":"+#REF!","v":{"$error":"#REF!"}},{"$f":"+'Plant AB TS S&L'!Y22","v":0},{"$f":"+'Plant AB TS S&L'!Z22","v":0},{"$f":"+#REF!","v":{"$error":"#REF!"}}]
[{"$f":"#REF!","v":{"$error":"#REF!"}},{"$f":"#REF!","v":{"$error":"#REF!"}},{"$f":"#REF!","v":{"$error":"#REF!"}},{"$error":"#REF!"},null,{"$error":"#REF!"},{"$error":"#REF!"},{"$error":"#REF!"},{"$error":"#REF!"},{"$error":"#REF!"},{"$error":"#REF!"},0,1,{"$error":"#REF!"},null,null,{"$error":"#REF!"},null,{"$error":"#REF!"},{"$error":"#REF!"},{"$error":"#REF!"},{"$f":"#REF!","v":{"$error":"#REF!"}},{"$f":"+#REF!","v":{"$error":"#REF!"}},{"$f":"+#REF!","v":{"$error":"#REF!"}},{"$f":"+#REF!","v":{"$error":"#REF!"}},{"$f":"+#REF!","v":{"$error":"#REF!"}},{"$f":"+#REF!","v":{"$error":"#REF!"}},{"$f":"+#REF!","v":{"$error":"#REF!"}},{"$f":"+'Plant AB TS S&L'!Y23","v":0},{"$f":"+'Plant AB TS S&L'!Z23","v":0},{"$f":"+#REF!","v":{"$error":"#REF!"}}]
[{"$f":"#REF!","v":{"$error":"#REF!"}},{"$f":"#REF!","v":{"$error":"#REF!"}},{"$f":"#REF!","v":{"$error":"#REF!"}},{"$error":"#REF!"},null,{"$error":"#REF!"},{"$error":"#REF!"},{"$error":"#REF!"},{"$error":"#REF!"},{"$error":"#REF!"},{"$error":"#REF!"},0,1,{"$error":"#REF!"},null,null,{"$error":"#REF!"},null,{"$error":"#REF!"},{"$error":"#REF!"},{"$error":"#REF!"},{"$f":"#REF!","v":{"$error":"#REF!"}},{"$f":"+#REF!","v":{"$error":"#REF!"}},{"$f":"+#REF!","v":{"$error":"#REF!"}},{"$f":"+#REF!","v":{"$error":"#REF!"}},{"$f":"+#REF!","v":{"$error":"#REF!"}},{"$f":"+#REF!","v":{"$error":"#REF!"}},{"$f":"+#REF!","v":{"$error":"#REF!"}},{"$f":"+'Plant AB TS S&L'!Y24","v":0},{"$f":"+'Plant AB TS S&L'!Z24","v":0},{"$f":"+#REF!","v":{"$error":"#REF!"}}]
[{"$f":"#REF!","v":{"$error":"#REF!"}},{"$f":"#REF!","v":{"$error":"#REF!"}},{"$f":"#REF!","v":{"$error":"#REF!"}},{"$error":"#REF!"},null,{"$error":"#REF!"},{"$error":"#REF!"},{"$error":"#REF!"},{"$error":"#REF!"},{"$error":"#REF!"},{"$error":"#REF!"},0,1,{"$error":"#REF!"},null,null,{"$error":"#REF!"},null,{"$error":"#REF!"},{"$error":"#REF!"},{"$error":"#REF!"},{"$f":"#REF!","v":{"$error":"#REF!"}},{"$f":"+#REF!","v":{"$error":"#REF!"}},{"$f":"+#REF!","v":{"$error":"#REF!"}},{"$f":"+#REF!","v":{"$error":"#REF!"}},{"$f":"+#REF!","v":{"$error":"#REF!"}},{"$f":"+#REF!","v":{"$error":"#REF!"}},{"$f":"+#REF!","v":{"$error":"#REF!"}},{"$f":"+'Plant AB TS S&L'!Y25","v":0},{"$f":"+'Plant AB TS S&L'!Z25","v":0},{"$f":"+#REF!","v":{"$error":"#REF!"}}]
[{"$f":"#REF!","v":{"$error":"#REF!"}},{"$f":"#REF!","v":{"$error":"#REF!"}},{"$f":"#REF!","v":{"$error":"#REF!"}},{"$error":"#REF!"},null,{"$error":"#REF!"},{"$error":"#REF!"},{"$error":"#REF!"},{"$error":"#REF!"},{"$error":"#REF!"},{"$error":"#REF!"},0,1,{"$error":"#REF!"},null,null,{"$error":"#REF!"},null,{"$error":"#REF!"},{"$error":"#REF!"},{"$error":"#REF!"},{"$f":"#REF!","v":{"$error":"#REF!"}},{"$f":"+#REF!","v":{"$error":"#REF!"}},{"$f":"+#REF!","v":{"$error":"#REF!"}},{"$f":"+#REF!","v":{"$error":"#REF!"}},{"$f":"+#REF!","v":{"$error":"#REF!"}},{"$f":"+#REF!","v":{"$error":"#REF!"}},{"$f":"+#REF!","v":{"$error":"#REF!"}},{"$f":"+'Plant AB TS S&L'!Y26","v":0},{"$f":"+'Plant AB TS S&L'!Z26","v":0},{"$f":"+#REF!","v":{"$error":"#REF!"}}]
[{"$f":"#REF!","v":{"$error":"#REF!"}},{"$f":"#REF!","v":{"$error":"#REF!"}},{"$f":"#REF!","v":{"$error":"#REF!"}},{"$error":"#REF!"},null,{"$error":"#REF!"},{"$error":"#REF!"},{"$error":"#REF!"},{"$error":"#REF!"},{"$error":"#REF!"},{"$error":"#REF!"},0,1,{"$error":"#REF!"},null,null,{"$error":"#REF!"},null,{"$error":"#REF!"},{"$error":"#REF!"},{"$error":"#REF!"},{"$f":"#REF!","v":{"$error":"#REF!"}},{"$f":"+#REF!","v":{"$error":"#REF!"}},{"$f":"+#REF!","v":{"$error":"#REF!"}},{"$f":"+#REF!","v":{"$error":"#REF!"}},{"$f":"+#REF!","v":{"$error":"#REF!"}},{"$f":"+#REF!","v":{"$error":"#REF!"}},{"$f":"+#REF!","v":{"$error":"#REF!"}},{"$f":"+'Plant AB TS S&L'!Y27","v":0},{"$f":"+'Plant AB TS S&L'!Z27","v":0},{"$f":"+#REF!","v":{"$error":"#REF!"}}]
[{"$f":"#REF!","v":{"$error":"#REF!"}},{"$f":"#REF!","v":{"$error":"#REF!"}},{"$f":"#REF!","v":{"$error":"#REF!"}},{"$error":"#REF!"},null,{"$error":"#REF!"},{"$error":"#REF!"},{"$error":"#REF!"},{"$error":"#REF!"},{"$error":"#REF!"},{"$error":"#REF!"},0,1,{"$error":"#REF!"},null,null,{"$error":"#REF!"},null,{"$error":"#REF!"},{"$error":"#REF!"},{"$error":"#REF!"},{"$f":"#REF!","v":{"$error":"#REF!"}},{"$f":"+#REF!","v":{"$error":"#REF!"}},{"$f":"+#REF!","v":{"$error":"#REF!"}},{"$f":"+#REF!","v":{"$error":"#REF!"}},{"$f":"+#REF!","v":{"$error":"#REF!"}},{"$f":"+#REF!","v":{"$error":"#REF!"}},{"$f":"+#REF!","v":{"$error":"#REF!"}},{"$f":"+'Plant AB TS S&L'!Y28","v":0},{"$f":"+'Plant AB TS S&L'!Z28","v":0},{"$f":"+#REF!","v":{"$error":"#REF!"}}]
[{"$f":"#REF!","v":{"$error":"#REF!"}},{"$f":"#REF!","v":{"$error":"#REF!"}},{"$f":"#REF!","v":{"$error":"#REF!"}},{"$error":"#REF!"},null,{"$error":"#REF!"},{"$error":"#REF!"},{"$error":"#REF!"},{"$error":"#REF!"},{"$error":"#REF!"},{"$error":"#REF!"},0,1,{"$error":"#REF!"},null,null,{"$error":"#REF!"},null,{"$error":"#REF!"},{"$error":"#REF!"},{"$error":"#REF!"},{"$f":"#REF!","v":{"$error":"#REF!"}},{"$f":"+#REF!","v":{"$error":"#REF!"}},{"$f":"+#REF!","v":{"$error":"#REF!"}},{"$f":"+#REF!","v":{"$error":"#REF!"}},{"$f":"+#REF!","v":{"$error":"#REF!"}},{"$f":"+#REF!","v":{"$error":"#REF!"}},{"$f":"+#REF!","v":{"$error":"#REF!"}},{"$f":"+'Plant AB TS S&L'!Y29","v":0},{"$f":"+'Plant AB TS S&L'!Z29","v":0},{"$f":"+#REF!","v":{"$error":"#REF!"}}]
[{"$f":"#REF!","v":{"$error":"#REF!"}},{"$f":"#REF!","v":{"$error":"#REF!"}},{"$f":"#REF!","v":{"$error":"#REF!"}},{"$error":"#REF!"},null,{"$error":"#REF!"},{"$error":"#REF!"},{"$error":"#REF!"},{"$error":"#REF!"},{"$error":"#REF!"},{"$error":"#REF!"},0,1,{"$error":"#REF!"},null,null,{"$error":"#REF!"},null,{"$error":"#REF!"},{"$error":"#REF!"},{"$error":"#REF!"},{"$f":"#REF!","v":{"$error":"#REF!"}},{"$f":"+#REF!","v":{"$error":"#REF!"}},{"$f":"+#REF!","v":{"$error":"#REF!"}},{"$f":"+#REF!","v":{"$error":"#REF!"}},{"$f":"+#REF!","v":{"$error":"#REF!"}},{"$f":"+#REF!","v":{"$error":"#REF!"}},{"$f":"+#REF!","v":{"$error":"#REF!"}},{"$f":"+'Plant AB TS S&L'!Y30","v":0},{"$f":"+'Plant AB TS S&L'!Z30","v":0},{"$f":"+#REF!","v":{"$error":"#REF!"}}]
[{"$f":"#REF!","v":{"$error":"#REF!"}},{"$f":"#REF!","v":{"$error":"#REF!"}},{"$f":"#REF!","v":{"$error":"#REF!"}},{"$error":"#REF!"},null,{"$error":"#REF!"},{"$error":"#REF!"},{"$error":"#REF!"},{"$error":"#REF!"},{"$error":"#REF!"},{"$error":"#REF!"},0,1,{"$error":"#REF!"},null,null,{"$error":"#REF!"},null,{"$error":"#REF!"},{"$error":"#REF!"},{"$error":"#REF!"},{"$f":"#REF!","v":{"$error":"#REF!"}},{"$f":"+#REF!","v":{"$error":"#REF!"}},{"$f":"+#REF!","v":{"$error":"#REF!"}},{"$f":"+#REF!","v":{"$error":"#REF!"}},{"$f":"+#REF!","v":{"$error":"#REF!"}},{"$f":"+#REF!","v":{"$error":"#REF!"}},{"$f":"+#REF!","v":{"$error":"#REF!"}},{"$f":"+'Plant AB TS S&L'!Y31","v":0},{"$f":"+'Plant AB TS S&L'!Z31","v":1},{"$f":"+#REF!","v":{"$error":"#REF!"}}]
[{"$f":"#REF!","v":{"$error":"#REF!"}},{"$f":"#REF!","v":{"$error":"#REF!"}},{"$f":"#REF!","v":{"$error":"#REF!"}},{"$error":"#REF!"},null,{"$error":"#REF!"},{"$error":"#REF!"},{"$error":"#REF!"},{"$error":"#REF!"},{"$error":"#REF!"},{"$error":"#REF!"},0,1,{"$error":"#REF!"},null,null,{"$error":"#REF!"},null,{"$error":"#REF!"},{"$error":"#REF!"},{"$error":"#REF!"},{"$f":"#REF!","v":{"$error":"#REF!"}},{"$f":"+#REF!","v":{"$error":"#REF!"}},{"$f":"+#REF!","v":{"$error":"#REF!"}},{"$f":"+#REF!","v":{"$error":"#REF!"}},{"$f":"+#REF!","v":{"$error":"#REF!"}},{"$f":"+#REF!","v":{"$error":"#REF!"}},{"$f":"+#REF!","v":{"$error":"#REF!"}},{"$f":"+'Plant AB TS S&L'!Y32","v":0},{"$f":"+'Plant AB TS S&L'!Z32","v":0},{"$f":"+#REF!","v":{"$error":"#REF!"}}]
[{"$f":"#REF!","v":{"$error":"#REF!"}},{"$f":"#REF!","v":{"$error":"#REF!"}},{"$f":"#REF!","v":{"$error":"#REF!"}},{"$error":"#REF!"},null,{"$error":"#REF!"},{"$error":"#REF!"},{"$error":"#REF!"},{"$error":"#REF!"},{"$error":"#REF!"},{"$error":"#REF!"},0,1,{"$error":"#REF!"},null,null,{"$error":"#REF!"},null,{"$error":"#REF!"},{"$error":"#REF!"},{"$error":"#REF!"},{"$f":"#REF!","v":{"$error":"#REF!"}},{"$f":"+#REF!","v":{"$error":"#REF!"}},{"$f":"+#REF!","v":{"$error":"#REF!"}},{"$f":"+#REF!","v":{"$error":"#REF!"}},{"$f":"+#REF!","v":{"$error":"#REF!"}},{"$f":"+#REF!","v":{"$error":"#REF!"}},{"$f":"+#REF!","v":{"$error":"#REF!"}},{"$f":"+'Plant AB TS S&L'!Y33","v":0},{"$f":"+'Plant AB TS S&L'!Z33","v":0},{"$f":"+#REF!","v":{"$error":"#REF!"}}]
[{"$f":"#REF!","v":{"$error":"#REF!"}},{"$f":"#REF!","v":{"$error":"#REF!"}},{"$f":"#REF!","v":{"$error":"#REF!"}},{"$error":"#REF!"},null,{"$error":"#REF!"},{"$error":"#REF!"},{"$error":"#REF!"},{"$error":"#REF!"},{"$error":"#REF!"},{"$error":"#REF!"},0,1,{"$error":"#REF!"},null,null,{"$error":"#REF!"},null,{"$error":"#REF!"},{"$error":"#REF!"},{"$error":"#REF!"},{"$f":"#REF!","v":{"$error":"#REF!"}},{"$f":"+#REF!","v":{"$error":"#REF!"}},{"$f":"+#REF!","v":{"$error":"#REF!"}},{"$f":"+#REF!","v":{"$error":"#REF!"}},{"$f":"+#REF!","v":{"$error":"#REF!"}},{"$f":"+#REF!","v":{"$error":"#REF!"}},{"$f":"+#REF!","v":{"$error":"#REF!"}},{"$f":"+'Plant AB TS S&L'!Y34","v":0},{"$f":"+'Plant AB TS S&L'!Z34","v":0},{"$f":"+#REF!","v":{"$error":"#REF!"}}]
[{"$f":"#REF!","v":{"$error":"#REF!"}},{"$f":"#REF!","v":{"$error":"#REF!"}},{"$f":"#REF!","v":{"$error":"#REF!"}},{"$error":"#REF!"},null,{"$f":"SUMIFS(W$5:W$90,$U$5:$U$90,$A35,$U$5:$U$90,$B35,$V$5:$V$90,$C35)","v":{"$error":"#REF!"}},{"$f":"SUMIFS(X$5:X$90,$U$5:$U$90,$A35,$U$5:$U$90,$B35,$V$5:$V$90,$C35)","v":{"$error":"#REF!"}},{"$f":"SUMIFS(Y$5:Y$90,$U$5:$U$90,$A35,$U$5:$U$90,$B35,$V$5:$V$90,$C35)","v":{"$error":"#REF!"}},{"$f":"SUMIFS(Z$5:Z$90,$U$5:$U$90,$A35,$U$5:$U$90,$B35,$V$5:$V$90,$C35)","v":{"$error":"#REF!"}},{"$f":"SUMIFS(AA$5:AA$90,$U$5:$U$90,$A35,$U$5:$U$90,$B35,$V$5:$V$90,$C35)","v":{"$error":"#REF!"}},{"$f":"SUMIFS(AB$5:AB$90,$U$5:$U$90,$A35,$U$5:$U$90,$B35,$V$5:$V$90,$C35)","v":{"$error":"#REF!"}},{"$f":"SUMIFS(AC$5:AC$90,$U$5:$U$90,$A35,$U$5:$U$90,$B35,$V$5:$V$90,$C35)","v":0},{"$f":"SUMIFS(AD$5:AD$90,$U$5:$U$90,$A35,$U$5:$U$90,$B35,$V$5:$V$90,$C35)","v":1},{"$f":"SUMIFS(AE$5:AE$90,$U$5:$U$90,$A35,$U$5:$U$90,$B35,$V$5:$V$90,$C35)","v":{"$error":"#REF!"}},null,null,{"$error":"#REF!"},null,{"$error":"#REF!"},{"$error":"#REF!"},{"$error":"#REF!"},{"$f":"#REF!","v":{"$error":"#REF!"}},{"$f":"+#REF!","v":{"$error":"#REF!"}},{"$f":"+#REF!","v":{"$error":"#REF!"}},{"$f":"+#REF!","v":{"$error":"#REF!"}},{"$f":"+#REF!","v":{"$error":"#REF!"}},{"$f":"+#REF!","v":{"$error":"#REF!"}},{"$f":"+#REF!","v":{"$error":"#REF!"}},{"$f":"+'Plant AB TS S&L'!Y35","v":0},{"$f":"+'Plant AB TS S&L'!Z35","v":0},{"$f":"+#REF!","v":{"$error":"#REF!"}}]
[{"$f":"#REF!","v":{"$error":"#REF!"}},{"$f":"#REF!","v":{"$error":"#REF!"}},{"$f":"#REF!","v":{"$error":"#REF!"}},{"$error":"#REF!"},null,{"$error":"#REF!"},{"$error":"#REF!"},{"$error":"#REF!"},{"$error":"#REF!"},{"$error":"#REF!"},{"$error":"#REF!"},0,1,{"$error":"#REF!"},null,null,{"$error":"#REF!"},null,{"$error":"#REF!"},{"$error":"#REF!"},{"$error":"#REF!"},{"$f":"#REF!","v":{"$error":"#REF!"}},{"$f":"+#REF!","v":{"$error":"#REF!"}},{"$f":"+#REF!","v":{"$error":"#REF!"}},{"$f":"+#REF!","v":{"$error":"#REF!"}},{"$f":"+#REF!","v":{"$error":"#REF!"}},{"$f":"+#REF!","v":{"$error":"#REF!"}},{"$f":"+#REF!","v":{"$error":"#REF!"}},{"$f":"+'Plant AB TS S&L'!Y36","v":0},{"$f":"+'Plant AB TS S&L'!Z36","v":0},{"$f":"+#REF!","v":{"$error":"#REF!"}}]
[{"$f":"#REF!","v":{"$error":"#REF!"}},{"$f":"#REF!","v":{"$error":"#REF!"}},{"$f":"#REF!","v":{"$error":"#REF!"}},{"$error":"#REF!"},null,{"$error":"#REF!"},{"$error":"#REF!"},{"$error":"#REF!"},{"$error":"#REF!"},{"$error":"#REF!"},{"$error":"#REF!"},0,1,{"$error":"#REF!"},null,null,{"$error":"#REF!"},null,{"$f":"A35","v":{"$error":"#REF!"}},{"$f":"B35","v":{"$error":"#REF!"}},{"$error":"#REF!"},{"$f":"#REF!","v":{"$error":"#REF!"}},{"$f":"+#REF!","v":{"$error":"#REF!"}},{"$f":"+#REF!","v":{"$error":"#REF!"}},{"$f":"+#REF!","v":{"$error":"#REF!"}},{"$f":"+#REF!","v":{"$error":"#REF!"}},{"$f":"+#REF!","v":{"$error":"#REF!"}},{"$f":"+#REF!","v":{"$error":"#REF!"}},{"$f":"+'Plant AB TS S&L'!Y37","v":0},{"$f":"+'Plant AB TS S&L'!Z37","v":0},{"$f":"+#REF!","v":{"$error":"#REF!"}}]
[{"$f":"#REF!","v":{"$error":"#REF!"}},{"$f":"#REF!","v":{"$error":"#REF!"}},{"$f":"#REF!","v":{"$error":"#REF!"}},{"$error":"#REF!"},null,{"$error":"#REF!"},{"$error":"#REF!"},{"$error":"#REF!"},{"$error":"#REF!"},{"$error":"#REF!"},{"$error":"#REF!"},0,1,{"$error":"#REF!"},null,null,{"$error":"#REF!"},null,{"$error":"#REF!"},{"$error":"#REF!"},{"$error":"#REF!"},{"$f":"#REF!","v":{"$error":"#REF!"}},{"$f":"+#REF!","v":{"$error":"#REF!"}},{"$f":"+#REF!","v":{"$error":"#REF!"}},{"$f":"+#REF!","v":{"$error":"#REF!"}},{"$f":"+#REF!","v":{"$error":"#REF!"}},{"$f":"+#REF!","v":{"$error":"#REF!"}},{"$f":"+#REF!","v":{"$error":"#REF!"}},{"$f":"+'Plant AB TS S&L'!Y38","v":0},{"$f":"+'Plant AB TS S&L'!Z38","v":0},{"$f":"+#REF!","v":{"$error":"#REF!"}}]
[{"$f":"#REF!","v":{"$error":"#REF!"}},{"$f":"#REF!","v":{"$error":"#REF!"}},{"$f":"#REF!","v":{"$error":"#REF!"}},{"$error":"#REF!"},null,{"$error":"#REF!"},{"$error":"#REF!"},{"$error":"#REF!"},{"$error":"#REF!"},{"$error":"#REF!"},{"$error":"#REF!"},0,1,{"$error":"#REF!"},null,null,{"$error":"#REF!"},null,{"$error":"#REF!"},{"$error":"#REF!"},{"$error":"#REF!"},{"$f":"#REF!","v":{"$error":"#REF!"}},{"$f":"+#REF!","v":{"$error":"#REF!"}},{"$f":"+#REF!","v":{"$error":"#REF!"}},{"$f":"+#REF!","v":{"$error":"#REF!"}},{"$f":"+#REF!","v":{"$error":"#REF!"}},{"$f":"+#REF!","v":{"$error":"#REF!"}},{"$f":"+#REF!","v":{"$error":"#REF!"}},{"$f":"+'Plant AB TS S&L'!Y39","v":0},{"$f":"+'Plant AB TS S&L'!Z39","v":0},{"$f":"+#REF!","v":{"$error":"#REF!"}}]
[{"$f":"#REF!","v":{"$error":"#REF!"}},{"$f":"#REF!","v":{"$error":"#REF!"}},{"$f":"#REF!","v":{"$error":"#REF!"}},{"$error":"#REF!"},null,{"$error":"#REF!"},{"$error":"#REF!"},{"$error":"#REF!"},{"$error":"#REF!"},{"$error":"#REF!"},{"$error":"#REF!"},0,1,{"$error":"#REF!"},null,null,{"$error":"#REF!"},null,{"$error":"#REF!"},{"$error":"#REF!"},{"$error":"#REF!"},{"$f":"#REF!","v":{"$error":"#REF!"}},{"$f":"+#REF!","v":{"$error":"#REF!"}},{"$f":"+#REF!","v":{"$error":"#REF!"}},{"$f":"+#REF!","v":{"$error":"#REF!"}},{"$f":"+#REF!","v":{"$error":"#REF!"}},{"$f":"+#REF!","v":{"$error":"#REF!"}},{"$f":"+#REF!","v":{"$error":"#REF!"}},{"$f":"+'Plant AB TS S&L'!Y40","v":0},{"$f":"+'Plant AB TS S&L'!Z40","v":0},{"$f":"+#REF!","v":{"$error":"#REF!"}}]
[{"$f":"#REF!","v":{"$error":"#REF!"}},{"$f":"#REF!","v":{"$error":"#REF!"}},{"$f":"#REF!","v":{"$error":"#REF!"}},{"$error":"#REF!"},null,{"$error":"#REF!"},{"$error":"#REF!"},{"$error":"#REF!"},{"$error":"#REF!"},{"$error":"#REF!"},{"$error":"#REF!"},0,1,{"$error":"#REF!"},null,null,{"$error":"#REF!"},null,{"$error":"#REF!"},{"$error":"#REF!"},{"$error":"#REF!"},{"$f":"#REF!","v":{"$error":"#REF!"}},{"$f":"+#REF!","v":{"$error":"#REF!"}},{"$f":"+#REF!","v":{"$error":"#REF!"}},{"$f":"+#REF!","v":{"$error":"#REF!"}},{"$f":"+#REF!","v":{"$error":"#REF!"}},{"$f":"+#REF!","v":{"$error":"#REF!"}},{"$f":"+#REF!","v":{"$error":"#REF!"}},{"$f":"+'Plant AB TS S&L'!Y41","v":0},{"$f":"+'Plant AB TS S&L'!Z41","v":0},{"$f":"+#REF!","v":{"$error":"#REF!"}}]
[{"$f":"#REF!","v":{"$error":"#REF!"}},{"$f":"#REF!","v":{"$error":"#REF!"}},{"$f":"#REF!","v":{"$error":"#REF!"}},{"$error":"#REF!"},null,{"$error":"#REF!"},{"$error":"#REF!"},{"$error":"#REF!"},{"$error":"#REF!"},{"$error":"#REF!"},{"$error":"#REF!"},0,1,{"$error":"#REF!"},null,null,{"$error":"#REF!"},null,{"$error":"#REF!"},{"$error":"#REF!"},{"$error":"#REF!"},{"$f":"#REF!","v":{"$error":"#REF!"}},{"$f":"+#REF!","v":{"$error":"#REF!"}},{"$f":"+#REF!","v":{"$error":"#REF!"}},{"$f":"+#REF!","v":{"$error":"#REF!"}},{"$f":"+#REF!","v":{"$error":"#REF!"}},{"$f":"+#REF!","v":{"$error":"#REF!"}},{"$f":"+#REF!","v":{"$error":"#REF!"}},{"$f":"+'Plant AB TS S&L'!Y42","v":0},{"$f":"+'Plant AB TS S&L'!Z42","v":0},{"$f":"+#REF!","v":{"$error":"#REF!"}}]
[{"$f":"#REF!","v":{"$error":"#REF!"}},{"$f":"#REF!","v":{"$error":"#REF!"}},{"$f":"#REF!","v":{"$error":"#REF!"}},{"$error":"#REF!"},null,{"$error":"#REF!"},{"$error":"#REF!"},{"$error":"#REF!"},{"$error":"#REF!"},{"$error":"#REF!"},{"$error":"#REF!"},0,1,{"$error":"#REF!"},null,null,{"$error":"#REF!"},null,{"$error":"#REF!"},{"$error":"#REF!"},{"$error":"#REF!"},{"$f":"#REF!","v":{"$error":"#REF!"}},{"$f":"+#REF!","v":{"$error":"#REF!"}},{"$f":"+#REF!","v":{"$error":"#REF!"}},{"$f":"+#REF!","v":{"$error":"#REF!"}},{"$f":"+#REF!","v":{"$error":"#REF!"}},{"$f":"+#REF!","v":{"$error":"#REF!"}},{"$f":"+#REF!","v":{"$error":"#REF!"}},{"$f":"+'Plant AB TS S&L'!Y43","v":0},{"$f":"+'Plant AB TS S&L'!Z43","v":0},{"$f":"+#REF!","v":{"$error":"#REF!"}}]
[{"$f":"#REF!","v":{"$error":"#REF!"}},{"$f":"#REF!","v":{"$error":"#REF!"}},{"$f":"#REF!","v":{"$error":"#REF!"}},{"$error":"#REF!"},null,{"$error":"#REF!"},{"$error":"#REF!"},{"$error":"#REF!"},{"$error":"#REF!"},{"$error":"#REF!"},{"$error":"#REF!"},0,1,{"$error":"#REF!"},null,null,{"$error":"#REF!"},null,{"$error":"#REF!"},{"$error":"#REF!"},{"$error":"#REF!"},{"$f":"#REF!","v":{"$error":"#REF!"}},{"$f":"+#REF!","v":{"$error":"#REF!"}},{"$f":"+#REF!","v":{"$error":"#REF!"}},{"$f":"+#REF!","v":{"$error":"#REF!"}},{"$f":"+#REF!","v":{"$error":"#REF!"}},{"$f":"+#REF!","v":{"$error":"#REF!"}},{"$f":"+#REF!","v":{"$error":"#REF!"}},{"$f":"+'Plant AB TS S&L'!Y44","v":0},{"$f":"+'Plant AB TS S&L'!Z44","v":0},{"$f":"+#REF!","v":{"$error":"#REF!"}}]
[{"$f":"#REF!","v":{"$error":"#REF!"}},{"$f":"#REF!","v":{"$error":"#REF!"}},{"$f":"#REF!","v":{"$error":"#REF!"}},{"$error":"#REF!"},null,{"$error":"#REF!"},{"$error":"#REF!"},{"$error":"#REF!"},{"$error":"#REF!"},{"$error":"#REF!"},{"$error":"#REF!"},0,1,{"$error":"#REF!"},null,null,{"$error":"#REF!"},null,{"$error":"#REF!"},{"$error":"#REF!"},{"$error":"#REF!"},{"$f":"#REF!","v":{"$error":"#REF!"}},{"$f":"+#REF!","v":{"$error":"#REF!"}},{"$f":"+#REF!","v":{"$error":"#REF!"}},{"$f":"+#REF!","v":{"$error":"#REF!"}},{"$f":"+#REF!","v":{"$error":"#REF!"}},{"$f":"+#REF!","v":{"$error":"#REF!"}},{"$f":"+#REF!","v":{"$error":"#REF!"}},{"$f":"+'Plant AB TS S&L'!Y45","v":0},{"$f":"+'Plant AB TS S&L'!Z45","v":0},{"$f":"+#REF!","v":{"$error":"#REF!"}}]
[{"$f":"#REF!","v":{"$error":"#REF!"}},{"$f":"#REF!","v":{"$error":"#REF!"}},{"$f":"#REF!","v":{"$error":"#REF!"}},{"$error":"#REF!"},null,{"$error":"#REF!"},{"$error":"#REF!"},{"$error":"#REF!"},{"$error":"#REF!"},{"$error":"#REF!"},{"$error":"#REF!"},0,1,{"$error":"#REF!"},null,null,{"$error":"#REF!"},null,{"$error":"#REF!"},{"$error":"#REF!"},{"$error":"#REF!"},{"$f":"#REF!","v":{"$error":"#REF!"}},{"$f":"+#REF!","v":{"$error":"#REF!"}},{"$f":"+#REF!","v":{"$error":"#REF!"}},{"$f":"+#REF!","v":{"$error":"#REF!"}},{"$f":"+#REF!","v":{"$error":"#REF!"}},{"$f":"+#REF!","v":{"$error":"#REF!"}},{"$f":"+#REF!","v":{"$error":"#REF!"}},{"$f":"+'Plant AB TS S&L'!Y46","v":0},{"$f":"+'Plant AB TS S&L'!Z46","v":0},{"$f":"+#REF!","v":{"$error":"#REF!"}}]
[{"$f":"#REF!","v":{"$error":"#REF!"}},{"$f":"#REF!","v":{"$error":"#REF!"}},{"$f":"#REF!","v":{"$error":"#REF!"}},{"$error":"#REF!"},null,{"$error":"#REF!"},{"$error":"#REF!"},{"$error":"#REF!"},{"$error":"#REF!"},{"$error":"#REF!"},{"$error":"#REF!"},0,1,{"$error":"#REF!"},null,null,{"$error":"#REF!"},null,{"$error":"#REF!"},{"$error":"#REF!"},{"$error":"#REF!"},{"$f":"#REF!","v":{"$error":"#REF!"}},{"$f":"+#REF!","v":{"$error":"#REF!"}},{"$f":"+#REF!","v":{"$error":"#REF!"}},{"$f":"+#REF!","v":{"$error":"#REF!"}},{"$f":"+#REF!","v":{"$error":"#REF!"}},{"$f":"+#REF!","v":{"$error":"#REF!"}},{"$f":"+#REF!","v":{"$error":"#REF!"}},{"$f":"+'Plant AB TS S&L'!Y47","v":0},{"$f":"+'Plant AB TS S&L'!Z47","v":0},{"$f":"+#REF!","v":{"$error":"#REF!"}}]
[{"$f":"#REF!","v":{"$error":"#REF!"}},{"$f":"#REF!","v":{"$error":"#REF!"}},{"$f":"#REF!","v":{"$error":"#REF!"}},{"$error":"#REF!"},null,{"$error":"#REF!"},{"$error":"#REF!"},{"$error":"#REF!"},{"$error":"#REF!"},{"$error":"#REF!"},{"$error":"#REF!"},0,1,{"$error":"#REF!"},null,null,{"$error":"#REF!"},null,{"$error":"#REF!"},{"$error":"#REF!"},{"$error":"#REF!"},{"$f":"#REF!","v":{"$error":"#REF!"}},{"$f":"+#REF!","v":{"$error":"#REF!"}},{"$f":"+#REF!","v":{"$error":"#REF!"}},{"$f":"+#REF!","v":{"$error":"#REF!"}},{"$f":"+#REF!","v":{"$error":"#REF!"}},{"$f":"+#REF!","v":{"$error":"#REF!"}},{"$f":"+#REF!","v":{"$error":"#REF!"}},{"$f":"+'Plant AB TS S&L'!Y48","v":0},{"$f":"+'Plant AB TS S&L'!Z48","v":0},{"$f":"+#REF!","v":{"$error":"#REF!"}}]
[{"$f":"#REF!","v":{"$error":"#REF!"}},{"$f":"#REF!","v":{"$error":"#REF!"}},{"$f":"#REF!","v":{"$error":"#REF!"}},{"$error":"#REF!"},null,{"$error":"#REF!"},{"$error":"#REF!"},{"$error":"#REF!"},{"$error":"#REF!"},{"$error":"#REF!"},{"$error":"#REF!"},0,1,{"$error":"#REF!"},null,null,{"$error":"#REF!"},null,{"$error":"#REF!"},{"$error":"#REF!"},{"$error":"#REF!"},{"$f":"#REF!","v":{"$error":"#REF!"}},{"$f":"+#REF!","v":{"$error":"#REF!"}},{"$f":"+#REF!","v":{"$error":"#REF!"}},{"$f":"+#REF!","v":{"$error":"#REF!"}},{"$f":"+#REF!","v":{"$error":"#REF!"}},{"$f":"+#REF!","v":{"$error":"#REF!"}},{"$f":"+#REF!","v":{"$error":"#REF!"}},{"$f":"+'Plant AB TS S&L'!Y49","v":0},{"$f":"+'Plant AB TS S&L'!Z49","v":0},{"$f":"+#REF!","v":{"$error":"#REF!"}}]
[{"$f":"#REF!","v":{"$error":"#REF!"}},{"$f":"#REF!","v":{"$error":"#REF!"}},{"$f":"#REF!","v":{"$error":"#REF!"}},{"$error":"#REF!"},null,{"$error":"#REF!"},{"$error":"#REF!"},{"$error":"#REF!"},{"$error":"#REF!"},{"$error":"#REF!"},{"$error":"#REF!"},0,1,{"$error":"#REF!"},null,null,{"$error":"#REF!"},null,{"$error":"#REF!"},{"$error":"#REF!"},{"$error":"#REF!"},{"$f":"#REF!","v":{"$error":"#REF!"}},{"$f":"+#REF!","v":{"$error":"#REF!"}},{"$f":"+#REF!","v":{"$error":"#REF!"}},{"$f":"+#REF!","v":{"$error":"#REF!"}},{"$f":"+#REF!","v":{"$error":"#REF!"}},{"$f":"+#REF!","v":{"$error":"#REF!"}},{"$f":"+#REF!","v":{"$error":"#REF!"}},{"$f":"+'Plant AB TS S&L'!Y50","v":0},{"$f":"+'Plant AB TS S&L'!Z50","v":0},{"$f":"+#REF!","v":{"$error":"#REF!"}}]
[{"$f":"#REF!","v":{"$error":"#REF!"}},{"$f":"#REF!","v":{"$error":"#REF!"}},{"$f":"#REF!","v":{"$error":"#REF!"}},{"$error":"#REF!"},null,{"$error":"#REF!"},{"$error":"#REF!"},{"$error":"#REF!"},{"$error":"#REF!"},{"$error":"#REF!"},{"$error":"#REF!"},0,1,{"$error":"#REF!"},null,null,{"$error":"#REF!"},null,{"$error":"#REF!"},{"$error":"#REF!"},{"$error":"#REF!"},{"$f":"#REF!","v":{"$error":"#REF!"}},{"$f":"+#REF!","v":{"$error":"#REF!"}},{"$f":"+#REF!","v":{"$error":"#REF!"}},{"$f":"+#REF!","v":{"$error":"#REF!"}},{"$f":"+#REF!","v":{"$error":"#REF!"}},{"$f":"+#REF!","v":{"$error":"#REF!"}},{"$f":"+#REF!","v":{"$error":"#REF!"}},{"$f":"+'Plant AB TS S&L'!Y51","v":0},{"$f":"+'Plant AB TS S&L'!Z51","v":0},{"$f":"+#REF!","v":{"$error":"#REF!"}}]
[{"$f":"#REF!","v":{"$error":"#REF!"}},{"$f":"#REF!","v":{"$error":"#REF!"}},{"$f":"#REF!","v":{"$error":"#REF!"}},{"$error":"#REF!"},null,{"$error":"#REF!"},{"$error":"#REF!"},{"$error":"#REF!"},{"$error":"#REF!"},{"$error":"#REF!"},{"$error":"#REF!"},0,1,{"$error":"#REF!"},null,null,{"$error":"#REF!"},null,{"$error":"#REF!"},{"$error":"#REF!"},{"$error":"#REF!"},{"$f":"#REF!","v":{"$error":"#REF!"}},{"$f":"+#REF!","v":{"$error":"#REF!"}},{"$f":"+#REF!","v":{"$error":"#REF!"}},{"$f":"+#REF!","v":{"$error":"#REF!"}},{"$f":"+#REF!","v":{"$error":"#REF!"}},{"$f":"+#REF!","v":{"$error":"#REF!"}},{"$f":"+#REF!","v":{"$error":"#REF!"}},{"$f":"+'Plant AB TS S&L'!Y52","v":0},{"$f":"+'Plant AB TS S&L'!Z52","v":0},{"$f":"+#REF!","v":{"$error":"#REF!"}}]
[{"$f":"#REF!","v":{"$error":"#REF!"}},{"$f":"#REF!","v":{"$error":"#REF!"}},{"$f":"#REF!","v":{"$error":"#REF!"}},{"$error":"#REF!"},null,{"$error":"#REF!"},{"$error":"#REF!"},{"$error":"#REF!"},{"$error":"#REF!"},{"$error":"#REF!"},{"$error":"#REF!"},0,1,{"$error":"#REF!"},null,null,{"$error":"#REF!"},null,{"$error":"#REF!"},{"$error":"#REF!"},{"$error":"#REF!"},{"$f":"#REF!","v":{"$error":"#REF!"}},{"$f":"+#REF!","v":{"$error":"#REF!"}},{"$f":"+#REF!","v":{"$error":"#REF!"}},{"$f":"+#REF!","v":{"$error":"#REF!"}},{"$f":"+#REF!","v":{"$error":"#REF!"}},{"$f":"+#REF!","v":{"$error":"#REF!"}},{"$f":"+#REF!","v":{"$error":"#REF!"}},{"$f":"+'Plant AB TS S&L'!Y53","v":0},{"$f":"+'Plant AB TS S&L'!Z53","v":0},{"$f":"+#REF!","v":{"$error":"#REF!"}}]
[{"$f":"#REF!","v":{"$error":"#REF!"}},{"$f":"#REF!","v":{"$error":"#REF!"}},{"$f":"#REF!","v":{"$error":"#REF!"}},{"$error":"#REF!"},null,{"$error":"#REF!"},{"$error":"#REF!"},{"$error":"#REF!"},{"$error":"#REF!"},{"$error":"#REF!"},{"$error":"#REF!"},0,1,{"$error":"#REF!"},null,null,{"$error":"#REF!"},null,{"$error":"#REF!"},{"$error":"#REF!"},{"$error":"#REF!"},{"$f":"#REF!","v":{"$error":"#REF!"}},{"$f":"+#REF!","v":{"$error":"#REF!"}},{"$f":"+#REF!","v":{"$error":"#REF!"}},{"$f":"+#REF!","v":{"$error":"#REF!"}},{"$f":"+#REF!","v":{"$error":"#REF!"}},{"$f":"+#REF!","v":{"$error":"#REF!"}},{"$f":"+#REF!","v":{"$error":"#REF!"}},{"$f":"+'Plant AB TS S&L'!Y54","v":0},{"$f":"+'Plant AB TS S&L'!Z54","v":0},{"$f":"+#REF!","v":{"$error":"#REF!"}}]
[{"$f":"#REF!","v":{"$error":"#REF!"}},{"$f":"#REF!","v":{"$error":"#REF!"}},{"$f":"#REF!","v":{"$error":"#REF!"}},{"$error":"#REF!"},null,{"$error":"#REF!"},{"$error":"#REF!"},{"$error":"#REF!"},{"$error":"#REF!"},{"$error":"#REF!"},{"$error":"#REF!"},0,1,{"$error":"#REF!"},null,null,{"$error":"#REF!"},null,{"$error":"#REF!"},{"$error":"#REF!"},{"$error":"#REF!"},{"$f":"#REF!","v":{"$error":"#REF!"}},{"$f":"+#REF!","v":{"$error":"#REF!"}},{"$f":"+#REF!","v":{"$error":"#REF!"}},{"$f":"+#REF!","v":{"$error":"#REF!"}},{"$f":"+#REF!","v":{"$error":"#REF!"}},{"$f":"+#REF!","v":{"$error":"#REF!"}},{"$f":"+#REF!","v":{"$error":"#REF!"}},{"$f":"+'Plant AB TS S&L'!Y55","v":0},{"$f":"+'Plant AB TS S&L'!Z55","v":0},{"$f":"+#REF!","v":{"$error":"#REF!"}}]
[{"$f":"#REF!","v":{"$error":"#REF!"}},{"$f":"#REF!","v":{"$error":"#REF!"}},{"$f":"#REF!","v":{"$error":"#REF!"}},{"$error":"#REF!"},null,{"$error":"#REF!"},{"$error":"#REF!"},{"$error":"#REF!"},{"$error":"#REF!"},{"$error":"#REF!"},{"$error":"#REF!"},0,1,{"$error":"#REF!"},null,null,{"$error":"#REF!"},null,{"$error":"#REF!"},{"$error":"#REF!"},{"$error":"#REF!"},{"$f":"#REF!","v":{"$error":"#REF!"}},{"$f":"+#REF!","v":{"$error":"#REF!"}},{"$f":"+#REF!","v":{"$error":"#REF!"}},{"$f":"+#REF!","v":{"$error":"#REF!"}},{"$f":"+#REF!","v":{"$error":"#REF!"}},{"$f":"+#REF!","v":{"$error":"#REF!"}},{"$f":"+#REF!","v":{"$error":"#REF!"}},{"$f":"+'Plant AB TS S&L'!Y56","v":0},{"$f":"+'Plant AB TS S&L'!Z56","v":0},{"$f":"+#REF!","v":{"$error":"#REF!"}}]
[{"$f":"#REF!","v":{"$error":"#REF!"}},{"$f":"#REF!","v":{"$error":"#REF!"}},{"$f":"#REF!","v":{"$error":"#REF!"}},{"$error":"#REF!"},null,{"$error":"#REF!"},{"$error":"#REF!"},{"$error":"#REF!"},{"$error":"#REF!"},{"$error":"#REF!"},{"$error":"#REF!"},0,1,{"$error":"#REF!"},null,null,{"$error":"#REF!"},null,{"$error":"#REF!"},{"$error":"#REF!"},{"$error":"#REF!"},{"$f":"#REF!","v":{"$error":"#REF!"}},{"$f":"+#REF!","v":{"$error":"#REF!"}},{"$f":"+#REF!","v":{"$error":"#REF!"}},{"$f":"+#REF!","v":{"$error":"#REF!"}},{"$f":"+#REF!","v":{"$error":"#REF!"}},{"$f":"+#REF!","v":{"$error":"#REF!"}},{"$f":"+#REF!","v":{"$error":"#REF!"}},{"$f":"+'Plant AB TS S&L'!Y57","v":0},{"$f":"+'Plant AB TS S&L'!Z57","v":0},{"$f":"+#REF!","v":{"$error":"#REF!"}}]
[{"$f":"#REF!","v":{"$error":"#REF!"}},{"$f":"#REF!","v":{"$error":"#REF!"}},{"$f":"#REF!","v":{"$error":"#REF!"}},{"$error":"#REF!"},null,{"$error":"#REF!"},{"$error":"#REF!"},{"$error":"#REF!"},{"$error":"#REF!"},{"$error":"#REF!"},{"$error":"#REF!"},0,1,{"$error":"#REF!"},null,null,{"$error":"#REF!"},null,{"$error":"#REF!"},{"$error":"#REF!"},{"$error":"#REF!"},{"$f":"#REF!","v":{"$error":"#REF!"}},{"$f":"+#REF!","v":{"$error":"#REF!"}},{"$f":"+#REF!","v":{"$error":"#REF!"}},{"$f":"+#REF!","v":{"$error":"#REF!"}},{"$f":"+#REF!","v":{"$error":"#REF!"}},{"$f":"+#REF!","v":{"$error":"#REF!"}},{"$f":"+#REF!","v":{"$error":"#REF!"}},{"$f":"+'Plant AB TS S&L'!Y58","v":0},{"$f":"+'Plant AB TS S&L'!Z58","v":0},{"$f":"+#REF!","v":{"$error":"#REF!"}}]
[{"$f":"#REF!","v":{"$error":"#REF!"}},{"$f":"#REF!","v":{"$error":"#REF!"}},{"$f":"#REF!","v":{"$error":"#REF!"}},{"$error":"#REF!"},null,{"$error":"#REF!"},{"$error":"#REF!"},{"$error":"#REF!"},{"$error":"#REF!"},{"$error":"#REF!"},{"$error":"#REF!"},0,1,{"$error":"#REF!"},null,null,{"$error":"#REF!"},null,{"$error":"#REF!"},{"$error":"#REF!"},{"$error":"#REF!"},{"$f":"#REF!","v":{"$error":"#REF!"}},{"$f":"+#REF!","v":{"$error":"#REF!"}},{"$f":"+#REF!","v":{"$error":"#REF!"}},{"$f":"+#REF!","v":{"$error":"#REF!"}},{"$f":"+#REF!","v":{"$error":"#REF!"}},{"$f":"+#REF!","v":{"$error":"#REF!"}},{"$f":"+#REF!","v":{"$error":"#REF!"}},{"$f":"+'Plant AB TS S&L'!Y59","v":0},{"$f":"+'Plant AB TS S&L'!Z59","v":0},{"$f":"+#REF!","v":{"$error":"#REF!"}}]
[{"$f":"#REF!","v":{"$error":"#REF!"}},{"$f":"#REF!","v":{"$error":"#REF!"}},{"$f":"#REF!","v":{"$error":"#REF!"}},{"$error":"#REF!"},null,{"$error":"#REF!"},{"$error":"#REF!"},{"$error":"#REF!"},{"$error":"#REF!"},{"$error":"#REF!"},{"$error":"#REF!"},0,1,{"$error":"#REF!"},null,null,{"$error":"#REF!"},null,{"$error":"#REF!"},{"$error":"#REF!"},{"$error":"#REF!"},{"$f":"#REF!","v":{"$error":"#REF!"}},{"$f":"+#REF!","v":{"$error":"#REF!"}},{"$f":"+#REF!","v":{"$error":"#REF!"}},{"$f":"+#REF!","v":{"$error":"#REF!"}},{"$f":"+#REF!","v":{"$error":"#REF!"}},{"$f":"+#REF!","v":{"$error":"#REF!"}},{"$f":"+#REF!","v":{"$error":"#REF!"}},{"$f":"+'Plant AB TS S&L'!Y60","v":0},{"$f":"+'Plant AB TS S&L'!Z60","v":0},{"$f":"+#REF!","v":{"$error":"#REF!"}}]
[{"$f":"#REF!","v":{"$error":"#REF!"}},{"$f":"#REF!","v":{"$error":"#REF!"}},{"$f":"#REF!","v":{"$error":"#REF!"}},{"$error":"#REF!"},null,{"$error":"#REF!"},{"$error":"#REF!"},{"$error":"#REF!"},{"$error":"#REF!"},{"$error":"#REF!"},{"$error":"#REF!"},0,1,{"$error":"#REF!"},null,null,{"$error":"#REF!"},null,{"$error":"#REF!"},{"$error":"#REF!"},{"$error":"#REF!"},{"$f":"#REF!","v":{"$error":"#REF!"}},{"$f":"+#REF!","v":{"$error":"#REF!"}},{"$f":"+#REF!","v":{"$error":"#REF!"}},{"$f":"+#REF!","v":{"$error":"#REF!"}},{"$f":"+#REF!","v":{"$error":"#REF!"}},{"$f":"+#REF!","v":{"$error":"#REF!"}},{"$f":"+#REF!","v":{"$error":"#REF!"}},{"$f":"+'Plant AB TS S&L'!Y61","v":0},{"$f":"+'Plant AB TS S&L'!Z61","v":0},{"$f":"+#REF!","v":{"$error":"#REF!"}}]
[{"$f":"#REF!","v":{"$error":"#REF!"}},{"$f":"#REF!","v":{"$error":"#REF!"}},{"$f":"#REF!","v":{"$error":"#REF!"}},{"$error":"#REF!"},null,{"$error":"#REF!"},{"$error":"#REF!"},{"$error":"#REF!"},{"$error":"#REF!"},{"$error":"#REF!"},{"$error":"#REF!"},0,1,{"$error":"#REF!"},null,null,{"$error":"#REF!"},null,{"$error":"#REF!"},{"$error":"#REF!"},{"$error":"#REF!"},{"$f":"#REF!","v":{"$error":"#REF!"}},{"$f":"+#REF!","v":{"$error":"#REF!"}},{"$f":"+#REF!","v":{"$error":"#REF!"}},{"$f":"+#REF!","v":{"$error":"#REF!"}},{"$f":"+#REF!","v":{"$error":"#REF!"}},{"$f":"+#REF!","v":{"$error":"#REF!"}},{"$f":"+#REF!","v":{"$error":"#REF!"}},{"$f":"+'Plant AB TS S&L'!Y62","v":0},{"$f":"+'Plant AB TS S&L'!Z62","v":0},{"$f":"+#REF!","v":{"$error":"#REF!"}}]
[{"$f":"#REF!","v":{"$error":"#REF!"}},{"$f":"#REF!","v":{"$error":"#REF!"}},{"$f":"#REF!","v":{"$error":"#REF!"}},{"$error":"#REF!"},null,{"$error":"#REF!"},{"$error":"#REF!"},{"$error":"#REF!"},{"$error":"#REF!"},{"$error":"#REF!"},{"$error":"#REF!"},0,1,{"$error":"#REF!"},null,null,{"$error":"#REF!"},null,{"$error":"#REF!"},{"$error":"#REF!"},{"$error":"#REF!"},{"$f":"#REF!","v":{"$error":"#REF!"}},{"$f":"+#REF!","v":{"$error":"#REF!"}},{"$f":"+#REF!","v":{"$error":"#REF!"}},{"$f":"+#REF!","v":{"$error":"#REF!"}},{"$f":"+#REF!","v":{"$error":"#REF!"}},{"$f":"+#REF!","v":{"$error":"#REF!"}},{"$f":"+#REF!","v":{"$error":"#REF!"}},{"$f":"+'Plant AB TS S&L'!Y63","v":0},{"$f":"+'Plant AB TS S&L'!Z63","v":0},{"$f":"+#REF!","v":{"$error":"#REF!"}}]
[{"$f":"#REF!","v":{"$error":"#REF!"}},{"$f":"#REF!","v":{"$error":"#REF!"}},{"$f":"#REF!","v":{"$error":"#REF!"}},{"$error":"#REF!"},null,{"$error":"#REF!"},{"$error":"#REF!"},{"$error":"#REF!"},{"$error":"#REF!"},{"$error":"#REF!"},{"$error":"#REF!"},0,1,{"$error":"#REF!"},null,null,{"$error":"#REF!"},null,{"$error":"#REF!"},{"$error":"#REF!"},{"$error":"#REF!"},{"$f":"#REF!","v":{"$error":"#REF!"}},{"$f":"+#REF!","v":{"$error":"#REF!"}},{"$f":"+#REF!","v":{"$error":"#REF!"}},{"$f":"+#REF!","v":{"$error":"#REF!"}},{"$f":"+#REF!","v":{"$error":"#REF!"}},{"$f":"+#REF!","v":{"$error":"#REF!"}},{"$f":"+#REF!","v":{"$error":"#REF!"}},{"$f":"+'Plant AB TS S&L'!Y64","v":0},{"$f":"+'Plant AB TS S&L'!Z64","v":0},{"$f":"+#REF!","v":{"$error":"#REF!"}}]
[{"$f":"#REF!","v":{"$error":"#REF!"}},{"$f":"#REF!","v":{"$error":"#REF!"}},{"$f":"#REF!","v":{"$error":"#REF!"}},{"$error":"#REF!"},null,{"$error":"#REF!"},{"$error":"#REF!"},{"$error":"#REF!"},{"$error":"#REF!"},{"$error":"#REF!"},{"$error":"#REF!"},0,1,{"$error":"#REF!"},null,null,{"$error":"#REF!"},null,{"$error":"#REF!"},{"$error":"#REF!"},{"$error":"#REF!"},{"$f":"#REF!","v":{"$error":"#REF!"}},{"$f":"+#REF!","v":{"$error":"#REF!"}},{"$f":"+#REF!","v":{"$error":"#REF!"}},{"$f":"+#REF!","v":{"$error":"#REF!"}},{"$f":"+#REF!","v":{"$error":"#REF!"}},{"$f":"+#REF!","v":{"$error":"#REF!"}},{"$f":"+#REF!","v":{"$error":"#REF!"}},{"$f":"+'Plant AB TS S&L'!Y65","v":0},{"$f":"+'Plant AB TS S&L'!Z65","v":0},{"$f":"+#REF!","v":{"$error":"#REF!"}}]
[{"$f":"#REF!","v":{"$error":"#REF!"}},{"$f":"#REF!","v":{"$error":"#REF!"}},{"$f":"#REF!","v":{"$error":"#REF!"}},{"$error":"#REF!"},null,{"$error":"#REF!"},{"$error":"#REF!"},{"$error":"#REF!"},{"$error":"#REF!"},{"$error":"#REF!"},{"$error":"#REF!"},0,1,{"$error":"#REF!"},null,null,{"$error":"#REF!"},null,{"$error":"#REF!"},{"$error":"#REF!"},{"$error":"#REF!"},{"$f":"#REF!","v":{"$error":"#REF!"}},{"$f":"+#REF!","v":{"$error":"#REF!"}},{"$f":"+#REF!","v":{"$error":"#REF!"}},{"$f":"+#REF!","v":{"$error":"#REF!"}},{"$f":"+#REF!","v":{"$error":"#REF!"}},{"$f":"+#REF!","v":{"$error":"#REF!"}},{"$f":"+#REF!","v":{"$error":"#REF!"}},{"$f":"+'Plant AB TS S&L'!Y66","v":0},{"$f":"+'Plant AB TS S&L'!Z66","v":0},{"$f":"+#REF!","v":{"$error":"#REF!"}}]
[{"$f":"#REF!","v":{"$error":"#REF!"}},{"$f":"#REF!","v":{"$error":"#REF!"}},{"$f":"#REF!","v":{"$error":"#REF!"}},{"$error":"#REF!"},null,{"$error":"#REF!"},{"$error":"#REF!"},{"$error":"#REF!"},{"$error":"#REF!"},{"$error":"#REF!"},{"$error":"#REF!"},0,1,{"$error":"#REF!"},null,null,{"$error":"#REF!"},null,{"$error":"#REF!"},{"$error":"#REF!"},{"$error":"#REF!"},{"$f":"#REF!","v":{"$error":"#REF!"}},{"$f":"+#REF!","v":{"$error":"#REF!"}},{"$f":"+#REF!","v":{"$error":"#REF!"}},{"$f":"+#REF!","v":{"$error":"#REF!"}},{"$f":"+#REF!","v":{"$error":"#REF!"}},{"$f":"+#REF!","v":{"$error":"#REF!"}},{"$f":"+#REF!","v":{"$error":"#REF!"}},{"$f":"+'Plant AB TS S&L'!Y67","v":0},{"$f":"+'Plant AB TS S&L'!Z67","v":0},{"$f":"+#REF!","v":{"$error":"#REF!"}}]
[{"$f":"#REF!","v":{"$error":"#REF!"}},{"$f":"#REF!","v":{"$error":"#REF!"}},{"$f":"#REF!","v":{"$error":"#REF!"}},{"$f":"VALUE(MID(A68,3,10))","v":{"$error":"#REF!"}},null,{"$error":"#REF!"},{"$error":"#REF!"},{"$error":"#REF!"},{"$error":"#REF!"},{"$error":"#REF!"},{"$error":"#REF!"},0,1,{"$error":"#REF!"},null,null,{"$f":"SUM(G68:O68)-K68","v":{"$error":"#REF!"}},null,{"$error":"#REF!"},{"$error":"#REF!"},{"$error":"#REF!"},{"$f":"#REF!","v":{"$error":"#REF!"}},{"$f":"+#REF!","v":{"$error":"#REF!"}},{"$f":"+#REF!","v":{"$error":"#REF!"}},{"$f":"+#REF!","v":{"$error":"#REF!"}},{"$f":"+#REF!","v":{"$error":"#REF!"}},{"$f":"+#REF!","v":{"$error":"#REF!"}},{"$f":"+#REF!","v":{"$error":"#REF!"}},{"$f":"+'Plant AB TS S&L'!Y68","v":0},{"$f":"+'Plant AB TS S&L'!Z68","v":0},{"$f":"+#REF!","v":{"$error":"#REF!"}}]
[{"$f":"#REF!","v":{"$error":"#REF!"}},{"$f":"#REF!","v":{"$error":"#REF!"}},{"$f":"#REF!","v":{"$error":"#REF!"}},{"$f":"VALUE(MID(A69,3,10))","v":{"$error":"#REF!"}},null,{"$error":"#REF!"},{"$error":"#REF!"},{"$error":"#REF!"},{"$error":"#REF!"},{"$error":"#REF!"},{"$error":"#REF!"},0,1,{"$error":"#REF!"},null,null,{"$f":"SUM(G69:O69)-K69","v":{"$error":"#REF!"}},null,{"$f":"A67","v":{"$error":"#REF!"}},{"$error":"#REF!"},{"$error":"#REF!"},{"$f":"#REF!","v":{"$error":"#REF!"}},{"$f":"+#REF!","v":{"$error":"#REF!"}},{"$f":"+#REF!","v":{"$error":"#REF!"}},{"$f":"+#REF!","v":{"$error":"#REF!"}},{"$f":"+#REF!","v":{"$error":"#REF!"}},{"$f":"+#REF!","v":{"$error":"#REF!"}},{"$f":"+#REF!","v":{"$error":"#REF!"}},{"$f":"+'Plant AB TS S&L'!Y69","v":0},{"$f":"+'Plant AB TS S&L'!Z69","v":0},{"$f":"+#REF!","v":{"$error":"#REF!"}}]
[{"$f":"#REF!","v":{"$error":"#REF!"}},{"$f":"#REF!","v":{"$error":"#REF!"}},{"$f":"#REF!","v":{"$error":"#REF!"}},{"$f":"VALUE(MID(A70,3,10))","v":{"$error":"#REF!"}},null,{"$error":"#REF!"},{"$error":"#REF!"},{"$error":"#REF!"},{"$error":"#REF!"},{"$error":"#REF!"},{"$error":"#REF!"},0,1,{"$error":"#REF!"},null,null,{"$f":"SUM(G70:O70)-K70","v":{"$error":"#REF!"}},null,{"$error":"#REF!"},{"$error":"#REF!"},{"$f":"VALUE(MID(A68,3,10))","v":{"$error":"#REF!"}},{"$f":"#REF!","v":{"$error":"#REF!"}},{"$f":"+#REF!","v":{"$error":"#REF!"}},{"$f":"+#REF!","v":{"$error":"#REF!"}},{"$f":"+#REF!","v":{"$error":"#REF!"}},{"$f":"+#REF!","v":{"$error":"#REF!"}},{"$f":"+#REF!","v":{"$error":"#REF!"}},{"$f":"+#REF!","v":{"$error":"#REF!"}},{"$f":"+'Plant AB TS S&L'!Y70","v":0},{"$f":"+'Plant AB TS S&L'!Z70","v":0},{"$f":"+#REF!","v":{"$error":"#REF!"}}]
[{"$f":"#REF!","v":{"$error":"#REF!"}},{"$f":"#REF!","v":{"$error":"#REF!"}},{"$f":"#REF!","v":{"$error":"#REF!"}},{"$f":"VALUE(MID(A71,3,10))","v":{"$error":"#REF!"}},null,{"$error":"#REF!"},{"$error":"#REF!"},{"$error":"#REF!"},{"$error":"#REF!"},{"$error":"#REF!"},{"$error":"#REF!"},0,1,{"$error":"#REF!"},null,null,{"$f":"SUM(G71:O71)-K71","v":{"$error":"#REF!"}},null,{"$error":"#REF!"},{"$error":"#REF!"},{"$f":"VALUE(MID(A69,3,10))","v":{"$error":"#REF!"}},{"$f":"#REF!","v":{"$error":"#REF!"}},{"$f":"+#REF!","v":{"$error":"#REF!"}},{"$f":"+#REF!","v":{"$error":"#REF!"}},{"$f":"+#REF!","v":{"$error":"#REF!"}},{"$f":"+#REF!","v":{"$error":"#REF!"}},{"$f":"+#REF!","v":{"$error":"#REF!"}},{"$f":"+#REF!","v":{"$error":"#REF!"}},{"$f":"+'Plant AB TS S&L'!Y71","v":0},{"$f":"+'Plant AB TS S&L'!Z71","v":0},{"$f":"+#REF!","v":{"$error":"#REF!"}}]
[null,null,null,null,null,{"$f":"SUM(F3:F71)","v":{"$error":"#REF!"}},{"$f":"SUM(G3:G71)","v":{"$error":"#REF!"}},{"$error":"#REF!"},{"$error":"#REF!"},{"$error":"#REF!"},{"$error":"#REF!"},0,69,{"$error":"#REF!"},null,null,null,null,{"$error":"#REF!"},{"$error":"#REF!"},{"$f":"VALUE(MID(A70,3,10))","v":{"$error":"#REF!"}},{"$f":"#REF!","v":{"$error":"#REF!"}},{"$f":"+#REF!","v":{"$error":"#REF!"}},{"$f":"+#REF!","v":{"$error":"#REF!"}},{"$f":"+#REF!","v":{"$error":"#REF!"}},{"$f":"+#REF!","v":{"$error":"#REF!"}},{"$f":"+#REF!","v":{"$error":"#REF!"}},{"$f":"+#REF!","v":{"$error":"#REF!"}},{"$f":"+'Plant AB TS S&L'!Y72","v":0},{"$f":"+'Plant AB TS S&L'!Z72","v":0},{"$f":"+#REF!","v":{"$error":"#REF!"}}]
[null,null,null,null,null,null,null,{"$f":"SUM(G72:H72)","v":{"$error":"#REF!"}},null,null,null,null,{"$f":"SUM(L72:M72)","v":69},null,null,null,null,null,{"$error":"#REF!"},{"$error":"#REF!"},{"$f":"VALUE(MID(A71,3,10))","v":{"$error":"#REF!"}},{"$f":"#REF!","v":{"$error":"#REF!"}},{"$f":"+#REF!","v":{"$error":"#REF!"}},{"$f":"+#REF!","v":{"$error":"#REF!"}},{"$f":"+#REF!","v":{"$error":"#REF!"}},{"$f":"+#REF!","v":{"$error":"#REF!"}},{"$f":"+#REF!","v":{"$error":"#REF!"}},{"$f":"+#REF!","v":{"$error":"#REF!"}},{"$f":"+'Plant AB TS S&L'!Y73","v":0},{"$f":"+'Plant AB TS S&L'!Z73","v":0},{"$f":"+#REF!","v":{"$error":"#REF!"}}]
[null,null,null,null,null,null,null,null,null,null,null,null,null,null,null,null,null,null,null,null,null,null,{"$f":"SUM(W5:W73)","v":{"$error":"#REF!"}},{"$f":"SUM(X5:X73)","v":{"$error":"#REF!"}},{"$error":"#REF!"},{"$error":"#REF!"},{"$error":"#REF!"},{"$error":"#REF!"},0,1,{"$error":"#REF!"}]
[]
[]
[]
[]
[]
[]
[]
[]
[]
[]
[]
[]
[]
[]
[]
[]
[]
[null,"S.D. MAINS",null,"unadj. Avg"]
[null,"mtr rating",null,"cost","population #",{"$f":"F1","v":"GS"},"GSR","GSC","FS","IS","TS","TSS","TSL","FT1","NGV","Tot. S.D. Main","Adj. S.D. Main"]
[]
[{"$f":"#REF!","v":{"$error":"#REF!"}},{"$f":"#REF!","v":{"$error":"#REF!"}},{"$f":"#REF!","v":{"$error":"#REF!"}},{"$f":"IFERROR(AVERAGEIFS(maindollars,rating,A95,rating,B95,pressure,C95),0)","v":0},{"$f":"Q3","v":{"$error":"#REF!"}},{"$f":"F3*$D95","v":{"$error":"#REF!"}},{"$error":"#REF!"},{"$error":"#REF!"},{"$error":"#REF!"},{"$error":"#REF!"},{"$error":"#REF!"},{"$f":"L3*$D95","v":0},0,{"$error":"#REF!"},0,{"$f":"SUM(G95:O95)-K95","v":{"$error":"#REF!"}},{"$f":"P95*$P$166","v":{"$error":"#REF!"}}]
[{"$f":"#REF!","v":{"$error":"#REF!"}},{"$f":"#REF!","v":{"$error":"#REF!"}},{"$f":"#REF!","v":{"$error":"#REF!"}},0,{"$error":"#REF!"},{"$error":"#REF!"},{"$error":"#REF!"},{"$error":"#REF!"},{"$error":"#REF!"},{"$error":"#REF!"},{"$error":"#REF!"},0,0,{"$error":"#REF!"},0,{"$f":"SUM(G96:O96)-K96","v":{"$error":"#REF!"}},{"$error":"#REF!"}]
[{"$f":"#REF!","v":{"$error":"#REF!"}},{"$f":"#REF!","v":{"$error":"#REF!"}},{"$f":"#REF!","v":{"$error":"#REF!"}},0,{"$error":"#REF!"},{"$error":"#REF!"},{"$error":"#REF!"},{"$error":"#REF!"},{"$error":"#REF!"},{"$error":"#REF!"},{"$error":"#REF!"},0,0,{"$error":"#REF!"},0,{"$error":"#REF!"},{"$error":"#REF!"}]
[{"$f":"#REF!","v":{"$error":"#REF!"}},{"$f":"#REF!","v":{"$error":"#REF!"}},{"$f":"#REF!","v":{"$error":"#REF!"}},0,{"$error":"#REF!"},{"$error":"#REF!"},{"$error":"#REF!"},{"$error":"#REF!"},{"$error":"#REF!"},{"$error":"#REF!"},{"$error":"#REF!"},0,0,{"$error":"#REF!"},0,{"$error":"#REF!"},{"$error":"#REF!"}]
[{"$f":"#REF!","v":{"$error":"#REF!"}},{"$f":"#REF!","v":{"$error":"#REF!"}},{"$f":"#REF!","v":{"$error":"#REF!"}},0,{"$error":"#REF!"},{"$error":"#REF!"},{"$error":"#REF!"},{"$error":"#REF!"},{"$error":"#REF!"},{"$error":"#REF!"},{"$error":"#REF!"},0,0,{"$error":"#REF!"},0,{"$error":"#REF!"},{"$error":"#REF!"}]
[{"$f":"#REF!","v":{"$error":"#REF!"}},{"$f":"#REF!","v":{"$error":"#REF!"}},{"$f":"#REF!","v":{"$error":"#REF!"}},0,{"$error":"#REF!"},{"$error":"#REF!"},{"$error":"#REF!"},{"$error":"#REF!"},{"$error":"#REF!"},{"$error":"#REF!"},{"$error":"#REF!"},0,0,{"$error":"#REF!"},0,{"$error":"#REF!"},{"$error":"#REF!"}]
[{"$f":"#REF!","v":{"$error":"#REF!"}},{"$f":"#REF!","v":{"$error":"#REF!"}},{"$f":"#REF!","v":{"$error":"#REF!"}},0,{"$error":"#REF!"},{"$error":"#REF!"},{"$error":"#REF!"},{"$error":"#REF!"},{"$error":"#REF!"},{"$error":"#REF!"},{"$error":"#REF!"},0,0,{"$error":"#REF!"},0,{"$error":"#REF!"},{"$error":"#REF!"}]
[{"$f":"#REF!","v":{"$error":"#REF!"}},{"$f":"#REF!","v":{"$error":"#REF!"}},{"$f":"#REF!","v":{"$error":"#REF!"}},0,{"$error":"#REF!"},{"$error":"#REF!"},{"$error":"#REF!"},{"$error":"#REF!"},{"$error":"#REF!"},{"$error":"#REF!"},{"$error":"#REF!"},0,0,{"$error":"#REF!"},0,{"$error":"#REF!"},{"$error":"#REF!"}]
[{"$f":"#REF!","v":{"$error":"#REF!"}},{"$f":"#REF!","v":{"$error":"#REF!"}},{"$f":"#REF!","v":{"$error":"#REF!"}},0,{"$error":"#REF!"},{"$error":"#REF!"},{"$error":"#REF!"},{"$error":"#REF!"},{"$error":"#REF!"},{"$error":"#REF!"},{"$error":"#REF!"},0,0,{"$error":"#REF!"},0,{"$error":"#REF!"},{"$error":"#REF!"}]
[{"$f":"#REF!","v":{"$error":"#REF!"}},{"$f":"#REF!","v":{"$error":"#REF!"}},{"$f":"#REF!","v":{"$error":"#REF!"}},0,{"$error":"#REF!"},{"$error":"#REF!"},{"$error":"#REF!"},{"$error":"#REF!"},{"$error":"#REF!"},{"$error":"#REF!"},{"$error":"#REF!"},0,0,{"$error":"#REF!"},0,{"$error":"#REF!"},{"$error":"#REF!"}]
[{"$f":"#REF!","v":{"$error":"#REF!"}},{"$f":"#REF!","v":{"$error":"#REF!"}},{"$f":"#REF!","v":{"$error":"#REF!"}},0,{"$error":"#REF!"},{"$error":"#REF!"},{"$error":"#REF!"},{"$error":"#REF!"},{"$error":"#REF!"},{"$error":"#REF!"},{"$error":"#REF!"},0,0,{"$error":"#REF!"},0,{"$error":"#REF!"},{"$error":"#REF!"}]
[{"$f":"#REF!","v":{"$error":"#REF!"}},{"$f":"#REF!","v":{"$error":"#REF!"}},{"$f":"#REF!","v":{"$error":"#REF!"}},0,{"$error":"#REF!"},{"$error":"#REF!"},{"$error":"#REF!"},{"$error":"#REF!"},{"$error":"#REF!"},{"$error":"#REF!"},{"$error":"#REF!"},0,0,{"$error":"#REF!"},0,{"$error":"#REF!"},{"$error":"#REF!"}]
[{"$f":"#REF!","v":{"$error":"#REF!"}},{"$f":"#REF!","v":{"$error":"#REF!"}},{"$f":"#REF!","v":{"$error":"#REF!"}},0,{"$error":"#REF!"},{"$error":"#REF!"},{"$error":"#REF!"},{"$error":"#REF!"},{"$error":"#REF!"},{"$error":"#REF!"},{"$error":"#REF!"},0,0,{"$error":"#REF!"},0,{"$error":"#REF!"},{"$error":"#REF!"}]
[{"$f":"#REF!","v":{"$error":"#REF!"}},{"$f":"#REF!","v":{"$error":"#REF!"}},{"$f":"#REF!","v":{"$error":"#REF!"}},0,{"$error":"#REF!"},{"$error":"#REF!"},{"$error":"#REF!"},{"$error":"#REF!"},{"$error":"#REF!"},{"$error":"#REF!"},{"$error":"#REF!"},0,0,{"$error":"#REF!"},0,{"$error":"#REF!"},{"$error":"#REF!"}]
[{"$f":"#REF!","v":{"$error":"#REF!"}},{"$f":"#REF!","v":{"$error":"#REF!"}},{"$f":"#REF!","v":{"$error":"#REF!"}},0,{"$error":"#REF!"},{"$error":"#REF!"},{"$error":"#REF!"},{"$error":"#REF!"},{"$error":"#REF!"},{"$error":"#REF!"},{"$error":"#REF!"},0,0,{"$error":"#REF!"},0,{"$error":"#REF!"},{"$error":"#REF!"}]
[{"$f":"#REF!","v":{"$error":"#REF!"}},{"$f":"#REF!","v":{"$error":"#REF!"}},{"$f":"#REF!","v":{"$error":"#REF!"}},0,{"$error":"#REF!"},{"$error":"#REF!"},{"$error":"#REF!"},{"$error":"#REF!"},{"$error":"#REF!"},{"$error":"#REF!"},{"$error":"#REF!"},0,0,{"$error":"#REF!"},0,{"$error":"#REF!"},{"$error":"#REF!"}]
[{"$f":"#REF!","v":{"$error":"#REF!"}},{"$f":"#REF!","v":{"$error":"#REF!"}},{"$f":"#REF!","v":{"$error":"#REF!"}},0,{"$error":"#REF!"},{"$f":"F19*$D111","v":{"$error":"#REF!"}},{"$error":"#REF!"},{"$error":"#REF!"},{"$error":"#REF!"},{"$error":"#REF!"},{"$error":"#REF!"},0,0,{"$error":"#REF!"},0,{"$error":"#REF!"},{"$error":"#REF!"}]
[{"$f":"#REF!","v":{"$error":"#REF!"}},{"$f":"#REF!","v":{"$error":"#REF!"}},{"$f":"#REF!","v":{"$error":"#REF!"}},0,{"$error":"#REF!"},{"$error":"#REF!"},{"$error":"#REF!"},{"$error":"#REF!"},{"$error":"#REF!"},{"$error":"#REF!"},{"$error":"#REF!"},0,0,{"$error":"#REF!"},0,{"$error":"#REF!"},{"$error":"#REF!"}]
[{"$f":"#REF!","v":{"$error":"#REF!"}},{"$f":"#REF!","v":{"$error":"#REF!"}},{"$f":"#REF!","v":{"$error":"#REF!"}},0,{"$error":"#REF!"},{"$error":"#REF!"},{"$error":"#REF!"},{"$error":"#REF!"},{"$error":"#REF!"},{"$error":"#REF!"},{"$error":"#REF!"},0,0,{"$error":"#REF!"},0,{"$error":"#REF!"},{"$error":"#REF!"}]
[{"$f":"#REF!","v":{"$error":"#REF!"}},{"$f":"#REF!","v":{"$error":"#REF!"}},{"$f":"#REF!","v":{"$error":"#REF!"}},0,{"$error":"#REF!"},{"$error":"#REF!"},{"$error":"#REF!"},{"$error":"#REF!"},{"$error":"#REF!"},{"$error":"#REF!"},{"$error":"#REF!"},0,0,{"$error":"#REF!"},{"$error":"#REF!"},{"$error":"#REF!"},{"$error":"#REF!"}]
[{"$f":"#REF!","v":{"$error":"#REF!"}},{"$f":"#REF!","v":{"$error":"#REF!"}},{"$f":"#REF!","v":{"$error":"#REF!"}},0,{"$error":"#REF!"},{"$error":"#REF!"},{"$error":"#REF!"},{"$error":"#REF!"},{"$error":"#REF!"},{"$error":"#REF!"},{"$error":"#REF!"},0,0,{"$error":"#REF!"},0,{"$error":"#REF!"},{"$error":"#REF!"}]
[{"$f":"#REF!","v":{"$error":"#REF!"}},{"$f":"#REF!","v":{"$error":"#REF!"}},{"$f":"#REF!","v":{"$error":"#REF!"}},0,{"$error":"#REF!"},{"$error":"#REF!"},{"$error":"#REF!"},{"$error":"#REF!"},{"$error":"#REF!"},{"$error":"#REF!"},{"$error":"#REF!"},0,0,{"$error":"#REF!"},0,{"$error":"#REF!"},{"$error":"#REF!"}]
[{"$f":"#REF!","v":{"$error":"#REF!"}},{"$f":"#REF!","v":{"$error":"#REF!"}},{"$f":"#REF!","v":{"$error":"#REF!"}},0,{"$error":"#REF!"},{"$error":"#REF!"},{"$error":"#REF!"},{"$error":"#REF!"},{"$error":"#REF!"},{"$error":"#REF!"},{"$error":"#REF!"},0,0,{"$error":"#REF!"},0,{"$error":"#REF!"},{"$error":"#REF!"}]
[{"$f":"#REF!","v":{"$error":"#REF!"}},{"$f":"#REF!","v":{"$error":"#REF!"}},{"$f":"#REF!","v":{"$error":"#REF!"}},0,{"$error":"#REF!"},{"$error":"#REF!"},{"$error":"#REF!"},{"$error":"#REF!"},{"$error":"#REF!"},{"$error":"#REF!"},{"$error":"#REF!"},0,0,{"$error":"#REF!"},0,{"$error":"#REF!"},{"$error":"#REF!"}]
[{"$f":"#REF!","v":{"$error":"#REF!"}},{"$f":"#REF!","v":{"$error":"#REF!"}},{"$f":"#REF!","v":{"$error":"#REF!"}},0,{"$error":"#REF!"},{"$error":"#REF!"},{"$error":"#REF!"},{"$error":"#REF!"},{"$error":"#REF!"},{"$error":"#REF!"},{"$error":"#REF!"},0,0,{"$error":"#REF!"},0,{"$error":"#REF!"},{"$error":"#REF!"}]
[{"$f":"#REF!","v":{"$error":"#REF!"}},{"$f":"#REF!","v":{"$error":"#REF!"}},{"$f":"#REF!","v":{"$error":"#REF!"}},0,{"$error":"#REF!"},{"$error":"#REF!"},{"$error":"#REF!"},{"$error":"#REF!"},{"$error":"#REF!"},{"$error":"#REF!"},{"$error":"#REF!"},0,0,{"$error":"#REF!"},0,{"$error":"#REF!"},{"$error":"#REF!"}]
[{"$f":"#REF!","v":{"$error":"#REF!"}},{"$f":"#REF!","v":{"$error":"#REF!"}},{"$f":"#REF!","v":{"$error":"#REF!"}},0,{"$error":"#REF!"},{"$error":"#REF!"},{"$error":"#REF!"},{"$error":"#REF!"},{"$error":"#REF!"},{"$error":"#REF!"},{"$error":"#REF!"},0,0,{"$error":"#REF!"},0,{"$error":"#REF!"},{"$error":"#REF!"}]
[{"$f":"#REF!","v":{"$error":"#REF!"}},{"$f":"#REF!","v":{"$error":"#REF!"}},{"$f":"#REF!","v":{"$error":"#REF!"}},0,{"$error":"#REF!"},{"$error":"#REF!"},{"$error":"#REF!"},{"$error":"#REF!"},{"$error":"#REF!"},{"$error":"#REF!"},{"$error":"#REF!"},0,0,{"$error":"#REF!"},0,{"$error":"#REF!"},{"$error":"#REF!"}]
[{"$f":"#REF!","v":{"$error":"#REF!"}},{"$f":"#REF!","v":{"$error":"#REF!"}},{"$f":"#REF!","v":{"$error":"#REF!"}},0,{"$error":"#REF!"},{"$error":"#REF!"},{"$error":"#REF!"},{"$error":"#REF!"},{"$error":"#REF!"},{"$error":"#REF!"},{"$error":"#REF!"},0,0,{"$error":"#REF!"},0,{"$error":"#REF!"},{"$error":"#REF!"}]
[{"$f":"#REF!","v":{"$error":"#REF!"}},{"$f":"#REF!","v":{"$error":"#REF!"}},{"$f":"#REF!","v":{"$error":"#REF!"}},0,{"$error":"#REF!"},{"$error":"#REF!"},{"$error":"#REF!"},{"$error":"#REF!"},{"$error":"#REF!"},{"$error":"#REF!"},{"$error":"#REF!"},0,0,{"$error":"#REF!"},0,{"$error":"#REF!"},{"$error":"#REF!"}]
[{"$f":"#REF!","v":{"$error":"#REF!"}},{"$f":"#REF!","v":{"$error":"#REF!"}},{"$f":"#REF!","v":{"$error":"#REF!"}},0,{"$error":"#REF!"},{"$error":"#REF!"},{"$error":"#REF!"},{"$error":"#REF!"},{"$error":"#REF!"},{"$error":"#REF!"},{"$error":"#REF!"},0,0,{"$error":"#REF!"},0,{"$error":"#REF!"},{"$error":"#REF!"}]
[{"$f":"#REF!","v":{"$error":"#REF!"}},{"$f":"#REF!","v":{"$error":"#REF!"}},{"$f":"#REF!","v":{"$error":"#REF!"}},0,{"$error":"#REF!"},{"$error":"#REF!"},{"$error":"#REF!"},{"$error":"#REF!"},{"$error":"#REF!"},{"$error":"#REF!"},{"$error":"#REF!"},0,0,{"$error":"#REF!"},0,{"$error":"#REF!"},{"$error":"#REF!"}]
[{"$f":"#REF!","v":{"$error":"#REF!"}},{"$f":"#REF!","v":{"$error":"#REF!"}},{"$f":"#REF!","v":{"$error":"#REF!"}},{"$f":"IFERROR(AVERAGEIFS(maindollars,rating,A127,rating,B127,pressure,C127),0)","v":0},{"$error":"#REF!"},{"$f":"F35*$D127","v":{"$error":"#REF!"}},{"$error":"#REF!"},{"$error":"#REF!"},{"$error":"#REF!"},{"$error":"#REF!"},{"$error":"#REF!"},0,0,{"$error":"#REF!"},0,{"$error":"#REF!"},{"$error":"#REF!"}]
[{"$f":"#REF!","v":{"$error":"#REF!"}},{"$f":"#REF!","v":{"$error":"#REF!"}},{"$f":"#REF!","v":{"$error":"#REF!"}},0,{"$error":"#REF!"},{"$error":"#REF!"},{"$error":"#REF!"},{"$error":"#REF!"},{"$error":"#REF!"},{"$error":"#REF!"},{"$error":"#REF!"},0,0,{"$error":"#REF!"},0,{"$error":"#REF!"},{"$error":"#REF!"}]
[{"$f":"#REF!","v":{"$error":"#REF!"}},{"$f":"#REF!","v":{"$error":"#REF!"}},{"$f":"#REF!","v":{"$error":"#REF!"}},0,{"$error":"#REF!"},{"$error":"#REF!"},{"$error":"#REF!"},{"$error":"#REF!"},{"$error":"#REF!"},{"$error":"#REF!"},{"$error":"#REF!"},0,0,{"$error":"#REF!"},0,{"$error":"#REF!"},{"$error":"#REF!"}]
[{"$f":"#REF!","v":{"$error":"#REF!"}},{"$f":"#REF!","v":{"$error":"#REF!"}},{"$f":"#REF!","v":{"$error":"#REF!"}},0,{"$error":"#REF!"},{"$error":"#REF!"},{"$error":"#REF!"},{"$error":"#REF!"},{"$error":"#REF!"},{"$error":"#REF!"},{"$error":"#REF!"},0,0,{"$error":"#REF!"},0,{"$error":"#REF!"},{"$error":"#REF!"}]
[{"$f":"#REF!","v":{"$error":"#REF!"}},{"$f":"#REF!","v":{"$error":"#REF!"}},{"$f":"#REF!","v":{"$error":"#REF!"}},0,{"$error":"#REF!"},{"$error":"#REF!"},{"$error":"#REF!"},{"$error":"#REF!"},{"$error":"#REF!"},{"$error":"#REF!"},{"$error":"#REF!"},0,0,{"$error":"#REF!"},0,{"$error":"#REF!"},{"$error":"#REF!"}]
[{"$f":"#REF!","v":{"$error":"#REF!"}},{"$f":"#REF!","v":{"$error":"#REF!"}},{"$f":"#REF!","v":{"$error":"#REF!"}},0,{"$error":"#REF!"},{"$error":"#REF!"},{"$error":"#REF!"},{"$error":"#REF!"},{"$error":"#REF!"},{"$error":"#REF!"},{"$error":"#REF!"},0,0,{"$error":"#REF!"},0,{"$error":"#REF!"},{"$error":"#REF!"}]
[{"$f":"#REF!","v":{"$error":"#REF!"}},{"$f":"#REF!","v":{"$error":"#REF!"}},{"$f":"#REF!","v":{"$error":"#REF!"}},0,{"$error":"#REF!"},{"$error":"#REF!"},{"$error":"#REF!"},{"$error":"#REF!"},{"$error":"#REF!"},{"$error":"#REF!"},{"$error":"#REF!"},0,0,{"$error":"#REF!"},0,{"$error":"#REF!"},{"$error":"#REF!"}]
[{"$f":"#REF!","v":{"$error":"#REF!"}},{"$f":"#REF!","v":{"$error":"#REF!"}},{"$f":"#REF!","v":{"$error":"#REF!"}},0,{"$error":"#REF!"},{"$error":"#REF!"},{"$error":"#REF!"},{"$error":"#REF!"},{"$error":"#REF!"},{"$error":"#REF!"},{"$error":"#REF!"},0,0,{"$error":"#REF!"},0,{"$error":"#REF!"},{"$error":"#REF!"}]
[{"$f":"#REF!","v":{"$error":"#REF!"}},{"$f":"#REF!","v":{"$error":"#REF!"}},{"$f":"#REF!","v":{"$error":"#REF!"}},0,{"$error":"#REF!"},{"$error":"#REF!"},{"$error":"#REF!"},{"$error":"#REF!"},{"$error":"#REF!"},{"$error":"#REF!"},{"$error":"#REF!"},0,0,{"$error":"#REF!"},0,{"$error":"#REF!"},{"$error":"#REF!"}]
[{"$f":"#REF!","v":{"$error":"#REF!"}},{"$f":"#REF!","v":{"$error":"#REF!"}},{"$f":"#REF!","v":{"$error":"#REF!"}},0,{"$error":"#REF!"},{"$error":"#REF!"},{"$error":"#REF!"},{"$error":"#REF!"},{"$error":"#REF!"},{"$error":"#REF!"},{"$error":"#REF!"},0,0,{"$error":"#REF!"},0,{"$error":"#REF!"},{"$error":"#REF!"}]
[{"$f":"#REF!","v":{"$error":"#REF!"}},{"$f":"#REF!","v":{"$error":"#REF!"}},{"$f":"#REF!","v":{"$error":"#REF!"}},0,{"$error":"#REF!"},{"$error":"#REF!"},{"$error":"#REF!"},{"$error":"#REF!"},{"$error":"#REF!"},{"$error":"#REF!"},{"$error":"#REF!"},0,0,{"$error":"#REF!"},0,{"$error":"#REF!"},{"$error":"#REF!"}]
[{"$f":"#REF!","v":{"$error":"#REF!"}},{"$f":"#REF!","v":{"$error":"#REF!"}},{"$f":"#REF!","v":{"$error":"#REF!"}},0,{"$error":"#REF!"},{"$error":"#REF!"},{"$error":"#REF!"},{"$error":"#REF!"},{"$error":"#REF!"},{"$error":"#REF!"},{"$error":"#REF!"},0,0,{"$error":"#REF!"},0,{"$error":"#REF!"},{"$error":"#REF!"}]
[{"$f":"#REF!","v":{"$error":"#REF!"}},{"$f":"#REF!","v":{"$error":"#REF!"}},{"$f":"#REF!","v":{"$error":"#REF!"}},0,{"$error":"#REF!"},{"$error":"#REF!"},{"$error":"#REF!"},{"$error":"#REF!"},{"$error":"#REF!"},{"$error":"#REF!"},{"$error":"#REF!"},0,0,{"$error":"#REF!"},0,{"$error":"#REF!"},{"$error":"#REF!"}]
[{"$f":"#REF!","v":{"$error":"#REF!"}},{"$f":"#REF!","v":{"$error":"#REF!"}},{"$f":"#REF!","v":{"$error":"#REF!"}},0,{"$error":"#REF!"},{"$error":"#REF!"},{"$error":"#REF!"},{"$error":"#REF!"},{"$error":"#REF!"},{"$error":"#REF!"},{"$error":"#REF!"},0,0,{"$error":"#REF!"},0,{"$error":"#REF!"},{"$error":"#REF!"}]
[{"$f":"#REF!","v":{"$error":"#REF!"}},{"$f":"#REF!","v":{"$error":"#REF!"}},{"$f":"#REF!","v":{"$error":"#REF!"}},0,{"$error":"#REF!"},{"$error":"#REF!"},{"$error":"#REF!"},{"$error":"#REF!"},{"$error":"#REF!"},{"$error":"#REF!"},{"$error":"#REF!"},0,0,{"$error":"#REF!"},0,{"$error":"#REF!"},{"$error":"#REF!"}]
[{"$f":"#REF!","v":{"$error":"#REF!"}},{"$f":"#REF!","v":{"$error":"#REF!"}},{"$f":"#REF!","v":{"$error":"#REF!"}},0,{"$error":"#REF!"},{"$error":"#REF!"},{"$error":"#REF!"},{"$error":"#REF!"},{"$error":"#REF!"},{"$error":"#REF!"},{"$error":"#REF!"},0,0,{"$error":"#REF!"},0,{"$error":"#REF!"},{"$error":"#REF!"}]
[{"$f":"#REF!","v":{"$error":"#REF!"}},{"$f":"#REF!","v":{"$error":"#REF!"}},{"$f":"#REF!","v":{"$error":"#REF!"}},0,{"$error":"#REF!"},{"$f":"F51*$D143","v":{"$error":"#REF!"}},{"$error":"#REF!"},{"$error":"#REF!"},{"$error":"#REF!"},{"$error":"#REF!"},{"$error":"#REF!"},0,0,{"$error":"#REF!"},0,{"$error":"#REF!"},{"$error":"#REF!"}]
[{"$f":"#REF!","v":{"$error":"#REF!"}},{"$f":"#REF!","v":{"$error":"#REF!"}},{"$f":"#REF!","v":{"$error":"#REF!"}},0,{"$error":"#REF!"},{"$error":"#REF!"},{"$error":"#REF!"},{"$error":"#REF!"},{"$error":"#REF!"},{"$error":"#REF!"},{"$error":"#REF!"},0,0,{"$error":"#REF!"},0,{"$error":"#REF!"},{"$error":"#REF!"}]
[{"$f":"#REF!","v":{"$error":"#REF!"}},{"$f":"#REF!","v":{"$error":"#REF!"}},{"$f":"#REF!","v":{"$error":"#REF!"}},0,{"$error":"#REF!"},{"$error":"#REF!"},{"$error":"#REF!"},{"$error":"#REF!"},{"$error":"#REF!"},{"$error":"#REF!"},{"$error":"#REF!"},0,0,{"$error":"#REF!"},0,{"$error":"#REF!"},{"$error":"#REF!"}]
[{"$f":"#REF!","v":{"$error":"#REF!"}},{"$f":"#REF!","v":{"$error":"#REF!"}},{"$f":"#REF!","v":{"$error":"#REF!"}},0,{"$error":"#REF!"},{"$error":"#REF!"},{"$error":"#REF!"},{"$error":"#REF!"},{"$error":"#REF!"},{"$error":"#REF!"},{"$error":"#REF!"},0,0,{"$error":"#REF!"},0,{"$error":"#REF!"},{"$error":"#REF!"}]
[{"$f":"#REF!","v":{"$error":"#REF!"}},{"$f":"#REF!","v":{"$error":"#REF!"}},{"$f":"#REF!","v":{"$error":"#REF!"}},0,{"$error":"#REF!"},{"$error":"#REF!"},{"$error":"#REF!"},{"$error":"#REF!"},{"$error":"#REF!"},{"$error":"#REF!"},{"$error":"#REF!"},0,0,{"$error":"#REF!"},0,{"$error":"#REF!"},{"$error":"#REF!"}]
[{"$f":"#REF!","v":{"$error":"#REF!"}},{"$f":"#REF!","v":{"$error":"#REF!"}},{"$f":"#REF!","v":{"$error":"#REF!"}},0,{"$error":"#REF!"},{"$error":"#REF!"},{"$error":"#REF!"},{"$error":"#REF!"},{"$error":"#REF!"},{"$error":"#REF!"},{"$error":"#REF!"},0,0,{"$error":"#REF!"},0,{"$error":"#REF!"},{"$error":"#REF!"}]
[{"$f":"#REF!","v":{"$error":"#REF!"}},{"$f":"#REF!","v":{"$error":"#REF!"}},{"$f":"#REF!","v":{"$error":"#REF!"}},0,{"$error":"#REF!"},{"$error":"#REF!"},{"$error":"#REF!"},{"$error":"#REF!"},{"$error":"#REF!"},{"$error":"#REF!"},{"$error":"#REF!"},0,0,{"$error":"#REF!"},0,{"$error":"#REF!"},{"$error":"#REF!"}]
[{"$f":"#REF!","v":{"$error":"#REF!"}},{"$f":"#REF!","v":{"$error":"#REF!"}},{"$f":"#REF!","v":{"$error":"#REF!"}},0,{"$error":"#REF!"},{"$error":"#REF!"},{"$error":"#REF!"},{"$error":"#REF!"},{"$error":"#REF!"},{"$error":"#REF!"},{"$error":"#REF!"},0,0,{"$error":"#REF!"},0,{"$error":"#REF!"},{"$error":"#REF!"}]
[{"$f":"#REF!","v":{"$error":"#REF!"}},{"$f":"#REF!","v":{"$error":"#REF!"}},{"$f":"#REF!","v":{"$error":"#REF!"}},0,{"$error":"#REF!"},{"$error":"#REF!"},{"$error":"#REF!"},{"$error":"#REF!"},{"$error":"#REF!"},{"$error":"#REF!"},{"$error":"#REF!"},0,0,{"$error":"#REF!"},0,{"$error":"#REF!"},{"$error":"#REF!"}]
[{"$f":"#REF!","v":{"$error":"#REF!"}},{"$f":"#REF!","v":{"$error":"#REF!"}},{"$f":"#REF!","v":{"$error":"#REF!"}},0,{"$error":"#REF!"},{"$error":"#REF!"},{"$error":"#REF!"},{"$error":"#REF!"},{"$error":"#REF!"},{"$error":"#REF!"},{"$error":"#REF!"},0,0,{"$error":"#REF!"},0,{"$error":"#REF!"},{"$error":"#REF!"}]
[{"$f":"#REF!","v":{"$error":"#REF!"}},{"$f":"#REF!","v":{"$error":"#REF!"}},{"$f":"#REF!","v":{"$error":"#REF!"}},0,{"$error":"#REF!"},{"$error":"#REF!"},{"$error":"#REF!"},{"$error":"#REF!"},{"$error":"#REF!"},{"$error":"#REF!"},{"$error":"#REF!"},0,0,{"$error":"#REF!"},0,{"$error":"#REF!"},{"$error":"#REF!"}]
[{"$f":"#REF!","v":{"$error":"#REF!"}},{"$f":"#REF!","v":{"$error":"#REF!"}},{"$f":"#REF!","v":{"$error":"#REF!"}},0,{"$error":"#REF!"},{"$error":"#REF!"},{"$error":"#REF!"},{"$error":"#REF!"},{"$error":"#REF!"},{"$error":"#REF!"},{"$error":"#REF!"},0,0,{"$error":"#REF!"},0,{"$error":"#REF!"},{"$error":"#REF!"}]
[{"$f":"#REF!","v":{"$error":"#REF!"}},{"$f":"#REF!","v":{"$error":"#REF!"}},{"$f":"#REF!","v":{"$error":"#REF!"}},0,{"$error":"#REF!"},{"$error":"#REF!"},{"$error":"#REF!"},{"$error":"#REF!"},{"$error":"#REF!"},{"$error":"#REF!"},{"$error":"#REF!"},0,0,{"$error":"#REF!"},0,{"$error":"#REF!"},{"$error":"#REF!"}]
[{"$f":"#REF!","v":{"$error":"#REF!"}},{"$f":"#REF!","v":{"$error":"#REF!"}},{"$f":"#REF!","v":{"$error":"#REF!"}},0,{"$error":"#REF!"},{"$error":"#REF!"},{"$error":"#REF!"},{"$error":"#REF!"},{"$error":"#REF!"},{"$error":"#REF!"},{"$error":"#REF!"},0,0,{"$error":"#REF!"},0,{"$error":"#REF!"},{"$error":"#REF!"}]
[{"$f":"#REF!","v":{"$error":"#REF!"}},{"$f":"#REF!","v":{"$error":"#REF!"}},{"$f":"#REF!","v":{"$error":"#REF!"}},0,{"$error":"#REF!"},{"$error":"#REF!"},{"$error":"#REF!"},{"$error":"#REF!"},{"$error":"#REF!"},{"$error":"#REF!"},{"$error":"#REF!"},0,0,{"$error":"#REF!"},0,{"$error":"#REF!"},{"$error":"#REF!"}]
[{"$f":"#REF!","v":{"$error":"#REF!"}},{"$f":"#REF!","v":{"$error":"#REF!"}},{"$f":"#REF!","v":{"$error":"#REF!"}},0,{"$error":"#REF!"},{"$error":"#REF!"},{"$error":"#REF!"},{"$error":"#REF!"},{"$error":"#REF!"},{"$error":"#REF!"},{"$error":"#REF!"},0,0,{"$error":"#REF!"},0,{"$error":"#REF!"},{"$error":"#REF!"}]
[{"$f":"#REF!","v":{"$error":"#REF!"}},{"$f":"#REF!","v":{"$error":"#REF!"}},{"$f":"#REF!","v":{"$error":"#REF!"}},{"$f":"IFERROR(AVERAGEIFS(maindollars,rating,A159,rating,B159,pressure,C159),0)","v":0},{"$f":"Q67","v":{"$error":"#REF!"}},{"$f":"F67*$D159","v":{"$error":"#REF!"}},{"$error":"#REF!"},{"$error":"#REF!"},{"$error":"#REF!"},{"$error":"#REF!"},{"$error":"#REF!"},0,0,{"$error":"#REF!"},0,{"$error":"#REF!"},{"$f":"P159*$P$166","v":{"$error":"#REF!"}}]
[{"$f":"#REF!","v":{"$error":"#REF!"}},{"$f":"#REF!","v":{"$error":"#REF!"}},{"$f":"#REF!","v":{"$error":"#REF!"}},{"$f":"IFERROR(AVERAGEIFS(maindollars,rating,A160,rating,B160,pressure,C160),0)","v":0},{"$f":"Q68","v":{"$error":"#REF!"}},{"$error":"#REF!"},{"$error":"#REF!"},{"$error":"#REF!"},{"$error":"#REF!"},{"$error":"#REF!"},{"$error":"#REF!"},0,0,{"$error":"#REF!"},0,{"$f":"SUM(G160:O160)-K160","v":{"$error":"#REF!"}},{"$f":"P160*$P$166","v":{"$error":"#REF!"}}]
[{"$f":"#REF!","v":{"$error":"#REF!"}},{"$f":"#REF!","v":{"$error":"#REF!"}},{"$f":"#REF!","v":{"$error":"#REF!"}},{"$f":"IFERROR(AVERAGEIFS(maindollars,rating,A161,rating,B161,pressure,C161),0)","v":0},{"$f":"Q69","v":{"$error":"#REF!"}},{"$error":"#REF!"},{"$error":"#REF!"},{"$error":"#REF!"},{"$error":"#REF!"},{"$error":"#REF!"},{"$error":"#REF!"},0,0,{"$error":"#REF!"},0,{"$f":"SUM(G161:O161)-K161","v":{"$error":"#REF!"}},{"$f":"P161*$P$166","v":{"$error":"#REF!"}}]
[{"$f":"#REF!","v":{"$error":"#REF!"}},{"$f":"#REF!","v":{"$error":"#REF!"}},{"$f":"#REF!","v":{"$error":"#REF!"}},{"$f":"IFERROR(AVERAGEIFS(maindollars,rating,A162,rating,B162,pressure,C162),0)","v":0},{"$f":"Q70","v":{"$error":"#REF!"}},{"$error":"#REF!"},{"$error":"#REF!"},{"$error":"#REF!"},{"$error":"#REF!"},{"$error":"#REF!"},{"$error":"#REF!"},0,0,{"$error":"#REF!"},0,{"$f":"SUM(G162:O162)-K162","v":{"$error":"#REF!"}},{"$f":"P162*$P$166","v":{"$error":"#REF!"}}]
[{"$f":"#REF!","v":{"$error":"#REF!"}},{"$f":"#REF!","v":{"$error":"#REF!"}},{"$f":"#REF!","v":{"$error":"#REF!"}},{"$f":"IFERROR(AVERAGEIFS(maindollars,rating,A163,rating,B163,pressure,C163),0)","v":0},{"$f":"Q71","v":{"$error":"#REF!"}},{"$error":"#REF!"},{"$error":"#REF!"},{"$error":"#REF!"},{"$error":"#REF!"},{"$error":"#REF!"},{"$error":"#REF!"},0,0,{"$error":"#REF!"},0,{"$f":"SUM(G163:O163)-K163","v":{"$error":"#REF!"}},{"$f":"P163*$P$166","v":{"$error":"#REF!"}}]
[null,"unadjusted total cost",null,null,null,{"$f":"SUM(F94:F163)","v":{"$error":"#REF!"}},{"$f":"SUM(G94:G163)","v":{"$error":"#REF!"}},{"$error":"#REF!"},{"$error":"#REF!"},{"$error":"#REF!"},{"$error":"#REF!"},{"$f":"SUM(L94:L163)","v":0},{"$f":"SUM(M94:M163)","v":0},{"$error":"#REF!"},{"$error":"#REF!"},{"$f":"SUM(G164:O164)-K164","v":{"$error":"#REF!"}},{"$f":"SUM(Q95:Q163)","v":{"$error":"#REF!"}}]
[null,null,null,null,null,{"$f":"F164/$P$164","v":{"$error":"#REF!"}},{"$error":"#REF!"},{"$error":"#REF!"},{"$error":"#REF!"},{"$error":"#REF!"},{"$error":"#REF!"},{"$f":"L164/$P$164","v":{"$error":"#REF!"}},{"$f":"M164/$P$164","v":{"$error":"#REF!"}},{"$f":"N164/$P$164","v":{"$error":"#REF!"}},{"$f":"O164/$P$164","v":{"$error":"#REF!"}}]
[null,"adjusted total cost",null,null,null,{"$f":"F164/$P$164*$Q$166","v":{"$error":"#REF!"}},{"$error":"#REF!"},{"$error":"#REF!"},{"$error":"#REF!"},{"$error":"#REF!"},{"$error":"#REF!"},{"$f":"L164/$P$164*$Q$166","v":{"$error":"#REF!"}},{"$f":"M164/$P$164*$Q$166","v":{"$error":"#REF!"}},{"$f":"N164/$P$164*$Q$166","v":{"$error":"#REF!"}},{"$f":"O164/$P$164*$Q$166","v":{"$error":"#REF!"}},{"$f":"Q166/P164","v":{"$error":"#REF!"}},{"$f":"#REF!","v":{"$error":"#REF!"}}]
[]
[]
[null,"SERVICE",null,"unadjusted"]
[null,"mtr rating",null,"avg cost",null,{"$f":"+F93","v":"GS"},"GSR","GSC","FS","IS","TS",{"$f":"+L93","v":"TSS"},{"$f":"+M93","v":"TSL"},"FT1","NGV","Total Service","Adj. Service"]
[]
[{"$f":"#REF!","v":{"$error":"#REF!"}},{"$f":"#REF!","v":{"$error":"#REF!"}},{"$f":"#REF!","v":{"$error":"#REF!"}},{"$f":"IFERROR(AVERAGEIFS(servicedollars,rating,A172,rating,B172,pressure,C172),0)","v":0},{"$f":"E95","v":{"$error":"#REF!"}},{"$f":"F3*$D172","v":{"$error":"#REF!"}},{"$error":"#REF!"},{"$error":"#REF!"},{"$error":"#REF!"},{"$error":"#REF!"},{"$error":"#REF!"},{"$f":"L3*$D172","v":0},0,{"$error":"#REF!"},0,{"$f":"SUM(G172:O172)-K172","v":{"$error":"#REF!"}},{"$f":"P172*$P$243","v":{"$error":"#REF!"}}]
[{"$f":"#REF!","v":{"$error":"#REF!"}},{"$f":"#REF!","v":{"$error":"#REF!"}},{"$f":"#REF!","v":{"$error":"#REF!"}},0,{"$error":"#REF!"},{"$error":"#REF!"},{"$error":"#REF!"},{"$error":"#REF!"},{"$error":"#REF!"},{"$error":"#REF!"},{"$error":"#REF!"},0,0,{"$error":"#REF!"},0,{"$f":"SUM(G173:O173)-K173","v":{"$error":"#REF!"}},{"$error":"#REF!"}]
[{"$f":"#REF!","v":{"$error":"#REF!"}},{"$f":"#REF!","v":{"$error":"#REF!"}},{"$f":"#REF!","v":{"$error":"#REF!"}},0,{"$error":"#REF!"},{"$error":"#REF!"},{"$error":"#REF!"},{"$error":"#REF!"},{"$error":"#REF!"},{"$error":"#REF!"},{"$error":"#REF!"},0,0,{"$error":"#REF!"},0,{"$error":"#REF!"},{"$error":"#REF!"}]
[{"$f":"#REF!","v":{"$error":"#REF!"}},{"$f":"#REF!","v":{"$error":"#REF!"}},{"$f":"#REF!","v":{"$error":"#REF!"}},0,{"$error":"#REF!"},{"$error":"#REF!"},{"$error":"#REF!"},{"$error":"#REF!"},{"$error":"#REF!"},{"$error":"#REF!"},{"$error":"#REF!"},0,0,{"$error":"#REF!"},0,{"$error":"#REF!"},{"$error":"#REF!"}]
[{"$f":"#REF!","v":{"$error":"#REF!"}},{"$f":"#REF!","v":{"$error":"#REF!"}},{"$f":"#REF!","v":{"$error":"#REF!"}},0,{"$error":"#REF!"},{"$error":"#REF!"},{"$error":"#REF!"},{"$error":"#REF!"},{"$error":"#REF!"},{"$error":"#REF!"},{"$error":"#REF!"},0,0,{"$error":"#REF!"},0,{"$error":"#REF!"},{"$error":"#REF!"}]
[{"$f":"#REF!","v":{"$error":"#REF!"}},{"$f":"#REF!","v":{"$error":"#REF!"}},{"$f":"#REF!","v":{"$error":"#REF!"}},0,{"$error":"#REF!"},{"$error":"#REF!"},{"$error":"#REF!"},{"$error":"#REF!"},{"$error":"#REF!"},{"$error":"#REF!"},{"$error":"#REF!"},0,0,{"$error":"#REF!"},0,{"$error":"#REF!"},{"$error":"#REF!"}]
[{"$f":"#REF!","v":{"$error":"#REF!"}},{"$f":"#REF!","v":{"$error":"#REF!"}},{"$f":"#REF!","v":{"$error":"#REF!"}},0,{"$error":"#REF!"},{"$error":"#REF!"},{"$error":"#REF!"},{"$error":"#REF!"},{"$error":"#REF!"},{"$error":"#REF!"},{"$error":"#REF!"},0,0,{"$error":"#REF!"},0,{"$error":"#REF!"},{"$error":"#REF!"}]
[{"$f":"#REF!","v":{"$error":"#REF!"}},{"$f":"#REF!","v":{"$error":"#REF!"}},{"$f":"#REF!","v":{"$error":"#REF!"}},0,{"$error":"#REF!"},{"$error":"#REF!"},{"$error":"#REF!"},{"$error":"#REF!"},{"$error":"#REF!"},{"$error":"#REF!"},{"$error":"#REF!"},0,0,{"$error":"#REF!"},0,{"$error":"#REF!"},{"$error":"#REF!"}]
[{"$f":"#REF!","v":{"$error":"#REF!"}},{"$f":"#REF!","v":{"$error":"#REF!"}},{"$f":"#REF!","v":{"$error":"#REF!"}},0,{"$error":"#REF!"},{"$error":"#REF!"},{"$error":"#REF!"},{"$error":"#REF!"},{"$error":"#REF!"},{"$error":"#REF!"},{"$error":"#REF!"},0,0,{"$error":"#REF!"},0,{"$error":"#REF!"},{"$error":"#REF!"}]
[{"$f":"#REF!","v":{"$error":"#REF!"}},{"$f":"#REF!","v":{"$error":"#REF!"}},{"$f":"#REF!","v":{"$error":"#REF!"}},0,{"$error":"#REF!"},{"$error":"#REF!"},{"$error":"#REF!"},{"$error":"#REF!"},{"$error":"#REF!"},{"$error":"#REF!"},{"$error":"#REF!"},0,0,{"$error":"#REF!"},0,{"$error":"#REF!"},{"$error":"#REF!"}]
[{"$f":"#REF!","v":{"$error":"#REF!"}},{"$f":"#REF!","v":{"$error":"#REF!"}},{"$f":"#REF!","v":{"$error":"#REF!"}},0,{"$error":"#REF!"},{"$error":"#REF!"},{"$error":"#REF!"},{"$error":"#REF!"},{"$error":"#REF!"},{"$error":"#REF!"},{"$error":"#REF!"},0,0,{"$error":"#REF!"},0,{"$error":"#REF!"},{"$error":"#REF!"}]
[{"$f":"#REF!","v":{"$error":"#REF!"}},{"$f":"#REF!","v":{"$error":"#REF!"}},{"$f":"#REF!","v":{"$error":"#REF!"}},0,{"$error":"#REF!"},{"$error":"#REF!"},{"$error":"#REF!"},{"$error":"#REF!"},{"$error":"#REF!"},{"$error":"#REF!"},{"$error":"#REF!"},0,0,{"$error":"#REF!"},0,{"$error":"#REF!"},{"$error":"#REF!"}]
[{"$f":"#REF!","v":{"$error":"#REF!"}},{"$f":"#REF!","v":{"$error":"#REF!"}},{"$f":"#REF!","v":{"$error":"#REF!"}},0,{"$error":"#REF!"},{"$error":"#REF!"},{"$error":"#REF!"},{"$error":"#REF!"},{"$error":"#REF!"},{"$error":"#REF!"},{"$error":"#REF!"},0,0,{"$error":"#REF!"},0,{"$error":"#REF!"},{"$error":"#REF!"}]
[{"$f":"#REF!","v":{"$error":"#REF!"}},{"$f":"#REF!","v":{"$error":"#REF!"}},{"$f":"#REF!","v":{"$error":"#REF!"}},0,{"$error":"#REF!"},{"$error":"#REF!"},{"$error":"#REF!"},{"$error":"#REF!"},{"$error":"#REF!"},{"$error":"#REF!"},{"$error":"#REF!"},0,0,{"$error":"#REF!"},0,{"$error":"#REF!"},{"$error":"#REF!"}]
[{"$f":"#REF!","v":{"$error":"#REF!"}},{"$f":"#REF!","v":{"$error":"#REF!"}},{"$f":"#REF!","v":{"$error":"#REF!"}},0,{"$error":"#REF!"},{"$error":"#REF!"},{"$error":"#REF!"},{"$error":"#REF!"},{"$error":"#REF!"},{"$error":"#REF!"},{"$error":"#REF!"},0,0,{"$error":"#REF!"},0,{"$error":"#REF!"},{"$error":"#REF!"}]
[{"$f":"#REF!","v":{"$error":"#REF!"}},{"$f":"#REF!","v":{"$error":"#REF!"}},{"$f":"#REF!","v":{"$error":"#REF!"}},0,{"$error":"#REF!"},{"$error":"#REF!"},{"$error":"#REF!"},{"$error":"#REF!"},{"$error":"#REF!"},{"$error":"#REF!"},{"$error":"#REF!"},0,0,{"$error":"#REF!"},0,{"$error":"#REF!"},{"$error":"#REF!"}]
[{"$f":"#REF!","v":{"$error":"#REF!"}},{"$f":"#REF!","v":{"$error":"#REF!"}},{"$f":"#REF!","v":{"$error":"#REF!"}},0,{"$error":"#REF!"},{"$f":"F19*$D188","v":{"$error":"#REF!"}},{"$error":"#REF!"},{"$error":"#REF!"},{"$error":"#REF!"},{"$error":"#REF!"},{"$error":"#REF!"},0,0,{"$error":"#REF!"},0,{"$error":"#REF!"},{"$error":"#REF!"}]
[{"$f":"#REF!","v":{"$error":"#REF!"}},{"$f":"#REF!","v":{"$error":"#REF!"}},{"$f":"#REF!","v":{"$error":"#REF!"}},0,{"$error":"#REF!"},{"$error":"#REF!"},{"$error":"#REF!"},{"$error":"#REF!"},{"$error":"#REF!"},{"$error":"#REF!"},{"$error":"#REF!"},0,0,{"$error":"#REF!"},0,{"$error":"#REF!"},{"$error":"#REF!"}]
[{"$f":"#REF!","v":{"$error":"#REF!"}},{"$f":"#REF!","v":{"$error":"#REF!"}},{"$f":"#REF!","v":{"$error":"#REF!"}},0,{"$error":"#REF!"},{"$error":"#REF!"},{"$error":"#REF!"},{"$error":"#REF!"},{"$error":"#REF!"},{"$error":"#REF!"},{"$error":"#REF!"},0,0,{"$error":"#REF!"},0,{"$error":"#REF!"},{"$error":"#REF!"}]
[{"$f":"#REF!","v":{"$error":"#REF!"}},{"$f":"#REF!","v":{"$error":"#REF!"}},{"$f":"#REF!","v":{"$error":"#REF!"}},0,{"$error":"#REF!"},{"$error":"#REF!"},{"$error":"#REF!"},{"$error":"#REF!"},{"$error":"#REF!"},{"$error":"#REF!"},{"$error":"#REF!"},0,0,{"$error":"#REF!"},{"$error":"#REF!"},{"$error":"#REF!"},{"$error":"#REF!"}]
[{"$f":"#REF!","v":{"$error":"#REF!"}},{"$f":"#REF!","v":{"$error":"#REF!"}},{"$f":"#REF!","v":{"$error":"#REF!"}},0,{"$error":"#REF!"},{"$error":"#REF!"},{"$error":"#REF!"},{"$error":"#REF!"},{"$error":"#REF!"},{"$error":"#REF!"},{"$error":"#REF!"},0,0,{"$error":"#REF!"},0,{"$error":"#REF!"},{"$error":"#REF!"}]
[{"$f":"#REF!","v":{"$error":"#REF!"}},{"$f":"#REF!","v":{"$error":"#REF!"}},{"$f":"#REF!","v":{"$error":"#REF!"}},0,{"$error":"#REF!"},{"$error":"#REF!"},{"$error":"#REF!"},{"$error":"#REF!"},{"$error":"#REF!"},{"$error":"#REF!"},{"$error":"#REF!"},0,0,{"$error":"#REF!"},0,{"$error":"#REF!"},{"$error":"#REF!"}]
[{"$f":"#REF!","v":{"$error":"#REF!"}},{"$f":"#REF!","v":{"$error":"#REF!"}},{"$f":"#REF!","v":{"$error":"#REF!"}},0,{"$error":"#REF!"},{"$error":"#REF!"},{"$error":"#REF!"},{"$error":"#REF!"},{"$error":"#REF!"},{"$error":"#REF!"},{"$error":"#REF!"},0,0,{"$error":"#REF!"},0,{"$error":"#REF!"},{"$error":"#REF!"}]
[{"$f":"#REF!","v":{"$error":"#REF!"}},{"$f":"#REF!","v":{"$error":"#REF!"}},{"$f":"#REF!","v":{"$error":"#REF!"}},0,{"$error":"#REF!"},{"$error":"#REF!"},{"$error":"#REF!"},{"$error":"#REF!"},{"$error":"#REF!"},{"$error":"#REF!"},{"$error":"#REF!"},0,0,{"$error":"#REF!"},0,{"$error":"#REF!"},{"$error":"#REF!"}]
[{"$f":"#REF!","v":{"$error":"#REF!"}},{"$f":"#REF!","v":{"$error":"#REF!"}},{"$f":"#REF!","v":{"$error":"#REF!"}},0,{"$error":"#REF!"},{"$error":"#REF!"},{"$error":"#REF!"},{"$error":"#REF!"},{"$error":"#REF!"},{"$error":"#REF!"},{"$error":"#REF!"},0,0,{"$error":"#REF!"},0,{"$error":"#REF!"},{"$error":"#REF!"}]
[{"$f":"#REF!","v":{"$error":"#REF!"}},{"$f":"#REF!","v":{"$error":"#REF!"}},{"$f":"#REF!","v":{"$error":"#REF!"}},0,{"$error":"#REF!"},{"$error":"#REF!"},{"$error":"#REF!"},{"$error":"#REF!"},{"$error":"#REF!"},{"$error":"#REF!"},{"$error":"#REF!"},0,0,{"$error":"#REF!"},0,{"$error":"#REF!"},{"$error":"#REF!"}]
[{"$f":"#REF!","v":{"$error":"#REF!"}},{"$f":"#REF!","v":{"$error":"#REF!"}},{"$f":"#REF!","v":{"$error":"#REF!"}},0,{"$error":"#REF!"},{"$error":"#REF!"},{"$error":"#REF!"},{"$error":"#REF!"},{"$error":"#REF!"},{"$error":"#REF!"},{"$error":"#REF!"},0,0,{"$error":"#REF!"},0,{"$error":"#REF!"},{"$error":"#REF!"}]
[{"$f":"#REF!","v":{"$error":"#REF!"}},{"$f":"#REF!","v":{"$error":"#REF!"}},{"$f":"#REF!","v":{"$error":"#REF!"}},0,{"$error":"#REF!"},{"$error":"#REF!"},{"$error":"#REF!"},{"$error":"#REF!"},{"$error":"#REF!"},{"$error":"#REF!"},{"$error":"#REF!"},0,0,{"$error":"#REF!"},0,{"$error":"#REF!"},{"$error":"#REF!"}]
[{"$f":"#REF!","v":{"$error":"#REF!"}},{"$f":"#REF!","v":{"$error":"#REF!"}},{"$f":"#REF!","v":{"$error":"#REF!"}},0,{"$error":"#REF!"},{"$error":"#REF!"},{"$error":"#REF!"},{"$error":"#REF!"},{"$error":"#REF!"},{"$error":"#REF!"},{"$error":"#REF!"},0,0,{"$error":"#REF!"},0,{"$error":"#REF!"},{"$error":"#REF!"}]
[{"$f":"#REF!","v":{"$error":"#REF!"}},{"$f":"#REF!","v":{"$error":"#REF!"}},{"$f":"#REF!","v":{"$error":"#REF!"}},0,{"$error":"#REF!"},{"$error":"#REF!"},{"$error":"#REF!"},{"$error":"#REF!"},{"$error":"#REF!"},{"$error":"#REF!"},{"$error":"#REF!"},0,0,{"$error":"#REF!"},0,{"$error":"#REF!"},{"$error":"#REF!"}]
[{"$f":"#REF!","v":{"$error":"#REF!"}},{"$f":"#REF!","v":{"$error":"#REF!"}},{"$f":"#REF!","v":{"$error":"#REF!"}},0,{"$error":"#REF!"},{"$error":"#REF!"},{"$error":"#REF!"},{"$error":"#REF!"},{"$error":"#REF!"},{"$error":"#REF!"},{"$error":"#REF!"},0,0,{"$error":"#REF!"},0,{"$error":"#REF!"},{"$error":"#REF!"}]
[{"$f":"#REF!","v":{"$error":"#REF!"}},{"$f":"#REF!","v":{"$error":"#REF!"}},{"$f":"#REF!","v":{"$error":"#REF!"}},0,{"$error":"#REF!"},{"$error":"#REF!"},{"$error":"#REF!"},{"$error":"#REF!"},{"$error":"#REF!"},{"$error":"#REF!"},{"$error":"#REF!"},0,0,{"$error":"#REF!"},0,{"$error":"#REF!"},{"$error":"#REF!"}]
[{"$f":"#REF!","v":{"$error":"#REF!"}},{"$f":"#REF!","v":{"$error":"#REF!"}},{"$f":"#REF!","v":{"$error":"#REF!"}},0,{"$error":"#REF!"},{"$f":"F35*$D204","v":{"$error":"#REF!"}},{"$error":"#REF!"},{"$error":"#REF!"},{"$error":"#REF!"},{"$error":"#REF!"},{"$error":"#REF!"},0,0,{"$error":"#REF!"},0,{"$error":"#REF!"},{"$error":"#REF!"}]
[{"$f":"#REF!","v":{"$error":"#REF!"}},{"$f":"#REF!","v":{"$error":"#REF!"}},{"$f":"#REF!","v":{"$error":"#REF!"}},0,{"$error":"#REF!"},{"$error":"#REF!"},{"$error":"#REF!"},{"$error":"#REF!"},{"$error":"#REF!"},{"$error":"#REF!"},{"$error":"#REF!"},0,0,{"$error":"#REF!"},0,{"$error":"#REF!"},{"$error":"#REF!"}]
[{"$f":"#REF!","v":{"$error":"#REF!"}},{"$f":"#REF!","v":{"$error":"#REF!"}},{"$f":"#REF!","v":{"$error":"#REF!"}},0,{"$error":"#REF!"},{"$error":"#REF!"},{"$error":"#REF!"},{"$error":"#REF!"},{"$error":"#REF!"},{"$error":"#REF!"},{"$error":"#REF!"},0,0,{"$error":"#REF!"},0,{"$error":"#REF!"},{"$error":"#REF!"}]
[{"$f":"#REF!","v":{"$error":"#REF!"}},{"$f":"#REF!","v":{"$error":"#REF!"}},{"$f":"#REF!","v":{"$error":"#REF!"}},0,{"$error":"#REF!"},{"$error":"#REF!"},{"$error":"#REF!"},{"$error":"#REF!"},{"$error":"#REF!"},{"$error":"#REF!"},{"$error":"#REF!"},0,0,{"$error":"#REF!"},0,{"$error":"#REF!"},{"$error":"#REF!"}]
[{"$f":"#REF!","v":{"$error":"#REF!"}},{"$f":"#REF!","v":{"$error":"#REF!"}},{"$f":"#REF!","v":{"$error":"#REF!"}},0,{"$error":"#REF!"},{"$error":"#REF!"},{"$error":"#REF!"},{"$error":"#REF!"},{"$error":"#REF!"},{"$error":"#REF!"},{"$error":"#REF!"},0,0,{"$error":"#REF!"},0,{"$error":"#REF!"},{"$error":"#REF!"}]
[{"$f":"#REF!","v":{"$error":"#REF!"}},{"$f":"#REF!","v":{"$error":"#REF!"}},{"$f":"#REF!","v":{"$error":"#REF!"}},0,{"$error":"#REF!"},{"$error":"#REF!"},{"$error":"#REF!"},{"$error":"#REF!"},{"$error":"#REF!"},{"$error":"#REF!"},{"$error":"#REF!"},0,0,{"$error":"#REF!"},0,{"$error":"#REF!"},{"$error":"#REF!"}]
[{"$f":"#REF!","v":{"$error":"#REF!"}},{"$f":"#REF!","v":{"$error":"#REF!"}},{"$f":"#REF!","v":{"$error":"#REF!"}},0,{"$error":"#REF!"},{"$error":"#REF!"},{"$error":"#REF!"},{"$error":"#REF!"},{"$error":"#REF!"},{"$error":"#REF!"},{"$error":"#REF!"},0,0,{"$error":"#REF!"},0,{"$error":"#REF!"},{"$error":"#REF!"}]
[{"$f":"#REF!","v":{"$error":"#REF!"}},{"$f":"#REF!","v":{"$error":"#REF!"}},{"$f":"#REF!","v":{"$error":"#REF!"}},0,{"$error":"#REF!"},{"$error":"#REF!"},{"$error":"#REF!"},{"$error":"#REF!"},{"$error":"#REF!"},{"$error":"#REF!"},{"$error":"#REF!"},0,0,{"$error":"#REF!"},0,{"$error":"#REF!"},{"$error":"#REF!"}]
[{"$f":"#REF!","v":{"$error":"#REF!"}},{"$f":"#REF!","v":{"$error":"#REF!"}},{"$f":"#REF!","v":{"$error":"#REF!"}},0,{"$error":"#REF!"},{"$error":"#REF!"},{"$error":"#REF!"},{"$error":"#REF!"},{"$error":"#REF!"},{"$error":"#REF!"},{"$error":"#REF!"},0,0,{"$error":"#REF!"},0,{"$error":"#REF!"},{"$error":"#REF!"}]
[{"$f":"#REF!","v":{"$error":"#REF!"}},{"$f":"#REF!","v":{"$error":"#REF!"}},{"$f":"#REF!","v":{"$error":"#REF!"}},0,{"$error":"#REF!"},{"$error":"#REF!"},{"$error":"#REF!"},{"$error":"#REF!"},{"$error":"#REF!"},{"$error":"#REF!"},{"$error":"#REF!"},0,0,{"$error":"#REF!"},0,{"$error":"#REF!"},{"$error":"#REF!"}]
[{"$f":"#REF!","v":{"$error":"#REF!"}},{"$f":"#REF!","v":{"$error":"#REF!"}},{"$f":"#REF!","v":{"$error":"#REF!"}},0,{"$error":"#REF!"},{"$error":"#REF!"},{"$error":"#REF!"},{"$error":"#REF!"},{"$error":"#REF!"},{"$error":"#REF!"},{"$error":"#REF!"},0,0,{"$error":"#REF!"},0,{"$error":"#REF!"},{"$error":"#REF!"}]
[{"$f":"#REF!","v":{"$error":"#REF!"}},{"$f":"#REF!","v":{"$error":"#REF!"}},{"$f":"#REF!","v":{"$error":"#REF!"}},0,{"$error":"#REF!"},{"$error":"#REF!"},{"$error":"#REF!"},{"$error":"#REF!"},{"$error":"#REF!"},{"$error":"#REF!"},{"$error":"#REF!"},0,0,{"$error":"#REF!"},0,{"$error":"#REF!"},{"$error":"#REF!"}]
[{"$f":"#REF!","v":{"$error":"#REF!"}},{"$f":"#REF!","v":{"$error":"#REF!"}},{"$f":"#REF!","v":{"$error":"#REF!"}},0,{"$error":"#REF!"},{"$error":"#REF!"},{"$error":"#REF!"},{"$error":"#REF!"},{"$error":"#REF!"},{"$error":"#REF!"},{"$error":"#REF!"},0,0,{"$error":"#REF!"},0,{"$error":"#REF!"},{"$error":"#REF!"}]
[{"$f":"#REF!","v":{"$error":"#REF!"}},{"$f":"#REF!","v":{"$error":"#REF!"}},{"$f":"#REF!","v":{"$error":"#REF!"}},0,{"$error":"#REF!"},{"$error":"#REF!"},{"$error":"#REF!"},{"$error":"#REF!"},{"$error":"#REF!"},{"$error":"#REF!"},{"$error":"#REF!"},0,0,{"$error":"#REF!"},0,{"$error":"#REF!"},{"$error":"#REF!"}]
[{"$f":"#REF!","v":{"$error":"#REF!"}},{"$f":"#REF!","v":{"$error":"#REF!"}},{"$f":"#REF!","v":{"$error":"#REF!"}},0,{"$error":"#REF!"},{"$error":"#REF!"},{"$error":"#REF!"},{"$error":"#REF!"},{"$error":"#REF!"},{"$error":"#REF!"},{"$error":"#REF!"},0,0,{"$error":"#REF!"},0,{"$error":"#REF!"},{"$error":"#REF!"}]
[{"$f":"#REF!","v":{"$error":"#REF!"}},{"$f":"#REF!","v":{"$error":"#REF!"}},{"$f":"#REF!","v":{"$error":"#REF!"}},0,{"$error":"#REF!"},{"$error":"#REF!"},{"$error":"#REF!"},{"$error":"#REF!"},{"$error":"#REF!"},{"$error":"#REF!"},{"$error":"#REF!"},0,0,{"$error":"#REF!"},0,{"$error":"#REF!"},{"$error":"#REF!"}]
[{"$f":"#REF!","v":{"$error":"#REF!"}},{"$f":"#REF!","v":{"$error":"#REF!"}},{"$f":"#REF!","v":{"$error":"#REF!"}},0,{"$error":"#REF!"},{"$f":"F51*$D220","v":{"$error":"#REF!"}},{"$error":"#REF!"},{"$error":"#REF!"},{"$error":"#REF!"},{"$error":"#REF!"},{"$error":"#REF!"},0,0,{"$error":"#REF!"},0,{"$error":"#REF!"},{"$error":"#REF!"}]
[{"$f":"#REF!","v":{"$error":"#REF!"}},{"$f":"#REF!","v":{"$error":"#REF!"}},{"$f":"#REF!","v":{"$error":"#REF!"}},0,{"$error":"#REF!"},{"$error":"#REF!"},{"$error":"#REF!"},{"$error":"#REF!"},{"$error":"#REF!"},{"$error":"#REF!"},{"$error":"#REF!"},0,0,{"$error":"#REF!"},0,{"$error":"#REF!"},{"$error":"#REF!"}]
[{"$f":"#REF!","v":{"$error":"#REF!"}},{"$f":"#REF!","v":{"$error":"#REF!"}},{"$f":"#REF!","v":{"$error":"#REF!"}},0,{"$error":"#REF!"},{"$error":"#REF!"},{"$error":"#REF!"},{"$error":"#REF!"},{"$error":"#REF!"},{"$error":"#REF!"},{"$error":"#REF!"},0,0,{"$error":"#REF!"},0,{"$error":"#REF!"},{"$error":"#REF!"}]
[{"$f":"#REF!","v":{"$error":"#REF!"}},{"$f":"#REF!","v":{"$error":"#REF!"}},{"$f":"#REF!","v":{"$error":"#REF!"}},0,{"$error":"#REF!"},{"$error":"#REF!"},{"$error":"#REF!"},{"$error":"#REF!"},{"$error":"#REF!"},{"$error":"#REF!"},{"$error":"#REF!"},0,0,{"$error":"#REF!"},0,{"$error":"#REF!"},{"$error":"#REF!"}]
[{"$f":"#REF!","v":{"$error":"#REF!"}},{"$f":"#REF!","v":{"$error":"#REF!"}},{"$f":"#REF!","v":{"$error":"#REF!"}},0,{"$error":"#REF!"},{"$error":"#REF!"},{"$error":"#REF!"},{"$error":"#REF!"},{"$error":"#REF!"},{"$error":"#REF!"},{"$error":"#REF!"},0,0,{"$error":"#REF!"},0,{"$error":"#REF!"},{"$error":"#REF!"}]
[{"$f":"#REF!","v":{"$error":"#REF!"}},{"$f":"#REF!","v":{"$error":"#REF!"}},{"$f":"#REF!","v":{"$error":"#REF!"}},0,{"$error":"#REF!"},{"$error":"#REF!"},{"$error":"#REF!"},{"$error":"#REF!"},{"$error":"#REF!"},{"$error":"#REF!"},{"$error":"#REF!"},0,0,{"$error":"#REF!"},0,{"$error":"#REF!"},{"$error":"#REF!"}]
[{"$f":"#REF!","v":{"$error":"#REF!"}},{"$f":"#REF!","v":{"$error":"#REF!"}},{"$f":"#REF!","v":{"$error":"#REF!"}},0,{"$error":"#REF!"},{"$error":"#REF!"},{"$error":"#REF!"},{"$error":"#REF!"},{"$error":"#REF!"},{"$error":"#REF!"},{"$error":"#REF!"},0,0,{"$error":"#REF!"},0,{"$error":"#REF!"},{"$error":"#REF!"}]
[{"$f":"#REF!","v":{"$error":"#REF!"}},{"$f":"#REF!","v":{"$error":"#REF!"}},{"$f":"#REF!","v":{"$error":"#REF!"}},0,{"$error":"#REF!"},{"$error":"#REF!"},{"$error":"#REF!"},{"$error":"#REF!"},{"$error":"#REF!"},{"$error":"#REF!"},{"$error":"#REF!"},0,0,{"$error":"#REF!"},0,{"$error":"#REF!"},{"$error":"#REF!"}]
[{"$f":"#REF!","v":{"$error":"#REF!"}},{"$f":"#REF!","v":{"$error":"#REF!"}},{"$f":"#REF!","v":{"$error":"#REF!"}},0,{"$error":"#REF!"},{"$error":"#REF!"},{"$error":"#REF!"},{"$error":"#REF!"},{"$error":"#REF!"},{"$error":"#REF!"},{"$error":"#REF!"},0,0,{"$error":"#REF!"},0,{"$error":"#REF!"},{"$error":"#REF!"}]
[{"$f":"#REF!","v":{"$error":"#REF!"}},{"$f":"#REF!","v":{"$error":"#REF!"}},{"$f":"#REF!","v":{"$error":"#REF!"}},0,{"$error":"#REF!"},{"$error":"#REF!"},{"$error":"#REF!"},{"$error":"#REF!"},{"$error":"#REF!"},{"$error":"#REF!"},{"$error":"#REF!"},0,0,{"$error":"#REF!"},0,{"$error":"#REF!"},{"$error":"#REF!"}]
[{"$f":"#REF!","v":{"$error":"#REF!"}},{"$f":"#REF!","v":{"$error":"#REF!"}},{"$f":"#REF!","v":{"$error":"#REF!"}},0,{"$error":"#REF!"},{"$error":"#REF!"},{"$error":"#REF!"},{"$error":"#REF!"},{"$error":"#REF!"},{"$error":"#REF!"},{"$error":"#REF!"},0,0,{"$error":"#REF!"},0,{"$error":"#REF!"},{"$error":"#REF!"}]
[{"$f":"#REF!","v":{"$error":"#REF!"}},{"$f":"#REF!","v":{"$error":"#REF!"}},{"$f":"#REF!","v":{"$error":"#REF!"}},0,{"$error":"#REF!"},{"$error":"#REF!"},{"$error":"#REF!"},{"$error":"#REF!"},{"$error":"#REF!"},{"$error":"#REF!"},{"$error":"#REF!"},0,0,{"$error":"#REF!"},0,{"$error":"#REF!"},{"$error":"#REF!"}]
[{"$f":"#REF!","v":{"$error":"#REF!"}},{"$f":"#REF!","v":{"$error":"#REF!"}},{"$f":"#REF!","v":{"$error":"#REF!"}},0,{"$error":"#REF!"},{"$error":"#REF!"},{"$error":"#REF!"},{"$error":"#REF!"},{"$error":"#REF!"},{"$error":"#REF!"},{"$error":"#REF!"},0,0,{"$error":"#REF!"},0,{"$error":"#REF!"},{"$error":"#REF!"}]
[{"$f":"#REF!","v":{"$error":"#REF!"}},{"$f":"#REF!","v":{"$error":"#REF!"}},{"$f":"#REF!","v":{"$error":"#REF!"}},0,{"$error":"#REF!"},{"$error":"#REF!"},{"$error":"#REF!"},{"$error":"#REF!"},{"$error":"#REF!"},{"$error":"#REF!"},{"$error":"#REF!"},0,0,{"$error":"#REF!"},0,{"$error":"#REF!"},{"$error":"#REF!"}]
[{"$f":"#REF!","v":{"$error":"#REF!"}},{"$f":"#REF!","v":{"$error":"#REF!"}},{"$f":"#REF!","v":{"$error":"#REF!"}},0,{"$error":"#REF!"},{"$error":"#REF!"},{"$error":"#REF!"},{"$error":"#REF!"},{"$error":"#REF!"},{"$error":"#REF!"},{"$error":"#REF!"},0,0,{"$error":"#REF!"},0,{"$error":"#REF!"},{"$error":"#REF!"}]
[{"$f":"#REF!","v":{"$error":"#REF!"}},{"$f":"#REF!","v":{"$error":"#REF!"}},{"$f":"#REF!","v":{"$error":"#REF!"}},0,{"$error":"#REF!"},{"$error":"#REF!"},{"$error":"#REF!"},{"$error":"#REF!"},{"$error":"#REF!"},{"$error":"#REF!"},{"$error":"#REF!"},0,0,{"$error":"#REF!"},0,{"$error":"#REF!"},{"$error":"#REF!"}]
[{"$f":"#REF!","v":{"$error":"#REF!"}},{"$f":"#REF!","v":{"$error":"#REF!"}},{"$f":"#REF!","v":{"$error":"#REF!"}},{"$f":"IFERROR(AVERAGEIFS(servicedollars,rating,A236,rating,B236,pressure,C236),0)","v":0},{"$f":"E159","v":{"$error":"#REF!"}},{"$f":"F67*$D236","v":{"$error":"#REF!"}},{"$error":"#REF!"},{"$error":"#REF!"},{"$error":"#REF!"},{"$error":"#REF!"},{"$error":"#REF!"},0,0,{"$error":"#REF!"},0,{"$error":"#REF!"},{"$f":"P236*$P$243","v":{"$error":"#REF!"}}]
[{"$f":"#REF!","v":{"$error":"#REF!"}},{"$f":"#REF!","v":{"$error":"#REF!"}},{"$f":"#REF!","v":{"$error":"#REF!"}},{"$f":"IFERROR(AVERAGEIFS(servicedollars,rating,A237,rating,B237,pressure,C237),0)","v":0},{"$f":"E160","v":{"$error":"#REF!"}},{"$error":"#REF!"},{"$error":"#REF!"},{"$error":"#REF!"},{"$error":"#REF!"},{"$error":"#REF!"},{"$error":"#REF!"},0,0,{"$error":"#REF!"},0,{"$f":"SUM(G237:O237)-K237","v":{"$error":"#REF!"}},{"$f":"P237*$P$243","v":{"$error":"#REF!"}}]
[{"$f":"#REF!","v":{"$error":"#REF!"}},{"$f":"#REF!","v":{"$error":"#REF!"}},{"$f":"#REF!","v":{"$error":"#REF!"}},{"$f":"IFERROR(AVERAGEIFS(servicedollars,rating,A238,rating,B238,pressure,C238),0)","v":0},{"$f":"E161","v":{"$error":"#REF!"}},{"$error":"#REF!"},{"$error":"#REF!"},{"$error":"#REF!"},{"$error":"#REF!"},{"$error":"#REF!"},{"$error":"#REF!"},0,0,{"$error":"#REF!"},0,{"$f":"SUM(G238:O238)-K238","v":{"$error":"#REF!"}},{"$f":"P238*$P$243","v":{"$error":"#REF!"}}]
[{"$f":"#REF!","v":{"$error":"#REF!"}},{"$f":"#REF!","v":{"$error":"#REF!"}},{"$f":"#REF!","v":{"$error":"#REF!"}},{"$f":"IFERROR(AVERAGEIFS(servicedollars,rating,A239,rating,B239,pressure,C239),0)","v":0},{"$f":"E162","v":{"$error":"#REF!"}},{"$error":"#REF!"},{"$error":"#REF!"},{"$error":"#REF!"},{"$error":"#REF!"},{"$error":"#REF!"},{"$error":"#REF!"},0,0,{"$error":"#REF!"},0,{"$f":"SUM(G239:O239)-K239","v":{"$error":"#REF!"}},{"$f":"P239*$P$243","v":{"$error":"#REF!"}}]
[{"$f":"#REF!","v":{"$error":"#REF!"}},{"$f":"#REF!","v":{"$error":"#REF!"}},{"$f":"#REF!","v":{"$error":"#REF!"}},{"$f":"IFERROR(AVERAGEIFS(servicedollars,rating,A240,rating,B240,pressure,C240),0)","v":0},{"$f":"E163","v":{"$error":"#REF!"}},{"$error":"#REF!"},{"$error":"#REF!"},{"$error":"#REF!"},{"$error":"#REF!"},{"$error":"#REF!"},{"$error":"#REF!"},0,0,{"$error":"#REF!"},0,{"$f":"SUM(G240:O240)-K240","v":{"$error":"#REF!"}},{"$f":"P240*$P$243","v":{"$error":"#REF!"}}]
[null,"unadjusted total cost",null,null,null,{"$f":"SUM(F171:F240)","v":{"$error":"#REF!"}},{"$error":"#REF!"},{"$error":"#REF!"},{"$error":"#REF!"},{"$error":"#REF!"},{"$error":"#REF!"},{"$f":"SUM(L171:L240)","v":0},{"$f":"SUM(M171:M240)","v":0},{"$error":"#REF!"},{"$error":"#REF!"},{"$f":"SUM(G241:O241)-K241","v":{"$error":"#REF!"}},{"$f":"SUM(Q172:Q240)","v":{"$error":"#REF!"}}]
[null,null,null,null,null,{"$f":"F241/$P$241","v":{"$error":"#REF!"}},{"$error":"#REF!"},{"$error":"#REF!"},{"$error":"#REF!"},{"$error":"#REF!"},{"$error":"#REF!"},{"$f":"L241/$P$241","v":{"$error":"#REF!"}},{"$f":"M241/$P$241","v":{"$error":"#REF!"}},{"$f":"N241/$P$241","v":{"$error":"#REF!"}},{"$f":"O241/$P$241","v":{"$error":"#REF!"}}]
[null,"adjusted total cost",null,null,null,{"$f":"F241/$P$241*$Q$243","v":{"$error":"#REF!"}},{"$error":"#REF!"},{"$error":"#REF!"},{"$error":"#REF!"},{"$error":"#REF!"},{"$error":"#REF!"},{"$f":"L241/$P$241*$Q$243","v":{"$error":"#REF!"}},{"$f":"M241/$P$241*$Q$243","v":{"$error":"#REF!"}},{"$f":"N241/$P$241*$Q$243","v":{"$error":"#REF!"}},{"$f":"O241/$P$241*$Q$243","v":{"$error":"#REF!"}},{"$f":"Q243/P241","v":{"$error":"#REF!"}},{"$f":"#REF!","v":{"$error":"#REF!"}}]
[]
[]
[null,"MTR & REG",null,"unadjusted"]
[null,"mtr rating",null,"avg cost","sample #",{"$f":"+F93","v":"GS"},"GSR","GSC","FS","IS","TS",{"$f":"+L93","v":"TSS"},{"$f":"+M93","v":"TSL"},"FT1","NGV","Total Mtr. & Reg.","Adj. Mtr. & Reg."]
[]
[{"$f":"#REF!","v":{"$error":"#REF!"}},{"$f":"#REF!","v":{"$error":"#REF!"}},{"$f":"#REF!","v":{"$error":"#REF!"}},{"$f":"IFERROR(AVERAGEIFS(mtrdollars,rating,A249,rating,B249,pressure,C249),0)","v":0},{"$f":"COUNTIFS(rating,A249,rating,B249,pressure,C249)","v":{"$error":"#REF!"}},{"$f":"F3*$D249","v":{"$error":"#REF!"}},{"$error":"#REF!"},{"$error":"#REF!"},{"$error":"#REF!"},{"$error":"#REF!"},{"$error":"#REF!"},{"$f":"L3*$D249","v":0},0,{"$error":"#REF!"},0,{"$f":"SUM(G249:O249)-K249","v":{"$error":"#REF!"}},{"$f":"P249*$P$320","v":{"$error":"#REF!"}}]
[{"$f":"#REF!","v":{"$error":"#REF!"}},{"$f":"#REF!","v":{"$error":"#REF!"}},{"$f":"#REF!","v":{"$error":"#REF!"}},0,{"$error":"#REF!"},{"$error":"#REF!"},{"$error":"#REF!"},{"$error":"#REF!"},{"$error":"#REF!"},{"$error":"#REF!"},{"$error":"#REF!"},0,0,{"$error":"#REF!"},0,{"$f":"SUM(G250:O250)-K250","v":{"$error":"#REF!"}},{"$error":"#REF!"}]
[{"$f":"#REF!","v":{"$error":"#REF!"}},{"$f":"#REF!","v":{"$error":"#REF!"}},{"$f":"#REF!","v":{"$error":"#REF!"}},0,{"$error":"#REF!"},{"$error":"#REF!"},{"$error":"#REF!"},{"$error":"#REF!"},{"$error":"#REF!"},{"$error":"#REF!"},{"$error":"#REF!"},0,0,{"$error":"#REF!"},0,{"$error":"#REF!"},{"$error":"#REF!"}]
[{"$f":"#REF!","v":{"$error":"#REF!"}},{"$f":"#REF!","v":{"$error":"#REF!"}},{"$f":"#REF!","v":{"$error":"#REF!"}},0,{"$error":"#REF!"},{"$error":"#REF!"},{"$error":"#REF!"},{"$error":"#REF!"},{"$error":"#REF!"},{"$error":"#REF!"},{"$error":"#REF!"},0,0,{"$error":"#REF!"},0,{"$error":"#REF!"},{"$error":"#REF!"}]
[{"$f":"#REF!","v":{"$error":"#REF!"}},{"$f":"#REF!","v":{"$error":"#REF!"}},{"$f":"#REF!","v":{"$error":"#REF!"}},0,{"$error":"#REF!"},{"$error":"#REF!"},{"$error":"#REF!"},{"$error":"#REF!"},{"$error":"#REF!"},{"$error":"#REF!"},{"$error":"#REF!"},0,0,{"$error":"#REF!"},0,{"$error":"#REF!"},{"$error":"#REF!"}]
[{"$f":"#REF!","v":{"$error":"#REF!"}},{"$f":"#REF!","v":{"$error":"#REF!"}},{"$f":"#REF!","v":{"$error":"#REF!"}},0,{"$error":"#REF!"},{"$error":"#REF!"},{"$error":"#REF!"},{"$error":"#REF!"},{"$error":"#REF!"},{"$error":"#REF!"},{"$error":"#REF!"},0,0,{"$error":"#REF!"},0,{"$error":"#REF!"},{"$error":"#REF!"}]
[{"$f":"#REF!","v":{"$error":"#REF!"}},{"$f":"#REF!","v":{"$error":"#REF!"}},{"$f":"#REF!","v":{"$error":"#REF!"}},0,{"$error":"#REF!"},{"$error":"#REF!"},{"$error":"#REF!"},{"$error":"#REF!"},{"$error":"#REF!"},{"$error":"#REF!"},{"$error":"#REF!"},0,0,{"$error":"#REF!"},0,{"$error":"#REF!"},{"$error":"#REF!"}]
[{"$f":"#REF!","v":{"$error":"#REF!"}},{"$f":"#REF!","v":{"$error":"#REF!"}},{"$f":"#REF!","v":{"$error":"#REF!"}},0,{"$error":"#REF!"},{"$error":"#REF!"},{"$error":"#REF!"},{"$error":"#REF!"},{"$error":"#REF!"},{"$error":"#REF!"},{"$error":"#REF!"},0,0,{"$error":"#REF!"},0,{"$error":"#REF!"},{"$error":"#REF!"}]
[{"$f":"#REF!","v":{"$error":"#REF!"}},{"$f":"#REF!","v":{"$error":"#REF!"}},{"$f":"#REF!","v":{"$error":"#REF!"}},0,{"$error":"#REF!"},{"$error":"#REF!"},{"$error":"#REF!"},{"$error":"#REF!"},{"$error":"#REF!"},{"$error":"#REF!"},{"$error":"#REF!"},0,0,{"$error":"#REF!"},0,{"$error":"#REF!"},{"$error":"#REF!"}]
[{"$f":"#REF!","v":{"$error":"#REF!"}},{"$f":"#REF!","v":{"$error":"#REF!"}},{"$f":"#REF!","v":{"$error":"#REF!"}},0,{"$error":"#REF!"},{"$error":"#REF!"},{"$error":"#REF!"},{"$error":"#REF!"},{"$error":"#REF!"},{"$error":"#REF!"},{"$error":"#REF!"},0,0,{"$error":"#REF!"},0,{"$error":"#REF!"},{"$error":"#REF!"}]
[{"$f":"#REF!","v":{"$error":"#REF!"}},{"$f":"#REF!","v":{"$error":"#REF!"}},{"$f":"#REF!","v":{"$error":"#REF!"}},0,{"$error":"#REF!"},{"$error":"#REF!"},{"$error":"#REF!"},{"$error":"#REF!"},{"$error":"#REF!"},{"$error":"#REF!"},{"$error":"#REF!"},0,0,{"$error":"#REF!"},0,{"$error":"#REF!"},{"$error":"#REF!"}]
[{"$f":"#REF!","v":{"$error":"#REF!"}},{"$f":"#REF!","v":{"$error":"#REF!"}},{"$f":"#REF!","v":{"$error":"#REF!"}},0,{"$error":"#REF!"},{"$error":"#REF!"},{"$error":"#REF!"},{"$error":"#REF!"},{"$error":"#REF!"},{"$error":"#REF!"},{"$error":"#REF!"},0,0,{"$error":"#REF!"},0,{"$error":"#REF!"},{"$error":"#REF!"}]
[{"$f":"#REF!","v":{"$error":"#REF!"}},{"$f":"#REF!","v":{"$error":"#REF!"}},{"$f":"#REF!","v":{"$error":"#REF!"}},0,{"$error":"#REF!"},{"$error":"#REF!"},{"$error":"#REF!"},{"$error":"#REF!"},{"$error":"#REF!"},{"$error":"#REF!"},{"$error":"#REF!"},0,0,{"$error":"#REF!"},0,{"$error":"#REF!"},{"$error":"#REF!"}]
[{"$f":"#REF!","v":{"$error":"#REF!"}},{"$f":"#REF!","v":{"$error":"#REF!"}},{"$f":"#REF!","v":{"$error":"#REF!"}},0,{"$error":"#REF!"},{"$error":"#REF!"},{"$error":"#REF!"},{"$error":"#REF!"},{"$error":"#REF!"},{"$error":"#REF!"},{"$error":"#REF!"},0,0,{"$error":"#REF!"},0,{"$error":"#REF!"},{"$error":"#REF!"}]
[{"$f":"#REF!","v":{"$error":"#REF!"}},{"$f":"#REF!","v":{"$error":"#REF!"}},{"$f":"#REF!","v":{"$error":"#REF!"}},0,{"$error":"#REF!"},{"$error":"#REF!"},{"$error":"#REF!"},{"$error":"#REF!"},{"$error":"#REF!"},{"$error":"#REF!"},{"$error":"#REF!"},0,0,{"$error":"#REF!"},0,{"$error":"#REF!"},{"$error":"#REF!"}]
[{"$f":"#REF!","v":{"$error":"#REF!"}},{"$f":"#REF!","v":{"$error":"#REF!"}},{"$f":"#REF!","v":{"$error":"#REF!"}},0,{"$error":"#REF!"},{"$error":"#REF!"},{"$error":"#REF!"},{"$error":"#REF!"},{"$error":"#REF!"},{"$error":"#REF!"},{"$error":"#REF!"},0,0,{"$error":"#REF!"},0,{"$error":"#REF!"},{"$error":"#REF!"}]
[{"$f":"#REF!","v":{"$error":"#REF!"}},{"$f":"#REF!","v":{"$error":"#REF!"}},{"$f":"#REF!","v":{"$error":"#REF!"}},0,{"$error":"#REF!"},{"$f":"F19*$D265","v":{"$error":"#REF!"}},{"$error":"#REF!"},{"$error":"#REF!"},{"$error":"#REF!"},{"$error":"#REF!"},{"$error":"#REF!"},0,0,{"$error":"#REF!"},0,{"$error":"#REF!"},{"$error":"#REF!"}]
[{"$f":"#REF!","v":{"$error":"#REF!"}},{"$f":"#REF!","v":{"$error":"#REF!"}},{"$f":"#REF!","v":{"$error":"#REF!"}},0,{"$error":"#REF!"},{"$error":"#REF!"},{"$error":"#REF!"},{"$error":"#REF!"},{"$error":"#REF!"},{"$error":"#REF!"},{"$error":"#REF!"},0,0,{"$error":"#REF!"},0,{"$error":"#REF!"},{"$error":"#REF!"}]
[{"$f":"#REF!","v":{"$error":"#REF!"}},{"$f":"#REF!","v":{"$error":"#REF!"}},{"$f":"#REF!","v":{"$error":"#REF!"}},0,{"$error":"#REF!"},{"$error":"#REF!"},{"$error":"#REF!"},{"$error":"#REF!"},{"$error":"#REF!"},{"$error":"#REF!"},{"$error":"#REF!"},0,0,{"$error":"#REF!"},0,{"$error":"#REF!"},{"$error":"#REF!"}]
[{"$f":"#REF!","v":{"$error":"#REF!"}},{"$f":"#REF!","v":{"$error":"#REF!"}},{"$f":"#REF!","v":{"$error":"#REF!"}},0,{"$error":"#REF!"},{"$error":"#REF!"},{"$error":"#REF!"},{"$error":"#REF!"},{"$error":"#REF!"},{"$error":"#REF!"},{"$error":"#REF!"},0,0,{"$error":"#REF!"},0,{"$error":"#REF!"},{"$error":"#REF!"}]
[{"$f":"#REF!","v":{"$error":"#REF!"}},{"$f":"#REF!","v":{"$error":"#REF!"}},{"$f":"#REF!","v":{"$error":"#REF!"}},0,{"$error":"#REF!"},{"$error":"#REF!"},{"$error":"#REF!"},{"$error":"#REF!"},{"$error":"#REF!"},{"$error":"#REF!"},{"$error":"#REF!"},0,0,{"$error":"#REF!"},0,{"$error":"#REF!"},{"$error":"#REF!"}]
[{"$f":"#REF!","v":{"$error":"#REF!"}},{"$f":"#REF!","v":{"$error":"#REF!"}},{"$f":"#REF!","v":{"$error":"#REF!"}},0,{"$error":"#REF!"},{"$error":"#REF!"},{"$error":"#REF!"},{"$error":"#REF!"},{"$error":"#REF!"},{"$error":"#REF!"},{"$error":"#REF!"},0,0,{"$error":"#REF!"},0,{"$error":"#REF!"},{"$error":"#REF!"}]
[{"$f":"#REF!","v":{"$error":"#REF!"}},{"$f":"#REF!","v":{"$error":"#REF!"}},{"$f":"#REF!","v":{"$error":"#REF!"}},0,{"$error":"#REF!"},{"$error":"#REF!"},{"$error":"#REF!"},{"$error":"#REF!"},{"$error":"#REF!"},{"$error":"#REF!"},{"$error":"#REF!"},0,0,{"$error":"#REF!"},0,{"$error":"#REF!"},{"$error":"#REF!"}]
[{"$f":"#REF!","v":{"$error":"#REF!"}},{"$f":"#REF!","v":{"$error":"#REF!"}},{"$f":"#REF!","v":{"$error":"#REF!"}},0,{"$error":"#REF!"},{"$error":"#REF!"},{"$error":"#REF!"},{"$error":"#REF!"},{"$error":"#REF!"},{"$error":"#REF!"},{"$error":"#REF!"},0,0,{"$error":"#REF!"},0,{"$error":"#REF!"},{"$error":"#REF!"}]
[{"$f":"#REF!","v":{"$error":"#REF!"}},{"$f":"#REF!","v":{"$error":"#REF!"}},{"$f":"#REF!","v":{"$error":"#REF!"}},0,{"$error":"#REF!"},{"$error":"#REF!"},{"$error":"#REF!"},{"$error":"#REF!"},{"$error":"#REF!"},{"$error":"#REF!"},{"$error":"#REF!"},0,0,{"$error":"#REF!"},0,{"$error":"#REF!"},{"$error":"#REF!"}]
[{"$f":"#REF!","v":{"$error":"#REF!"}},{"$f":"#REF!","v":{"$error":"#REF!"}},{"$f":"#REF!","v":{"$error":"#REF!"}},0,{"$error":"#REF!"},{"$error":"#REF!"},{"$error":"#REF!"},{"$error":"#REF!"},{"$error":"#REF!"},{"$error":"#REF!"},{"$error":"#REF!"},0,0,{"$error":"#REF!"},0,{"$error":"#REF!"},{"$error":"#REF!"}]
[{"$f":"#REF!","v":{"$error":"#REF!"}},{"$f":"#REF!","v":{"$error":"#REF!"}},{"$f":"#REF!","v":{"$error":"#REF!"}},0,{"$error":"#REF!"},{"$error":"#REF!"},{"$error":"#REF!"},{"$error":"#REF!"},{"$error":"#REF!"},{"$error":"#REF!"},{"$error":"#REF!"},0,0,{"$error":"#REF!"},0,{"$error":"#REF!"},{"$error":"#REF!"}]
[{"$f":"#REF!","v":{"$error":"#REF!"}},{"$f":"#REF!","v":{"$error":"#REF!"}},{"$f":"#REF!","v":{"$error":"#REF!"}},0,{"$error":"#REF!"},{"$error":"#REF!"},{"$error":"#REF!"},{"$error":"#REF!"},{"$error":"#REF!"},{"$error":"#REF!"},{"$error":"#REF!"},0,0,{"$error":"#REF!"},0,{"$error":"#REF!"},{"$error":"#REF!"}]
[{"$f":"#REF!","v":{"$error":"#REF!"}},{"$f":"#REF!","v":{"$error":"#REF!"}},{"$f":"#REF!","v":{"$error":"#REF!"}},0,{"$error":"#REF!"},{"$error":"#REF!"},{"$error":"#REF!"},{"$error":"#REF!"},{"$error":"#REF!"},{"$error":"#REF!"},{"$error":"#REF!"},0,0,{"$error":"#REF!"},0,{"$error":"#REF!"},{"$error":"#REF!"}]
[{"$f":"#REF!","v":{"$error":"#REF!"}},{"$f":"#REF!","v":{"$error":"#REF!"}},{"$f":"#REF!","v":{"$error":"#REF!"}},0,{"$error":"#REF!"},{"$error":"#REF!"},{"$error":"#REF!"},{"$error":"#REF!"},{"$error":"#REF!"},{"$error":"#REF!"},{"$error":"#REF!"},0,0,{"$error":"#REF!"},0,{"$error":"#REF!"},{"$error":"#REF!"}]
[{"$f":"#REF!","v":{"$error":"#REF!"}},{"$f":"#REF!","v":{"$error":"#REF!"}},{"$f":"#REF!","v":{"$error":"#REF!"}},0,{"$error":"#REF!"},{"$error":"#REF!"},{"$error":"#REF!"},{"$error":"#REF!"},{"$error":"#REF!"},{"$error":"#REF!"},{"$error":"#REF!"},0,0,{"$error":"#REF!"},0,{"$error":"#REF!"},{"$error":"#REF!"}]
[{"$f":"#REF!","v":{"$error":"#REF!"}},{"$f":"#REF!","v":{"$error":"#REF!"}},{"$f":"#REF!","v":{"$error":"#REF!"}},0,{"$error":"#REF!"},{"$error":"#REF!"},{"$error":"#REF!"},{"$error":"#REF!"},{"$error":"#REF!"},{"$error":"#REF!"},{"$error":"#REF!"},0,0,{"$error":"#REF!"},0,{"$error":"#REF!"},{"$error":"#REF!"}]
[{"$f":"#REF!","v":{"$error":"#REF!"}},{"$f":"#REF!","v":{"$error":"#REF!"}},{"$f":"#REF!","v":{"$error":"#REF!"}},{"$f":"IFERROR(AVERAGEIFS(mtrdollars,rating,A281,rating,B281,pressure,C281),0)","v":0},{"$error":"#REF!"},{"$f":"F35*$D281","v":{"$error":"#REF!"}},{"$error":"#REF!"},{"$error":"#REF!"},{"$error":"#REF!"},{"$error":"#REF!"},{"$error":"#REF!"},0,0,{"$error":"#REF!"},0,{"$error":"#REF!"},{"$error":"#REF!"}]
[{"$f":"#REF!","v":{"$error":"#REF!"}},{"$f":"#REF!","v":{"$error":"#REF!"}},{"$f":"#REF!","v":{"$error":"#REF!"}},0,{"$error":"#REF!"},{"$error":"#REF!"},{"$error":"#REF!"},{"$error":"#REF!"},{"$error":"#REF!"},{"$error":"#REF!"},{"$error":"#REF!"},0,0,{"$error":"#REF!"},0,{"$error":"#REF!"},{"$error":"#REF!"}]
[{"$f":"#REF!","v":{"$error":"#REF!"}},{"$f":"#REF!","v":{"$error":"#REF!"}},{"$f":"#REF!","v":{"$error":"#REF!"}},0,{"$error":"#REF!"},{"$error":"#REF!"},{"$error":"#REF!"},{"$error":"#REF!"},{"$error":"#REF!"},{"$error":"#REF!"},{"$error":"#REF!"},0,0,{"$error":"#REF!"},0,{"$error":"#REF!"},{"$error":"#REF!"}]
[{"$f":"#REF!","v":{"$error":"#REF!"}},{"$f":"#REF!","v":{"$error":"#REF!"}},{"$f":"#REF!","v":{"$error":"#REF!"}},0,{"$error":"#REF!"},{"$error":"#REF!"},{"$error":"#REF!"},{"$error":"#REF!"},{"$error":"#REF!"},{"$error":"#REF!"},{"$error":"#REF!"},0,0,{"$error":"#REF!"},0,{"$error":"#REF!"},{"$error":"#REF!"}]
[{"$f":"#REF!","v":{"$error":"#REF!"}},{"$f":"#REF!","v":{"$error":"#REF!"}},{"$f":"#REF!","v":{"$error":"#REF!"}},0,{"$error":"#REF!"},{"$error":"#REF!"},{"$error":"#REF!"},{"$error":"#REF!"},{"$error":"#REF!"},{"$error":"#REF!"},{"$error":"#REF!"},0,0,{"$error":"#REF!"},0,{"$error":"#REF!"},{"$error":"#REF!"}]
[{"$f":"#REF!","v":{"$error":"#REF!"}},{"$f":"#REF!","v":{"$error":"#REF!"}},{"$f":"#REF!","v":{"$error":"#REF!"}},0,{"$error":"#REF!"},{"$error":"#REF!"},{"$error":"#REF!"},{"$error":"#REF!"},{"$error":"#REF!"},{"$error":"#REF!"},{"$error":"#REF!"},0,0,{"$error":"#REF!"},0,{"$error":"#REF!"},{"$error":"#REF!"}]
[{"$f":"#REF!","v":{"$error":"#REF!"}},{"$f":"#REF!","v":{"$error":"#REF!"}},{"$f":"#REF!","v":{"$error":"#REF!"}},0,{"$error":"#REF!"},{"$error":"#REF!"},{"$error":"#REF!"},{"$error":"#REF!"},{"$error":"#REF!"},{"$error":"#REF!"},{"$error":"#REF!"},0,0,{"$error":"#REF!"},0,{"$error":"#REF!"},{"$error":"#REF!"}]
[{"$f":"#REF!","v":{"$error":"#REF!"}},{"$f":"#REF!","v":{"$error":"#REF!"}},{"$f":"#REF!","v":{"$error":"#REF!"}},0,{"$error":"#REF!"},{"$error":"#REF!"},{"$error":"#REF!"},{"$error":"#REF!"},{"$error":"#REF!"},{"$error":"#REF!"},{"$error":"#REF!"},0,0,{"$error":"#REF!"},0,{"$error":"#REF!"},{"$error":"#REF!"}]
[{"$f":"#REF!","v":{"$error":"#REF!"}},{"$f":"#REF!","v":{"$error":"#REF!"}},{"$f":"#REF!","v":{"$error":"#REF!"}},0,{"$error":"#REF!"},{"$error":"#REF!"},{"$error":"#REF!"},{"$error":"#REF!"},{"$error":"#REF!"},{"$error":"#REF!"},{"$error":"#REF!"},0,0,{"$error":"#REF!"},0,{"$error":"#REF!"},{"$error":"#REF!"}]
[{"$f":"#REF!","v":{"$error":"#REF!"}},{"$f":"#REF!","v":{"$error":"#REF!"}},{"$f":"#REF!","v":{"$error":"#REF!"}},0,{"$error":"#REF!"},{"$error":"#REF!"},{"$error":"#REF!"},{"$error":"#REF!"},{"$error":"#REF!"},{"$error":"#REF!"},{"$error":"#REF!"},0,0,{"$error":"#REF!"},0,{"$error":"#REF!"},{"$error":"#REF!"}]
[{"$f":"#REF!","v":{"$error":"#REF!"}},{"$f":"#REF!","v":{"$error":"#REF!"}},{"$f":"#REF!","v":{"$error":"#REF!"}},0,{"$error":"#REF!"},{"$error":"#REF!"},{"$error":"#REF!"},{"$error":"#REF!"},{"$error":"#REF!"},{"$error":"#REF!"},{"$error":"#REF!"},0,0,{"$error":"#REF!"},0,{"$error":"#REF!"},{"$error":"#REF!"}]
[{"$f":"#REF!","v":{"$error":"#REF!"}},{"$f":"#REF!","v":{"$error":"#REF!"}},{"$f":"#REF!","v":{"$error":"#REF!"}},0,{"$error":"#REF!"},{"$error":"#REF!"},{"$error":"#REF!"},{"$error":"#REF!"},{"$error":"#REF!"},{"$error":"#REF!"},{"$error":"#REF!"},0,0,{"$error":"#REF!"},0,{"$error":"#REF!"},{"$error":"#REF!"}]
[{"$f":"#REF!","v":{"$error":"#REF!"}},{"$f":"#REF!","v":{"$error":"#REF!"}},{"$f":"#REF!","v":{"$error":"#REF!"}},0,{"$error":"#REF!"},{"$error":"#REF!"},{"$error":"#REF!"},{"$error":"#REF!"},{"$error":"#REF!"},{"$error":"#REF!"},{"$error":"#REF!"},0,0,{"$error":"#REF!"},0,{"$error":"#REF!"},{"$error":"#REF!"}]
[{"$f":"#REF!","v":{"$error":"#REF!"}},{"$f":"#REF!","v":{"$error":"#REF!"}},{"$f":"#REF!","v":{"$error":"#REF!"}},0,{"$error":"#REF!"},{"$error":"#REF!"},{"$error":"#REF!"},{"$error":"#REF!"},{"$error":"#REF!"},{"$error":"#REF!"},{"$error":"#REF!"},0,0,{"$error":"#REF!"},0,{"$error":"#REF!"},{"$error":"#REF!"}]
[{"$f":"#REF!","v":{"$error":"#REF!"}},{"$f":"#REF!","v":{"$error":"#REF!"}},{"$f":"#REF!","v":{"$error":"#REF!"}},0,{"$error":"#REF!"},{"$error":"#REF!"},{"$error":"#REF!"},{"$error":"#REF!"},{"$error":"#REF!"},{"$error":"#REF!"},{"$error":"#REF!"},0,0,{"$error":"#REF!"},0,{"$error":"#REF!"},{"$error":"#REF!"}]
[{"$f":"#REF!","v":{"$error":"#REF!"}},{"$f":"#REF!","v":{"$error":"#REF!"}},{"$f":"#REF!","v":{"$error":"#REF!"}},0,{"$error":"#REF!"},{"$error":"#REF!"},{"$error":"#REF!"},{"$error":"#REF!"},{"$error":"#REF!"},{"$error":"#REF!"},{"$error":"#REF!"},0,0,{"$error":"#REF!"},0,{"$error":"#REF!"},{"$error":"#REF!"}]
[{"$f":"#REF!","v":{"$error":"#REF!"}},{"$f":"#REF!","v":{"$error":"#REF!"}},{"$f":"#REF!","v":{"$error":"#REF!"}},0,{"$error":"#REF!"},{"$f":"F51*$D297","v":{"$error":"#REF!"}},{"$error":"#REF!"},{"$error":"#REF!"},{"$error":"#REF!"},{"$error":"#REF!"},{"$error":"#REF!"},0,0,{"$error":"#REF!"},0,{"$error":"#REF!"},{"$error":"#REF!"}]
[{"$f":"#REF!","v":{"$error":"#REF!"}},{"$f":"#REF!","v":{"$error":"#REF!"}},{"$f":"#REF!","v":{"$error":"#REF!"}},0,{"$error":"#REF!"},{"$error":"#REF!"},{"$error":"#REF!"},{"$error":"#REF!"},{"$error":"#REF!"},{"$error":"#REF!"},{"$error":"#REF!"},0,0,{"$error":"#REF!"},0,{"$error":"#REF!"},{"$error":"#REF!"}]
[{"$f":"#REF!","v":{"$error":"#REF!"}},{"$f":"#REF!","v":{"$error":"#REF!"}},{"$f":"#REF!","v":{"$error":"#REF!"}},0,{"$error":"#REF!"},{"$error":"#REF!"},{"$error":"#REF!"},{"$error":"#REF!"},{"$error":"#REF!"},{"$error":"#REF!"},{"$error":"#REF!"},0,0,{"$error":"#REF!"},0,{"$error":"#REF!"},{"$error":"#REF!"}]
[{"$f":"#REF!","v":{"$error":"#REF!"}},{"$f":"#REF!","v":{"$error":"#REF!"}},{"$f":"#REF!","v":{"$error":"#REF!"}},0,{"$error":"#REF!"},{"$error":"#REF!"},{"$error":"#REF!"},{"$error":"#REF!"},{"$error":"#REF!"},{"$error":"#REF!"},{"$error":"#REF!"},0,0,{"$error":"#REF!"},0,{"$error":"#REF!"},{"$error":"#REF!"}]
[{"$f":"#REF!","v":{"$error":"#REF!"}},{"$f":"#REF!","v":{"$error":"#REF!"}},{"$f":"#REF!","v":{"$error":"#REF!"}},0,{"$error":"#REF!"},{"$error":"#REF!"},{"$error":"#REF!"},{"$error":"#REF!"},{"$error":"#REF!"},{"$error":"#REF!"},{"$error":"#REF!"},0,0,{"$error":"#REF!"},0,{"$error":"#REF!"},{"$error":"#REF!"}]
[{"$f":"#REF!","v":{"$error":"#REF!"}},{"$f":"#REF!","v":{"$error":"#REF!"}},{"$f":"#REF!","v":{"$error":"#REF!"}},0,{"$error":"#REF!"},{"$error":"#REF!"},{"$error":"#REF!"},{"$error":"#REF!"},{"$error":"#REF!"},{"$error":"#REF!"},{"$error":"#REF!"},0,0,{"$error":"#REF!"},0,{"$error":"#REF!"},{"$error":"#REF!"}]
[{"$f":"#REF!","v":{"$error":"#REF!"}},{"$f":"#REF!","v":{"$error":"#REF!"}},{"$f":"#REF!","v":{"$error":"#REF!"}},0,{"$error":"#REF!"},{"$error":"#REF!"},{"$error":"#REF!"},{"$error":"#REF!"},{"$error":"#REF!"},{"$error":"#REF!"},{"$error":"#REF!"},0,0,{"$error":"#REF!"},0,{"$error":"#REF!"},{"$error":"#REF!"}]
[{"$f":"#REF!","v":{"$error":"#REF!"}},{"$f":"#REF!","v":{"$error":"#REF!"}},{"$f":"#REF!","v":{"$error":"#REF!"}},0,{"$error":"#REF!"},{"$error":"#REF!"},{"$error":"#REF!"},{"$error":"#REF!"},{"$error":"#REF!"},{"$error":"#REF!"},{"$error":"#REF!"},0,0,{"$error":"#REF!"},0,{"$error":"#REF!"},{"$error":"#REF!"}]
[{"$f":"#REF!","v":{"$error":"#REF!"}},{"$f":"#REF!","v":{"$error":"#REF!"}},{"$f":"#REF!","v":{"$error":"#REF!"}},0,{"$error":"#REF!"},{"$error":"#REF!"},{"$error":"#REF!"},{"$error":"#REF!"},{"$error":"#REF!"},{"$error":"#REF!"},{"$error":"#REF!"},0,0,{"$error":"#REF!"},0,{"$error":"#REF!"},{"$error":"#REF!"}]
[{"$f":"#REF!","v":{"$error":"#REF!"}},{"$f":"#REF!","v":{"$error":"#REF!"}},{"$f":"#REF!","v":{"$error":"#REF!"}},0,{"$error":"#REF!"},{"$error":"#REF!"},{"$error":"#REF!"},{"$error":"#REF!"},{"$error":"#REF!"},{"$error":"#REF!"},{"$error":"#REF!"},0,0,{"$error":"#REF!"},0,{"$error":"#REF!"},{"$error":"#REF!"}]
[{"$f":"#REF!","v":{"$error":"#REF!"}},{"$f":"#REF!","v":{"$error":"#REF!"}},{"$f":"#REF!","v":{"$error":"#REF!"}},0,{"$error":"#REF!"},{"$error":"#REF!"},{"$error":"#REF!"},{"$error":"#REF!"},{"$error":"#REF!"},{"$error":"#REF!"},{"$error":"#REF!"},0,0,{"$error":"#REF!"},0,{"$error":"#REF!"},{"$error":"#REF!"}]
[{"$f":"#REF!","v":{"$error":"#REF!"}},{"$f":"#REF!","v":{"$error":"#REF!"}},{"$f":"#REF!","v":{"$error":"#REF!"}},0,{"$error":"#REF!"},{"$error":"#REF!"},{"$error":"#REF!"},{"$error":"#REF!"},{"$error":"#REF!"},{"$error":"#REF!"},{"$error":"#REF!"},0,0,{"$error":"#REF!"},0,{"$error":"#REF!"},{"$error":"#REF!"}]
[{"$f":"#REF!","v":{"$error":"#REF!"}},{"$f":"#REF!","v":{"$error":"#REF!"}},{"$f":"#REF!","v":{"$error":"#REF!"}},0,{"$error":"#REF!"},{"$error":"#REF!"},{"$error":"#REF!"},{"$error":"#REF!"},{"$error":"#REF!"},{"$error":"#REF!"},{"$error":"#REF!"},0,0,{"$error":"#REF!"},0,{"$error":"#REF!"},{"$error":"#REF!"}]
[{"$f":"#REF!","v":{"$error":"#REF!"}},{"$f":"#REF!","v":{"$error":"#REF!"}},{"$f":"#REF!","v":{"$error":"#REF!"}},0,{"$error":"#REF!"},{"$error":"#REF!"},{"$error":"#REF!"},{"$error":"#REF!"},{"$error":"#REF!"},{"$error":"#REF!"},{"$error":"#REF!"},0,0,{"$error":"#REF!"},0,{"$error":"#REF!"},{"$error":"#REF!"}]
[{"$f":"#REF!","v":{"$error":"#REF!"}},{"$f":"#REF!","v":{"$error":"#REF!"}},{"$f":"#REF!","v":{"$error":"#REF!"}},0,{"$error":"#REF!"},{"$error":"#REF!"},{"$error":"#REF!"},{"$error":"#REF!"},{"$error":"#REF!"},{"$error":"#REF!"},{"$error":"#REF!"},0,0,{"$error":"#REF!"},0,{"$error":"#REF!"},{"$error":"#REF!"}]
[{"$f":"#REF!","v":{"$error":"#REF!"}},{"$f":"#REF!","v":{"$error":"#REF!"}},{"$f":"#REF!","v":{"$error":"#REF!"}},0,{"$error":"#REF!"},{"$error":"#REF!"},{"$error":"#REF!"},{"$error":"#REF!"},{"$error":"#REF!"},{"$error":"#REF!"},{"$error":"#REF!"},0,0,{"$error":"#REF!"},0,{"$error":"#REF!"},{"$error":"#REF!"}]
[{"$f":"#REF!","v":{"$error":"#REF!"}},{"$f":"#REF!","v":{"$error":"#REF!"}},{"$f":"#REF!","v":{"$error":"#REF!"}},{"$f":"IFERROR(AVERAGEIFS(mtrdollars,rating,A313,rating,B313,pressure,C313),0)","v":0},{"$f":"COUNTIFS(rating,A313,rating,B313,pressure,C313)","v":{"$error":"#REF!"}},{"$f":"F67*$D313","v":{"$error":"#REF!"}},{"$error":"#REF!"},{"$error":"#REF!"},{"$error":"#REF!"},{"$error":"#REF!"},{"$error":"#REF!"},0,0,{"$error":"#REF!"},0,{"$error":"#REF!"},{"$f":"P313*$P$320","v":{"$error":"#REF!"}}]
[{"$f":"#REF!","v":{"$error":"#REF!"}},{"$f":"#REF!","v":{"$error":"#REF!"}},{"$f":"#REF!","v":{"$error":"#REF!"}},{"$f":"IFERROR(AVERAGEIFS(mtrdollars,rating,A314,rating,B314,pressure,C314),0)","v":0},{"$f":"COUNTIFS(rating,A314,rating,B314,pressure,C314)","v":{"$error":"#REF!"}},{"$error":"#REF!"},{"$error":"#REF!"},{"$error":"#REF!"},{"$error":"#REF!"},{"$error":"#REF!"},{"$error":"#REF!"},0,0,{"$error":"#REF!"},0,{"$f":"SUM(G314:O314)-K314","v":{"$error":"#REF!"}},{"$f":"P314*$P$320","v":{"$error":"#REF!"}}]
[{"$f":"#REF!","v":{"$error":"#REF!"}},{"$f":"#REF!","v":{"$error":"#REF!"}},{"$f":"#REF!","v":{"$error":"#REF!"}},{"$f":"IFERROR(AVERAGEIFS(mtrdollars,rating,A315,rating,B315,pressure,C315),0)","v":0},{"$f":"COUNTIFS(rating,A315,rating,B315,pressure,C315)","v":{"$error":"#REF!"}},{"$error":"#REF!"},{"$error":"#REF!"},{"$error":"#REF!"},{"$error":"#REF!"},{"$error":"#REF!"},{"$error":"#REF!"},0,0,{"$error":"#REF!"},0,{"$f":"SUM(G315:O315)-K315","v":{"$error":"#REF!"}},{"$f":"P315*$P$320","v":{"$error":"#REF!"}}]
[{"$f":"#REF!","v":{"$error":"#REF!"}},{"$f":"#REF!","v":{"$error":"#REF!"}},{"$f":"#REF!","v":{"$error":"#REF!"}},{"$f":"IFERROR(AVERAGEIFS(mtrdollars,rating,A316,rating,B316,pressure,C316),0)","v":0},{"$f":"COUNTIFS(rating,A316,rating,B316,pressure,C316)","v":{"$error":"#REF!"}},{"$error":"#REF!"},{"$error":"#REF!"},{"$error":"#REF!"},{"$error":"#REF!"},{"$error":"#REF!"},{"$error":"#REF!"},0,0,{"$error":"#REF!"},0,{"$f":"SUM(G316:O316)-K316","v":{"$error":"#REF!"}},{"$f":"P316*$P$320","v":{"$error":"#REF!"}}]
[{"$f":"#REF!","v":{"$error":"#REF!"}},{"$f":"#REF!","v":{"$error":"#REF!"}},{"$f":"#REF!","v":{"$error":"#REF!"}},{"$f":"IFERROR(AVERAGEIFS(mtrdollars,rating,A317,rating,B317,pressure,C317),0)","v":0},{"$f":"COUNTIFS(rating,A317,rating,B317,pressure,C317)","v":{"$error":"#REF!"}},{"$error":"#REF!"},{"$error":"#REF!"},{"$error":"#REF!"},{"$error":"#REF!"},{"$error":"#REF!"},{"$error":"#REF!"},0,0,{"$error":"#REF!"},0,{"$f":"SUM(G317:O317)-K317","v":{"$error":"#REF!"}},{"$f":"P317*$P$320","v":{"$error":"#REF!"}}]
[null,"unadjusted total cost",null,null,null,{"$f":"SUM(F248:F317)","v":{"$error":"#REF!"}},{"$error":"#REF!"},{"$error":"#REF!"},{"$error":"#REF!"},{"$error":"#REF!"},{"$error":"#REF!"},{"$f":"SUM(L248:L317)","v":0},{"$f":"SUM(M248:M317)","v":0},{"$error":"#REF!"},0,{"$f":"SUM(G318:O318)-K318","v":{"$error":"#REF!"}},{"$f":"SUM(Q249:Q317)","v":{"$error":"#REF!"}}]
[null,null,null,null,null,{"$f":"F318/$P$318","v":{"$error":"#REF!"}},{"$error":"#REF!"},{"$error":"#REF!"},{"$error":"#REF!"},{"$error":"#REF!"},{"$error":"#REF!"},{"$f":"L318/$P$318","v":{"$error":"#REF!"}},{"$f":"M318/$P$318","v":{"$error":"#REF!"}},{"$f":"N318/$P$318","v":{"$error":"#REF!"}},{"$f":"O318/$P$318","v":{"$error":"#REF!"}}]
[null,"adjusted total cost",null,null,null,{"$f":"F318/$P$318*$Q$320","v":{"$error":"#REF!"}},{"$error":"#REF!"},{"$error":"#REF!"},{"$error":"#REF!"},{"$error":"#REF!"},{"$error":"#REF!"},{"$f":"L318/$P$318*$Q$320","v":{"$error":"#REF!"}},{"$f":"M318/$P$318*$Q$320","v":{"$error":"#REF!"}},{"$f":"N318/$P$318*$Q$320","v":{"$error":"#REF!"}},{"$f":"O318/$P$318*$Q$320","v":{"$error":"#REF!"}},{"$f":"Q320/P318","v":{"$error":"#REF!"}},{"$f":"#REF!","v":{"$error":"#REF!"}}]
[]
[]
[]
[null,"Rate Schedule Adjusted Investment - Distr. Plant A. B. (#6)"]
[]
[]
[null,"Rate",null,"Feeder","LD Main","SD Main","Service","Meter & Reg","Total","Rate","SD Main","Service","Meter & Reg","Total"]
[null,{"$f":"+F93","v":"GS"},null,null,null,{"$f":"+F166","v":{"$error":"#REF!"}},{"$f":"+F243","v":{"$error":"#REF!"}},{"$f":"+F320","v":{"$error":"#REF!"}},{"$f":"SUM(F328:H328)","v":{"$error":"#REF!"}},{"$f":"B328","v":"GS"},{"$f":"F328/$F$338","v":{"$error":"#REF!"}},{"$f":"G328/$G$338","v":{"$error":"#REF!"}},{"$f":"H328/$H$338","v":{"$error":"#REF!"}},{"$f":"I328/(SUM($I$329:$I$337)-$I$333)","v":{"$error":"#REF!"}}]
[null,{"$f":"+G93","v":"GSR"},null,null,null,{"$f":"+G166","v":{"$error":"#REF!"}},{"$f":"+G243","v":{"$error":"#REF!"}},{"$f":"+G320","v":{"$error":"#REF!"}},{"$f":"SUM(F329:H329)","v":{"$error":"#REF!"}},"GSR",{"$error":"#REF!"},{"$error":"#REF!"},{"$error":"#REF!"},{"$error":"#REF!"}]
[null,{"$f":"+H93","v":"GSC"},null,null,null,{"$f":"+H166","v":{"$error":"#REF!"}},{"$f":"+H243","v":{"$error":"#REF!"}},{"$f":"+H320","v":{"$error":"#REF!"}},{"$f":"SUM(F330:H330)","v":{"$error":"#REF!"}},"GSC",{"$error":"#REF!"},{"$error":"#REF!"},{"$error":"#REF!"},{"$error":"#REF!"}]
[null,{"$f":"+I93","v":"FS"},null,null,null,{"$f":"+I166","v":{"$error":"#REF!"}},{"$f":"+I243","v":{"$error":"#REF!"}},{"$f":"+I320","v":{"$error":"#REF!"}},{"$error":"#REF!"},"FS",{"$error":"#REF!"},{"$error":"#REF!"},{"$error":"#REF!"},{"$error":"#REF!"}]
[null,{"$f":"+J93","v":"IS"},null,null,null,{"$f":"+J166","v":{"$error":"#REF!"}},{"$f":"+J243","v":{"$error":"#REF!"}},{"$f":"+J320","v":{"$error":"#REF!"}},{"$error":"#REF!"},"IS",{"$error":"#REF!"},{"$error":"#REF!"},{"$error":"#REF!"},{"$error":"#REF!"}]
[null,{"$f":"+K93","v":"TS"},null,null,null,{"$f":"+K166","v":{"$error":"#REF!"}},{"$f":"+K243","v":{"$error":"#REF!"}},{"$f":"+K320","v":{"$error":"#REF!"}},{"$error":"#REF!"},"TS",{"$error":"#REF!"},{"$error":"#REF!"},{"$error":"#REF!"},{"$error":"#REF!"}]
[null,{"$f":"+L93","v":"TSS"},null,null,null,{"$f":"+L166","v":{"$error":"#REF!"}},{"$f":"+L243","v":{"$error":"#REF!"}},{"$f":"+L320","v":{"$error":"#REF!"}},{"$f":"SUM(F334:H334)","v":{"$error":"#REF!"}},{"$f":"B334","v":"TSS"},{"$error":"#REF!"},{"$error":"#REF!"},{"$error":"#REF!"},{"$error":"#REF!"}]
[null,{"$f":"+M93","v":"TSL"},null,null,null,{"$f":"+M166","v":{"$error":"#REF!"}},{"$f":"+M243","v":{"$error":"#REF!"}},{"$f":"+M320","v":{"$error":"#REF!"}},{"$f":"SUM(F335:H335)","v":{"$error":"#REF!"}},{"$f":"B335","v":"TSL"},{"$error":"#REF!"},{"$error":"#REF!"},{"$error":"#REF!"},{"$error":"#REF!"}]
[null,{"$f":"+N93","v":"FT1"},null,null,null,{"$f":"+N166","v":{"$error":"#REF!"}},{"$f":"+N243","v":{"$error":"#REF!"}},{"$f":"+N320","v":{"$error":"#REF!"}},{"$error":"#REF!"},"FT1",{"$error":"#REF!"},{"$error":"#REF!"},{"$error":"#REF!"},{"$error":"#REF!"}]
[null,{"$f":"+O93","v":"NGV"},null,null,null,{"$f":"+O166","v":{"$error":"#REF!"}},{"$f":"+O243","v":{"$error":"#REF!"}},{"$f":"+O320","v":{"$error":"#REF!"}},{"$error":"#REF!"},"NGV",{"$error":"#REF!"},{"$error":"#REF!"},{"$error":"#REF!"},{"$error":"#REF!"}]
[null,"Total",null,{"$f":"#REF!","v":{"$error":"#REF!"}},{"$f":"#REF!","v":{"$error":"#REF!"}},{"$f":"SUM(F329:F337)-F333","v":{"$error":"#REF!"}},{"$f":"SUM(G329:G337)-G333","v":{"$error":"#REF!"}},{"$f":"SUM(H329:H337)-H333","v":{"$error":"#REF!"}},null,"Total",{"$f":"SUM(K329:K337)-K333","v":{"$error":"#REF!"}},{"$f":"SUM(L329:L337)-L333","v":{"$error":"#REF!"}},{"$f":"SUM(M329:M337)-M333","v":{"$error":"#REF!"}},{"$f":"SUM(N329:N337)-N333","v":{"$error":"#REF!"}}]

{"sheet":"TS Meter Summary","index":6,"n_rows":72,"n_cols":5,"rows_kept":72,"cut":false,"hidden":true,"merged":[]}
["rs_cd","usage_level","capacity_range","pressure_type","meter_count"]
["UTTS","H","1000000_1999999","H",2]
["UTTS","H","100000_149999","H",34]
["UTTS","H","100000_149999","L",3]
["UTTS","H","11000_15999","F",6]
["UTTS","H","11000_15999","H",8]
["UTTS","H","11000_15999","L",4]
["UTTS","H","1400_1999","F",1]
["UTTS","H","150000_249999","H",28]
["UTTS","H","150000_249999","L",7]
["UTTS","H","16000_19999","L",1]
["UTTS","H","20000_23999","F",11]
["UTTS","H","20000_23999","H",7]
["UTTS","H","20000_23999","L",1]
["UTTS","H","2000_2999","F",1]
["UTTS","H","24000_29999","F",3]
["UTTS","H","24000_29999","H",11]
["UTTS","H","24000_29999","L",1]
["UTTS","H","250000_499999","H",8]
["UTTS","H","250000_499999","L",1]
["UTTS","H","30000_44999","F",5]
["UTTS","H","30000_44999","H",23]
["UTTS","H","30000_44999","L",5]
["UTTS","H","3001_4999","F",1]
["UTTS","H","3001_4999","H",3]
["UTTS","H","3001_4999","L",2]
["UTTS","H","45000_49999","H",3]
["UTTS","H","45000_49999","L",1]
["UTTS","H","500000_749999","H",11]
["UTTS","H","50000_99999","F",1]
["UTTS","H","50000_99999","H",54]
["UTTS","H","50000_99999","L",10]
["UTTS","H","5000_6999","F",1]
["UTTS","H","5000_6999","H",2]
["UTTS","H","7000_10999","F",5]
["UTTS","H","7000_10999","H",4]
["UTTS","H","7000_10999","L",1]
["UTTS","H","750000_999999","H",1]
["UTTS","L","0_399","F",1]
["UTTS","L","1000000_1999999","H",1]
["UTTS","L","100000_149999","H",2]
["UTTS","L","100000_149999","L",1]
["UTTS","L","11000_15999","F",140]
["UTTS","L","11000_15999","H",9]
["UTTS","L","11000_15999","L",3]
["UTTS","L","1400_1999","F",6]
["UTTS","L","150000_249999","H",1]
["UTTS","L","150000_249999","L",5]
["UTTS","L","16000_19999","F",24]
["UTTS","L","16000_19999","L",5]
["UTTS","L","20000_23999","F",55]
["UTTS","L","20000_23999","H",11]
["UTTS","L","20000_23999","L",2]
["UTTS","L","2000_2999","F",23]
["UTTS","L","24000_29999","F",8]
["UTTS","L","24000_29999","H",11]
["UTTS","L","24000_29999","L",9]
["UTTS","L","250000_499999","H",3]
["UTTS","L","30000_44999","F",11]
["UTTS","L","30000_44999","H",56]
["UTTS","L","30000_44999","L",8]
["UTTS","L","3001_4999","F",73]
["UTTS","L","3001_4999","H",2]
["UTTS","L","3001_4999","L",2]
["UTTS","L","500000_749999","H",1]
["UTTS","L","50000_99999","H",26]
["UTTS","L","50000_99999","L",2]
["UTTS","L","5000_6999","F",105]
["UTTS","L","5000_6999","H",1]
["UTTS","L","7000_10999","F",128]
["UTTS","L","7000_10999","H",3]
["UTTS","L","7000_10999","L",6]

{"sheet":"Ex4.13p1","index":7,"n_rows":17,"n_cols":9,"rows_kept":17,"cut":false,"hidden":false,"merged":[[12,6,13,6],[14,5,15,5],[16,5,17,5],[16,4,17,4],[14,1,15,2],[14,3,15,3],[14,4,15,4],[16,3,17,3]]}
[null,null,null,null,null,null,null,null,"Dominion Energy Utah"]
[null,null,null,null,null,null,null,null,"Docket No. 22-057-03"]
[null,null,null,null,null,null,null,null,"DEU Exhibit 4.13"]
[null,null,null,null,null,null,null,null,"Page 1 of 6"]
[]
[]
[null,null,null,null,null,"Individual Sampled Meter"]
[]
[]
[null,"Sampled Meter Address:"]
[null,null,"150 W 7500 S 42"]
[null,null,"Midvale, UT, 84047-6139"]
[]
[null,"Measurement Statistics:"]
[null,null,null,"Meter: 306 CFH",null,"Service: 67' of 1/2\""]
[]
[null,null,null,"Main: 95' of 2\"\n          905' of 1\"",null,"# Services: 31"]

{"sheet":"Ex4.13p2","index":8,"n_rows":41,"n_cols":15,"rows_kept":41,"cut":false,"hidden":false,"merged":[[5,4,5,5],[0,0,0,14],[5,1,5,2],[26,1,26,2],[5,7,5,8],[5,10,5,11],[5,13,5,14]]}
["Service, Main, and Meter Set Current Cost Data"]
[]
[]
[null,"(A)","(B)",null,"(C)","(D)",null,"(E)","(F)",null,"(G)","(H)",null,"(I)","(J)"]
[]
[null,"IHP Service",null,null,"Main",null,null,"Meter (Fixed Pressure)",null,null,"Meter (Line Pressure)",null,null,"Meter (High Pressure)"]
[null,"Line Size","$ / ft   ",null,"Line Size","$ / ft   ",null,"Meter Set","$ / Meter",null,"Meter Set","$ / Meter",null,"Meter Set","$ / Meter"]
[1,0,0,null,0,0,null,">=0",372.26,null,">=900",12247,null,">=3000",32500]
[2,0.375,26.326625,null,0.5,15.93,null,">=400",505.28,null,">=1400",12614,null,">=5000",32500]
[3,0.5,37.24,null,0.75,30.73,null,">=600",1094.4166666666667,null,">=2000",13027,null,">=7000",39000]
[{"$f":"A10+1","v":4},0.625,27.924374999999998,null,1,17.3385,null,">=900",1168.4399999999998,null,">=3000",13452,null,">=11000",39000]
[5,0.75,39.17,null,1.25,22.06,null,">=1400",2550.5675000000001,null,">=5000",13517,null,">=16000",39000]
[6,1,30.320999999999998,null,1.5,19.595749999999999,null,">=2000",3200.7849999999999,null,">=7000",15042,null,">=20000",45500]
[7,1.25,44.14,null,2,24.96,null,">=3000",3644.4066666666663,null,">=11000",16413,null,">=24000",45500]
[8,1.5,33.516500000000001,null,2.5,24.110250000000001,null,">=5000",4090.396666666667,null,">=16000",11664.28,null,">=30000",52000]
[9,2,44.22,null,3,15.93,null,">=7000",5308.1433333333334,null,">=20000",17989,null,">=45000",65000]
[10,2.5,39.907499999999999,null,3.5,28.624749999999999,null,">=11000",9644.2866666666669,null,">=24000",18910,null,">=50000",97500]
[11,3,23.35,null,4,30.33,null,">=16000",14073.035,null,">=30000",22259,null,">=100000",130000]
[12,4,51.63,null,5,35.396499999999996,null,">=20000",16983.885000000002,null,">=45000",27988,null,">=150000",195000]
[13,6,63.53,null,6,41.15,null,">=24000",20239.96,null,">=50000",28404,null,">=250000",227500]
[14,8,75.057999999999993,null,8,49.45,null,">=30000",25140.16,null,">=100000",34440,null,">=500000",260000]
[15,10,87.84,null,10,49.45,null,null,null,null,">=150000",41304,null,">=750000",325000]
[16,12,100.62200000000001,null,12,49.45,null,null,null,null,">=250000",59451,null,">=1000000",650000]
[17,14,113.404,null,14,49.45,null,null,null,null,null,null,null,">=2000000",1300000]
[18,16,126.18600000000001,null,16,49.45]
[19,null,null,null,20,49.45]
[20,"HP Service",null,null,24,49.45]
[21,"Line Size","$ / ft   "]
[22,0,0]
[23,0.75,50.212499999999999]
[24,1,66.95]
[25,1.25,83.6875]
[26,2,133.9]
[27,3,665.6]
[28,4,1944.8]
[29,6,2250.3000000000002]
[30,8,2141.1]
[31,10,3270.9690000000001]
[32,12,3961.6590000000001]
[33,16,5343.0389999999998]
[34,20,14177.800000000001]

{"sheet":"Ex4.13p3","index":9,"n_rows":60,"n_cols":15,"rows_kept":60,"cut":false,"hidden":false,"merged":[[1,1,1,14],[0,1,0,14]]}
[null,"Plant Investment for"]
[null,"Small Diameter Mains"]
[]
[]
[null,"(A)","(B)","(C)","(D)","(E)","(F)","(G)","(H)","(I)","(J)","(K)","(L)","(M)","(N)"]
[null,null,null,"Unadjusted",null,null,null,null,null,null,null,null,null,"Total Small","Adjusted Small"]
[null,"Meter Rating","Pressure","Average Cost","GS","FS","IS","TS","TSL","TSM","TSS","TBF","NGV","Diameter Main","Diameter Main"]
[]
[1,"<400","F",4511.7118391534932,3882449853.8112378,9023.4236783069864,0,4511.7118391534932,0,0,4511.7118391534932,0,0,{"$f":"SUM(E9:H9)+SUM(L9:M9)","v":3882463388.9467554},{"$f":"N9*$N$50","v":608416507.33370662}]
[{"$f":"A9+1","v":2},"<600","F",4458.980171840919,775965106.44427228,4458.980171840919,0,0,0,0,0,0,0,{"$f":"SUM(E10:H10)+SUM(L10:M10)","v":775969565.42444408},{"$f":"N10*$N$50","v":121601325.11149587}]
[{"$f":"A10+1","v":3},"<900","F",3451.0382174108854,24364329.81492085,10353.114652232656,0,0,0,0,0,0,0,24374682.929573081,3819729.3753233519]
[4,"<1400","F",5840.8878715624205,165460671.62562025,146022.19678906052,0,5840.8878715624205,5840.8878715624205,0,0,0,0,165612534.71028087,25952955.59669042]
[5,"<2000","F",6985.0600283075973,26508302.807427332,174626.50070768993,0,90805.78036799877,0,6985.0600283075973,83820.720339691165,0,0,26773735.088503022,4195682.163340115]
[6,"<3000","F",7580.672116634958,37243842.10902755,576131.08086425683,15161.344233269916,250162.17984895362,0,7580.672116634958,242581.50773231866,0,0,38085296.713974029,5968304.3691933071]
[7,"<5000","F",7800.6560923465195,21405000.31739885,748862.9848652659,0,631853.14348006807,0,15601.312184693039,616251.83129537501,0,0,22785716.445744187,3570724.2099137278]
[8,"<5000","L",13716.746136666665,233184.68432333329,13716.746136666665,0,54866.984546666659,0,27433.49227333333,27433.49227333333,0,315485.1611433333,617253.57614999986,96729.119457917783]
[9,"<5000","H",5728.4607244444442,11456.921448888888,0,0,34370.764346666663,0,22913.842897777777,11456.921448888888,0,0,45827.685795555553,7181.6055266093354]
[10,"<7000","F",7620.663050918939,13465711.610973766,906858.9030593537,30482.652203675756,1097375.4793323271,0,0,1097375.4793323271,0,0,15500428.645569123,2429054.8844739762]
[11,"<7000","L",15393.333333333334,384833.33333333337,46180,0,0,0,0,0,0,0,431013.33333333337,67543.618731216251]
[12,"<7000","H",12338.558333333334,12338.558333333334,0,0,37015.675000000003,0,12338.558333333334,24677.116666666669,0,0,{"$f":"SUM(E20:H20)+SUM(L20:M20)","v":49354.233333333337},7734.2468578810021]
[13,"<11000","F",9722.7318492009399,6698962.2440994475,437522.93321404228,9722.7318492009399,1643141.6825149588,0,58336.391095205639,1584805.2914197531,0,0,8789349.5916776489,1377369.1712143002]
[14,"<11000","L",6928.7197626914867,353364.70789726585,13857.439525382973,0,55429.758101531894,0,6928.7197626914867,48501.038338840408,0,0,422651.90552418074,66233.308705254181]
[15,"<11000","H",5295.2932214583334,0,0,0,42362.345771666667,5295.2932214583334,26476.466107291668,10590.586442916667,0,0,{"$f":"SUM(E23:H23)+SUM(L23:M23)","v":42362.345771666667},6638.5559565707254]
[16,"<16000","F",9419.2964068357469,4097393.9369735499,320256.07783241541,9419.2964068357469,1648376.8711962558,0,122450.85328886472,1525926.0179073911,0,0,6075446.1824090565,952076.39492976363]
[17,"<16000","L",8960.228007409034,349448.89228895231,44801.140037045174,8960.228007409034,80642.05206668131,0,44801.140037045174,35840.912029636136,0,0,483852.31240008783,75823.95620623228]
[18,"<16000","H",9103.5227294283777,9103.5227294283777,0,0,172966.93185913918,0,109242.27275314054,63724.659105998646,0,0,{"$f":"SUM(E26:H26)+SUM(L26:M26)","v":182070.45458856755},28532.05786429521]
[19,"<20000","F",10902.171866151977,381576.01531531918,21804.343732303954,10902.171866151977,403380.35904762318,0,21804.343732303954,381576.01531531918,0,0,817662.88996139821,128135.03949657497]
[20,"<20000","L",12274.279581242134,294582.70994981122,36822.838743726403,24548.559162484267,73645.677487452806,0,24548.559162484267,49097.118324968535,0,0,429599.78534347465,67322.10320234175]
[21,"<24000","F",10742.927853069756,837948.37253944098,64457.567118418534,0,794976.66112716193,0,107429.27853069756,687547.38259646436,0,0,1697382.6007850214,265994.93417471315]
[22,"<24000","L",13024.171567418103,286531.7744831983,52096.686269672413,26048.343134836206,39072.51470225431,0,13024.171567418103,26048.343134836206,0,0,403749.31858996127,63271.10539000039]
[23,"<24000","H",12714.897233081194,25429.794466162388,0,0,317872.43082702986,0,63574.486165405971,254297.94466162389,12714.897233081194,0,{"$f":"SUM(E31:H31)+SUM(L31:M31)","v":356017.12252627342},55791.046183488463]
[24,"<30000","F",11007.081188248565,99063.730694237078,0,0,121077.89307073422,11007.081188248565,33021.243564745695,77049.568317739962,11007.081188248565,0,231148.70495321986,36223.055738974843]
[25,"<30000","L",10109.379199198516,303281.37597595551,50546.895995992585,0,101093.79199198517,0,20218.758398397033,80875.03359358813,0,0,454922.06396393327,71290.329241472515]
[26,"<30000","H",7199.7874544094166,21599.362363228251,0,0,208793.83617787308,7199.7874544094166,79197.66199850358,122396.38672496009,7199.7874544094166,0,{"$f":"SUM(E34:H34)+SUM(L34:M34)","v":237592.98599551074},37232.93183341268]
[27,"<45000","F",11996.517601158574,83975.623208110017,0,11996.517601158574,299912.94002896437,11996.517601158574,95972.140809268589,191944.28161853718,0,0,395885.08083823294,62038.709463390907]
[28,"<45000","L",12973.42745856434,220548.26679559378,0,25946.85491712868,129734.2745856434,0,38920.282375693016,90813.992209950375,12973.42745856434,0,389202.82375693024,60991.540409308713]
[29,"<45000","H",10727.980339841959,150191.72475778742,21455.960679683918,0,1029886.112624828,0,343295.37087494269,686590.74174988538,0,0,1201533.7980622994,188291.02135043798]
[30,"<50000","L",4734.5856997222227,4734.5856997222227,4734.5856997222227,0,4734.5856997222227,0,4734.5856997222227,0,0,0,14203.757099166669,2225.8549326940838]
[31,"<100000","L",13802.084895026454,55208.339580105814,27604.169790052907,27604.169790052907,179427.1036353439,0,110416.67916021163,69010.424475132269,0,0,289843.78279555554,45421.095921448192]
[32,"<100000","H",11341.619006120531,181465.90409792849,34024.857018361596,22683.238012241061,1020745.7105508478,34024.857018361596,680497.1403672318,306223.71316525433,56708.09503060265,0,1315627.8047099817,206170.56587619413]
[33,"<150000","L",19781.261097916664,19781.261097916664,0,0,59343.783293749992,39562.522195833328,19781.261097916664,0,0,0,79125.044391666655,12399.597453631657]
[34,"<150000","H",6461.0894853928567,25844.357941571427,6461.0894853928567,0,226138.13198874998,12922.178970785713,193832.68456178569,19383.268456178572,0,0,258443.57941571425,40500.405072354624]
[35,"<250000","L",15341.889398333331,30683.778796666662,0,0,122735.11518666665,61367.557593333324,61367.557593333324,0,0,0,153418.89398333331,24042.103758681442]
[36,"<250000","H",7979.9590981891033,0,7979.9590981891033,0,279298.5684366186,71819.631883701935,167579.14106197117,39899.795490945515,31919.836392756413,0,{"$f":"SUM(E44:H44)+SUM(L44:M44)","v":319198.36392756412},50021.219589691107]
[37,"<500000","H",7979.9590981891033,0,0,0,24091.73445,24091.73445,0,0,0,0,24091.73445,3775.3888346791459]
[38,"<500000","L",24091.73445,747.33788461538461,0,0,5231.3651923076923,2242.0136538461538,2242.0136538461538,747.33788461538461,3736.689423076923,0,{"$f":"SUM(E46:H46)+SUM(L46:M46)","v":9715.3924999999999},1522.4883225053775]
[39,"<750000","H",747.33788461538461,0,0,0,13539.0381,11604.889800000001,1934.1483000000001,0,5802.4449000000004,0,{"$f":"SUM(E47:H47)+SUM(L47:M47)","v":19341.483},3030.9822281947204]
[{"$f":"A47+1","v":40},"unadjusted total cost",null,null,{"$f":"SUM(E8:E47)","v":4962036099.6579514},3780660.4751650766,223476.10718444508,11304453.87634919,298974.95290269936,2544480.2895541983,8460998.6338922903,142062.25908073952,315485.1611433333,{"$f":"SUM(E48:H48)+SUM(L48:M48)","v":4977802237.5368748},{"$f":"SUM(O9:O47)","v":780065836.5980612}]
[]
[{"$f":"A48+1","v":41},"adjusted total cost",null,null,{"$f":"E48*$N$50","v":777595142.71599019},{"$f":"F48*$N$50","v":592463.08626197663},35020.691500346249,{"$f":"H48*$N$50","v":1771508.3584160176},{"$f":"I48*$N$50","v":46852.031404387933},398742.66816202929,1325913.6588496,{"$f":"L48*$N$50","v":22262.418169843313},49439.327722935763,{"$f":"O50/N48","v":0.15670888463902796},780065836.59806144]
[]
[null,"Notes:"]
[null,"Column C - Sample average cost for meter rating listed in Column A from sample."]
[null,"Columns D through L - Column C times number of meters in each class."]
[null,"Column M - Sum of Columns D to F + H to L."]
[null,"Line 40 - Total of Columns (lines 1 - 39)."]
[null,"Column N, line 41 - Book cost of small diameter mains."]
[null,"Column M, line 41 - Ratio of book (Column N, line 41) to unadjusted total (Column M, line 40)."]
[null,"Line 41 - Line 40 times (Column M, line 41)."]
[null,"Column N  -  (Column M) times (Column M, line 41)."]

{"sheet":"Ex4.13p4","index":10,"n_rows":63,"n_cols":15,"rows_kept":63,"cut":false,"hidden":false,"merged":[[0,1,0,14],[1,1,1,14]]}
[null,"Plant Investment for"]
[null,"Service Lines"]
[]
[]
[null,"(A)","(B)","(C)","(D)","(E)","(F)","(G)","(H)","(I)","(J)","(K)","(L)","(M)","(N)"]
[null,null,null,"Unadjusted",null,null,null,null,null,null,null,null,null,"Total Service","Adjusted Service"]
[null,"Meter Rating","Pressure","Average Cost","GS","FS","IS","TS","TSL","TSM","TSS","TBF","NGV","Line Cost","Line Cost"]
[]
[1,"<400","F",2197.3253985887109,1890857833.2713475,4394.6507971774217,0,2197.3253985887109,0,0,2197.3253985887109,0,0,{"$f":"SUM(E9:H9)+SUM(L9:M9)","v":1890864425.2475433},{"$f":"N9*$N$53","v":289560627.01222432}]
[{"$f":"A9+1","v":2},"<600","F",2567.8542884990261,446865706.84746599,2567.8542884990261,0,0,0,0,0,0,0,{"$f":"SUM(E10:H10)+SUM(L10:M10)","v":446868274.70175451},68431906.638452441]
[{"$f":"A10+1","v":3},"<900","F",3302.3700000000003,23314732.200000003,9907.11,0,0,0,0,0,0,0,23324639.310000002,3571856.920706193]
[4,"<1400","F",5263.0489320388351,149091650.14679611,131576.22330097089,0,5263.0489320388351,5263.0489320388351,0,0,0,0,149228489.41902912,22852349.638237126]
[5,"<2000","F",15453.456249999999,58645866.46875,386336.40625,0,200894.93124999999,0,15453.456249999999,185441.47499999998,0,0,59233097.806249999,9070757.6448315438]
[6,"<3000","F",6790.2846400000053,33360668.436320025,516061.63264000043,13580.569280000011,224079.39312000017,0,6790.2846400000053,217289.10848000017,0,0,34114390.031360023,5224163.1053622346]
[7,"<5000","F",8382.642663043478,23001971.467391305,804733.69565217383,0,678994.05570652173,0,16765.285326086956,662228.77038043481,0,0,24485699.21875,3749657.7353428067]
[8,"<5000","L",26742.196000000004,454617.33200000005,26742.196000000004,0,106968.78400000001,0,53484.392000000007,53484.392000000007,0,615070.50800000003,1203398.82,184284.45329672564]
[9,"<5000","H",20158.126666666667,40316.253333333334,0,0,120948.76000000001,0,80632.506666666668,40316.253333333334,0,0,161265.01333333334,24695.582481975929]
[10,"<7000","F",8569.7145090909071,15142685.537563633,1019796.0265818179,34278.858036363628,1234038.8893090906,0,0,1234038.8893090906,0,0,17430799.311490905,2669294.059672622]
[11,"<7000","L",10211.550000000001,255288.75000000003,30634.65,0,0,0,0,0,0,0,285923.40000000002,43785.349111228985]
[12,"<7000","H",24080.059999999998,24080.059999999998,0,0,72240.179999999993,0,24080.059999999998,48160.119999999995,0,0,{"$f":"SUM(E20:H20)+SUM(L20:M20)","v":96320.239999999991},14750.158031407578]
[13,"<11000","F",10088.354898148151,6950876.5248240763,453975.97041666677,10088.354898148151,1704931.9777870374,0,60530.129388888905,1644401.8483981485,0,0,9119872.8279259279,1396586.6928721045]
[14,"<11000","L",6717.3436363636374,342584.52545454551,13434.687272727275,0,53738.749090909099,0,6717.3436363636374,47021.405454545464,0,0,409757.96181818185,62748.957970263109]
[15,"<11000","H",13109.017000000002,0,0,0,104872.13600000001,13109.017000000002,65545.085000000006,26218.034000000003,0,0,104872.13600000001,16059.766660582118]
[16,"<16000","F",12304.935330188686,5352646.8686320782,418367.80122641532,12304.935330188686,2153363.6827830202,0,159964.15929245291,1993399.523490567,0,0,7936683.2879717033,1215397.0208422875]
[17,"<16000","L",37726.347333333339,1471327.5460000001,188631.73666666669,37726.347333333339,339537.12600000005,0,188631.73666666669,150905.38933333335,0,0,2037222.7560000005,311973.45019260427]
[18,"<16000","H",26259.727894736836,26259.727894736836,0,0,498934.8299999999,0,315116.73473684205,183818.09526315785,0,0,525194.55789473676,80426.530562866174]
[19,"<20000","F",11089.207946666664,388122.27813333325,22178.415893333327,11089.207946666664,410300.69402666658,0,22178.415893333327,388122.27813333325,0,0,831690.5959999999,127362.30437378016]
[20,"<20000","L",6851.826,164443.82399999999,20555.477999999999,13703.652,41110.955999999998,0,13703.652,27407.304,0,0,239813.91,36724.296686031455]
[21,"<24000","F",12412.333341772148,968162.00065822748,74474.000050632894,0,918512.6672911389,0,124123.33341772147,794389.33387341746,0,0,1961148.6679999991,300323.71987532906]
[22,"<24000","L",8064.1425806451607,177411.13677419352,32256.570322580643,16128.285161290321,24192.427741935484,0,8064.1425806451607,16128.285161290321,0,0,249988.41999999995,38282.386973100256]
[23,"<24000","H",9160.3967142857164,18320.793428571433,0,0,229009.91785714292,0,45801.98357142858,183207.93428571432,9160.3967142857164,0,256491.10800000007,39278.186772072309]
[24,"<30000","F",21507.2601,193565.34090000001,0,0,236579.86109999998,21507.2601,64521.780299999999,150550.82069999998,21507.2601,0,451652.4621,69164.541027403204]
[25,"<30000","L",13188.327822222222,395649.83466666663,65941.639111111115,0,131883.27822222223,0,26376.655644444443,105506.62257777777,0,0,593474.75199999998,90882.730147375274]
[26,"<30000","H",32905.160272727277,98715.480818181823,0,0,954249.64790909097,32905.160272727277,361956.76300000004,559387.72463636368,32905.160272727277,0,1085870.2890000001,166286.52881637568]
[27,"<45000","F",13744.070000000003,96208.49000000002,0,13744.070000000003,343601.75000000006,13744.070000000003,109952.56000000003,219905.12000000005,0,0,453554.31000000006,69455.783626847522]
[28,"<45000","L",35545.278666666665,604269.73733333335,0,71090.55733333333,355452.78666666662,0,106635.836,248816.95066666667,35545.278666666665,0,1066358.3599999999,163298.53754634139]
[29,"<45000","H",22797.830553571428,319169.62774999999,45595.661107142856,0,2188591.733142857,0,729530.5777142857,1459061.1554285714,0,0,2553357.0219999999,391012.51808658533]
[30,"<50000","L",3421.4233333333336,3421.4233333333336,3421.4233333333336,0,3421.4233333333336,0,3421.4233333333336,0,0,0,10264.27,1571.8358319812728]
[31,"<50000","H",52087.360000000001,52087.360000000001,0,0,208349.44,0,208349.44,0,0,0,260436.8,39882.416792089483]
[32,"<100000","L",13811.28466666667,55245.13866666668,27622.56933333334,27622.56933333334,179546.7006666667,0,110490.27733333336,69056.423333333354,0,0,290036.97800000006,44415.2886293876]
[33,"<100000","H",53822.576577586231,861161.2252413797,161467.72973275869,107645.15315517246,4844031.8919827612,161467.72973275869,3229354.5946551738,1453209.5675948283,269112.88288793113,0,6243418.8830000032,956096.19723252591]
[34,"<150000","L",2467.0150000000003,2467.0150000000003,0,0,7401.045000000001,4934.0300000000007,2467.0150000000003,0,0,0,9868.0600000000013,1511.1615633787032]
[35,"<150000","H",309739.56599999999,1238958.264,309739.56599999999,0,10840884.810000001,619479.13199999998,9292186.9800000004,929218.69799999997,0,0,12389582.640000001,1897299.0711317158]
[36,"<250000","L",22863.041199999996,45726.082399999992,0,0,182904.32959999997,91452.164799999984,91452.164799999984,0,0,0,228630.41199999995,35011.693365650077]
[37,"<250000","H",73953.456249999988,0,73953.456249999988,0,2588370.9687499995,665581.10624999995,1553022.5812499998,369767.28124999994,295813.82499999995,0,{"$f":"SUM(E45:H45)+SUM(L45:M45)","v":2958138.2499999991},452999.35575587692]
[38,"<500000","H",73953.456249999988,0,0,0,13214.24,13214.24,0,0,0,0,13214.24,2023.5843293678181]
[39,"<500000","L",13214.24,1819622.4399230776,0,0,12737357.079461543,5458867.3197692325,5458867.3197692325,1819622.4399230776,9098112.1996153872,0,23655091.719000008,3622461.2926908289]
[40,"<750000","H",1819622.4399230776,0,0,0,9798901.7377999984,8399058.6323999986,1399843.1053999998,0,4199529.3161999993,0,13998431.053999998,2143672.7134220526]
[41,"<1000000","H",1399843.1053999998,0,0,0,34257.599999999999,34257.599999999999,0,0,0,0,34257.599999999999,5246.0937989434851]
[42,"<2000000","H",34257.599999999999,0,0,0,1479753.3469999998,739876.67349999992,739876.67349999992,0,1479753.3469999998,0,2959506.6939999997,453208.91467368219]
[{"$f":"A50+1","v":43},"unadjusted total cost",null,null,{"$f":"SUM(E8:E50)","v":2662701839.456799},4844367.1502273409,369002.55980782991,56252884.202929236,16274717.184756756,24695888.448766902,15282278.569405574,15441439.666456997,615070.50800000003,2740224603.5442219,419628791.87000012]
[]
[{"$f":"A51+1","v":44},"adjusted total cost",null,null,{"$f":"E51*$N$53","v":407757216.16253698},{"$f":"F51*$N$53","v":741850.11403639417},{"$f":"G51*$N$53","v":56507.812596391144},{"$f":"H51*$N$53","v":8614377.7436152287},{"$f":"I51*$N$53","v":2492255.5258544497},{"$f":"J51*$N$53","v":3781845.4080401459},2340276.8097206317,{"$f":"L51*$N$53","v":2364650.2055298686},{"$f":"M51*$N$53","v":94189.8316849931},{"$f":"O53/N51","v":0.1531366411816206},419628791.87000006]
[]
[null,"Notes:"]
[null,"Column C - Sample average cost for meter rating listed in Column A from sample."]
[null,"Columns D through L - Column C times number of meters in each class."]
[null,"Column M - Sum of Columns D to F + H to L."]
[null,"Line 43 - Total of Columns (lines 1 - 42)."]
[null,"Column N, line 44 - Book cost of small diameter mains."]
[null,"Column M, line 44 - Ratio of book (Column N, line 44) to unadjusted total (Column M, line 43)."]
[null,"Line 44 - Line 43 times (Column M, line 44)."]
[null,"Column N  -  (Column M) times (Column M, line 44)."]

{"sheet":"Ex4.13p5","index":11,"n_rows":63,"n_cols":15,"rows_kept":63,"cut":false,"hidden":false,"merged":[[0,1,0,14],[1,1,1,14]]}
[null,"Plant Investment for"]
[null,"Meters / Regulators"]
[]
[]
[null,"(A)","(B)","(C)","(D)","(E)","(F)","(G)","(H)","(I)","(J)","(K)","(L)","(M)","(N)"]
[null,null,null,"Unadjusted",null,null,null,null,null,null,null,null,null,"Total Meter and","Adjusted Meter and"]
[null,"Meter Rating","Pressure","Average Cost","GS","FS","IS","TS","TSL","TSM","TSS","TBF","NGV","Regulator Cost","Regulator Cost"]
[]
[1,"<400","F",372.26000000000772,320339781.02000666,744.52000000001544,0,372.26000000000772,0,0,372.26000000000772,0,0,{"$f":"SUM(E9:H9)+SUM(L9:M9)","v":320340897.80000663},{"$f":"N9*$N$53","v":236649162.20655659}]
[{"$f":"A9+1","v":2},"<600","F",505.27999999999895,87930341.439999819,505.27999999999895,0,0,0,0,0,0,0,{"$f":"SUM(E10:H10)+SUM(L10:M10)","v":87930846.71999982},64958178.463345341]
[{"$f":"A10+1","v":3},"<900","F",1094.4166666666665,7726581.666666666,3283.2499999999995,0,0,0,0,0,0,0,7729864.916666666,5710373.1339388881]
[4,"<1400","F",1168.4400000000014,33099568.320000041,29211.000000000036,0,1168.4400000000014,1168.4400000000014,0,0,0,0,33129947.760000043,24474472.148872256]
[5,"<2000","F",2550.5675000000019,9679403.6625000071,63764.187500000051,0,33157.377500000024,0,2550.5675000000019,30606.810000000023,0,0,9776325.2275000066,7222178.5929784346]
[6,"<3000","F",3200.784999999993,15725456.704999967,243259.65999999948,6401.5699999999861,105625.90499999977,0,3200.784999999993,102425.11999999978,0,0,16080743.839999966,11879515.177515866]
[7,"<5000","F",3644.4066666666617,10000251.89333332,349863.03999999951,0,295196.93999999959,0,7288.8133333333235,287908.1266666663,0,0,10645311.873333318,7864135.2183030164]
[8,"<5000","L",13452,228684,13452,0,53808,0,26904,26904,0,0,295944,218626.15776203814]
[9,"<5000","H",32500,65000,0,0,195000,0,130000,65000,0,0,260000,192072.8280287146]
[10,"<7000","F",4090.3966666666443,7227730.9099999601,486757.20333333069,16361.586666666577,589017.11999999674,0,0,589017.11999999674,0,0,8319866.8199999537,6146232.1113063842]
[11,"<7000","L",13517,337925,40551,0,0,0,0,0,0,0,378476,279595.98331152229]
[12,"<7000","H",32500,32500,0,0,97500,0,32500,65000,0,0,{"$f":"SUM(E20:H20)+SUM(L20:M20)","v":130000},96036.414014357302]
[13,"<11000","F",5308.143333333318,3657310.7566666561,238866.44999999931,5308.143333333318,897076.22333333071,0,31848.859999999906,865227.36333333084,0,0,4798561.5733333193,3544897.276384803]
[14,"<11000","L",15042,767142,30084,0,120336,0,15042,105294,0,0,917562,677841.26242955169]
[15,"<11000","H",39000,0,0,0,312000,39000,195000,78000,0,0,312000,230487.39363445752]
[16,"<16000","F",9644.2866666666378,4195264.6999999871,327905.74666666565,9644.2866666666378,1687750.1666666616,0,125375.72666666629,1562374.4399999953,0,0,6220564.8999999808,4595390.3549198257]
[17,"<16000","L",16413,640107,82065,16413,147717,0,82065,65652,0,0,886302,654748.19856733002]
[18,"<16000","H",39000,39000,0,0,741000,0,468000,273000,0,0,780000,576218.48408614378]
[19,"<20000","F",14073.035000000009,492556.22500000033,28146.070000000018,14073.035000000009,520702.29500000033,0,28146.070000000018,492556.22500000033,0,0,1055477.6250000007,779725.27828762028]
[20,"<20000","L",11664.28000000001,279942.7200000002,34992.840000000026,23328.560000000019,69985.680000000051,0,23328.560000000019,46657.120000000039,0,0,408249.80000000028,301591.1293390661]
[21,"<24000","F",16983.884999999955,1324743.0299999965,101903.30999999974,0,1256807.4899999967,0,169838.84999999954,1086968.6399999971,0,0,2683453.8299999931,1982379.1000484009]
[22,"<24000","L",17989,395758,71956,35978,53967,0,17989,35978,0,0,557659,411965.92771409597]
[23,"<24000","H",45500,91000,0,0,1137500,0,227500,910000,45500,0,1274000,941156.85734070162]
[24,"<30000","F",20239.960000000003,182159.64,0,0,222639.56000000003,20239.960000000003,60719.880000000005,141679.72000000003,20239.960000000003,0,425039.16000000009,313994.12878518971]
[25,"<30000","L",18910,567300,94550,0,189100,0,37820,151280,0,0,850950,628632.20388859499]
[26,"<30000","H",45500,136500,0,0,1319500,45500,500500,773500,45500,0,{"$f":"SUM(E34:H34)+SUM(L34:M34)","v":1501500},1109220.5818658269]
[27,"<45000","F",25140.160000000003,175981.12000000002,0,25140.160000000003,628504.00000000012,25140.160000000003,201121.28000000003,402242.56000000006,0,0,829625.28000000014,612878.74512967013]
[28,"<45000","L",22259,378403,0,44518,222590,0,66777,155813,22259,0,667770,493309.5091259029]
[29,"<45000","H",52000,728000,104000,0,4992000,0,1664000,3328000,0,0,5824000,4302431.3478432074]
[30,"<50000","L",27988,27988,27988,0,27988,0,27988,0,0,0,83964,62027.703586934593]
[31,"<50000","H",65000,65000,0,0,260000,0,260000,0,0,0,325000,240091.03503589326]
[32,"<100000","L",28404,113616,56808,56808,369252,0,227232,142020,0,0,596484,440647.57213030691]
[33,"<100000","H",97500,1560000,292500,195000,8775000,292500,5850000,2632500,487500,0,11310000,8355168.0192490853]
[34,"<150000","L",34440,34440,0,0,103320,68880,34440,0,0,0,137760,101769.04918936818]
[35,"<150000","H",130000,520000,130000,0,4550000,260000,3900000,390000,0,0,5200000,3841456.5605742922]
[36,"<250000","L",41304,82608,0,0,330432,165216,165216,0,0,0,413040,305129.84957300109]
[37,"<250000","H",195000,0,195000,0,6825000,1755000,4095000,975000,780000,0,7800000,5762184.8408614378]
[38,"<500000","L",59451,0,0,0,59451,59451,0,0,0,0,59451,43918.92961205812]
[39,"<500000","H",227500,227500,0,0,1592500,682500,682500,227500,1137500,0,2957500,2184828.4188266285]
[40,"<750000","H",260000,0,0,0,1820000,1560000,260000,0,780000,0,2600000,1920728.2802871461]
[41,"<1000000","H",325000,0,0,0,325000,325000,0,0,0,0,325000,240091.03503589326]
[42,"<2000000","H",650000,0,0,0,1300000,650000,650000,0,1300000,0,{"$f":"SUM(E50:H50)+SUM(L50:M50)","v":2600000},1920728.2802871461]
[43,"unadjusted total cost",null,null,{"$f":"SUM(E9:E50)","v":509075544.80917317},{"$f":"SUM(F9:F50)","v":3048156.5574999945},448974.34166666656,42227964.457499981,5949595.5600000005,20269892.392499998,16008476.504999986,4618498.96,0,{"$f":"SUM(N9:N50)","v":559419139.12583971},413266215.78957313]
[]
[{"$f":"A51+1","v":44},"adjusted total cost",null,null,{"$f":"E51*$N$53","v":376075306.04521739},2251800.1933588274,331676.0442932577,{"$f":"H51*$N$53","v":31195555.981723335},{"$f":"I51*$N$53","v":4395214.0186010925},14974213.675635396,11826128.287486847,3411877.5249802973,0,{"$f":"O53/N51","v":0.73874164626428696},413266215.78957301]
[]
[null,"Notes:"]
[null,"Column C - Sample average cost for meter rating listed in Column A from sample."]
[null,"Columns D through L - Column C times number of meters in each class."]
[null,"Column M - Sum of Columns D to F + H to L."]
[null,"Line 43 - Total of Columns (lines 1 - 42)."]
[null,"Column N, line 44 - Book cost of small diameter mains."]
[null,"Column M, line 44 - Ratio of book (Column N, line 44) to unadjusted total (Column M, line 43)."]
[null,"Line 44 - Line 43 times (Column M, line 44)."]
[null,"Column N  -  (Column M) times (Column M, line 44)."]

{"sheet":"Ex4.13p6","index":12,"n_rows":20,"n_cols":12,"rows_kept":20,"cut":false,"hidden":false,"merged":[[0,0,0,11]]}
["Rate Schedule Adjusted Investment - Distribution Plant Factor"]
[]
[]
[]
[]
[]
[]
[null,"(A)","(B)","(C)","(D)","(E)","(F)","(G)","(H)","(I)","(J)","(K)"]
[null,"Rate","GS","FS","IS","TS","TSL","TSM","TSS","TBF","NGV","Total"]
[]
[1,"Small Diameter Main",777595142.7159903,592463.08626197674,35020.691500346256,1771508.3584160178,46852.031404387933,398742.66816202941,1325913.6588496002,22262.418169843313,49439.32772293577,{"$f":"SUM(C11:E11,G11:K11)","v":780065836.59806132}]
[{"$f":"A11+1","v":2},"Service Line",407757216.16253716,741850.11403639463,56507.812596391173,8614377.7436152324,2492255.5258544511,3781845.4080401477,2340276.8097206331,2364650.20552987,94189.831684993158,{"$f":"SUM(C12:E12,G12:K12)","v":419628791.87000006}]
[{"$f":"A12+1","v":3},"Meter & Regulator",376075306.04521728,2251800.1933588274,331676.04429325764,31195555.981723327,4395214.0186010916,14974213.675635392,11826128.287486846,3411877.5249802964,0,{"$f":"SUM(C13:E13,G13:K13)","v":413266215.78957307}]
[{"$f":"A13+1","v":4},"Total",{"$f":"SUM(C11:C13)","v":1561427664.9237447},{"$f":"SUM(D11:D13)","v":3586113.3936571986},423204.54838999506,{"$f":"SUM(F11:F13)","v":41581442.083754577},{"$f":"SUM(G11:G13)","v":6934321.5758599304},19154801.75183757,15492318.75605708,{"$f":"SUM(J11:J13)","v":5798790.1486800099},143629.15940792894,{"$f":"SUM(L11:L13)","v":1612960844.2576346}]
[]
[]
[{"$f":"A14+1","v":5},"Small Diameter Main",{"$f":"C11/$L11","v":0.99683271107879057},{"$f":"D11/$L11","v":7.5950395269938067E-4},4.4894533073098935E-5,{"$f":"F11/$L11","v":2.2709728785735937E-3},{"$f":"G11/$L11","v":6.006163737244787E-5},{"$f":"H11/$L11","v":5.1116540355232421E-4},1.6997458376488213E-3,2.8539152883469121E-5,6.3378403980034838E-5,{"$f":"SUM(C17:E17,G17:K17)","v":1.0000000000000002}]
[{"$f":"A17+1","v":6},"Service Line",{"$f":"C12/$L12","v":0.97170933945080518},1.7678722919141781E-3,1.346614286035386E-4,{"$f":"F12/$L12","v":2.0528566939429515E-2},{"$f":"G12/$L12","v":5.9391909567219243E-3},9.0123592120241215E-3,5.5770167706834682E-3,5.6351000011039109E-3,2.2445988814364512E-4,{"$f":"SUM(C18:E18,G18:K18)","v":1}]
[{"$f":"A18+1","v":7},"Meter & Regulator",0.91000737944837795,5.4487884741718133E-3,8.0257236527202713E-4,{"$f":"F13/$L13","v":7.5485376713221294E-2},1.0635309276863432E-2,3.623382000153616E-2,2.8616247434821711E-2,8.2558829989566734E-3,0,0.99999999999999978]
[{"$f":"A19+1","v":8},"Total",{"$f":"C14/$L14","v":0.96805057015651974},2.2233108797552414E-3,2.6237744697688243E-4,{"$f":"F14/$L14","v":2.5779573156899813E-2},{"$f":"G14/$L14","v":4.2991257974718238E-3},1.1875552850542736E-2,9.6048945088852544E-3,3.5951214620767212E-3,8.9046897771429952E-5,{"$f":"SUM(C20:E20,G20:K20)","v":0.99999999999999989}]